{"text_format":"1","workbook":"xlsx","n_sheets":13,"sheets":["Registro de cambios","configuracion","DIGITADOR","DATOS","referentes","Otras referencias","ESTACIONES_VARIABLES","MUESTRAS_VARIABLES","AGD_MUESTREOS","AGD_PARAMETRO","AGD_MUESTRAS","AGD_MUESTRAS_VARIABLES","AGD_AUTORIAS"],"not_rendered":{"charts":0,"images":0,"macros":1,"external_links":0,"defined_names":1,"comments":2,"pivot_tables":0},"unopened":[],"bounds":{"document_bytes":16777216,"sheet_cells":100000,"rows_first":2000,"rows_last":500,"rows_between":2000,"halvings":0,"cell_chars":16384,"cell_head_chars":4096},"cells_cut":0,"cells_raw":0,"read":"whole","date_system":"1900"}

{"sheet":"Registro de cambios","index":0,"n_rows":5,"n_cols":7,"rows_kept":5,"cut":false,"hidden":true,"merged":[[1,3,1,6]]}
[]
[null,null,null,"REGISTRO DE CAMBIOS"]
[null,null,null,"VERSIÓN No.","CAMBIO REALIZADO","AUTOR","VIGENTE DESDE\n(DD/MM/AAAA)"]
[null,null,null,"20240902i","Actualización del código de la macro.\n\nSe eliminó la URL de la antigua API de portete:\n       http://portete.invemar.org.co:7003/ArgosWebServices-RESTWebService-context-root/rest/1.0\n\nFue reemplazada por la URL de la API de ARGOS:\n       https://argos.invemar.org.co/api/\n\nLa API contiene End Points que permiten tener mayor control, facilitan la descarga de referentes (listas de usuarios, estaciones, especies, etc.) que corresponden a criterios específicos como el proyecto usado en la plantilla para evitar descargar data innecesaria.\n\nDel mismo modo, también permite la carga de información a la BDD del INVEMAR.\n\nLa macro toma los Endpoints desde la hoja configuracion de una tabla llamada \"Configuración referentes\", a la que se le puede modificar las rutas de la API o agregar nuevas. cabe resaltar que se puede \"quemar\" directamente en la macro los Endpoints que lo requieran.","Kevin Moreno","2024-02-09"]
[null,null,null,"1.0","Definición de las columas en la hoja de datos.\nProgramación de la plantilla"]

{"sheet":"configuracion","index":1,"n_rows":71,"n_cols":14,"rows_kept":71,"cut":false,"hidden":true,"merged":[[61,0,61,2],[28,0,35,0],[37,0,42,0],[45,0,45,1],[0,0,2,0],[3,0,5,0],[7,0,8,0],[9,0,15,0],[17,0,21,0],[23,0,26,0]]}
["general","urlServicio","https://argos.invemar.org.co/api/"]
[null,"fila de inicio",6]
[null,"fila de fin",300]
["metodologias","Metodologias",{"$f":"DIGITADOR!$B$4","v":97}]
[null,"Referentes",8000]
[null,"Cantidad maxima de referentes ",8000]
["estaciones/investigadores","proyectos",{"$f":"IF(DIGITADOR!B10=\"\",\"\",VLOOKUP(DIGITADOR!B10,'Otras referencias'!M7:N22,2,FALSE))","v":""}]
["Lista especies","metodologias"]
[null,"proyectos",{"$f":"$C$7","v":""}]
["MUESTREOS","ID_MUESTREO","DATOS,AX"]
[null,"ID_ESTACION","DATOS,I"]
[null,"ID_PROYECTO",{"$f":"$C$7","v":""}]
[null,"ID_METODOLOGIA",{"$f":"DIGITADOR!$B$4","v":97}]
[null,"ID_TEMATICAS",248]
[null,"FECHA","DATOS,F"]
[null,"NOTAS","DATOS,T"]
[null,"cantidad",206]
["parametro muestreo","ID_MUESTREO","DATOS,AX","DATOS,AX","DATOS,AX","DATOS,AX","DATOS,AX","DATOS,AX","DATOS,AX","DATOS,AX","DATOS,AX"]
[null,"ID_PARAMETRO",1077,1072,1074,1055,288,1075,576,1076,1170]
[null,"ID_METODOLOGIA",{"$f":"DIGITADOR!$B$4","v":97},{"$f":"DIGITADOR!$B$4","v":97},{"$f":"DIGITADOR!$B$4","v":97},{"$f":"DIGITADOR!$B$4","v":97},{"$f":"DIGITADOR!$B$4","v":97},{"$f":"DIGITADOR!$B$4","v":97},{"$f":"DIGITADOR!$B$4","v":97},{"$f":"DIGITADOR!$B$4","v":97},{"$f":"DIGITADOR!$B$4","v":97}]
[null,"ID_UNIDAD_MEDIDA",100,100,100,100,10,126,11,100,100]
[null,"VALOR","DATOS,BB","DATOS,AY","DATOS,AZ","DIGITADOR,B,5","DATOS,P","DATOS,Q","DATOS,O","DATOS,BA","DIGITADOR,B,13"]
[null,"cantidad",206,206,206,206,206,206,206,206,206]
["muestra","ID_MUESTRA","MUESTRAS_VARIABLES,B"]
[null,"ID_MUESTREO","MUESTRAS_VARIABLES,A"]
[null,"NOTAS","MUESTRAS_VARIABLES,H"]
[null,"ES_REPLICA",1]
[null,"cantidad",3100]
["muestra variable","ID_PARAMETRO",173,1071,1079,1078,1080,887,1084,395,1133,401,1138,1139]
[null,"ID_METODOLOGIA",{"$f":"DIGITADOR!$B$4","v":97},{"$f":"DIGITADOR!$B$4","v":97},{"$f":"DIGITADOR!$B$4","v":97},{"$f":"DIGITADOR!$B$4","v":97},{"$f":"DIGITADOR!$B$4","v":97},{"$f":"DIGITADOR!$B$4","v":97},{"$f":"DIGITADOR!$B$4","v":97},{"$f":"DIGITADOR!$B$4","v":97},{"$f":"DIGITADOR!$B$4","v":97},{"$f":"DIGITADOR!$B$4","v":97},{"$f":"DIGITADOR!$B$4","v":97},{"$f":"DIGITADOR!$B$4","v":97}]
[null,"ID_UNIDAD_MEDIDA",100,100,100,100,4,100,100,4,4,100,100,100]
[null,"ID_MUESTRA","MUESTRAS_VARIABLES,B","MUESTRAS_VARIABLES,B","MUESTRAS_VARIABLES,B","MUESTRAS_VARIABLES,B","MUESTRAS_VARIABLES,B","MUESTRAS_VARIABLES,B","MUESTRAS_VARIABLES,B","MUESTRAS_VARIABLES,B","MUESTRAS_VARIABLES,B","MUESTRAS_VARIABLES,B","MUESTRAS_VARIABLES,B","MUESTRAS_VARIABLES,B"]
[null,"ID_METODO"]
[null,"VALOR","MUESTRAS_VARIABLES,I","MUESTRAS_VARIABLES,J","MUESTRAS_VARIABLES,L","MUESTRAS_VARIABLES,K","MUESTRAS_VARIABLES,F","MUESTRAS_VARIABLES,E","MUESTRAS_VARIABLES,N","MUESTRAS_VARIABLES,O","MUESTRAS_VARIABLES,P","MUESTRAS_VARIABLES,Q","MUESTRAS_VARIABLES,S","MUESTRAS_VARIABLES,T"]
[null,"QUALITY_FLAG","MUESTRAS_VARIABLES,R","MUESTRAS_VARIABLES,R","MUESTRAS_VARIABLES,R","MUESTRAS_VARIABLES,R","MUESTRAS_VARIABLES,R","MUESTRAS_VARIABLES,R","MUESTRAS_VARIABLES,R","MUESTRAS_VARIABLES,R","MUESTRAS_VARIABLES,R","MUESTRAS_VARIABLES,R","MUESTRAS_VARIABLES,R","MUESTRAS_VARIABLES,R"]
[null,"PRECISION"]
[null,"cantidad",3100,3100,3100,3100,3100,3100,3100,3100,3100,3100,3100,3100]
["autoria","ID_FUNCIONARIO","DIGITADOR,B,2","DIGITADOR,B,18","DIGITADOR,B,20","DIGITADOR,B,22","DIGITADOR,B,24"]
[null,"ID_TAREA",5,"DIGITADOR,A,18","DIGITADOR,A,20","DIGITADOR,A,22","DIGITADOR,A,24"]
[null,"ORDEN",1,2,3,4,5]
[null,"FECHA","DIGITADOR,B,9","DATOS,F","DATOS,F","DATOS,F","DATOS,F"]
[null,"ID_MUESTREO","DATOS,AX","DATOS,AX","DATOS,AX","DATOS,AX","DATOS,AX"]
[null,"ENTIDAD","DIGITADOR,B,5","DIGITADOR,B,5","DIGITADOR,B,5","DIGITADOR,B,5","DIGITADOR,B,5"]
[null,"cantidad",1100,1100,1100,1100,1100]
[]
["REGISTROS GENERADOS",null,"CARGADOS",null,null,"ID_PARAMETRO","ID_UNIDAD_MEDIDA","NOMBRE_COLUMNA"]
["MUESTREOS",null,null,null,null,1074,100,"METODO_COLECTA"]
["parametro muestreo",null,null,null,null,288,10,"LONGITUD_NUCLEO"]
["muestra",null,null,null,null,1075,126,"VOLUMEN_DRAGA"]
["muestra variable",null,null,null,null,1076,100,"ZONA_FISIOGRAFICA"]
["autoria",null,null,null,null,1077,100,"METODO_ALMACENA"]
["registros correctos",null,null,null,null,1078,100,"COD_MUESTRA_COLECC"]
["Fecha de carga",null,null,null,null,1079,100,"COD_MUESTRA_PROYECTO"]
["json error",null,null,null,null,173,100,"CODIGO_FLICKR"]
["error",null,null,null,null,576,11,"PROFUNDIDAD"]
[null,null,null,null,null,1071,100,"NUM_MUESTRA"]
[null,null,null,null,null,1072,100,"LAB_ANALISIS"]
["Atributo","Descripción","Código",null,null,1055,100,"VERSION_PLANTILLA"]
["Tipo Nodo","Estaciones",{"$f":"VLOOKUP(B59,'Otras referencias'!$A$29:$C$39,2,FALSE)","v":40},null,null,1084,100,"SECCION_ESTACION"]
[null,null,null,null,null,887,100,"COMP_MINERALES"]
[null,null,null,null,null,395,4,"PORCENTAJE_MO"]
["CONFIGURACION REFERENTES",null,null,null,null,1133,4,"PORCEN_CALCIMETRIA"]
["Ruta de la API","Endpoint","Descripción",null,null,1080,4,"PROCENTAJE_MINERALES"]
["URL - AGM Campo",{"$f":"CONCATENATE(\"parametros/agmcampo/\",$C$4,\"\")","v":"parametros/agmcampo/97"},"Listado de referentes AGM_CAMPO.",null,null,401,100,"FACIES"]
["URL - Especies",{"$f":"IF($C$8=\"\",\"\",CONCATENATE(\"especies/filt/\",$C$9,\",\",$C$8,\"/\"))","v":""},"Especies por proyecto\n(No todos los proyectos tienen asociados una lista de especies)",null,null,1138,100,"REDONDEZ"]
["URL - Estaciones",{"$f":"CONCATENATE(\"estaciones/\", $C$59, \"/\",$C$9,\"\")","v":"estaciones/40/"},"Estaciones/parcelas por proyecto, cambia dependiendo del Tipo de Nodo, cuyo estado sea VIGENTE.",null,null,1139,100,"ESFERICIDAD"]
["URL - Usuarios",{"$f":"CONCATENATE(\"parametros/usersByProject/\",$C$7,\"\")","v":"parametros/usersByProject/"},"Usuarios por proyecto.",null,null,1170,100,"ARCHIVO_FUENTE"]
["URL - Entidades","estaciones/get-entidades","Listado de entidades.",null,null,1169,100,"URL_METADATO"]
["Atributos de la API","codigo_in","nombre_in"]
["Rango de atributos de la API","B70:C71","nombre_in"]
["URL - Plantillas","plantillas/","Endpoint para la carga de datos al sistema."]

{"sheet":"DIGITADOR","index":2,"n_rows":39,"n_cols":4,"rows_kept":39,"cut":false,"hidden":false,"merged":[[26,0,26,1],[30,0,30,1],[0,3,8,9],[14,3,16,9],[0,0,0,1],[7,0,8,0],[9,3,11,9],[12,3,13,9]]}
["Recolección de Datos de\nMinerologia",null,null,"Recomendaciones generales: \n¡Precaución! No inserte Filas o Columnas.\nEn los casos en que falte un valor a ingresar que provenga de la hoja de referencias, informe para que el administrador del sistema haga las adiciones necesarias.\nEsta es una plantilla programada. Las columnas de color oscuro se llenan automaticamente, principalmente a partir de los contenidos de la hoja de referencias. \nNO UTILICE PUNTO Y COMA (;) en ningun campo, por ser el separador de variables (columnas). Tampoco escriba las unidades de medida, no son necesarias.\nPara el correcto funcionamiento de la hoja debe estar activa la opcion de Excel de ejecutar macros (al abrir la hoja acepte la opcion habilitar macros, mensaje de Excel que aparece en la parte superior de la hoja en un recuadro amarillo). La extensión del archivo debe ser .xlsm\nSe recomienda renombrar el archivo de la siguiente manera: Zooplancton_NombreEstacion_FechaMonitoreo.xlsm"]
["Código Digitador",{"$f":"IF(B3=\"\",\"\",INDEX(referentes!AE:AF,MATCH(B3,referentes!$AF:$AF,0),1))","v":""}]
["Nombre del responsable"]
["Código Monitoreo",{"$f":"IF(B5=\"\",\"\",INDEX('Otras referencias'!$A$16:$B$18,MATCH(B5,'Otras referencias'!$B$16:$B$18,0),1))","v":97}]
["Monitoreo","GEO - Sedimentos "]
["Entidad","INVEMAR"]
["Versión de la plantilla",{"$f":"'Registro de cambios'!$D$4","v":"20240902i"}]
["Fecha en la que ingresa los datos en esta hoja","DD/MM/AAAA"]
[null,"3000-12-12"]
["Proyecto Principal",null,null,"Previamente a iniciar el llenado de la plantilla, debe seleccionar el proyecto al que pertenecen los datos que va a diligenciar y luego presionar el botón \"Descargar referentes\" para que los referentes de ésta plantilla sean actualizados. \nLuego de llenar completamente la plantilla, haga clic sobre el botón \"Generar tablas\" para que los datos sean organizados antes de cargarlos al Sistema de Información.\nAntes de presionar el botón \"Generar tablas\" verifique que:\na. No haya celdas con valores como \"#N/A\" o \"#¡REF!\"\nb. No se esten aplicando filtros en la hoja de datos \nPara finalizar, presione el botón \"Cargar datos\"."]
["Código del proyecto",{"$f":"IF(B12=\"\",\"\",INDEX('Otras referencias'!M7:N28,MATCH(B12,'Otras referencias'!M7:M25,0),2))","v":""}]
["Proyecto convenio"]
["Nombre del Archivo",{"$f":"MID(CELL(\"FILENAME\",N64),FIND(\"[\",CELL(\"FILENAME\",N64))+1,   FIND(\"]\",CELL(\"FILENAME\",N64))-FIND(\"[\",CELL(\"FILENAME\",N64))-1)","v":"ANH_minerologia_20240902i.xlsm"},null,"Si requiere ayuda contacte a:\nKevin S. Moreno (kevin.moreno@invemar.org.co)  - Apoyo técnico software"]
["DOI Metadato"]
["Fuente Plantilla","http://cinto.invemar.org.co/download/Plantillas_ARGOS_Plus/",null,"El custodio de los datos es el único autorizado para distribuir este conjunto de datos. El observador y el digitador se comprometen a tomar las medidas necesarias para salvaguardar este conjunto de datos de modo que copia de los mismos no sean obtenidas y/o usadas por terceros no relacionados con el propósito para la cual se recolectó."]
[]
["ROLES INVOLUCRADOS","NOMBRE DE LA PERSONA"]
[{"$f":"IF(A19=\"\",\"\",INDEX('Otras referencias'!$H$6:$I$9,MATCH(DIGITADOR!A19,'Otras referencias'!$I$6:$I$9,0),1))","v":""},{"$f":"IF(B19=\"\",\"\",INDEX(referentes!$AE:$AF,MATCH(DIGITADOR!B19,referentes!$AF:$AF,0),1))","v":""}]
[]
[{"$f":"IF(A21=\"\",\"\",INDEX('Otras referencias'!$H$6:$I$9,MATCH(DIGITADOR!A21,'Otras referencias'!$I$6:$I$9,0),1))","v":""},{"$f":"IF(B21=\"\",\"\",INDEX(referentes!$AE:$AF,MATCH(DIGITADOR!B21,referentes!$AF:$AF,0),1))","v":""}]
[]
[{"$f":"IF(A23=\"\",\"\",INDEX('Otras referencias'!$H$6:$I$9,MATCH(DIGITADOR!A23,'Otras referencias'!$I$6:$I$9,0),1))","v":""},{"$f":"IF(B23=\"\",\"\",INDEX(referentes!$AE:$AF,MATCH(DIGITADOR!B23,referentes!$AF:$AF,0),1))","v":""}]
[]
[{"$f":"IF(A25=\"\",\"\",INDEX('Otras referencias'!$H$6:$I$9,MATCH(DIGITADOR!A25,'Otras referencias'!$I$6:$I$9,0),1))","v":""},{"$f":"IF(B25=\"\",\"\",INDEX(referentes!$AE:$AF,MATCH(DIGITADOR!B25,referentes!$AF:$AF,0),1))","v":""}]
[]
[]
["ATRIBUTOS ADICIONALES"]
["Observaciones generales"]
[]
[]
["REGISTROS GENERADOS",null,"CARGADOS"]
["Muestreos",{"$f":"IF(configuracion!B47=\"\",\"\",configuracion!B47)","v":""},{"$f":"IF(configuracion!C47=\"\",\"\",configuracion!C47)","v":""}]
["Parámetros del muestreo",{"$f":"IF(configuracion!B48=\"\",\"\",configuracion!B48)","v":""},{"$f":"IF(configuracion!C48=\"\",\"\",configuracion!C48)","v":""}]
["Registros",{"$f":"IF(configuracion!B49=\"\",\"\",configuracion!B49)","v":""},{"$f":"IF(configuracion!C49=\"\",\"\",configuracion!C49)","v":""}]
["Variables",{"$f":"IF(configuracion!B50=\"\",\"\",configuracion!B50)","v":""},{"$f":"IF(configuracion!C50=\"\",\"\",configuracion!C50)","v":""}]
["Autorías",{"$f":"IF(configuracion!B51=\"\",\"\",configuracion!B51)","v":""},{"$f":"IF(configuracion!C51=\"\",\"\",configuracion!C51)","v":""}]
["Registros correctos",{"$f":"IF(configuracion!B52=\"\",\"\",configuracion!B52)","v":""},{"$f":"IF(configuracion!C52=\"\",\"\",configuracion!C52)","v":""}]
["json error",{"$f":"IF(configuracion!B53=\"\",\"\",configuracion!B53)","v":""},{"$f":"IF(configuracion!C53=\"\",\"\",configuracion!C53)","v":""}]
["error",{"$f":"IF(configuracion!B54=\"\",\"\",configuracion!B54)","v":""},{"$f":"IF(configuracion!C54=\"\",\"\",configuracion!C54)","v":""}]

{"sheet":"DATOS","index":3,"n_rows":206,"n_cols":59,"rows_kept":206,"cut":false,"hidden":false,"merged":[[1,37,2,45],[3,46,4,46],[3,54,4,54],[3,24,4,24],[3,53,4,53],[3,52,4,52],[3,48,4,48],[3,49,4,49],[3,37,4,37],[3,43,4,43],[3,25,4,25],[3,36,4,36],[3,42,4,42],[3,47,4,47],[3,44,4,44],[3,45,4,45],[3,40,4,40],[3,41,4,41],[3,14,4,14],[3,21,4,21],[3,6,4,7],[3,8,4,9],[3,10,4,10],[3,19,4,19],[3,22,4,22],[3,23,4,23],[3,13,4,13],[3,15,4,15],[3,16,4,16],[3,18,4,18],[3,17,4,17],[1,26,1,35],[1,5,2,25],[1,2,2,4],[3,57,4,57],[3,58,4,58],[3,56,4,56],[3,55,4,55],[3,1,4,1],[3,2,4,2],[3,50,4,50],[3,51,4,51],[3,3,4,3],[3,4,4,4],[3,5,4,5],[3,38,4,38],[3,39,4,39],[3,11,4,11],[3,12,4,12],[3,20,4,20]]}
[1,2,3,4,5,6,7,8,9,10,11,12,13,14,15,16,17,18,19,20,21,22,23,24,25,26,27,28,29,30,31,32,33,34,35,36,37,38,39,40,41,42,43,44,45,46,47,48,49,50,51,52,53,54,55,56,57,58,59]
[null,null,"MUESTREO",null,null,"MUESTRA",null,null,null,null,null,null,null,null,null,null,null,null,null,null,null,null,null,null,null,null,"CONTENIDO MINERAL (%)",null,null,null,null,null,null,null,null,null,null,"MUESTRA"]
[{"$f":"TEXT(DIGITADOR!B9,\"YYYYMMDD\")","v":"30001212"},null,null,null,null,null,null,null,null,null,null,null,null,null,null,null,null,null,null,null,null,null,null,null,null,null,1,2,3,4,5,6,7,8,9,10]
[{"$f":"DIGITADOR!$B$2","v":""},"CODIGO","CODMUESTREO","FECHA MUESTREO   (DD/MM/AAAA)","HORA        (HH:MM)","FECHA+HORA",null,null,"ESTACION",null,"SECCION","LABORATORIO RESPONSABLE ","TAREA","METODO COLECTA","PROFUNDIDAD(m)","LONG MECANISMO NUCLEO(cm)","VOLUMEN    DRAGA(cm3)","ZONA FISIOGRAFICA","METODO ALMACENAMIENTO","OBSERVACIONES MUESTREO","FECHA\nANALISIS","NUM MUESTRA","DIAMETRO MUESTRA(cm)","COD MUESTRA COLECCIÓN","COD MUESTRA PROYECTO ","SECCION",{"$f":"IF(AA5=\"\",\"\",INDEX(referentes!$P:$Q,MATCH(AA5,referentes!$Q:$Q,0),1))","v":""},{"$f":"IF(AB5=\"\",\"\",INDEX(referentes!$P:$Q,MATCH(AB5,referentes!$Q:$Q,0),1))","v":""},{"$f":"IF(AC5=\"\",\"\",INDEX(referentes!$P:$Q,MATCH(AC5,referentes!$Q:$Q,0),1))","v":""},{"$f":"IF(AD5=\"\",\"\",INDEX(referentes!$P:$Q,MATCH(AD5,referentes!$Q:$Q,0),1))","v":""},{"$f":"IF(AE5=\"\",\"\",INDEX(referentes!$P:$Q,MATCH(AE5,referentes!$Q:$Q,0),1))","v":""},{"$f":"IF(AF5=\"\",\"\",INDEX(referentes!$P:$Q,MATCH(AF5,referentes!$Q:$Q,0),1))","v":""},{"$f":"IF(AG5=\"\",\"\",INDEX(referentes!$P:$Q,MATCH(AG5,referentes!$Q:$Q,0),1))","v":""},{"$f":"IF(AH5=\"\",\"\",INDEX(referentes!$P:$Q,MATCH(AH5,referentes!$Q:$Q,0),1))","v":""},{"$f":"IF(AI5=\"\",\"\",INDEX(referentes!$P:$Q,MATCH(AI5,referentes!$Q:$Q,0),1))","v":""},{"$f":"IF(AJ5=\"\",\"\",INDEX(referentes!$P:$Q,MATCH(AJ5,referentes!$Q:$Q,0),1))","v":""},"PORCENTAJE TOTAL","OBSERVACIONES MUESTRA","MATERIA ORGANICA   (%) ","CALCIMETRIA   (%) ","REDONDEZ","ESFERICIDAD","FACIES","FOTOGRAFIAS","OBSERVACIONES MUESTRA","QUALITY FLAG",null,null,"ID_MUESTRA","ID_MUESTREO (AGD_MUESTREOS)","COD LAB_ANALISIS","COD METODO_COLECTA","COD ZONA_GEOGRAFICA","COD METODO_ALMACENA","UNIKE_KEY","COD SECCION","COD Q_FLAG","COD REDON","COD ESFERI"]
[]
[null,{"$f":"IF(BC6=BC3,B3,B3+1)","v":0},{"$f":"IF(E6<>\"\",CONCATENATE($A$4,D6,I6),\"\")","v":""},null,null,{"$f":"IF(D6<>\"\",D6+E6,\"\")","v":""},null,null,{"$f":"IF(J6=\"\",\"\",INDEX('Otras referencias'!$V:$W,MATCH(J6,'Otras referencias'!$W:$W,0),1))","v":""},null,null,null,null,null,null,null,null,null,null,null,null,1,null,null,null,null,null,null,null,null,null,null,null,null,null,null,{"$f":"SUM(AA6:AJ6)","v":0},null,null,null,null,null,null,null,null,null,null,null,{"$f":"IF(D6=\"\",\"\",CONCATENATE(C6,V6))","v":""},{"$f":"IF(C6=\"\",\"\",IF(COUNTIF($C$6:C6, C6)>1, \"\", C6))","v":""},{"$f":"IF(L6=\"\",\"\",INDEX(referentes!$J:$K,MATCH(L6,referentes!$K:$K,0),1))","v":""},{"$f":"IF(N6=\"\",\"\",INDEX(referentes!$A:$B,MATCH(N6,referentes!$B:$B,0),1))","v":""},{"$f":"IF(R6=\"\",\"\",INDEX(referentes!$D:$E,MATCH(R6,referentes!$E:$E,0),1))","v":""},{"$f":"IF(S6=\"\",\"\",INDEX(referentes!$G:$H,MATCH(S6,referentes!$H:$H,0),1))","v":""},{"$f":"CONCATENATE(F6,G6,I6,AY6,AZ6,BA6,BB6,O6,P6,Q6)","v":""},{"$f":"IF(Z6=\"\",\"\",INDEX(referentes!$M:$N,MATCH(Z6,referentes!$N:$N,0),1))","v":""},{"$f":"IF(AT6=\"\",\"\",INDEX('Otras referencias'!AA:AB,MATCH(AT6,'Otras referencias'!AB:AB,0),1))","v":""},{"$f":"IF(AO6=\"\",\"\",INDEX(referentes!S:T,MATCH(AO6,referentes!$T:$T,0),1))","v":""},{"$f":"IF(AP6=\"\",\"\",INDEX(referentes!V:W,MATCH(AP6,referentes!$W:$W,0),1))","v":""}]
[null,{"$f":"IF(BC7=BC6,B6,B6+1)","v":0},{"$f":"IF(E7<>\"\",CONCATENATE($A$4,D7,I7),\"\")","v":""},null,null,{"$f":"IF(D7<>\"\",D7+E7,\"\")","v":""},null,null,{"$f":"IF(J7=\"\",\"\",INDEX('Otras referencias'!$V:$W,MATCH(J7,'Otras referencias'!$W:$W,0),1))","v":""},null,null,null,null,null,null,null,null,null,null,null,null,2,null,null,null,null,null,null,null,null,null,null,null,null,null,null,{"$f":"SUM(AA7:AJ7)","v":0},null,null,null,null,null,null,null,null,null,null,null,"",{"$f":"IF(C7=\"\",\"\",IF(COUNTIF($C$6:C7, C7)>1, \"\", C7))","v":""},{"$f":"IF(L7=\"\",\"\",INDEX(referentes!$J:$K,MATCH(L7,referentes!$K:$K,0),1))","v":""},{"$f":"IF(N7=\"\",\"\",INDEX(referentes!$A:$B,MATCH(N7,referentes!$B:$B,0),1))","v":""},{"$f":"IF(R7=\"\",\"\",INDEX(referentes!$D:$E,MATCH(R7,referentes!$E:$E,0),1))","v":""},{"$f":"IF(S7=\"\",\"\",INDEX(referentes!$G:$H,MATCH(S7,referentes!$H:$H,0),1))","v":""},"",{"$f":"IF(Z7=\"\",\"\",INDEX(referentes!$M:$N,MATCH(Z7,referentes!$N:$N,0),1))","v":""},{"$f":"IF(AT7=\"\",\"\",INDEX('Otras referencias'!AA:AB,MATCH(AT7,'Otras referencias'!AB:AB,0),1))","v":""},{"$f":"IF(AO7=\"\",\"\",INDEX(referentes!S:T,MATCH(AO7,referentes!$T:$T,0),1))","v":""},{"$f":"IF(AP7=\"\",\"\",INDEX(referentes!V:W,MATCH(AP7,referentes!$W:$W,0),1))","v":""}]
[null,0,"",null,null,"",null,null,{"$f":"IF(J8=\"\",\"\",INDEX('Otras referencias'!$V:$W,MATCH(J8,'Otras referencias'!$W:$W,0),1))","v":""},null,null,null,null,null,null,null,null,null,null,null,null,3,null,null,null,null,null,null,null,null,null,null,null,null,null,null,0,null,null,null,null,null,null,null,null,null,null,null,"",{"$f":"IF(C8=\"\",\"\",IF(COUNTIF($C$6:C8, C8)>1, \"\", C8))","v":""},{"$f":"IF(L8=\"\",\"\",INDEX(referentes!$J:$K,MATCH(L8,referentes!$K:$K,0),1))","v":""},{"$f":"IF(N8=\"\",\"\",INDEX(referentes!$A:$B,MATCH(N8,referentes!$B:$B,0),1))","v":""},{"$f":"IF(R8=\"\",\"\",INDEX(referentes!$D:$E,MATCH(R8,referentes!$E:$E,0),1))","v":""},{"$f":"IF(S8=\"\",\"\",INDEX(referentes!$G:$H,MATCH(S8,referentes!$H:$H,0),1))","v":""},"",{"$f":"IF(Z8=\"\",\"\",INDEX(referentes!$M:$N,MATCH(Z8,referentes!$N:$N,0),1))","v":""},{"$f":"IF(AT8=\"\",\"\",INDEX('Otras referencias'!AA:AB,MATCH(AT8,'Otras referencias'!AB:AB,0),1))","v":""},{"$f":"IF(AO8=\"\",\"\",INDEX(referentes!S:T,MATCH(AO8,referentes!$T:$T,0),1))","v":""},{"$f":"IF(AP8=\"\",\"\",INDEX(referentes!V:W,MATCH(AP8,referentes!$W:$W,0),1))","v":""}]
[null,0,"",null,null,"",null,null,{"$f":"IF(J9=\"\",\"\",INDEX('Otras referencias'!$V:$W,MATCH(J9,'Otras referencias'!$W:$W,0),1))","v":""},null,null,null,null,null,null,null,null,null,null,null,null,4,null,null,null,null,null,null,null,null,null,null,null,null,null,null,0,null,null,null,null,null,null,null,null,null,null,null,"",{"$f":"IF(C9=\"\",\"\",IF(COUNTIF($C$6:C9, C9)>1, \"\", C9))","v":""},{"$f":"IF(L9=\"\",\"\",INDEX(referentes!$J:$K,MATCH(L9,referentes!$K:$K,0),1))","v":""},{"$f":"IF(N9=\"\",\"\",INDEX(referentes!$A:$B,MATCH(N9,referentes!$B:$B,0),1))","v":""},{"$f":"IF(R9=\"\",\"\",INDEX(referentes!$D:$E,MATCH(R9,referentes!$E:$E,0),1))","v":""},{"$f":"IF(S9=\"\",\"\",INDEX(referentes!$G:$H,MATCH(S9,referentes!$H:$H,0),1))","v":""},"",{"$f":"IF(Z9=\"\",\"\",INDEX(referentes!$M:$N,MATCH(Z9,referentes!$N:$N,0),1))","v":""},{"$f":"IF(AT9=\"\",\"\",INDEX('Otras referencias'!AA:AB,MATCH(AT9,'Otras referencias'!AB:AB,0),1))","v":""},{"$f":"IF(AO9=\"\",\"\",INDEX(referentes!S:T,MATCH(AO9,referentes!$T:$T,0),1))","v":""},{"$f":"IF(AP9=\"\",\"\",INDEX(referentes!V:W,MATCH(AP9,referentes!$W:$W,0),1))","v":""}]
[null,0,"",null,null,"",null,null,{"$f":"IF(J10=\"\",\"\",INDEX('Otras referencias'!$V:$W,MATCH(J10,'Otras referencias'!$W:$W,0),1))","v":""},null,null,null,null,null,null,null,null,null,null,null,null,5,null,null,null,null,null,null,null,null,null,null,null,null,null,null,0,null,null,null,null,null,null,null,null,null,null,null,"",{"$f":"IF(C10=\"\",\"\",IF(COUNTIF($C$6:C10, C10)>1, \"\", C10))","v":""},{"$f":"IF(L10=\"\",\"\",INDEX(referentes!$J:$K,MATCH(L10,referentes!$K:$K,0),1))","v":""},{"$f":"IF(N10=\"\",\"\",INDEX(referentes!$A:$B,MATCH(N10,referentes!$B:$B,0),1))","v":""},{"$f":"IF(R10=\"\",\"\",INDEX(referentes!$D:$E,MATCH(R10,referentes!$E:$E,0),1))","v":""},{"$f":"IF(S10=\"\",\"\",INDEX(referentes!$G:$H,MATCH(S10,referentes!$H:$H,0),1))","v":""},"",{"$f":"IF(Z10=\"\",\"\",INDEX(referentes!$M:$N,MATCH(Z10,referentes!$N:$N,0),1))","v":""},{"$f":"IF(AT10=\"\",\"\",INDEX('Otras referencias'!AA:AB,MATCH(AT10,'Otras referencias'!AB:AB,0),1))","v":""},{"$f":"IF(AO10=\"\",\"\",INDEX(referentes!S:T,MATCH(AO10,referentes!$T:$T,0),1))","v":""},{"$f":"IF(AP10=\"\",\"\",INDEX(referentes!V:W,MATCH(AP10,referentes!$W:$W,0),1))","v":""}]
[null,0,"",null,null,"",null,null,{"$f":"IF(J11=\"\",\"\",INDEX('Otras referencias'!$V:$W,MATCH(J11,'Otras referencias'!$W:$W,0),1))","v":""},null,null,null,null,null,null,null,null,null,null,null,null,6,null,null,null,null,null,null,null,null,null,null,null,null,null,null,0,null,null,null,null,null,null,null,null,null,null,null,"",{"$f":"IF(C11=\"\",\"\",IF(COUNTIF($C$6:C11, C11)>1, \"\", C11))","v":""},{"$f":"IF(L11=\"\",\"\",INDEX(referentes!$J:$K,MATCH(L11,referentes!$K:$K,0),1))","v":""},{"$f":"IF(N11=\"\",\"\",INDEX(referentes!$A:$B,MATCH(N11,referentes!$B:$B,0),1))","v":""},{"$f":"IF(R11=\"\",\"\",INDEX(referentes!$D:$E,MATCH(R11,referentes!$E:$E,0),1))","v":""},{"$f":"IF(S11=\"\",\"\",INDEX(referentes!$G:$H,MATCH(S11,referentes!$H:$H,0),1))","v":""},"",{"$f":"IF(Z11=\"\",\"\",INDEX(referentes!$M:$N,MATCH(Z11,referentes!$N:$N,0),1))","v":""},{"$f":"IF(AT11=\"\",\"\",INDEX('Otras referencias'!AA:AB,MATCH(AT11,'Otras referencias'!AB:AB,0),1))","v":""},{"$f":"IF(AO11=\"\",\"\",INDEX(referentes!S:T,MATCH(AO11,referentes!$T:$T,0),1))","v":""},{"$f":"IF(AP11=\"\",\"\",INDEX(referentes!V:W,MATCH(AP11,referentes!$W:$W,0),1))","v":""}]
[null,0,"",null,null,"",null,null,{"$f":"IF(J12=\"\",\"\",INDEX('Otras referencias'!$V:$W,MATCH(J12,'Otras referencias'!$W:$W,0),1))","v":""},null,null,null,null,null,null,null,null,null,null,null,null,7,null,null,null,null,null,null,null,null,null,null,null,null,null,null,0,null,null,null,null,null,null,null,null,null,null,null,"",{"$f":"IF(C12=\"\",\"\",IF(COUNTIF($C$6:C12, C12)>1, \"\", C12))","v":""},{"$f":"IF(L12=\"\",\"\",INDEX(referentes!$J:$K,MATCH(L12,referentes!$K:$K,0),1))","v":""},{"$f":"IF(N12=\"\",\"\",INDEX(referentes!$A:$B,MATCH(N12,referentes!$B:$B,0),1))","v":""},{"$f":"IF(R12=\"\",\"\",INDEX(referentes!$D:$E,MATCH(R12,referentes!$E:$E,0),1))","v":""},{"$f":"IF(S12=\"\",\"\",INDEX(referentes!$G:$H,MATCH(S12,referentes!$H:$H,0),1))","v":""},"",{"$f":"IF(Z12=\"\",\"\",INDEX(referentes!$M:$N,MATCH(Z12,referentes!$N:$N,0),1))","v":""},{"$f":"IF(AT12=\"\",\"\",INDEX('Otras referencias'!AA:AB,MATCH(AT12,'Otras referencias'!AB:AB,0),1))","v":""},{"$f":"IF(AO12=\"\",\"\",INDEX(referentes!S:T,MATCH(AO12,referentes!$T:$T,0),1))","v":""},{"$f":"IF(AP12=\"\",\"\",INDEX(referentes!V:W,MATCH(AP12,referentes!$W:$W,0),1))","v":""}]
[null,0,"",null,null,"",null,null,{"$f":"IF(J13=\"\",\"\",INDEX('Otras referencias'!$V:$W,MATCH(J13,'Otras referencias'!$W:$W,0),1))","v":""},null,null,null,null,null,null,null,null,null,null,null,null,8,null,null,null,null,null,null,null,null,null,null,null,null,null,null,0,null,null,null,null,null,null,null,null,null,null,null,"",{"$f":"IF(C13=\"\",\"\",IF(COUNTIF($C$6:C13, C13)>1, \"\", C13))","v":""},{"$f":"IF(L13=\"\",\"\",INDEX(referentes!$J:$K,MATCH(L13,referentes!$K:$K,0),1))","v":""},{"$f":"IF(N13=\"\",\"\",INDEX(referentes!$A:$B,MATCH(N13,referentes!$B:$B,0),1))","v":""},{"$f":"IF(R13=\"\",\"\",INDEX(referentes!$D:$E,MATCH(R13,referentes!$E:$E,0),1))","v":""},{"$f":"IF(S13=\"\",\"\",INDEX(referentes!$G:$H,MATCH(S13,referentes!$H:$H,0),1))","v":""},"",{"$f":"IF(Z13=\"\",\"\",INDEX(referentes!$M:$N,MATCH(Z13,referentes!$N:$N,0),1))","v":""},{"$f":"IF(AT13=\"\",\"\",INDEX('Otras referencias'!AA:AB,MATCH(AT13,'Otras referencias'!AB:AB,0),1))","v":""},{"$f":"IF(AO13=\"\",\"\",INDEX(referentes!S:T,MATCH(AO13,referentes!$T:$T,0),1))","v":""},{"$f":"IF(AP13=\"\",\"\",INDEX(referentes!V:W,MATCH(AP13,referentes!$W:$W,0),1))","v":""}]
[null,0,"",null,null,"",null,null,{"$f":"IF(J14=\"\",\"\",INDEX('Otras referencias'!$V:$W,MATCH(J14,'Otras referencias'!$W:$W,0),1))","v":""},null,null,null,null,null,null,null,null,null,null,null,null,9,null,null,null,null,null,null,null,null,null,null,null,null,null,null,0,null,null,null,null,null,null,null,null,null,null,null,"",{"$f":"IF(C14=\"\",\"\",IF(COUNTIF($C$6:C14, C14)>1, \"\", C14))","v":""},{"$f":"IF(L14=\"\",\"\",INDEX(referentes!$J:$K,MATCH(L14,referentes!$K:$K,0),1))","v":""},{"$f":"IF(N14=\"\",\"\",INDEX(referentes!$A:$B,MATCH(N14,referentes!$B:$B,0),1))","v":""},{"$f":"IF(R14=\"\",\"\",INDEX(referentes!$D:$E,MATCH(R14,referentes!$E:$E,0),1))","v":""},{"$f":"IF(S14=\"\",\"\",INDEX(referentes!$G:$H,MATCH(S14,referentes!$H:$H,0),1))","v":""},"",{"$f":"IF(Z14=\"\",\"\",INDEX(referentes!$M:$N,MATCH(Z14,referentes!$N:$N,0),1))","v":""},{"$f":"IF(AT14=\"\",\"\",INDEX('Otras referencias'!AA:AB,MATCH(AT14,'Otras referencias'!AB:AB,0),1))","v":""},{"$f":"IF(AO14=\"\",\"\",INDEX(referentes!S:T,MATCH(AO14,referentes!$T:$T,0),1))","v":""},{"$f":"IF(AP14=\"\",\"\",INDEX(referentes!V:W,MATCH(AP14,referentes!$W:$W,0),1))","v":""}]
[null,0,"",null,null,"",null,null,{"$f":"IF(J15=\"\",\"\",INDEX('Otras referencias'!$V:$W,MATCH(J15,'Otras referencias'!$W:$W,0),1))","v":""},null,null,null,null,null,null,null,null,null,null,null,null,10,null,null,null,null,null,null,null,null,null,null,null,null,null,null,0,null,null,null,null,null,null,null,null,null,null,null,"",{"$f":"IF(C15=\"\",\"\",IF(COUNTIF($C$6:C15, C15)>1, \"\", C15))","v":""},{"$f":"IF(L15=\"\",\"\",INDEX(referentes!$J:$K,MATCH(L15,referentes!$K:$K,0),1))","v":""},{"$f":"IF(N15=\"\",\"\",INDEX(referentes!$A:$B,MATCH(N15,referentes!$B:$B,0),1))","v":""},{"$f":"IF(R15=\"\",\"\",INDEX(referentes!$D:$E,MATCH(R15,referentes!$E:$E,0),1))","v":""},{"$f":"IF(S15=\"\",\"\",INDEX(referentes!$G:$H,MATCH(S15,referentes!$H:$H,0),1))","v":""},"",{"$f":"IF(Z15=\"\",\"\",INDEX(referentes!$M:$N,MATCH(Z15,referentes!$N:$N,0),1))","v":""},{"$f":"IF(AT15=\"\",\"\",INDEX('Otras referencias'!AA:AB,MATCH(AT15,'Otras referencias'!AB:AB,0),1))","v":""},{"$f":"IF(AO15=\"\",\"\",INDEX(referentes!S:T,MATCH(AO15,referentes!$T:$T,0),1))","v":""},{"$f":"IF(AP15=\"\",\"\",INDEX(referentes!V:W,MATCH(AP15,referentes!$W:$W,0),1))","v":""}]
[null,0,"",null,null,"",null,null,{"$f":"IF(J16=\"\",\"\",INDEX('Otras referencias'!$V:$W,MATCH(J16,'Otras referencias'!$W:$W,0),1))","v":""},null,null,null,null,null,null,null,null,null,null,null,null,11,null,null,null,null,null,null,null,null,null,null,null,null,null,null,0,null,null,null,null,null,null,null,null,null,null,null,"",{"$f":"IF(C16=\"\",\"\",IF(COUNTIF($C$6:C16, C16)>1, \"\", C16))","v":""},{"$f":"IF(L16=\"\",\"\",INDEX(referentes!$J:$K,MATCH(L16,referentes!$K:$K,0),1))","v":""},{"$f":"IF(N16=\"\",\"\",INDEX(referentes!$A:$B,MATCH(N16,referentes!$B:$B,0),1))","v":""},{"$f":"IF(R16=\"\",\"\",INDEX(referentes!$D:$E,MATCH(R16,referentes!$E:$E,0),1))","v":""},{"$f":"IF(S16=\"\",\"\",INDEX(referentes!$G:$H,MATCH(S16,referentes!$H:$H,0),1))","v":""},"",{"$f":"IF(Z16=\"\",\"\",INDEX(referentes!$M:$N,MATCH(Z16,referentes!$N:$N,0),1))","v":""},{"$f":"IF(AT16=\"\",\"\",INDEX('Otras referencias'!AA:AB,MATCH(AT16,'Otras referencias'!AB:AB,0),1))","v":""},{"$f":"IF(AO16=\"\",\"\",INDEX(referentes!S:T,MATCH(AO16,referentes!$T:$T,0),1))","v":""},{"$f":"IF(AP16=\"\",\"\",INDEX(referentes!V:W,MATCH(AP16,referentes!$W:$W,0),1))","v":""}]
[null,0,"",null,null,"",null,null,{"$f":"IF(J17=\"\",\"\",INDEX('Otras referencias'!$V:$W,MATCH(J17,'Otras referencias'!$W:$W,0),1))","v":""},null,null,null,null,null,null,null,null,null,null,null,null,12,null,null,null,null,null,null,null,null,null,null,null,null,null,null,0,null,null,null,null,null,null,null,null,null,null,null,"",{"$f":"IF(C17=\"\",\"\",IF(COUNTIF($C$6:C17, C17)>1, \"\", C17))","v":""},{"$f":"IF(L17=\"\",\"\",INDEX(referentes!$J:$K,MATCH(L17,referentes!$K:$K,0),1))","v":""},{"$f":"IF(N17=\"\",\"\",INDEX(referentes!$A:$B,MATCH(N17,referentes!$B:$B,0),1))","v":""},{"$f":"IF(R17=\"\",\"\",INDEX(referentes!$D:$E,MATCH(R17,referentes!$E:$E,0),1))","v":""},{"$f":"IF(S17=\"\",\"\",INDEX(referentes!$G:$H,MATCH(S17,referentes!$H:$H,0),1))","v":""},"",{"$f":"IF(Z17=\"\",\"\",INDEX(referentes!$M:$N,MATCH(Z17,referentes!$N:$N,0),1))","v":""},{"$f":"IF(AT17=\"\",\"\",INDEX('Otras referencias'!AA:AB,MATCH(AT17,'Otras referencias'!AB:AB,0),1))","v":""},{"$f":"IF(AO17=\"\",\"\",INDEX(referentes!S:T,MATCH(AO17,referentes!$T:$T,0),1))","v":""},{"$f":"IF(AP17=\"\",\"\",INDEX(referentes!V:W,MATCH(AP17,referentes!$W:$W,0),1))","v":""}]
[null,0,"",null,null,"",null,null,{"$f":"IF(J18=\"\",\"\",INDEX('Otras referencias'!$V:$W,MATCH(J18,'Otras referencias'!$W:$W,0),1))","v":""},null,null,null,null,null,null,null,null,null,null,null,null,13,null,null,null,null,null,null,null,null,null,null,null,null,null,null,0,null,null,null,null,null,null,null,null,null,null,null,"",{"$f":"IF(C18=\"\",\"\",IF(COUNTIF($C$6:C18, C18)>1, \"\", C18))","v":""},{"$f":"IF(L18=\"\",\"\",INDEX(referentes!$J:$K,MATCH(L18,referentes!$K:$K,0),1))","v":""},{"$f":"IF(N18=\"\",\"\",INDEX(referentes!$A:$B,MATCH(N18,referentes!$B:$B,0),1))","v":""},{"$f":"IF(R18=\"\",\"\",INDEX(referentes!$D:$E,MATCH(R18,referentes!$E:$E,0),1))","v":""},{"$f":"IF(S18=\"\",\"\",INDEX(referentes!$G:$H,MATCH(S18,referentes!$H:$H,0),1))","v":""},"",{"$f":"IF(Z18=\"\",\"\",INDEX(referentes!$M:$N,MATCH(Z18,referentes!$N:$N,0),1))","v":""},{"$f":"IF(AT18=\"\",\"\",INDEX('Otras referencias'!AA:AB,MATCH(AT18,'Otras referencias'!AB:AB,0),1))","v":""},{"$f":"IF(AO18=\"\",\"\",INDEX(referentes!S:T,MATCH(AO18,referentes!$T:$T,0),1))","v":""},{"$f":"IF(AP18=\"\",\"\",INDEX(referentes!V:W,MATCH(AP18,referentes!$W:$W,0),1))","v":""}]
[null,0,"",null,null,"",null,null,{"$f":"IF(J19=\"\",\"\",INDEX('Otras referencias'!$V:$W,MATCH(J19,'Otras referencias'!$W:$W,0),1))","v":""},null,null,null,null,null,null,null,null,null,null,null,null,14,null,null,null,null,null,null,null,null,null,null,null,null,null,null,0,null,null,null,null,null,null,null,null,null,null,null,"",{"$f":"IF(C19=\"\",\"\",IF(COUNTIF($C$6:C19, C19)>1, \"\", C19))","v":""},{"$f":"IF(L19=\"\",\"\",INDEX(referentes!$J:$K,MATCH(L19,referentes!$K:$K,0),1))","v":""},{"$f":"IF(N19=\"\",\"\",INDEX(referentes!$A:$B,MATCH(N19,referentes!$B:$B,0),1))","v":""},{"$f":"IF(R19=\"\",\"\",INDEX(referentes!$D:$E,MATCH(R19,referentes!$E:$E,0),1))","v":""},{"$f":"IF(S19=\"\",\"\",INDEX(referentes!$G:$H,MATCH(S19,referentes!$H:$H,0),1))","v":""},"",{"$f":"IF(Z19=\"\",\"\",INDEX(referentes!$M:$N,MATCH(Z19,referentes!$N:$N,0),1))","v":""},{"$f":"IF(AT19=\"\",\"\",INDEX('Otras referencias'!AA:AB,MATCH(AT19,'Otras referencias'!AB:AB,0),1))","v":""},{"$f":"IF(AO19=\"\",\"\",INDEX(referentes!S:T,MATCH(AO19,referentes!$T:$T,0),1))","v":""},{"$f":"IF(AP19=\"\",\"\",INDEX(referentes!V:W,MATCH(AP19,referentes!$W:$W,0),1))","v":""}]
[null,0,"",null,null,"",null,null,{"$f":"IF(J20=\"\",\"\",INDEX('Otras referencias'!$V:$W,MATCH(J20,'Otras referencias'!$W:$W,0),1))","v":""},null,null,null,null,null,null,null,null,null,null,null,null,15,null,null,null,null,null,null,null,null,null,null,null,null,null,null,0,null,null,null,null,null,null,null,null,null,null,null,"",{"$f":"IF(C20=\"\",\"\",IF(COUNTIF($C$6:C20, C20)>1, \"\", C20))","v":""},{"$f":"IF(L20=\"\",\"\",INDEX(referentes!$J:$K,MATCH(L20,referentes!$K:$K,0),1))","v":""},{"$f":"IF(N20=\"\",\"\",INDEX(referentes!$A:$B,MATCH(N20,referentes!$B:$B,0),1))","v":""},{"$f":"IF(R20=\"\",\"\",INDEX(referentes!$D:$E,MATCH(R20,referentes!$E:$E,0),1))","v":""},{"$f":"IF(S20=\"\",\"\",INDEX(referentes!$G:$H,MATCH(S20,referentes!$H:$H,0),1))","v":""},"",{"$f":"IF(Z20=\"\",\"\",INDEX(referentes!$M:$N,MATCH(Z20,referentes!$N:$N,0),1))","v":""},{"$f":"IF(AT20=\"\",\"\",INDEX('Otras referencias'!AA:AB,MATCH(AT20,'Otras referencias'!AB:AB,0),1))","v":""},{"$f":"IF(AO20=\"\",\"\",INDEX(referentes!S:T,MATCH(AO20,referentes!$T:$T,0),1))","v":""},{"$f":"IF(AP20=\"\",\"\",INDEX(referentes!V:W,MATCH(AP20,referentes!$W:$W,0),1))","v":""}]
[null,0,"",null,null,"",null,null,{"$f":"IF(J21=\"\",\"\",INDEX('Otras referencias'!$V:$W,MATCH(J21,'Otras referencias'!$W:$W,0),1))","v":""},null,null,null,null,null,null,null,null,null,null,null,null,16,null,null,null,null,null,null,null,null,null,null,null,null,null,null,0,null,null,null,null,null,null,null,null,null,null,null,"",{"$f":"IF(C21=\"\",\"\",IF(COUNTIF($C$6:C21, C21)>1, \"\", C21))","v":""},{"$f":"IF(L21=\"\",\"\",INDEX(referentes!$J:$K,MATCH(L21,referentes!$K:$K,0),1))","v":""},{"$f":"IF(N21=\"\",\"\",INDEX(referentes!$A:$B,MATCH(N21,referentes!$B:$B,0),1))","v":""},{"$f":"IF(R21=\"\",\"\",INDEX(referentes!$D:$E,MATCH(R21,referentes!$E:$E,0),1))","v":""},{"$f":"IF(S21=\"\",\"\",INDEX(referentes!$G:$H,MATCH(S21,referentes!$H:$H,0),1))","v":""},"",{"$f":"IF(Z21=\"\",\"\",INDEX(referentes!$M:$N,MATCH(Z21,referentes!$N:$N,0),1))","v":""},{"$f":"IF(AT21=\"\",\"\",INDEX('Otras referencias'!AA:AB,MATCH(AT21,'Otras referencias'!AB:AB,0),1))","v":""},{"$f":"IF(AO21=\"\",\"\",INDEX(referentes!S:T,MATCH(AO21,referentes!$T:$T,0),1))","v":""},{"$f":"IF(AP21=\"\",\"\",INDEX(referentes!V:W,MATCH(AP21,referentes!$W:$W,0),1))","v":""}]
[null,0,"",null,null,"",null,null,{"$f":"IF(J22=\"\",\"\",INDEX('Otras referencias'!$V:$W,MATCH(J22,'Otras referencias'!$W:$W,0),1))","v":""},null,null,null,null,null,null,null,null,null,null,null,null,17,null,null,null,null,null,null,null,null,null,null,null,null,null,null,0,null,null,null,null,null,null,null,null,null,null,null,"",{"$f":"IF(C22=\"\",\"\",IF(COUNTIF($C$6:C22, C22)>1, \"\", C22))","v":""},{"$f":"IF(L22=\"\",\"\",INDEX(referentes!$J:$K,MATCH(L22,referentes!$K:$K,0),1))","v":""},{"$f":"IF(N22=\"\",\"\",INDEX(referentes!$A:$B,MATCH(N22,referentes!$B:$B,0),1))","v":""},{"$f":"IF(R22=\"\",\"\",INDEX(referentes!$D:$E,MATCH(R22,referentes!$E:$E,0),1))","v":""},{"$f":"IF(S22=\"\",\"\",INDEX(referentes!$G:$H,MATCH(S22,referentes!$H:$H,0),1))","v":""},"",{"$f":"IF(Z22=\"\",\"\",INDEX(referentes!$M:$N,MATCH(Z22,referentes!$N:$N,0),1))","v":""},{"$f":"IF(AT22=\"\",\"\",INDEX('Otras referencias'!AA:AB,MATCH(AT22,'Otras referencias'!AB:AB,0),1))","v":""},{"$f":"IF(AO22=\"\",\"\",INDEX(referentes!S:T,MATCH(AO22,referentes!$T:$T,0),1))","v":""},{"$f":"IF(AP22=\"\",\"\",INDEX(referentes!V:W,MATCH(AP22,referentes!$W:$W,0),1))","v":""}]
[null,0,"",null,null,"",null,null,{"$f":"IF(J23=\"\",\"\",INDEX('Otras referencias'!$V:$W,MATCH(J23,'Otras referencias'!$W:$W,0),1))","v":""},null,null,null,null,null,null,null,null,null,null,null,null,18,null,null,null,null,null,null,null,null,null,null,null,null,null,null,0,null,null,null,null,null,null,null,null,null,null,null,"",{"$f":"IF(C23=\"\",\"\",IF(COUNTIF($C$6:C23, C23)>1, \"\", C23))","v":""},{"$f":"IF(L23=\"\",\"\",INDEX(referentes!$J:$K,MATCH(L23,referentes!$K:$K,0),1))","v":""},{"$f":"IF(N23=\"\",\"\",INDEX(referentes!$A:$B,MATCH(N23,referentes!$B:$B,0),1))","v":""},{"$f":"IF(R23=\"\",\"\",INDEX(referentes!$D:$E,MATCH(R23,referentes!$E:$E,0),1))","v":""},{"$f":"IF(S23=\"\",\"\",INDEX(referentes!$G:$H,MATCH(S23,referentes!$H:$H,0),1))","v":""},"",{"$f":"IF(Z23=\"\",\"\",INDEX(referentes!$M:$N,MATCH(Z23,referentes!$N:$N,0),1))","v":""},{"$f":"IF(AT23=\"\",\"\",INDEX('Otras referencias'!AA:AB,MATCH(AT23,'Otras referencias'!AB:AB,0),1))","v":""},{"$f":"IF(AO23=\"\",\"\",INDEX(referentes!S:T,MATCH(AO23,referentes!$T:$T,0),1))","v":""},{"$f":"IF(AP23=\"\",\"\",INDEX(referentes!V:W,MATCH(AP23,referentes!$W:$W,0),1))","v":""}]
[null,0,"",null,null,"",null,null,{"$f":"IF(J24=\"\",\"\",INDEX('Otras referencias'!$V:$W,MATCH(J24,'Otras referencias'!$W:$W,0),1))","v":""},null,null,null,null,null,null,null,null,null,null,null,null,19,null,null,null,null,null,null,null,null,null,null,null,null,null,null,0,null,null,null,null,null,null,null,null,null,null,null,"",{"$f":"IF(C24=\"\",\"\",IF(COUNTIF($C$6:C24, C24)>1, \"\", C24))","v":""},{"$f":"IF(L24=\"\",\"\",INDEX(referentes!$J:$K,MATCH(L24,referentes!$K:$K,0),1))","v":""},{"$f":"IF(N24=\"\",\"\",INDEX(referentes!$A:$B,MATCH(N24,referentes!$B:$B,0),1))","v":""},{"$f":"IF(R24=\"\",\"\",INDEX(referentes!$D:$E,MATCH(R24,referentes!$E:$E,0),1))","v":""},{"$f":"IF(S24=\"\",\"\",INDEX(referentes!$G:$H,MATCH(S24,referentes!$H:$H,0),1))","v":""},"",{"$f":"IF(Z24=\"\",\"\",INDEX(referentes!$M:$N,MATCH(Z24,referentes!$N:$N,0),1))","v":""},{"$f":"IF(AT24=\"\",\"\",INDEX('Otras referencias'!AA:AB,MATCH(AT24,'Otras referencias'!AB:AB,0),1))","v":""},{"$f":"IF(AO24=\"\",\"\",INDEX(referentes!S:T,MATCH(AO24,referentes!$T:$T,0),1))","v":""},{"$f":"IF(AP24=\"\",\"\",INDEX(referentes!V:W,MATCH(AP24,referentes!$W:$W,0),1))","v":""}]
[null,0,"",null,null,"",null,null,{"$f":"IF(J25=\"\",\"\",INDEX('Otras referencias'!$V:$W,MATCH(J25,'Otras referencias'!$W:$W,0),1))","v":""},null,null,null,null,null,null,null,null,null,null,null,null,20,null,null,null,null,null,null,null,null,null,null,null,null,null,null,0,null,null,null,null,null,null,null,null,null,null,null,"",{"$f":"IF(C25=\"\",\"\",IF(COUNTIF($C$6:C25, C25)>1, \"\", C25))","v":""},{"$f":"IF(L25=\"\",\"\",INDEX(referentes!$J:$K,MATCH(L25,referentes!$K:$K,0),1))","v":""},{"$f":"IF(N25=\"\",\"\",INDEX(referentes!$A:$B,MATCH(N25,referentes!$B:$B,0),1))","v":""},{"$f":"IF(R25=\"\",\"\",INDEX(referentes!$D:$E,MATCH(R25,referentes!$E:$E,0),1))","v":""},{"$f":"IF(S25=\"\",\"\",INDEX(referentes!$G:$H,MATCH(S25,referentes!$H:$H,0),1))","v":""},"",{"$f":"IF(Z25=\"\",\"\",INDEX(referentes!$M:$N,MATCH(Z25,referentes!$N:$N,0),1))","v":""},{"$f":"IF(AT25=\"\",\"\",INDEX('Otras referencias'!AA:AB,MATCH(AT25,'Otras referencias'!AB:AB,0),1))","v":""},{"$f":"IF(AO25=\"\",\"\",INDEX(referentes!S:T,MATCH(AO25,referentes!$T:$T,0),1))","v":""},{"$f":"IF(AP25=\"\",\"\",INDEX(referentes!V:W,MATCH(AP25,referentes!$W:$W,0),1))","v":""}]
[null,0,"",null,null,"",null,null,{"$f":"IF(J26=\"\",\"\",INDEX('Otras referencias'!$V:$W,MATCH(J26,'Otras referencias'!$W:$W,0),1))","v":""},null,null,null,null,null,null,null,null,null,null,null,null,21,null,null,null,null,null,null,null,null,null,null,null,null,null,null,0,null,null,null,null,null,null,null,null,null,null,null,"",{"$f":"IF(C26=\"\",\"\",IF(COUNTIF($C$6:C26, C26)>1, \"\", C26))","v":""},{"$f":"IF(L26=\"\",\"\",INDEX(referentes!$J:$K,MATCH(L26,referentes!$K:$K,0),1))","v":""},{"$f":"IF(N26=\"\",\"\",INDEX(referentes!$A:$B,MATCH(N26,referentes!$B:$B,0),1))","v":""},{"$f":"IF(R26=\"\",\"\",INDEX(referentes!$D:$E,MATCH(R26,referentes!$E:$E,0),1))","v":""},{"$f":"IF(S26=\"\",\"\",INDEX(referentes!$G:$H,MATCH(S26,referentes!$H:$H,0),1))","v":""},"",{"$f":"IF(Z26=\"\",\"\",INDEX(referentes!$M:$N,MATCH(Z26,referentes!$N:$N,0),1))","v":""},{"$f":"IF(AT26=\"\",\"\",INDEX('Otras referencias'!AA:AB,MATCH(AT26,'Otras referencias'!AB:AB,0),1))","v":""},{"$f":"IF(AO26=\"\",\"\",INDEX(referentes!S:T,MATCH(AO26,referentes!$T:$T,0),1))","v":""},{"$f":"IF(AP26=\"\",\"\",INDEX(referentes!V:W,MATCH(AP26,referentes!$W:$W,0),1))","v":""}]
[null,0,"",null,null,"",null,null,{"$f":"IF(J27=\"\",\"\",INDEX('Otras referencias'!$V:$W,MATCH(J27,'Otras referencias'!$W:$W,0),1))","v":""},null,null,null,null,null,null,null,null,null,null,null,null,22,null,null,null,null,null,null,null,null,null,null,null,null,null,null,0,null,null,null,null,null,null,null,null,null,null,null,"",{"$f":"IF(C27=\"\",\"\",IF(COUNTIF($C$6:C27, C27)>1, \"\", C27))","v":""},{"$f":"IF(L27=\"\",\"\",INDEX(referentes!$J:$K,MATCH(L27,referentes!$K:$K,0),1))","v":""},{"$f":"IF(N27=\"\",\"\",INDEX(referentes!$A:$B,MATCH(N27,referentes!$B:$B,0),1))","v":""},{"$f":"IF(R27=\"\",\"\",INDEX(referentes!$D:$E,MATCH(R27,referentes!$E:$E,0),1))","v":""},{"$f":"IF(S27=\"\",\"\",INDEX(referentes!$G:$H,MATCH(S27,referentes!$H:$H,0),1))","v":""},"",{"$f":"IF(Z27=\"\",\"\",INDEX(referentes!$M:$N,MATCH(Z27,referentes!$N:$N,0),1))","v":""},{"$f":"IF(AT27=\"\",\"\",INDEX('Otras referencias'!AA:AB,MATCH(AT27,'Otras referencias'!AB:AB,0),1))","v":""},{"$f":"IF(AO27=\"\",\"\",INDEX(referentes!S:T,MATCH(AO27,referentes!$T:$T,0),1))","v":""},{"$f":"IF(AP27=\"\",\"\",INDEX(referentes!V:W,MATCH(AP27,referentes!$W:$W,0),1))","v":""}]
[null,0,"",null,null,"",null,null,{"$f":"IF(J28=\"\",\"\",INDEX('Otras referencias'!$V:$W,MATCH(J28,'Otras referencias'!$W:$W,0),1))","v":""},null,null,null,null,null,null,null,null,null,null,null,null,23,null,null,null,null,null,null,null,null,null,null,null,null,null,null,0,null,null,null,null,null,null,null,null,null,null,null,"",{"$f":"IF(C28=\"\",\"\",IF(COUNTIF($C$6:C28, C28)>1, \"\", C28))","v":""},{"$f":"IF(L28=\"\",\"\",INDEX(referentes!$J:$K,MATCH(L28,referentes!$K:$K,0),1))","v":""},{"$f":"IF(N28=\"\",\"\",INDEX(referentes!$A:$B,MATCH(N28,referentes!$B:$B,0),1))","v":""},{"$f":"IF(R28=\"\",\"\",INDEX(referentes!$D:$E,MATCH(R28,referentes!$E:$E,0),1))","v":""},{"$f":"IF(S28=\"\",\"\",INDEX(referentes!$G:$H,MATCH(S28,referentes!$H:$H,0),1))","v":""},"",{"$f":"IF(Z28=\"\",\"\",INDEX(referentes!$M:$N,MATCH(Z28,referentes!$N:$N,0),1))","v":""},{"$f":"IF(AT28=\"\",\"\",INDEX('Otras referencias'!AA:AB,MATCH(AT28,'Otras referencias'!AB:AB,0),1))","v":""},{"$f":"IF(AO28=\"\",\"\",INDEX(referentes!S:T,MATCH(AO28,referentes!$T:$T,0),1))","v":""},{"$f":"IF(AP28=\"\",\"\",INDEX(referentes!V:W,MATCH(AP28,referentes!$W:$W,0),1))","v":""}]
[null,0,"",null,null,"",null,null,{"$f":"IF(J29=\"\",\"\",INDEX('Otras referencias'!$V:$W,MATCH(J29,'Otras referencias'!$W:$W,0),1))","v":""},null,null,null,null,null,null,null,null,null,null,null,null,24,null,null,null,null,null,null,null,null,null,null,null,null,null,null,0,null,null,null,null,null,null,null,null,null,null,null,"",{"$f":"IF(C29=\"\",\"\",IF(COUNTIF($C$6:C29, C29)>1, \"\", C29))","v":""},{"$f":"IF(L29=\"\",\"\",INDEX(referentes!$J:$K,MATCH(L29,referentes!$K:$K,0),1))","v":""},{"$f":"IF(N29=\"\",\"\",INDEX(referentes!$A:$B,MATCH(N29,referentes!$B:$B,0),1))","v":""},{"$f":"IF(R29=\"\",\"\",INDEX(referentes!$D:$E,MATCH(R29,referentes!$E:$E,0),1))","v":""},{"$f":"IF(S29=\"\",\"\",INDEX(referentes!$G:$H,MATCH(S29,referentes!$H:$H,0),1))","v":""},"",{"$f":"IF(Z29=\"\",\"\",INDEX(referentes!$M:$N,MATCH(Z29,referentes!$N:$N,0),1))","v":""},{"$f":"IF(AT29=\"\",\"\",INDEX('Otras referencias'!AA:AB,MATCH(AT29,'Otras referencias'!AB:AB,0),1))","v":""},{"$f":"IF(AO29=\"\",\"\",INDEX(referentes!S:T,MATCH(AO29,referentes!$T:$T,0),1))","v":""},{"$f":"IF(AP29=\"\",\"\",INDEX(referentes!V:W,MATCH(AP29,referentes!$W:$W,0),1))","v":""}]
[null,0,"",null,null,"",null,null,{"$f":"IF(J30=\"\",\"\",INDEX('Otras referencias'!$V:$W,MATCH(J30,'Otras referencias'!$W:$W,0),1))","v":""},null,null,null,null,null,null,null,null,null,null,null,null,25,null,null,null,null,null,null,null,null,null,null,null,null,null,null,0,null,null,null,null,null,null,null,null,null,null,null,"",{"$f":"IF(C30=\"\",\"\",IF(COUNTIF($C$6:C30, C30)>1, \"\", C30))","v":""},{"$f":"IF(L30=\"\",\"\",INDEX(referentes!$J:$K,MATCH(L30,referentes!$K:$K,0),1))","v":""},{"$f":"IF(N30=\"\",\"\",INDEX(referentes!$A:$B,MATCH(N30,referentes!$B:$B,0),1))","v":""},{"$f":"IF(R30=\"\",\"\",INDEX(referentes!$D:$E,MATCH(R30,referentes!$E:$E,0),1))","v":""},{"$f":"IF(S30=\"\",\"\",INDEX(referentes!$G:$H,MATCH(S30,referentes!$H:$H,0),1))","v":""},"",{"$f":"IF(Z30=\"\",\"\",INDEX(referentes!$M:$N,MATCH(Z30,referentes!$N:$N,0),1))","v":""},{"$f":"IF(AT30=\"\",\"\",INDEX('Otras referencias'!AA:AB,MATCH(AT30,'Otras referencias'!AB:AB,0),1))","v":""},{"$f":"IF(AO30=\"\",\"\",INDEX(referentes!S:T,MATCH(AO30,referentes!$T:$T,0),1))","v":""},{"$f":"IF(AP30=\"\",\"\",INDEX(referentes!V:W,MATCH(AP30,referentes!$W:$W,0),1))","v":""}]
[null,0,"",null,null,"",null,null,{"$f":"IF(J31=\"\",\"\",INDEX('Otras referencias'!$V:$W,MATCH(J31,'Otras referencias'!$W:$W,0),1))","v":""},null,null,null,null,null,null,null,null,null,null,null,null,26,null,null,null,null,null,null,null,null,null,null,null,null,null,null,0,null,null,null,null,null,null,null,null,null,null,null,"",{"$f":"IF(C31=\"\",\"\",IF(COUNTIF($C$6:C31, C31)>1, \"\", C31))","v":""},{"$f":"IF(L31=\"\",\"\",INDEX(referentes!$J:$K,MATCH(L31,referentes!$K:$K,0),1))","v":""},{"$f":"IF(N31=\"\",\"\",INDEX(referentes!$A:$B,MATCH(N31,referentes!$B:$B,0),1))","v":""},{"$f":"IF(R31=\"\",\"\",INDEX(referentes!$D:$E,MATCH(R31,referentes!$E:$E,0),1))","v":""},{"$f":"IF(S31=\"\",\"\",INDEX(referentes!$G:$H,MATCH(S31,referentes!$H:$H,0),1))","v":""},"",{"$f":"IF(Z31=\"\",\"\",INDEX(referentes!$M:$N,MATCH(Z31,referentes!$N:$N,0),1))","v":""},{"$f":"IF(AT31=\"\",\"\",INDEX('Otras referencias'!AA:AB,MATCH(AT31,'Otras referencias'!AB:AB,0),1))","v":""},{"$f":"IF(AO31=\"\",\"\",INDEX(referentes!S:T,MATCH(AO31,referentes!$T:$T,0),1))","v":""},{"$f":"IF(AP31=\"\",\"\",INDEX(referentes!V:W,MATCH(AP31,referentes!$W:$W,0),1))","v":""}]
[null,0,"",null,null,"",null,null,{"$f":"IF(J32=\"\",\"\",INDEX('Otras referencias'!$V:$W,MATCH(J32,'Otras referencias'!$W:$W,0),1))","v":""},null,null,null,null,null,null,null,null,null,null,null,null,27,null,null,null,null,null,null,null,null,null,null,null,null,null,null,0,null,null,null,null,null,null,null,null,null,null,null,"",{"$f":"IF(C32=\"\",\"\",IF(COUNTIF($C$6:C32, C32)>1, \"\", C32))","v":""},{"$f":"IF(L32=\"\",\"\",INDEX(referentes!$J:$K,MATCH(L32,referentes!$K:$K,0),1))","v":""},{"$f":"IF(N32=\"\",\"\",INDEX(referentes!$A:$B,MATCH(N32,referentes!$B:$B,0),1))","v":""},{"$f":"IF(R32=\"\",\"\",INDEX(referentes!$D:$E,MATCH(R32,referentes!$E:$E,0),1))","v":""},{"$f":"IF(S32=\"\",\"\",INDEX(referentes!$G:$H,MATCH(S32,referentes!$H:$H,0),1))","v":""},"",{"$f":"IF(Z32=\"\",\"\",INDEX(referentes!$M:$N,MATCH(Z32,referentes!$N:$N,0),1))","v":""},{"$f":"IF(AT32=\"\",\"\",INDEX('Otras referencias'!AA:AB,MATCH(AT32,'Otras referencias'!AB:AB,0),1))","v":""},{"$f":"IF(AO32=\"\",\"\",INDEX(referentes!S:T,MATCH(AO32,referentes!$T:$T,0),1))","v":""},{"$f":"IF(AP32=\"\",\"\",INDEX(referentes!V:W,MATCH(AP32,referentes!$W:$W,0),1))","v":""}]
[null,0,"",null,null,"",null,null,{"$f":"IF(J33=\"\",\"\",INDEX('Otras referencias'!$V:$W,MATCH(J33,'Otras referencias'!$W:$W,0),1))","v":""},null,null,null,null,null,null,null,null,null,null,null,null,28,null,null,null,null,null,null,null,null,null,null,null,null,null,null,0,null,null,null,null,null,null,null,null,null,null,null,"",{"$f":"IF(C33=\"\",\"\",IF(COUNTIF($C$6:C33, C33)>1, \"\", C33))","v":""},{"$f":"IF(L33=\"\",\"\",INDEX(referentes!$J:$K,MATCH(L33,referentes!$K:$K,0),1))","v":""},{"$f":"IF(N33=\"\",\"\",INDEX(referentes!$A:$B,MATCH(N33,referentes!$B:$B,0),1))","v":""},{"$f":"IF(R33=\"\",\"\",INDEX(referentes!$D:$E,MATCH(R33,referentes!$E:$E,0),1))","v":""},{"$f":"IF(S33=\"\",\"\",INDEX(referentes!$G:$H,MATCH(S33,referentes!$H:$H,0),1))","v":""},"",{"$f":"IF(Z33=\"\",\"\",INDEX(referentes!$M:$N,MATCH(Z33,referentes!$N:$N,0),1))","v":""},{"$f":"IF(AT33=\"\",\"\",INDEX('Otras referencias'!AA:AB,MATCH(AT33,'Otras referencias'!AB:AB,0),1))","v":""},{"$f":"IF(AO33=\"\",\"\",INDEX(referentes!S:T,MATCH(AO33,referentes!$T:$T,0),1))","v":""},{"$f":"IF(AP33=\"\",\"\",INDEX(referentes!V:W,MATCH(AP33,referentes!$W:$W,0),1))","v":""}]
[null,0,"",null,null,"",null,null,{"$f":"IF(J34=\"\",\"\",INDEX('Otras referencias'!$V:$W,MATCH(J34,'Otras referencias'!$W:$W,0),1))","v":""},null,null,null,null,null,null,null,null,null,null,null,null,29,null,null,null,null,null,null,null,null,null,null,null,null,null,null,0,null,null,null,null,null,null,null,null,null,null,null,"",{"$f":"IF(C34=\"\",\"\",IF(COUNTIF($C$6:C34, C34)>1, \"\", C34))","v":""},{"$f":"IF(L34=\"\",\"\",INDEX(referentes!$J:$K,MATCH(L34,referentes!$K:$K,0),1))","v":""},{"$f":"IF(N34=\"\",\"\",INDEX(referentes!$A:$B,MATCH(N34,referentes!$B:$B,0),1))","v":""},{"$f":"IF(R34=\"\",\"\",INDEX(referentes!$D:$E,MATCH(R34,referentes!$E:$E,0),1))","v":""},{"$f":"IF(S34=\"\",\"\",INDEX(referentes!$G:$H,MATCH(S34,referentes!$H:$H,0),1))","v":""},"",{"$f":"IF(Z34=\"\",\"\",INDEX(referentes!$M:$N,MATCH(Z34,referentes!$N:$N,0),1))","v":""},{"$f":"IF(AT34=\"\",\"\",INDEX('Otras referencias'!AA:AB,MATCH(AT34,'Otras referencias'!AB:AB,0),1))","v":""},{"$f":"IF(AO34=\"\",\"\",INDEX(referentes!S:T,MATCH(AO34,referentes!$T:$T,0),1))","v":""},{"$f":"IF(AP34=\"\",\"\",INDEX(referentes!V:W,MATCH(AP34,referentes!$W:$W,0),1))","v":""}]
[null,0,"",null,null,"",null,null,{"$f":"IF(J35=\"\",\"\",INDEX('Otras referencias'!$V:$W,MATCH(J35,'Otras referencias'!$W:$W,0),1))","v":""},null,null,null,null,null,null,null,null,null,null,null,null,30,null,null,null,null,null,null,null,null,null,null,null,null,null,null,0,null,null,null,null,null,null,null,null,null,null,null,"",{"$f":"IF(C35=\"\",\"\",IF(COUNTIF($C$6:C35, C35)>1, \"\", C35))","v":""},{"$f":"IF(L35=\"\",\"\",INDEX(referentes!$J:$K,MATCH(L35,referentes!$K:$K,0),1))","v":""},{"$f":"IF(N35=\"\",\"\",INDEX(referentes!$A:$B,MATCH(N35,referentes!$B:$B,0),1))","v":""},{"$f":"IF(R35=\"\",\"\",INDEX(referentes!$D:$E,MATCH(R35,referentes!$E:$E,0),1))","v":""},{"$f":"IF(S35=\"\",\"\",INDEX(referentes!$G:$H,MATCH(S35,referentes!$H:$H,0),1))","v":""},"",{"$f":"IF(Z35=\"\",\"\",INDEX(referentes!$M:$N,MATCH(Z35,referentes!$N:$N,0),1))","v":""},{"$f":"IF(AT35=\"\",\"\",INDEX('Otras referencias'!AA:AB,MATCH(AT35,'Otras referencias'!AB:AB,0),1))","v":""},{"$f":"IF(AO35=\"\",\"\",INDEX(referentes!S:T,MATCH(AO35,referentes!$T:$T,0),1))","v":""},{"$f":"IF(AP35=\"\",\"\",INDEX(referentes!V:W,MATCH(AP35,referentes!$W:$W,0),1))","v":""}]
[null,0,"",null,null,"",null,null,{"$f":"IF(J36=\"\",\"\",INDEX('Otras referencias'!$V:$W,MATCH(J36,'Otras referencias'!$W:$W,0),1))","v":""},null,null,null,null,null,null,null,null,null,null,null,null,31,null,null,null,null,null,null,null,null,null,null,null,null,null,null,0,null,null,null,null,null,null,null,null,null,null,null,"",{"$f":"IF(C36=\"\",\"\",IF(COUNTIF($C$6:C36, C36)>1, \"\", C36))","v":""},{"$f":"IF(L36=\"\",\"\",INDEX(referentes!$J:$K,MATCH(L36,referentes!$K:$K,0),1))","v":""},{"$f":"IF(N36=\"\",\"\",INDEX(referentes!$A:$B,MATCH(N36,referentes!$B:$B,0),1))","v":""},{"$f":"IF(R36=\"\",\"\",INDEX(referentes!$D:$E,MATCH(R36,referentes!$E:$E,0),1))","v":""},{"$f":"IF(S36=\"\",\"\",INDEX(referentes!$G:$H,MATCH(S36,referentes!$H:$H,0),1))","v":""},"",{"$f":"IF(Z36=\"\",\"\",INDEX(referentes!$M:$N,MATCH(Z36,referentes!$N:$N,0),1))","v":""},{"$f":"IF(AT36=\"\",\"\",INDEX('Otras referencias'!AA:AB,MATCH(AT36,'Otras referencias'!AB:AB,0),1))","v":""},{"$f":"IF(AO36=\"\",\"\",INDEX(referentes!S:T,MATCH(AO36,referentes!$T:$T,0),1))","v":""},{"$f":"IF(AP36=\"\",\"\",INDEX(referentes!V:W,MATCH(AP36,referentes!$W:$W,0),1))","v":""}]
[null,0,"",null,null,"",null,null,{"$f":"IF(J37=\"\",\"\",INDEX('Otras referencias'!$V:$W,MATCH(J37,'Otras referencias'!$W:$W,0),1))","v":""},null,null,null,null,null,null,null,null,null,null,null,null,32,null,null,null,null,null,null,null,null,null,null,null,null,null,null,0,null,null,null,null,null,null,null,null,null,null,null,"",{"$f":"IF(C37=\"\",\"\",IF(COUNTIF($C$6:C37, C37)>1, \"\", C37))","v":""},{"$f":"IF(L37=\"\",\"\",INDEX(referentes!$J:$K,MATCH(L37,referentes!$K:$K,0),1))","v":""},{"$f":"IF(N37=\"\",\"\",INDEX(referentes!$A:$B,MATCH(N37,referentes!$B:$B,0),1))","v":""},{"$f":"IF(R37=\"\",\"\",INDEX(referentes!$D:$E,MATCH(R37,referentes!$E:$E,0),1))","v":""},{"$f":"IF(S37=\"\",\"\",INDEX(referentes!$G:$H,MATCH(S37,referentes!$H:$H,0),1))","v":""},"",{"$f":"IF(Z37=\"\",\"\",INDEX(referentes!$M:$N,MATCH(Z37,referentes!$N:$N,0),1))","v":""},{"$f":"IF(AT37=\"\",\"\",INDEX('Otras referencias'!AA:AB,MATCH(AT37,'Otras referencias'!AB:AB,0),1))","v":""},{"$f":"IF(AO37=\"\",\"\",INDEX(referentes!S:T,MATCH(AO37,referentes!$T:$T,0),1))","v":""},{"$f":"IF(AP37=\"\",\"\",INDEX(referentes!V:W,MATCH(AP37,referentes!$W:$W,0),1))","v":""}]
[null,0,"",null,null,"",null,null,{"$f":"IF(J38=\"\",\"\",INDEX('Otras referencias'!$V:$W,MATCH(J38,'Otras referencias'!$W:$W,0),1))","v":""},null,null,null,null,null,null,null,null,null,null,null,null,33,null,null,null,null,null,null,null,null,null,null,null,null,null,null,0,null,null,null,null,null,null,null,null,null,null,null,"",{"$f":"IF(C38=\"\",\"\",IF(COUNTIF($C$6:C38, C38)>1, \"\", C38))","v":""},{"$f":"IF(L38=\"\",\"\",INDEX(referentes!$J:$K,MATCH(L38,referentes!$K:$K,0),1))","v":""},{"$f":"IF(N38=\"\",\"\",INDEX(referentes!$A:$B,MATCH(N38,referentes!$B:$B,0),1))","v":""},{"$f":"IF(R38=\"\",\"\",INDEX(referentes!$D:$E,MATCH(R38,referentes!$E:$E,0),1))","v":""},{"$f":"IF(S38=\"\",\"\",INDEX(referentes!$G:$H,MATCH(S38,referentes!$H:$H,0),1))","v":""},"",{"$f":"IF(Z38=\"\",\"\",INDEX(referentes!$M:$N,MATCH(Z38,referentes!$N:$N,0),1))","v":""},{"$f":"IF(AT38=\"\",\"\",INDEX('Otras referencias'!AA:AB,MATCH(AT38,'Otras referencias'!AB:AB,0),1))","v":""},{"$f":"IF(AO38=\"\",\"\",INDEX(referentes!S:T,MATCH(AO38,referentes!$T:$T,0),1))","v":""},{"$f":"IF(AP38=\"\",\"\",INDEX(referentes!V:W,MATCH(AP38,referentes!$W:$W,0),1))","v":""}]
[null,{"$f":"IF(BC39=BC38,B38,B38+1)","v":0},"",null,null,"",null,null,{"$f":"IF(J39=\"\",\"\",INDEX('Otras referencias'!$V:$W,MATCH(J39,'Otras referencias'!$W:$W,0),1))","v":""},null,null,null,null,null,null,null,null,null,null,null,null,34,null,null,null,null,null,null,null,null,null,null,null,null,null,null,0,null,null,null,null,null,null,null,null,null,null,null,"",{"$f":"IF(C39=\"\",\"\",IF(COUNTIF($C$6:C39, C39)>1, \"\", C39))","v":""},{"$f":"IF(L39=\"\",\"\",INDEX(referentes!$J:$K,MATCH(L39,referentes!$K:$K,0),1))","v":""},{"$f":"IF(N39=\"\",\"\",INDEX(referentes!$A:$B,MATCH(N39,referentes!$B:$B,0),1))","v":""},{"$f":"IF(R39=\"\",\"\",INDEX(referentes!$D:$E,MATCH(R39,referentes!$E:$E,0),1))","v":""},{"$f":"IF(S39=\"\",\"\",INDEX(referentes!$G:$H,MATCH(S39,referentes!$H:$H,0),1))","v":""},"",{"$f":"IF(Z39=\"\",\"\",INDEX(referentes!$M:$N,MATCH(Z39,referentes!$N:$N,0),1))","v":""},{"$f":"IF(AT39=\"\",\"\",INDEX('Otras referencias'!AA:AB,MATCH(AT39,'Otras referencias'!AB:AB,0),1))","v":""},{"$f":"IF(AO39=\"\",\"\",INDEX(referentes!S:T,MATCH(AO39,referentes!$T:$T,0),1))","v":""},{"$f":"IF(AP39=\"\",\"\",INDEX(referentes!V:W,MATCH(AP39,referentes!$W:$W,0),1))","v":""}]
[null,0,"",null,null,"",null,null,{"$f":"IF(J40=\"\",\"\",INDEX('Otras referencias'!$V:$W,MATCH(J40,'Otras referencias'!$W:$W,0),1))","v":""},null,null,null,null,null,null,null,null,null,null,null,null,35,null,null,null,null,null,null,null,null,null,null,null,null,null,null,0,null,null,null,null,null,null,null,null,null,null,null,"",{"$f":"IF(C40=\"\",\"\",IF(COUNTIF($C$6:C40, C40)>1, \"\", C40))","v":""},{"$f":"IF(L40=\"\",\"\",INDEX(referentes!$J:$K,MATCH(L40,referentes!$K:$K,0),1))","v":""},{"$f":"IF(N40=\"\",\"\",INDEX(referentes!$A:$B,MATCH(N40,referentes!$B:$B,0),1))","v":""},{"$f":"IF(R40=\"\",\"\",INDEX(referentes!$D:$E,MATCH(R40,referentes!$E:$E,0),1))","v":""},{"$f":"IF(S40=\"\",\"\",INDEX(referentes!$G:$H,MATCH(S40,referentes!$H:$H,0),1))","v":""},"",{"$f":"IF(Z40=\"\",\"\",INDEX(referentes!$M:$N,MATCH(Z40,referentes!$N:$N,0),1))","v":""},{"$f":"IF(AT40=\"\",\"\",INDEX('Otras referencias'!AA:AB,MATCH(AT40,'Otras referencias'!AB:AB,0),1))","v":""},{"$f":"IF(AO40=\"\",\"\",INDEX(referentes!S:T,MATCH(AO40,referentes!$T:$T,0),1))","v":""},{"$f":"IF(AP40=\"\",\"\",INDEX(referentes!V:W,MATCH(AP40,referentes!$W:$W,0),1))","v":""}]
[null,0,"",null,null,"",null,null,{"$f":"IF(J41=\"\",\"\",INDEX('Otras referencias'!$V:$W,MATCH(J41,'Otras referencias'!$W:$W,0),1))","v":""},null,null,null,null,null,null,null,null,null,null,null,null,36,null,null,null,null,null,null,null,null,null,null,null,null,null,null,0,null,null,null,null,null,null,null,null,null,null,null,"",{"$f":"IF(C41=\"\",\"\",IF(COUNTIF($C$6:C41, C41)>1, \"\", C41))","v":""},{"$f":"IF(L41=\"\",\"\",INDEX(referentes!$J:$K,MATCH(L41,referentes!$K:$K,0),1))","v":""},{"$f":"IF(N41=\"\",\"\",INDEX(referentes!$A:$B,MATCH(N41,referentes!$B:$B,0),1))","v":""},{"$f":"IF(R41=\"\",\"\",INDEX(referentes!$D:$E,MATCH(R41,referentes!$E:$E,0),1))","v":""},{"$f":"IF(S41=\"\",\"\",INDEX(referentes!$G:$H,MATCH(S41,referentes!$H:$H,0),1))","v":""},"",{"$f":"IF(Z41=\"\",\"\",INDEX(referentes!$M:$N,MATCH(Z41,referentes!$N:$N,0),1))","v":""},{"$f":"IF(AT41=\"\",\"\",INDEX('Otras referencias'!AA:AB,MATCH(AT41,'Otras referencias'!AB:AB,0),1))","v":""},{"$f":"IF(AO41=\"\",\"\",INDEX(referentes!S:T,MATCH(AO41,referentes!$T:$T,0),1))","v":""},{"$f":"IF(AP41=\"\",\"\",INDEX(referentes!V:W,MATCH(AP41,referentes!$W:$W,0),1))","v":""}]
[null,0,"",null,null,"",null,null,{"$f":"IF(J42=\"\",\"\",INDEX('Otras referencias'!$V:$W,MATCH(J42,'Otras referencias'!$W:$W,0),1))","v":""},null,null,null,null,null,null,null,null,null,null,null,null,37,null,null,null,null,null,null,null,null,null,null,null,null,null,null,0,null,null,null,null,null,null,null,null,null,null,null,"",{"$f":"IF(C42=\"\",\"\",IF(COUNTIF($C$6:C42, C42)>1, \"\", C42))","v":""},{"$f":"IF(L42=\"\",\"\",INDEX(referentes!$J:$K,MATCH(L42,referentes!$K:$K,0),1))","v":""},{"$f":"IF(N42=\"\",\"\",INDEX(referentes!$A:$B,MATCH(N42,referentes!$B:$B,0),1))","v":""},{"$f":"IF(R42=\"\",\"\",INDEX(referentes!$D:$E,MATCH(R42,referentes!$E:$E,0),1))","v":""},{"$f":"IF(S42=\"\",\"\",INDEX(referentes!$G:$H,MATCH(S42,referentes!$H:$H,0),1))","v":""},"",{"$f":"IF(Z42=\"\",\"\",INDEX(referentes!$M:$N,MATCH(Z42,referentes!$N:$N,0),1))","v":""},{"$f":"IF(AT42=\"\",\"\",INDEX('Otras referencias'!AA:AB,MATCH(AT42,'Otras referencias'!AB:AB,0),1))","v":""},{"$f":"IF(AO42=\"\",\"\",INDEX(referentes!S:T,MATCH(AO42,referentes!$T:$T,0),1))","v":""},{"$f":"IF(AP42=\"\",\"\",INDEX(referentes!V:W,MATCH(AP42,referentes!$W:$W,0),1))","v":""}]
[null,0,"",null,null,"",null,null,{"$f":"IF(J43=\"\",\"\",INDEX('Otras referencias'!$V:$W,MATCH(J43,'Otras referencias'!$W:$W,0),1))","v":""},null,null,null,null,null,null,null,null,null,null,null,null,38,null,null,null,null,null,null,null,null,null,null,null,null,null,null,0,null,null,null,null,null,null,null,null,null,null,null,"",{"$f":"IF(C43=\"\",\"\",IF(COUNTIF($C$6:C43, C43)>1, \"\", C43))","v":""},{"$f":"IF(L43=\"\",\"\",INDEX(referentes!$J:$K,MATCH(L43,referentes!$K:$K,0),1))","v":""},{"$f":"IF(N43=\"\",\"\",INDEX(referentes!$A:$B,MATCH(N43,referentes!$B:$B,0),1))","v":""},{"$f":"IF(R43=\"\",\"\",INDEX(referentes!$D:$E,MATCH(R43,referentes!$E:$E,0),1))","v":""},{"$f":"IF(S43=\"\",\"\",INDEX(referentes!$G:$H,MATCH(S43,referentes!$H:$H,0),1))","v":""},"",{"$f":"IF(Z43=\"\",\"\",INDEX(referentes!$M:$N,MATCH(Z43,referentes!$N:$N,0),1))","v":""},{"$f":"IF(AT43=\"\",\"\",INDEX('Otras referencias'!AA:AB,MATCH(AT43,'Otras referencias'!AB:AB,0),1))","v":""},{"$f":"IF(AO43=\"\",\"\",INDEX(referentes!S:T,MATCH(AO43,referentes!$T:$T,0),1))","v":""},{"$f":"IF(AP43=\"\",\"\",INDEX(referentes!V:W,MATCH(AP43,referentes!$W:$W,0),1))","v":""}]
[null,0,"",null,null,"",null,null,{"$f":"IF(J44=\"\",\"\",INDEX('Otras referencias'!$V:$W,MATCH(J44,'Otras referencias'!$W:$W,0),1))","v":""},null,null,null,null,null,null,null,null,null,null,null,null,39,null,null,null,null,null,null,null,null,null,null,null,null,null,null,0,null,null,null,null,null,null,null,null,null,null,null,"",{"$f":"IF(C44=\"\",\"\",IF(COUNTIF($C$6:C44, C44)>1, \"\", C44))","v":""},{"$f":"IF(L44=\"\",\"\",INDEX(referentes!$J:$K,MATCH(L44,referentes!$K:$K,0),1))","v":""},{"$f":"IF(N44=\"\",\"\",INDEX(referentes!$A:$B,MATCH(N44,referentes!$B:$B,0),1))","v":""},{"$f":"IF(R44=\"\",\"\",INDEX(referentes!$D:$E,MATCH(R44,referentes!$E:$E,0),1))","v":""},{"$f":"IF(S44=\"\",\"\",INDEX(referentes!$G:$H,MATCH(S44,referentes!$H:$H,0),1))","v":""},"",{"$f":"IF(Z44=\"\",\"\",INDEX(referentes!$M:$N,MATCH(Z44,referentes!$N:$N,0),1))","v":""},{"$f":"IF(AT44=\"\",\"\",INDEX('Otras referencias'!AA:AB,MATCH(AT44,'Otras referencias'!AB:AB,0),1))","v":""},{"$f":"IF(AO44=\"\",\"\",INDEX(referentes!S:T,MATCH(AO44,referentes!$T:$T,0),1))","v":""},{"$f":"IF(AP44=\"\",\"\",INDEX(referentes!V:W,MATCH(AP44,referentes!$W:$W,0),1))","v":""}]
[null,0,"",null,null,"",null,null,{"$f":"IF(J45=\"\",\"\",INDEX('Otras referencias'!$V:$W,MATCH(J45,'Otras referencias'!$W:$W,0),1))","v":""},null,null,null,null,null,null,null,null,null,null,null,null,40,null,null,null,null,null,null,null,null,null,null,null,null,null,null,0,null,null,null,null,null,null,null,null,null,null,null,"",{"$f":"IF(C45=\"\",\"\",IF(COUNTIF($C$6:C45, C45)>1, \"\", C45))","v":""},{"$f":"IF(L45=\"\",\"\",INDEX(referentes!$J:$K,MATCH(L45,referentes!$K:$K,0),1))","v":""},{"$f":"IF(N45=\"\",\"\",INDEX(referentes!$A:$B,MATCH(N45,referentes!$B:$B,0),1))","v":""},{"$f":"IF(R45=\"\",\"\",INDEX(referentes!$D:$E,MATCH(R45,referentes!$E:$E,0),1))","v":""},{"$f":"IF(S45=\"\",\"\",INDEX(referentes!$G:$H,MATCH(S45,referentes!$H:$H,0),1))","v":""},"",{"$f":"IF(Z45=\"\",\"\",INDEX(referentes!$M:$N,MATCH(Z45,referentes!$N:$N,0),1))","v":""},{"$f":"IF(AT45=\"\",\"\",INDEX('Otras referencias'!AA:AB,MATCH(AT45,'Otras referencias'!AB:AB,0),1))","v":""},{"$f":"IF(AO45=\"\",\"\",INDEX(referentes!S:T,MATCH(AO45,referentes!$T:$T,0),1))","v":""},{"$f":"IF(AP45=\"\",\"\",INDEX(referentes!V:W,MATCH(AP45,referentes!$W:$W,0),1))","v":""}]
[null,0,"",null,null,"",null,null,{"$f":"IF(J46=\"\",\"\",INDEX('Otras referencias'!$V:$W,MATCH(J46,'Otras referencias'!$W:$W,0),1))","v":""},null,null,null,null,null,null,null,null,null,null,null,null,41,null,null,null,null,null,null,null,null,null,null,null,null,null,null,0,null,null,null,null,null,null,null,null,null,null,null,"",{"$f":"IF(C46=\"\",\"\",IF(COUNTIF($C$6:C46, C46)>1, \"\", C46))","v":""},{"$f":"IF(L46=\"\",\"\",INDEX(referentes!$J:$K,MATCH(L46,referentes!$K:$K,0),1))","v":""},{"$f":"IF(N46=\"\",\"\",INDEX(referentes!$A:$B,MATCH(N46,referentes!$B:$B,0),1))","v":""},{"$f":"IF(R46=\"\",\"\",INDEX(referentes!$D:$E,MATCH(R46,referentes!$E:$E,0),1))","v":""},{"$f":"IF(S46=\"\",\"\",INDEX(referentes!$G:$H,MATCH(S46,referentes!$H:$H,0),1))","v":""},"",{"$f":"IF(Z46=\"\",\"\",INDEX(referentes!$M:$N,MATCH(Z46,referentes!$N:$N,0),1))","v":""},{"$f":"IF(AT46=\"\",\"\",INDEX('Otras referencias'!AA:AB,MATCH(AT46,'Otras referencias'!AB:AB,0),1))","v":""},{"$f":"IF(AO46=\"\",\"\",INDEX(referentes!S:T,MATCH(AO46,referentes!$T:$T,0),1))","v":""},{"$f":"IF(AP46=\"\",\"\",INDEX(referentes!V:W,MATCH(AP46,referentes!$W:$W,0),1))","v":""}]
[null,0,"",null,null,"",null,null,{"$f":"IF(J47=\"\",\"\",INDEX('Otras referencias'!$V:$W,MATCH(J47,'Otras referencias'!$W:$W,0),1))","v":""},null,null,null,null,null,null,null,null,null,null,null,null,42,null,null,null,null,null,null,null,null,null,null,null,null,null,null,0,null,null,null,null,null,null,null,null,null,null,null,"",{"$f":"IF(C47=\"\",\"\",IF(COUNTIF($C$6:C47, C47)>1, \"\", C47))","v":""},{"$f":"IF(L47=\"\",\"\",INDEX(referentes!$J:$K,MATCH(L47,referentes!$K:$K,0),1))","v":""},{"$f":"IF(N47=\"\",\"\",INDEX(referentes!$A:$B,MATCH(N47,referentes!$B:$B,0),1))","v":""},{"$f":"IF(R47=\"\",\"\",INDEX(referentes!$D:$E,MATCH(R47,referentes!$E:$E,0),1))","v":""},{"$f":"IF(S47=\"\",\"\",INDEX(referentes!$G:$H,MATCH(S47,referentes!$H:$H,0),1))","v":""},"",{"$f":"IF(Z47=\"\",\"\",INDEX(referentes!$M:$N,MATCH(Z47,referentes!$N:$N,0),1))","v":""},{"$f":"IF(AT47=\"\",\"\",INDEX('Otras referencias'!AA:AB,MATCH(AT47,'Otras referencias'!AB:AB,0),1))","v":""},{"$f":"IF(AO47=\"\",\"\",INDEX(referentes!S:T,MATCH(AO47,referentes!$T:$T,0),1))","v":""},{"$f":"IF(AP47=\"\",\"\",INDEX(referentes!V:W,MATCH(AP47,referentes!$W:$W,0),1))","v":""}]
[null,0,"",null,null,"",null,null,{"$f":"IF(J48=\"\",\"\",INDEX('Otras referencias'!$V:$W,MATCH(J48,'Otras referencias'!$W:$W,0),1))","v":""},null,null,null,null,null,null,null,null,null,null,null,null,43,null,null,null,null,null,null,null,null,null,null,null,null,null,null,0,null,null,null,null,null,null,null,null,null,null,null,"",{"$f":"IF(C48=\"\",\"\",IF(COUNTIF($C$6:C48, C48)>1, \"\", C48))","v":""},{"$f":"IF(L48=\"\",\"\",INDEX(referentes!$J:$K,MATCH(L48,referentes!$K:$K,0),1))","v":""},{"$f":"IF(N48=\"\",\"\",INDEX(referentes!$A:$B,MATCH(N48,referentes!$B:$B,0),1))","v":""},{"$f":"IF(R48=\"\",\"\",INDEX(referentes!$D:$E,MATCH(R48,referentes!$E:$E,0),1))","v":""},{"$f":"IF(S48=\"\",\"\",INDEX(referentes!$G:$H,MATCH(S48,referentes!$H:$H,0),1))","v":""},"",{"$f":"IF(Z48=\"\",\"\",INDEX(referentes!$M:$N,MATCH(Z48,referentes!$N:$N,0),1))","v":""},{"$f":"IF(AT48=\"\",\"\",INDEX('Otras referencias'!AA:AB,MATCH(AT48,'Otras referencias'!AB:AB,0),1))","v":""},{"$f":"IF(AO48=\"\",\"\",INDEX(referentes!S:T,MATCH(AO48,referentes!$T:$T,0),1))","v":""},{"$f":"IF(AP48=\"\",\"\",INDEX(referentes!V:W,MATCH(AP48,referentes!$W:$W,0),1))","v":""}]
[null,0,"",null,null,"",null,null,{"$f":"IF(J49=\"\",\"\",INDEX('Otras referencias'!$V:$W,MATCH(J49,'Otras referencias'!$W:$W,0),1))","v":""},null,null,null,null,null,null,null,null,null,null,null,null,44,null,null,null,null,null,null,null,null,null,null,null,null,null,null,0,null,null,null,null,null,null,null,null,null,null,null,"",{"$f":"IF(C49=\"\",\"\",IF(COUNTIF($C$6:C49, C49)>1, \"\", C49))","v":""},{"$f":"IF(L49=\"\",\"\",INDEX(referentes!$J:$K,MATCH(L49,referentes!$K:$K,0),1))","v":""},{"$f":"IF(N49=\"\",\"\",INDEX(referentes!$A:$B,MATCH(N49,referentes!$B:$B,0),1))","v":""},{"$f":"IF(R49=\"\",\"\",INDEX(referentes!$D:$E,MATCH(R49,referentes!$E:$E,0),1))","v":""},{"$f":"IF(S49=\"\",\"\",INDEX(referentes!$G:$H,MATCH(S49,referentes!$H:$H,0),1))","v":""},"",{"$f":"IF(Z49=\"\",\"\",INDEX(referentes!$M:$N,MATCH(Z49,referentes!$N:$N,0),1))","v":""},{"$f":"IF(AT49=\"\",\"\",INDEX('Otras referencias'!AA:AB,MATCH(AT49,'Otras referencias'!AB:AB,0),1))","v":""},{"$f":"IF(AO49=\"\",\"\",INDEX(referentes!S:T,MATCH(AO49,referentes!$T:$T,0),1))","v":""},{"$f":"IF(AP49=\"\",\"\",INDEX(referentes!V:W,MATCH(AP49,referentes!$W:$W,0),1))","v":""}]
[null,0,"",null,null,"",null,null,{"$f":"IF(J50=\"\",\"\",INDEX('Otras referencias'!$V:$W,MATCH(J50,'Otras referencias'!$W:$W,0),1))","v":""},null,null,null,null,null,null,null,null,null,null,null,null,45,null,null,null,null,null,null,null,null,null,null,null,null,null,null,0,null,null,null,null,null,null,null,null,null,null,null,"",{"$f":"IF(C50=\"\",\"\",IF(COUNTIF($C$6:C50, C50)>1, \"\", C50))","v":""},{"$f":"IF(L50=\"\",\"\",INDEX(referentes!$J:$K,MATCH(L50,referentes!$K:$K,0),1))","v":""},{"$f":"IF(N50=\"\",\"\",INDEX(referentes!$A:$B,MATCH(N50,referentes!$B:$B,0),1))","v":""},{"$f":"IF(R50=\"\",\"\",INDEX(referentes!$D:$E,MATCH(R50,referentes!$E:$E,0),1))","v":""},{"$f":"IF(S50=\"\",\"\",INDEX(referentes!$G:$H,MATCH(S50,referentes!$H:$H,0),1))","v":""},"",{"$f":"IF(Z50=\"\",\"\",INDEX(referentes!$M:$N,MATCH(Z50,referentes!$N:$N,0),1))","v":""},{"$f":"IF(AT50=\"\",\"\",INDEX('Otras referencias'!AA:AB,MATCH(AT50,'Otras referencias'!AB:AB,0),1))","v":""},{"$f":"IF(AO50=\"\",\"\",INDEX(referentes!S:T,MATCH(AO50,referentes!$T:$T,0),1))","v":""},{"$f":"IF(AP50=\"\",\"\",INDEX(referentes!V:W,MATCH(AP50,referentes!$W:$W,0),1))","v":""}]
[null,0,"",null,null,"",null,null,{"$f":"IF(J51=\"\",\"\",INDEX('Otras referencias'!$V:$W,MATCH(J51,'Otras referencias'!$W:$W,0),1))","v":""},null,null,null,null,null,null,null,null,null,null,null,null,46,null,null,null,null,null,null,null,null,null,null,null,null,null,null,0,null,null,null,null,null,null,null,null,null,null,null,"",{"$f":"IF(C51=\"\",\"\",IF(COUNTIF($C$6:C51, C51)>1, \"\", C51))","v":""},{"$f":"IF(L51=\"\",\"\",INDEX(referentes!$J:$K,MATCH(L51,referentes!$K:$K,0),1))","v":""},{"$f":"IF(N51=\"\",\"\",INDEX(referentes!$A:$B,MATCH(N51,referentes!$B:$B,0),1))","v":""},{"$f":"IF(R51=\"\",\"\",INDEX(referentes!$D:$E,MATCH(R51,referentes!$E:$E,0),1))","v":""},{"$f":"IF(S51=\"\",\"\",INDEX(referentes!$G:$H,MATCH(S51,referentes!$H:$H,0),1))","v":""},"",{"$f":"IF(Z51=\"\",\"\",INDEX(referentes!$M:$N,MATCH(Z51,referentes!$N:$N,0),1))","v":""},{"$f":"IF(AT51=\"\",\"\",INDEX('Otras referencias'!AA:AB,MATCH(AT51,'Otras referencias'!AB:AB,0),1))","v":""},{"$f":"IF(AO51=\"\",\"\",INDEX(referentes!S:T,MATCH(AO51,referentes!$T:$T,0),1))","v":""},{"$f":"IF(AP51=\"\",\"\",INDEX(referentes!V:W,MATCH(AP51,referentes!$W:$W,0),1))","v":""}]
[null,0,"",null,null,"",null,null,{"$f":"IF(J52=\"\",\"\",INDEX('Otras referencias'!$V:$W,MATCH(J52,'Otras referencias'!$W:$W,0),1))","v":""},null,null,null,null,null,null,null,null,null,null,null,null,47,null,null,null,null,null,null,null,null,null,null,null,null,null,null,0,null,null,null,null,null,null,null,null,null,null,null,"",{"$f":"IF(C52=\"\",\"\",IF(COUNTIF($C$6:C52, C52)>1, \"\", C52))","v":""},{"$f":"IF(L52=\"\",\"\",INDEX(referentes!$J:$K,MATCH(L52,referentes!$K:$K,0),1))","v":""},{"$f":"IF(N52=\"\",\"\",INDEX(referentes!$A:$B,MATCH(N52,referentes!$B:$B,0),1))","v":""},{"$f":"IF(R52=\"\",\"\",INDEX(referentes!$D:$E,MATCH(R52,referentes!$E:$E,0),1))","v":""},{"$f":"IF(S52=\"\",\"\",INDEX(referentes!$G:$H,MATCH(S52,referentes!$H:$H,0),1))","v":""},"",{"$f":"IF(Z52=\"\",\"\",INDEX(referentes!$M:$N,MATCH(Z52,referentes!$N:$N,0),1))","v":""},{"$f":"IF(AT52=\"\",\"\",INDEX('Otras referencias'!AA:AB,MATCH(AT52,'Otras referencias'!AB:AB,0),1))","v":""},{"$f":"IF(AO52=\"\",\"\",INDEX(referentes!S:T,MATCH(AO52,referentes!$T:$T,0),1))","v":""},{"$f":"IF(AP52=\"\",\"\",INDEX(referentes!V:W,MATCH(AP52,referentes!$W:$W,0),1))","v":""}]
[null,0,"",null,null,"",null,null,{"$f":"IF(J53=\"\",\"\",INDEX('Otras referencias'!$V:$W,MATCH(J53,'Otras referencias'!$W:$W,0),1))","v":""},null,null,null,null,null,null,null,null,null,null,null,null,48,null,null,null,null,null,null,null,null,null,null,null,null,null,null,0,null,null,null,null,null,null,null,null,null,null,null,"",{"$f":"IF(C53=\"\",\"\",IF(COUNTIF($C$6:C53, C53)>1, \"\", C53))","v":""},{"$f":"IF(L53=\"\",\"\",INDEX(referentes!$J:$K,MATCH(L53,referentes!$K:$K,0),1))","v":""},{"$f":"IF(N53=\"\",\"\",INDEX(referentes!$A:$B,MATCH(N53,referentes!$B:$B,0),1))","v":""},{"$f":"IF(R53=\"\",\"\",INDEX(referentes!$D:$E,MATCH(R53,referentes!$E:$E,0),1))","v":""},{"$f":"IF(S53=\"\",\"\",INDEX(referentes!$G:$H,MATCH(S53,referentes!$H:$H,0),1))","v":""},"",{"$f":"IF(Z53=\"\",\"\",INDEX(referentes!$M:$N,MATCH(Z53,referentes!$N:$N,0),1))","v":""},{"$f":"IF(AT53=\"\",\"\",INDEX('Otras referencias'!AA:AB,MATCH(AT53,'Otras referencias'!AB:AB,0),1))","v":""},{"$f":"IF(AO53=\"\",\"\",INDEX(referentes!S:T,MATCH(AO53,referentes!$T:$T,0),1))","v":""},{"$f":"IF(AP53=\"\",\"\",INDEX(referentes!V:W,MATCH(AP53,referentes!$W:$W,0),1))","v":""}]
[null,0,"",null,null,"",null,null,{"$f":"IF(J54=\"\",\"\",INDEX('Otras referencias'!$V:$W,MATCH(J54,'Otras referencias'!$W:$W,0),1))","v":""},null,null,null,null,null,null,null,null,null,null,null,null,49,null,null,null,null,null,null,null,null,null,null,null,null,null,null,0,null,null,null,null,null,null,null,null,null,null,null,"",{"$f":"IF(C54=\"\",\"\",IF(COUNTIF($C$6:C54, C54)>1, \"\", C54))","v":""},{"$f":"IF(L54=\"\",\"\",INDEX(referentes!$J:$K,MATCH(L54,referentes!$K:$K,0),1))","v":""},{"$f":"IF(N54=\"\",\"\",INDEX(referentes!$A:$B,MATCH(N54,referentes!$B:$B,0),1))","v":""},{"$f":"IF(R54=\"\",\"\",INDEX(referentes!$D:$E,MATCH(R54,referentes!$E:$E,0),1))","v":""},{"$f":"IF(S54=\"\",\"\",INDEX(referentes!$G:$H,MATCH(S54,referentes!$H:$H,0),1))","v":""},"",{"$f":"IF(Z54=\"\",\"\",INDEX(referentes!$M:$N,MATCH(Z54,referentes!$N:$N,0),1))","v":""},{"$f":"IF(AT54=\"\",\"\",INDEX('Otras referencias'!AA:AB,MATCH(AT54,'Otras referencias'!AB:AB,0),1))","v":""},{"$f":"IF(AO54=\"\",\"\",INDEX(referentes!S:T,MATCH(AO54,referentes!$T:$T,0),1))","v":""},{"$f":"IF(AP54=\"\",\"\",INDEX(referentes!V:W,MATCH(AP54,referentes!$W:$W,0),1))","v":""}]
[null,0,"",null,null,"",null,null,{"$f":"IF(J55=\"\",\"\",INDEX('Otras referencias'!$V:$W,MATCH(J55,'Otras referencias'!$W:$W,0),1))","v":""},null,null,null,null,null,null,null,null,null,null,null,null,50,null,null,null,null,null,null,null,null,null,null,null,null,null,null,0,null,null,null,null,null,null,null,null,null,null,null,"",{"$f":"IF(C55=\"\",\"\",IF(COUNTIF($C$6:C55, C55)>1, \"\", C55))","v":""},{"$f":"IF(L55=\"\",\"\",INDEX(referentes!$J:$K,MATCH(L55,referentes!$K:$K,0),1))","v":""},{"$f":"IF(N55=\"\",\"\",INDEX(referentes!$A:$B,MATCH(N55,referentes!$B:$B,0),1))","v":""},{"$f":"IF(R55=\"\",\"\",INDEX(referentes!$D:$E,MATCH(R55,referentes!$E:$E,0),1))","v":""},{"$f":"IF(S55=\"\",\"\",INDEX(referentes!$G:$H,MATCH(S55,referentes!$H:$H,0),1))","v":""},"",{"$f":"IF(Z55=\"\",\"\",INDEX(referentes!$M:$N,MATCH(Z55,referentes!$N:$N,0),1))","v":""},{"$f":"IF(AT55=\"\",\"\",INDEX('Otras referencias'!AA:AB,MATCH(AT55,'Otras referencias'!AB:AB,0),1))","v":""},{"$f":"IF(AO55=\"\",\"\",INDEX(referentes!S:T,MATCH(AO55,referentes!$T:$T,0),1))","v":""},{"$f":"IF(AP55=\"\",\"\",INDEX(referentes!V:W,MATCH(AP55,referentes!$W:$W,0),1))","v":""}]
[null,0,"",null,null,"",null,null,{"$f":"IF(J56=\"\",\"\",INDEX('Otras referencias'!$V:$W,MATCH(J56,'Otras referencias'!$W:$W,0),1))","v":""},null,null,null,null,null,null,null,null,null,null,null,null,51,null,null,null,null,null,null,null,null,null,null,null,null,null,null,0,null,null,null,null,null,null,null,null,null,null,null,"",{"$f":"IF(C56=\"\",\"\",IF(COUNTIF($C$6:C56, C56)>1, \"\", C56))","v":""},{"$f":"IF(L56=\"\",\"\",INDEX(referentes!$J:$K,MATCH(L56,referentes!$K:$K,0),1))","v":""},{"$f":"IF(N56=\"\",\"\",INDEX(referentes!$A:$B,MATCH(N56,referentes!$B:$B,0),1))","v":""},{"$f":"IF(R56=\"\",\"\",INDEX(referentes!$D:$E,MATCH(R56,referentes!$E:$E,0),1))","v":""},{"$f":"IF(S56=\"\",\"\",INDEX(referentes!$G:$H,MATCH(S56,referentes!$H:$H,0),1))","v":""},"",{"$f":"IF(Z56=\"\",\"\",INDEX(referentes!$M:$N,MATCH(Z56,referentes!$N:$N,0),1))","v":""},{"$f":"IF(AT56=\"\",\"\",INDEX('Otras referencias'!AA:AB,MATCH(AT56,'Otras referencias'!AB:AB,0),1))","v":""},{"$f":"IF(AO56=\"\",\"\",INDEX(referentes!S:T,MATCH(AO56,referentes!$T:$T,0),1))","v":""},{"$f":"IF(AP56=\"\",\"\",INDEX(referentes!V:W,MATCH(AP56,referentes!$W:$W,0),1))","v":""}]
[null,0,"",null,null,"",null,null,{"$f":"IF(J57=\"\",\"\",INDEX('Otras referencias'!$V:$W,MATCH(J57,'Otras referencias'!$W:$W,0),1))","v":""},null,null,null,null,null,null,null,null,null,null,null,null,52,null,null,null,null,null,null,null,null,null,null,null,null,null,null,0,null,null,null,null,null,null,null,null,null,null,null,"",{"$f":"IF(C57=\"\",\"\",IF(COUNTIF($C$6:C57, C57)>1, \"\", C57))","v":""},{"$f":"IF(L57=\"\",\"\",INDEX(referentes!$J:$K,MATCH(L57,referentes!$K:$K,0),1))","v":""},{"$f":"IF(N57=\"\",\"\",INDEX(referentes!$A:$B,MATCH(N57,referentes!$B:$B,0),1))","v":""},{"$f":"IF(R57=\"\",\"\",INDEX(referentes!$D:$E,MATCH(R57,referentes!$E:$E,0),1))","v":""},{"$f":"IF(S57=\"\",\"\",INDEX(referentes!$G:$H,MATCH(S57,referentes!$H:$H,0),1))","v":""},"",{"$f":"IF(Z57=\"\",\"\",INDEX(referentes!$M:$N,MATCH(Z57,referentes!$N:$N,0),1))","v":""},{"$f":"IF(AT57=\"\",\"\",INDEX('Otras referencias'!AA:AB,MATCH(AT57,'Otras referencias'!AB:AB,0),1))","v":""},{"$f":"IF(AO57=\"\",\"\",INDEX(referentes!S:T,MATCH(AO57,referentes!$T:$T,0),1))","v":""},{"$f":"IF(AP57=\"\",\"\",INDEX(referentes!V:W,MATCH(AP57,referentes!$W:$W,0),1))","v":""}]
[null,0,"",null,null,"",null,null,{"$f":"IF(J58=\"\",\"\",INDEX('Otras referencias'!$V:$W,MATCH(J58,'Otras referencias'!$W:$W,0),1))","v":""},null,null,null,null,null,null,null,null,null,null,null,null,53,null,null,null,null,null,null,null,null,null,null,null,null,null,null,0,null,null,null,null,null,null,null,null,null,null,null,"",{"$f":"IF(C58=\"\",\"\",IF(COUNTIF($C$6:C58, C58)>1, \"\", C58))","v":""},{"$f":"IF(L58=\"\",\"\",INDEX(referentes!$J:$K,MATCH(L58,referentes!$K:$K,0),1))","v":""},{"$f":"IF(N58=\"\",\"\",INDEX(referentes!$A:$B,MATCH(N58,referentes!$B:$B,0),1))","v":""},{"$f":"IF(R58=\"\",\"\",INDEX(referentes!$D:$E,MATCH(R58,referentes!$E:$E,0),1))","v":""},{"$f":"IF(S58=\"\",\"\",INDEX(referentes!$G:$H,MATCH(S58,referentes!$H:$H,0),1))","v":""},"",{"$f":"IF(Z58=\"\",\"\",INDEX(referentes!$M:$N,MATCH(Z58,referentes!$N:$N,0),1))","v":""},{"$f":"IF(AT58=\"\",\"\",INDEX('Otras referencias'!AA:AB,MATCH(AT58,'Otras referencias'!AB:AB,0),1))","v":""},{"$f":"IF(AO58=\"\",\"\",INDEX(referentes!S:T,MATCH(AO58,referentes!$T:$T,0),1))","v":""},{"$f":"IF(AP58=\"\",\"\",INDEX(referentes!V:W,MATCH(AP58,referentes!$W:$W,0),1))","v":""}]
[null,0,"",null,null,"",null,null,{"$f":"IF(J59=\"\",\"\",INDEX('Otras referencias'!$V:$W,MATCH(J59,'Otras referencias'!$W:$W,0),1))","v":""},null,null,null,null,null,null,null,null,null,null,null,null,54,null,null,null,null,null,null,null,null,null,null,null,null,null,null,0,null,null,null,null,null,null,null,null,null,null,null,"",{"$f":"IF(C59=\"\",\"\",IF(COUNTIF($C$6:C59, C59)>1, \"\", C59))","v":""},{"$f":"IF(L59=\"\",\"\",INDEX(referentes!$J:$K,MATCH(L59,referentes!$K:$K,0),1))","v":""},{"$f":"IF(N59=\"\",\"\",INDEX(referentes!$A:$B,MATCH(N59,referentes!$B:$B,0),1))","v":""},{"$f":"IF(R59=\"\",\"\",INDEX(referentes!$D:$E,MATCH(R59,referentes!$E:$E,0),1))","v":""},{"$f":"IF(S59=\"\",\"\",INDEX(referentes!$G:$H,MATCH(S59,referentes!$H:$H,0),1))","v":""},"",{"$f":"IF(Z59=\"\",\"\",INDEX(referentes!$M:$N,MATCH(Z59,referentes!$N:$N,0),1))","v":""},{"$f":"IF(AT59=\"\",\"\",INDEX('Otras referencias'!AA:AB,MATCH(AT59,'Otras referencias'!AB:AB,0),1))","v":""},{"$f":"IF(AO59=\"\",\"\",INDEX(referentes!S:T,MATCH(AO59,referentes!$T:$T,0),1))","v":""},{"$f":"IF(AP59=\"\",\"\",INDEX(referentes!V:W,MATCH(AP59,referentes!$W:$W,0),1))","v":""}]
[null,0,"",null,null,"",null,null,{"$f":"IF(J60=\"\",\"\",INDEX('Otras referencias'!$V:$W,MATCH(J60,'Otras referencias'!$W:$W,0),1))","v":""},null,null,null,null,null,null,null,null,null,null,null,null,55,null,null,null,null,null,null,null,null,null,null,null,null,null,null,0,null,null,null,null,null,null,null,null,null,null,null,"",{"$f":"IF(C60=\"\",\"\",IF(COUNTIF($C$6:C60, C60)>1, \"\", C60))","v":""},{"$f":"IF(L60=\"\",\"\",INDEX(referentes!$J:$K,MATCH(L60,referentes!$K:$K,0),1))","v":""},{"$f":"IF(N60=\"\",\"\",INDEX(referentes!$A:$B,MATCH(N60,referentes!$B:$B,0),1))","v":""},{"$f":"IF(R60=\"\",\"\",INDEX(referentes!$D:$E,MATCH(R60,referentes!$E:$E,0),1))","v":""},{"$f":"IF(S60=\"\",\"\",INDEX(referentes!$G:$H,MATCH(S60,referentes!$H:$H,0),1))","v":""},"",{"$f":"IF(Z60=\"\",\"\",INDEX(referentes!$M:$N,MATCH(Z60,referentes!$N:$N,0),1))","v":""},{"$f":"IF(AT60=\"\",\"\",INDEX('Otras referencias'!AA:AB,MATCH(AT60,'Otras referencias'!AB:AB,0),1))","v":""},{"$f":"IF(AO60=\"\",\"\",INDEX(referentes!S:T,MATCH(AO60,referentes!$T:$T,0),1))","v":""},{"$f":"IF(AP60=\"\",\"\",INDEX(referentes!V:W,MATCH(AP60,referentes!$W:$W,0),1))","v":""}]
[null,0,"",null,null,"",null,null,{"$f":"IF(J61=\"\",\"\",INDEX('Otras referencias'!$V:$W,MATCH(J61,'Otras referencias'!$W:$W,0),1))","v":""},null,null,null,null,null,null,null,null,null,null,null,null,56,null,null,null,null,null,null,null,null,null,null,null,null,null,null,0,null,null,null,null,null,null,null,null,null,null,null,"",{"$f":"IF(C61=\"\",\"\",IF(COUNTIF($C$6:C61, C61)>1, \"\", C61))","v":""},{"$f":"IF(L61=\"\",\"\",INDEX(referentes!$J:$K,MATCH(L61,referentes!$K:$K,0),1))","v":""},{"$f":"IF(N61=\"\",\"\",INDEX(referentes!$A:$B,MATCH(N61,referentes!$B:$B,0),1))","v":""},{"$f":"IF(R61=\"\",\"\",INDEX(referentes!$D:$E,MATCH(R61,referentes!$E:$E,0),1))","v":""},{"$f":"IF(S61=\"\",\"\",INDEX(referentes!$G:$H,MATCH(S61,referentes!$H:$H,0),1))","v":""},"",{"$f":"IF(Z61=\"\",\"\",INDEX(referentes!$M:$N,MATCH(Z61,referentes!$N:$N,0),1))","v":""},{"$f":"IF(AT61=\"\",\"\",INDEX('Otras referencias'!AA:AB,MATCH(AT61,'Otras referencias'!AB:AB,0),1))","v":""},{"$f":"IF(AO61=\"\",\"\",INDEX(referentes!S:T,MATCH(AO61,referentes!$T:$T,0),1))","v":""},{"$f":"IF(AP61=\"\",\"\",INDEX(referentes!V:W,MATCH(AP61,referentes!$W:$W,0),1))","v":""}]
[null,0,"",null,null,"",null,null,{"$f":"IF(J62=\"\",\"\",INDEX('Otras referencias'!$V:$W,MATCH(J62,'Otras referencias'!$W:$W,0),1))","v":""},null,null,null,null,null,null,null,null,null,null,null,null,57,null,null,null,null,null,null,null,null,null,null,null,null,null,null,0,null,null,null,null,null,null,null,null,null,null,null,"",{"$f":"IF(C62=\"\",\"\",IF(COUNTIF($C$6:C62, C62)>1, \"\", C62))","v":""},{"$f":"IF(L62=\"\",\"\",INDEX(referentes!$J:$K,MATCH(L62,referentes!$K:$K,0),1))","v":""},{"$f":"IF(N62=\"\",\"\",INDEX(referentes!$A:$B,MATCH(N62,referentes!$B:$B,0),1))","v":""},{"$f":"IF(R62=\"\",\"\",INDEX(referentes!$D:$E,MATCH(R62,referentes!$E:$E,0),1))","v":""},{"$f":"IF(S62=\"\",\"\",INDEX(referentes!$G:$H,MATCH(S62,referentes!$H:$H,0),1))","v":""},"",{"$f":"IF(Z62=\"\",\"\",INDEX(referentes!$M:$N,MATCH(Z62,referentes!$N:$N,0),1))","v":""},{"$f":"IF(AT62=\"\",\"\",INDEX('Otras referencias'!AA:AB,MATCH(AT62,'Otras referencias'!AB:AB,0),1))","v":""},{"$f":"IF(AO62=\"\",\"\",INDEX(referentes!S:T,MATCH(AO62,referentes!$T:$T,0),1))","v":""},{"$f":"IF(AP62=\"\",\"\",INDEX(referentes!V:W,MATCH(AP62,referentes!$W:$W,0),1))","v":""}]
[null,0,"",null,null,"",null,null,{"$f":"IF(J63=\"\",\"\",INDEX('Otras referencias'!$V:$W,MATCH(J63,'Otras referencias'!$W:$W,0),1))","v":""},null,null,null,null,null,null,null,null,null,null,null,null,58,null,null,null,null,null,null,null,null,null,null,null,null,null,null,0,null,null,null,null,null,null,null,null,null,null,null,"",{"$f":"IF(C63=\"\",\"\",IF(COUNTIF($C$6:C63, C63)>1, \"\", C63))","v":""},{"$f":"IF(L63=\"\",\"\",INDEX(referentes!$J:$K,MATCH(L63,referentes!$K:$K,0),1))","v":""},{"$f":"IF(N63=\"\",\"\",INDEX(referentes!$A:$B,MATCH(N63,referentes!$B:$B,0),1))","v":""},{"$f":"IF(R63=\"\",\"\",INDEX(referentes!$D:$E,MATCH(R63,referentes!$E:$E,0),1))","v":""},{"$f":"IF(S63=\"\",\"\",INDEX(referentes!$G:$H,MATCH(S63,referentes!$H:$H,0),1))","v":""},"",{"$f":"IF(Z63=\"\",\"\",INDEX(referentes!$M:$N,MATCH(Z63,referentes!$N:$N,0),1))","v":""},{"$f":"IF(AT63=\"\",\"\",INDEX('Otras referencias'!AA:AB,MATCH(AT63,'Otras referencias'!AB:AB,0),1))","v":""},{"$f":"IF(AO63=\"\",\"\",INDEX(referentes!S:T,MATCH(AO63,referentes!$T:$T,0),1))","v":""},{"$f":"IF(AP63=\"\",\"\",INDEX(referentes!V:W,MATCH(AP63,referentes!$W:$W,0),1))","v":""}]
[null,0,"",null,null,"",null,null,{"$f":"IF(J64=\"\",\"\",INDEX('Otras referencias'!$V:$W,MATCH(J64,'Otras referencias'!$W:$W,0),1))","v":""},null,null,null,null,null,null,null,null,null,null,null,null,59,null,null,null,null,null,null,null,null,null,null,null,null,null,null,0,null,null,null,null,null,null,null,null,null,null,null,"",{"$f":"IF(C64=\"\",\"\",IF(COUNTIF($C$6:C64, C64)>1, \"\", C64))","v":""},{"$f":"IF(L64=\"\",\"\",INDEX(referentes!$J:$K,MATCH(L64,referentes!$K:$K,0),1))","v":""},{"$f":"IF(N64=\"\",\"\",INDEX(referentes!$A:$B,MATCH(N64,referentes!$B:$B,0),1))","v":""},{"$f":"IF(R64=\"\",\"\",INDEX(referentes!$D:$E,MATCH(R64,referentes!$E:$E,0),1))","v":""},{"$f":"IF(S64=\"\",\"\",INDEX(referentes!$G:$H,MATCH(S64,referentes!$H:$H,0),1))","v":""},"",{"$f":"IF(Z64=\"\",\"\",INDEX(referentes!$M:$N,MATCH(Z64,referentes!$N:$N,0),1))","v":""},{"$f":"IF(AT64=\"\",\"\",INDEX('Otras referencias'!AA:AB,MATCH(AT64,'Otras referencias'!AB:AB,0),1))","v":""},{"$f":"IF(AO64=\"\",\"\",INDEX(referentes!S:T,MATCH(AO64,referentes!$T:$T,0),1))","v":""},{"$f":"IF(AP64=\"\",\"\",INDEX(referentes!V:W,MATCH(AP64,referentes!$W:$W,0),1))","v":""}]
[null,0,"",null,null,"",null,null,{"$f":"IF(J65=\"\",\"\",INDEX('Otras referencias'!$V:$W,MATCH(J65,'Otras referencias'!$W:$W,0),1))","v":""},null,null,null,null,null,null,null,null,null,null,null,null,60,null,null,null,null,null,null,null,null,null,null,null,null,null,null,0,null,null,null,null,null,null,null,null,null,null,null,"",{"$f":"IF(C65=\"\",\"\",IF(COUNTIF($C$6:C65, C65)>1, \"\", C65))","v":""},{"$f":"IF(L65=\"\",\"\",INDEX(referentes!$J:$K,MATCH(L65,referentes!$K:$K,0),1))","v":""},{"$f":"IF(N65=\"\",\"\",INDEX(referentes!$A:$B,MATCH(N65,referentes!$B:$B,0),1))","v":""},{"$f":"IF(R65=\"\",\"\",INDEX(referentes!$D:$E,MATCH(R65,referentes!$E:$E,0),1))","v":""},{"$f":"IF(S65=\"\",\"\",INDEX(referentes!$G:$H,MATCH(S65,referentes!$H:$H,0),1))","v":""},"",{"$f":"IF(Z65=\"\",\"\",INDEX(referentes!$M:$N,MATCH(Z65,referentes!$N:$N,0),1))","v":""},{"$f":"IF(AT65=\"\",\"\",INDEX('Otras referencias'!AA:AB,MATCH(AT65,'Otras referencias'!AB:AB,0),1))","v":""},{"$f":"IF(AO65=\"\",\"\",INDEX(referentes!S:T,MATCH(AO65,referentes!$T:$T,0),1))","v":""},{"$f":"IF(AP65=\"\",\"\",INDEX(referentes!V:W,MATCH(AP65,referentes!$W:$W,0),1))","v":""}]
[null,0,"",null,null,"",null,null,{"$f":"IF(J66=\"\",\"\",INDEX('Otras referencias'!$V:$W,MATCH(J66,'Otras referencias'!$W:$W,0),1))","v":""},null,null,null,null,null,null,null,null,null,null,null,null,61,null,null,null,null,null,null,null,null,null,null,null,null,null,null,0,null,null,null,null,null,null,null,null,null,null,null,"",{"$f":"IF(C66=\"\",\"\",IF(COUNTIF($C$6:C66, C66)>1, \"\", C66))","v":""},{"$f":"IF(L66=\"\",\"\",INDEX(referentes!$J:$K,MATCH(L66,referentes!$K:$K,0),1))","v":""},{"$f":"IF(N66=\"\",\"\",INDEX(referentes!$A:$B,MATCH(N66,referentes!$B:$B,0),1))","v":""},{"$f":"IF(R66=\"\",\"\",INDEX(referentes!$D:$E,MATCH(R66,referentes!$E:$E,0),1))","v":""},{"$f":"IF(S66=\"\",\"\",INDEX(referentes!$G:$H,MATCH(S66,referentes!$H:$H,0),1))","v":""},"",{"$f":"IF(Z66=\"\",\"\",INDEX(referentes!$M:$N,MATCH(Z66,referentes!$N:$N,0),1))","v":""},{"$f":"IF(AT66=\"\",\"\",INDEX('Otras referencias'!AA:AB,MATCH(AT66,'Otras referencias'!AB:AB,0),1))","v":""},{"$f":"IF(AO66=\"\",\"\",INDEX(referentes!S:T,MATCH(AO66,referentes!$T:$T,0),1))","v":""},{"$f":"IF(AP66=\"\",\"\",INDEX(referentes!V:W,MATCH(AP66,referentes!$W:$W,0),1))","v":""}]
[null,0,"",null,null,"",null,null,{"$f":"IF(J67=\"\",\"\",INDEX('Otras referencias'!$V:$W,MATCH(J67,'Otras referencias'!$W:$W,0),1))","v":""},null,null,null,null,null,null,null,null,null,null,null,null,62,null,null,null,null,null,null,null,null,null,null,null,null,null,null,0,null,null,null,null,null,null,null,null,null,null,null,"",{"$f":"IF(C67=\"\",\"\",IF(COUNTIF($C$6:C67, C67)>1, \"\", C67))","v":""},{"$f":"IF(L67=\"\",\"\",INDEX(referentes!$J:$K,MATCH(L67,referentes!$K:$K,0),1))","v":""},{"$f":"IF(N67=\"\",\"\",INDEX(referentes!$A:$B,MATCH(N67,referentes!$B:$B,0),1))","v":""},{"$f":"IF(R67=\"\",\"\",INDEX(referentes!$D:$E,MATCH(R67,referentes!$E:$E,0),1))","v":""},{"$f":"IF(S67=\"\",\"\",INDEX(referentes!$G:$H,MATCH(S67,referentes!$H:$H,0),1))","v":""},"",{"$f":"IF(Z67=\"\",\"\",INDEX(referentes!$M:$N,MATCH(Z67,referentes!$N:$N,0),1))","v":""},{"$f":"IF(AT67=\"\",\"\",INDEX('Otras referencias'!AA:AB,MATCH(AT67,'Otras referencias'!AB:AB,0),1))","v":""},{"$f":"IF(AO67=\"\",\"\",INDEX(referentes!S:T,MATCH(AO67,referentes!$T:$T,0),1))","v":""},{"$f":"IF(AP67=\"\",\"\",INDEX(referentes!V:W,MATCH(AP67,referentes!$W:$W,0),1))","v":""}]
[null,0,"",null,null,"",null,null,{"$f":"IF(J68=\"\",\"\",INDEX('Otras referencias'!$V:$W,MATCH(J68,'Otras referencias'!$W:$W,0),1))","v":""},null,null,null,null,null,null,null,null,null,null,null,null,63,null,null,null,null,null,null,null,null,null,null,null,null,null,null,0,null,null,null,null,null,null,null,null,null,null,null,"",{"$f":"IF(C68=\"\",\"\",IF(COUNTIF($C$6:C68, C68)>1, \"\", C68))","v":""},{"$f":"IF(L68=\"\",\"\",INDEX(referentes!$J:$K,MATCH(L68,referentes!$K:$K,0),1))","v":""},{"$f":"IF(N68=\"\",\"\",INDEX(referentes!$A:$B,MATCH(N68,referentes!$B:$B,0),1))","v":""},{"$f":"IF(R68=\"\",\"\",INDEX(referentes!$D:$E,MATCH(R68,referentes!$E:$E,0),1))","v":""},{"$f":"IF(S68=\"\",\"\",INDEX(referentes!$G:$H,MATCH(S68,referentes!$H:$H,0),1))","v":""},"",{"$f":"IF(Z68=\"\",\"\",INDEX(referentes!$M:$N,MATCH(Z68,referentes!$N:$N,0),1))","v":""},{"$f":"IF(AT68=\"\",\"\",INDEX('Otras referencias'!AA:AB,MATCH(AT68,'Otras referencias'!AB:AB,0),1))","v":""},{"$f":"IF(AO68=\"\",\"\",INDEX(referentes!S:T,MATCH(AO68,referentes!$T:$T,0),1))","v":""},{"$f":"IF(AP68=\"\",\"\",INDEX(referentes!V:W,MATCH(AP68,referentes!$W:$W,0),1))","v":""}]
[null,0,"",null,null,"",null,null,{"$f":"IF(J69=\"\",\"\",INDEX('Otras referencias'!$V:$W,MATCH(J69,'Otras referencias'!$W:$W,0),1))","v":""},null,null,null,null,null,null,null,null,null,null,null,null,64,null,null,null,null,null,null,null,null,null,null,null,null,null,null,0,null,null,null,null,null,null,null,null,null,null,null,"",{"$f":"IF(C69=\"\",\"\",IF(COUNTIF($C$6:C69, C69)>1, \"\", C69))","v":""},{"$f":"IF(L69=\"\",\"\",INDEX(referentes!$J:$K,MATCH(L69,referentes!$K:$K,0),1))","v":""},{"$f":"IF(N69=\"\",\"\",INDEX(referentes!$A:$B,MATCH(N69,referentes!$B:$B,0),1))","v":""},{"$f":"IF(R69=\"\",\"\",INDEX(referentes!$D:$E,MATCH(R69,referentes!$E:$E,0),1))","v":""},{"$f":"IF(S69=\"\",\"\",INDEX(referentes!$G:$H,MATCH(S69,referentes!$H:$H,0),1))","v":""},"",{"$f":"IF(Z69=\"\",\"\",INDEX(referentes!$M:$N,MATCH(Z69,referentes!$N:$N,0),1))","v":""},{"$f":"IF(AT69=\"\",\"\",INDEX('Otras referencias'!AA:AB,MATCH(AT69,'Otras referencias'!AB:AB,0),1))","v":""},{"$f":"IF(AO69=\"\",\"\",INDEX(referentes!S:T,MATCH(AO69,referentes!$T:$T,0),1))","v":""},{"$f":"IF(AP69=\"\",\"\",INDEX(referentes!V:W,MATCH(AP69,referentes!$W:$W,0),1))","v":""}]
[null,0,"",null,null,"",null,null,{"$f":"IF(J70=\"\",\"\",INDEX('Otras referencias'!$V:$W,MATCH(J70,'Otras referencias'!$W:$W,0),1))","v":""},null,null,null,null,null,null,null,null,null,null,null,null,65,null,null,null,null,null,null,null,null,null,null,null,null,null,null,0,null,null,null,null,null,null,null,null,null,null,null,{"$f":"IF(D70=\"\",\"\",CONCATENATE(C70,V70))","v":""},{"$f":"IF(C70=\"\",\"\",IF(COUNTIF($C$6:C70, C70)>1, \"\", C70))","v":""},{"$f":"IF(L70=\"\",\"\",INDEX(referentes!$J:$K,MATCH(L70,referentes!$K:$K,0),1))","v":""},{"$f":"IF(N70=\"\",\"\",INDEX(referentes!$A:$B,MATCH(N70,referentes!$B:$B,0),1))","v":""},{"$f":"IF(R70=\"\",\"\",INDEX(referentes!$D:$E,MATCH(R70,referentes!$E:$E,0),1))","v":""},{"$f":"IF(S70=\"\",\"\",INDEX(referentes!$G:$H,MATCH(S70,referentes!$H:$H,0),1))","v":""},{"$f":"CONCATENATE(F70,G70,I70,AY70,AZ70,BA70,BB70,O70,P70,Q70)","v":""},{"$f":"IF(Z70=\"\",\"\",INDEX(referentes!$M:$N,MATCH(Z70,referentes!$N:$N,0),1))","v":""},{"$f":"IF(AT70=\"\",\"\",INDEX('Otras referencias'!AA:AB,MATCH(AT70,'Otras referencias'!AB:AB,0),1))","v":""},{"$f":"IF(AO70=\"\",\"\",INDEX(referentes!S:T,MATCH(AO70,referentes!$T:$T,0),1))","v":""},{"$f":"IF(AP70=\"\",\"\",INDEX(referentes!V:W,MATCH(AP70,referentes!$W:$W,0),1))","v":""}]
[null,{"$f":"IF(BC71=BC70,B70,B70+1)","v":0},{"$f":"IF(E71<>\"\",CONCATENATE($A$4,D71,I71),\"\")","v":""},null,null,{"$f":"IF(D71<>\"\",D71+E71,\"\")","v":""},null,null,{"$f":"IF(J71=\"\",\"\",INDEX('Otras referencias'!$V:$W,MATCH(J71,'Otras referencias'!$W:$W,0),1))","v":""},null,null,null,null,null,null,null,null,null,null,null,null,66,null,null,null,null,null,null,null,null,null,null,null,null,null,null,{"$f":"SUM(AA71:AJ71)","v":0},null,null,null,null,null,null,null,null,null,null,null,"",{"$f":"IF(C71=\"\",\"\",IF(COUNTIF($C$6:C71, C71)>1, \"\", C71))","v":""},{"$f":"IF(L71=\"\",\"\",INDEX(referentes!$J:$K,MATCH(L71,referentes!$K:$K,0),1))","v":""},{"$f":"IF(N71=\"\",\"\",INDEX(referentes!$A:$B,MATCH(N71,referentes!$B:$B,0),1))","v":""},{"$f":"IF(R71=\"\",\"\",INDEX(referentes!$D:$E,MATCH(R71,referentes!$E:$E,0),1))","v":""},{"$f":"IF(S71=\"\",\"\",INDEX(referentes!$G:$H,MATCH(S71,referentes!$H:$H,0),1))","v":""},"",{"$f":"IF(Z71=\"\",\"\",INDEX(referentes!$M:$N,MATCH(Z71,referentes!$N:$N,0),1))","v":""},{"$f":"IF(AT71=\"\",\"\",INDEX('Otras referencias'!AA:AB,MATCH(AT71,'Otras referencias'!AB:AB,0),1))","v":""},{"$f":"IF(AO71=\"\",\"\",INDEX(referentes!S:T,MATCH(AO71,referentes!$T:$T,0),1))","v":""},{"$f":"IF(AP71=\"\",\"\",INDEX(referentes!V:W,MATCH(AP71,referentes!$W:$W,0),1))","v":""}]
[null,0,"",null,null,"",null,null,{"$f":"IF(J72=\"\",\"\",INDEX('Otras referencias'!$V:$W,MATCH(J72,'Otras referencias'!$W:$W,0),1))","v":""},null,null,null,null,null,null,null,null,null,null,null,null,67,null,null,null,null,null,null,null,null,null,null,null,null,null,null,0,null,null,null,null,null,null,null,null,null,null,null,"",{"$f":"IF(C72=\"\",\"\",IF(COUNTIF($C$6:C72, C72)>1, \"\", C72))","v":""},{"$f":"IF(L72=\"\",\"\",INDEX(referentes!$J:$K,MATCH(L72,referentes!$K:$K,0),1))","v":""},{"$f":"IF(N72=\"\",\"\",INDEX(referentes!$A:$B,MATCH(N72,referentes!$B:$B,0),1))","v":""},{"$f":"IF(R72=\"\",\"\",INDEX(referentes!$D:$E,MATCH(R72,referentes!$E:$E,0),1))","v":""},{"$f":"IF(S72=\"\",\"\",INDEX(referentes!$G:$H,MATCH(S72,referentes!$H:$H,0),1))","v":""},"",{"$f":"IF(Z72=\"\",\"\",INDEX(referentes!$M:$N,MATCH(Z72,referentes!$N:$N,0),1))","v":""},{"$f":"IF(AT72=\"\",\"\",INDEX('Otras referencias'!AA:AB,MATCH(AT72,'Otras referencias'!AB:AB,0),1))","v":""},{"$f":"IF(AO72=\"\",\"\",INDEX(referentes!S:T,MATCH(AO72,referentes!$T:$T,0),1))","v":""},{"$f":"IF(AP72=\"\",\"\",INDEX(referentes!V:W,MATCH(AP72,referentes!$W:$W,0),1))","v":""}]
[null,0,"",null,null,"",null,null,{"$f":"IF(J73=\"\",\"\",INDEX('Otras referencias'!$V:$W,MATCH(J73,'Otras referencias'!$W:$W,0),1))","v":""},null,null,null,null,null,null,null,null,null,null,null,null,68,null,null,null,null,null,null,null,null,null,null,null,null,null,null,0,null,null,null,null,null,null,null,null,null,null,null,"",{"$f":"IF(C73=\"\",\"\",IF(COUNTIF($C$6:C73, C73)>1, \"\", C73))","v":""},{"$f":"IF(L73=\"\",\"\",INDEX(referentes!$J:$K,MATCH(L73,referentes!$K:$K,0),1))","v":""},{"$f":"IF(N73=\"\",\"\",INDEX(referentes!$A:$B,MATCH(N73,referentes!$B:$B,0),1))","v":""},{"$f":"IF(R73=\"\",\"\",INDEX(referentes!$D:$E,MATCH(R73,referentes!$E:$E,0),1))","v":""},{"$f":"IF(S73=\"\",\"\",INDEX(referentes!$G:$H,MATCH(S73,referentes!$H:$H,0),1))","v":""},"",{"$f":"IF(Z73=\"\",\"\",INDEX(referentes!$M:$N,MATCH(Z73,referentes!$N:$N,0),1))","v":""},{"$f":"IF(AT73=\"\",\"\",INDEX('Otras referencias'!AA:AB,MATCH(AT73,'Otras referencias'!AB:AB,0),1))","v":""},{"$f":"IF(AO73=\"\",\"\",INDEX(referentes!S:T,MATCH(AO73,referentes!$T:$T,0),1))","v":""},{"$f":"IF(AP73=\"\",\"\",INDEX(referentes!V:W,MATCH(AP73,referentes!$W:$W,0),1))","v":""}]
[null,0,"",null,null,"",null,null,{"$f":"IF(J74=\"\",\"\",INDEX('Otras referencias'!$V:$W,MATCH(J74,'Otras referencias'!$W:$W,0),1))","v":""},null,null,null,null,null,null,null,null,null,null,null,null,69,null,null,null,null,null,null,null,null,null,null,null,null,null,null,0,null,null,null,null,null,null,null,null,null,null,null,"",{"$f":"IF(C74=\"\",\"\",IF(COUNTIF($C$6:C74, C74)>1, \"\", C74))","v":""},{"$f":"IF(L74=\"\",\"\",INDEX(referentes!$J:$K,MATCH(L74,referentes!$K:$K,0),1))","v":""},{"$f":"IF(N74=\"\",\"\",INDEX(referentes!$A:$B,MATCH(N74,referentes!$B:$B,0),1))","v":""},{"$f":"IF(R74=\"\",\"\",INDEX(referentes!$D:$E,MATCH(R74,referentes!$E:$E,0),1))","v":""},{"$f":"IF(S74=\"\",\"\",INDEX(referentes!$G:$H,MATCH(S74,referentes!$H:$H,0),1))","v":""},"",{"$f":"IF(Z74=\"\",\"\",INDEX(referentes!$M:$N,MATCH(Z74,referentes!$N:$N,0),1))","v":""},{"$f":"IF(AT74=\"\",\"\",INDEX('Otras referencias'!AA:AB,MATCH(AT74,'Otras referencias'!AB:AB,0),1))","v":""},{"$f":"IF(AO74=\"\",\"\",INDEX(referentes!S:T,MATCH(AO74,referentes!$T:$T,0),1))","v":""},{"$f":"IF(AP74=\"\",\"\",INDEX(referentes!V:W,MATCH(AP74,referentes!$W:$W,0),1))","v":""}]
[null,0,"",null,null,"",null,null,{"$f":"IF(J75=\"\",\"\",INDEX('Otras referencias'!$V:$W,MATCH(J75,'Otras referencias'!$W:$W,0),1))","v":""},null,null,null,null,null,null,null,null,null,null,null,null,70,null,null,null,null,null,null,null,null,null,null,null,null,null,null,0,null,null,null,null,null,null,null,null,null,null,null,"",{"$f":"IF(C75=\"\",\"\",IF(COUNTIF($C$6:C75, C75)>1, \"\", C75))","v":""},{"$f":"IF(L75=\"\",\"\",INDEX(referentes!$J:$K,MATCH(L75,referentes!$K:$K,0),1))","v":""},{"$f":"IF(N75=\"\",\"\",INDEX(referentes!$A:$B,MATCH(N75,referentes!$B:$B,0),1))","v":""},{"$f":"IF(R75=\"\",\"\",INDEX(referentes!$D:$E,MATCH(R75,referentes!$E:$E,0),1))","v":""},{"$f":"IF(S75=\"\",\"\",INDEX(referentes!$G:$H,MATCH(S75,referentes!$H:$H,0),1))","v":""},"",{"$f":"IF(Z75=\"\",\"\",INDEX(referentes!$M:$N,MATCH(Z75,referentes!$N:$N,0),1))","v":""},{"$f":"IF(AT75=\"\",\"\",INDEX('Otras referencias'!AA:AB,MATCH(AT75,'Otras referencias'!AB:AB,0),1))","v":""},{"$f":"IF(AO75=\"\",\"\",INDEX(referentes!S:T,MATCH(AO75,referentes!$T:$T,0),1))","v":""},{"$f":"IF(AP75=\"\",\"\",INDEX(referentes!V:W,MATCH(AP75,referentes!$W:$W,0),1))","v":""}]
[null,0,"",null,null,"",null,null,{"$f":"IF(J76=\"\",\"\",INDEX('Otras referencias'!$V:$W,MATCH(J76,'Otras referencias'!$W:$W,0),1))","v":""},null,null,null,null,null,null,null,null,null,null,null,null,71,null,null,null,null,null,null,null,null,null,null,null,null,null,null,0,null,null,null,null,null,null,null,null,null,null,null,"",{"$f":"IF(C76=\"\",\"\",IF(COUNTIF($C$6:C76, C76)>1, \"\", C76))","v":""},{"$f":"IF(L76=\"\",\"\",INDEX(referentes!$J:$K,MATCH(L76,referentes!$K:$K,0),1))","v":""},{"$f":"IF(N76=\"\",\"\",INDEX(referentes!$A:$B,MATCH(N76,referentes!$B:$B,0),1))","v":""},{"$f":"IF(R76=\"\",\"\",INDEX(referentes!$D:$E,MATCH(R76,referentes!$E:$E,0),1))","v":""},{"$f":"IF(S76=\"\",\"\",INDEX(referentes!$G:$H,MATCH(S76,referentes!$H:$H,0),1))","v":""},"",{"$f":"IF(Z76=\"\",\"\",INDEX(referentes!$M:$N,MATCH(Z76,referentes!$N:$N,0),1))","v":""},{"$f":"IF(AT76=\"\",\"\",INDEX('Otras referencias'!AA:AB,MATCH(AT76,'Otras referencias'!AB:AB,0),1))","v":""},{"$f":"IF(AO76=\"\",\"\",INDEX(referentes!S:T,MATCH(AO76,referentes!$T:$T,0),1))","v":""},{"$f":"IF(AP76=\"\",\"\",INDEX(referentes!V:W,MATCH(AP76,referentes!$W:$W,0),1))","v":""}]
[null,0,"",null,null,"",null,null,{"$f":"IF(J77=\"\",\"\",INDEX('Otras referencias'!$V:$W,MATCH(J77,'Otras referencias'!$W:$W,0),1))","v":""},null,null,null,null,null,null,null,null,null,null,null,null,72,null,null,null,null,null,null,null,null,null,null,null,null,null,null,0,null,null,null,null,null,null,null,null,null,null,null,"",{"$f":"IF(C77=\"\",\"\",IF(COUNTIF($C$6:C77, C77)>1, \"\", C77))","v":""},{"$f":"IF(L77=\"\",\"\",INDEX(referentes!$J:$K,MATCH(L77,referentes!$K:$K,0),1))","v":""},{"$f":"IF(N77=\"\",\"\",INDEX(referentes!$A:$B,MATCH(N77,referentes!$B:$B,0),1))","v":""},{"$f":"IF(R77=\"\",\"\",INDEX(referentes!$D:$E,MATCH(R77,referentes!$E:$E,0),1))","v":""},{"$f":"IF(S77=\"\",\"\",INDEX(referentes!$G:$H,MATCH(S77,referentes!$H:$H,0),1))","v":""},"",{"$f":"IF(Z77=\"\",\"\",INDEX(referentes!$M:$N,MATCH(Z77,referentes!$N:$N,0),1))","v":""},{"$f":"IF(AT77=\"\",\"\",INDEX('Otras referencias'!AA:AB,MATCH(AT77,'Otras referencias'!AB:AB,0),1))","v":""},{"$f":"IF(AO77=\"\",\"\",INDEX(referentes!S:T,MATCH(AO77,referentes!$T:$T,0),1))","v":""},{"$f":"IF(AP77=\"\",\"\",INDEX(referentes!V:W,MATCH(AP77,referentes!$W:$W,0),1))","v":""}]
[null,0,"",null,null,"",null,null,{"$f":"IF(J78=\"\",\"\",INDEX('Otras referencias'!$V:$W,MATCH(J78,'Otras referencias'!$W:$W,0),1))","v":""},null,null,null,null,null,null,null,null,null,null,null,null,73,null,null,null,null,null,null,null,null,null,null,null,null,null,null,0,null,null,null,null,null,null,null,null,null,null,null,"",{"$f":"IF(C78=\"\",\"\",IF(COUNTIF($C$6:C78, C78)>1, \"\", C78))","v":""},{"$f":"IF(L78=\"\",\"\",INDEX(referentes!$J:$K,MATCH(L78,referentes!$K:$K,0),1))","v":""},{"$f":"IF(N78=\"\",\"\",INDEX(referentes!$A:$B,MATCH(N78,referentes!$B:$B,0),1))","v":""},{"$f":"IF(R78=\"\",\"\",INDEX(referentes!$D:$E,MATCH(R78,referentes!$E:$E,0),1))","v":""},{"$f":"IF(S78=\"\",\"\",INDEX(referentes!$G:$H,MATCH(S78,referentes!$H:$H,0),1))","v":""},"",{"$f":"IF(Z78=\"\",\"\",INDEX(referentes!$M:$N,MATCH(Z78,referentes!$N:$N,0),1))","v":""},{"$f":"IF(AT78=\"\",\"\",INDEX('Otras referencias'!AA:AB,MATCH(AT78,'Otras referencias'!AB:AB,0),1))","v":""},{"$f":"IF(AO78=\"\",\"\",INDEX(referentes!S:T,MATCH(AO78,referentes!$T:$T,0),1))","v":""},{"$f":"IF(AP78=\"\",\"\",INDEX(referentes!V:W,MATCH(AP78,referentes!$W:$W,0),1))","v":""}]
[null,0,"",null,null,"",null,null,{"$f":"IF(J79=\"\",\"\",INDEX('Otras referencias'!$V:$W,MATCH(J79,'Otras referencias'!$W:$W,0),1))","v":""},null,null,null,null,null,null,null,null,null,null,null,null,74,null,null,null,null,null,null,null,null,null,null,null,null,null,null,0,null,null,null,null,null,null,null,null,null,null,null,"",{"$f":"IF(C79=\"\",\"\",IF(COUNTIF($C$6:C79, C79)>1, \"\", C79))","v":""},{"$f":"IF(L79=\"\",\"\",INDEX(referentes!$J:$K,MATCH(L79,referentes!$K:$K,0),1))","v":""},{"$f":"IF(N79=\"\",\"\",INDEX(referentes!$A:$B,MATCH(N79,referentes!$B:$B,0),1))","v":""},{"$f":"IF(R79=\"\",\"\",INDEX(referentes!$D:$E,MATCH(R79,referentes!$E:$E,0),1))","v":""},{"$f":"IF(S79=\"\",\"\",INDEX(referentes!$G:$H,MATCH(S79,referentes!$H:$H,0),1))","v":""},"",{"$f":"IF(Z79=\"\",\"\",INDEX(referentes!$M:$N,MATCH(Z79,referentes!$N:$N,0),1))","v":""},{"$f":"IF(AT79=\"\",\"\",INDEX('Otras referencias'!AA:AB,MATCH(AT79,'Otras referencias'!AB:AB,0),1))","v":""},{"$f":"IF(AO79=\"\",\"\",INDEX(referentes!S:T,MATCH(AO79,referentes!$T:$T,0),1))","v":""},{"$f":"IF(AP79=\"\",\"\",INDEX(referentes!V:W,MATCH(AP79,referentes!$W:$W,0),1))","v":""}]
[null,0,"",null,null,"",null,null,{"$f":"IF(J80=\"\",\"\",INDEX('Otras referencias'!$V:$W,MATCH(J80,'Otras referencias'!$W:$W,0),1))","v":""},null,null,null,null,null,null,null,null,null,null,null,null,75,null,null,null,null,null,null,null,null,null,null,null,null,null,null,0,null,null,null,null,null,null,null,null,null,null,null,"",{"$f":"IF(C80=\"\",\"\",IF(COUNTIF($C$6:C80, C80)>1, \"\", C80))","v":""},{"$f":"IF(L80=\"\",\"\",INDEX(referentes!$J:$K,MATCH(L80,referentes!$K:$K,0),1))","v":""},{"$f":"IF(N80=\"\",\"\",INDEX(referentes!$A:$B,MATCH(N80,referentes!$B:$B,0),1))","v":""},{"$f":"IF(R80=\"\",\"\",INDEX(referentes!$D:$E,MATCH(R80,referentes!$E:$E,0),1))","v":""},{"$f":"IF(S80=\"\",\"\",INDEX(referentes!$G:$H,MATCH(S80,referentes!$H:$H,0),1))","v":""},"",{"$f":"IF(Z80=\"\",\"\",INDEX(referentes!$M:$N,MATCH(Z80,referentes!$N:$N,0),1))","v":""},{"$f":"IF(AT80=\"\",\"\",INDEX('Otras referencias'!AA:AB,MATCH(AT80,'Otras referencias'!AB:AB,0),1))","v":""},{"$f":"IF(AO80=\"\",\"\",INDEX(referentes!S:T,MATCH(AO80,referentes!$T:$T,0),1))","v":""},{"$f":"IF(AP80=\"\",\"\",INDEX(referentes!V:W,MATCH(AP80,referentes!$W:$W,0),1))","v":""}]
[null,0,"",null,null,"",null,null,{"$f":"IF(J81=\"\",\"\",INDEX('Otras referencias'!$V:$W,MATCH(J81,'Otras referencias'!$W:$W,0),1))","v":""},null,null,null,null,null,null,null,null,null,null,null,null,76,null,null,null,null,null,null,null,null,null,null,null,null,null,null,0,null,null,null,null,null,null,null,null,null,null,null,"",{"$f":"IF(C81=\"\",\"\",IF(COUNTIF($C$6:C81, C81)>1, \"\", C81))","v":""},{"$f":"IF(L81=\"\",\"\",INDEX(referentes!$J:$K,MATCH(L81,referentes!$K:$K,0),1))","v":""},{"$f":"IF(N81=\"\",\"\",INDEX(referentes!$A:$B,MATCH(N81,referentes!$B:$B,0),1))","v":""},{"$f":"IF(R81=\"\",\"\",INDEX(referentes!$D:$E,MATCH(R81,referentes!$E:$E,0),1))","v":""},{"$f":"IF(S81=\"\",\"\",INDEX(referentes!$G:$H,MATCH(S81,referentes!$H:$H,0),1))","v":""},"",{"$f":"IF(Z81=\"\",\"\",INDEX(referentes!$M:$N,MATCH(Z81,referentes!$N:$N,0),1))","v":""},{"$f":"IF(AT81=\"\",\"\",INDEX('Otras referencias'!AA:AB,MATCH(AT81,'Otras referencias'!AB:AB,0),1))","v":""},{"$f":"IF(AO81=\"\",\"\",INDEX(referentes!S:T,MATCH(AO81,referentes!$T:$T,0),1))","v":""},{"$f":"IF(AP81=\"\",\"\",INDEX(referentes!V:W,MATCH(AP81,referentes!$W:$W,0),1))","v":""}]
[null,0,"",null,null,"",null,null,{"$f":"IF(J82=\"\",\"\",INDEX('Otras referencias'!$V:$W,MATCH(J82,'Otras referencias'!$W:$W,0),1))","v":""},null,null,null,null,null,null,null,null,null,null,null,null,77,null,null,null,null,null,null,null,null,null,null,null,null,null,null,0,null,null,null,null,null,null,null,null,null,null,null,"",{"$f":"IF(C82=\"\",\"\",IF(COUNTIF($C$6:C82, C82)>1, \"\", C82))","v":""},{"$f":"IF(L82=\"\",\"\",INDEX(referentes!$J:$K,MATCH(L82,referentes!$K:$K,0),1))","v":""},{"$f":"IF(N82=\"\",\"\",INDEX(referentes!$A:$B,MATCH(N82,referentes!$B:$B,0),1))","v":""},{"$f":"IF(R82=\"\",\"\",INDEX(referentes!$D:$E,MATCH(R82,referentes!$E:$E,0),1))","v":""},{"$f":"IF(S82=\"\",\"\",INDEX(referentes!$G:$H,MATCH(S82,referentes!$H:$H,0),1))","v":""},"",{"$f":"IF(Z82=\"\",\"\",INDEX(referentes!$M:$N,MATCH(Z82,referentes!$N:$N,0),1))","v":""},{"$f":"IF(AT82=\"\",\"\",INDEX('Otras referencias'!AA:AB,MATCH(AT82,'Otras referencias'!AB:AB,0),1))","v":""},{"$f":"IF(AO82=\"\",\"\",INDEX(referentes!S:T,MATCH(AO82,referentes!$T:$T,0),1))","v":""},{"$f":"IF(AP82=\"\",\"\",INDEX(referentes!V:W,MATCH(AP82,referentes!$W:$W,0),1))","v":""}]
[null,0,"",null,null,"",null,null,{"$f":"IF(J83=\"\",\"\",INDEX('Otras referencias'!$V:$W,MATCH(J83,'Otras referencias'!$W:$W,0),1))","v":""},null,null,null,null,null,null,null,null,null,null,null,null,78,null,null,null,null,null,null,null,null,null,null,null,null,null,null,0,null,null,null,null,null,null,null,null,null,null,null,"",{"$f":"IF(C83=\"\",\"\",IF(COUNTIF($C$6:C83, C83)>1, \"\", C83))","v":""},{"$f":"IF(L83=\"\",\"\",INDEX(referentes!$J:$K,MATCH(L83,referentes!$K:$K,0),1))","v":""},{"$f":"IF(N83=\"\",\"\",INDEX(referentes!$A:$B,MATCH(N83,referentes!$B:$B,0),1))","v":""},{"$f":"IF(R83=\"\",\"\",INDEX(referentes!$D:$E,MATCH(R83,referentes!$E:$E,0),1))","v":""},{"$f":"IF(S83=\"\",\"\",INDEX(referentes!$G:$H,MATCH(S83,referentes!$H:$H,0),1))","v":""},"",{"$f":"IF(Z83=\"\",\"\",INDEX(referentes!$M:$N,MATCH(Z83,referentes!$N:$N,0),1))","v":""},{"$f":"IF(AT83=\"\",\"\",INDEX('Otras referencias'!AA:AB,MATCH(AT83,'Otras referencias'!AB:AB,0),1))","v":""},{"$f":"IF(AO83=\"\",\"\",INDEX(referentes!S:T,MATCH(AO83,referentes!$T:$T,0),1))","v":""},{"$f":"IF(AP83=\"\",\"\",INDEX(referentes!V:W,MATCH(AP83,referentes!$W:$W,0),1))","v":""}]
[null,0,"",null,null,"",null,null,{"$f":"IF(J84=\"\",\"\",INDEX('Otras referencias'!$V:$W,MATCH(J84,'Otras referencias'!$W:$W,0),1))","v":""},null,null,null,null,null,null,null,null,null,null,null,null,79,null,null,null,null,null,null,null,null,null,null,null,null,null,null,0,null,null,null,null,null,null,null,null,null,null,null,"",{"$f":"IF(C84=\"\",\"\",IF(COUNTIF($C$6:C84, C84)>1, \"\", C84))","v":""},{"$f":"IF(L84=\"\",\"\",INDEX(referentes!$J:$K,MATCH(L84,referentes!$K:$K,0),1))","v":""},{"$f":"IF(N84=\"\",\"\",INDEX(referentes!$A:$B,MATCH(N84,referentes!$B:$B,0),1))","v":""},{"$f":"IF(R84=\"\",\"\",INDEX(referentes!$D:$E,MATCH(R84,referentes!$E:$E,0),1))","v":""},{"$f":"IF(S84=\"\",\"\",INDEX(referentes!$G:$H,MATCH(S84,referentes!$H:$H,0),1))","v":""},"",{"$f":"IF(Z84=\"\",\"\",INDEX(referentes!$M:$N,MATCH(Z84,referentes!$N:$N,0),1))","v":""},{"$f":"IF(AT84=\"\",\"\",INDEX('Otras referencias'!AA:AB,MATCH(AT84,'Otras referencias'!AB:AB,0),1))","v":""},{"$f":"IF(AO84=\"\",\"\",INDEX(referentes!S:T,MATCH(AO84,referentes!$T:$T,0),1))","v":""},{"$f":"IF(AP84=\"\",\"\",INDEX(referentes!V:W,MATCH(AP84,referentes!$W:$W,0),1))","v":""}]
[null,0,"",null,null,"",null,null,{"$f":"IF(J85=\"\",\"\",INDEX('Otras referencias'!$V:$W,MATCH(J85,'Otras referencias'!$W:$W,0),1))","v":""},null,null,null,null,null,null,null,null,null,null,null,null,80,null,null,null,null,null,null,null,null,null,null,null,null,null,null,0,null,null,null,null,null,null,null,null,null,null,null,"",{"$f":"IF(C85=\"\",\"\",IF(COUNTIF($C$6:C85, C85)>1, \"\", C85))","v":""},{"$f":"IF(L85=\"\",\"\",INDEX(referentes!$J:$K,MATCH(L85,referentes!$K:$K,0),1))","v":""},{"$f":"IF(N85=\"\",\"\",INDEX(referentes!$A:$B,MATCH(N85,referentes!$B:$B,0),1))","v":""},{"$f":"IF(R85=\"\",\"\",INDEX(referentes!$D:$E,MATCH(R85,referentes!$E:$E,0),1))","v":""},{"$f":"IF(S85=\"\",\"\",INDEX(referentes!$G:$H,MATCH(S85,referentes!$H:$H,0),1))","v":""},"",{"$f":"IF(Z85=\"\",\"\",INDEX(referentes!$M:$N,MATCH(Z85,referentes!$N:$N,0),1))","v":""},{"$f":"IF(AT85=\"\",\"\",INDEX('Otras referencias'!AA:AB,MATCH(AT85,'Otras referencias'!AB:AB,0),1))","v":""},{"$f":"IF(AO85=\"\",\"\",INDEX(referentes!S:T,MATCH(AO85,referentes!$T:$T,0),1))","v":""},{"$f":"IF(AP85=\"\",\"\",INDEX(referentes!V:W,MATCH(AP85,referentes!$W:$W,0),1))","v":""}]
[null,0,"",null,null,"",null,null,{"$f":"IF(J86=\"\",\"\",INDEX('Otras referencias'!$V:$W,MATCH(J86,'Otras referencias'!$W:$W,0),1))","v":""},null,null,null,null,null,null,null,null,null,null,null,null,81,null,null,null,null,null,null,null,null,null,null,null,null,null,null,0,null,null,null,null,null,null,null,null,null,null,null,"",{"$f":"IF(C86=\"\",\"\",IF(COUNTIF($C$6:C86, C86)>1, \"\", C86))","v":""},{"$f":"IF(L86=\"\",\"\",INDEX(referentes!$J:$K,MATCH(L86,referentes!$K:$K,0),1))","v":""},{"$f":"IF(N86=\"\",\"\",INDEX(referentes!$A:$B,MATCH(N86,referentes!$B:$B,0),1))","v":""},{"$f":"IF(R86=\"\",\"\",INDEX(referentes!$D:$E,MATCH(R86,referentes!$E:$E,0),1))","v":""},{"$f":"IF(S86=\"\",\"\",INDEX(referentes!$G:$H,MATCH(S86,referentes!$H:$H,0),1))","v":""},"",{"$f":"IF(Z86=\"\",\"\",INDEX(referentes!$M:$N,MATCH(Z86,referentes!$N:$N,0),1))","v":""},{"$f":"IF(AT86=\"\",\"\",INDEX('Otras referencias'!AA:AB,MATCH(AT86,'Otras referencias'!AB:AB,0),1))","v":""},{"$f":"IF(AO86=\"\",\"\",INDEX(referentes!S:T,MATCH(AO86,referentes!$T:$T,0),1))","v":""},{"$f":"IF(AP86=\"\",\"\",INDEX(referentes!V:W,MATCH(AP86,referentes!$W:$W,0),1))","v":""}]
[null,0,"",null,null,"",null,null,{"$f":"IF(J87=\"\",\"\",INDEX('Otras referencias'!$V:$W,MATCH(J87,'Otras referencias'!$W:$W,0),1))","v":""},null,null,null,null,null,null,null,null,null,null,null,null,82,null,null,null,null,null,null,null,null,null,null,null,null,null,null,0,null,null,null,null,null,null,null,null,null,null,null,"",{"$f":"IF(C87=\"\",\"\",IF(COUNTIF($C$6:C87, C87)>1, \"\", C87))","v":""},{"$f":"IF(L87=\"\",\"\",INDEX(referentes!$J:$K,MATCH(L87,referentes!$K:$K,0),1))","v":""},{"$f":"IF(N87=\"\",\"\",INDEX(referentes!$A:$B,MATCH(N87,referentes!$B:$B,0),1))","v":""},{"$f":"IF(R87=\"\",\"\",INDEX(referentes!$D:$E,MATCH(R87,referentes!$E:$E,0),1))","v":""},{"$f":"IF(S87=\"\",\"\",INDEX(referentes!$G:$H,MATCH(S87,referentes!$H:$H,0),1))","v":""},"",{"$f":"IF(Z87=\"\",\"\",INDEX(referentes!$M:$N,MATCH(Z87,referentes!$N:$N,0),1))","v":""},{"$f":"IF(AT87=\"\",\"\",INDEX('Otras referencias'!AA:AB,MATCH(AT87,'Otras referencias'!AB:AB,0),1))","v":""},{"$f":"IF(AO87=\"\",\"\",INDEX(referentes!S:T,MATCH(AO87,referentes!$T:$T,0),1))","v":""},{"$f":"IF(AP87=\"\",\"\",INDEX(referentes!V:W,MATCH(AP87,referentes!$W:$W,0),1))","v":""}]
[null,0,"",null,null,"",null,null,{"$f":"IF(J88=\"\",\"\",INDEX('Otras referencias'!$V:$W,MATCH(J88,'Otras referencias'!$W:$W,0),1))","v":""},null,null,null,null,null,null,null,null,null,null,null,null,83,null,null,null,null,null,null,null,null,null,null,null,null,null,null,0,null,null,null,null,null,null,null,null,null,null,null,"",{"$f":"IF(C88=\"\",\"\",IF(COUNTIF($C$6:C88, C88)>1, \"\", C88))","v":""},{"$f":"IF(L88=\"\",\"\",INDEX(referentes!$J:$K,MATCH(L88,referentes!$K:$K,0),1))","v":""},{"$f":"IF(N88=\"\",\"\",INDEX(referentes!$A:$B,MATCH(N88,referentes!$B:$B,0),1))","v":""},{"$f":"IF(R88=\"\",\"\",INDEX(referentes!$D:$E,MATCH(R88,referentes!$E:$E,0),1))","v":""},{"$f":"IF(S88=\"\",\"\",INDEX(referentes!$G:$H,MATCH(S88,referentes!$H:$H,0),1))","v":""},"",{"$f":"IF(Z88=\"\",\"\",INDEX(referentes!$M:$N,MATCH(Z88,referentes!$N:$N,0),1))","v":""},{"$f":"IF(AT88=\"\",\"\",INDEX('Otras referencias'!AA:AB,MATCH(AT88,'Otras referencias'!AB:AB,0),1))","v":""},{"$f":"IF(AO88=\"\",\"\",INDEX(referentes!S:T,MATCH(AO88,referentes!$T:$T,0),1))","v":""},{"$f":"IF(AP88=\"\",\"\",INDEX(referentes!V:W,MATCH(AP88,referentes!$W:$W,0),1))","v":""}]
[null,0,"",null,null,"",null,null,{"$f":"IF(J89=\"\",\"\",INDEX('Otras referencias'!$V:$W,MATCH(J89,'Otras referencias'!$W:$W,0),1))","v":""},null,null,null,null,null,null,null,null,null,null,null,null,84,null,null,null,null,null,null,null,null,null,null,null,null,null,null,0,null,null,null,null,null,null,null,null,null,null,null,"",{"$f":"IF(C89=\"\",\"\",IF(COUNTIF($C$6:C89, C89)>1, \"\", C89))","v":""},{"$f":"IF(L89=\"\",\"\",INDEX(referentes!$J:$K,MATCH(L89,referentes!$K:$K,0),1))","v":""},{"$f":"IF(N89=\"\",\"\",INDEX(referentes!$A:$B,MATCH(N89,referentes!$B:$B,0),1))","v":""},{"$f":"IF(R89=\"\",\"\",INDEX(referentes!$D:$E,MATCH(R89,referentes!$E:$E,0),1))","v":""},{"$f":"IF(S89=\"\",\"\",INDEX(referentes!$G:$H,MATCH(S89,referentes!$H:$H,0),1))","v":""},"",{"$f":"IF(Z89=\"\",\"\",INDEX(referentes!$M:$N,MATCH(Z89,referentes!$N:$N,0),1))","v":""},{"$f":"IF(AT89=\"\",\"\",INDEX('Otras referencias'!AA:AB,MATCH(AT89,'Otras referencias'!AB:AB,0),1))","v":""},{"$f":"IF(AO89=\"\",\"\",INDEX(referentes!S:T,MATCH(AO89,referentes!$T:$T,0),1))","v":""},{"$f":"IF(AP89=\"\",\"\",INDEX(referentes!V:W,MATCH(AP89,referentes!$W:$W,0),1))","v":""}]
[null,0,"",null,null,"",null,null,{"$f":"IF(J90=\"\",\"\",INDEX('Otras referencias'!$V:$W,MATCH(J90,'Otras referencias'!$W:$W,0),1))","v":""},null,null,null,null,null,null,null,null,null,null,null,null,85,null,null,null,null,null,null,null,null,null,null,null,null,null,null,0,null,null,null,null,null,null,null,null,null,null,null,"",{"$f":"IF(C90=\"\",\"\",IF(COUNTIF($C$6:C90, C90)>1, \"\", C90))","v":""},{"$f":"IF(L90=\"\",\"\",INDEX(referentes!$J:$K,MATCH(L90,referentes!$K:$K,0),1))","v":""},{"$f":"IF(N90=\"\",\"\",INDEX(referentes!$A:$B,MATCH(N90,referentes!$B:$B,0),1))","v":""},{"$f":"IF(R90=\"\",\"\",INDEX(referentes!$D:$E,MATCH(R90,referentes!$E:$E,0),1))","v":""},{"$f":"IF(S90=\"\",\"\",INDEX(referentes!$G:$H,MATCH(S90,referentes!$H:$H,0),1))","v":""},"",{"$f":"IF(Z90=\"\",\"\",INDEX(referentes!$M:$N,MATCH(Z90,referentes!$N:$N,0),1))","v":""},{"$f":"IF(AT90=\"\",\"\",INDEX('Otras referencias'!AA:AB,MATCH(AT90,'Otras referencias'!AB:AB,0),1))","v":""},{"$f":"IF(AO90=\"\",\"\",INDEX(referentes!S:T,MATCH(AO90,referentes!$T:$T,0),1))","v":""},{"$f":"IF(AP90=\"\",\"\",INDEX(referentes!V:W,MATCH(AP90,referentes!$W:$W,0),1))","v":""}]
[null,0,"",null,null,"",null,null,{"$f":"IF(J91=\"\",\"\",INDEX('Otras referencias'!$V:$W,MATCH(J91,'Otras referencias'!$W:$W,0),1))","v":""},null,null,null,null,null,null,null,null,null,null,null,null,86,null,null,null,null,null,null,null,null,null,null,null,null,null,null,0,null,null,null,null,null,null,null,null,null,null,null,"",{"$f":"IF(C91=\"\",\"\",IF(COUNTIF($C$6:C91, C91)>1, \"\", C91))","v":""},{"$f":"IF(L91=\"\",\"\",INDEX(referentes!$J:$K,MATCH(L91,referentes!$K:$K,0),1))","v":""},{"$f":"IF(N91=\"\",\"\",INDEX(referentes!$A:$B,MATCH(N91,referentes!$B:$B,0),1))","v":""},{"$f":"IF(R91=\"\",\"\",INDEX(referentes!$D:$E,MATCH(R91,referentes!$E:$E,0),1))","v":""},{"$f":"IF(S91=\"\",\"\",INDEX(referentes!$G:$H,MATCH(S91,referentes!$H:$H,0),1))","v":""},"",{"$f":"IF(Z91=\"\",\"\",INDEX(referentes!$M:$N,MATCH(Z91,referentes!$N:$N,0),1))","v":""},{"$f":"IF(AT91=\"\",\"\",INDEX('Otras referencias'!AA:AB,MATCH(AT91,'Otras referencias'!AB:AB,0),1))","v":""},{"$f":"IF(AO91=\"\",\"\",INDEX(referentes!S:T,MATCH(AO91,referentes!$T:$T,0),1))","v":""},{"$f":"IF(AP91=\"\",\"\",INDEX(referentes!V:W,MATCH(AP91,referentes!$W:$W,0),1))","v":""}]
[null,0,"",null,null,"",null,null,{"$f":"IF(J92=\"\",\"\",INDEX('Otras referencias'!$V:$W,MATCH(J92,'Otras referencias'!$W:$W,0),1))","v":""},null,null,null,null,null,null,null,null,null,null,null,null,87,null,null,null,null,null,null,null,null,null,null,null,null,null,null,0,null,null,null,null,null,null,null,null,null,null,null,"",{"$f":"IF(C92=\"\",\"\",IF(COUNTIF($C$6:C92, C92)>1, \"\", C92))","v":""},{"$f":"IF(L92=\"\",\"\",INDEX(referentes!$J:$K,MATCH(L92,referentes!$K:$K,0),1))","v":""},{"$f":"IF(N92=\"\",\"\",INDEX(referentes!$A:$B,MATCH(N92,referentes!$B:$B,0),1))","v":""},{"$f":"IF(R92=\"\",\"\",INDEX(referentes!$D:$E,MATCH(R92,referentes!$E:$E,0),1))","v":""},{"$f":"IF(S92=\"\",\"\",INDEX(referentes!$G:$H,MATCH(S92,referentes!$H:$H,0),1))","v":""},"",{"$f":"IF(Z92=\"\",\"\",INDEX(referentes!$M:$N,MATCH(Z92,referentes!$N:$N,0),1))","v":""},{"$f":"IF(AT92=\"\",\"\",INDEX('Otras referencias'!AA:AB,MATCH(AT92,'Otras referencias'!AB:AB,0),1))","v":""},{"$f":"IF(AO92=\"\",\"\",INDEX(referentes!S:T,MATCH(AO92,referentes!$T:$T,0),1))","v":""},{"$f":"IF(AP92=\"\",\"\",INDEX(referentes!V:W,MATCH(AP92,referentes!$W:$W,0),1))","v":""}]
[null,0,"",null,null,"",null,null,{"$f":"IF(J93=\"\",\"\",INDEX('Otras referencias'!$V:$W,MATCH(J93,'Otras referencias'!$W:$W,0),1))","v":""},null,null,null,null,null,null,null,null,null,null,null,null,88,null,null,null,null,null,null,null,null,null,null,null,null,null,null,0,null,null,null,null,null,null,null,null,null,null,null,"",{"$f":"IF(C93=\"\",\"\",IF(COUNTIF($C$6:C93, C93)>1, \"\", C93))","v":""},{"$f":"IF(L93=\"\",\"\",INDEX(referentes!$J:$K,MATCH(L93,referentes!$K:$K,0),1))","v":""},{"$f":"IF(N93=\"\",\"\",INDEX(referentes!$A:$B,MATCH(N93,referentes!$B:$B,0),1))","v":""},{"$f":"IF(R93=\"\",\"\",INDEX(referentes!$D:$E,MATCH(R93,referentes!$E:$E,0),1))","v":""},{"$f":"IF(S93=\"\",\"\",INDEX(referentes!$G:$H,MATCH(S93,referentes!$H:$H,0),1))","v":""},"",{"$f":"IF(Z93=\"\",\"\",INDEX(referentes!$M:$N,MATCH(Z93,referentes!$N:$N,0),1))","v":""},{"$f":"IF(AT93=\"\",\"\",INDEX('Otras referencias'!AA:AB,MATCH(AT93,'Otras referencias'!AB:AB,0),1))","v":""},{"$f":"IF(AO93=\"\",\"\",INDEX(referentes!S:T,MATCH(AO93,referentes!$T:$T,0),1))","v":""},{"$f":"IF(AP93=\"\",\"\",INDEX(referentes!V:W,MATCH(AP93,referentes!$W:$W,0),1))","v":""}]
[null,0,"",null,null,"",null,null,{"$f":"IF(J94=\"\",\"\",INDEX('Otras referencias'!$V:$W,MATCH(J94,'Otras referencias'!$W:$W,0),1))","v":""},null,null,null,null,null,null,null,null,null,null,null,null,89,null,null,null,null,null,null,null,null,null,null,null,null,null,null,0,null,null,null,null,null,null,null,null,null,null,null,"",{"$f":"IF(C94=\"\",\"\",IF(COUNTIF($C$6:C94, C94)>1, \"\", C94))","v":""},{"$f":"IF(L94=\"\",\"\",INDEX(referentes!$J:$K,MATCH(L94,referentes!$K:$K,0),1))","v":""},{"$f":"IF(N94=\"\",\"\",INDEX(referentes!$A:$B,MATCH(N94,referentes!$B:$B,0),1))","v":""},{"$f":"IF(R94=\"\",\"\",INDEX(referentes!$D:$E,MATCH(R94,referentes!$E:$E,0),1))","v":""},{"$f":"IF(S94=\"\",\"\",INDEX(referentes!$G:$H,MATCH(S94,referentes!$H:$H,0),1))","v":""},"",{"$f":"IF(Z94=\"\",\"\",INDEX(referentes!$M:$N,MATCH(Z94,referentes!$N:$N,0),1))","v":""},{"$f":"IF(AT94=\"\",\"\",INDEX('Otras referencias'!AA:AB,MATCH(AT94,'Otras referencias'!AB:AB,0),1))","v":""},{"$f":"IF(AO94=\"\",\"\",INDEX(referentes!S:T,MATCH(AO94,referentes!$T:$T,0),1))","v":""},{"$f":"IF(AP94=\"\",\"\",INDEX(referentes!V:W,MATCH(AP94,referentes!$W:$W,0),1))","v":""}]
[null,0,"",null,null,"",null,null,{"$f":"IF(J95=\"\",\"\",INDEX('Otras referencias'!$V:$W,MATCH(J95,'Otras referencias'!$W:$W,0),1))","v":""},null,null,null,null,null,null,null,null,null,null,null,null,90,null,null,null,null,null,null,null,null,null,null,null,null,null,null,0,null,null,null,null,null,null,null,null,null,null,null,"",{"$f":"IF(C95=\"\",\"\",IF(COUNTIF($C$6:C95, C95)>1, \"\", C95))","v":""},{"$f":"IF(L95=\"\",\"\",INDEX(referentes!$J:$K,MATCH(L95,referentes!$K:$K,0),1))","v":""},{"$f":"IF(N95=\"\",\"\",INDEX(referentes!$A:$B,MATCH(N95,referentes!$B:$B,0),1))","v":""},{"$f":"IF(R95=\"\",\"\",INDEX(referentes!$D:$E,MATCH(R95,referentes!$E:$E,0),1))","v":""},{"$f":"IF(S95=\"\",\"\",INDEX(referentes!$G:$H,MATCH(S95,referentes!$H:$H,0),1))","v":""},"",{"$f":"IF(Z95=\"\",\"\",INDEX(referentes!$M:$N,MATCH(Z95,referentes!$N:$N,0),1))","v":""},{"$f":"IF(AT95=\"\",\"\",INDEX('Otras referencias'!AA:AB,MATCH(AT95,'Otras referencias'!AB:AB,0),1))","v":""},{"$f":"IF(AO95=\"\",\"\",INDEX(referentes!S:T,MATCH(AO95,referentes!$T:$T,0),1))","v":""},{"$f":"IF(AP95=\"\",\"\",INDEX(referentes!V:W,MATCH(AP95,referentes!$W:$W,0),1))","v":""}]
[null,0,"",null,null,"",null,null,{"$f":"IF(J96=\"\",\"\",INDEX('Otras referencias'!$V:$W,MATCH(J96,'Otras referencias'!$W:$W,0),1))","v":""},null,null,null,null,null,null,null,null,null,null,null,null,91,null,null,null,null,null,null,null,null,null,null,null,null,null,null,0,null,null,null,null,null,null,null,null,null,null,null,"",{"$f":"IF(C96=\"\",\"\",IF(COUNTIF($C$6:C96, C96)>1, \"\", C96))","v":""},{"$f":"IF(L96=\"\",\"\",INDEX(referentes!$J:$K,MATCH(L96,referentes!$K:$K,0),1))","v":""},{"$f":"IF(N96=\"\",\"\",INDEX(referentes!$A:$B,MATCH(N96,referentes!$B:$B,0),1))","v":""},{"$f":"IF(R96=\"\",\"\",INDEX(referentes!$D:$E,MATCH(R96,referentes!$E:$E,0),1))","v":""},{"$f":"IF(S96=\"\",\"\",INDEX(referentes!$G:$H,MATCH(S96,referentes!$H:$H,0),1))","v":""},"",{"$f":"IF(Z96=\"\",\"\",INDEX(referentes!$M:$N,MATCH(Z96,referentes!$N:$N,0),1))","v":""},{"$f":"IF(AT96=\"\",\"\",INDEX('Otras referencias'!AA:AB,MATCH(AT96,'Otras referencias'!AB:AB,0),1))","v":""},{"$f":"IF(AO96=\"\",\"\",INDEX(referentes!S:T,MATCH(AO96,referentes!$T:$T,0),1))","v":""},{"$f":"IF(AP96=\"\",\"\",INDEX(referentes!V:W,MATCH(AP96,referentes!$W:$W,0),1))","v":""}]
[null,0,"",null,null,"",null,null,{"$f":"IF(J97=\"\",\"\",INDEX('Otras referencias'!$V:$W,MATCH(J97,'Otras referencias'!$W:$W,0),1))","v":""},null,null,null,null,null,null,null,null,null,null,null,null,92,null,null,null,null,null,null,null,null,null,null,null,null,null,null,0,null,null,null,null,null,null,null,null,null,null,null,"",{"$f":"IF(C97=\"\",\"\",IF(COUNTIF($C$6:C97, C97)>1, \"\", C97))","v":""},{"$f":"IF(L97=\"\",\"\",INDEX(referentes!$J:$K,MATCH(L97,referentes!$K:$K,0),1))","v":""},{"$f":"IF(N97=\"\",\"\",INDEX(referentes!$A:$B,MATCH(N97,referentes!$B:$B,0),1))","v":""},{"$f":"IF(R97=\"\",\"\",INDEX(referentes!$D:$E,MATCH(R97,referentes!$E:$E,0),1))","v":""},{"$f":"IF(S97=\"\",\"\",INDEX(referentes!$G:$H,MATCH(S97,referentes!$H:$H,0),1))","v":""},"",{"$f":"IF(Z97=\"\",\"\",INDEX(referentes!$M:$N,MATCH(Z97,referentes!$N:$N,0),1))","v":""},{"$f":"IF(AT97=\"\",\"\",INDEX('Otras referencias'!AA:AB,MATCH(AT97,'Otras referencias'!AB:AB,0),1))","v":""},{"$f":"IF(AO97=\"\",\"\",INDEX(referentes!S:T,MATCH(AO97,referentes!$T:$T,0),1))","v":""},{"$f":"IF(AP97=\"\",\"\",INDEX(referentes!V:W,MATCH(AP97,referentes!$W:$W,0),1))","v":""}]
[null,0,"",null,null,"",null,null,{"$f":"IF(J98=\"\",\"\",INDEX('Otras referencias'!$V:$W,MATCH(J98,'Otras referencias'!$W:$W,0),1))","v":""},null,null,null,null,null,null,null,null,null,null,null,null,93,null,null,null,null,null,null,null,null,null,null,null,null,null,null,0,null,null,null,null,null,null,null,null,null,null,null,"",{"$f":"IF(C98=\"\",\"\",IF(COUNTIF($C$6:C98, C98)>1, \"\", C98))","v":""},{"$f":"IF(L98=\"\",\"\",INDEX(referentes!$J:$K,MATCH(L98,referentes!$K:$K,0),1))","v":""},{"$f":"IF(N98=\"\",\"\",INDEX(referentes!$A:$B,MATCH(N98,referentes!$B:$B,0),1))","v":""},{"$f":"IF(R98=\"\",\"\",INDEX(referentes!$D:$E,MATCH(R98,referentes!$E:$E,0),1))","v":""},{"$f":"IF(S98=\"\",\"\",INDEX(referentes!$G:$H,MATCH(S98,referentes!$H:$H,0),1))","v":""},"",{"$f":"IF(Z98=\"\",\"\",INDEX(referentes!$M:$N,MATCH(Z98,referentes!$N:$N,0),1))","v":""},{"$f":"IF(AT98=\"\",\"\",INDEX('Otras referencias'!AA:AB,MATCH(AT98,'Otras referencias'!AB:AB,0),1))","v":""},{"$f":"IF(AO98=\"\",\"\",INDEX(referentes!S:T,MATCH(AO98,referentes!$T:$T,0),1))","v":""},{"$f":"IF(AP98=\"\",\"\",INDEX(referentes!V:W,MATCH(AP98,referentes!$W:$W,0),1))","v":""}]
[null,0,"",null,null,"",null,null,{"$f":"IF(J99=\"\",\"\",INDEX('Otras referencias'!$V:$W,MATCH(J99,'Otras referencias'!$W:$W,0),1))","v":""},null,null,null,null,null,null,null,null,null,null,null,null,94,null,null,null,null,null,null,null,null,null,null,null,null,null,null,0,null,null,null,null,null,null,null,null,null,null,null,"",{"$f":"IF(C99=\"\",\"\",IF(COUNTIF($C$6:C99, C99)>1, \"\", C99))","v":""},{"$f":"IF(L99=\"\",\"\",INDEX(referentes!$J:$K,MATCH(L99,referentes!$K:$K,0),1))","v":""},{"$f":"IF(N99=\"\",\"\",INDEX(referentes!$A:$B,MATCH(N99,referentes!$B:$B,0),1))","v":""},{"$f":"IF(R99=\"\",\"\",INDEX(referentes!$D:$E,MATCH(R99,referentes!$E:$E,0),1))","v":""},{"$f":"IF(S99=\"\",\"\",INDEX(referentes!$G:$H,MATCH(S99,referentes!$H:$H,0),1))","v":""},"",{"$f":"IF(Z99=\"\",\"\",INDEX(referentes!$M:$N,MATCH(Z99,referentes!$N:$N,0),1))","v":""},{"$f":"IF(AT99=\"\",\"\",INDEX('Otras referencias'!AA:AB,MATCH(AT99,'Otras referencias'!AB:AB,0),1))","v":""},{"$f":"IF(AO99=\"\",\"\",INDEX(referentes!S:T,MATCH(AO99,referentes!$T:$T,0),1))","v":""},{"$f":"IF(AP99=\"\",\"\",INDEX(referentes!V:W,MATCH(AP99,referentes!$W:$W,0),1))","v":""}]
[null,0,"",null,null,"",null,null,{"$f":"IF(J100=\"\",\"\",INDEX('Otras referencias'!$V:$W,MATCH(J100,'Otras referencias'!$W:$W,0),1))","v":""},null,null,null,null,null,null,null,null,null,null,null,null,95,null,null,null,null,null,null,null,null,null,null,null,null,null,null,0,null,null,null,null,null,null,null,null,null,null,null,"",{"$f":"IF(C100=\"\",\"\",IF(COUNTIF($C$6:C100, C100)>1, \"\", C100))","v":""},{"$f":"IF(L100=\"\",\"\",INDEX(referentes!$J:$K,MATCH(L100,referentes!$K:$K,0),1))","v":""},{"$f":"IF(N100=\"\",\"\",INDEX(referentes!$A:$B,MATCH(N100,referentes!$B:$B,0),1))","v":""},{"$f":"IF(R100=\"\",\"\",INDEX(referentes!$D:$E,MATCH(R100,referentes!$E:$E,0),1))","v":""},{"$f":"IF(S100=\"\",\"\",INDEX(referentes!$G:$H,MATCH(S100,referentes!$H:$H,0),1))","v":""},"",{"$f":"IF(Z100=\"\",\"\",INDEX(referentes!$M:$N,MATCH(Z100,referentes!$N:$N,0),1))","v":""},{"$f":"IF(AT100=\"\",\"\",INDEX('Otras referencias'!AA:AB,MATCH(AT100,'Otras referencias'!AB:AB,0),1))","v":""},{"$f":"IF(AO100=\"\",\"\",INDEX(referentes!S:T,MATCH(AO100,referentes!$T:$T,0),1))","v":""},{"$f":"IF(AP100=\"\",\"\",INDEX(referentes!V:W,MATCH(AP100,referentes!$W:$W,0),1))","v":""}]
[null,0,"",null,null,"",null,null,{"$f":"IF(J101=\"\",\"\",INDEX('Otras referencias'!$V:$W,MATCH(J101,'Otras referencias'!$W:$W,0),1))","v":""},null,null,null,null,null,null,null,null,null,null,null,null,96,null,null,null,null,null,null,null,null,null,null,null,null,null,null,0,null,null,null,null,null,null,null,null,null,null,null,"",{"$f":"IF(C101=\"\",\"\",IF(COUNTIF($C$6:C101, C101)>1, \"\", C101))","v":""},{"$f":"IF(L101=\"\",\"\",INDEX(referentes!$J:$K,MATCH(L101,referentes!$K:$K,0),1))","v":""},{"$f":"IF(N101=\"\",\"\",INDEX(referentes!$A:$B,MATCH(N101,referentes!$B:$B,0),1))","v":""},{"$f":"IF(R101=\"\",\"\",INDEX(referentes!$D:$E,MATCH(R101,referentes!$E:$E,0),1))","v":""},{"$f":"IF(S101=\"\",\"\",INDEX(referentes!$G:$H,MATCH(S101,referentes!$H:$H,0),1))","v":""},"",{"$f":"IF(Z101=\"\",\"\",INDEX(referentes!$M:$N,MATCH(Z101,referentes!$N:$N,0),1))","v":""},{"$f":"IF(AT101=\"\",\"\",INDEX('Otras referencias'!AA:AB,MATCH(AT101,'Otras referencias'!AB:AB,0),1))","v":""},{"$f":"IF(AO101=\"\",\"\",INDEX(referentes!S:T,MATCH(AO101,referentes!$T:$T,0),1))","v":""},{"$f":"IF(AP101=\"\",\"\",INDEX(referentes!V:W,MATCH(AP101,referentes!$W:$W,0),1))","v":""}]
[null,0,"",null,null,"",null,null,{"$f":"IF(J102=\"\",\"\",INDEX('Otras referencias'!$V:$W,MATCH(J102,'Otras referencias'!$W:$W,0),1))","v":""},null,null,null,null,null,null,null,null,null,null,null,null,97,null,null,null,null,null,null,null,null,null,null,null,null,null,null,0,null,null,null,null,null,null,null,null,null,null,null,"",{"$f":"IF(C102=\"\",\"\",IF(COUNTIF($C$6:C102, C102)>1, \"\", C102))","v":""},{"$f":"IF(L102=\"\",\"\",INDEX(referentes!$J:$K,MATCH(L102,referentes!$K:$K,0),1))","v":""},{"$f":"IF(N102=\"\",\"\",INDEX(referentes!$A:$B,MATCH(N102,referentes!$B:$B,0),1))","v":""},{"$f":"IF(R102=\"\",\"\",INDEX(referentes!$D:$E,MATCH(R102,referentes!$E:$E,0),1))","v":""},{"$f":"IF(S102=\"\",\"\",INDEX(referentes!$G:$H,MATCH(S102,referentes!$H:$H,0),1))","v":""},"",{"$f":"IF(Z102=\"\",\"\",INDEX(referentes!$M:$N,MATCH(Z102,referentes!$N:$N,0),1))","v":""},{"$f":"IF(AT102=\"\",\"\",INDEX('Otras referencias'!AA:AB,MATCH(AT102,'Otras referencias'!AB:AB,0),1))","v":""},{"$f":"IF(AO102=\"\",\"\",INDEX(referentes!S:T,MATCH(AO102,referentes!$T:$T,0),1))","v":""},{"$f":"IF(AP102=\"\",\"\",INDEX(referentes!V:W,MATCH(AP102,referentes!$W:$W,0),1))","v":""}]
[null,{"$f":"IF(BC103=BC102,B102,B102+1)","v":0},"",null,null,"",null,null,{"$f":"IF(J103=\"\",\"\",INDEX('Otras referencias'!$V:$W,MATCH(J103,'Otras referencias'!$W:$W,0),1))","v":""},null,null,null,null,null,null,null,null,null,null,null,null,98,null,null,null,null,null,null,null,null,null,null,null,null,null,null,0,null,null,null,null,null,null,null,null,null,null,null,"",{"$f":"IF(C103=\"\",\"\",IF(COUNTIF($C$6:C103, C103)>1, \"\", C103))","v":""},{"$f":"IF(L103=\"\",\"\",INDEX(referentes!$J:$K,MATCH(L103,referentes!$K:$K,0),1))","v":""},{"$f":"IF(N103=\"\",\"\",INDEX(referentes!$A:$B,MATCH(N103,referentes!$B:$B,0),1))","v":""},{"$f":"IF(R103=\"\",\"\",INDEX(referentes!$D:$E,MATCH(R103,referentes!$E:$E,0),1))","v":""},{"$f":"IF(S103=\"\",\"\",INDEX(referentes!$G:$H,MATCH(S103,referentes!$H:$H,0),1))","v":""},"",{"$f":"IF(Z103=\"\",\"\",INDEX(referentes!$M:$N,MATCH(Z103,referentes!$N:$N,0),1))","v":""},{"$f":"IF(AT103=\"\",\"\",INDEX('Otras referencias'!AA:AB,MATCH(AT103,'Otras referencias'!AB:AB,0),1))","v":""},{"$f":"IF(AO103=\"\",\"\",INDEX(referentes!S:T,MATCH(AO103,referentes!$T:$T,0),1))","v":""},{"$f":"IF(AP103=\"\",\"\",INDEX(referentes!V:W,MATCH(AP103,referentes!$W:$W,0),1))","v":""}]
[null,0,"",null,null,"",null,null,{"$f":"IF(J104=\"\",\"\",INDEX('Otras referencias'!$V:$W,MATCH(J104,'Otras referencias'!$W:$W,0),1))","v":""},null,null,null,null,null,null,null,null,null,null,null,null,99,null,null,null,null,null,null,null,null,null,null,null,null,null,null,0,null,null,null,null,null,null,null,null,null,null,null,"",{"$f":"IF(C104=\"\",\"\",IF(COUNTIF($C$6:C104, C104)>1, \"\", C104))","v":""},{"$f":"IF(L104=\"\",\"\",INDEX(referentes!$J:$K,MATCH(L104,referentes!$K:$K,0),1))","v":""},{"$f":"IF(N104=\"\",\"\",INDEX(referentes!$A:$B,MATCH(N104,referentes!$B:$B,0),1))","v":""},{"$f":"IF(R104=\"\",\"\",INDEX(referentes!$D:$E,MATCH(R104,referentes!$E:$E,0),1))","v":""},{"$f":"IF(S104=\"\",\"\",INDEX(referentes!$G:$H,MATCH(S104,referentes!$H:$H,0),1))","v":""},"",{"$f":"IF(Z104=\"\",\"\",INDEX(referentes!$M:$N,MATCH(Z104,referentes!$N:$N,0),1))","v":""},{"$f":"IF(AT104=\"\",\"\",INDEX('Otras referencias'!AA:AB,MATCH(AT104,'Otras referencias'!AB:AB,0),1))","v":""},{"$f":"IF(AO104=\"\",\"\",INDEX(referentes!S:T,MATCH(AO104,referentes!$T:$T,0),1))","v":""},{"$f":"IF(AP104=\"\",\"\",INDEX(referentes!V:W,MATCH(AP104,referentes!$W:$W,0),1))","v":""}]
[null,0,"",null,null,"",null,null,{"$f":"IF(J105=\"\",\"\",INDEX('Otras referencias'!$V:$W,MATCH(J105,'Otras referencias'!$W:$W,0),1))","v":""},null,null,null,null,null,null,null,null,null,null,null,null,100,null,null,null,null,null,null,null,null,null,null,null,null,null,null,0,null,null,null,null,null,null,null,null,null,null,null,"",{"$f":"IF(C105=\"\",\"\",IF(COUNTIF($C$6:C105, C105)>1, \"\", C105))","v":""},{"$f":"IF(L105=\"\",\"\",INDEX(referentes!$J:$K,MATCH(L105,referentes!$K:$K,0),1))","v":""},{"$f":"IF(N105=\"\",\"\",INDEX(referentes!$A:$B,MATCH(N105,referentes!$B:$B,0),1))","v":""},{"$f":"IF(R105=\"\",\"\",INDEX(referentes!$D:$E,MATCH(R105,referentes!$E:$E,0),1))","v":""},{"$f":"IF(S105=\"\",\"\",INDEX(referentes!$G:$H,MATCH(S105,referentes!$H:$H,0),1))","v":""},"",{"$f":"IF(Z105=\"\",\"\",INDEX(referentes!$M:$N,MATCH(Z105,referentes!$N:$N,0),1))","v":""},{"$f":"IF(AT105=\"\",\"\",INDEX('Otras referencias'!AA:AB,MATCH(AT105,'Otras referencias'!AB:AB,0),1))","v":""},{"$f":"IF(AO105=\"\",\"\",INDEX(referentes!S:T,MATCH(AO105,referentes!$T:$T,0),1))","v":""},{"$f":"IF(AP105=\"\",\"\",INDEX(referentes!V:W,MATCH(AP105,referentes!$W:$W,0),1))","v":""}]
[null,0,"",null,null,"",null,null,{"$f":"IF(J106=\"\",\"\",INDEX('Otras referencias'!$V:$W,MATCH(J106,'Otras referencias'!$W:$W,0),1))","v":""},null,null,null,null,null,null,null,null,null,null,null,null,101,null,null,null,null,null,null,null,null,null,null,null,null,null,null,0,null,null,null,null,null,null,null,null,null,null,null,"",{"$f":"IF(C106=\"\",\"\",IF(COUNTIF($C$6:C106, C106)>1, \"\", C106))","v":""},{"$f":"IF(L106=\"\",\"\",INDEX(referentes!$J:$K,MATCH(L106,referentes!$K:$K,0),1))","v":""},{"$f":"IF(N106=\"\",\"\",INDEX(referentes!$A:$B,MATCH(N106,referentes!$B:$B,0),1))","v":""},{"$f":"IF(R106=\"\",\"\",INDEX(referentes!$D:$E,MATCH(R106,referentes!$E:$E,0),1))","v":""},{"$f":"IF(S106=\"\",\"\",INDEX(referentes!$G:$H,MATCH(S106,referentes!$H:$H,0),1))","v":""},"",{"$f":"IF(Z106=\"\",\"\",INDEX(referentes!$M:$N,MATCH(Z106,referentes!$N:$N,0),1))","v":""},{"$f":"IF(AT106=\"\",\"\",INDEX('Otras referencias'!AA:AB,MATCH(AT106,'Otras referencias'!AB:AB,0),1))","v":""},{"$f":"IF(AO106=\"\",\"\",INDEX(referentes!S:T,MATCH(AO106,referentes!$T:$T,0),1))","v":""},{"$f":"IF(AP106=\"\",\"\",INDEX(referentes!V:W,MATCH(AP106,referentes!$W:$W,0),1))","v":""}]
[null,0,"",null,null,"",null,null,{"$f":"IF(J107=\"\",\"\",INDEX('Otras referencias'!$V:$W,MATCH(J107,'Otras referencias'!$W:$W,0),1))","v":""},null,null,null,null,null,null,null,null,null,null,null,null,102,null,null,null,null,null,null,null,null,null,null,null,null,null,null,0,null,null,null,null,null,null,null,null,null,null,null,"",{"$f":"IF(C107=\"\",\"\",IF(COUNTIF($C$6:C107, C107)>1, \"\", C107))","v":""},{"$f":"IF(L107=\"\",\"\",INDEX(referentes!$J:$K,MATCH(L107,referentes!$K:$K,0),1))","v":""},{"$f":"IF(N107=\"\",\"\",INDEX(referentes!$A:$B,MATCH(N107,referentes!$B:$B,0),1))","v":""},{"$f":"IF(R107=\"\",\"\",INDEX(referentes!$D:$E,MATCH(R107,referentes!$E:$E,0),1))","v":""},{"$f":"IF(S107=\"\",\"\",INDEX(referentes!$G:$H,MATCH(S107,referentes!$H:$H,0),1))","v":""},"",{"$f":"IF(Z107=\"\",\"\",INDEX(referentes!$M:$N,MATCH(Z107,referentes!$N:$N,0),1))","v":""},{"$f":"IF(AT107=\"\",\"\",INDEX('Otras referencias'!AA:AB,MATCH(AT107,'Otras referencias'!AB:AB,0),1))","v":""},{"$f":"IF(AO107=\"\",\"\",INDEX(referentes!S:T,MATCH(AO107,referentes!$T:$T,0),1))","v":""},{"$f":"IF(AP107=\"\",\"\",INDEX(referentes!V:W,MATCH(AP107,referentes!$W:$W,0),1))","v":""}]
[null,0,"",null,null,"",null,null,{"$f":"IF(J108=\"\",\"\",INDEX('Otras referencias'!$V:$W,MATCH(J108,'Otras referencias'!$W:$W,0),1))","v":""},null,null,null,null,null,null,null,null,null,null,null,null,103,null,null,null,null,null,null,null,null,null,null,null,null,null,null,0,null,null,null,null,null,null,null,null,null,null,null,"",{"$f":"IF(C108=\"\",\"\",IF(COUNTIF($C$6:C108, C108)>1, \"\", C108))","v":""},{"$f":"IF(L108=\"\",\"\",INDEX(referentes!$J:$K,MATCH(L108,referentes!$K:$K,0),1))","v":""},{"$f":"IF(N108=\"\",\"\",INDEX(referentes!$A:$B,MATCH(N108,referentes!$B:$B,0),1))","v":""},{"$f":"IF(R108=\"\",\"\",INDEX(referentes!$D:$E,MATCH(R108,referentes!$E:$E,0),1))","v":""},{"$f":"IF(S108=\"\",\"\",INDEX(referentes!$G:$H,MATCH(S108,referentes!$H:$H,0),1))","v":""},"",{"$f":"IF(Z108=\"\",\"\",INDEX(referentes!$M:$N,MATCH(Z108,referentes!$N:$N,0),1))","v":""},{"$f":"IF(AT108=\"\",\"\",INDEX('Otras referencias'!AA:AB,MATCH(AT108,'Otras referencias'!AB:AB,0),1))","v":""},{"$f":"IF(AO108=\"\",\"\",INDEX(referentes!S:T,MATCH(AO108,referentes!$T:$T,0),1))","v":""},{"$f":"IF(AP108=\"\",\"\",INDEX(referentes!V:W,MATCH(AP108,referentes!$W:$W,0),1))","v":""}]
[null,0,"",null,null,"",null,null,{"$f":"IF(J109=\"\",\"\",INDEX('Otras referencias'!$V:$W,MATCH(J109,'Otras referencias'!$W:$W,0),1))","v":""},null,null,null,null,null,null,null,null,null,null,null,null,104,null,null,null,null,null,null,null,null,null,null,null,null,null,null,0,null,null,null,null,null,null,null,null,null,null,null,"",{"$f":"IF(C109=\"\",\"\",IF(COUNTIF($C$6:C109, C109)>1, \"\", C109))","v":""},{"$f":"IF(L109=\"\",\"\",INDEX(referentes!$J:$K,MATCH(L109,referentes!$K:$K,0),1))","v":""},{"$f":"IF(N109=\"\",\"\",INDEX(referentes!$A:$B,MATCH(N109,referentes!$B:$B,0),1))","v":""},{"$f":"IF(R109=\"\",\"\",INDEX(referentes!$D:$E,MATCH(R109,referentes!$E:$E,0),1))","v":""},{"$f":"IF(S109=\"\",\"\",INDEX(referentes!$G:$H,MATCH(S109,referentes!$H:$H,0),1))","v":""},"",{"$f":"IF(Z109=\"\",\"\",INDEX(referentes!$M:$N,MATCH(Z109,referentes!$N:$N,0),1))","v":""},{"$f":"IF(AT109=\"\",\"\",INDEX('Otras referencias'!AA:AB,MATCH(AT109,'Otras referencias'!AB:AB,0),1))","v":""},{"$f":"IF(AO109=\"\",\"\",INDEX(referentes!S:T,MATCH(AO109,referentes!$T:$T,0),1))","v":""},{"$f":"IF(AP109=\"\",\"\",INDEX(referentes!V:W,MATCH(AP109,referentes!$W:$W,0),1))","v":""}]
[null,0,"",null,null,"",null,null,{"$f":"IF(J110=\"\",\"\",INDEX('Otras referencias'!$V:$W,MATCH(J110,'Otras referencias'!$W:$W,0),1))","v":""},null,null,null,null,null,null,null,null,null,null,null,null,105,null,null,null,null,null,null,null,null,null,null,null,null,null,null,0,null,null,null,null,null,null,null,null,null,null,null,"",{"$f":"IF(C110=\"\",\"\",IF(COUNTIF($C$6:C110, C110)>1, \"\", C110))","v":""},{"$f":"IF(L110=\"\",\"\",INDEX(referentes!$J:$K,MATCH(L110,referentes!$K:$K,0),1))","v":""},{"$f":"IF(N110=\"\",\"\",INDEX(referentes!$A:$B,MATCH(N110,referentes!$B:$B,0),1))","v":""},{"$f":"IF(R110=\"\",\"\",INDEX(referentes!$D:$E,MATCH(R110,referentes!$E:$E,0),1))","v":""},{"$f":"IF(S110=\"\",\"\",INDEX(referentes!$G:$H,MATCH(S110,referentes!$H:$H,0),1))","v":""},"",{"$f":"IF(Z110=\"\",\"\",INDEX(referentes!$M:$N,MATCH(Z110,referentes!$N:$N,0),1))","v":""},{"$f":"IF(AT110=\"\",\"\",INDEX('Otras referencias'!AA:AB,MATCH(AT110,'Otras referencias'!AB:AB,0),1))","v":""},{"$f":"IF(AO110=\"\",\"\",INDEX(referentes!S:T,MATCH(AO110,referentes!$T:$T,0),1))","v":""},{"$f":"IF(AP110=\"\",\"\",INDEX(referentes!V:W,MATCH(AP110,referentes!$W:$W,0),1))","v":""}]
[null,0,"",null,null,"",null,null,{"$f":"IF(J111=\"\",\"\",INDEX('Otras referencias'!$V:$W,MATCH(J111,'Otras referencias'!$W:$W,0),1))","v":""},null,null,null,null,null,null,null,null,null,null,null,null,106,null,null,null,null,null,null,null,null,null,null,null,null,null,null,0,null,null,null,null,null,null,null,null,null,null,null,"",{"$f":"IF(C111=\"\",\"\",IF(COUNTIF($C$6:C111, C111)>1, \"\", C111))","v":""},{"$f":"IF(L111=\"\",\"\",INDEX(referentes!$J:$K,MATCH(L111,referentes!$K:$K,0),1))","v":""},{"$f":"IF(N111=\"\",\"\",INDEX(referentes!$A:$B,MATCH(N111,referentes!$B:$B,0),1))","v":""},{"$f":"IF(R111=\"\",\"\",INDEX(referentes!$D:$E,MATCH(R111,referentes!$E:$E,0),1))","v":""},{"$f":"IF(S111=\"\",\"\",INDEX(referentes!$G:$H,MATCH(S111,referentes!$H:$H,0),1))","v":""},"",{"$f":"IF(Z111=\"\",\"\",INDEX(referentes!$M:$N,MATCH(Z111,referentes!$N:$N,0),1))","v":""},{"$f":"IF(AT111=\"\",\"\",INDEX('Otras referencias'!AA:AB,MATCH(AT111,'Otras referencias'!AB:AB,0),1))","v":""},{"$f":"IF(AO111=\"\",\"\",INDEX(referentes!S:T,MATCH(AO111,referentes!$T:$T,0),1))","v":""},{"$f":"IF(AP111=\"\",\"\",INDEX(referentes!V:W,MATCH(AP111,referentes!$W:$W,0),1))","v":""}]
[null,0,"",null,null,"",null,null,{"$f":"IF(J112=\"\",\"\",INDEX('Otras referencias'!$V:$W,MATCH(J112,'Otras referencias'!$W:$W,0),1))","v":""},null,null,null,null,null,null,null,null,null,null,null,null,107,null,null,null,null,null,null,null,null,null,null,null,null,null,null,0,null,null,null,null,null,null,null,null,null,null,null,"",{"$f":"IF(C112=\"\",\"\",IF(COUNTIF($C$6:C112, C112)>1, \"\", C112))","v":""},{"$f":"IF(L112=\"\",\"\",INDEX(referentes!$J:$K,MATCH(L112,referentes!$K:$K,0),1))","v":""},{"$f":"IF(N112=\"\",\"\",INDEX(referentes!$A:$B,MATCH(N112,referentes!$B:$B,0),1))","v":""},{"$f":"IF(R112=\"\",\"\",INDEX(referentes!$D:$E,MATCH(R112,referentes!$E:$E,0),1))","v":""},{"$f":"IF(S112=\"\",\"\",INDEX(referentes!$G:$H,MATCH(S112,referentes!$H:$H,0),1))","v":""},"",{"$f":"IF(Z112=\"\",\"\",INDEX(referentes!$M:$N,MATCH(Z112,referentes!$N:$N,0),1))","v":""},{"$f":"IF(AT112=\"\",\"\",INDEX('Otras referencias'!AA:AB,MATCH(AT112,'Otras referencias'!AB:AB,0),1))","v":""},{"$f":"IF(AO112=\"\",\"\",INDEX(referentes!S:T,MATCH(AO112,referentes!$T:$T,0),1))","v":""},{"$f":"IF(AP112=\"\",\"\",INDEX(referentes!V:W,MATCH(AP112,referentes!$W:$W,0),1))","v":""}]
[null,0,"",null,null,"",null,null,{"$f":"IF(J113=\"\",\"\",INDEX('Otras referencias'!$V:$W,MATCH(J113,'Otras referencias'!$W:$W,0),1))","v":""},null,null,null,null,null,null,null,null,null,null,null,null,108,null,null,null,null,null,null,null,null,null,null,null,null,null,null,0,null,null,null,null,null,null,null,null,null,null,null,"",{"$f":"IF(C113=\"\",\"\",IF(COUNTIF($C$6:C113, C113)>1, \"\", C113))","v":""},{"$f":"IF(L113=\"\",\"\",INDEX(referentes!$J:$K,MATCH(L113,referentes!$K:$K,0),1))","v":""},{"$f":"IF(N113=\"\",\"\",INDEX(referentes!$A:$B,MATCH(N113,referentes!$B:$B,0),1))","v":""},{"$f":"IF(R113=\"\",\"\",INDEX(referentes!$D:$E,MATCH(R113,referentes!$E:$E,0),1))","v":""},{"$f":"IF(S113=\"\",\"\",INDEX(referentes!$G:$H,MATCH(S113,referentes!$H:$H,0),1))","v":""},"",{"$f":"IF(Z113=\"\",\"\",INDEX(referentes!$M:$N,MATCH(Z113,referentes!$N:$N,0),1))","v":""},{"$f":"IF(AT113=\"\",\"\",INDEX('Otras referencias'!AA:AB,MATCH(AT113,'Otras referencias'!AB:AB,0),1))","v":""},{"$f":"IF(AO113=\"\",\"\",INDEX(referentes!S:T,MATCH(AO113,referentes!$T:$T,0),1))","v":""},{"$f":"IF(AP113=\"\",\"\",INDEX(referentes!V:W,MATCH(AP113,referentes!$W:$W,0),1))","v":""}]
[null,0,"",null,null,"",null,null,{"$f":"IF(J114=\"\",\"\",INDEX('Otras referencias'!$V:$W,MATCH(J114,'Otras referencias'!$W:$W,0),1))","v":""},null,null,null,null,null,null,null,null,null,null,null,null,109,null,null,null,null,null,null,null,null,null,null,null,null,null,null,0,null,null,null,null,null,null,null,null,null,null,null,"",{"$f":"IF(C114=\"\",\"\",IF(COUNTIF($C$6:C114, C114)>1, \"\", C114))","v":""},{"$f":"IF(L114=\"\",\"\",INDEX(referentes!$J:$K,MATCH(L114,referentes!$K:$K,0),1))","v":""},{"$f":"IF(N114=\"\",\"\",INDEX(referentes!$A:$B,MATCH(N114,referentes!$B:$B,0),1))","v":""},{"$f":"IF(R114=\"\",\"\",INDEX(referentes!$D:$E,MATCH(R114,referentes!$E:$E,0),1))","v":""},{"$f":"IF(S114=\"\",\"\",INDEX(referentes!$G:$H,MATCH(S114,referentes!$H:$H,0),1))","v":""},"",{"$f":"IF(Z114=\"\",\"\",INDEX(referentes!$M:$N,MATCH(Z114,referentes!$N:$N,0),1))","v":""},{"$f":"IF(AT114=\"\",\"\",INDEX('Otras referencias'!AA:AB,MATCH(AT114,'Otras referencias'!AB:AB,0),1))","v":""},{"$f":"IF(AO114=\"\",\"\",INDEX(referentes!S:T,MATCH(AO114,referentes!$T:$T,0),1))","v":""},{"$f":"IF(AP114=\"\",\"\",INDEX(referentes!V:W,MATCH(AP114,referentes!$W:$W,0),1))","v":""}]
[null,0,"",null,null,"",null,null,{"$f":"IF(J115=\"\",\"\",INDEX('Otras referencias'!$V:$W,MATCH(J115,'Otras referencias'!$W:$W,0),1))","v":""},null,null,null,null,null,null,null,null,null,null,null,null,110,null,null,null,null,null,null,null,null,null,null,null,null,null,null,0,null,null,null,null,null,null,null,null,null,null,null,"",{"$f":"IF(C115=\"\",\"\",IF(COUNTIF($C$6:C115, C115)>1, \"\", C115))","v":""},{"$f":"IF(L115=\"\",\"\",INDEX(referentes!$J:$K,MATCH(L115,referentes!$K:$K,0),1))","v":""},{"$f":"IF(N115=\"\",\"\",INDEX(referentes!$A:$B,MATCH(N115,referentes!$B:$B,0),1))","v":""},{"$f":"IF(R115=\"\",\"\",INDEX(referentes!$D:$E,MATCH(R115,referentes!$E:$E,0),1))","v":""},{"$f":"IF(S115=\"\",\"\",INDEX(referentes!$G:$H,MATCH(S115,referentes!$H:$H,0),1))","v":""},"",{"$f":"IF(Z115=\"\",\"\",INDEX(referentes!$M:$N,MATCH(Z115,referentes!$N:$N,0),1))","v":""},{"$f":"IF(AT115=\"\",\"\",INDEX('Otras referencias'!AA:AB,MATCH(AT115,'Otras referencias'!AB:AB,0),1))","v":""},{"$f":"IF(AO115=\"\",\"\",INDEX(referentes!S:T,MATCH(AO115,referentes!$T:$T,0),1))","v":""},{"$f":"IF(AP115=\"\",\"\",INDEX(referentes!V:W,MATCH(AP115,referentes!$W:$W,0),1))","v":""}]
[null,0,"",null,null,"",null,null,{"$f":"IF(J116=\"\",\"\",INDEX('Otras referencias'!$V:$W,MATCH(J116,'Otras referencias'!$W:$W,0),1))","v":""},null,null,null,null,null,null,null,null,null,null,null,null,111,null,null,null,null,null,null,null,null,null,null,null,null,null,null,0,null,null,null,null,null,null,null,null,null,null,null,"",{"$f":"IF(C116=\"\",\"\",IF(COUNTIF($C$6:C116, C116)>1, \"\", C116))","v":""},{"$f":"IF(L116=\"\",\"\",INDEX(referentes!$J:$K,MATCH(L116,referentes!$K:$K,0),1))","v":""},{"$f":"IF(N116=\"\",\"\",INDEX(referentes!$A:$B,MATCH(N116,referentes!$B:$B,0),1))","v":""},{"$f":"IF(R116=\"\",\"\",INDEX(referentes!$D:$E,MATCH(R116,referentes!$E:$E,0),1))","v":""},{"$f":"IF(S116=\"\",\"\",INDEX(referentes!$G:$H,MATCH(S116,referentes!$H:$H,0),1))","v":""},"",{"$f":"IF(Z116=\"\",\"\",INDEX(referentes!$M:$N,MATCH(Z116,referentes!$N:$N,0),1))","v":""},{"$f":"IF(AT116=\"\",\"\",INDEX('Otras referencias'!AA:AB,MATCH(AT116,'Otras referencias'!AB:AB,0),1))","v":""},{"$f":"IF(AO116=\"\",\"\",INDEX(referentes!S:T,MATCH(AO116,referentes!$T:$T,0),1))","v":""},{"$f":"IF(AP116=\"\",\"\",INDEX(referentes!V:W,MATCH(AP116,referentes!$W:$W,0),1))","v":""}]
[null,0,"",null,null,"",null,null,{"$f":"IF(J117=\"\",\"\",INDEX('Otras referencias'!$V:$W,MATCH(J117,'Otras referencias'!$W:$W,0),1))","v":""},null,null,null,null,null,null,null,null,null,null,null,null,112,null,null,null,null,null,null,null,null,null,null,null,null,null,null,0,null,null,null,null,null,null,null,null,null,null,null,"",{"$f":"IF(C117=\"\",\"\",IF(COUNTIF($C$6:C117, C117)>1, \"\", C117))","v":""},{"$f":"IF(L117=\"\",\"\",INDEX(referentes!$J:$K,MATCH(L117,referentes!$K:$K,0),1))","v":""},{"$f":"IF(N117=\"\",\"\",INDEX(referentes!$A:$B,MATCH(N117,referentes!$B:$B,0),1))","v":""},{"$f":"IF(R117=\"\",\"\",INDEX(referentes!$D:$E,MATCH(R117,referentes!$E:$E,0),1))","v":""},{"$f":"IF(S117=\"\",\"\",INDEX(referentes!$G:$H,MATCH(S117,referentes!$H:$H,0),1))","v":""},"",{"$f":"IF(Z117=\"\",\"\",INDEX(referentes!$M:$N,MATCH(Z117,referentes!$N:$N,0),1))","v":""},{"$f":"IF(AT117=\"\",\"\",INDEX('Otras referencias'!AA:AB,MATCH(AT117,'Otras referencias'!AB:AB,0),1))","v":""},{"$f":"IF(AO117=\"\",\"\",INDEX(referentes!S:T,MATCH(AO117,referentes!$T:$T,0),1))","v":""},{"$f":"IF(AP117=\"\",\"\",INDEX(referentes!V:W,MATCH(AP117,referentes!$W:$W,0),1))","v":""}]
[null,0,"",null,null,"",null,null,{"$f":"IF(J118=\"\",\"\",INDEX('Otras referencias'!$V:$W,MATCH(J118,'Otras referencias'!$W:$W,0),1))","v":""},null,null,null,null,null,null,null,null,null,null,null,null,113,null,null,null,null,null,null,null,null,null,null,null,null,null,null,0,null,null,null,null,null,null,null,null,null,null,null,"",{"$f":"IF(C118=\"\",\"\",IF(COUNTIF($C$6:C118, C118)>1, \"\", C118))","v":""},{"$f":"IF(L118=\"\",\"\",INDEX(referentes!$J:$K,MATCH(L118,referentes!$K:$K,0),1))","v":""},{"$f":"IF(N118=\"\",\"\",INDEX(referentes!$A:$B,MATCH(N118,referentes!$B:$B,0),1))","v":""},{"$f":"IF(R118=\"\",\"\",INDEX(referentes!$D:$E,MATCH(R118,referentes!$E:$E,0),1))","v":""},{"$f":"IF(S118=\"\",\"\",INDEX(referentes!$G:$H,MATCH(S118,referentes!$H:$H,0),1))","v":""},"",{"$f":"IF(Z118=\"\",\"\",INDEX(referentes!$M:$N,MATCH(Z118,referentes!$N:$N,0),1))","v":""},{"$f":"IF(AT118=\"\",\"\",INDEX('Otras referencias'!AA:AB,MATCH(AT118,'Otras referencias'!AB:AB,0),1))","v":""},{"$f":"IF(AO118=\"\",\"\",INDEX(referentes!S:T,MATCH(AO118,referentes!$T:$T,0),1))","v":""},{"$f":"IF(AP118=\"\",\"\",INDEX(referentes!V:W,MATCH(AP118,referentes!$W:$W,0),1))","v":""}]
[null,0,"",null,null,"",null,null,{"$f":"IF(J119=\"\",\"\",INDEX('Otras referencias'!$V:$W,MATCH(J119,'Otras referencias'!$W:$W,0),1))","v":""},null,null,null,null,null,null,null,null,null,null,null,null,114,null,null,null,null,null,null,null,null,null,null,null,null,null,null,0,null,null,null,null,null,null,null,null,null,null,null,"",{"$f":"IF(C119=\"\",\"\",IF(COUNTIF($C$6:C119, C119)>1, \"\", C119))","v":""},{"$f":"IF(L119=\"\",\"\",INDEX(referentes!$J:$K,MATCH(L119,referentes!$K:$K,0),1))","v":""},{"$f":"IF(N119=\"\",\"\",INDEX(referentes!$A:$B,MATCH(N119,referentes!$B:$B,0),1))","v":""},{"$f":"IF(R119=\"\",\"\",INDEX(referentes!$D:$E,MATCH(R119,referentes!$E:$E,0),1))","v":""},{"$f":"IF(S119=\"\",\"\",INDEX(referentes!$G:$H,MATCH(S119,referentes!$H:$H,0),1))","v":""},"",{"$f":"IF(Z119=\"\",\"\",INDEX(referentes!$M:$N,MATCH(Z119,referentes!$N:$N,0),1))","v":""},{"$f":"IF(AT119=\"\",\"\",INDEX('Otras referencias'!AA:AB,MATCH(AT119,'Otras referencias'!AB:AB,0),1))","v":""},{"$f":"IF(AO119=\"\",\"\",INDEX(referentes!S:T,MATCH(AO119,referentes!$T:$T,0),1))","v":""},{"$f":"IF(AP119=\"\",\"\",INDEX(referentes!V:W,MATCH(AP119,referentes!$W:$W,0),1))","v":""}]
[null,0,"",null,null,"",null,null,{"$f":"IF(J120=\"\",\"\",INDEX('Otras referencias'!$V:$W,MATCH(J120,'Otras referencias'!$W:$W,0),1))","v":""},null,null,null,null,null,null,null,null,null,null,null,null,115,null,null,null,null,null,null,null,null,null,null,null,null,null,null,0,null,null,null,null,null,null,null,null,null,null,null,"",{"$f":"IF(C120=\"\",\"\",IF(COUNTIF($C$6:C120, C120)>1, \"\", C120))","v":""},{"$f":"IF(L120=\"\",\"\",INDEX(referentes!$J:$K,MATCH(L120,referentes!$K:$K,0),1))","v":""},{"$f":"IF(N120=\"\",\"\",INDEX(referentes!$A:$B,MATCH(N120,referentes!$B:$B,0),1))","v":""},{"$f":"IF(R120=\"\",\"\",INDEX(referentes!$D:$E,MATCH(R120,referentes!$E:$E,0),1))","v":""},{"$f":"IF(S120=\"\",\"\",INDEX(referentes!$G:$H,MATCH(S120,referentes!$H:$H,0),1))","v":""},"",{"$f":"IF(Z120=\"\",\"\",INDEX(referentes!$M:$N,MATCH(Z120,referentes!$N:$N,0),1))","v":""},{"$f":"IF(AT120=\"\",\"\",INDEX('Otras referencias'!AA:AB,MATCH(AT120,'Otras referencias'!AB:AB,0),1))","v":""},{"$f":"IF(AO120=\"\",\"\",INDEX(referentes!S:T,MATCH(AO120,referentes!$T:$T,0),1))","v":""},{"$f":"IF(AP120=\"\",\"\",INDEX(referentes!V:W,MATCH(AP120,referentes!$W:$W,0),1))","v":""}]
[null,0,"",null,null,"",null,null,{"$f":"IF(J121=\"\",\"\",INDEX('Otras referencias'!$V:$W,MATCH(J121,'Otras referencias'!$W:$W,0),1))","v":""},null,null,null,null,null,null,null,null,null,null,null,null,116,null,null,null,null,null,null,null,null,null,null,null,null,null,null,0,null,null,null,null,null,null,null,null,null,null,null,"",{"$f":"IF(C121=\"\",\"\",IF(COUNTIF($C$6:C121, C121)>1, \"\", C121))","v":""},{"$f":"IF(L121=\"\",\"\",INDEX(referentes!$J:$K,MATCH(L121,referentes!$K:$K,0),1))","v":""},{"$f":"IF(N121=\"\",\"\",INDEX(referentes!$A:$B,MATCH(N121,referentes!$B:$B,0),1))","v":""},{"$f":"IF(R121=\"\",\"\",INDEX(referentes!$D:$E,MATCH(R121,referentes!$E:$E,0),1))","v":""},{"$f":"IF(S121=\"\",\"\",INDEX(referentes!$G:$H,MATCH(S121,referentes!$H:$H,0),1))","v":""},"",{"$f":"IF(Z121=\"\",\"\",INDEX(referentes!$M:$N,MATCH(Z121,referentes!$N:$N,0),1))","v":""},{"$f":"IF(AT121=\"\",\"\",INDEX('Otras referencias'!AA:AB,MATCH(AT121,'Otras referencias'!AB:AB,0),1))","v":""},{"$f":"IF(AO121=\"\",\"\",INDEX(referentes!S:T,MATCH(AO121,referentes!$T:$T,0),1))","v":""},{"$f":"IF(AP121=\"\",\"\",INDEX(referentes!V:W,MATCH(AP121,referentes!$W:$W,0),1))","v":""}]
[null,0,"",null,null,"",null,null,{"$f":"IF(J122=\"\",\"\",INDEX('Otras referencias'!$V:$W,MATCH(J122,'Otras referencias'!$W:$W,0),1))","v":""},null,null,null,null,null,null,null,null,null,null,null,null,117,null,null,null,null,null,null,null,null,null,null,null,null,null,null,0,null,null,null,null,null,null,null,null,null,null,null,"",{"$f":"IF(C122=\"\",\"\",IF(COUNTIF($C$6:C122, C122)>1, \"\", C122))","v":""},{"$f":"IF(L122=\"\",\"\",INDEX(referentes!$J:$K,MATCH(L122,referentes!$K:$K,0),1))","v":""},{"$f":"IF(N122=\"\",\"\",INDEX(referentes!$A:$B,MATCH(N122,referentes!$B:$B,0),1))","v":""},{"$f":"IF(R122=\"\",\"\",INDEX(referentes!$D:$E,MATCH(R122,referentes!$E:$E,0),1))","v":""},{"$f":"IF(S122=\"\",\"\",INDEX(referentes!$G:$H,MATCH(S122,referentes!$H:$H,0),1))","v":""},"",{"$f":"IF(Z122=\"\",\"\",INDEX(referentes!$M:$N,MATCH(Z122,referentes!$N:$N,0),1))","v":""},{"$f":"IF(AT122=\"\",\"\",INDEX('Otras referencias'!AA:AB,MATCH(AT122,'Otras referencias'!AB:AB,0),1))","v":""},{"$f":"IF(AO122=\"\",\"\",INDEX(referentes!S:T,MATCH(AO122,referentes!$T:$T,0),1))","v":""},{"$f":"IF(AP122=\"\",\"\",INDEX(referentes!V:W,MATCH(AP122,referentes!$W:$W,0),1))","v":""}]
[null,0,"",null,null,"",null,null,{"$f":"IF(J123=\"\",\"\",INDEX('Otras referencias'!$V:$W,MATCH(J123,'Otras referencias'!$W:$W,0),1))","v":""},null,null,null,null,null,null,null,null,null,null,null,null,118,null,null,null,null,null,null,null,null,null,null,null,null,null,null,0,null,null,null,null,null,null,null,null,null,null,null,"",{"$f":"IF(C123=\"\",\"\",IF(COUNTIF($C$6:C123, C123)>1, \"\", C123))","v":""},{"$f":"IF(L123=\"\",\"\",INDEX(referentes!$J:$K,MATCH(L123,referentes!$K:$K,0),1))","v":""},{"$f":"IF(N123=\"\",\"\",INDEX(referentes!$A:$B,MATCH(N123,referentes!$B:$B,0),1))","v":""},{"$f":"IF(R123=\"\",\"\",INDEX(referentes!$D:$E,MATCH(R123,referentes!$E:$E,0),1))","v":""},{"$f":"IF(S123=\"\",\"\",INDEX(referentes!$G:$H,MATCH(S123,referentes!$H:$H,0),1))","v":""},"",{"$f":"IF(Z123=\"\",\"\",INDEX(referentes!$M:$N,MATCH(Z123,referentes!$N:$N,0),1))","v":""},{"$f":"IF(AT123=\"\",\"\",INDEX('Otras referencias'!AA:AB,MATCH(AT123,'Otras referencias'!AB:AB,0),1))","v":""},{"$f":"IF(AO123=\"\",\"\",INDEX(referentes!S:T,MATCH(AO123,referentes!$T:$T,0),1))","v":""},{"$f":"IF(AP123=\"\",\"\",INDEX(referentes!V:W,MATCH(AP123,referentes!$W:$W,0),1))","v":""}]
[null,0,"",null,null,"",null,null,{"$f":"IF(J124=\"\",\"\",INDEX('Otras referencias'!$V:$W,MATCH(J124,'Otras referencias'!$W:$W,0),1))","v":""},null,null,null,null,null,null,null,null,null,null,null,null,119,null,null,null,null,null,null,null,null,null,null,null,null,null,null,0,null,null,null,null,null,null,null,null,null,null,null,"",{"$f":"IF(C124=\"\",\"\",IF(COUNTIF($C$6:C124, C124)>1, \"\", C124))","v":""},{"$f":"IF(L124=\"\",\"\",INDEX(referentes!$J:$K,MATCH(L124,referentes!$K:$K,0),1))","v":""},{"$f":"IF(N124=\"\",\"\",INDEX(referentes!$A:$B,MATCH(N124,referentes!$B:$B,0),1))","v":""},{"$f":"IF(R124=\"\",\"\",INDEX(referentes!$D:$E,MATCH(R124,referentes!$E:$E,0),1))","v":""},{"$f":"IF(S124=\"\",\"\",INDEX(referentes!$G:$H,MATCH(S124,referentes!$H:$H,0),1))","v":""},"",{"$f":"IF(Z124=\"\",\"\",INDEX(referentes!$M:$N,MATCH(Z124,referentes!$N:$N,0),1))","v":""},{"$f":"IF(AT124=\"\",\"\",INDEX('Otras referencias'!AA:AB,MATCH(AT124,'Otras referencias'!AB:AB,0),1))","v":""},{"$f":"IF(AO124=\"\",\"\",INDEX(referentes!S:T,MATCH(AO124,referentes!$T:$T,0),1))","v":""},{"$f":"IF(AP124=\"\",\"\",INDEX(referentes!V:W,MATCH(AP124,referentes!$W:$W,0),1))","v":""}]
[null,0,"",null,null,"",null,null,{"$f":"IF(J125=\"\",\"\",INDEX('Otras referencias'!$V:$W,MATCH(J125,'Otras referencias'!$W:$W,0),1))","v":""},null,null,null,null,null,null,null,null,null,null,null,null,120,null,null,null,null,null,null,null,null,null,null,null,null,null,null,0,null,null,null,null,null,null,null,null,null,null,null,"",{"$f":"IF(C125=\"\",\"\",IF(COUNTIF($C$6:C125, C125)>1, \"\", C125))","v":""},{"$f":"IF(L125=\"\",\"\",INDEX(referentes!$J:$K,MATCH(L125,referentes!$K:$K,0),1))","v":""},{"$f":"IF(N125=\"\",\"\",INDEX(referentes!$A:$B,MATCH(N125,referentes!$B:$B,0),1))","v":""},{"$f":"IF(R125=\"\",\"\",INDEX(referentes!$D:$E,MATCH(R125,referentes!$E:$E,0),1))","v":""},{"$f":"IF(S125=\"\",\"\",INDEX(referentes!$G:$H,MATCH(S125,referentes!$H:$H,0),1))","v":""},"",{"$f":"IF(Z125=\"\",\"\",INDEX(referentes!$M:$N,MATCH(Z125,referentes!$N:$N,0),1))","v":""},{"$f":"IF(AT125=\"\",\"\",INDEX('Otras referencias'!AA:AB,MATCH(AT125,'Otras referencias'!AB:AB,0),1))","v":""},{"$f":"IF(AO125=\"\",\"\",INDEX(referentes!S:T,MATCH(AO125,referentes!$T:$T,0),1))","v":""},{"$f":"IF(AP125=\"\",\"\",INDEX(referentes!V:W,MATCH(AP125,referentes!$W:$W,0),1))","v":""}]
[null,0,"",null,null,"",null,null,{"$f":"IF(J126=\"\",\"\",INDEX('Otras referencias'!$V:$W,MATCH(J126,'Otras referencias'!$W:$W,0),1))","v":""},null,null,null,null,null,null,null,null,null,null,null,null,121,null,null,null,null,null,null,null,null,null,null,null,null,null,null,0,null,null,null,null,null,null,null,null,null,null,null,"",{"$f":"IF(C126=\"\",\"\",IF(COUNTIF($C$6:C126, C126)>1, \"\", C126))","v":""},{"$f":"IF(L126=\"\",\"\",INDEX(referentes!$J:$K,MATCH(L126,referentes!$K:$K,0),1))","v":""},{"$f":"IF(N126=\"\",\"\",INDEX(referentes!$A:$B,MATCH(N126,referentes!$B:$B,0),1))","v":""},{"$f":"IF(R126=\"\",\"\",INDEX(referentes!$D:$E,MATCH(R126,referentes!$E:$E,0),1))","v":""},{"$f":"IF(S126=\"\",\"\",INDEX(referentes!$G:$H,MATCH(S126,referentes!$H:$H,0),1))","v":""},"",{"$f":"IF(Z126=\"\",\"\",INDEX(referentes!$M:$N,MATCH(Z126,referentes!$N:$N,0),1))","v":""},{"$f":"IF(AT126=\"\",\"\",INDEX('Otras referencias'!AA:AB,MATCH(AT126,'Otras referencias'!AB:AB,0),1))","v":""},{"$f":"IF(AO126=\"\",\"\",INDEX(referentes!S:T,MATCH(AO126,referentes!$T:$T,0),1))","v":""},{"$f":"IF(AP126=\"\",\"\",INDEX(referentes!V:W,MATCH(AP126,referentes!$W:$W,0),1))","v":""}]
[null,0,"",null,null,"",null,null,{"$f":"IF(J127=\"\",\"\",INDEX('Otras referencias'!$V:$W,MATCH(J127,'Otras referencias'!$W:$W,0),1))","v":""},null,null,null,null,null,null,null,null,null,null,null,null,122,null,null,null,null,null,null,null,null,null,null,null,null,null,null,0,null,null,null,null,null,null,null,null,null,null,null,"",{"$f":"IF(C127=\"\",\"\",IF(COUNTIF($C$6:C127, C127)>1, \"\", C127))","v":""},{"$f":"IF(L127=\"\",\"\",INDEX(referentes!$J:$K,MATCH(L127,referentes!$K:$K,0),1))","v":""},{"$f":"IF(N127=\"\",\"\",INDEX(referentes!$A:$B,MATCH(N127,referentes!$B:$B,0),1))","v":""},{"$f":"IF(R127=\"\",\"\",INDEX(referentes!$D:$E,MATCH(R127,referentes!$E:$E,0),1))","v":""},{"$f":"IF(S127=\"\",\"\",INDEX(referentes!$G:$H,MATCH(S127,referentes!$H:$H,0),1))","v":""},"",{"$f":"IF(Z127=\"\",\"\",INDEX(referentes!$M:$N,MATCH(Z127,referentes!$N:$N,0),1))","v":""},{"$f":"IF(AT127=\"\",\"\",INDEX('Otras referencias'!AA:AB,MATCH(AT127,'Otras referencias'!AB:AB,0),1))","v":""},{"$f":"IF(AO127=\"\",\"\",INDEX(referentes!S:T,MATCH(AO127,referentes!$T:$T,0),1))","v":""},{"$f":"IF(AP127=\"\",\"\",INDEX(referentes!V:W,MATCH(AP127,referentes!$W:$W,0),1))","v":""}]
[null,0,"",null,null,"",null,null,{"$f":"IF(J128=\"\",\"\",INDEX('Otras referencias'!$V:$W,MATCH(J128,'Otras referencias'!$W:$W,0),1))","v":""},null,null,null,null,null,null,null,null,null,null,null,null,123,null,null,null,null,null,null,null,null,null,null,null,null,null,null,0,null,null,null,null,null,null,null,null,null,null,null,"",{"$f":"IF(C128=\"\",\"\",IF(COUNTIF($C$6:C128, C128)>1, \"\", C128))","v":""},{"$f":"IF(L128=\"\",\"\",INDEX(referentes!$J:$K,MATCH(L128,referentes!$K:$K,0),1))","v":""},{"$f":"IF(N128=\"\",\"\",INDEX(referentes!$A:$B,MATCH(N128,referentes!$B:$B,0),1))","v":""},{"$f":"IF(R128=\"\",\"\",INDEX(referentes!$D:$E,MATCH(R128,referentes!$E:$E,0),1))","v":""},{"$f":"IF(S128=\"\",\"\",INDEX(referentes!$G:$H,MATCH(S128,referentes!$H:$H,0),1))","v":""},"",{"$f":"IF(Z128=\"\",\"\",INDEX(referentes!$M:$N,MATCH(Z128,referentes!$N:$N,0),1))","v":""},{"$f":"IF(AT128=\"\",\"\",INDEX('Otras referencias'!AA:AB,MATCH(AT128,'Otras referencias'!AB:AB,0),1))","v":""},{"$f":"IF(AO128=\"\",\"\",INDEX(referentes!S:T,MATCH(AO128,referentes!$T:$T,0),1))","v":""},{"$f":"IF(AP128=\"\",\"\",INDEX(referentes!V:W,MATCH(AP128,referentes!$W:$W,0),1))","v":""}]
[null,0,"",null,null,"",null,null,{"$f":"IF(J129=\"\",\"\",INDEX('Otras referencias'!$V:$W,MATCH(J129,'Otras referencias'!$W:$W,0),1))","v":""},null,null,null,null,null,null,null,null,null,null,null,null,124,null,null,null,null,null,null,null,null,null,null,null,null,null,null,0,null,null,null,null,null,null,null,null,null,null,null,"",{"$f":"IF(C129=\"\",\"\",IF(COUNTIF($C$6:C129, C129)>1, \"\", C129))","v":""},{"$f":"IF(L129=\"\",\"\",INDEX(referentes!$J:$K,MATCH(L129,referentes!$K:$K,0),1))","v":""},{"$f":"IF(N129=\"\",\"\",INDEX(referentes!$A:$B,MATCH(N129,referentes!$B:$B,0),1))","v":""},{"$f":"IF(R129=\"\",\"\",INDEX(referentes!$D:$E,MATCH(R129,referentes!$E:$E,0),1))","v":""},{"$f":"IF(S129=\"\",\"\",INDEX(referentes!$G:$H,MATCH(S129,referentes!$H:$H,0),1))","v":""},"",{"$f":"IF(Z129=\"\",\"\",INDEX(referentes!$M:$N,MATCH(Z129,referentes!$N:$N,0),1))","v":""},{"$f":"IF(AT129=\"\",\"\",INDEX('Otras referencias'!AA:AB,MATCH(AT129,'Otras referencias'!AB:AB,0),1))","v":""},{"$f":"IF(AO129=\"\",\"\",INDEX(referentes!S:T,MATCH(AO129,referentes!$T:$T,0),1))","v":""},{"$f":"IF(AP129=\"\",\"\",INDEX(referentes!V:W,MATCH(AP129,referentes!$W:$W,0),1))","v":""}]
[null,0,"",null,null,"",null,null,{"$f":"IF(J130=\"\",\"\",INDEX('Otras referencias'!$V:$W,MATCH(J130,'Otras referencias'!$W:$W,0),1))","v":""},null,null,null,null,null,null,null,null,null,null,null,null,125,null,null,null,null,null,null,null,null,null,null,null,null,null,null,0,null,null,null,null,null,null,null,null,null,null,null,"",{"$f":"IF(C130=\"\",\"\",IF(COUNTIF($C$6:C130, C130)>1, \"\", C130))","v":""},{"$f":"IF(L130=\"\",\"\",INDEX(referentes!$J:$K,MATCH(L130,referentes!$K:$K,0),1))","v":""},{"$f":"IF(N130=\"\",\"\",INDEX(referentes!$A:$B,MATCH(N130,referentes!$B:$B,0),1))","v":""},{"$f":"IF(R130=\"\",\"\",INDEX(referentes!$D:$E,MATCH(R130,referentes!$E:$E,0),1))","v":""},{"$f":"IF(S130=\"\",\"\",INDEX(referentes!$G:$H,MATCH(S130,referentes!$H:$H,0),1))","v":""},"",{"$f":"IF(Z130=\"\",\"\",INDEX(referentes!$M:$N,MATCH(Z130,referentes!$N:$N,0),1))","v":""},{"$f":"IF(AT130=\"\",\"\",INDEX('Otras referencias'!AA:AB,MATCH(AT130,'Otras referencias'!AB:AB,0),1))","v":""},{"$f":"IF(AO130=\"\",\"\",INDEX(referentes!S:T,MATCH(AO130,referentes!$T:$T,0),1))","v":""},{"$f":"IF(AP130=\"\",\"\",INDEX(referentes!V:W,MATCH(AP130,referentes!$W:$W,0),1))","v":""}]
[null,0,"",null,null,"",null,null,{"$f":"IF(J131=\"\",\"\",INDEX('Otras referencias'!$V:$W,MATCH(J131,'Otras referencias'!$W:$W,0),1))","v":""},null,null,null,null,null,null,null,null,null,null,null,null,126,null,null,null,null,null,null,null,null,null,null,null,null,null,null,0,null,null,null,null,null,null,null,null,null,null,null,"",{"$f":"IF(C131=\"\",\"\",IF(COUNTIF($C$6:C131, C131)>1, \"\", C131))","v":""},{"$f":"IF(L131=\"\",\"\",INDEX(referentes!$J:$K,MATCH(L131,referentes!$K:$K,0),1))","v":""},{"$f":"IF(N131=\"\",\"\",INDEX(referentes!$A:$B,MATCH(N131,referentes!$B:$B,0),1))","v":""},{"$f":"IF(R131=\"\",\"\",INDEX(referentes!$D:$E,MATCH(R131,referentes!$E:$E,0),1))","v":""},{"$f":"IF(S131=\"\",\"\",INDEX(referentes!$G:$H,MATCH(S131,referentes!$H:$H,0),1))","v":""},"",{"$f":"IF(Z131=\"\",\"\",INDEX(referentes!$M:$N,MATCH(Z131,referentes!$N:$N,0),1))","v":""},{"$f":"IF(AT131=\"\",\"\",INDEX('Otras referencias'!AA:AB,MATCH(AT131,'Otras referencias'!AB:AB,0),1))","v":""},{"$f":"IF(AO131=\"\",\"\",INDEX(referentes!S:T,MATCH(AO131,referentes!$T:$T,0),1))","v":""},{"$f":"IF(AP131=\"\",\"\",INDEX(referentes!V:W,MATCH(AP131,referentes!$W:$W,0),1))","v":""}]
[null,0,"",null,null,"",null,null,{"$f":"IF(J132=\"\",\"\",INDEX('Otras referencias'!$V:$W,MATCH(J132,'Otras referencias'!$W:$W,0),1))","v":""},null,null,null,null,null,null,null,null,null,null,null,null,127,null,null,null,null,null,null,null,null,null,null,null,null,null,null,0,null,null,null,null,null,null,null,null,null,null,null,"",{"$f":"IF(C132=\"\",\"\",IF(COUNTIF($C$6:C132, C132)>1, \"\", C132))","v":""},{"$f":"IF(L132=\"\",\"\",INDEX(referentes!$J:$K,MATCH(L132,referentes!$K:$K,0),1))","v":""},{"$f":"IF(N132=\"\",\"\",INDEX(referentes!$A:$B,MATCH(N132,referentes!$B:$B,0),1))","v":""},{"$f":"IF(R132=\"\",\"\",INDEX(referentes!$D:$E,MATCH(R132,referentes!$E:$E,0),1))","v":""},{"$f":"IF(S132=\"\",\"\",INDEX(referentes!$G:$H,MATCH(S132,referentes!$H:$H,0),1))","v":""},"",{"$f":"IF(Z132=\"\",\"\",INDEX(referentes!$M:$N,MATCH(Z132,referentes!$N:$N,0),1))","v":""},{"$f":"IF(AT132=\"\",\"\",INDEX('Otras referencias'!AA:AB,MATCH(AT132,'Otras referencias'!AB:AB,0),1))","v":""},{"$f":"IF(AO132=\"\",\"\",INDEX(referentes!S:T,MATCH(AO132,referentes!$T:$T,0),1))","v":""},{"$f":"IF(AP132=\"\",\"\",INDEX(referentes!V:W,MATCH(AP132,referentes!$W:$W,0),1))","v":""}]
[null,0,"",null,null,"",null,null,{"$f":"IF(J133=\"\",\"\",INDEX('Otras referencias'!$V:$W,MATCH(J133,'Otras referencias'!$W:$W,0),1))","v":""},null,null,null,null,null,null,null,null,null,null,null,null,128,null,null,null,null,null,null,null,null,null,null,null,null,null,null,0,null,null,null,null,null,null,null,null,null,null,null,"",{"$f":"IF(C133=\"\",\"\",IF(COUNTIF($C$6:C133, C133)>1, \"\", C133))","v":""},{"$f":"IF(L133=\"\",\"\",INDEX(referentes!$J:$K,MATCH(L133,referentes!$K:$K,0),1))","v":""},{"$f":"IF(N133=\"\",\"\",INDEX(referentes!$A:$B,MATCH(N133,referentes!$B:$B,0),1))","v":""},{"$f":"IF(R133=\"\",\"\",INDEX(referentes!$D:$E,MATCH(R133,referentes!$E:$E,0),1))","v":""},{"$f":"IF(S133=\"\",\"\",INDEX(referentes!$G:$H,MATCH(S133,referentes!$H:$H,0),1))","v":""},"",{"$f":"IF(Z133=\"\",\"\",INDEX(referentes!$M:$N,MATCH(Z133,referentes!$N:$N,0),1))","v":""},{"$f":"IF(AT133=\"\",\"\",INDEX('Otras referencias'!AA:AB,MATCH(AT133,'Otras referencias'!AB:AB,0),1))","v":""},{"$f":"IF(AO133=\"\",\"\",INDEX(referentes!S:T,MATCH(AO133,referentes!$T:$T,0),1))","v":""},{"$f":"IF(AP133=\"\",\"\",INDEX(referentes!V:W,MATCH(AP133,referentes!$W:$W,0),1))","v":""}]
[null,0,"",null,null,"",null,null,{"$f":"IF(J134=\"\",\"\",INDEX('Otras referencias'!$V:$W,MATCH(J134,'Otras referencias'!$W:$W,0),1))","v":""},null,null,null,null,null,null,null,null,null,null,null,null,129,null,null,null,null,null,null,null,null,null,null,null,null,null,null,0,null,null,null,null,null,null,null,null,null,null,null,{"$f":"IF(D134=\"\",\"\",CONCATENATE(C134,V134))","v":""},{"$f":"IF(C134=\"\",\"\",IF(COUNTIF($C$6:C134, C134)>1, \"\", C134))","v":""},{"$f":"IF(L134=\"\",\"\",INDEX(referentes!$J:$K,MATCH(L134,referentes!$K:$K,0),1))","v":""},{"$f":"IF(N134=\"\",\"\",INDEX(referentes!$A:$B,MATCH(N134,referentes!$B:$B,0),1))","v":""},{"$f":"IF(R134=\"\",\"\",INDEX(referentes!$D:$E,MATCH(R134,referentes!$E:$E,0),1))","v":""},{"$f":"IF(S134=\"\",\"\",INDEX(referentes!$G:$H,MATCH(S134,referentes!$H:$H,0),1))","v":""},{"$f":"CONCATENATE(F134,G134,I134,AY134,AZ134,BA134,BB134,O134,P134,Q134)","v":""},{"$f":"IF(Z134=\"\",\"\",INDEX(referentes!$M:$N,MATCH(Z134,referentes!$N:$N,0),1))","v":""},{"$f":"IF(AT134=\"\",\"\",INDEX('Otras referencias'!AA:AB,MATCH(AT134,'Otras referencias'!AB:AB,0),1))","v":""},{"$f":"IF(AO134=\"\",\"\",INDEX(referentes!S:T,MATCH(AO134,referentes!$T:$T,0),1))","v":""},{"$f":"IF(AP134=\"\",\"\",INDEX(referentes!V:W,MATCH(AP134,referentes!$W:$W,0),1))","v":""}]
[null,{"$f":"IF(BC135=BC134,B134,B134+1)","v":0},{"$f":"IF(E135<>\"\",CONCATENATE($A$4,D135,I135),\"\")","v":""},null,null,{"$f":"IF(D135<>\"\",D135+E135,\"\")","v":""},null,null,{"$f":"IF(J135=\"\",\"\",INDEX('Otras referencias'!$V:$W,MATCH(J135,'Otras referencias'!$W:$W,0),1))","v":""},null,null,null,null,null,null,null,null,null,null,null,null,130,null,null,null,null,null,null,null,null,null,null,null,null,null,null,{"$f":"SUM(AA135:AJ135)","v":0},null,null,null,null,null,null,null,null,null,null,null,"",{"$f":"IF(C135=\"\",\"\",IF(COUNTIF($C$6:C135, C135)>1, \"\", C135))","v":""},{"$f":"IF(L135=\"\",\"\",INDEX(referentes!$J:$K,MATCH(L135,referentes!$K:$K,0),1))","v":""},{"$f":"IF(N135=\"\",\"\",INDEX(referentes!$A:$B,MATCH(N135,referentes!$B:$B,0),1))","v":""},{"$f":"IF(R135=\"\",\"\",INDEX(referentes!$D:$E,MATCH(R135,referentes!$E:$E,0),1))","v":""},{"$f":"IF(S135=\"\",\"\",INDEX(referentes!$G:$H,MATCH(S135,referentes!$H:$H,0),1))","v":""},"",{"$f":"IF(Z135=\"\",\"\",INDEX(referentes!$M:$N,MATCH(Z135,referentes!$N:$N,0),1))","v":""},{"$f":"IF(AT135=\"\",\"\",INDEX('Otras referencias'!AA:AB,MATCH(AT135,'Otras referencias'!AB:AB,0),1))","v":""},{"$f":"IF(AO135=\"\",\"\",INDEX(referentes!S:T,MATCH(AO135,referentes!$T:$T,0),1))","v":""},{"$f":"IF(AP135=\"\",\"\",INDEX(referentes!V:W,MATCH(AP135,referentes!$W:$W,0),1))","v":""}]
[null,0,"",null,null,"",null,null,{"$f":"IF(J136=\"\",\"\",INDEX('Otras referencias'!$V:$W,MATCH(J136,'Otras referencias'!$W:$W,0),1))","v":""},null,null,null,null,null,null,null,null,null,null,null,null,131,null,null,null,null,null,null,null,null,null,null,null,null,null,null,0,null,null,null,null,null,null,null,null,null,null,null,"",{"$f":"IF(C136=\"\",\"\",IF(COUNTIF($C$6:C136, C136)>1, \"\", C136))","v":""},{"$f":"IF(L136=\"\",\"\",INDEX(referentes!$J:$K,MATCH(L136,referentes!$K:$K,0),1))","v":""},{"$f":"IF(N136=\"\",\"\",INDEX(referentes!$A:$B,MATCH(N136,referentes!$B:$B,0),1))","v":""},{"$f":"IF(R136=\"\",\"\",INDEX(referentes!$D:$E,MATCH(R136,referentes!$E:$E,0),1))","v":""},{"$f":"IF(S136=\"\",\"\",INDEX(referentes!$G:$H,MATCH(S136,referentes!$H:$H,0),1))","v":""},"",{"$f":"IF(Z136=\"\",\"\",INDEX(referentes!$M:$N,MATCH(Z136,referentes!$N:$N,0),1))","v":""},{"$f":"IF(AT136=\"\",\"\",INDEX('Otras referencias'!AA:AB,MATCH(AT136,'Otras referencias'!AB:AB,0),1))","v":""},{"$f":"IF(AO136=\"\",\"\",INDEX(referentes!S:T,MATCH(AO136,referentes!$T:$T,0),1))","v":""},{"$f":"IF(AP136=\"\",\"\",INDEX(referentes!V:W,MATCH(AP136,referentes!$W:$W,0),1))","v":""}]
[null,0,"",null,null,"",null,null,{"$f":"IF(J137=\"\",\"\",INDEX('Otras referencias'!$V:$W,MATCH(J137,'Otras referencias'!$W:$W,0),1))","v":""},null,null,null,null,null,null,null,null,null,null,null,null,132,null,null,null,null,null,null,null,null,null,null,null,null,null,null,0,null,null,null,null,null,null,null,null,null,null,null,"",{"$f":"IF(C137=\"\",\"\",IF(COUNTIF($C$6:C137, C137)>1, \"\", C137))","v":""},{"$f":"IF(L137=\"\",\"\",INDEX(referentes!$J:$K,MATCH(L137,referentes!$K:$K,0),1))","v":""},{"$f":"IF(N137=\"\",\"\",INDEX(referentes!$A:$B,MATCH(N137,referentes!$B:$B,0),1))","v":""},{"$f":"IF(R137=\"\",\"\",INDEX(referentes!$D:$E,MATCH(R137,referentes!$E:$E,0),1))","v":""},{"$f":"IF(S137=\"\",\"\",INDEX(referentes!$G:$H,MATCH(S137,referentes!$H:$H,0),1))","v":""},"",{"$f":"IF(Z137=\"\",\"\",INDEX(referentes!$M:$N,MATCH(Z137,referentes!$N:$N,0),1))","v":""},{"$f":"IF(AT137=\"\",\"\",INDEX('Otras referencias'!AA:AB,MATCH(AT137,'Otras referencias'!AB:AB,0),1))","v":""},{"$f":"IF(AO137=\"\",\"\",INDEX(referentes!S:T,MATCH(AO137,referentes!$T:$T,0),1))","v":""},{"$f":"IF(AP137=\"\",\"\",INDEX(referentes!V:W,MATCH(AP137,referentes!$W:$W,0),1))","v":""}]
[null,0,"",null,null,"",null,null,{"$f":"IF(J138=\"\",\"\",INDEX('Otras referencias'!$V:$W,MATCH(J138,'Otras referencias'!$W:$W,0),1))","v":""},null,null,null,null,null,null,null,null,null,null,null,null,133,null,null,null,null,null,null,null,null,null,null,null,null,null,null,0,null,null,null,null,null,null,null,null,null,null,null,"",{"$f":"IF(C138=\"\",\"\",IF(COUNTIF($C$6:C138, C138)>1, \"\", C138))","v":""},{"$f":"IF(L138=\"\",\"\",INDEX(referentes!$J:$K,MATCH(L138,referentes!$K:$K,0),1))","v":""},{"$f":"IF(N138=\"\",\"\",INDEX(referentes!$A:$B,MATCH(N138,referentes!$B:$B,0),1))","v":""},{"$f":"IF(R138=\"\",\"\",INDEX(referentes!$D:$E,MATCH(R138,referentes!$E:$E,0),1))","v":""},{"$f":"IF(S138=\"\",\"\",INDEX(referentes!$G:$H,MATCH(S138,referentes!$H:$H,0),1))","v":""},"",{"$f":"IF(Z138=\"\",\"\",INDEX(referentes!$M:$N,MATCH(Z138,referentes!$N:$N,0),1))","v":""},{"$f":"IF(AT138=\"\",\"\",INDEX('Otras referencias'!AA:AB,MATCH(AT138,'Otras referencias'!AB:AB,0),1))","v":""},{"$f":"IF(AO138=\"\",\"\",INDEX(referentes!S:T,MATCH(AO138,referentes!$T:$T,0),1))","v":""},{"$f":"IF(AP138=\"\",\"\",INDEX(referentes!V:W,MATCH(AP138,referentes!$W:$W,0),1))","v":""}]
[null,0,"",null,null,"",null,null,{"$f":"IF(J139=\"\",\"\",INDEX('Otras referencias'!$V:$W,MATCH(J139,'Otras referencias'!$W:$W,0),1))","v":""},null,null,null,null,null,null,null,null,null,null,null,null,134,null,null,null,null,null,null,null,null,null,null,null,null,null,null,0,null,null,null,null,null,null,null,null,null,null,null,"",{"$f":"IF(C139=\"\",\"\",IF(COUNTIF($C$6:C139, C139)>1, \"\", C139))","v":""},{"$f":"IF(L139=\"\",\"\",INDEX(referentes!$J:$K,MATCH(L139,referentes!$K:$K,0),1))","v":""},{"$f":"IF(N139=\"\",\"\",INDEX(referentes!$A:$B,MATCH(N139,referentes!$B:$B,0),1))","v":""},{"$f":"IF(R139=\"\",\"\",INDEX(referentes!$D:$E,MATCH(R139,referentes!$E:$E,0),1))","v":""},{"$f":"IF(S139=\"\",\"\",INDEX(referentes!$G:$H,MATCH(S139,referentes!$H:$H,0),1))","v":""},"",{"$f":"IF(Z139=\"\",\"\",INDEX(referentes!$M:$N,MATCH(Z139,referentes!$N:$N,0),1))","v":""},{"$f":"IF(AT139=\"\",\"\",INDEX('Otras referencias'!AA:AB,MATCH(AT139,'Otras referencias'!AB:AB,0),1))","v":""},{"$f":"IF(AO139=\"\",\"\",INDEX(referentes!S:T,MATCH(AO139,referentes!$T:$T,0),1))","v":""},{"$f":"IF(AP139=\"\",\"\",INDEX(referentes!V:W,MATCH(AP139,referentes!$W:$W,0),1))","v":""}]
[null,0,"",null,null,"",null,null,{"$f":"IF(J140=\"\",\"\",INDEX('Otras referencias'!$V:$W,MATCH(J140,'Otras referencias'!$W:$W,0),1))","v":""},null,null,null,null,null,null,null,null,null,null,null,null,135,null,null,null,null,null,null,null,null,null,null,null,null,null,null,0,null,null,null,null,null,null,null,null,null,null,null,"",{"$f":"IF(C140=\"\",\"\",IF(COUNTIF($C$6:C140, C140)>1, \"\", C140))","v":""},{"$f":"IF(L140=\"\",\"\",INDEX(referentes!$J:$K,MATCH(L140,referentes!$K:$K,0),1))","v":""},{"$f":"IF(N140=\"\",\"\",INDEX(referentes!$A:$B,MATCH(N140,referentes!$B:$B,0),1))","v":""},{"$f":"IF(R140=\"\",\"\",INDEX(referentes!$D:$E,MATCH(R140,referentes!$E:$E,0),1))","v":""},{"$f":"IF(S140=\"\",\"\",INDEX(referentes!$G:$H,MATCH(S140,referentes!$H:$H,0),1))","v":""},"",{"$f":"IF(Z140=\"\",\"\",INDEX(referentes!$M:$N,MATCH(Z140,referentes!$N:$N,0),1))","v":""},{"$f":"IF(AT140=\"\",\"\",INDEX('Otras referencias'!AA:AB,MATCH(AT140,'Otras referencias'!AB:AB,0),1))","v":""},{"$f":"IF(AO140=\"\",\"\",INDEX(referentes!S:T,MATCH(AO140,referentes!$T:$T,0),1))","v":""},{"$f":"IF(AP140=\"\",\"\",INDEX(referentes!V:W,MATCH(AP140,referentes!$W:$W,0),1))","v":""}]
[null,0,"",null,null,"",null,null,{"$f":"IF(J141=\"\",\"\",INDEX('Otras referencias'!$V:$W,MATCH(J141,'Otras referencias'!$W:$W,0),1))","v":""},null,null,null,null,null,null,null,null,null,null,null,null,136,null,null,null,null,null,null,null,null,null,null,null,null,null,null,0,null,null,null,null,null,null,null,null,null,null,null,"",{"$f":"IF(C141=\"\",\"\",IF(COUNTIF($C$6:C141, C141)>1, \"\", C141))","v":""},{"$f":"IF(L141=\"\",\"\",INDEX(referentes!$J:$K,MATCH(L141,referentes!$K:$K,0),1))","v":""},{"$f":"IF(N141=\"\",\"\",INDEX(referentes!$A:$B,MATCH(N141,referentes!$B:$B,0),1))","v":""},{"$f":"IF(R141=\"\",\"\",INDEX(referentes!$D:$E,MATCH(R141,referentes!$E:$E,0),1))","v":""},{"$f":"IF(S141=\"\",\"\",INDEX(referentes!$G:$H,MATCH(S141,referentes!$H:$H,0),1))","v":""},"",{"$f":"IF(Z141=\"\",\"\",INDEX(referentes!$M:$N,MATCH(Z141,referentes!$N:$N,0),1))","v":""},{"$f":"IF(AT141=\"\",\"\",INDEX('Otras referencias'!AA:AB,MATCH(AT141,'Otras referencias'!AB:AB,0),1))","v":""},{"$f":"IF(AO141=\"\",\"\",INDEX(referentes!S:T,MATCH(AO141,referentes!$T:$T,0),1))","v":""},{"$f":"IF(AP141=\"\",\"\",INDEX(referentes!V:W,MATCH(AP141,referentes!$W:$W,0),1))","v":""}]
[null,0,"",null,null,"",null,null,{"$f":"IF(J142=\"\",\"\",INDEX('Otras referencias'!$V:$W,MATCH(J142,'Otras referencias'!$W:$W,0),1))","v":""},null,null,null,null,null,null,null,null,null,null,null,null,137,null,null,null,null,null,null,null,null,null,null,null,null,null,null,0,null,null,null,null,null,null,null,null,null,null,null,"",{"$f":"IF(C142=\"\",\"\",IF(COUNTIF($C$6:C142, C142)>1, \"\", C142))","v":""},{"$f":"IF(L142=\"\",\"\",INDEX(referentes!$J:$K,MATCH(L142,referentes!$K:$K,0),1))","v":""},{"$f":"IF(N142=\"\",\"\",INDEX(referentes!$A:$B,MATCH(N142,referentes!$B:$B,0),1))","v":""},{"$f":"IF(R142=\"\",\"\",INDEX(referentes!$D:$E,MATCH(R142,referentes!$E:$E,0),1))","v":""},{"$f":"IF(S142=\"\",\"\",INDEX(referentes!$G:$H,MATCH(S142,referentes!$H:$H,0),1))","v":""},"",{"$f":"IF(Z142=\"\",\"\",INDEX(referentes!$M:$N,MATCH(Z142,referentes!$N:$N,0),1))","v":""},{"$f":"IF(AT142=\"\",\"\",INDEX('Otras referencias'!AA:AB,MATCH(AT142,'Otras referencias'!AB:AB,0),1))","v":""},{"$f":"IF(AO142=\"\",\"\",INDEX(referentes!S:T,MATCH(AO142,referentes!$T:$T,0),1))","v":""},{"$f":"IF(AP142=\"\",\"\",INDEX(referentes!V:W,MATCH(AP142,referentes!$W:$W,0),1))","v":""}]
[null,0,"",null,null,"",null,null,{"$f":"IF(J143=\"\",\"\",INDEX('Otras referencias'!$V:$W,MATCH(J143,'Otras referencias'!$W:$W,0),1))","v":""},null,null,null,null,null,null,null,null,null,null,null,null,138,null,null,null,null,null,null,null,null,null,null,null,null,null,null,0,null,null,null,null,null,null,null,null,null,null,null,"",{"$f":"IF(C143=\"\",\"\",IF(COUNTIF($C$6:C143, C143)>1, \"\", C143))","v":""},{"$f":"IF(L143=\"\",\"\",INDEX(referentes!$J:$K,MATCH(L143,referentes!$K:$K,0),1))","v":""},{"$f":"IF(N143=\"\",\"\",INDEX(referentes!$A:$B,MATCH(N143,referentes!$B:$B,0),1))","v":""},{"$f":"IF(R143=\"\",\"\",INDEX(referentes!$D:$E,MATCH(R143,referentes!$E:$E,0),1))","v":""},{"$f":"IF(S143=\"\",\"\",INDEX(referentes!$G:$H,MATCH(S143,referentes!$H:$H,0),1))","v":""},"",{"$f":"IF(Z143=\"\",\"\",INDEX(referentes!$M:$N,MATCH(Z143,referentes!$N:$N,0),1))","v":""},{"$f":"IF(AT143=\"\",\"\",INDEX('Otras referencias'!AA:AB,MATCH(AT143,'Otras referencias'!AB:AB,0),1))","v":""},{"$f":"IF(AO143=\"\",\"\",INDEX(referentes!S:T,MATCH(AO143,referentes!$T:$T,0),1))","v":""},{"$f":"IF(AP143=\"\",\"\",INDEX(referentes!V:W,MATCH(AP143,referentes!$W:$W,0),1))","v":""}]
[null,0,"",null,null,"",null,null,{"$f":"IF(J144=\"\",\"\",INDEX('Otras referencias'!$V:$W,MATCH(J144,'Otras referencias'!$W:$W,0),1))","v":""},null,null,null,null,null,null,null,null,null,null,null,null,139,null,null,null,null,null,null,null,null,null,null,null,null,null,null,0,null,null,null,null,null,null,null,null,null,null,null,"",{"$f":"IF(C144=\"\",\"\",IF(COUNTIF($C$6:C144, C144)>1, \"\", C144))","v":""},{"$f":"IF(L144=\"\",\"\",INDEX(referentes!$J:$K,MATCH(L144,referentes!$K:$K,0),1))","v":""},{"$f":"IF(N144=\"\",\"\",INDEX(referentes!$A:$B,MATCH(N144,referentes!$B:$B,0),1))","v":""},{"$f":"IF(R144=\"\",\"\",INDEX(referentes!$D:$E,MATCH(R144,referentes!$E:$E,0),1))","v":""},{"$f":"IF(S144=\"\",\"\",INDEX(referentes!$G:$H,MATCH(S144,referentes!$H:$H,0),1))","v":""},"",{"$f":"IF(Z144=\"\",\"\",INDEX(referentes!$M:$N,MATCH(Z144,referentes!$N:$N,0),1))","v":""},{"$f":"IF(AT144=\"\",\"\",INDEX('Otras referencias'!AA:AB,MATCH(AT144,'Otras referencias'!AB:AB,0),1))","v":""},{"$f":"IF(AO144=\"\",\"\",INDEX(referentes!S:T,MATCH(AO144,referentes!$T:$T,0),1))","v":""},{"$f":"IF(AP144=\"\",\"\",INDEX(referentes!V:W,MATCH(AP144,referentes!$W:$W,0),1))","v":""}]
[null,0,"",null,null,"",null,null,{"$f":"IF(J145=\"\",\"\",INDEX('Otras referencias'!$V:$W,MATCH(J145,'Otras referencias'!$W:$W,0),1))","v":""},null,null,null,null,null,null,null,null,null,null,null,null,140,null,null,null,null,null,null,null,null,null,null,null,null,null,null,0,null,null,null,null,null,null,null,null,null,null,null,"",{"$f":"IF(C145=\"\",\"\",IF(COUNTIF($C$6:C145, C145)>1, \"\", C145))","v":""},{"$f":"IF(L145=\"\",\"\",INDEX(referentes!$J:$K,MATCH(L145,referentes!$K:$K,0),1))","v":""},{"$f":"IF(N145=\"\",\"\",INDEX(referentes!$A:$B,MATCH(N145,referentes!$B:$B,0),1))","v":""},{"$f":"IF(R145=\"\",\"\",INDEX(referentes!$D:$E,MATCH(R145,referentes!$E:$E,0),1))","v":""},{"$f":"IF(S145=\"\",\"\",INDEX(referentes!$G:$H,MATCH(S145,referentes!$H:$H,0),1))","v":""},"",{"$f":"IF(Z145=\"\",\"\",INDEX(referentes!$M:$N,MATCH(Z145,referentes!$N:$N,0),1))","v":""},{"$f":"IF(AT145=\"\",\"\",INDEX('Otras referencias'!AA:AB,MATCH(AT145,'Otras referencias'!AB:AB,0),1))","v":""},{"$f":"IF(AO145=\"\",\"\",INDEX(referentes!S:T,MATCH(AO145,referentes!$T:$T,0),1))","v":""},{"$f":"IF(AP145=\"\",\"\",INDEX(referentes!V:W,MATCH(AP145,referentes!$W:$W,0),1))","v":""}]
[null,0,"",null,null,"",null,null,{"$f":"IF(J146=\"\",\"\",INDEX('Otras referencias'!$V:$W,MATCH(J146,'Otras referencias'!$W:$W,0),1))","v":""},null,null,null,null,null,null,null,null,null,null,null,null,141,null,null,null,null,null,null,null,null,null,null,null,null,null,null,0,null,null,null,null,null,null,null,null,null,null,null,"",{"$f":"IF(C146=\"\",\"\",IF(COUNTIF($C$6:C146, C146)>1, \"\", C146))","v":""},{"$f":"IF(L146=\"\",\"\",INDEX(referentes!$J:$K,MATCH(L146,referentes!$K:$K,0),1))","v":""},{"$f":"IF(N146=\"\",\"\",INDEX(referentes!$A:$B,MATCH(N146,referentes!$B:$B,0),1))","v":""},{"$f":"IF(R146=\"\",\"\",INDEX(referentes!$D:$E,MATCH(R146,referentes!$E:$E,0),1))","v":""},{"$f":"IF(S146=\"\",\"\",INDEX(referentes!$G:$H,MATCH(S146,referentes!$H:$H,0),1))","v":""},"",{"$f":"IF(Z146=\"\",\"\",INDEX(referentes!$M:$N,MATCH(Z146,referentes!$N:$N,0),1))","v":""},{"$f":"IF(AT146=\"\",\"\",INDEX('Otras referencias'!AA:AB,MATCH(AT146,'Otras referencias'!AB:AB,0),1))","v":""},{"$f":"IF(AO146=\"\",\"\",INDEX(referentes!S:T,MATCH(AO146,referentes!$T:$T,0),1))","v":""},{"$f":"IF(AP146=\"\",\"\",INDEX(referentes!V:W,MATCH(AP146,referentes!$W:$W,0),1))","v":""}]
[null,0,"",null,null,"",null,null,{"$f":"IF(J147=\"\",\"\",INDEX('Otras referencias'!$V:$W,MATCH(J147,'Otras referencias'!$W:$W,0),1))","v":""},null,null,null,null,null,null,null,null,null,null,null,null,142,null,null,null,null,null,null,null,null,null,null,null,null,null,null,0,null,null,null,null,null,null,null,null,null,null,null,"",{"$f":"IF(C147=\"\",\"\",IF(COUNTIF($C$6:C147, C147)>1, \"\", C147))","v":""},{"$f":"IF(L147=\"\",\"\",INDEX(referentes!$J:$K,MATCH(L147,referentes!$K:$K,0),1))","v":""},{"$f":"IF(N147=\"\",\"\",INDEX(referentes!$A:$B,MATCH(N147,referentes!$B:$B,0),1))","v":""},{"$f":"IF(R147=\"\",\"\",INDEX(referentes!$D:$E,MATCH(R147,referentes!$E:$E,0),1))","v":""},{"$f":"IF(S147=\"\",\"\",INDEX(referentes!$G:$H,MATCH(S147,referentes!$H:$H,0),1))","v":""},"",{"$f":"IF(Z147=\"\",\"\",INDEX(referentes!$M:$N,MATCH(Z147,referentes!$N:$N,0),1))","v":""},{"$f":"IF(AT147=\"\",\"\",INDEX('Otras referencias'!AA:AB,MATCH(AT147,'Otras referencias'!AB:AB,0),1))","v":""},{"$f":"IF(AO147=\"\",\"\",INDEX(referentes!S:T,MATCH(AO147,referentes!$T:$T,0),1))","v":""},{"$f":"IF(AP147=\"\",\"\",INDEX(referentes!V:W,MATCH(AP147,referentes!$W:$W,0),1))","v":""}]
[null,0,"",null,null,"",null,null,{"$f":"IF(J148=\"\",\"\",INDEX('Otras referencias'!$V:$W,MATCH(J148,'Otras referencias'!$W:$W,0),1))","v":""},null,null,null,null,null,null,null,null,null,null,null,null,143,null,null,null,null,null,null,null,null,null,null,null,null,null,null,0,null,null,null,null,null,null,null,null,null,null,null,"",{"$f":"IF(C148=\"\",\"\",IF(COUNTIF($C$6:C148, C148)>1, \"\", C148))","v":""},{"$f":"IF(L148=\"\",\"\",INDEX(referentes!$J:$K,MATCH(L148,referentes!$K:$K,0),1))","v":""},{"$f":"IF(N148=\"\",\"\",INDEX(referentes!$A:$B,MATCH(N148,referentes!$B:$B,0),1))","v":""},{"$f":"IF(R148=\"\",\"\",INDEX(referentes!$D:$E,MATCH(R148,referentes!$E:$E,0),1))","v":""},{"$f":"IF(S148=\"\",\"\",INDEX(referentes!$G:$H,MATCH(S148,referentes!$H:$H,0),1))","v":""},"",{"$f":"IF(Z148=\"\",\"\",INDEX(referentes!$M:$N,MATCH(Z148,referentes!$N:$N,0),1))","v":""},{"$f":"IF(AT148=\"\",\"\",INDEX('Otras referencias'!AA:AB,MATCH(AT148,'Otras referencias'!AB:AB,0),1))","v":""},{"$f":"IF(AO148=\"\",\"\",INDEX(referentes!S:T,MATCH(AO148,referentes!$T:$T,0),1))","v":""},{"$f":"IF(AP148=\"\",\"\",INDEX(referentes!V:W,MATCH(AP148,referentes!$W:$W,0),1))","v":""}]
[null,0,"",null,null,"",null,null,{"$f":"IF(J149=\"\",\"\",INDEX('Otras referencias'!$V:$W,MATCH(J149,'Otras referencias'!$W:$W,0),1))","v":""},null,null,null,null,null,null,null,null,null,null,null,null,144,null,null,null,null,null,null,null,null,null,null,null,null,null,null,0,null,null,null,null,null,null,null,null,null,null,null,"",{"$f":"IF(C149=\"\",\"\",IF(COUNTIF($C$6:C149, C149)>1, \"\", C149))","v":""},{"$f":"IF(L149=\"\",\"\",INDEX(referentes!$J:$K,MATCH(L149,referentes!$K:$K,0),1))","v":""},{"$f":"IF(N149=\"\",\"\",INDEX(referentes!$A:$B,MATCH(N149,referentes!$B:$B,0),1))","v":""},{"$f":"IF(R149=\"\",\"\",INDEX(referentes!$D:$E,MATCH(R149,referentes!$E:$E,0),1))","v":""},{"$f":"IF(S149=\"\",\"\",INDEX(referentes!$G:$H,MATCH(S149,referentes!$H:$H,0),1))","v":""},"",{"$f":"IF(Z149=\"\",\"\",INDEX(referentes!$M:$N,MATCH(Z149,referentes!$N:$N,0),1))","v":""},{"$f":"IF(AT149=\"\",\"\",INDEX('Otras referencias'!AA:AB,MATCH(AT149,'Otras referencias'!AB:AB,0),1))","v":""},{"$f":"IF(AO149=\"\",\"\",INDEX(referentes!S:T,MATCH(AO149,referentes!$T:$T,0),1))","v":""},{"$f":"IF(AP149=\"\",\"\",INDEX(referentes!V:W,MATCH(AP149,referentes!$W:$W,0),1))","v":""}]
[null,0,"",null,null,"",null,null,{"$f":"IF(J150=\"\",\"\",INDEX('Otras referencias'!$V:$W,MATCH(J150,'Otras referencias'!$W:$W,0),1))","v":""},null,null,null,null,null,null,null,null,null,null,null,null,145,null,null,null,null,null,null,null,null,null,null,null,null,null,null,0,null,null,null,null,null,null,null,null,null,null,null,"",{"$f":"IF(C150=\"\",\"\",IF(COUNTIF($C$6:C150, C150)>1, \"\", C150))","v":""},{"$f":"IF(L150=\"\",\"\",INDEX(referentes!$J:$K,MATCH(L150,referentes!$K:$K,0),1))","v":""},{"$f":"IF(N150=\"\",\"\",INDEX(referentes!$A:$B,MATCH(N150,referentes!$B:$B,0),1))","v":""},{"$f":"IF(R150=\"\",\"\",INDEX(referentes!$D:$E,MATCH(R150,referentes!$E:$E,0),1))","v":""},{"$f":"IF(S150=\"\",\"\",INDEX(referentes!$G:$H,MATCH(S150,referentes!$H:$H,0),1))","v":""},"",{"$f":"IF(Z150=\"\",\"\",INDEX(referentes!$M:$N,MATCH(Z150,referentes!$N:$N,0),1))","v":""},{"$f":"IF(AT150=\"\",\"\",INDEX('Otras referencias'!AA:AB,MATCH(AT150,'Otras referencias'!AB:AB,0),1))","v":""},{"$f":"IF(AO150=\"\",\"\",INDEX(referentes!S:T,MATCH(AO150,referentes!$T:$T,0),1))","v":""},{"$f":"IF(AP150=\"\",\"\",INDEX(referentes!V:W,MATCH(AP150,referentes!$W:$W,0),1))","v":""}]
[null,0,"",null,null,"",null,null,{"$f":"IF(J151=\"\",\"\",INDEX('Otras referencias'!$V:$W,MATCH(J151,'Otras referencias'!$W:$W,0),1))","v":""},null,null,null,null,null,null,null,null,null,null,null,null,146,null,null,null,null,null,null,null,null,null,null,null,null,null,null,0,null,null,null,null,null,null,null,null,null,null,null,"",{"$f":"IF(C151=\"\",\"\",IF(COUNTIF($C$6:C151, C151)>1, \"\", C151))","v":""},{"$f":"IF(L151=\"\",\"\",INDEX(referentes!$J:$K,MATCH(L151,referentes!$K:$K,0),1))","v":""},{"$f":"IF(N151=\"\",\"\",INDEX(referentes!$A:$B,MATCH(N151,referentes!$B:$B,0),1))","v":""},{"$f":"IF(R151=\"\",\"\",INDEX(referentes!$D:$E,MATCH(R151,referentes!$E:$E,0),1))","v":""},{"$f":"IF(S151=\"\",\"\",INDEX(referentes!$G:$H,MATCH(S151,referentes!$H:$H,0),1))","v":""},"",{"$f":"IF(Z151=\"\",\"\",INDEX(referentes!$M:$N,MATCH(Z151,referentes!$N:$N,0),1))","v":""},{"$f":"IF(AT151=\"\",\"\",INDEX('Otras referencias'!AA:AB,MATCH(AT151,'Otras referencias'!AB:AB,0),1))","v":""},{"$f":"IF(AO151=\"\",\"\",INDEX(referentes!S:T,MATCH(AO151,referentes!$T:$T,0),1))","v":""},{"$f":"IF(AP151=\"\",\"\",INDEX(referentes!V:W,MATCH(AP151,referentes!$W:$W,0),1))","v":""}]
[null,0,"",null,null,"",null,null,{"$f":"IF(J152=\"\",\"\",INDEX('Otras referencias'!$V:$W,MATCH(J152,'Otras referencias'!$W:$W,0),1))","v":""},null,null,null,null,null,null,null,null,null,null,null,null,147,null,null,null,null,null,null,null,null,null,null,null,null,null,null,0,null,null,null,null,null,null,null,null,null,null,null,"",{"$f":"IF(C152=\"\",\"\",IF(COUNTIF($C$6:C152, C152)>1, \"\", C152))","v":""},{"$f":"IF(L152=\"\",\"\",INDEX(referentes!$J:$K,MATCH(L152,referentes!$K:$K,0),1))","v":""},{"$f":"IF(N152=\"\",\"\",INDEX(referentes!$A:$B,MATCH(N152,referentes!$B:$B,0),1))","v":""},{"$f":"IF(R152=\"\",\"\",INDEX(referentes!$D:$E,MATCH(R152,referentes!$E:$E,0),1))","v":""},{"$f":"IF(S152=\"\",\"\",INDEX(referentes!$G:$H,MATCH(S152,referentes!$H:$H,0),1))","v":""},"",{"$f":"IF(Z152=\"\",\"\",INDEX(referentes!$M:$N,MATCH(Z152,referentes!$N:$N,0),1))","v":""},{"$f":"IF(AT152=\"\",\"\",INDEX('Otras referencias'!AA:AB,MATCH(AT152,'Otras referencias'!AB:AB,0),1))","v":""},{"$f":"IF(AO152=\"\",\"\",INDEX(referentes!S:T,MATCH(AO152,referentes!$T:$T,0),1))","v":""},{"$f":"IF(AP152=\"\",\"\",INDEX(referentes!V:W,MATCH(AP152,referentes!$W:$W,0),1))","v":""}]
[null,0,"",null,null,"",null,null,{"$f":"IF(J153=\"\",\"\",INDEX('Otras referencias'!$V:$W,MATCH(J153,'Otras referencias'!$W:$W,0),1))","v":""},null,null,null,null,null,null,null,null,null,null,null,null,148,null,null,null,null,null,null,null,null,null,null,null,null,null,null,0,null,null,null,null,null,null,null,null,null,null,null,"",{"$f":"IF(C153=\"\",\"\",IF(COUNTIF($C$6:C153, C153)>1, \"\", C153))","v":""},{"$f":"IF(L153=\"\",\"\",INDEX(referentes!$J:$K,MATCH(L153,referentes!$K:$K,0),1))","v":""},{"$f":"IF(N153=\"\",\"\",INDEX(referentes!$A:$B,MATCH(N153,referentes!$B:$B,0),1))","v":""},{"$f":"IF(R153=\"\",\"\",INDEX(referentes!$D:$E,MATCH(R153,referentes!$E:$E,0),1))","v":""},{"$f":"IF(S153=\"\",\"\",INDEX(referentes!$G:$H,MATCH(S153,referentes!$H:$H,0),1))","v":""},"",{"$f":"IF(Z153=\"\",\"\",INDEX(referentes!$M:$N,MATCH(Z153,referentes!$N:$N,0),1))","v":""},{"$f":"IF(AT153=\"\",\"\",INDEX('Otras referencias'!AA:AB,MATCH(AT153,'Otras referencias'!AB:AB,0),1))","v":""},{"$f":"IF(AO153=\"\",\"\",INDEX(referentes!S:T,MATCH(AO153,referentes!$T:$T,0),1))","v":""},{"$f":"IF(AP153=\"\",\"\",INDEX(referentes!V:W,MATCH(AP153,referentes!$W:$W,0),1))","v":""}]
[null,0,"",null,null,"",null,null,{"$f":"IF(J154=\"\",\"\",INDEX('Otras referencias'!$V:$W,MATCH(J154,'Otras referencias'!$W:$W,0),1))","v":""},null,null,null,null,null,null,null,null,null,null,null,null,149,null,null,null,null,null,null,null,null,null,null,null,null,null,null,0,null,null,null,null,null,null,null,null,null,null,null,"",{"$f":"IF(C154=\"\",\"\",IF(COUNTIF($C$6:C154, C154)>1, \"\", C154))","v":""},{"$f":"IF(L154=\"\",\"\",INDEX(referentes!$J:$K,MATCH(L154,referentes!$K:$K,0),1))","v":""},{"$f":"IF(N154=\"\",\"\",INDEX(referentes!$A:$B,MATCH(N154,referentes!$B:$B,0),1))","v":""},{"$f":"IF(R154=\"\",\"\",INDEX(referentes!$D:$E,MATCH(R154,referentes!$E:$E,0),1))","v":""},{"$f":"IF(S154=\"\",\"\",INDEX(referentes!$G:$H,MATCH(S154,referentes!$H:$H,0),1))","v":""},"",{"$f":"IF(Z154=\"\",\"\",INDEX(referentes!$M:$N,MATCH(Z154,referentes!$N:$N,0),1))","v":""},{"$f":"IF(AT154=\"\",\"\",INDEX('Otras referencias'!AA:AB,MATCH(AT154,'Otras referencias'!AB:AB,0),1))","v":""},{"$f":"IF(AO154=\"\",\"\",INDEX(referentes!S:T,MATCH(AO154,referentes!$T:$T,0),1))","v":""},{"$f":"IF(AP154=\"\",\"\",INDEX(referentes!V:W,MATCH(AP154,referentes!$W:$W,0),1))","v":""}]
[null,0,"",null,null,"",null,null,{"$f":"IF(J155=\"\",\"\",INDEX('Otras referencias'!$V:$W,MATCH(J155,'Otras referencias'!$W:$W,0),1))","v":""},null,null,null,null,null,null,null,null,null,null,null,null,150,null,null,null,null,null,null,null,null,null,null,null,null,null,null,0,null,null,null,null,null,null,null,null,null,null,null,"",{"$f":"IF(C155=\"\",\"\",IF(COUNTIF($C$6:C155, C155)>1, \"\", C155))","v":""},{"$f":"IF(L155=\"\",\"\",INDEX(referentes!$J:$K,MATCH(L155,referentes!$K:$K,0),1))","v":""},{"$f":"IF(N155=\"\",\"\",INDEX(referentes!$A:$B,MATCH(N155,referentes!$B:$B,0),1))","v":""},{"$f":"IF(R155=\"\",\"\",INDEX(referentes!$D:$E,MATCH(R155,referentes!$E:$E,0),1))","v":""},{"$f":"IF(S155=\"\",\"\",INDEX(referentes!$G:$H,MATCH(S155,referentes!$H:$H,0),1))","v":""},"",{"$f":"IF(Z155=\"\",\"\",INDEX(referentes!$M:$N,MATCH(Z155,referentes!$N:$N,0),1))","v":""},{"$f":"IF(AT155=\"\",\"\",INDEX('Otras referencias'!AA:AB,MATCH(AT155,'Otras referencias'!AB:AB,0),1))","v":""},{"$f":"IF(AO155=\"\",\"\",INDEX(referentes!S:T,MATCH(AO155,referentes!$T:$T,0),1))","v":""},{"$f":"IF(AP155=\"\",\"\",INDEX(referentes!V:W,MATCH(AP155,referentes!$W:$W,0),1))","v":""}]
[null,0,"",null,null,"",null,null,{"$f":"IF(J156=\"\",\"\",INDEX('Otras referencias'!$V:$W,MATCH(J156,'Otras referencias'!$W:$W,0),1))","v":""},null,null,null,null,null,null,null,null,null,null,null,null,151,null,null,null,null,null,null,null,null,null,null,null,null,null,null,0,null,null,null,null,null,null,null,null,null,null,null,"",{"$f":"IF(C156=\"\",\"\",IF(COUNTIF($C$6:C156, C156)>1, \"\", C156))","v":""},{"$f":"IF(L156=\"\",\"\",INDEX(referentes!$J:$K,MATCH(L156,referentes!$K:$K,0),1))","v":""},{"$f":"IF(N156=\"\",\"\",INDEX(referentes!$A:$B,MATCH(N156,referentes!$B:$B,0),1))","v":""},{"$f":"IF(R156=\"\",\"\",INDEX(referentes!$D:$E,MATCH(R156,referentes!$E:$E,0),1))","v":""},{"$f":"IF(S156=\"\",\"\",INDEX(referentes!$G:$H,MATCH(S156,referentes!$H:$H,0),1))","v":""},"",{"$f":"IF(Z156=\"\",\"\",INDEX(referentes!$M:$N,MATCH(Z156,referentes!$N:$N,0),1))","v":""},{"$f":"IF(AT156=\"\",\"\",INDEX('Otras referencias'!AA:AB,MATCH(AT156,'Otras referencias'!AB:AB,0),1))","v":""},{"$f":"IF(AO156=\"\",\"\",INDEX(referentes!S:T,MATCH(AO156,referentes!$T:$T,0),1))","v":""},{"$f":"IF(AP156=\"\",\"\",INDEX(referentes!V:W,MATCH(AP156,referentes!$W:$W,0),1))","v":""}]
[null,0,"",null,null,"",null,null,{"$f":"IF(J157=\"\",\"\",INDEX('Otras referencias'!$V:$W,MATCH(J157,'Otras referencias'!$W:$W,0),1))","v":""},null,null,null,null,null,null,null,null,null,null,null,null,152,null,null,null,null,null,null,null,null,null,null,null,null,null,null,0,null,null,null,null,null,null,null,null,null,null,null,"",{"$f":"IF(C157=\"\",\"\",IF(COUNTIF($C$6:C157, C157)>1, \"\", C157))","v":""},{"$f":"IF(L157=\"\",\"\",INDEX(referentes!$J:$K,MATCH(L157,referentes!$K:$K,0),1))","v":""},{"$f":"IF(N157=\"\",\"\",INDEX(referentes!$A:$B,MATCH(N157,referentes!$B:$B,0),1))","v":""},{"$f":"IF(R157=\"\",\"\",INDEX(referentes!$D:$E,MATCH(R157,referentes!$E:$E,0),1))","v":""},{"$f":"IF(S157=\"\",\"\",INDEX(referentes!$G:$H,MATCH(S157,referentes!$H:$H,0),1))","v":""},"",{"$f":"IF(Z157=\"\",\"\",INDEX(referentes!$M:$N,MATCH(Z157,referentes!$N:$N,0),1))","v":""},{"$f":"IF(AT157=\"\",\"\",INDEX('Otras referencias'!AA:AB,MATCH(AT157,'Otras referencias'!AB:AB,0),1))","v":""},{"$f":"IF(AO157=\"\",\"\",INDEX(referentes!S:T,MATCH(AO157,referentes!$T:$T,0),1))","v":""},{"$f":"IF(AP157=\"\",\"\",INDEX(referentes!V:W,MATCH(AP157,referentes!$W:$W,0),1))","v":""}]
[null,0,"",null,null,"",null,null,{"$f":"IF(J158=\"\",\"\",INDEX('Otras referencias'!$V:$W,MATCH(J158,'Otras referencias'!$W:$W,0),1))","v":""},null,null,null,null,null,null,null,null,null,null,null,null,153,null,null,null,null,null,null,null,null,null,null,null,null,null,null,0,null,null,null,null,null,null,null,null,null,null,null,"",{"$f":"IF(C158=\"\",\"\",IF(COUNTIF($C$6:C158, C158)>1, \"\", C158))","v":""},{"$f":"IF(L158=\"\",\"\",INDEX(referentes!$J:$K,MATCH(L158,referentes!$K:$K,0),1))","v":""},{"$f":"IF(N158=\"\",\"\",INDEX(referentes!$A:$B,MATCH(N158,referentes!$B:$B,0),1))","v":""},{"$f":"IF(R158=\"\",\"\",INDEX(referentes!$D:$E,MATCH(R158,referentes!$E:$E,0),1))","v":""},{"$f":"IF(S158=\"\",\"\",INDEX(referentes!$G:$H,MATCH(S158,referentes!$H:$H,0),1))","v":""},"",{"$f":"IF(Z158=\"\",\"\",INDEX(referentes!$M:$N,MATCH(Z158,referentes!$N:$N,0),1))","v":""},{"$f":"IF(AT158=\"\",\"\",INDEX('Otras referencias'!AA:AB,MATCH(AT158,'Otras referencias'!AB:AB,0),1))","v":""},{"$f":"IF(AO158=\"\",\"\",INDEX(referentes!S:T,MATCH(AO158,referentes!$T:$T,0),1))","v":""},{"$f":"IF(AP158=\"\",\"\",INDEX(referentes!V:W,MATCH(AP158,referentes!$W:$W,0),1))","v":""}]
[null,0,"",null,null,"",null,null,{"$f":"IF(J159=\"\",\"\",INDEX('Otras referencias'!$V:$W,MATCH(J159,'Otras referencias'!$W:$W,0),1))","v":""},null,null,null,null,null,null,null,null,null,null,null,null,154,null,null,null,null,null,null,null,null,null,null,null,null,null,null,0,null,null,null,null,null,null,null,null,null,null,null,"",{"$f":"IF(C159=\"\",\"\",IF(COUNTIF($C$6:C159, C159)>1, \"\", C159))","v":""},{"$f":"IF(L159=\"\",\"\",INDEX(referentes!$J:$K,MATCH(L159,referentes!$K:$K,0),1))","v":""},{"$f":"IF(N159=\"\",\"\",INDEX(referentes!$A:$B,MATCH(N159,referentes!$B:$B,0),1))","v":""},{"$f":"IF(R159=\"\",\"\",INDEX(referentes!$D:$E,MATCH(R159,referentes!$E:$E,0),1))","v":""},{"$f":"IF(S159=\"\",\"\",INDEX(referentes!$G:$H,MATCH(S159,referentes!$H:$H,0),1))","v":""},"",{"$f":"IF(Z159=\"\",\"\",INDEX(referentes!$M:$N,MATCH(Z159,referentes!$N:$N,0),1))","v":""},{"$f":"IF(AT159=\"\",\"\",INDEX('Otras referencias'!AA:AB,MATCH(AT159,'Otras referencias'!AB:AB,0),1))","v":""},{"$f":"IF(AO159=\"\",\"\",INDEX(referentes!S:T,MATCH(AO159,referentes!$T:$T,0),1))","v":""},{"$f":"IF(AP159=\"\",\"\",INDEX(referentes!V:W,MATCH(AP159,referentes!$W:$W,0),1))","v":""}]
[null,0,"",null,null,"",null,null,{"$f":"IF(J160=\"\",\"\",INDEX('Otras referencias'!$V:$W,MATCH(J160,'Otras referencias'!$W:$W,0),1))","v":""},null,null,null,null,null,null,null,null,null,null,null,null,155,null,null,null,null,null,null,null,null,null,null,null,null,null,null,0,null,null,null,null,null,null,null,null,null,null,null,"",{"$f":"IF(C160=\"\",\"\",IF(COUNTIF($C$6:C160, C160)>1, \"\", C160))","v":""},{"$f":"IF(L160=\"\",\"\",INDEX(referentes!$J:$K,MATCH(L160,referentes!$K:$K,0),1))","v":""},{"$f":"IF(N160=\"\",\"\",INDEX(referentes!$A:$B,MATCH(N160,referentes!$B:$B,0),1))","v":""},{"$f":"IF(R160=\"\",\"\",INDEX(referentes!$D:$E,MATCH(R160,referentes!$E:$E,0),1))","v":""},{"$f":"IF(S160=\"\",\"\",INDEX(referentes!$G:$H,MATCH(S160,referentes!$H:$H,0),1))","v":""},"",{"$f":"IF(Z160=\"\",\"\",INDEX(referentes!$M:$N,MATCH(Z160,referentes!$N:$N,0),1))","v":""},{"$f":"IF(AT160=\"\",\"\",INDEX('Otras referencias'!AA:AB,MATCH(AT160,'Otras referencias'!AB:AB,0),1))","v":""},{"$f":"IF(AO160=\"\",\"\",INDEX(referentes!S:T,MATCH(AO160,referentes!$T:$T,0),1))","v":""},{"$f":"IF(AP160=\"\",\"\",INDEX(referentes!V:W,MATCH(AP160,referentes!$W:$W,0),1))","v":""}]
[null,0,"",null,null,"",null,null,{"$f":"IF(J161=\"\",\"\",INDEX('Otras referencias'!$V:$W,MATCH(J161,'Otras referencias'!$W:$W,0),1))","v":""},null,null,null,null,null,null,null,null,null,null,null,null,156,null,null,null,null,null,null,null,null,null,null,null,null,null,null,0,null,null,null,null,null,null,null,null,null,null,null,"",{"$f":"IF(C161=\"\",\"\",IF(COUNTIF($C$6:C161, C161)>1, \"\", C161))","v":""},{"$f":"IF(L161=\"\",\"\",INDEX(referentes!$J:$K,MATCH(L161,referentes!$K:$K,0),1))","v":""},{"$f":"IF(N161=\"\",\"\",INDEX(referentes!$A:$B,MATCH(N161,referentes!$B:$B,0),1))","v":""},{"$f":"IF(R161=\"\",\"\",INDEX(referentes!$D:$E,MATCH(R161,referentes!$E:$E,0),1))","v":""},{"$f":"IF(S161=\"\",\"\",INDEX(referentes!$G:$H,MATCH(S161,referentes!$H:$H,0),1))","v":""},"",{"$f":"IF(Z161=\"\",\"\",INDEX(referentes!$M:$N,MATCH(Z161,referentes!$N:$N,0),1))","v":""},{"$f":"IF(AT161=\"\",\"\",INDEX('Otras referencias'!AA:AB,MATCH(AT161,'Otras referencias'!AB:AB,0),1))","v":""},{"$f":"IF(AO161=\"\",\"\",INDEX(referentes!S:T,MATCH(AO161,referentes!$T:$T,0),1))","v":""},{"$f":"IF(AP161=\"\",\"\",INDEX(referentes!V:W,MATCH(AP161,referentes!$W:$W,0),1))","v":""}]
[null,0,"",null,null,"",null,null,{"$f":"IF(J162=\"\",\"\",INDEX('Otras referencias'!$V:$W,MATCH(J162,'Otras referencias'!$W:$W,0),1))","v":""},null,null,null,null,null,null,null,null,null,null,null,null,157,null,null,null,null,null,null,null,null,null,null,null,null,null,null,0,null,null,null,null,null,null,null,null,null,null,null,"",{"$f":"IF(C162=\"\",\"\",IF(COUNTIF($C$6:C162, C162)>1, \"\", C162))","v":""},{"$f":"IF(L162=\"\",\"\",INDEX(referentes!$J:$K,MATCH(L162,referentes!$K:$K,0),1))","v":""},{"$f":"IF(N162=\"\",\"\",INDEX(referentes!$A:$B,MATCH(N162,referentes!$B:$B,0),1))","v":""},{"$f":"IF(R162=\"\",\"\",INDEX(referentes!$D:$E,MATCH(R162,referentes!$E:$E,0),1))","v":""},{"$f":"IF(S162=\"\",\"\",INDEX(referentes!$G:$H,MATCH(S162,referentes!$H:$H,0),1))","v":""},"",{"$f":"IF(Z162=\"\",\"\",INDEX(referentes!$M:$N,MATCH(Z162,referentes!$N:$N,0),1))","v":""},{"$f":"IF(AT162=\"\",\"\",INDEX('Otras referencias'!AA:AB,MATCH(AT162,'Otras referencias'!AB:AB,0),1))","v":""},{"$f":"IF(AO162=\"\",\"\",INDEX(referentes!S:T,MATCH(AO162,referentes!$T:$T,0),1))","v":""},{"$f":"IF(AP162=\"\",\"\",INDEX(referentes!V:W,MATCH(AP162,referentes!$W:$W,0),1))","v":""}]
[null,0,"",null,null,"",null,null,{"$f":"IF(J163=\"\",\"\",INDEX('Otras referencias'!$V:$W,MATCH(J163,'Otras referencias'!$W:$W,0),1))","v":""},null,null,null,null,null,null,null,null,null,null,null,null,158,null,null,null,null,null,null,null,null,null,null,null,null,null,null,0,null,null,null,null,null,null,null,null,null,null,null,"",{"$f":"IF(C163=\"\",\"\",IF(COUNTIF($C$6:C163, C163)>1, \"\", C163))","v":""},{"$f":"IF(L163=\"\",\"\",INDEX(referentes!$J:$K,MATCH(L163,referentes!$K:$K,0),1))","v":""},{"$f":"IF(N163=\"\",\"\",INDEX(referentes!$A:$B,MATCH(N163,referentes!$B:$B,0),1))","v":""},{"$f":"IF(R163=\"\",\"\",INDEX(referentes!$D:$E,MATCH(R163,referentes!$E:$E,0),1))","v":""},{"$f":"IF(S163=\"\",\"\",INDEX(referentes!$G:$H,MATCH(S163,referentes!$H:$H,0),1))","v":""},"",{"$f":"IF(Z163=\"\",\"\",INDEX(referentes!$M:$N,MATCH(Z163,referentes!$N:$N,0),1))","v":""},{"$f":"IF(AT163=\"\",\"\",INDEX('Otras referencias'!AA:AB,MATCH(AT163,'Otras referencias'!AB:AB,0),1))","v":""},{"$f":"IF(AO163=\"\",\"\",INDEX(referentes!S:T,MATCH(AO163,referentes!$T:$T,0),1))","v":""},{"$f":"IF(AP163=\"\",\"\",INDEX(referentes!V:W,MATCH(AP163,referentes!$W:$W,0),1))","v":""}]
[null,0,"",null,null,"",null,null,{"$f":"IF(J164=\"\",\"\",INDEX('Otras referencias'!$V:$W,MATCH(J164,'Otras referencias'!$W:$W,0),1))","v":""},null,null,null,null,null,null,null,null,null,null,null,null,159,null,null,null,null,null,null,null,null,null,null,null,null,null,null,0,null,null,null,null,null,null,null,null,null,null,null,"",{"$f":"IF(C164=\"\",\"\",IF(COUNTIF($C$6:C164, C164)>1, \"\", C164))","v":""},{"$f":"IF(L164=\"\",\"\",INDEX(referentes!$J:$K,MATCH(L164,referentes!$K:$K,0),1))","v":""},{"$f":"IF(N164=\"\",\"\",INDEX(referentes!$A:$B,MATCH(N164,referentes!$B:$B,0),1))","v":""},{"$f":"IF(R164=\"\",\"\",INDEX(referentes!$D:$E,MATCH(R164,referentes!$E:$E,0),1))","v":""},{"$f":"IF(S164=\"\",\"\",INDEX(referentes!$G:$H,MATCH(S164,referentes!$H:$H,0),1))","v":""},"",{"$f":"IF(Z164=\"\",\"\",INDEX(referentes!$M:$N,MATCH(Z164,referentes!$N:$N,0),1))","v":""},{"$f":"IF(AT164=\"\",\"\",INDEX('Otras referencias'!AA:AB,MATCH(AT164,'Otras referencias'!AB:AB,0),1))","v":""},{"$f":"IF(AO164=\"\",\"\",INDEX(referentes!S:T,MATCH(AO164,referentes!$T:$T,0),1))","v":""},{"$f":"IF(AP164=\"\",\"\",INDEX(referentes!V:W,MATCH(AP164,referentes!$W:$W,0),1))","v":""}]
[null,0,"",null,null,"",null,null,{"$f":"IF(J165=\"\",\"\",INDEX('Otras referencias'!$V:$W,MATCH(J165,'Otras referencias'!$W:$W,0),1))","v":""},null,null,null,null,null,null,null,null,null,null,null,null,160,null,null,null,null,null,null,null,null,null,null,null,null,null,null,0,null,null,null,null,null,null,null,null,null,null,null,"",{"$f":"IF(C165=\"\",\"\",IF(COUNTIF($C$6:C165, C165)>1, \"\", C165))","v":""},{"$f":"IF(L165=\"\",\"\",INDEX(referentes!$J:$K,MATCH(L165,referentes!$K:$K,0),1))","v":""},{"$f":"IF(N165=\"\",\"\",INDEX(referentes!$A:$B,MATCH(N165,referentes!$B:$B,0),1))","v":""},{"$f":"IF(R165=\"\",\"\",INDEX(referentes!$D:$E,MATCH(R165,referentes!$E:$E,0),1))","v":""},{"$f":"IF(S165=\"\",\"\",INDEX(referentes!$G:$H,MATCH(S165,referentes!$H:$H,0),1))","v":""},"",{"$f":"IF(Z165=\"\",\"\",INDEX(referentes!$M:$N,MATCH(Z165,referentes!$N:$N,0),1))","v":""},{"$f":"IF(AT165=\"\",\"\",INDEX('Otras referencias'!AA:AB,MATCH(AT165,'Otras referencias'!AB:AB,0),1))","v":""},{"$f":"IF(AO165=\"\",\"\",INDEX(referentes!S:T,MATCH(AO165,referentes!$T:$T,0),1))","v":""},{"$f":"IF(AP165=\"\",\"\",INDEX(referentes!V:W,MATCH(AP165,referentes!$W:$W,0),1))","v":""}]
[null,0,"",null,null,"",null,null,{"$f":"IF(J166=\"\",\"\",INDEX('Otras referencias'!$V:$W,MATCH(J166,'Otras referencias'!$W:$W,0),1))","v":""},null,null,null,null,null,null,null,null,null,null,null,null,161,null,null,null,null,null,null,null,null,null,null,null,null,null,null,0,null,null,null,null,null,null,null,null,null,null,null,"",{"$f":"IF(C166=\"\",\"\",IF(COUNTIF($C$6:C166, C166)>1, \"\", C166))","v":""},{"$f":"IF(L166=\"\",\"\",INDEX(referentes!$J:$K,MATCH(L166,referentes!$K:$K,0),1))","v":""},{"$f":"IF(N166=\"\",\"\",INDEX(referentes!$A:$B,MATCH(N166,referentes!$B:$B,0),1))","v":""},{"$f":"IF(R166=\"\",\"\",INDEX(referentes!$D:$E,MATCH(R166,referentes!$E:$E,0),1))","v":""},{"$f":"IF(S166=\"\",\"\",INDEX(referentes!$G:$H,MATCH(S166,referentes!$H:$H,0),1))","v":""},"",{"$f":"IF(Z166=\"\",\"\",INDEX(referentes!$M:$N,MATCH(Z166,referentes!$N:$N,0),1))","v":""},{"$f":"IF(AT166=\"\",\"\",INDEX('Otras referencias'!AA:AB,MATCH(AT166,'Otras referencias'!AB:AB,0),1))","v":""},{"$f":"IF(AO166=\"\",\"\",INDEX(referentes!S:T,MATCH(AO166,referentes!$T:$T,0),1))","v":""},{"$f":"IF(AP166=\"\",\"\",INDEX(referentes!V:W,MATCH(AP166,referentes!$W:$W,0),1))","v":""}]
[null,{"$f":"IF(BC167=BC166,B166,B166+1)","v":0},"",null,null,"",null,null,{"$f":"IF(J167=\"\",\"\",INDEX('Otras referencias'!$V:$W,MATCH(J167,'Otras referencias'!$W:$W,0),1))","v":""},null,null,null,null,null,null,null,null,null,null,null,null,162,null,null,null,null,null,null,null,null,null,null,null,null,null,null,0,null,null,null,null,null,null,null,null,null,null,null,"",{"$f":"IF(C167=\"\",\"\",IF(COUNTIF($C$6:C167, C167)>1, \"\", C167))","v":""},{"$f":"IF(L167=\"\",\"\",INDEX(referentes!$J:$K,MATCH(L167,referentes!$K:$K,0),1))","v":""},{"$f":"IF(N167=\"\",\"\",INDEX(referentes!$A:$B,MATCH(N167,referentes!$B:$B,0),1))","v":""},{"$f":"IF(R167=\"\",\"\",INDEX(referentes!$D:$E,MATCH(R167,referentes!$E:$E,0),1))","v":""},{"$f":"IF(S167=\"\",\"\",INDEX(referentes!$G:$H,MATCH(S167,referentes!$H:$H,0),1))","v":""},"",{"$f":"IF(Z167=\"\",\"\",INDEX(referentes!$M:$N,MATCH(Z167,referentes!$N:$N,0),1))","v":""},{"$f":"IF(AT167=\"\",\"\",INDEX('Otras referencias'!AA:AB,MATCH(AT167,'Otras referencias'!AB:AB,0),1))","v":""},{"$f":"IF(AO167=\"\",\"\",INDEX(referentes!S:T,MATCH(AO167,referentes!$T:$T,0),1))","v":""},{"$f":"IF(AP167=\"\",\"\",INDEX(referentes!V:W,MATCH(AP167,referentes!$W:$W,0),1))","v":""}]
[null,0,"",null,null,"",null,null,{"$f":"IF(J168=\"\",\"\",INDEX('Otras referencias'!$V:$W,MATCH(J168,'Otras referencias'!$W:$W,0),1))","v":""},null,null,null,null,null,null,null,null,null,null,null,null,163,null,null,null,null,null,null,null,null,null,null,null,null,null,null,0,null,null,null,null,null,null,null,null,null,null,null,"",{"$f":"IF(C168=\"\",\"\",IF(COUNTIF($C$6:C168, C168)>1, \"\", C168))","v":""},{"$f":"IF(L168=\"\",\"\",INDEX(referentes!$J:$K,MATCH(L168,referentes!$K:$K,0),1))","v":""},{"$f":"IF(N168=\"\",\"\",INDEX(referentes!$A:$B,MATCH(N168,referentes!$B:$B,0),1))","v":""},{"$f":"IF(R168=\"\",\"\",INDEX(referentes!$D:$E,MATCH(R168,referentes!$E:$E,0),1))","v":""},{"$f":"IF(S168=\"\",\"\",INDEX(referentes!$G:$H,MATCH(S168,referentes!$H:$H,0),1))","v":""},"",{"$f":"IF(Z168=\"\",\"\",INDEX(referentes!$M:$N,MATCH(Z168,referentes!$N:$N,0),1))","v":""},{"$f":"IF(AT168=\"\",\"\",INDEX('Otras referencias'!AA:AB,MATCH(AT168,'Otras referencias'!AB:AB,0),1))","v":""},{"$f":"IF(AO168=\"\",\"\",INDEX(referentes!S:T,MATCH(AO168,referentes!$T:$T,0),1))","v":""},{"$f":"IF(AP168=\"\",\"\",INDEX(referentes!V:W,MATCH(AP168,referentes!$W:$W,0),1))","v":""}]
[null,0,"",null,null,"",null,null,{"$f":"IF(J169=\"\",\"\",INDEX('Otras referencias'!$V:$W,MATCH(J169,'Otras referencias'!$W:$W,0),1))","v":""},null,null,null,null,null,null,null,null,null,null,null,null,164,null,null,null,null,null,null,null,null,null,null,null,null,null,null,0,null,null,null,null,null,null,null,null,null,null,null,"",{"$f":"IF(C169=\"\",\"\",IF(COUNTIF($C$6:C169, C169)>1, \"\", C169))","v":""},{"$f":"IF(L169=\"\",\"\",INDEX(referentes!$J:$K,MATCH(L169,referentes!$K:$K,0),1))","v":""},{"$f":"IF(N169=\"\",\"\",INDEX(referentes!$A:$B,MATCH(N169,referentes!$B:$B,0),1))","v":""},{"$f":"IF(R169=\"\",\"\",INDEX(referentes!$D:$E,MATCH(R169,referentes!$E:$E,0),1))","v":""},{"$f":"IF(S169=\"\",\"\",INDEX(referentes!$G:$H,MATCH(S169,referentes!$H:$H,0),1))","v":""},"",{"$f":"IF(Z169=\"\",\"\",INDEX(referentes!$M:$N,MATCH(Z169,referentes!$N:$N,0),1))","v":""},{"$f":"IF(AT169=\"\",\"\",INDEX('Otras referencias'!AA:AB,MATCH(AT169,'Otras referencias'!AB:AB,0),1))","v":""},{"$f":"IF(AO169=\"\",\"\",INDEX(referentes!S:T,MATCH(AO169,referentes!$T:$T,0),1))","v":""},{"$f":"IF(AP169=\"\",\"\",INDEX(referentes!V:W,MATCH(AP169,referentes!$W:$W,0),1))","v":""}]
[null,0,"",null,null,"",null,null,{"$f":"IF(J170=\"\",\"\",INDEX('Otras referencias'!$V:$W,MATCH(J170,'Otras referencias'!$W:$W,0),1))","v":""},null,null,null,null,null,null,null,null,null,null,null,null,165,null,null,null,null,null,null,null,null,null,null,null,null,null,null,0,null,null,null,null,null,null,null,null,null,null,null,"",{"$f":"IF(C170=\"\",\"\",IF(COUNTIF($C$6:C170, C170)>1, \"\", C170))","v":""},{"$f":"IF(L170=\"\",\"\",INDEX(referentes!$J:$K,MATCH(L170,referentes!$K:$K,0),1))","v":""},{"$f":"IF(N170=\"\",\"\",INDEX(referentes!$A:$B,MATCH(N170,referentes!$B:$B,0),1))","v":""},{"$f":"IF(R170=\"\",\"\",INDEX(referentes!$D:$E,MATCH(R170,referentes!$E:$E,0),1))","v":""},{"$f":"IF(S170=\"\",\"\",INDEX(referentes!$G:$H,MATCH(S170,referentes!$H:$H,0),1))","v":""},"",{"$f":"IF(Z170=\"\",\"\",INDEX(referentes!$M:$N,MATCH(Z170,referentes!$N:$N,0),1))","v":""},{"$f":"IF(AT170=\"\",\"\",INDEX('Otras referencias'!AA:AB,MATCH(AT170,'Otras referencias'!AB:AB,0),1))","v":""},{"$f":"IF(AO170=\"\",\"\",INDEX(referentes!S:T,MATCH(AO170,referentes!$T:$T,0),1))","v":""},{"$f":"IF(AP170=\"\",\"\",INDEX(referentes!V:W,MATCH(AP170,referentes!$W:$W,0),1))","v":""}]
[null,0,"",null,null,"",null,null,{"$f":"IF(J171=\"\",\"\",INDEX('Otras referencias'!$V:$W,MATCH(J171,'Otras referencias'!$W:$W,0),1))","v":""},null,null,null,null,null,null,null,null,null,null,null,null,166,null,null,null,null,null,null,null,null,null,null,null,null,null,null,0,null,null,null,null,null,null,null,null,null,null,null,"",{"$f":"IF(C171=\"\",\"\",IF(COUNTIF($C$6:C171, C171)>1, \"\", C171))","v":""},{"$f":"IF(L171=\"\",\"\",INDEX(referentes!$J:$K,MATCH(L171,referentes!$K:$K,0),1))","v":""},{"$f":"IF(N171=\"\",\"\",INDEX(referentes!$A:$B,MATCH(N171,referentes!$B:$B,0),1))","v":""},{"$f":"IF(R171=\"\",\"\",INDEX(referentes!$D:$E,MATCH(R171,referentes!$E:$E,0),1))","v":""},{"$f":"IF(S171=\"\",\"\",INDEX(referentes!$G:$H,MATCH(S171,referentes!$H:$H,0),1))","v":""},"",{"$f":"IF(Z171=\"\",\"\",INDEX(referentes!$M:$N,MATCH(Z171,referentes!$N:$N,0),1))","v":""},{"$f":"IF(AT171=\"\",\"\",INDEX('Otras referencias'!AA:AB,MATCH(AT171,'Otras referencias'!AB:AB,0),1))","v":""},{"$f":"IF(AO171=\"\",\"\",INDEX(referentes!S:T,MATCH(AO171,referentes!$T:$T,0),1))","v":""},{"$f":"IF(AP171=\"\",\"\",INDEX(referentes!V:W,MATCH(AP171,referentes!$W:$W,0),1))","v":""}]
[null,0,"",null,null,"",null,null,{"$f":"IF(J172=\"\",\"\",INDEX('Otras referencias'!$V:$W,MATCH(J172,'Otras referencias'!$W:$W,0),1))","v":""},null,null,null,null,null,null,null,null,null,null,null,null,167,null,null,null,null,null,null,null,null,null,null,null,null,null,null,0,null,null,null,null,null,null,null,null,null,null,null,"",{"$f":"IF(C172=\"\",\"\",IF(COUNTIF($C$6:C172, C172)>1, \"\", C172))","v":""},{"$f":"IF(L172=\"\",\"\",INDEX(referentes!$J:$K,MATCH(L172,referentes!$K:$K,0),1))","v":""},{"$f":"IF(N172=\"\",\"\",INDEX(referentes!$A:$B,MATCH(N172,referentes!$B:$B,0),1))","v":""},{"$f":"IF(R172=\"\",\"\",INDEX(referentes!$D:$E,MATCH(R172,referentes!$E:$E,0),1))","v":""},{"$f":"IF(S172=\"\",\"\",INDEX(referentes!$G:$H,MATCH(S172,referentes!$H:$H,0),1))","v":""},"",{"$f":"IF(Z172=\"\",\"\",INDEX(referentes!$M:$N,MATCH(Z172,referentes!$N:$N,0),1))","v":""},{"$f":"IF(AT172=\"\",\"\",INDEX('Otras referencias'!AA:AB,MATCH(AT172,'Otras referencias'!AB:AB,0),1))","v":""},{"$f":"IF(AO172=\"\",\"\",INDEX(referentes!S:T,MATCH(AO172,referentes!$T:$T,0),1))","v":""},{"$f":"IF(AP172=\"\",\"\",INDEX(referentes!V:W,MATCH(AP172,referentes!$W:$W,0),1))","v":""}]
[null,0,"",null,null,"",null,null,{"$f":"IF(J173=\"\",\"\",INDEX('Otras referencias'!$V:$W,MATCH(J173,'Otras referencias'!$W:$W,0),1))","v":""},null,null,null,null,null,null,null,null,null,null,null,null,168,null,null,null,null,null,null,null,null,null,null,null,null,null,null,0,null,null,null,null,null,null,null,null,null,null,null,"",{"$f":"IF(C173=\"\",\"\",IF(COUNTIF($C$6:C173, C173)>1, \"\", C173))","v":""},{"$f":"IF(L173=\"\",\"\",INDEX(referentes!$J:$K,MATCH(L173,referentes!$K:$K,0),1))","v":""},{"$f":"IF(N173=\"\",\"\",INDEX(referentes!$A:$B,MATCH(N173,referentes!$B:$B,0),1))","v":""},{"$f":"IF(R173=\"\",\"\",INDEX(referentes!$D:$E,MATCH(R173,referentes!$E:$E,0),1))","v":""},{"$f":"IF(S173=\"\",\"\",INDEX(referentes!$G:$H,MATCH(S173,referentes!$H:$H,0),1))","v":""},"",{"$f":"IF(Z173=\"\",\"\",INDEX(referentes!$M:$N,MATCH(Z173,referentes!$N:$N,0),1))","v":""},{"$f":"IF(AT173=\"\",\"\",INDEX('Otras referencias'!AA:AB,MATCH(AT173,'Otras referencias'!AB:AB,0),1))","v":""},{"$f":"IF(AO173=\"\",\"\",INDEX(referentes!S:T,MATCH(AO173,referentes!$T:$T,0),1))","v":""},{"$f":"IF(AP173=\"\",\"\",INDEX(referentes!V:W,MATCH(AP173,referentes!$W:$W,0),1))","v":""}]
[null,0,"",null,null,"",null,null,{"$f":"IF(J174=\"\",\"\",INDEX('Otras referencias'!$V:$W,MATCH(J174,'Otras referencias'!$W:$W,0),1))","v":""},null,null,null,null,null,null,null,null,null,null,null,null,169,null,null,null,null,null,null,null,null,null,null,null,null,null,null,0,null,null,null,null,null,null,null,null,null,null,null,"",{"$f":"IF(C174=\"\",\"\",IF(COUNTIF($C$6:C174, C174)>1, \"\", C174))","v":""},{"$f":"IF(L174=\"\",\"\",INDEX(referentes!$J:$K,MATCH(L174,referentes!$K:$K,0),1))","v":""},{"$f":"IF(N174=\"\",\"\",INDEX(referentes!$A:$B,MATCH(N174,referentes!$B:$B,0),1))","v":""},{"$f":"IF(R174=\"\",\"\",INDEX(referentes!$D:$E,MATCH(R174,referentes!$E:$E,0),1))","v":""},{"$f":"IF(S174=\"\",\"\",INDEX(referentes!$G:$H,MATCH(S174,referentes!$H:$H,0),1))","v":""},"",{"$f":"IF(Z174=\"\",\"\",INDEX(referentes!$M:$N,MATCH(Z174,referentes!$N:$N,0),1))","v":""},{"$f":"IF(AT174=\"\",\"\",INDEX('Otras referencias'!AA:AB,MATCH(AT174,'Otras referencias'!AB:AB,0),1))","v":""},{"$f":"IF(AO174=\"\",\"\",INDEX(referentes!S:T,MATCH(AO174,referentes!$T:$T,0),1))","v":""},{"$f":"IF(AP174=\"\",\"\",INDEX(referentes!V:W,MATCH(AP174,referentes!$W:$W,0),1))","v":""}]
[null,0,"",null,null,"",null,null,{"$f":"IF(J175=\"\",\"\",INDEX('Otras referencias'!$V:$W,MATCH(J175,'Otras referencias'!$W:$W,0),1))","v":""},null,null,null,null,null,null,null,null,null,null,null,null,170,null,null,null,null,null,null,null,null,null,null,null,null,null,null,0,null,null,null,null,null,null,null,null,null,null,null,"",{"$f":"IF(C175=\"\",\"\",IF(COUNTIF($C$6:C175, C175)>1, \"\", C175))","v":""},{"$f":"IF(L175=\"\",\"\",INDEX(referentes!$J:$K,MATCH(L175,referentes!$K:$K,0),1))","v":""},{"$f":"IF(N175=\"\",\"\",INDEX(referentes!$A:$B,MATCH(N175,referentes!$B:$B,0),1))","v":""},{"$f":"IF(R175=\"\",\"\",INDEX(referentes!$D:$E,MATCH(R175,referentes!$E:$E,0),1))","v":""},{"$f":"IF(S175=\"\",\"\",INDEX(referentes!$G:$H,MATCH(S175,referentes!$H:$H,0),1))","v":""},"",{"$f":"IF(Z175=\"\",\"\",INDEX(referentes!$M:$N,MATCH(Z175,referentes!$N:$N,0),1))","v":""},{"$f":"IF(AT175=\"\",\"\",INDEX('Otras referencias'!AA:AB,MATCH(AT175,'Otras referencias'!AB:AB,0),1))","v":""},{"$f":"IF(AO175=\"\",\"\",INDEX(referentes!S:T,MATCH(AO175,referentes!$T:$T,0),1))","v":""},{"$f":"IF(AP175=\"\",\"\",INDEX(referentes!V:W,MATCH(AP175,referentes!$W:$W,0),1))","v":""}]
[null,0,"",null,null,"",null,null,{"$f":"IF(J176=\"\",\"\",INDEX('Otras referencias'!$V:$W,MATCH(J176,'Otras referencias'!$W:$W,0),1))","v":""},null,null,null,null,null,null,null,null,null,null,null,null,171,null,null,null,null,null,null,null,null,null,null,null,null,null,null,0,null,null,null,null,null,null,null,null,null,null,null,"",{"$f":"IF(C176=\"\",\"\",IF(COUNTIF($C$6:C176, C176)>1, \"\", C176))","v":""},{"$f":"IF(L176=\"\",\"\",INDEX(referentes!$J:$K,MATCH(L176,referentes!$K:$K,0),1))","v":""},{"$f":"IF(N176=\"\",\"\",INDEX(referentes!$A:$B,MATCH(N176,referentes!$B:$B,0),1))","v":""},{"$f":"IF(R176=\"\",\"\",INDEX(referentes!$D:$E,MATCH(R176,referentes!$E:$E,0),1))","v":""},{"$f":"IF(S176=\"\",\"\",INDEX(referentes!$G:$H,MATCH(S176,referentes!$H:$H,0),1))","v":""},"",{"$f":"IF(Z176=\"\",\"\",INDEX(referentes!$M:$N,MATCH(Z176,referentes!$N:$N,0),1))","v":""},{"$f":"IF(AT176=\"\",\"\",INDEX('Otras referencias'!AA:AB,MATCH(AT176,'Otras referencias'!AB:AB,0),1))","v":""},{"$f":"IF(AO176=\"\",\"\",INDEX(referentes!S:T,MATCH(AO176,referentes!$T:$T,0),1))","v":""},{"$f":"IF(AP176=\"\",\"\",INDEX(referentes!V:W,MATCH(AP176,referentes!$W:$W,0),1))","v":""}]
[null,0,"",null,null,"",null,null,{"$f":"IF(J177=\"\",\"\",INDEX('Otras referencias'!$V:$W,MATCH(J177,'Otras referencias'!$W:$W,0),1))","v":""},null,null,null,null,null,null,null,null,null,null,null,null,172,null,null,null,null,null,null,null,null,null,null,null,null,null,null,0,null,null,null,null,null,null,null,null,null,null,null,"",{"$f":"IF(C177=\"\",\"\",IF(COUNTIF($C$6:C177, C177)>1, \"\", C177))","v":""},{"$f":"IF(L177=\"\",\"\",INDEX(referentes!$J:$K,MATCH(L177,referentes!$K:$K,0),1))","v":""},{"$f":"IF(N177=\"\",\"\",INDEX(referentes!$A:$B,MATCH(N177,referentes!$B:$B,0),1))","v":""},{"$f":"IF(R177=\"\",\"\",INDEX(referentes!$D:$E,MATCH(R177,referentes!$E:$E,0),1))","v":""},{"$f":"IF(S177=\"\",\"\",INDEX(referentes!$G:$H,MATCH(S177,referentes!$H:$H,0),1))","v":""},"",{"$f":"IF(Z177=\"\",\"\",INDEX(referentes!$M:$N,MATCH(Z177,referentes!$N:$N,0),1))","v":""},{"$f":"IF(AT177=\"\",\"\",INDEX('Otras referencias'!AA:AB,MATCH(AT177,'Otras referencias'!AB:AB,0),1))","v":""},{"$f":"IF(AO177=\"\",\"\",INDEX(referentes!S:T,MATCH(AO177,referentes!$T:$T,0),1))","v":""},{"$f":"IF(AP177=\"\",\"\",INDEX(referentes!V:W,MATCH(AP177,referentes!$W:$W,0),1))","v":""}]
[null,0,"",null,null,"",null,null,{"$f":"IF(J178=\"\",\"\",INDEX('Otras referencias'!$V:$W,MATCH(J178,'Otras referencias'!$W:$W,0),1))","v":""},null,null,null,null,null,null,null,null,null,null,null,null,173,null,null,null,null,null,null,null,null,null,null,null,null,null,null,0,null,null,null,null,null,null,null,null,null,null,null,"",{"$f":"IF(C178=\"\",\"\",IF(COUNTIF($C$6:C178, C178)>1, \"\", C178))","v":""},{"$f":"IF(L178=\"\",\"\",INDEX(referentes!$J:$K,MATCH(L178,referentes!$K:$K,0),1))","v":""},{"$f":"IF(N178=\"\",\"\",INDEX(referentes!$A:$B,MATCH(N178,referentes!$B:$B,0),1))","v":""},{"$f":"IF(R178=\"\",\"\",INDEX(referentes!$D:$E,MATCH(R178,referentes!$E:$E,0),1))","v":""},{"$f":"IF(S178=\"\",\"\",INDEX(referentes!$G:$H,MATCH(S178,referentes!$H:$H,0),1))","v":""},"",{"$f":"IF(Z178=\"\",\"\",INDEX(referentes!$M:$N,MATCH(Z178,referentes!$N:$N,0),1))","v":""},{"$f":"IF(AT178=\"\",\"\",INDEX('Otras referencias'!AA:AB,MATCH(AT178,'Otras referencias'!AB:AB,0),1))","v":""},{"$f":"IF(AO178=\"\",\"\",INDEX(referentes!S:T,MATCH(AO178,referentes!$T:$T,0),1))","v":""},{"$f":"IF(AP178=\"\",\"\",INDEX(referentes!V:W,MATCH(AP178,referentes!$W:$W,0),1))","v":""}]
[null,0,"",null,null,"",null,null,{"$f":"IF(J179=\"\",\"\",INDEX('Otras referencias'!$V:$W,MATCH(J179,'Otras referencias'!$W:$W,0),1))","v":""},null,null,null,null,null,null,null,null,null,null,null,null,174,null,null,null,null,null,null,null,null,null,null,null,null,null,null,0,null,null,null,null,null,null,null,null,null,null,null,"",{"$f":"IF(C179=\"\",\"\",IF(COUNTIF($C$6:C179, C179)>1, \"\", C179))","v":""},{"$f":"IF(L179=\"\",\"\",INDEX(referentes!$J:$K,MATCH(L179,referentes!$K:$K,0),1))","v":""},{"$f":"IF(N179=\"\",\"\",INDEX(referentes!$A:$B,MATCH(N179,referentes!$B:$B,0),1))","v":""},{"$f":"IF(R179=\"\",\"\",INDEX(referentes!$D:$E,MATCH(R179,referentes!$E:$E,0),1))","v":""},{"$f":"IF(S179=\"\",\"\",INDEX(referentes!$G:$H,MATCH(S179,referentes!$H:$H,0),1))","v":""},"",{"$f":"IF(Z179=\"\",\"\",INDEX(referentes!$M:$N,MATCH(Z179,referentes!$N:$N,0),1))","v":""},{"$f":"IF(AT179=\"\",\"\",INDEX('Otras referencias'!AA:AB,MATCH(AT179,'Otras referencias'!AB:AB,0),1))","v":""},{"$f":"IF(AO179=\"\",\"\",INDEX(referentes!S:T,MATCH(AO179,referentes!$T:$T,0),1))","v":""},{"$f":"IF(AP179=\"\",\"\",INDEX(referentes!V:W,MATCH(AP179,referentes!$W:$W,0),1))","v":""}]
[null,0,"",null,null,"",null,null,{"$f":"IF(J180=\"\",\"\",INDEX('Otras referencias'!$V:$W,MATCH(J180,'Otras referencias'!$W:$W,0),1))","v":""},null,null,null,null,null,null,null,null,null,null,null,null,175,null,null,null,null,null,null,null,null,null,null,null,null,null,null,0,null,null,null,null,null,null,null,null,null,null,null,"",{"$f":"IF(C180=\"\",\"\",IF(COUNTIF($C$6:C180, C180)>1, \"\", C180))","v":""},{"$f":"IF(L180=\"\",\"\",INDEX(referentes!$J:$K,MATCH(L180,referentes!$K:$K,0),1))","v":""},{"$f":"IF(N180=\"\",\"\",INDEX(referentes!$A:$B,MATCH(N180,referentes!$B:$B,0),1))","v":""},{"$f":"IF(R180=\"\",\"\",INDEX(referentes!$D:$E,MATCH(R180,referentes!$E:$E,0),1))","v":""},{"$f":"IF(S180=\"\",\"\",INDEX(referentes!$G:$H,MATCH(S180,referentes!$H:$H,0),1))","v":""},"",{"$f":"IF(Z180=\"\",\"\",INDEX(referentes!$M:$N,MATCH(Z180,referentes!$N:$N,0),1))","v":""},{"$f":"IF(AT180=\"\",\"\",INDEX('Otras referencias'!AA:AB,MATCH(AT180,'Otras referencias'!AB:AB,0),1))","v":""},{"$f":"IF(AO180=\"\",\"\",INDEX(referentes!S:T,MATCH(AO180,referentes!$T:$T,0),1))","v":""},{"$f":"IF(AP180=\"\",\"\",INDEX(referentes!V:W,MATCH(AP180,referentes!$W:$W,0),1))","v":""}]
[null,0,"",null,null,"",null,null,{"$f":"IF(J181=\"\",\"\",INDEX('Otras referencias'!$V:$W,MATCH(J181,'Otras referencias'!$W:$W,0),1))","v":""},null,null,null,null,null,null,null,null,null,null,null,null,176,null,null,null,null,null,null,null,null,null,null,null,null,null,null,0,null,null,null,null,null,null,null,null,null,null,null,"",{"$f":"IF(C181=\"\",\"\",IF(COUNTIF($C$6:C181, C181)>1, \"\", C181))","v":""},{"$f":"IF(L181=\"\",\"\",INDEX(referentes!$J:$K,MATCH(L181,referentes!$K:$K,0),1))","v":""},{"$f":"IF(N181=\"\",\"\",INDEX(referentes!$A:$B,MATCH(N181,referentes!$B:$B,0),1))","v":""},{"$f":"IF(R181=\"\",\"\",INDEX(referentes!$D:$E,MATCH(R181,referentes!$E:$E,0),1))","v":""},{"$f":"IF(S181=\"\",\"\",INDEX(referentes!$G:$H,MATCH(S181,referentes!$H:$H,0),1))","v":""},"",{"$f":"IF(Z181=\"\",\"\",INDEX(referentes!$M:$N,MATCH(Z181,referentes!$N:$N,0),1))","v":""},{"$f":"IF(AT181=\"\",\"\",INDEX('Otras referencias'!AA:AB,MATCH(AT181,'Otras referencias'!AB:AB,0),1))","v":""},{"$f":"IF(AO181=\"\",\"\",INDEX(referentes!S:T,MATCH(AO181,referentes!$T:$T,0),1))","v":""},{"$f":"IF(AP181=\"\",\"\",INDEX(referentes!V:W,MATCH(AP181,referentes!$W:$W,0),1))","v":""}]
[null,0,"",null,null,"",null,null,{"$f":"IF(J182=\"\",\"\",INDEX('Otras referencias'!$V:$W,MATCH(J182,'Otras referencias'!$W:$W,0),1))","v":""},null,null,null,null,null,null,null,null,null,null,null,null,177,null,null,null,null,null,null,null,null,null,null,null,null,null,null,0,null,null,null,null,null,null,null,null,null,null,null,"",{"$f":"IF(C182=\"\",\"\",IF(COUNTIF($C$6:C182, C182)>1, \"\", C182))","v":""},{"$f":"IF(L182=\"\",\"\",INDEX(referentes!$J:$K,MATCH(L182,referentes!$K:$K,0),1))","v":""},{"$f":"IF(N182=\"\",\"\",INDEX(referentes!$A:$B,MATCH(N182,referentes!$B:$B,0),1))","v":""},{"$f":"IF(R182=\"\",\"\",INDEX(referentes!$D:$E,MATCH(R182,referentes!$E:$E,0),1))","v":""},{"$f":"IF(S182=\"\",\"\",INDEX(referentes!$G:$H,MATCH(S182,referentes!$H:$H,0),1))","v":""},"",{"$f":"IF(Z182=\"\",\"\",INDEX(referentes!$M:$N,MATCH(Z182,referentes!$N:$N,0),1))","v":""},{"$f":"IF(AT182=\"\",\"\",INDEX('Otras referencias'!AA:AB,MATCH(AT182,'Otras referencias'!AB:AB,0),1))","v":""},{"$f":"IF(AO182=\"\",\"\",INDEX(referentes!S:T,MATCH(AO182,referentes!$T:$T,0),1))","v":""},{"$f":"IF(AP182=\"\",\"\",INDEX(referentes!V:W,MATCH(AP182,referentes!$W:$W,0),1))","v":""}]
[null,0,"",null,null,"",null,null,{"$f":"IF(J183=\"\",\"\",INDEX('Otras referencias'!$V:$W,MATCH(J183,'Otras referencias'!$W:$W,0),1))","v":""},null,null,null,null,null,null,null,null,null,null,null,null,178,null,null,null,null,null,null,null,null,null,null,null,null,null,null,0,null,null,null,null,null,null,null,null,null,null,null,"",{"$f":"IF(C183=\"\",\"\",IF(COUNTIF($C$6:C183, C183)>1, \"\", C183))","v":""},{"$f":"IF(L183=\"\",\"\",INDEX(referentes!$J:$K,MATCH(L183,referentes!$K:$K,0),1))","v":""},{"$f":"IF(N183=\"\",\"\",INDEX(referentes!$A:$B,MATCH(N183,referentes!$B:$B,0),1))","v":""},{"$f":"IF(R183=\"\",\"\",INDEX(referentes!$D:$E,MATCH(R183,referentes!$E:$E,0),1))","v":""},{"$f":"IF(S183=\"\",\"\",INDEX(referentes!$G:$H,MATCH(S183,referentes!$H:$H,0),1))","v":""},"",{"$f":"IF(Z183=\"\",\"\",INDEX(referentes!$M:$N,MATCH(Z183,referentes!$N:$N,0),1))","v":""},{"$f":"IF(AT183=\"\",\"\",INDEX('Otras referencias'!AA:AB,MATCH(AT183,'Otras referencias'!AB:AB,0),1))","v":""},{"$f":"IF(AO183=\"\",\"\",INDEX(referentes!S:T,MATCH(AO183,referentes!$T:$T,0),1))","v":""},{"$f":"IF(AP183=\"\",\"\",INDEX(referentes!V:W,MATCH(AP183,referentes!$W:$W,0),1))","v":""}]
[null,0,"",null,null,"",null,null,{"$f":"IF(J184=\"\",\"\",INDEX('Otras referencias'!$V:$W,MATCH(J184,'Otras referencias'!$W:$W,0),1))","v":""},null,null,null,null,null,null,null,null,null,null,null,null,179,null,null,null,null,null,null,null,null,null,null,null,null,null,null,0,null,null,null,null,null,null,null,null,null,null,null,"",{"$f":"IF(C184=\"\",\"\",IF(COUNTIF($C$6:C184, C184)>1, \"\", C184))","v":""},{"$f":"IF(L184=\"\",\"\",INDEX(referentes!$J:$K,MATCH(L184,referentes!$K:$K,0),1))","v":""},{"$f":"IF(N184=\"\",\"\",INDEX(referentes!$A:$B,MATCH(N184,referentes!$B:$B,0),1))","v":""},{"$f":"IF(R184=\"\",\"\",INDEX(referentes!$D:$E,MATCH(R184,referentes!$E:$E,0),1))","v":""},{"$f":"IF(S184=\"\",\"\",INDEX(referentes!$G:$H,MATCH(S184,referentes!$H:$H,0),1))","v":""},"",{"$f":"IF(Z184=\"\",\"\",INDEX(referentes!$M:$N,MATCH(Z184,referentes!$N:$N,0),1))","v":""},{"$f":"IF(AT184=\"\",\"\",INDEX('Otras referencias'!AA:AB,MATCH(AT184,'Otras referencias'!AB:AB,0),1))","v":""},{"$f":"IF(AO184=\"\",\"\",INDEX(referentes!S:T,MATCH(AO184,referentes!$T:$T,0),1))","v":""},{"$f":"IF(AP184=\"\",\"\",INDEX(referentes!V:W,MATCH(AP184,referentes!$W:$W,0),1))","v":""}]
[null,0,"",null,null,"",null,null,{"$f":"IF(J185=\"\",\"\",INDEX('Otras referencias'!$V:$W,MATCH(J185,'Otras referencias'!$W:$W,0),1))","v":""},null,null,null,null,null,null,null,null,null,null,null,null,180,null,null,null,null,null,null,null,null,null,null,null,null,null,null,0,null,null,null,null,null,null,null,null,null,null,null,"",{"$f":"IF(C185=\"\",\"\",IF(COUNTIF($C$6:C185, C185)>1, \"\", C185))","v":""},{"$f":"IF(L185=\"\",\"\",INDEX(referentes!$J:$K,MATCH(L185,referentes!$K:$K,0),1))","v":""},{"$f":"IF(N185=\"\",\"\",INDEX(referentes!$A:$B,MATCH(N185,referentes!$B:$B,0),1))","v":""},{"$f":"IF(R185=\"\",\"\",INDEX(referentes!$D:$E,MATCH(R185,referentes!$E:$E,0),1))","v":""},{"$f":"IF(S185=\"\",\"\",INDEX(referentes!$G:$H,MATCH(S185,referentes!$H:$H,0),1))","v":""},"",{"$f":"IF(Z185=\"\",\"\",INDEX(referentes!$M:$N,MATCH(Z185,referentes!$N:$N,0),1))","v":""},{"$f":"IF(AT185=\"\",\"\",INDEX('Otras referencias'!AA:AB,MATCH(AT185,'Otras referencias'!AB:AB,0),1))","v":""},{"$f":"IF(AO185=\"\",\"\",INDEX(referentes!S:T,MATCH(AO185,referentes!$T:$T,0),1))","v":""},{"$f":"IF(AP185=\"\",\"\",INDEX(referentes!V:W,MATCH(AP185,referentes!$W:$W,0),1))","v":""}]
[null,0,"",null,null,"",null,null,{"$f":"IF(J186=\"\",\"\",INDEX('Otras referencias'!$V:$W,MATCH(J186,'Otras referencias'!$W:$W,0),1))","v":""},null,null,null,null,null,null,null,null,null,null,null,null,181,null,null,null,null,null,null,null,null,null,null,null,null,null,null,0,null,null,null,null,null,null,null,null,null,null,null,"",{"$f":"IF(C186=\"\",\"\",IF(COUNTIF($C$6:C186, C186)>1, \"\", C186))","v":""},{"$f":"IF(L186=\"\",\"\",INDEX(referentes!$J:$K,MATCH(L186,referentes!$K:$K,0),1))","v":""},{"$f":"IF(N186=\"\",\"\",INDEX(referentes!$A:$B,MATCH(N186,referentes!$B:$B,0),1))","v":""},{"$f":"IF(R186=\"\",\"\",INDEX(referentes!$D:$E,MATCH(R186,referentes!$E:$E,0),1))","v":""},{"$f":"IF(S186=\"\",\"\",INDEX(referentes!$G:$H,MATCH(S186,referentes!$H:$H,0),1))","v":""},"",{"$f":"IF(Z186=\"\",\"\",INDEX(referentes!$M:$N,MATCH(Z186,referentes!$N:$N,0),1))","v":""},{"$f":"IF(AT186=\"\",\"\",INDEX('Otras referencias'!AA:AB,MATCH(AT186,'Otras referencias'!AB:AB,0),1))","v":""},{"$f":"IF(AO186=\"\",\"\",INDEX(referentes!S:T,MATCH(AO186,referentes!$T:$T,0),1))","v":""},{"$f":"IF(AP186=\"\",\"\",INDEX(referentes!V:W,MATCH(AP186,referentes!$W:$W,0),1))","v":""}]
[null,0,"",null,null,"",null,null,{"$f":"IF(J187=\"\",\"\",INDEX('Otras referencias'!$V:$W,MATCH(J187,'Otras referencias'!$W:$W,0),1))","v":""},null,null,null,null,null,null,null,null,null,null,null,null,182,null,null,null,null,null,null,null,null,null,null,null,null,null,null,0,null,null,null,null,null,null,null,null,null,null,null,"",{"$f":"IF(C187=\"\",\"\",IF(COUNTIF($C$6:C187, C187)>1, \"\", C187))","v":""},{"$f":"IF(L187=\"\",\"\",INDEX(referentes!$J:$K,MATCH(L187,referentes!$K:$K,0),1))","v":""},{"$f":"IF(N187=\"\",\"\",INDEX(referentes!$A:$B,MATCH(N187,referentes!$B:$B,0),1))","v":""},{"$f":"IF(R187=\"\",\"\",INDEX(referentes!$D:$E,MATCH(R187,referentes!$E:$E,0),1))","v":""},{"$f":"IF(S187=\"\",\"\",INDEX(referentes!$G:$H,MATCH(S187,referentes!$H:$H,0),1))","v":""},"",{"$f":"IF(Z187=\"\",\"\",INDEX(referentes!$M:$N,MATCH(Z187,referentes!$N:$N,0),1))","v":""},{"$f":"IF(AT187=\"\",\"\",INDEX('Otras referencias'!AA:AB,MATCH(AT187,'Otras referencias'!AB:AB,0),1))","v":""},{"$f":"IF(AO187=\"\",\"\",INDEX(referentes!S:T,MATCH(AO187,referentes!$T:$T,0),1))","v":""},{"$f":"IF(AP187=\"\",\"\",INDEX(referentes!V:W,MATCH(AP187,referentes!$W:$W,0),1))","v":""}]
[null,0,"",null,null,"",null,null,{"$f":"IF(J188=\"\",\"\",INDEX('Otras referencias'!$V:$W,MATCH(J188,'Otras referencias'!$W:$W,0),1))","v":""},null,null,null,null,null,null,null,null,null,null,null,null,183,null,null,null,null,null,null,null,null,null,null,null,null,null,null,0,null,null,null,null,null,null,null,null,null,null,null,"",{"$f":"IF(C188=\"\",\"\",IF(COUNTIF($C$6:C188, C188)>1, \"\", C188))","v":""},{"$f":"IF(L188=\"\",\"\",INDEX(referentes!$J:$K,MATCH(L188,referentes!$K:$K,0),1))","v":""},{"$f":"IF(N188=\"\",\"\",INDEX(referentes!$A:$B,MATCH(N188,referentes!$B:$B,0),1))","v":""},{"$f":"IF(R188=\"\",\"\",INDEX(referentes!$D:$E,MATCH(R188,referentes!$E:$E,0),1))","v":""},{"$f":"IF(S188=\"\",\"\",INDEX(referentes!$G:$H,MATCH(S188,referentes!$H:$H,0),1))","v":""},"",{"$f":"IF(Z188=\"\",\"\",INDEX(referentes!$M:$N,MATCH(Z188,referentes!$N:$N,0),1))","v":""},{"$f":"IF(AT188=\"\",\"\",INDEX('Otras referencias'!AA:AB,MATCH(AT188,'Otras referencias'!AB:AB,0),1))","v":""},{"$f":"IF(AO188=\"\",\"\",INDEX(referentes!S:T,MATCH(AO188,referentes!$T:$T,0),1))","v":""},{"$f":"IF(AP188=\"\",\"\",INDEX(referentes!V:W,MATCH(AP188,referentes!$W:$W,0),1))","v":""}]
[null,0,"",null,null,"",null,null,{"$f":"IF(J189=\"\",\"\",INDEX('Otras referencias'!$V:$W,MATCH(J189,'Otras referencias'!$W:$W,0),1))","v":""},null,null,null,null,null,null,null,null,null,null,null,null,184,null,null,null,null,null,null,null,null,null,null,null,null,null,null,0,null,null,null,null,null,null,null,null,null,null,null,"",{"$f":"IF(C189=\"\",\"\",IF(COUNTIF($C$6:C189, C189)>1, \"\", C189))","v":""},{"$f":"IF(L189=\"\",\"\",INDEX(referentes!$J:$K,MATCH(L189,referentes!$K:$K,0),1))","v":""},{"$f":"IF(N189=\"\",\"\",INDEX(referentes!$A:$B,MATCH(N189,referentes!$B:$B,0),1))","v":""},{"$f":"IF(R189=\"\",\"\",INDEX(referentes!$D:$E,MATCH(R189,referentes!$E:$E,0),1))","v":""},{"$f":"IF(S189=\"\",\"\",INDEX(referentes!$G:$H,MATCH(S189,referentes!$H:$H,0),1))","v":""},"",{"$f":"IF(Z189=\"\",\"\",INDEX(referentes!$M:$N,MATCH(Z189,referentes!$N:$N,0),1))","v":""},{"$f":"IF(AT189=\"\",\"\",INDEX('Otras referencias'!AA:AB,MATCH(AT189,'Otras referencias'!AB:AB,0),1))","v":""},{"$f":"IF(AO189=\"\",\"\",INDEX(referentes!S:T,MATCH(AO189,referentes!$T:$T,0),1))","v":""},{"$f":"IF(AP189=\"\",\"\",INDEX(referentes!V:W,MATCH(AP189,referentes!$W:$W,0),1))","v":""}]
[null,0,"",null,null,"",null,null,{"$f":"IF(J190=\"\",\"\",INDEX('Otras referencias'!$V:$W,MATCH(J190,'Otras referencias'!$W:$W,0),1))","v":""},null,null,null,null,null,null,null,null,null,null,null,null,185,null,null,null,null,null,null,null,null,null,null,null,null,null,null,0,null,null,null,null,null,null,null,null,null,null,null,"",{"$f":"IF(C190=\"\",\"\",IF(COUNTIF($C$6:C190, C190)>1, \"\", C190))","v":""},{"$f":"IF(L190=\"\",\"\",INDEX(referentes!$J:$K,MATCH(L190,referentes!$K:$K,0),1))","v":""},{"$f":"IF(N190=\"\",\"\",INDEX(referentes!$A:$B,MATCH(N190,referentes!$B:$B,0),1))","v":""},{"$f":"IF(R190=\"\",\"\",INDEX(referentes!$D:$E,MATCH(R190,referentes!$E:$E,0),1))","v":""},{"$f":"IF(S190=\"\",\"\",INDEX(referentes!$G:$H,MATCH(S190,referentes!$H:$H,0),1))","v":""},"",{"$f":"IF(Z190=\"\",\"\",INDEX(referentes!$M:$N,MATCH(Z190,referentes!$N:$N,0),1))","v":""},{"$f":"IF(AT190=\"\",\"\",INDEX('Otras referencias'!AA:AB,MATCH(AT190,'Otras referencias'!AB:AB,0),1))","v":""},{"$f":"IF(AO190=\"\",\"\",INDEX(referentes!S:T,MATCH(AO190,referentes!$T:$T,0),1))","v":""},{"$f":"IF(AP190=\"\",\"\",INDEX(referentes!V:W,MATCH(AP190,referentes!$W:$W,0),1))","v":""}]
[null,0,"",null,null,"",null,null,{"$f":"IF(J191=\"\",\"\",INDEX('Otras referencias'!$V:$W,MATCH(J191,'Otras referencias'!$W:$W,0),1))","v":""},null,null,null,null,null,null,null,null,null,null,null,null,186,null,null,null,null,null,null,null,null,null,null,null,null,null,null,0,null,null,null,null,null,null,null,null,null,null,null,"",{"$f":"IF(C191=\"\",\"\",IF(COUNTIF($C$6:C191, C191)>1, \"\", C191))","v":""},{"$f":"IF(L191=\"\",\"\",INDEX(referentes!$J:$K,MATCH(L191,referentes!$K:$K,0),1))","v":""},{"$f":"IF(N191=\"\",\"\",INDEX(referentes!$A:$B,MATCH(N191,referentes!$B:$B,0),1))","v":""},{"$f":"IF(R191=\"\",\"\",INDEX(referentes!$D:$E,MATCH(R191,referentes!$E:$E,0),1))","v":""},{"$f":"IF(S191=\"\",\"\",INDEX(referentes!$G:$H,MATCH(S191,referentes!$H:$H,0),1))","v":""},"",{"$f":"IF(Z191=\"\",\"\",INDEX(referentes!$M:$N,MATCH(Z191,referentes!$N:$N,0),1))","v":""},{"$f":"IF(AT191=\"\",\"\",INDEX('Otras referencias'!AA:AB,MATCH(AT191,'Otras referencias'!AB:AB,0),1))","v":""},{"$f":"IF(AO191=\"\",\"\",INDEX(referentes!S:T,MATCH(AO191,referentes!$T:$T,0),1))","v":""},{"$f":"IF(AP191=\"\",\"\",INDEX(referentes!V:W,MATCH(AP191,referentes!$W:$W,0),1))","v":""}]
[null,0,"",null,null,"",null,null,{"$f":"IF(J192=\"\",\"\",INDEX('Otras referencias'!$V:$W,MATCH(J192,'Otras referencias'!$W:$W,0),1))","v":""},null,null,null,null,null,null,null,null,null,null,null,null,187,null,null,null,null,null,null,null,null,null,null,null,null,null,null,0,null,null,null,null,null,null,null,null,null,null,null,"",{"$f":"IF(C192=\"\",\"\",IF(COUNTIF($C$6:C192, C192)>1, \"\", C192))","v":""},{"$f":"IF(L192=\"\",\"\",INDEX(referentes!$J:$K,MATCH(L192,referentes!$K:$K,0),1))","v":""},{"$f":"IF(N192=\"\",\"\",INDEX(referentes!$A:$B,MATCH(N192,referentes!$B:$B,0),1))","v":""},{"$f":"IF(R192=\"\",\"\",INDEX(referentes!$D:$E,MATCH(R192,referentes!$E:$E,0),1))","v":""},{"$f":"IF(S192=\"\",\"\",INDEX(referentes!$G:$H,MATCH(S192,referentes!$H:$H,0),1))","v":""},"",{"$f":"IF(Z192=\"\",\"\",INDEX(referentes!$M:$N,MATCH(Z192,referentes!$N:$N,0),1))","v":""},{"$f":"IF(AT192=\"\",\"\",INDEX('Otras referencias'!AA:AB,MATCH(AT192,'Otras referencias'!AB:AB,0),1))","v":""},{"$f":"IF(AO192=\"\",\"\",INDEX(referentes!S:T,MATCH(AO192,referentes!$T:$T,0),1))","v":""},{"$f":"IF(AP192=\"\",\"\",INDEX(referentes!V:W,MATCH(AP192,referentes!$W:$W,0),1))","v":""}]
[null,0,"",null,null,"",null,null,{"$f":"IF(J193=\"\",\"\",INDEX('Otras referencias'!$V:$W,MATCH(J193,'Otras referencias'!$W:$W,0),1))","v":""},null,null,null,null,null,null,null,null,null,null,null,null,188,null,null,null,null,null,null,null,null,null,null,null,null,null,null,0,null,null,null,null,null,null,null,null,null,null,null,"",{"$f":"IF(C193=\"\",\"\",IF(COUNTIF($C$6:C193, C193)>1, \"\", C193))","v":""},{"$f":"IF(L193=\"\",\"\",INDEX(referentes!$J:$K,MATCH(L193,referentes!$K:$K,0),1))","v":""},{"$f":"IF(N193=\"\",\"\",INDEX(referentes!$A:$B,MATCH(N193,referentes!$B:$B,0),1))","v":""},{"$f":"IF(R193=\"\",\"\",INDEX(referentes!$D:$E,MATCH(R193,referentes!$E:$E,0),1))","v":""},{"$f":"IF(S193=\"\",\"\",INDEX(referentes!$G:$H,MATCH(S193,referentes!$H:$H,0),1))","v":""},"",{"$f":"IF(Z193=\"\",\"\",INDEX(referentes!$M:$N,MATCH(Z193,referentes!$N:$N,0),1))","v":""},{"$f":"IF(AT193=\"\",\"\",INDEX('Otras referencias'!AA:AB,MATCH(AT193,'Otras referencias'!AB:AB,0),1))","v":""},{"$f":"IF(AO193=\"\",\"\",INDEX(referentes!S:T,MATCH(AO193,referentes!$T:$T,0),1))","v":""},{"$f":"IF(AP193=\"\",\"\",INDEX(referentes!V:W,MATCH(AP193,referentes!$W:$W,0),1))","v":""}]
[null,0,"",null,null,"",null,null,{"$f":"IF(J194=\"\",\"\",INDEX('Otras referencias'!$V:$W,MATCH(J194,'Otras referencias'!$W:$W,0),1))","v":""},null,null,null,null,null,null,null,null,null,null,null,null,189,null,null,null,null,null,null,null,null,null,null,null,null,null,null,0,null,null,null,null,null,null,null,null,null,null,null,"",{"$f":"IF(C194=\"\",\"\",IF(COUNTIF($C$6:C194, C194)>1, \"\", C194))","v":""},{"$f":"IF(L194=\"\",\"\",INDEX(referentes!$J:$K,MATCH(L194,referentes!$K:$K,0),1))","v":""},{"$f":"IF(N194=\"\",\"\",INDEX(referentes!$A:$B,MATCH(N194,referentes!$B:$B,0),1))","v":""},{"$f":"IF(R194=\"\",\"\",INDEX(referentes!$D:$E,MATCH(R194,referentes!$E:$E,0),1))","v":""},{"$f":"IF(S194=\"\",\"\",INDEX(referentes!$G:$H,MATCH(S194,referentes!$H:$H,0),1))","v":""},"",{"$f":"IF(Z194=\"\",\"\",INDEX(referentes!$M:$N,MATCH(Z194,referentes!$N:$N,0),1))","v":""},{"$f":"IF(AT194=\"\",\"\",INDEX('Otras referencias'!AA:AB,MATCH(AT194,'Otras referencias'!AB:AB,0),1))","v":""},{"$f":"IF(AO194=\"\",\"\",INDEX(referentes!S:T,MATCH(AO194,referentes!$T:$T,0),1))","v":""},{"$f":"IF(AP194=\"\",\"\",INDEX(referentes!V:W,MATCH(AP194,referentes!$W:$W,0),1))","v":""}]
[null,0,"",null,null,"",null,null,{"$f":"IF(J195=\"\",\"\",INDEX('Otras referencias'!$V:$W,MATCH(J195,'Otras referencias'!$W:$W,0),1))","v":""},null,null,null,null,null,null,null,null,null,null,null,null,190,null,null,null,null,null,null,null,null,null,null,null,null,null,null,0,null,null,null,null,null,null,null,null,null,null,null,"",{"$f":"IF(C195=\"\",\"\",IF(COUNTIF($C$6:C195, C195)>1, \"\", C195))","v":""},{"$f":"IF(L195=\"\",\"\",INDEX(referentes!$J:$K,MATCH(L195,referentes!$K:$K,0),1))","v":""},{"$f":"IF(N195=\"\",\"\",INDEX(referentes!$A:$B,MATCH(N195,referentes!$B:$B,0),1))","v":""},{"$f":"IF(R195=\"\",\"\",INDEX(referentes!$D:$E,MATCH(R195,referentes!$E:$E,0),1))","v":""},{"$f":"IF(S195=\"\",\"\",INDEX(referentes!$G:$H,MATCH(S195,referentes!$H:$H,0),1))","v":""},"",{"$f":"IF(Z195=\"\",\"\",INDEX(referentes!$M:$N,MATCH(Z195,referentes!$N:$N,0),1))","v":""},{"$f":"IF(AT195=\"\",\"\",INDEX('Otras referencias'!AA:AB,MATCH(AT195,'Otras referencias'!AB:AB,0),1))","v":""},{"$f":"IF(AO195=\"\",\"\",INDEX(referentes!S:T,MATCH(AO195,referentes!$T:$T,0),1))","v":""},{"$f":"IF(AP195=\"\",\"\",INDEX(referentes!V:W,MATCH(AP195,referentes!$W:$W,0),1))","v":""}]
[null,0,"",null,null,"",null,null,{"$f":"IF(J196=\"\",\"\",INDEX('Otras referencias'!$V:$W,MATCH(J196,'Otras referencias'!$W:$W,0),1))","v":""},null,null,null,null,null,null,null,null,null,null,null,null,191,null,null,null,null,null,null,null,null,null,null,null,null,null,null,0,null,null,null,null,null,null,null,null,null,null,null,"",{"$f":"IF(C196=\"\",\"\",IF(COUNTIF($C$6:C196, C196)>1, \"\", C196))","v":""},{"$f":"IF(L196=\"\",\"\",INDEX(referentes!$J:$K,MATCH(L196,referentes!$K:$K,0),1))","v":""},{"$f":"IF(N196=\"\",\"\",INDEX(referentes!$A:$B,MATCH(N196,referentes!$B:$B,0),1))","v":""},{"$f":"IF(R196=\"\",\"\",INDEX(referentes!$D:$E,MATCH(R196,referentes!$E:$E,0),1))","v":""},{"$f":"IF(S196=\"\",\"\",INDEX(referentes!$G:$H,MATCH(S196,referentes!$H:$H,0),1))","v":""},"",{"$f":"IF(Z196=\"\",\"\",INDEX(referentes!$M:$N,MATCH(Z196,referentes!$N:$N,0),1))","v":""},{"$f":"IF(AT196=\"\",\"\",INDEX('Otras referencias'!AA:AB,MATCH(AT196,'Otras referencias'!AB:AB,0),1))","v":""},{"$f":"IF(AO196=\"\",\"\",INDEX(referentes!S:T,MATCH(AO196,referentes!$T:$T,0),1))","v":""},{"$f":"IF(AP196=\"\",\"\",INDEX(referentes!V:W,MATCH(AP196,referentes!$W:$W,0),1))","v":""}]
[null,0,"",null,null,"",null,null,{"$f":"IF(J197=\"\",\"\",INDEX('Otras referencias'!$V:$W,MATCH(J197,'Otras referencias'!$W:$W,0),1))","v":""},null,null,null,null,null,null,null,null,null,null,null,null,192,null,null,null,null,null,null,null,null,null,null,null,null,null,null,0,null,null,null,null,null,null,null,null,null,null,null,"",{"$f":"IF(C197=\"\",\"\",IF(COUNTIF($C$6:C197, C197)>1, \"\", C197))","v":""},{"$f":"IF(L197=\"\",\"\",INDEX(referentes!$J:$K,MATCH(L197,referentes!$K:$K,0),1))","v":""},{"$f":"IF(N197=\"\",\"\",INDEX(referentes!$A:$B,MATCH(N197,referentes!$B:$B,0),1))","v":""},{"$f":"IF(R197=\"\",\"\",INDEX(referentes!$D:$E,MATCH(R197,referentes!$E:$E,0),1))","v":""},{"$f":"IF(S197=\"\",\"\",INDEX(referentes!$G:$H,MATCH(S197,referentes!$H:$H,0),1))","v":""},"",{"$f":"IF(Z197=\"\",\"\",INDEX(referentes!$M:$N,MATCH(Z197,referentes!$N:$N,0),1))","v":""},{"$f":"IF(AT197=\"\",\"\",INDEX('Otras referencias'!AA:AB,MATCH(AT197,'Otras referencias'!AB:AB,0),1))","v":""},{"$f":"IF(AO197=\"\",\"\",INDEX(referentes!S:T,MATCH(AO197,referentes!$T:$T,0),1))","v":""},{"$f":"IF(AP197=\"\",\"\",INDEX(referentes!V:W,MATCH(AP197,referentes!$W:$W,0),1))","v":""}]
[null,0,"",null,null,"",null,null,{"$f":"IF(J198=\"\",\"\",INDEX('Otras referencias'!$V:$W,MATCH(J198,'Otras referencias'!$W:$W,0),1))","v":""},null,null,null,null,null,null,null,null,null,null,null,null,193,null,null,null,null,null,null,null,null,null,null,null,null,null,null,0,null,null,null,null,null,null,null,null,null,null,null,{"$f":"IF(D198=\"\",\"\",CONCATENATE(C198,V198))","v":""},{"$f":"IF(C198=\"\",\"\",IF(COUNTIF($C$6:C198, C198)>1, \"\", C198))","v":""},{"$f":"IF(L198=\"\",\"\",INDEX(referentes!$J:$K,MATCH(L198,referentes!$K:$K,0),1))","v":""},{"$f":"IF(N198=\"\",\"\",INDEX(referentes!$A:$B,MATCH(N198,referentes!$B:$B,0),1))","v":""},{"$f":"IF(R198=\"\",\"\",INDEX(referentes!$D:$E,MATCH(R198,referentes!$E:$E,0),1))","v":""},{"$f":"IF(S198=\"\",\"\",INDEX(referentes!$G:$H,MATCH(S198,referentes!$H:$H,0),1))","v":""},{"$f":"CONCATENATE(F198,G198,I198,AY198,AZ198,BA198,BB198,O198,P198,Q198)","v":""},{"$f":"IF(Z198=\"\",\"\",INDEX(referentes!$M:$N,MATCH(Z198,referentes!$N:$N,0),1))","v":""},{"$f":"IF(AT198=\"\",\"\",INDEX('Otras referencias'!AA:AB,MATCH(AT198,'Otras referencias'!AB:AB,0),1))","v":""},{"$f":"IF(AO198=\"\",\"\",INDEX(referentes!S:T,MATCH(AO198,referentes!$T:$T,0),1))","v":""},{"$f":"IF(AP198=\"\",\"\",INDEX(referentes!V:W,MATCH(AP198,referentes!$W:$W,0),1))","v":""}]
[null,{"$f":"IF(BC199=BC198,B198,B198+1)","v":0},{"$f":"IF(E199<>\"\",CONCATENATE($A$4,D199,I199),\"\")","v":""},null,null,{"$f":"IF(D199<>\"\",D199+E199,\"\")","v":""},null,null,{"$f":"IF(J199=\"\",\"\",INDEX('Otras referencias'!$V:$W,MATCH(J199,'Otras referencias'!$W:$W,0),1))","v":""},null,null,null,null,null,null,null,null,null,null,null,null,194,null,null,null,null,null,null,null,null,null,null,null,null,null,null,{"$f":"SUM(AA199:AJ199)","v":0},null,null,null,null,null,null,null,null,null,null,null,"",{"$f":"IF(C199=\"\",\"\",IF(COUNTIF($C$6:C199, C199)>1, \"\", C199))","v":""},{"$f":"IF(L199=\"\",\"\",INDEX(referentes!$J:$K,MATCH(L199,referentes!$K:$K,0),1))","v":""},{"$f":"IF(N199=\"\",\"\",INDEX(referentes!$A:$B,MATCH(N199,referentes!$B:$B,0),1))","v":""},{"$f":"IF(R199=\"\",\"\",INDEX(referentes!$D:$E,MATCH(R199,referentes!$E:$E,0),1))","v":""},{"$f":"IF(S199=\"\",\"\",INDEX(referentes!$G:$H,MATCH(S199,referentes!$H:$H,0),1))","v":""},"",{"$f":"IF(Z199=\"\",\"\",INDEX(referentes!$M:$N,MATCH(Z199,referentes!$N:$N,0),1))","v":""},{"$f":"IF(AT199=\"\",\"\",INDEX('Otras referencias'!AA:AB,MATCH(AT199,'Otras referencias'!AB:AB,0),1))","v":""},{"$f":"IF(AO199=\"\",\"\",INDEX(referentes!S:T,MATCH(AO199,referentes!$T:$T,0),1))","v":""},{"$f":"IF(AP199=\"\",\"\",INDEX(referentes!V:W,MATCH(AP199,referentes!$W:$W,0),1))","v":""}]
[null,0,"",null,null,"",null,null,{"$f":"IF(J200=\"\",\"\",INDEX('Otras referencias'!$V:$W,MATCH(J200,'Otras referencias'!$W:$W,0),1))","v":""},null,null,null,null,null,null,null,null,null,null,null,null,195,null,null,null,null,null,null,null,null,null,null,null,null,null,null,0,null,null,null,null,null,null,null,null,null,null,null,"",{"$f":"IF(C200=\"\",\"\",IF(COUNTIF($C$6:C200, C200)>1, \"\", C200))","v":""},{"$f":"IF(L200=\"\",\"\",INDEX(referentes!$J:$K,MATCH(L200,referentes!$K:$K,0),1))","v":""},{"$f":"IF(N200=\"\",\"\",INDEX(referentes!$A:$B,MATCH(N200,referentes!$B:$B,0),1))","v":""},{"$f":"IF(R200=\"\",\"\",INDEX(referentes!$D:$E,MATCH(R200,referentes!$E:$E,0),1))","v":""},{"$f":"IF(S200=\"\",\"\",INDEX(referentes!$G:$H,MATCH(S200,referentes!$H:$H,0),1))","v":""},"",{"$f":"IF(Z200=\"\",\"\",INDEX(referentes!$M:$N,MATCH(Z200,referentes!$N:$N,0),1))","v":""},{"$f":"IF(AT200=\"\",\"\",INDEX('Otras referencias'!AA:AB,MATCH(AT200,'Otras referencias'!AB:AB,0),1))","v":""},{"$f":"IF(AO200=\"\",\"\",INDEX(referentes!S:T,MATCH(AO200,referentes!$T:$T,0),1))","v":""},{"$f":"IF(AP200=\"\",\"\",INDEX(referentes!V:W,MATCH(AP200,referentes!$W:$W,0),1))","v":""}]
[null,0,"",null,null,"",null,null,{"$f":"IF(J201=\"\",\"\",INDEX('Otras referencias'!$V:$W,MATCH(J201,'Otras referencias'!$W:$W,0),1))","v":""},null,null,null,null,null,null,null,null,null,null,null,null,196,null,null,null,null,null,null,null,null,null,null,null,null,null,null,0,null,null,null,null,null,null,null,null,null,null,null,"",{"$f":"IF(C201=\"\",\"\",IF(COUNTIF($C$6:C201, C201)>1, \"\", C201))","v":""},{"$f":"IF(L201=\"\",\"\",INDEX(referentes!$J:$K,MATCH(L201,referentes!$K:$K,0),1))","v":""},{"$f":"IF(N201=\"\",\"\",INDEX(referentes!$A:$B,MATCH(N201,referentes!$B:$B,0),1))","v":""},{"$f":"IF(R201=\"\",\"\",INDEX(referentes!$D:$E,MATCH(R201,referentes!$E:$E,0),1))","v":""},{"$f":"IF(S201=\"\",\"\",INDEX(referentes!$G:$H,MATCH(S201,referentes!$H:$H,0),1))","v":""},"",{"$f":"IF(Z201=\"\",\"\",INDEX(referentes!$M:$N,MATCH(Z201,referentes!$N:$N,0),1))","v":""},{"$f":"IF(AT201=\"\",\"\",INDEX('Otras referencias'!AA:AB,MATCH(AT201,'Otras referencias'!AB:AB,0),1))","v":""},{"$f":"IF(AO201=\"\",\"\",INDEX(referentes!S:T,MATCH(AO201,referentes!$T:$T,0),1))","v":""},{"$f":"IF(AP201=\"\",\"\",INDEX(referentes!V:W,MATCH(AP201,referentes!$W:$W,0),1))","v":""}]
[null,0,"",null,null,"",null,null,{"$f":"IF(J202=\"\",\"\",INDEX('Otras referencias'!$V:$W,MATCH(J202,'Otras referencias'!$W:$W,0),1))","v":""},null,null,null,null,null,null,null,null,null,null,null,null,197,null,null,null,null,null,null,null,null,null,null,null,null,null,null,0,null,null,null,null,null,null,null,null,null,null,null,"",{"$f":"IF(C202=\"\",\"\",IF(COUNTIF($C$6:C202, C202)>1, \"\", C202))","v":""},{"$f":"IF(L202=\"\",\"\",INDEX(referentes!$J:$K,MATCH(L202,referentes!$K:$K,0),1))","v":""},{"$f":"IF(N202=\"\",\"\",INDEX(referentes!$A:$B,MATCH(N202,referentes!$B:$B,0),1))","v":""},{"$f":"IF(R202=\"\",\"\",INDEX(referentes!$D:$E,MATCH(R202,referentes!$E:$E,0),1))","v":""},{"$f":"IF(S202=\"\",\"\",INDEX(referentes!$G:$H,MATCH(S202,referentes!$H:$H,0),1))","v":""},"",{"$f":"IF(Z202=\"\",\"\",INDEX(referentes!$M:$N,MATCH(Z202,referentes!$N:$N,0),1))","v":""},{"$f":"IF(AT202=\"\",\"\",INDEX('Otras referencias'!AA:AB,MATCH(AT202,'Otras referencias'!AB:AB,0),1))","v":""},{"$f":"IF(AO202=\"\",\"\",INDEX(referentes!S:T,MATCH(AO202,referentes!$T:$T,0),1))","v":""},{"$f":"IF(AP202=\"\",\"\",INDEX(referentes!V:W,MATCH(AP202,referentes!$W:$W,0),1))","v":""}]
[null,0,"",null,null,"",null,null,{"$f":"IF(J203=\"\",\"\",INDEX('Otras referencias'!$V:$W,MATCH(J203,'Otras referencias'!$W:$W,0),1))","v":""},null,null,null,null,null,null,null,null,null,null,null,null,198,null,null,null,null,null,null,null,null,null,null,null,null,null,null,0,null,null,null,null,null,null,null,null,null,null,null,"",{"$f":"IF(C203=\"\",\"\",IF(COUNTIF($C$6:C203, C203)>1, \"\", C203))","v":""},{"$f":"IF(L203=\"\",\"\",INDEX(referentes!$J:$K,MATCH(L203,referentes!$K:$K,0),1))","v":""},{"$f":"IF(N203=\"\",\"\",INDEX(referentes!$A:$B,MATCH(N203,referentes!$B:$B,0),1))","v":""},{"$f":"IF(R203=\"\",\"\",INDEX(referentes!$D:$E,MATCH(R203,referentes!$E:$E,0),1))","v":""},{"$f":"IF(S203=\"\",\"\",INDEX(referentes!$G:$H,MATCH(S203,referentes!$H:$H,0),1))","v":""},"",{"$f":"IF(Z203=\"\",\"\",INDEX(referentes!$M:$N,MATCH(Z203,referentes!$N:$N,0),1))","v":""},{"$f":"IF(AT203=\"\",\"\",INDEX('Otras referencias'!AA:AB,MATCH(AT203,'Otras referencias'!AB:AB,0),1))","v":""},{"$f":"IF(AO203=\"\",\"\",INDEX(referentes!S:T,MATCH(AO203,referentes!$T:$T,0),1))","v":""},{"$f":"IF(AP203=\"\",\"\",INDEX(referentes!V:W,MATCH(AP203,referentes!$W:$W,0),1))","v":""}]
[null,0,"",null,null,"",null,null,{"$f":"IF(J204=\"\",\"\",INDEX('Otras referencias'!$V:$W,MATCH(J204,'Otras referencias'!$W:$W,0),1))","v":""},null,null,null,null,null,null,null,null,null,null,null,null,199,null,null,null,null,null,null,null,null,null,null,null,null,null,null,0,null,null,null,null,null,null,null,null,null,null,null,"",{"$f":"IF(C204=\"\",\"\",IF(COUNTIF($C$6:C204, C204)>1, \"\", C204))","v":""},{"$f":"IF(L204=\"\",\"\",INDEX(referentes!$J:$K,MATCH(L204,referentes!$K:$K,0),1))","v":""},{"$f":"IF(N204=\"\",\"\",INDEX(referentes!$A:$B,MATCH(N204,referentes!$B:$B,0),1))","v":""},{"$f":"IF(R204=\"\",\"\",INDEX(referentes!$D:$E,MATCH(R204,referentes!$E:$E,0),1))","v":""},{"$f":"IF(S204=\"\",\"\",INDEX(referentes!$G:$H,MATCH(S204,referentes!$H:$H,0),1))","v":""},"",{"$f":"IF(Z204=\"\",\"\",INDEX(referentes!$M:$N,MATCH(Z204,referentes!$N:$N,0),1))","v":""},{"$f":"IF(AT204=\"\",\"\",INDEX('Otras referencias'!AA:AB,MATCH(AT204,'Otras referencias'!AB:AB,0),1))","v":""},{"$f":"IF(AO204=\"\",\"\",INDEX(referentes!S:T,MATCH(AO204,referentes!$T:$T,0),1))","v":""},{"$f":"IF(AP204=\"\",\"\",INDEX(referentes!V:W,MATCH(AP204,referentes!$W:$W,0),1))","v":""}]
[null,0,"",null,null,"",null,null,{"$f":"IF(J205=\"\",\"\",INDEX('Otras referencias'!$V:$W,MATCH(J205,'Otras referencias'!$W:$W,0),1))","v":""},null,null,null,null,null,null,null,null,null,null,null,null,200,null,null,null,null,null,null,null,null,null,null,null,null,null,null,0,null,null,null,null,null,null,null,null,null,null,null,"",{"$f":"IF(C205=\"\",\"\",IF(COUNTIF($C$6:C205, C205)>1, \"\", C205))","v":""},{"$f":"IF(L205=\"\",\"\",INDEX(referentes!$J:$K,MATCH(L205,referentes!$K:$K,0),1))","v":""},{"$f":"IF(N205=\"\",\"\",INDEX(referentes!$A:$B,MATCH(N205,referentes!$B:$B,0),1))","v":""},{"$f":"IF(R205=\"\",\"\",INDEX(referentes!$D:$E,MATCH(R205,referentes!$E:$E,0),1))","v":""},{"$f":"IF(S205=\"\",\"\",INDEX(referentes!$G:$H,MATCH(S205,referentes!$H:$H,0),1))","v":""},"",{"$f":"IF(Z205=\"\",\"\",INDEX(referentes!$M:$N,MATCH(Z205,referentes!$N:$N,0),1))","v":""},{"$f":"IF(AT205=\"\",\"\",INDEX('Otras referencias'!AA:AB,MATCH(AT205,'Otras referencias'!AB:AB,0),1))","v":""},{"$f":"IF(AO205=\"\",\"\",INDEX(referentes!S:T,MATCH(AO205,referentes!$T:$T,0),1))","v":""},{"$f":"IF(AP205=\"\",\"\",INDEX(referentes!V:W,MATCH(AP205,referentes!$W:$W,0),1))","v":""}]
[null,0,"",null,null,"",null,null,{"$f":"IF(J206=\"\",\"\",INDEX('Otras referencias'!$V:$W,MATCH(J206,'Otras referencias'!$W:$W,0),1))","v":""},null,null,null,null,null,null,null,null,null,null,null,null,201,null,null,null,null,null,null,null,null,null,null,null,null,null,null,0,null,null,null,null,null,null,null,null,null,null,null,"",{"$f":"IF(C206=\"\",\"\",IF(COUNTIF($C$6:C206, C206)>1, \"\", C206))","v":""},{"$f":"IF(L206=\"\",\"\",INDEX(referentes!$J:$K,MATCH(L206,referentes!$K:$K,0),1))","v":""},{"$f":"IF(N206=\"\",\"\",INDEX(referentes!$A:$B,MATCH(N206,referentes!$B:$B,0),1))","v":""},{"$f":"IF(R206=\"\",\"\",INDEX(referentes!$D:$E,MATCH(R206,referentes!$E:$E,0),1))","v":""},{"$f":"IF(S206=\"\",\"\",INDEX(referentes!$G:$H,MATCH(S206,referentes!$H:$H,0),1))","v":""},"",{"$f":"IF(Z206=\"\",\"\",INDEX(referentes!$M:$N,MATCH(Z206,referentes!$N:$N,0),1))","v":""},{"$f":"IF(AT206=\"\",\"\",INDEX('Otras referencias'!AA:AB,MATCH(AT206,'Otras referencias'!AB:AB,0),1))","v":""},{"$f":"IF(AO206=\"\",\"\",INDEX(referentes!S:T,MATCH(AO206,referentes!$T:$T,0),1))","v":""},{"$f":"IF(AP206=\"\",\"\",INDEX(referentes!V:W,MATCH(AP206,referentes!$W:$W,0),1))","v":""}]

{"sheet":"referentes","index":4,"n_rows":32,"n_cols":32,"rows_kept":32,"cut":false,"hidden":false,"merged":[]}
[1080,"AG_LOV",null,1079,"AG_LOV",null,1081,"AG_LOV",null,1082,"AG_LOV",null,1083,"AG_LOV",null,1078,"AG_LOV",null,1093,"AG_LOV",null,1094,"AG_LOV"]
[1,"Dragado",null,1,"Duna",null,1,"Refrigerado",null,1,"LABCAM",null,1,"Inferior",null,1,"Cuarzo",null,1,"Muy angular",null,1,"Alta",null,57486,"Ararca",1,null,"Ararca ",null,8619,"Juan Pablo Caicedo García"]
[2,"Toma manual",null,2,"Río",null,2,"Ambiente seco",null,2,"LABIMA",null,2,"Intermedio",null,2,"Feldespato",null,2,"Angular",null,2,"Media ",null,57821,"Bahía de Cispatá",1,null,"Bahia de Cispatá",null,8265,"Kevin Samuel Moreno"]
[3,"Box corer",null,3,"Laguna costera",null,3,"Ambiente humedo",null,3,"GEO",null,3,"Superior",null,3,"Ortoclasa",null,3,"Subangular",null,3,"Baja",null,57822,"Bahía Hondita",1,null,"Bahía Hondita",null,8642,"Milena Hernández Ortiz"]
[null,null,null,4,"Playa",null,4,"Congelado",null,null,null,null,4,"Unica Seccion",null,4,"Minerales máficos",null,4,"Subredondeada",null,null,null,null,57824,"Bahía Málaga",1,null,"Bahía Málaga",null,4521,"Sebastian Herrera Fajardo"]
[null,null,null,5,"Supramareal",null,null,null,null,null,null,null,null,null,null,5,"Anfíboles",null,5,"Redondeada ",null,null,null,null,57484,"Bocacerrada",1,null,"Boca Cerrada  ",null,8057,"Tania Carolina Hoyos Ruiz"]
[null,null,null,6,"Mesomareal",null,null,null,null,null,null,null,null,null,null,6,"Piroxenos",null,6,"Bien redondeada",null,null,null,null,57823,"Golfo de Urabá",1,null,"Golfo de Urabá",null,8266,"Zulay Saudith González Herrera"]
[null,null,null,7,"Inframareal",null,null,null,null,null,null,null,null,null,null,7,"Micas",null,null,null,null,null,null,null,57485,"Santa Ana",1,null,"Santa Ana "]
[null,null,null,8,"Rompiente",null,null,null,null,null,null,null,null,null,null,8,"Clorita"]
[null,null,null,9,"Fondo",null,null,null,null,null,null,null,null,null,null,9,"Biotita"]
[null,null,null,10,"Plataforma continental",null,null,null,null,null,null,null,null,null,null,10,"Moscovita"]
[null,null,null,11,"Plataforma insular",null,null,null,null,null,null,null,null,null,null,11,"Glauconita"]
[null,null,null,12,"Indefinido",null,null,null,null,null,null,null,null,null,null,12,"Carbonatos"]
[null,null,null,13,"Otro",null,null,null,null,null,null,null,null,null,null,13,"Carbón"]
[null,null,null,null,null,null,null,null,null,null,null,null,null,null,null,14,"Magnetita"]
[null,null,null,null,null,null,null,null,null,null,null,null,null,null,null,15,"Yeso"]
[null,null,null,null,null,null,null,null,null,null,null,null,null,null,null,16,"Oxidos"]
[null,null,null,null,null,null,null,null,null,null,null,null,null,null,null,17,"Epidota"]
[null,null,null,null,null,null,null,null,null,null,null,null,null,null,null,18,"Zircón"]
[null,null,null,null,null,null,null,null,null,null,null,null,null,null,null,19,"Granate"]
[null,null,null,null,null,null,null,null,null,null,null,null,null,null,null,20,"Otro"]
[null,null,null,null,null,null,null,null,null,null,null,null,null,null,null,21,"Minerales arcillosos"]
[null,null,null,null,null,null,null,null,null,null,null,null,null,null,null,22,"Líticos igneos"]
[null,null,null,null,null,null,null,null,null,null,null,null,null,null,null,23,"Líticos Metamórfico"]
[null,null,null,null,null,null,null,null,null,null,null,null,null,null,null,24,"Líticos Sedimentario"]
[null,null,null,null,null,null,null,null,null,null,null,null,null,null,null,25,"Foraminíferos"]
[null,null,null,null,null,null,null,null,null,null,null,null,null,null,null,26,"Bivalvos"]
[null,null,null,null,null,null,null,null,null,null,null,null,null,null,null,27,"Gasterópodos"]
[null,null,null,null,null,null,null,null,null,null,null,null,null,null,null,28,"Corales"]
[null,null,null,null,null,null,null,null,null,null,null,null,null,null,null,29,"Equinodermos"]
[null,null,null,null,null,null,null,null,null,null,null,null,null,null,null,30,"Briozoos"]
[null,null,null,null,null,null,null,null,null,null,null,null,null,null,null,31,"Otro"]

{"sheet":"Otras referencias","index":5,"n_rows":7963,"n_cols":28,"rows_kept":4500,"cut":true,"hidden":false,"merged":[[4,18,4,19],[3,26,3,27],[0,0,2,12],[4,3,4,4],[13,0,13,1],[4,7,4,8],[26,0,26,2],[4,0,4,1],[4,12,4,13]],"bounds":{"rows_first":2000,"rows_last":500,"rows_between":2000,"halvings":0}}
["Estas son listas para variables con valores que no se encuentran codificados, pero que deben manejarse de manera estandarizada. \nSi se requiere agregar un valor nuevo hagalo debajo de la lista correspondiente"]
[null,null,null,null,null,null,null,null,null,null,null,null,null,null,null,"3103 Alex Baez Polo F",47737]
[null,null,null,null,null,null,null,null,null,null,null,null,null,null,null,"4068 Andres Malagon F",47738]
[null,null,null,null,null,null,null,null,null,null,null,null,null,null,null,"4996 Darío Vega F",47739,null,null,null,null,null,null,null,null,null,"QUALITY FLAG"]
["Quality_Flag",null,null,"PROFUNDIDAD",null,null,null,"ROLES",null,null,null,null,"PROYECTOS",null,null,"3766 Edgar Arteaga Sogamoso F",47740,null,"METODOS_RECOLECTA",null,null,null,null,null,null,null,"CÓDIGO","DESCRIPCIÓN"]
[null,null,null,"Descripcion","Codigo",null,null,4,"Captura en campo",null,null,null,"NOMBRE","COD",null,"4066 Erika Acosta F",47741,null,"NOMBRE_MT","CODIGO",null,{"$f":"IF(referentes!Y2=\"\",\"\",referentes!Y2)","v":57486},{"$f":"CONCATENATE(IF(referentes!Z2=\"\",\"\",referentes!Z2),IF(referentes!AA2=\"\",\"\",CONCATENATE(\" \",referentes!AA2)))","v":"Ararca 1"},null,null,null,99,"Datos que faltan"]
[99,"Datos que faltan",null,"Somero","S",null,null,6,"Revisar datos",null,null,null,"INVEMAR ANH Exploracion I",2002,null,"4914 Julian Franco F-E",50025,null,null,null,null,{"$f":"IF(referentes!Y3=\"\",\"\",referentes!Y3)","v":57821},{"$f":"CONCATENATE(IF(referentes!Z3=\"\",\"\",referentes!Z3),IF(referentes!AA3=\"\",\"\",CONCATENATE(\" \",referentes!AA3)))","v":"Bahía de Cispatá 1"},null,null,null,4,"Dato malo"]
[4,"Dato malo",null,"Medio","M",null,null,3497,"Coordinador actividad de campo",null,null,null,"INVEMAR ANH Exploracion II",2068,null,"4067 Luis Castro F",48845,null,null,null,null,{"$f":"IF(referentes!Y4=\"\",\"\",referentes!Y4)","v":57822},{"$f":"CONCATENATE(IF(referentes!Z4=\"\",\"\",referentes!Z4),IF(referentes!AA4=\"\",\"\",CONCATENATE(\" \",referentes!AA4)))","v":"Bahía Hondita 1"},null,null,null,3,"Dato cuestionable"]
[3,"Dato cuestionable",null,"Profundo","P",null,null,4526,"Procesamiento en laboratorio",null,null,null,"INVEMAR ANH ARC Jamaica",2148,null,"3767 Natalia Maria Arbelaez Merizalde F",48642,null,null,null,null,{"$f":"IF(referentes!Y5=\"\",\"\",referentes!Y5)","v":57824},{"$f":"CONCATENATE(IF(referentes!Z5=\"\",\"\",referentes!Z5),IF(referentes!AA5=\"\",\"\",CONCATENATE(\" \",referentes!AA5)))","v":"Bahía Málaga 1"},null,null,null,2,"Dato no evaluado"]
[2,"Dato no evaluado",null,null,null,null,null,null,null,null,null,null,"INVEMAR ANH Tumaco offshore",2207,null,"5777 Aquabiosfera - Invemar F",48644,null,null,null,null,{"$f":"IF(referentes!Y6=\"\",\"\",referentes!Y6)","v":57484},{"$f":"CONCATENATE(IF(referentes!Z6=\"\",\"\",referentes!Z6),IF(referentes!AA6=\"\",\"\",CONCATENATE(\" \",referentes!AA6)))","v":"Bocacerrada 1"},null,null,null,1,"Dato validado y aceptado"]
[1,"Dato validado y aceptado",null,null,null,null,null,null,null,null,null,null,"INVEMAR ANH GUA OFF 3",3000,null,"5665 Ariadna Carolina Cárdenas García F",48646,null,null,null,null,{"$f":"IF(referentes!Y7=\"\",\"\",referentes!Y7)","v":57823},{"$f":"CONCATENATE(IF(referentes!Z7=\"\",\"\",referentes!Z7),IF(referentes!AA7=\"\",\"\",CONCATENATE(\" \",referentes!AA7)))","v":"Golfo de Urabá 1"}]
[null,null,null,null,null,null,null,null,null,null,null,null,"INVEMAR ANH COL 4 y COL 5",3023,null,"1911 Eugenia Escarria Gómez F-ECen",48647,null,null,null,null,{"$f":"IF(referentes!Y8=\"\",\"\",referentes!Y8)","v":57485},{"$f":"CONCATENATE(IF(referentes!Z8=\"\",\"\",referentes!Z8),IF(referentes!AA8=\"\",\"\",CONCATENATE(\" \",referentes!AA8)))","v":"Santa Ana 1"}]
[null,null,null,null,null,null,null,null,null,null,null,null,"ANH RC4 RC5",3031,null,"5695 John Mauricio Beltrán Pérez F-ERin",48648,null,null,null,null,{"$f":"IF(referentes!Y9=\"\",\"\",referentes!Y9)","v":""},{"$f":"CONCATENATE(IF(referentes!Z9=\"\",\"\",referentes!Z9),IF(referentes!AA9=\"\",\"\",CONCATENATE(\" \",referentes!AA9)))","v":""}]
["METODOLOGIAS",null,null,null,null,null,null,null,null,null,null,null,"INVEMAR ANH COL 1 y COL 2 T1",3303,null,"5725 María del Pilar Martínez Barragán F-ENVe",48649,null,null,null,null,{"$f":"IF(referentes!Y10=\"\",\"\",referentes!Y10)","v":""},{"$f":"CONCATENATE(IF(referentes!Z10=\"\",\"\",referentes!Z10),IF(referentes!AA10=\"\",\"\",CONCATENATE(\" \",referentes!AA10)))","v":""}]
["CODIGO","DESCRIPCION",null,null,null,null,null,null,null,null,null,null,"INVEMAR ANH COL 1 y COL 2 T2",3304,null,"5750 Shilenne Yalime Ortíz Rolón F-EFRF",48650,null,null,null,null,{"$f":"IF(referentes!Y11=\"\",\"\",referentes!Y11)","v":""},{"$f":"CONCATENATE(IF(referentes!Z11=\"\",\"\",referentes!Z11),IF(referentes!AA11=\"\",\"\",CONCATENATE(\" \",referentes!AA11)))","v":""}]
[97,"GEO - Sedimentos ",null,null,null,null,null,null,null,null,null,null,"INVEMAR ANH Pastos Marinos Fase 2 Guajira y Chocó",3343,null,"  F-ECN",48651,null,null,null,null,{"$f":"IF(referentes!Y12=\"\",\"\",referentes!Y12)","v":""},{"$f":"CONCATENATE(IF(referentes!Z12=\"\",\"\",referentes!Z12),IF(referentes!AA12=\"\",\"\",CONCATENATE(\" \",referentes!AA12)))","v":""}]
[null,null,null,null,null,null,null,null,null,null,null,null,"INVEMAR ANH COL 3",3389,null,"  F-ELBa",48652,null,null,null,null,{"$f":"IF(referentes!Y13=\"\",\"\",referentes!Y13)","v":""},{"$f":"CONCATENATE(IF(referentes!Z13=\"\",\"\",referentes!Z13),IF(referentes!AA13=\"\",\"\",CONCATENATE(\" \",referentes!AA13)))","v":""}]
[null,null,null,null,null,null,null,null,null,null,null,null,"INVEMAR ANH COL 10",3428,null,"  F-ECLu",48653,null,null,null,null,{"$f":"IF(referentes!Y14=\"\",\"\",referentes!Y14)","v":""},{"$f":"CONCATENATE(IF(referentes!Z14=\"\",\"\",referentes!Z14),IF(referentes!AA14=\"\",\"\",CONCATENATE(\" \",referentes!AA14)))","v":""}]
[null,null,null,null,null,null,null,null,null,null,null,null,"Pesca AUNAP 2015",3280,null,"  F-BCH",48654,null,null,null,null,{"$f":"IF(referentes!Y15=\"\",\"\",referentes!Y15)","v":""},{"$f":"CONCATENATE(IF(referentes!Z15=\"\",\"\",referentes!Z15),IF(referentes!AA15=\"\",\"\",CONCATENATE(\" \",referentes!AA15)))","v":""}]
[null,null,null,null,null,null,null,null,null,null,null,null,null,null,null,"  F-BCH-T",48655,null,null,null,null,{"$f":"IF(referentes!Y16=\"\",\"\",referentes!Y16)","v":""},{"$f":"CONCATENATE(IF(referentes!Z16=\"\",\"\",referentes!Z16),IF(referentes!AA16=\"\",\"\",CONCATENATE(\" \",referentes!AA16)))","v":""}]
[null,null,null,null,null,null,null,null,null,null,null,null,null,null,null,"  F-LCH-T",48656,null,null,null,null,{"$f":"IF(referentes!Y17=\"\",\"\",referentes!Y17)","v":""},{"$f":"CONCATENATE(IF(referentes!Z17=\"\",\"\",referentes!Z17),IF(referentes!AA17=\"\",\"\",CONCATENATE(\" \",referentes!AA17)))","v":""}]
[null,null,null,null,null,null,null,null,null,null,null,null,null,null,null,"  F-BST",48657,null,null,null,null,{"$f":"IF(referentes!Y18=\"\",\"\",referentes!Y18)","v":""},{"$f":"CONCATENATE(IF(referentes!Z18=\"\",\"\",referentes!Z18),IF(referentes!AA18=\"\",\"\",CONCATENATE(\" \",referentes!AA18)))","v":""}]
[null,null,null,null,null,null,null,null,null,null,null,null,null,null,null,"  F-ELBa",48658,null,null,null,null,{"$f":"IF(referentes!Y19=\"\",\"\",referentes!Y19)","v":""},{"$f":"CONCATENATE(IF(referentes!Z19=\"\",\"\",referentes!Z19),IF(referentes!AA19=\"\",\"\",CONCATENATE(\" \",referentes!AA19)))","v":""}]
[null,null,null,null,null,null,null,null,null,null,null,null,null,null,null,"  F-ECLu",48659,null,null,null,null,{"$f":"IF(referentes!Y20=\"\",\"\",referentes!Y20)","v":""},{"$f":"CONCATENATE(IF(referentes!Z20=\"\",\"\",referentes!Z20),IF(referentes!AA20=\"\",\"\",CONCATENATE(\" \",referentes!AA20)))","v":""}]
[null,null,null,null,null,null,null,null,null,null,null,null,null,null,null,"  F-BCH",48660,null,null,null,null,{"$f":"IF(referentes!Y21=\"\",\"\",referentes!Y21)","v":""},{"$f":"CONCATENATE(IF(referentes!Z21=\"\",\"\",referentes!Z21),IF(referentes!AA21=\"\",\"\",CONCATENATE(\" \",referentes!AA21)))","v":""}]
[null,null,null,null,null,null,null,null,null,null,null,null,null,null,null,"  F-BCH-T",48661,null,null,null,null,{"$f":"IF(referentes!Y22=\"\",\"\",referentes!Y22)","v":""},{"$f":"CONCATENATE(IF(referentes!Z22=\"\",\"\",referentes!Z22),IF(referentes!AA22=\"\",\"\",CONCATENATE(\" \",referentes!AA22)))","v":""}]
["CODIGOS LOV",null,null,null,null,null,null,null,null,null,null,null,null,null,null,"  F-LCH-T",48662,null,null,null,null,{"$f":"IF(referentes!Y23=\"\",\"\",referentes!Y23)","v":""},{"$f":"CONCATENATE(IF(referentes!Z23=\"\",\"\",referentes!Z23),IF(referentes!AA23=\"\",\"\",CONCATENATE(\" \",referentes!AA23)))","v":""}]
["DESCRIPCIÓN","CÓDIGO","GRUPO",null,null,null,null,null,null,null,null,null,null,null,null,"  F-LCH-T",48663,null,null,null,null,{"$f":"IF(referentes!Y24=\"\",\"\",referentes!Y24)","v":""},{"$f":"CONCATENATE(IF(referentes!Z24=\"\",\"\",referentes!Z24),IF(referentes!AA24=\"\",\"\",CONCATENATE(\" \",referentes!AA24)))","v":""}]
["Departamento",10,2,null,null,null,null,null,null,null,null,null,null,null,null,"  F-BST",48664,null,null,null,null,{"$f":"IF(referentes!Y25=\"\",\"\",referentes!Y25)","v":""},{"$f":"CONCATENATE(IF(referentes!Z25=\"\",\"\",referentes!Z25),IF(referentes!AA25=\"\",\"\",CONCATENATE(\" \",referentes!AA25)))","v":""}]
["Sector",20,2,null,null,null,null,null,null,null,null,null,null,null,null,"  F-ELBa",48665,null,null,null,null,{"$f":"IF(referentes!Y26=\"\",\"\",referentes!Y26)","v":""},{"$f":"CONCATENATE(IF(referentes!Z26=\"\",\"\",referentes!Z26),IF(referentes!AA26=\"\",\"\",CONCATENATE(\" \",referentes!AA26)))","v":""}]
["Punto",30,2,null,null,null,null,null,null,null,null,null,null,null,null,"  F-ECLu",48666,null,null,null,null,{"$f":"IF(referentes!Y27=\"\",\"\",referentes!Y27)","v":""},{"$f":"CONCATENATE(IF(referentes!Z27=\"\",\"\",referentes!Z27),IF(referentes!AA27=\"\",\"\",CONCATENATE(\" \",referentes!AA27)))","v":""}]
["Parcela",35,2,null,null,null,null,null,null,null,null,null,null,null,null,"  F",48667,null,null,null,null,{"$f":"IF(referentes!Y28=\"\",\"\",referentes!Y28)","v":""},{"$f":"CONCATENATE(IF(referentes!Z28=\"\",\"\",referentes!Z28),IF(referentes!AA28=\"\",\"\",CONCATENATE(\" \",referentes!AA28)))","v":""}]
["Estaciones",40,2,null,null,null,null,null,null,null,null,null,null,null,null,"  F",48668,null,null,null,null,{"$f":"IF(referentes!Y29=\"\",\"\",referentes!Y29)","v":""},{"$f":"CONCATENATE(IF(referentes!Z29=\"\",\"\",referentes!Z29),IF(referentes!AA29=\"\",\"\",CONCATENATE(\" \",referentes!AA29)))","v":""}]
["Region",50,2,null,null,null,null,null,null,null,null,null,null,null,null,"  F",48669,null,null,null,null,{"$f":"IF(referentes!Y30=\"\",\"\",referentes!Y30)","v":""},{"$f":"CONCATENATE(IF(referentes!Z30=\"\",\"\",referentes!Z30),IF(referentes!AA30=\"\",\"\",CONCATENATE(\" \",referentes!AA30)))","v":""}]
["Unidad_de_Manejo",60,2,null,null,null,null,null,null,null,null,null,null,null,null,"  F",48670,null,null,null,null,{"$f":"IF(referentes!Y31=\"\",\"\",referentes!Y31)","v":""},{"$f":"CONCATENATE(IF(referentes!Z31=\"\",\"\",referentes!Z31),IF(referentes!AA31=\"\",\"\",CONCATENATE(\" \",referentes!AA31)))","v":""}]
["Unidad_Ambiental_Costera",70,2,null,null,null,null,null,null,null,null,null,null,null,null,"  F",48671,null,null,null,null,{"$f":"IF(referentes!Y32=\"\",\"\",referentes!Y32)","v":""},{"$f":"CONCATENATE(IF(referentes!Z32=\"\",\"\",referentes!Z32),IF(referentes!AA32=\"\",\"\",CONCATENATE(\" \",referentes!AA32)))","v":""}]
["Localidad",80,2,null,null,null,null,null,null,null,null,null,null,null,null,"  F",48672,null,null,null,null,{"$f":"IF(referentes!Y33=\"\",\"\",referentes!Y33)","v":""},{"$f":"CONCATENATE(IF(referentes!Z33=\"\",\"\",referentes!Z33),IF(referentes!AA33=\"\",\"\",CONCATENATE(\" \",referentes!AA33)))","v":""}]
["Bloque_Exploracion",85,2,null,null,null,null,null,null,null,null,null,null,null,null,"  F-ELBa",48673,null,null,null,null,{"$f":"IF(referentes!Y34=\"\",\"\",referentes!Y34)","v":""},{"$f":"CONCATENATE(IF(referentes!Z34=\"\",\"\",referentes!Z34),IF(referentes!AA34=\"\",\"\",CONCATENATE(\" \",referentes!AA34)))","v":""}]
["Area",90,2,null,null,null,null,null,null,null,null,null,null,null,null,"  F-ECLu",48674,null,null,null,null,{"$f":"IF(referentes!Y35=\"\",\"\",referentes!Y35)","v":""},{"$f":"CONCATENATE(IF(referentes!Z35=\"\",\"\",referentes!Z35),IF(referentes!AA35=\"\",\"\",CONCATENATE(\" \",referentes!AA35)))","v":""}]
[null,null,null,null,null,null,null,null,null,null,null,null,null,null,null,"  F",48675,null,null,null,null,{"$f":"IF(referentes!Y36=\"\",\"\",referentes!Y36)","v":""},{"$f":"CONCATENATE(IF(referentes!Z36=\"\",\"\",referentes!Z36),IF(referentes!AA36=\"\",\"\",CONCATENATE(\" \",referentes!AA36)))","v":""}]
[null,null,null,null,null,null,null,null,null,null,null,null,null,null,null,"  F",48676,null,null,null,null,{"$f":"IF(referentes!Y37=\"\",\"\",referentes!Y37)","v":""},{"$f":"CONCATENATE(IF(referentes!Z37=\"\",\"\",referentes!Z37),IF(referentes!AA37=\"\",\"\",CONCATENATE(\" \",referentes!AA37)))","v":""}]
[null,null,null,null,null,null,null,null,null,null,null,null,null,null,null,"  F",48677,null,null,null,null,{"$f":"IF(referentes!Y38=\"\",\"\",referentes!Y38)","v":""},{"$f":"CONCATENATE(IF(referentes!Z38=\"\",\"\",referentes!Z38),IF(referentes!AA38=\"\",\"\",CONCATENATE(\" \",referentes!AA38)))","v":""}]
[null,null,null,null,null,null,null,null,null,null,null,null,null,null,null,"  F",48678,null,null,null,null,{"$f":"IF(referentes!Y39=\"\",\"\",referentes!Y39)","v":""},{"$f":"CONCATENATE(IF(referentes!Z39=\"\",\"\",referentes!Z39),IF(referentes!AA39=\"\",\"\",CONCATENATE(\" \",referentes!AA39)))","v":""}]
[null,null,null,null,null,null,null,null,null,null,null,null,null,null,null,"  E01",51021,null,null,null,null,{"$f":"IF(referentes!Y40=\"\",\"\",referentes!Y40)","v":""},{"$f":"CONCATENATE(IF(referentes!Z40=\"\",\"\",referentes!Z40),IF(referentes!AA40=\"\",\"\",CONCATENATE(\" \",referentes!AA40)))","v":""}]
[null,null,null,null,null,null,null,null,null,null,null,null,null,null,null,"  E02",51022,null,null,null,null,{"$f":"IF(referentes!Y41=\"\",\"\",referentes!Y41)","v":""},{"$f":"CONCATENATE(IF(referentes!Z41=\"\",\"\",referentes!Z41),IF(referentes!AA41=\"\",\"\",CONCATENATE(\" \",referentes!AA41)))","v":""}]
[null,null,null,null,null,null,null,null,null,null,null,null,null,null,null,"  E03",51023,null,null,null,null,{"$f":"IF(referentes!Y42=\"\",\"\",referentes!Y42)","v":""},{"$f":"CONCATENATE(IF(referentes!Z42=\"\",\"\",referentes!Z42),IF(referentes!AA42=\"\",\"\",CONCATENATE(\" \",referentes!AA42)))","v":""}]
[null,null,null,null,null,null,null,null,null,null,null,null,null,null,null,"  E04",51024,null,null,null,null,{"$f":"IF(referentes!Y43=\"\",\"\",referentes!Y43)","v":""},{"$f":"CONCATENATE(IF(referentes!Z43=\"\",\"\",referentes!Z43),IF(referentes!AA43=\"\",\"\",CONCATENATE(\" \",referentes!AA43)))","v":""}]
[null,null,null,null,null,null,null,null,null,null,null,null,null,null,null,"  E05",51025,null,null,null,null,{"$f":"IF(referentes!Y44=\"\",\"\",referentes!Y44)","v":""},{"$f":"CONCATENATE(IF(referentes!Z44=\"\",\"\",referentes!Z44),IF(referentes!AA44=\"\",\"\",CONCATENATE(\" \",referentes!AA44)))","v":""}]
[null,null,null,null,null,null,null,null,null,null,null,null,null,null,null,"  E06",51026,null,null,null,null,{"$f":"IF(referentes!Y45=\"\",\"\",referentes!Y45)","v":""},{"$f":"CONCATENATE(IF(referentes!Z45=\"\",\"\",referentes!Z45),IF(referentes!AA45=\"\",\"\",CONCATENATE(\" \",referentes!AA45)))","v":""}]
[null,null,null,null,null,null,null,null,null,null,null,null,null,null,null,"  E08",51027,null,null,null,null,{"$f":"IF(referentes!Y46=\"\",\"\",referentes!Y46)","v":""},{"$f":"CONCATENATE(IF(referentes!Z46=\"\",\"\",referentes!Z46),IF(referentes!AA46=\"\",\"\",CONCATENATE(\" \",referentes!AA46)))","v":""}]
[null,null,null,null,null,null,null,null,null,null,null,null,null,null,null,"  E09",51028,null,null,null,null,{"$f":"IF(referentes!Y47=\"\",\"\",referentes!Y47)","v":""},{"$f":"CONCATENATE(IF(referentes!Z47=\"\",\"\",referentes!Z47),IF(referentes!AA47=\"\",\"\",CONCATENATE(\" \",referentes!AA47)))","v":""}]
[null,null,null,null,null,null,null,null,null,null,null,null,null,null,null,"  E10",51029,null,null,null,null,{"$f":"IF(referentes!Y48=\"\",\"\",referentes!Y48)","v":""},{"$f":"CONCATENATE(IF(referentes!Z48=\"\",\"\",referentes!Z48),IF(referentes!AA48=\"\",\"\",CONCATENATE(\" \",referentes!AA48)))","v":""}]
[null,null,null,null,null,null,null,null,null,null,null,null,null,null,null,"  E11",51030,null,null,null,null,{"$f":"IF(referentes!Y49=\"\",\"\",referentes!Y49)","v":""},{"$f":"CONCATENATE(IF(referentes!Z49=\"\",\"\",referentes!Z49),IF(referentes!AA49=\"\",\"\",CONCATENATE(\" \",referentes!AA49)))","v":""}]
[null,null,null,null,null,null,null,null,null,null,null,null,null,null,null,"  E01",51031,null,null,null,null,{"$f":"IF(referentes!Y50=\"\",\"\",referentes!Y50)","v":""},{"$f":"CONCATENATE(IF(referentes!Z50=\"\",\"\",referentes!Z50),IF(referentes!AA50=\"\",\"\",CONCATENATE(\" \",referentes!AA50)))","v":""}]
[null,null,null,null,null,null,null,null,null,null,null,null,null,null,null,"  E02",51032,null,null,null,null,{"$f":"IF(referentes!Y51=\"\",\"\",referentes!Y51)","v":""},{"$f":"CONCATENATE(IF(referentes!Z51=\"\",\"\",referentes!Z51),IF(referentes!AA51=\"\",\"\",CONCATENATE(\" \",referentes!AA51)))","v":""}]
[null,null,null,null,null,null,null,null,null,null,null,null,null,null,null,"  E03",51033,null,null,null,null,{"$f":"IF(referentes!Y52=\"\",\"\",referentes!Y52)","v":""},{"$f":"CONCATENATE(IF(referentes!Z52=\"\",\"\",referentes!Z52),IF(referentes!AA52=\"\",\"\",CONCATENATE(\" \",referentes!AA52)))","v":""}]
[null,null,null,null,null,null,null,null,null,null,null,null,null,null,null,"  E04",51034,null,null,null,null,{"$f":"IF(referentes!Y53=\"\",\"\",referentes!Y53)","v":""},{"$f":"CONCATENATE(IF(referentes!Z53=\"\",\"\",referentes!Z53),IF(referentes!AA53=\"\",\"\",CONCATENATE(\" \",referentes!AA53)))","v":""}]
[null,null,null,null,null,null,null,null,null,null,null,null,null,null,null,"  E05",51035,null,null,null,null,{"$f":"IF(referentes!Y54=\"\",\"\",referentes!Y54)","v":""},{"$f":"CONCATENATE(IF(referentes!Z54=\"\",\"\",referentes!Z54),IF(referentes!AA54=\"\",\"\",CONCATENATE(\" \",referentes!AA54)))","v":""}]
[null,null,null,null,null,null,null,null,null,null,null,null,null,null,null,"  E06",51036,null,null,null,null,{"$f":"IF(referentes!Y55=\"\",\"\",referentes!Y55)","v":""},{"$f":"CONCATENATE(IF(referentes!Z55=\"\",\"\",referentes!Z55),IF(referentes!AA55=\"\",\"\",CONCATENATE(\" \",referentes!AA55)))","v":""}]
[null,null,null,null,null,null,null,null,null,null,null,null,null,null,null,"  E01",51005,null,null,null,null,{"$f":"IF(referentes!Y56=\"\",\"\",referentes!Y56)","v":""},{"$f":"CONCATENATE(IF(referentes!Z56=\"\",\"\",referentes!Z56),IF(referentes!AA56=\"\",\"\",CONCATENATE(\" \",referentes!AA56)))","v":""}]
[null,null,null,null,null,null,null,null,null,null,null,null,null,null,null,"  E02",51006,null,null,null,null,{"$f":"IF(referentes!Y57=\"\",\"\",referentes!Y57)","v":""},{"$f":"CONCATENATE(IF(referentes!Z57=\"\",\"\",referentes!Z57),IF(referentes!AA57=\"\",\"\",CONCATENATE(\" \",referentes!AA57)))","v":""}]
[null,null,null,null,null,null,null,null,null,null,null,null,null,null,null,"  E03",51007,null,null,null,null,{"$f":"IF(referentes!Y58=\"\",\"\",referentes!Y58)","v":""},{"$f":"CONCATENATE(IF(referentes!Z58=\"\",\"\",referentes!Z58),IF(referentes!AA58=\"\",\"\",CONCATENATE(\" \",referentes!AA58)))","v":""}]
[null,null,null,null,null,null,null,null,null,null,null,null,null,null,null,"  E04",51008,null,null,null,null,{"$f":"IF(referentes!Y59=\"\",\"\",referentes!Y59)","v":""},{"$f":"CONCATENATE(IF(referentes!Z59=\"\",\"\",referentes!Z59),IF(referentes!AA59=\"\",\"\",CONCATENATE(\" \",referentes!AA59)))","v":""}]
[null,null,null,null,null,null,null,null,null,null,null,null,null,null,null,"  E05",51009,null,null,null,null,{"$f":"IF(referentes!Y60=\"\",\"\",referentes!Y60)","v":""},{"$f":"CONCATENATE(IF(referentes!Z60=\"\",\"\",referentes!Z60),IF(referentes!AA60=\"\",\"\",CONCATENATE(\" \",referentes!AA60)))","v":""}]
[null,null,null,null,null,null,null,null,null,null,null,null,null,null,null,"  E06",51010,null,null,null,null,{"$f":"IF(referentes!Y61=\"\",\"\",referentes!Y61)","v":""},{"$f":"CONCATENATE(IF(referentes!Z61=\"\",\"\",referentes!Z61),IF(referentes!AA61=\"\",\"\",CONCATENATE(\" \",referentes!AA61)))","v":""}]
[null,null,null,null,null,null,null,null,null,null,null,null,null,null,null,"  E07",51011,null,null,null,null,{"$f":"IF(referentes!Y62=\"\",\"\",referentes!Y62)","v":""},{"$f":"CONCATENATE(IF(referentes!Z62=\"\",\"\",referentes!Z62),IF(referentes!AA62=\"\",\"\",CONCATENATE(\" \",referentes!AA62)))","v":""}]
[null,null,null,null,null,null,null,null,null,null,null,null,null,null,null,"  E08",51012,null,null,null,null,{"$f":"IF(referentes!Y63=\"\",\"\",referentes!Y63)","v":""},{"$f":"CONCATENATE(IF(referentes!Z63=\"\",\"\",referentes!Z63),IF(referentes!AA63=\"\",\"\",CONCATENATE(\" \",referentes!AA63)))","v":""}]
[null,null,null,null,null,null,null,null,null,null,null,null,null,null,null,"  E09",51013,null,null,null,null,{"$f":"IF(referentes!Y64=\"\",\"\",referentes!Y64)","v":""},{"$f":"CONCATENATE(IF(referentes!Z64=\"\",\"\",referentes!Z64),IF(referentes!AA64=\"\",\"\",CONCATENATE(\" \",referentes!AA64)))","v":""}]
[null,null,null,null,null,null,null,null,null,null,null,null,null,null,null,"  E10",51014,null,null,null,null,{"$f":"IF(referentes!Y65=\"\",\"\",referentes!Y65)","v":""},{"$f":"CONCATENATE(IF(referentes!Z65=\"\",\"\",referentes!Z65),IF(referentes!AA65=\"\",\"\",CONCATENATE(\" \",referentes!AA65)))","v":""}]
[null,null,null,null,null,null,null,null,null,null,null,null,null,null,null,"  E11",51015,null,null,null,null,{"$f":"IF(referentes!Y66=\"\",\"\",referentes!Y66)","v":""},{"$f":"CONCATENATE(IF(referentes!Z66=\"\",\"\",referentes!Z66),IF(referentes!AA66=\"\",\"\",CONCATENATE(\" \",referentes!AA66)))","v":""}]
[null,null,null,null,null,null,null,null,null,null,null,null,null,null,null,"  E12",51016,null,null,null,null,{"$f":"IF(referentes!Y67=\"\",\"\",referentes!Y67)","v":""},{"$f":"CONCATENATE(IF(referentes!Z67=\"\",\"\",referentes!Z67),IF(referentes!AA67=\"\",\"\",CONCATENATE(\" \",referentes!AA67)))","v":""}]
[null,null,null,null,null,null,null,null,null,null,null,null,null,null,null,"  E13",51017,null,null,null,null,{"$f":"IF(referentes!Y68=\"\",\"\",referentes!Y68)","v":""},{"$f":"CONCATENATE(IF(referentes!Z68=\"\",\"\",referentes!Z68),IF(referentes!AA68=\"\",\"\",CONCATENATE(\" \",referentes!AA68)))","v":""}]
[null,null,null,null,null,null,null,null,null,null,null,null,null,null,null,"  E14",51018,null,null,null,null,{"$f":"IF(referentes!Y69=\"\",\"\",referentes!Y69)","v":""},{"$f":"CONCATENATE(IF(referentes!Z69=\"\",\"\",referentes!Z69),IF(referentes!AA69=\"\",\"\",CONCATENATE(\" \",referentes!AA69)))","v":""}]
[null,null,null,null,null,null,null,null,null,null,null,null,null,null,null,"  E15",51019,null,null,null,null,{"$f":"IF(referentes!Y70=\"\",\"\",referentes!Y70)","v":""},{"$f":"CONCATENATE(IF(referentes!Z70=\"\",\"\",referentes!Z70),IF(referentes!AA70=\"\",\"\",CONCATENATE(\" \",referentes!AA70)))","v":""}]
[null,null,null,null,null,null,null,null,null,null,null,null,null,null,null,"  E16",51020,null,null,null,null,{"$f":"IF(referentes!Y71=\"\",\"\",referentes!Y71)","v":""},{"$f":"CONCATENATE(IF(referentes!Z71=\"\",\"\",referentes!Z71),IF(referentes!AA71=\"\",\"\",CONCATENATE(\" \",referentes!AA71)))","v":""}]
[null,null,null,null,null,null,null,null,null,null,null,null,null,null,null,"  E02",51037,null,null,null,null,{"$f":"IF(referentes!Y72=\"\",\"\",referentes!Y72)","v":""},{"$f":"CONCATENATE(IF(referentes!Z72=\"\",\"\",referentes!Z72),IF(referentes!AA72=\"\",\"\",CONCATENATE(\" \",referentes!AA72)))","v":""}]
[null,null,null,null,null,null,null,null,null,null,null,null,null,null,null,"  E03",51038,null,null,null,null,{"$f":"IF(referentes!Y73=\"\",\"\",referentes!Y73)","v":""},{"$f":"CONCATENATE(IF(referentes!Z73=\"\",\"\",referentes!Z73),IF(referentes!AA73=\"\",\"\",CONCATENATE(\" \",referentes!AA73)))","v":""}]
[null,null,null,null,null,null,null,null,null,null,null,null,null,null,null,"  E04",51039,null,null,null,null,{"$f":"IF(referentes!Y74=\"\",\"\",referentes!Y74)","v":""},{"$f":"CONCATENATE(IF(referentes!Z74=\"\",\"\",referentes!Z74),IF(referentes!AA74=\"\",\"\",CONCATENATE(\" \",referentes!AA74)))","v":""}]
[null,null,null,null,null,null,null,null,null,null,null,null,null,null,null,"  E05",51040,null,null,null,null,{"$f":"IF(referentes!Y75=\"\",\"\",referentes!Y75)","v":""},{"$f":"CONCATENATE(IF(referentes!Z75=\"\",\"\",referentes!Z75),IF(referentes!AA75=\"\",\"\",CONCATENATE(\" \",referentes!AA75)))","v":""}]
[null,null,null,null,null,null,null,null,null,null,null,null,null,null,null,"  E06",51041,null,null,null,null,{"$f":"IF(referentes!Y76=\"\",\"\",referentes!Y76)","v":""},{"$f":"CONCATENATE(IF(referentes!Z76=\"\",\"\",referentes!Z76),IF(referentes!AA76=\"\",\"\",CONCATENATE(\" \",referentes!AA76)))","v":""}]
[null,null,null,null,null,null,null,null,null,null,null,null,null,null,null,"  E07",51042,null,null,null,null,{"$f":"IF(referentes!Y77=\"\",\"\",referentes!Y77)","v":""},{"$f":"CONCATENATE(IF(referentes!Z77=\"\",\"\",referentes!Z77),IF(referentes!AA77=\"\",\"\",CONCATENATE(\" \",referentes!AA77)))","v":""}]
[null,null,null,null,null,null,null,null,null,null,null,null,null,null,null,"  E08",51043,null,null,null,null,{"$f":"IF(referentes!Y78=\"\",\"\",referentes!Y78)","v":""},{"$f":"CONCATENATE(IF(referentes!Z78=\"\",\"\",referentes!Z78),IF(referentes!AA78=\"\",\"\",CONCATENATE(\" \",referentes!AA78)))","v":""}]
[null,null,null,null,null,null,null,null,null,null,null,null,null,null,null,"  E09",51044,null,null,null,null,{"$f":"IF(referentes!Y79=\"\",\"\",referentes!Y79)","v":""},{"$f":"CONCATENATE(IF(referentes!Z79=\"\",\"\",referentes!Z79),IF(referentes!AA79=\"\",\"\",CONCATENATE(\" \",referentes!AA79)))","v":""}]
[null,null,null,null,null,null,null,null,null,null,null,null,null,null,null,"  E10",51045,null,null,null,null,{"$f":"IF(referentes!Y80=\"\",\"\",referentes!Y80)","v":""},{"$f":"CONCATENATE(IF(referentes!Z80=\"\",\"\",referentes!Z80),IF(referentes!AA80=\"\",\"\",CONCATENATE(\" \",referentes!AA80)))","v":""}]
[null,null,null,null,null,null,null,null,null,null,null,null,null,null,null,"","",null,null,null,null,{"$f":"IF(referentes!Y81=\"\",\"\",referentes!Y81)","v":""},{"$f":"CONCATENATE(IF(referentes!Z81=\"\",\"\",referentes!Z81),IF(referentes!AA81=\"\",\"\",CONCATENATE(\" \",referentes!AA81)))","v":""}]
[null,null,null,null,null,null,null,null,null,null,null,null,null,null,null,"","",null,null,null,null,{"$f":"IF(referentes!Y82=\"\",\"\",referentes!Y82)","v":""},{"$f":"CONCATENATE(IF(referentes!Z82=\"\",\"\",referentes!Z82),IF(referentes!AA82=\"\",\"\",CONCATENATE(\" \",referentes!AA82)))","v":""}]
[null,null,null,null,null,null,null,null,null,null,null,null,null,null,null,"","",null,null,null,null,{"$f":"IF(referentes!Y83=\"\",\"\",referentes!Y83)","v":""},{"$f":"CONCATENATE(IF(referentes!Z83=\"\",\"\",referentes!Z83),IF(referentes!AA83=\"\",\"\",CONCATENATE(\" \",referentes!AA83)))","v":""}]
[null,null,null,null,null,null,null,null,null,null,null,null,null,null,null,"","",null,null,null,null,{"$f":"IF(referentes!Y84=\"\",\"\",referentes!Y84)","v":""},{"$f":"CONCATENATE(IF(referentes!Z84=\"\",\"\",referentes!Z84),IF(referentes!AA84=\"\",\"\",CONCATENATE(\" \",referentes!AA84)))","v":""}]
[null,null,null,null,null,null,null,null,null,null,null,null,null,null,null,"","",null,null,null,null,{"$f":"IF(referentes!Y85=\"\",\"\",referentes!Y85)","v":""},{"$f":"CONCATENATE(IF(referentes!Z85=\"\",\"\",referentes!Z85),IF(referentes!AA85=\"\",\"\",CONCATENATE(\" \",referentes!AA85)))","v":""}]
[null,null,null,null,null,null,null,null,null,null,null,null,null,null,null,"","",null,null,null,null,{"$f":"IF(referentes!Y86=\"\",\"\",referentes!Y86)","v":""},{"$f":"CONCATENATE(IF(referentes!Z86=\"\",\"\",referentes!Z86),IF(referentes!AA86=\"\",\"\",CONCATENATE(\" \",referentes!AA86)))","v":""}]
[null,null,null,null,null,null,null,null,null,null,null,null,null,null,null,"","",null,null,null,null,{"$f":"IF(referentes!Y87=\"\",\"\",referentes!Y87)","v":""},{"$f":"CONCATENATE(IF(referentes!Z87=\"\",\"\",referentes!Z87),IF(referentes!AA87=\"\",\"\",CONCATENATE(\" \",referentes!AA87)))","v":""}]
[null,null,null,null,null,null,null,null,null,null,null,null,null,null,null,"","",null,null,null,null,{"$f":"IF(referentes!Y88=\"\",\"\",referentes!Y88)","v":""},{"$f":"CONCATENATE(IF(referentes!Z88=\"\",\"\",referentes!Z88),IF(referentes!AA88=\"\",\"\",CONCATENATE(\" \",referentes!AA88)))","v":""}]
[null,null,null,null,null,null,null,null,null,null,null,null,null,null,null,"","",null,null,null,null,{"$f":"IF(referentes!Y89=\"\",\"\",referentes!Y89)","v":""},{"$f":"CONCATENATE(IF(referentes!Z89=\"\",\"\",referentes!Z89),IF(referentes!AA89=\"\",\"\",CONCATENATE(\" \",referentes!AA89)))","v":""}]
[null,null,null,null,null,null,null,null,null,null,null,null,null,null,null,"","",null,null,null,null,{"$f":"IF(referentes!Y90=\"\",\"\",referentes!Y90)","v":""},{"$f":"CONCATENATE(IF(referentes!Z90=\"\",\"\",referentes!Z90),IF(referentes!AA90=\"\",\"\",CONCATENATE(\" \",referentes!AA90)))","v":""}]
[null,null,null,null,null,null,null,null,null,null,null,null,null,null,null,"","",null,null,null,null,{"$f":"IF(referentes!Y91=\"\",\"\",referentes!Y91)","v":""},{"$f":"CONCATENATE(IF(referentes!Z91=\"\",\"\",referentes!Z91),IF(referentes!AA91=\"\",\"\",CONCATENATE(\" \",referentes!AA91)))","v":""}]
[null,null,null,null,null,null,null,null,null,null,null,null,null,null,null,"","",null,null,null,null,{"$f":"IF(referentes!Y92=\"\",\"\",referentes!Y92)","v":""},{"$f":"CONCATENATE(IF(referentes!Z92=\"\",\"\",referentes!Z92),IF(referentes!AA92=\"\",\"\",CONCATENATE(\" \",referentes!AA92)))","v":""}]
[null,null,null,null,null,null,null,null,null,null,null,null,null,null,null,"","",null,null,null,null,{"$f":"IF(referentes!Y93=\"\",\"\",referentes!Y93)","v":""},{"$f":"CONCATENATE(IF(referentes!Z93=\"\",\"\",referentes!Z93),IF(referentes!AA93=\"\",\"\",CONCATENATE(\" \",referentes!AA93)))","v":""}]
[null,null,null,null,null,null,null,null,null,null,null,null,null,null,null,"","",null,null,null,null,{"$f":"IF(referentes!Y94=\"\",\"\",referentes!Y94)","v":""},{"$f":"CONCATENATE(IF(referentes!Z94=\"\",\"\",referentes!Z94),IF(referentes!AA94=\"\",\"\",CONCATENATE(\" \",referentes!AA94)))","v":""}]
[null,null,null,null,null,null,null,null,null,null,null,null,null,null,null,"","",null,null,null,null,{"$f":"IF(referentes!Y95=\"\",\"\",referentes!Y95)","v":""},{"$f":"CONCATENATE(IF(referentes!Z95=\"\",\"\",referentes!Z95),IF(referentes!AA95=\"\",\"\",CONCATENATE(\" \",referentes!AA95)))","v":""}]
[null,null,null,null,null,null,null,null,null,null,null,null,null,null,null,"","",null,null,null,null,{"$f":"IF(referentes!Y96=\"\",\"\",referentes!Y96)","v":""},{"$f":"CONCATENATE(IF(referentes!Z96=\"\",\"\",referentes!Z96),IF(referentes!AA96=\"\",\"\",CONCATENATE(\" \",referentes!AA96)))","v":""}]
[null,null,null,null,null,null,null,null,null,null,null,null,null,null,null,"","",null,null,null,null,{"$f":"IF(referentes!Y97=\"\",\"\",referentes!Y97)","v":""},{"$f":"CONCATENATE(IF(referentes!Z97=\"\",\"\",referentes!Z97),IF(referentes!AA97=\"\",\"\",CONCATENATE(\" \",referentes!AA97)))","v":""}]
[null,null,null,null,null,null,null,null,null,null,null,null,null,null,null,"","",null,null,null,null,{"$f":"IF(referentes!Y98=\"\",\"\",referentes!Y98)","v":""},{"$f":"CONCATENATE(IF(referentes!Z98=\"\",\"\",referentes!Z98),IF(referentes!AA98=\"\",\"\",CONCATENATE(\" \",referentes!AA98)))","v":""}]
[null,null,null,null,null,null,null,null,null,null,null,null,null,null,null,"","",null,null,null,null,{"$f":"IF(referentes!Y99=\"\",\"\",referentes!Y99)","v":""},{"$f":"CONCATENATE(IF(referentes!Z99=\"\",\"\",referentes!Z99),IF(referentes!AA99=\"\",\"\",CONCATENATE(\" \",referentes!AA99)))","v":""}]
[null,null,null,null,null,null,null,null,null,null,null,null,null,null,null,"","",null,null,null,null,{"$f":"IF(referentes!Y100=\"\",\"\",referentes!Y100)","v":""},{"$f":"CONCATENATE(IF(referentes!Z100=\"\",\"\",referentes!Z100),IF(referentes!AA100=\"\",\"\",CONCATENATE(\" \",referentes!AA100)))","v":""}]
[null,null,null,null,null,null,null,null,null,null,null,null,null,null,null,"","",null,null,null,null,{"$f":"IF(referentes!Y101=\"\",\"\",referentes!Y101)","v":""},{"$f":"CONCATENATE(IF(referentes!Z101=\"\",\"\",referentes!Z101),IF(referentes!AA101=\"\",\"\",CONCATENATE(\" \",referentes!AA101)))","v":""}]
[null,null,null,null,null,null,null,null,null,null,null,null,null,null,null,"","",null,null,null,null,{"$f":"IF(referentes!Y102=\"\",\"\",referentes!Y102)","v":""},{"$f":"CONCATENATE(IF(referentes!Z102=\"\",\"\",referentes!Z102),IF(referentes!AA102=\"\",\"\",CONCATENATE(\" \",referentes!AA102)))","v":""}]
[null,null,null,null,null,null,null,null,null,null,null,null,null,null,null,"","",null,null,null,null,{"$f":"IF(referentes!Y103=\"\",\"\",referentes!Y103)","v":""},{"$f":"CONCATENATE(IF(referentes!Z103=\"\",\"\",referentes!Z103),IF(referentes!AA103=\"\",\"\",CONCATENATE(\" \",referentes!AA103)))","v":""}]
[null,null,null,null,null,null,null,null,null,null,null,null,null,null,null,"","",null,null,null,null,{"$f":"IF(referentes!Y104=\"\",\"\",referentes!Y104)","v":""},{"$f":"CONCATENATE(IF(referentes!Z104=\"\",\"\",referentes!Z104),IF(referentes!AA104=\"\",\"\",CONCATENATE(\" \",referentes!AA104)))","v":""}]
[null,null,null,null,null,null,null,null,null,null,null,null,null,null,null,"","",null,null,null,null,{"$f":"IF(referentes!Y105=\"\",\"\",referentes!Y105)","v":""},{"$f":"CONCATENATE(IF(referentes!Z105=\"\",\"\",referentes!Z105),IF(referentes!AA105=\"\",\"\",CONCATENATE(\" \",referentes!AA105)))","v":""}]
[null,null,null,null,null,null,null,null,null,null,null,null,null,null,null,"","",null,null,null,null,{"$f":"IF(referentes!Y106=\"\",\"\",referentes!Y106)","v":""},{"$f":"CONCATENATE(IF(referentes!Z106=\"\",\"\",referentes!Z106),IF(referentes!AA106=\"\",\"\",CONCATENATE(\" \",referentes!AA106)))","v":""}]
[null,null,null,null,null,null,null,null,null,null,null,null,null,null,null,"","",null,null,null,null,{"$f":"IF(referentes!Y107=\"\",\"\",referentes!Y107)","v":""},{"$f":"CONCATENATE(IF(referentes!Z107=\"\",\"\",referentes!Z107),IF(referentes!AA107=\"\",\"\",CONCATENATE(\" \",referentes!AA107)))","v":""}]
[null,null,null,null,null,null,null,null,null,null,null,null,null,null,null,"","",null,null,null,null,{"$f":"IF(referentes!Y108=\"\",\"\",referentes!Y108)","v":""},{"$f":"CONCATENATE(IF(referentes!Z108=\"\",\"\",referentes!Z108),IF(referentes!AA108=\"\",\"\",CONCATENATE(\" \",referentes!AA108)))","v":""}]
[null,null,null,null,null,null,null,null,null,null,null,null,null,null,null,"","",null,null,null,null,{"$f":"IF(referentes!Y109=\"\",\"\",referentes!Y109)","v":""},{"$f":"CONCATENATE(IF(referentes!Z109=\"\",\"\",referentes!Z109),IF(referentes!AA109=\"\",\"\",CONCATENATE(\" \",referentes!AA109)))","v":""}]
[null,null,null,null,null,null,null,null,null,null,null,null,null,null,null,"","",null,null,null,null,{"$f":"IF(referentes!Y110=\"\",\"\",referentes!Y110)","v":""},{"$f":"CONCATENATE(IF(referentes!Z110=\"\",\"\",referentes!Z110),IF(referentes!AA110=\"\",\"\",CONCATENATE(\" \",referentes!AA110)))","v":""}]
[null,null,null,null,null,null,null,null,null,null,null,null,null,null,null,"","",null,null,null,null,{"$f":"IF(referentes!Y111=\"\",\"\",referentes!Y111)","v":""},{"$f":"CONCATENATE(IF(referentes!Z111=\"\",\"\",referentes!Z111),IF(referentes!AA111=\"\",\"\",CONCATENATE(\" \",referentes!AA111)))","v":""}]
[null,null,null,null,null,null,null,null,null,null,null,null,null,null,null,"","",null,null,null,null,{"$f":"IF(referentes!Y112=\"\",\"\",referentes!Y112)","v":""},{"$f":"CONCATENATE(IF(referentes!Z112=\"\",\"\",referentes!Z112),IF(referentes!AA112=\"\",\"\",CONCATENATE(\" \",referentes!AA112)))","v":""}]
[null,null,null,null,null,null,null,null,null,null,null,null,null,null,null,"","",null,null,null,null,{"$f":"IF(referentes!Y113=\"\",\"\",referentes!Y113)","v":""},{"$f":"CONCATENATE(IF(referentes!Z113=\"\",\"\",referentes!Z113),IF(referentes!AA113=\"\",\"\",CONCATENATE(\" \",referentes!AA113)))","v":""}]
[null,null,null,null,null,null,null,null,null,null,null,null,null,null,null,"","",null,null,null,null,{"$f":"IF(referentes!Y114=\"\",\"\",referentes!Y114)","v":""},{"$f":"CONCATENATE(IF(referentes!Z114=\"\",\"\",referentes!Z114),IF(referentes!AA114=\"\",\"\",CONCATENATE(\" \",referentes!AA114)))","v":""}]
[null,null,null,null,null,null,null,null,null,null,null,null,null,null,null,"","",null,null,null,null,{"$f":"IF(referentes!Y115=\"\",\"\",referentes!Y115)","v":""},{"$f":"CONCATENATE(IF(referentes!Z115=\"\",\"\",referentes!Z115),IF(referentes!AA115=\"\",\"\",CONCATENATE(\" \",referentes!AA115)))","v":""}]
[null,null,null,null,null,null,null,null,null,null,null,null,null,null,null,"","",null,null,null,null,{"$f":"IF(referentes!Y116=\"\",\"\",referentes!Y116)","v":""},{"$f":"CONCATENATE(IF(referentes!Z116=\"\",\"\",referentes!Z116),IF(referentes!AA116=\"\",\"\",CONCATENATE(\" \",referentes!AA116)))","v":""}]
[null,null,null,null,null,null,null,null,null,null,null,null,null,null,null,"","",null,null,null,null,{"$f":"IF(referentes!Y117=\"\",\"\",referentes!Y117)","v":""},{"$f":"CONCATENATE(IF(referentes!Z117=\"\",\"\",referentes!Z117),IF(referentes!AA117=\"\",\"\",CONCATENATE(\" \",referentes!AA117)))","v":""}]
[null,null,null,null,null,null,null,null,null,null,null,null,null,null,null,"","",null,null,null,null,{"$f":"IF(referentes!Y118=\"\",\"\",referentes!Y118)","v":""},{"$f":"CONCATENATE(IF(referentes!Z118=\"\",\"\",referentes!Z118),IF(referentes!AA118=\"\",\"\",CONCATENATE(\" \",referentes!AA118)))","v":""}]
[null,null,null,null,null,null,null,null,null,null,null,null,null,null,null,"","",null,null,null,null,{"$f":"IF(referentes!Y119=\"\",\"\",referentes!Y119)","v":""},{"$f":"CONCATENATE(IF(referentes!Z119=\"\",\"\",referentes!Z119),IF(referentes!AA119=\"\",\"\",CONCATENATE(\" \",referentes!AA119)))","v":""}]
[null,null,null,null,null,null,null,null,null,null,null,null,null,null,null,"","",null,null,null,null,{"$f":"IF(referentes!Y120=\"\",\"\",referentes!Y120)","v":""},{"$f":"CONCATENATE(IF(referentes!Z120=\"\",\"\",referentes!Z120),IF(referentes!AA120=\"\",\"\",CONCATENATE(\" \",referentes!AA120)))","v":""}]
[null,null,null,null,null,null,null,null,null,null,null,null,null,null,null,"","",null,null,null,null,{"$f":"IF(referentes!Y121=\"\",\"\",referentes!Y121)","v":""},{"$f":"CONCATENATE(IF(referentes!Z121=\"\",\"\",referentes!Z121),IF(referentes!AA121=\"\",\"\",CONCATENATE(\" \",referentes!AA121)))","v":""}]
[null,null,null,null,null,null,null,null,null,null,null,null,null,null,null,"","",null,null,null,null,{"$f":"IF(referentes!Y122=\"\",\"\",referentes!Y122)","v":""},{"$f":"CONCATENATE(IF(referentes!Z122=\"\",\"\",referentes!Z122),IF(referentes!AA122=\"\",\"\",CONCATENATE(\" \",referentes!AA122)))","v":""}]
[null,null,null,null,null,null,null,null,null,null,null,null,null,null,null,"","",null,null,null,null,{"$f":"IF(referentes!Y123=\"\",\"\",referentes!Y123)","v":""},{"$f":"CONCATENATE(IF(referentes!Z123=\"\",\"\",referentes!Z123),IF(referentes!AA123=\"\",\"\",CONCATENATE(\" \",referentes!AA123)))","v":""}]
[null,null,null,null,null,null,null,null,null,null,null,null,null,null,null,"","",null,null,null,null,{"$f":"IF(referentes!Y124=\"\",\"\",referentes!Y124)","v":""},{"$f":"CONCATENATE(IF(referentes!Z124=\"\",\"\",referentes!Z124),IF(referentes!AA124=\"\",\"\",CONCATENATE(\" \",referentes!AA124)))","v":""}]
[null,null,null,null,null,null,null,null,null,null,null,null,null,null,null,"","",null,null,null,null,{"$f":"IF(referentes!Y125=\"\",\"\",referentes!Y125)","v":""},{"$f":"CONCATENATE(IF(referentes!Z125=\"\",\"\",referentes!Z125),IF(referentes!AA125=\"\",\"\",CONCATENATE(\" \",referentes!AA125)))","v":""}]
[null,null,null,null,null,null,null,null,null,null,null,null,null,null,null,"","",null,null,null,null,{"$f":"IF(referentes!Y126=\"\",\"\",referentes!Y126)","v":""},{"$f":"CONCATENATE(IF(referentes!Z126=\"\",\"\",referentes!Z126),IF(referentes!AA126=\"\",\"\",CONCATENATE(\" \",referentes!AA126)))","v":""}]
[null,null,null,null,null,null,null,null,null,null,null,null,null,null,null,"","",null,null,null,null,{"$f":"IF(referentes!Y127=\"\",\"\",referentes!Y127)","v":""},{"$f":"CONCATENATE(IF(referentes!Z127=\"\",\"\",referentes!Z127),IF(referentes!AA127=\"\",\"\",CONCATENATE(\" \",referentes!AA127)))","v":""}]
[null,null,null,null,null,null,null,null,null,null,null,null,null,null,null,"","",null,null,null,null,{"$f":"IF(referentes!Y128=\"\",\"\",referentes!Y128)","v":""},{"$f":"CONCATENATE(IF(referentes!Z128=\"\",\"\",referentes!Z128),IF(referentes!AA128=\"\",\"\",CONCATENATE(\" \",referentes!AA128)))","v":""}]
[null,null,null,null,null,null,null,null,null,null,null,null,null,null,null,"","",null,null,null,null,{"$f":"IF(referentes!Y129=\"\",\"\",referentes!Y129)","v":""},{"$f":"CONCATENATE(IF(referentes!Z129=\"\",\"\",referentes!Z129),IF(referentes!AA129=\"\",\"\",CONCATENATE(\" \",referentes!AA129)))","v":""}]
[null,null,null,null,null,null,null,null,null,null,null,null,null,null,null,"","",null,null,null,null,{"$f":"IF(referentes!Y130=\"\",\"\",referentes!Y130)","v":""},{"$f":"CONCATENATE(IF(referentes!Z130=\"\",\"\",referentes!Z130),IF(referentes!AA130=\"\",\"\",CONCATENATE(\" \",referentes!AA130)))","v":""}]
[null,null,null,null,null,null,null,null,null,null,null,null,null,null,null,"","",null,null,null,null,{"$f":"IF(referentes!Y131=\"\",\"\",referentes!Y131)","v":""},{"$f":"CONCATENATE(IF(referentes!Z131=\"\",\"\",referentes!Z131),IF(referentes!AA131=\"\",\"\",CONCATENATE(\" \",referentes!AA131)))","v":""}]
[null,null,null,null,null,null,null,null,null,null,null,null,null,null,null,"","",null,null,null,null,{"$f":"IF(referentes!Y132=\"\",\"\",referentes!Y132)","v":""},{"$f":"CONCATENATE(IF(referentes!Z132=\"\",\"\",referentes!Z132),IF(referentes!AA132=\"\",\"\",CONCATENATE(\" \",referentes!AA132)))","v":""}]
[null,null,null,null,null,null,null,null,null,null,null,null,null,null,null,"","",null,null,null,null,{"$f":"IF(referentes!Y133=\"\",\"\",referentes!Y133)","v":""},{"$f":"CONCATENATE(IF(referentes!Z133=\"\",\"\",referentes!Z133),IF(referentes!AA133=\"\",\"\",CONCATENATE(\" \",referentes!AA133)))","v":""}]
[null,null,null,null,null,null,null,null,null,null,null,null,null,null,null,"","",null,null,null,null,{"$f":"IF(referentes!Y134=\"\",\"\",referentes!Y134)","v":""},{"$f":"CONCATENATE(IF(referentes!Z134=\"\",\"\",referentes!Z134),IF(referentes!AA134=\"\",\"\",CONCATENATE(\" \",referentes!AA134)))","v":""}]
[null,null,null,null,null,null,null,null,null,null,null,null,null,null,null,"","",null,null,null,null,{"$f":"IF(referentes!Y135=\"\",\"\",referentes!Y135)","v":""},{"$f":"CONCATENATE(IF(referentes!Z135=\"\",\"\",referentes!Z135),IF(referentes!AA135=\"\",\"\",CONCATENATE(\" \",referentes!AA135)))","v":""}]
[null,null,null,null,null,null,null,null,null,null,null,null,null,null,null,"","",null,null,null,null,{"$f":"IF(referentes!Y136=\"\",\"\",referentes!Y136)","v":""},{"$f":"CONCATENATE(IF(referentes!Z136=\"\",\"\",referentes!Z136),IF(referentes!AA136=\"\",\"\",CONCATENATE(\" \",referentes!AA136)))","v":""}]
[null,null,null,null,null,null,null,null,null,null,null,null,null,null,null,"","",null,null,null,null,{"$f":"IF(referentes!Y137=\"\",\"\",referentes!Y137)","v":""},{"$f":"CONCATENATE(IF(referentes!Z137=\"\",\"\",referentes!Z137),IF(referentes!AA137=\"\",\"\",CONCATENATE(\" \",referentes!AA137)))","v":""}]
[null,null,null,null,null,null,null,null,null,null,null,null,null,null,null,"","",null,null,null,null,{"$f":"IF(referentes!Y138=\"\",\"\",referentes!Y138)","v":""},{"$f":"CONCATENATE(IF(referentes!Z138=\"\",\"\",referentes!Z138),IF(referentes!AA138=\"\",\"\",CONCATENATE(\" \",referentes!AA138)))","v":""}]
[null,null,null,null,null,null,null,null,null,null,null,null,null,null,null,"","",null,null,null,null,{"$f":"IF(referentes!Y139=\"\",\"\",referentes!Y139)","v":""},{"$f":"CONCATENATE(IF(referentes!Z139=\"\",\"\",referentes!Z139),IF(referentes!AA139=\"\",\"\",CONCATENATE(\" \",referentes!AA139)))","v":""}]
[null,null,null,null,null,null,null,null,null,null,null,null,null,null,null,"","",null,null,null,null,{"$f":"IF(referentes!Y140=\"\",\"\",referentes!Y140)","v":""},{"$f":"CONCATENATE(IF(referentes!Z140=\"\",\"\",referentes!Z140),IF(referentes!AA140=\"\",\"\",CONCATENATE(\" \",referentes!AA140)))","v":""}]
[null,null,null,null,null,null,null,null,null,null,null,null,null,null,null,"","",null,null,null,null,{"$f":"IF(referentes!Y141=\"\",\"\",referentes!Y141)","v":""},{"$f":"CONCATENATE(IF(referentes!Z141=\"\",\"\",referentes!Z141),IF(referentes!AA141=\"\",\"\",CONCATENATE(\" \",referentes!AA141)))","v":""}]
[null,null,null,null,null,null,null,null,null,null,null,null,null,null,null,"","",null,null,null,null,{"$f":"IF(referentes!Y142=\"\",\"\",referentes!Y142)","v":""},{"$f":"CONCATENATE(IF(referentes!Z142=\"\",\"\",referentes!Z142),IF(referentes!AA142=\"\",\"\",CONCATENATE(\" \",referentes!AA142)))","v":""}]
[null,null,null,null,null,null,null,null,null,null,null,null,null,null,null,"","",null,null,null,null,{"$f":"IF(referentes!Y143=\"\",\"\",referentes!Y143)","v":""},{"$f":"CONCATENATE(IF(referentes!Z143=\"\",\"\",referentes!Z143),IF(referentes!AA143=\"\",\"\",CONCATENATE(\" \",referentes!AA143)))","v":""}]
[null,null,null,null,null,null,null,null,null,null,null,null,null,null,null,"","",null,null,null,null,{"$f":"IF(referentes!Y144=\"\",\"\",referentes!Y144)","v":""},{"$f":"CONCATENATE(IF(referentes!Z144=\"\",\"\",referentes!Z144),IF(referentes!AA144=\"\",\"\",CONCATENATE(\" \",referentes!AA144)))","v":""}]
[null,null,null,null,null,null,null,null,null,null,null,null,null,null,null,"","",null,null,null,null,{"$f":"IF(referentes!Y145=\"\",\"\",referentes!Y145)","v":""},{"$f":"CONCATENATE(IF(referentes!Z145=\"\",\"\",referentes!Z145),IF(referentes!AA145=\"\",\"\",CONCATENATE(\" \",referentes!AA145)))","v":""}]
[null,null,null,null,null,null,null,null,null,null,null,null,null,null,null,"","",null,null,null,null,{"$f":"IF(referentes!Y146=\"\",\"\",referentes!Y146)","v":""},{"$f":"CONCATENATE(IF(referentes!Z146=\"\",\"\",referentes!Z146),IF(referentes!AA146=\"\",\"\",CONCATENATE(\" \",referentes!AA146)))","v":""}]
[null,null,null,null,null,null,null,null,null,null,null,null,null,null,null,"","",null,null,null,null,{"$f":"IF(referentes!Y147=\"\",\"\",referentes!Y147)","v":""},{"$f":"CONCATENATE(IF(referentes!Z147=\"\",\"\",referentes!Z147),IF(referentes!AA147=\"\",\"\",CONCATENATE(\" \",referentes!AA147)))","v":""}]
[null,null,null,null,null,null,null,null,null,null,null,null,null,null,null,"","",null,null,null,null,{"$f":"IF(referentes!Y148=\"\",\"\",referentes!Y148)","v":""},{"$f":"CONCATENATE(IF(referentes!Z148=\"\",\"\",referentes!Z148),IF(referentes!AA148=\"\",\"\",CONCATENATE(\" \",referentes!AA148)))","v":""}]
[null,null,null,null,null,null,null,null,null,null,null,null,null,null,null,"","",null,null,null,null,{"$f":"IF(referentes!Y149=\"\",\"\",referentes!Y149)","v":""},{"$f":"CONCATENATE(IF(referentes!Z149=\"\",\"\",referentes!Z149),IF(referentes!AA149=\"\",\"\",CONCATENATE(\" \",referentes!AA149)))","v":""}]
[null,null,null,null,null,null,null,null,null,null,null,null,null,null,null,"","",null,null,null,null,{"$f":"IF(referentes!Y150=\"\",\"\",referentes!Y150)","v":""},{"$f":"CONCATENATE(IF(referentes!Z150=\"\",\"\",referentes!Z150),IF(referentes!AA150=\"\",\"\",CONCATENATE(\" \",referentes!AA150)))","v":""}]
[null,null,null,null,null,null,null,null,null,null,null,null,null,null,null,"","",null,null,null,null,{"$f":"IF(referentes!Y151=\"\",\"\",referentes!Y151)","v":""},{"$f":"CONCATENATE(IF(referentes!Z151=\"\",\"\",referentes!Z151),IF(referentes!AA151=\"\",\"\",CONCATENATE(\" \",referentes!AA151)))","v":""}]
[null,null,null,null,null,null,null,null,null,null,null,null,null,null,null,"","",null,null,null,null,{"$f":"IF(referentes!Y152=\"\",\"\",referentes!Y152)","v":""},{"$f":"CONCATENATE(IF(referentes!Z152=\"\",\"\",referentes!Z152),IF(referentes!AA152=\"\",\"\",CONCATENATE(\" \",referentes!AA152)))","v":""}]
[null,null,null,null,null,null,null,null,null,null,null,null,null,null,null,"","",null,null,null,null,{"$f":"IF(referentes!Y153=\"\",\"\",referentes!Y153)","v":""},{"$f":"CONCATENATE(IF(referentes!Z153=\"\",\"\",referentes!Z153),IF(referentes!AA153=\"\",\"\",CONCATENATE(\" \",referentes!AA153)))","v":""}]
[null,null,null,null,null,null,null,null,null,null,null,null,null,null,null,"","",null,null,null,null,{"$f":"IF(referentes!Y154=\"\",\"\",referentes!Y154)","v":""},{"$f":"CONCATENATE(IF(referentes!Z154=\"\",\"\",referentes!Z154),IF(referentes!AA154=\"\",\"\",CONCATENATE(\" \",referentes!AA154)))","v":""}]
[null,null,null,null,null,null,null,null,null,null,null,null,null,null,null,"","",null,null,null,null,{"$f":"IF(referentes!Y155=\"\",\"\",referentes!Y155)","v":""},{"$f":"CONCATENATE(IF(referentes!Z155=\"\",\"\",referentes!Z155),IF(referentes!AA155=\"\",\"\",CONCATENATE(\" \",referentes!AA155)))","v":""}]
[null,null,null,null,null,null,null,null,null,null,null,null,null,null,null,"","",null,null,null,null,{"$f":"IF(referentes!Y156=\"\",\"\",referentes!Y156)","v":""},{"$f":"CONCATENATE(IF(referentes!Z156=\"\",\"\",referentes!Z156),IF(referentes!AA156=\"\",\"\",CONCATENATE(\" \",referentes!AA156)))","v":""}]
[null,null,null,null,null,null,null,null,null,null,null,null,null,null,null,"","",null,null,null,null,{"$f":"IF(referentes!Y157=\"\",\"\",referentes!Y157)","v":""},{"$f":"CONCATENATE(IF(referentes!Z157=\"\",\"\",referentes!Z157),IF(referentes!AA157=\"\",\"\",CONCATENATE(\" \",referentes!AA157)))","v":""}]
[null,null,null,null,null,null,null,null,null,null,null,null,null,null,null,"","",null,null,null,null,{"$f":"IF(referentes!Y158=\"\",\"\",referentes!Y158)","v":""},{"$f":"CONCATENATE(IF(referentes!Z158=\"\",\"\",referentes!Z158),IF(referentes!AA158=\"\",\"\",CONCATENATE(\" \",referentes!AA158)))","v":""}]
[null,null,null,null,null,null,null,null,null,null,null,null,null,null,null,"","",null,null,null,null,{"$f":"IF(referentes!Y159=\"\",\"\",referentes!Y159)","v":""},{"$f":"CONCATENATE(IF(referentes!Z159=\"\",\"\",referentes!Z159),IF(referentes!AA159=\"\",\"\",CONCATENATE(\" \",referentes!AA159)))","v":""}]
[null,null,null,null,null,null,null,null,null,null,null,null,null,null,null,"","",null,null,null,null,{"$f":"IF(referentes!Y160=\"\",\"\",referentes!Y160)","v":""},{"$f":"CONCATENATE(IF(referentes!Z160=\"\",\"\",referentes!Z160),IF(referentes!AA160=\"\",\"\",CONCATENATE(\" \",referentes!AA160)))","v":""}]
[null,null,null,null,null,null,null,null,null,null,null,null,null,null,null,"","",null,null,null,null,{"$f":"IF(referentes!Y161=\"\",\"\",referentes!Y161)","v":""},{"$f":"CONCATENATE(IF(referentes!Z161=\"\",\"\",referentes!Z161),IF(referentes!AA161=\"\",\"\",CONCATENATE(\" \",referentes!AA161)))","v":""}]
[null,null,null,null,null,null,null,null,null,null,null,null,null,null,null,"","",null,null,null,null,{"$f":"IF(referentes!Y162=\"\",\"\",referentes!Y162)","v":""},{"$f":"CONCATENATE(IF(referentes!Z162=\"\",\"\",referentes!Z162),IF(referentes!AA162=\"\",\"\",CONCATENATE(\" \",referentes!AA162)))","v":""}]
[null,null,null,null,null,null,null,null,null,null,null,null,null,null,null,"","",null,null,null,null,{"$f":"IF(referentes!Y163=\"\",\"\",referentes!Y163)","v":""},{"$f":"CONCATENATE(IF(referentes!Z163=\"\",\"\",referentes!Z163),IF(referentes!AA163=\"\",\"\",CONCATENATE(\" \",referentes!AA163)))","v":""}]
[null,null,null,null,null,null,null,null,null,null,null,null,null,null,null,"","",null,null,null,null,{"$f":"IF(referentes!Y164=\"\",\"\",referentes!Y164)","v":""},{"$f":"CONCATENATE(IF(referentes!Z164=\"\",\"\",referentes!Z164),IF(referentes!AA164=\"\",\"\",CONCATENATE(\" \",referentes!AA164)))","v":""}]
[null,null,null,null,null,null,null,null,null,null,null,null,null,null,null,"","",null,null,null,null,{"$f":"IF(referentes!Y165=\"\",\"\",referentes!Y165)","v":""},{"$f":"CONCATENATE(IF(referentes!Z165=\"\",\"\",referentes!Z165),IF(referentes!AA165=\"\",\"\",CONCATENATE(\" \",referentes!AA165)))","v":""}]
[null,null,null,null,null,null,null,null,null,null,null,null,null,null,null,"","",null,null,null,null,{"$f":"IF(referentes!Y166=\"\",\"\",referentes!Y166)","v":""},{"$f":"CONCATENATE(IF(referentes!Z166=\"\",\"\",referentes!Z166),IF(referentes!AA166=\"\",\"\",CONCATENATE(\" \",referentes!AA166)))","v":""}]
[null,null,null,null,null,null,null,null,null,null,null,null,null,null,null,"","",null,null,null,null,{"$f":"IF(referentes!Y167=\"\",\"\",referentes!Y167)","v":""},{"$f":"CONCATENATE(IF(referentes!Z167=\"\",\"\",referentes!Z167),IF(referentes!AA167=\"\",\"\",CONCATENATE(\" \",referentes!AA167)))","v":""}]
[null,null,null,null,null,null,null,null,null,null,null,null,null,null,null,"","",null,null,null,null,{"$f":"IF(referentes!Y168=\"\",\"\",referentes!Y168)","v":""},{"$f":"CONCATENATE(IF(referentes!Z168=\"\",\"\",referentes!Z168),IF(referentes!AA168=\"\",\"\",CONCATENATE(\" \",referentes!AA168)))","v":""}]
[null,null,null,null,null,null,null,null,null,null,null,null,null,null,null,"","",null,null,null,null,{"$f":"IF(referentes!Y169=\"\",\"\",referentes!Y169)","v":""},{"$f":"CONCATENATE(IF(referentes!Z169=\"\",\"\",referentes!Z169),IF(referentes!AA169=\"\",\"\",CONCATENATE(\" \",referentes!AA169)))","v":""}]
[null,null,null,null,null,null,null,null,null,null,null,null,null,null,null,"","",null,null,null,null,{"$f":"IF(referentes!Y170=\"\",\"\",referentes!Y170)","v":""},{"$f":"CONCATENATE(IF(referentes!Z170=\"\",\"\",referentes!Z170),IF(referentes!AA170=\"\",\"\",CONCATENATE(\" \",referentes!AA170)))","v":""}]
[null,null,null,null,null,null,null,null,null,null,null,null,null,null,null,"","",null,null,null,null,{"$f":"IF(referentes!Y171=\"\",\"\",referentes!Y171)","v":""},{"$f":"CONCATENATE(IF(referentes!Z171=\"\",\"\",referentes!Z171),IF(referentes!AA171=\"\",\"\",CONCATENATE(\" \",referentes!AA171)))","v":""}]
[null,null,null,null,null,null,null,null,null,null,null,null,null,null,null,"","",null,null,null,null,{"$f":"IF(referentes!Y172=\"\",\"\",referentes!Y172)","v":""},{"$f":"CONCATENATE(IF(referentes!Z172=\"\",\"\",referentes!Z172),IF(referentes!AA172=\"\",\"\",CONCATENATE(\" \",referentes!AA172)))","v":""}]
[null,null,null,null,null,null,null,null,null,null,null,null,null,null,null,"","",null,null,null,null,{"$f":"IF(referentes!Y173=\"\",\"\",referentes!Y173)","v":""},{"$f":"CONCATENATE(IF(referentes!Z173=\"\",\"\",referentes!Z173),IF(referentes!AA173=\"\",\"\",CONCATENATE(\" \",referentes!AA173)))","v":""}]
[null,null,null,null,null,null,null,null,null,null,null,null,null,null,null,"","",null,null,null,null,{"$f":"IF(referentes!Y174=\"\",\"\",referentes!Y174)","v":""},{"$f":"CONCATENATE(IF(referentes!Z174=\"\",\"\",referentes!Z174),IF(referentes!AA174=\"\",\"\",CONCATENATE(\" \",referentes!AA174)))","v":""}]
[null,null,null,null,null,null,null,null,null,null,null,null,null,null,null,"","",null,null,null,null,{"$f":"IF(referentes!Y175=\"\",\"\",referentes!Y175)","v":""},{"$f":"CONCATENATE(IF(referentes!Z175=\"\",\"\",referentes!Z175),IF(referentes!AA175=\"\",\"\",CONCATENATE(\" \",referentes!AA175)))","v":""}]
[null,null,null,null,null,null,null,null,null,null,null,null,null,null,null,"","",null,null,null,null,{"$f":"IF(referentes!Y176=\"\",\"\",referentes!Y176)","v":""},{"$f":"CONCATENATE(IF(referentes!Z176=\"\",\"\",referentes!Z176),IF(referentes!AA176=\"\",\"\",CONCATENATE(\" \",referentes!AA176)))","v":""}]
[null,null,null,null,null,null,null,null,null,null,null,null,null,null,null,"","",null,null,null,null,{"$f":"IF(referentes!Y177=\"\",\"\",referentes!Y177)","v":""},{"$f":"CONCATENATE(IF(referentes!Z177=\"\",\"\",referentes!Z177),IF(referentes!AA177=\"\",\"\",CONCATENATE(\" \",referentes!AA177)))","v":""}]
[null,null,null,null,null,null,null,null,null,null,null,null,null,null,null,"","",null,null,null,null,{"$f":"IF(referentes!Y178=\"\",\"\",referentes!Y178)","v":""},{"$f":"CONCATENATE(IF(referentes!Z178=\"\",\"\",referentes!Z178),IF(referentes!AA178=\"\",\"\",CONCATENATE(\" \",referentes!AA178)))","v":""}]
[null,null,null,null,null,null,null,null,null,null,null,null,null,null,null,"","",null,null,null,null,{"$f":"IF(referentes!Y179=\"\",\"\",referentes!Y179)","v":""},{"$f":"CONCATENATE(IF(referentes!Z179=\"\",\"\",referentes!Z179),IF(referentes!AA179=\"\",\"\",CONCATENATE(\" \",referentes!AA179)))","v":""}]
[null,null,null,null,null,null,null,null,null,null,null,null,null,null,null,"","",null,null,null,null,{"$f":"IF(referentes!Y180=\"\",\"\",referentes!Y180)","v":""},{"$f":"CONCATENATE(IF(referentes!Z180=\"\",\"\",referentes!Z180),IF(referentes!AA180=\"\",\"\",CONCATENATE(\" \",referentes!AA180)))","v":""}]
[null,null,null,null,null,null,null,null,null,null,null,null,null,null,null,"","",null,null,null,null,{"$f":"IF(referentes!Y181=\"\",\"\",referentes!Y181)","v":""},{"$f":"CONCATENATE(IF(referentes!Z181=\"\",\"\",referentes!Z181),IF(referentes!AA181=\"\",\"\",CONCATENATE(\" \",referentes!AA181)))","v":""}]
[null,null,null,null,null,null,null,null,null,null,null,null,null,null,null,"","",null,null,null,null,{"$f":"IF(referentes!Y182=\"\",\"\",referentes!Y182)","v":""},{"$f":"CONCATENATE(IF(referentes!Z182=\"\",\"\",referentes!Z182),IF(referentes!AA182=\"\",\"\",CONCATENATE(\" \",referentes!AA182)))","v":""}]
[null,null,null,null,null,null,null,null,null,null,null,null,null,null,null,"","",null,null,null,null,{"$f":"IF(referentes!Y183=\"\",\"\",referentes!Y183)","v":""},{"$f":"CONCATENATE(IF(referentes!Z183=\"\",\"\",referentes!Z183),IF(referentes!AA183=\"\",\"\",CONCATENATE(\" \",referentes!AA183)))","v":""}]
[null,null,null,null,null,null,null,null,null,null,null,null,null,null,null,"","",null,null,null,null,{"$f":"IF(referentes!Y184=\"\",\"\",referentes!Y184)","v":""},{"$f":"CONCATENATE(IF(referentes!Z184=\"\",\"\",referentes!Z184),IF(referentes!AA184=\"\",\"\",CONCATENATE(\" \",referentes!AA184)))","v":""}]
[null,null,null,null,null,null,null,null,null,null,null,null,null,null,null,"","",null,null,null,null,{"$f":"IF(referentes!Y185=\"\",\"\",referentes!Y185)","v":""},{"$f":"CONCATENATE(IF(referentes!Z185=\"\",\"\",referentes!Z185),IF(referentes!AA185=\"\",\"\",CONCATENATE(\" \",referentes!AA185)))","v":""}]
[null,null,null,null,null,null,null,null,null,null,null,null,null,null,null,"","",null,null,null,null,{"$f":"IF(referentes!Y186=\"\",\"\",referentes!Y186)","v":""},{"$f":"CONCATENATE(IF(referentes!Z186=\"\",\"\",referentes!Z186),IF(referentes!AA186=\"\",\"\",CONCATENATE(\" \",referentes!AA186)))","v":""}]
[null,null,null,null,null,null,null,null,null,null,null,null,null,null,null,"","",null,null,null,null,{"$f":"IF(referentes!Y187=\"\",\"\",referentes!Y187)","v":""},{"$f":"CONCATENATE(IF(referentes!Z187=\"\",\"\",referentes!Z187),IF(referentes!AA187=\"\",\"\",CONCATENATE(\" \",referentes!AA187)))","v":""}]
[null,null,null,null,null,null,null,null,null,null,null,null,null,null,null,"","",null,null,null,null,{"$f":"IF(referentes!Y188=\"\",\"\",referentes!Y188)","v":""},{"$f":"CONCATENATE(IF(referentes!Z188=\"\",\"\",referentes!Z188),IF(referentes!AA188=\"\",\"\",CONCATENATE(\" \",referentes!AA188)))","v":""}]
[null,null,null,null,null,null,null,null,null,null,null,null,null,null,null,"","",null,null,null,null,{"$f":"IF(referentes!Y189=\"\",\"\",referentes!Y189)","v":""},{"$f":"CONCATENATE(IF(referentes!Z189=\"\",\"\",referentes!Z189),IF(referentes!AA189=\"\",\"\",CONCATENATE(\" \",referentes!AA189)))","v":""}]
[null,null,null,null,null,null,null,null,null,null,null,null,null,null,null,"","",null,null,null,null,{"$f":"IF(referentes!Y190=\"\",\"\",referentes!Y190)","v":""},{"$f":"CONCATENATE(IF(referentes!Z190=\"\",\"\",referentes!Z190),IF(referentes!AA190=\"\",\"\",CONCATENATE(\" \",referentes!AA190)))","v":""}]
[null,null,null,null,null,null,null,null,null,null,null,null,null,null,null,"","",null,null,null,null,{"$f":"IF(referentes!Y191=\"\",\"\",referentes!Y191)","v":""},{"$f":"CONCATENATE(IF(referentes!Z191=\"\",\"\",referentes!Z191),IF(referentes!AA191=\"\",\"\",CONCATENATE(\" \",referentes!AA191)))","v":""}]
[null,null,null,null,null,null,null,null,null,null,null,null,null,null,null,"","",null,null,null,null,{"$f":"IF(referentes!Y192=\"\",\"\",referentes!Y192)","v":""},{"$f":"CONCATENATE(IF(referentes!Z192=\"\",\"\",referentes!Z192),IF(referentes!AA192=\"\",\"\",CONCATENATE(\" \",referentes!AA192)))","v":""}]
[null,null,null,null,null,null,null,null,null,null,null,null,null,null,null,"","",null,null,null,null,{"$f":"IF(referentes!Y193=\"\",\"\",referentes!Y193)","v":""},{"$f":"CONCATENATE(IF(referentes!Z193=\"\",\"\",referentes!Z193),IF(referentes!AA193=\"\",\"\",CONCATENATE(\" \",referentes!AA193)))","v":""}]
[null,null,null,null,null,null,null,null,null,null,null,null,null,null,null,"","",null,null,null,null,{"$f":"IF(referentes!Y194=\"\",\"\",referentes!Y194)","v":""},{"$f":"CONCATENATE(IF(referentes!Z194=\"\",\"\",referentes!Z194),IF(referentes!AA194=\"\",\"\",CONCATENATE(\" \",referentes!AA194)))","v":""}]
[null,null,null,null,null,null,null,null,null,null,null,null,null,null,null,"","",null,null,null,null,{"$f":"IF(referentes!Y195=\"\",\"\",referentes!Y195)","v":""},{"$f":"CONCATENATE(IF(referentes!Z195=\"\",\"\",referentes!Z195),IF(referentes!AA195=\"\",\"\",CONCATENATE(\" \",referentes!AA195)))","v":""}]
[null,null,null,null,null,null,null,null,null,null,null,null,null,null,null,"","",null,null,null,null,{"$f":"IF(referentes!Y196=\"\",\"\",referentes!Y196)","v":""},{"$f":"CONCATENATE(IF(referentes!Z196=\"\",\"\",referentes!Z196),IF(referentes!AA196=\"\",\"\",CONCATENATE(\" \",referentes!AA196)))","v":""}]
[null,null,null,null,null,null,null,null,null,null,null,null,null,null,null,"","",null,null,null,null,{"$f":"IF(referentes!Y197=\"\",\"\",referentes!Y197)","v":""},{"$f":"CONCATENATE(IF(referentes!Z197=\"\",\"\",referentes!Z197),IF(referentes!AA197=\"\",\"\",CONCATENATE(\" \",referentes!AA197)))","v":""}]
[null,null,null,null,null,null,null,null,null,null,null,null,null,null,null,"","",null,null,null,null,{"$f":"IF(referentes!Y198=\"\",\"\",referentes!Y198)","v":""},{"$f":"CONCATENATE(IF(referentes!Z198=\"\",\"\",referentes!Z198),IF(referentes!AA198=\"\",\"\",CONCATENATE(\" \",referentes!AA198)))","v":""}]
[null,null,null,null,null,null,null,null,null,null,null,null,null,null,null,"","",null,null,null,null,{"$f":"IF(referentes!Y199=\"\",\"\",referentes!Y199)","v":""},{"$f":"CONCATENATE(IF(referentes!Z199=\"\",\"\",referentes!Z199),IF(referentes!AA199=\"\",\"\",CONCATENATE(\" \",referentes!AA199)))","v":""}]
[null,null,null,null,null,null,null,null,null,null,null,null,null,null,null,"","",null,null,null,null,{"$f":"IF(referentes!Y200=\"\",\"\",referentes!Y200)","v":""},{"$f":"CONCATENATE(IF(referentes!Z200=\"\",\"\",referentes!Z200),IF(referentes!AA200=\"\",\"\",CONCATENATE(\" \",referentes!AA200)))","v":""}]
[null,null,null,null,null,null,null,null,null,null,null,null,null,null,null,"","",null,null,null,null,{"$f":"IF(referentes!Y201=\"\",\"\",referentes!Y201)","v":""},{"$f":"CONCATENATE(IF(referentes!Z201=\"\",\"\",referentes!Z201),IF(referentes!AA201=\"\",\"\",CONCATENATE(\" \",referentes!AA201)))","v":""}]
[null,null,null,null,null,null,null,null,null,null,null,null,null,null,null,"","",null,null,null,null,{"$f":"IF(referentes!Y202=\"\",\"\",referentes!Y202)","v":""},{"$f":"CONCATENATE(IF(referentes!Z202=\"\",\"\",referentes!Z202),IF(referentes!AA202=\"\",\"\",CONCATENATE(\" \",referentes!AA202)))","v":""}]
[null,null,null,null,null,null,null,null,null,null,null,null,null,null,null,"","",null,null,null,null,{"$f":"IF(referentes!Y203=\"\",\"\",referentes!Y203)","v":""},{"$f":"CONCATENATE(IF(referentes!Z203=\"\",\"\",referentes!Z203),IF(referentes!AA203=\"\",\"\",CONCATENATE(\" \",referentes!AA203)))","v":""}]
[null,null,null,null,null,null,null,null,null,null,null,null,null,null,null,"","",null,null,null,null,{"$f":"IF(referentes!Y204=\"\",\"\",referentes!Y204)","v":""},{"$f":"CONCATENATE(IF(referentes!Z204=\"\",\"\",referentes!Z204),IF(referentes!AA204=\"\",\"\",CONCATENATE(\" \",referentes!AA204)))","v":""}]
[null,null,null,null,null,null,null,null,null,null,null,null,null,null,null,"","",null,null,null,null,{"$f":"IF(referentes!Y205=\"\",\"\",referentes!Y205)","v":""},{"$f":"CONCATENATE(IF(referentes!Z205=\"\",\"\",referentes!Z205),IF(referentes!AA205=\"\",\"\",CONCATENATE(\" \",referentes!AA205)))","v":""}]
[null,null,null,null,null,null,null,null,null,null,null,null,null,null,null,"","",null,null,null,null,{"$f":"IF(referentes!Y206=\"\",\"\",referentes!Y206)","v":""},{"$f":"CONCATENATE(IF(referentes!Z206=\"\",\"\",referentes!Z206),IF(referentes!AA206=\"\",\"\",CONCATENATE(\" \",referentes!AA206)))","v":""}]
[null,null,null,null,null,null,null,null,null,null,null,null,null,null,null,"","",null,null,null,null,{"$f":"IF(referentes!Y207=\"\",\"\",referentes!Y207)","v":""},{"$f":"CONCATENATE(IF(referentes!Z207=\"\",\"\",referentes!Z207),IF(referentes!AA207=\"\",\"\",CONCATENATE(\" \",referentes!AA207)))","v":""}]
[null,null,null,null,null,null,null,null,null,null,null,null,null,null,null,"","",null,null,null,null,{"$f":"IF(referentes!Y208=\"\",\"\",referentes!Y208)","v":""},{"$f":"CONCATENATE(IF(referentes!Z208=\"\",\"\",referentes!Z208),IF(referentes!AA208=\"\",\"\",CONCATENATE(\" \",referentes!AA208)))","v":""}]
[null,null,null,null,null,null,null,null,null,null,null,null,null,null,null,"","",null,null,null,null,{"$f":"IF(referentes!Y209=\"\",\"\",referentes!Y209)","v":""},{"$f":"CONCATENATE(IF(referentes!Z209=\"\",\"\",referentes!Z209),IF(referentes!AA209=\"\",\"\",CONCATENATE(\" \",referentes!AA209)))","v":""}]
[null,null,null,null,null,null,null,null,null,null,null,null,null,null,null,"","",null,null,null,null,{"$f":"IF(referentes!Y210=\"\",\"\",referentes!Y210)","v":""},{"$f":"CONCATENATE(IF(referentes!Z210=\"\",\"\",referentes!Z210),IF(referentes!AA210=\"\",\"\",CONCATENATE(\" \",referentes!AA210)))","v":""}]
[null,null,null,null,null,null,null,null,null,null,null,null,null,null,null,"","",null,null,null,null,{"$f":"IF(referentes!Y211=\"\",\"\",referentes!Y211)","v":""},{"$f":"CONCATENATE(IF(referentes!Z211=\"\",\"\",referentes!Z211),IF(referentes!AA211=\"\",\"\",CONCATENATE(\" \",referentes!AA211)))","v":""}]
[null,null,null,null,null,null,null,null,null,null,null,null,null,null,null,"","",null,null,null,null,{"$f":"IF(referentes!Y212=\"\",\"\",referentes!Y212)","v":""},{"$f":"CONCATENATE(IF(referentes!Z212=\"\",\"\",referentes!Z212),IF(referentes!AA212=\"\",\"\",CONCATENATE(\" \",referentes!AA212)))","v":""}]
[null,null,null,null,null,null,null,null,null,null,null,null,null,null,null,"","",null,null,null,null,{"$f":"IF(referentes!Y213=\"\",\"\",referentes!Y213)","v":""},{"$f":"CONCATENATE(IF(referentes!Z213=\"\",\"\",referentes!Z213),IF(referentes!AA213=\"\",\"\",CONCATENATE(\" \",referentes!AA213)))","v":""}]
[null,null,null,null,null,null,null,null,null,null,null,null,null,null,null,"","",null,null,null,null,{"$f":"IF(referentes!Y214=\"\",\"\",referentes!Y214)","v":""},{"$f":"CONCATENATE(IF(referentes!Z214=\"\",\"\",referentes!Z214),IF(referentes!AA214=\"\",\"\",CONCATENATE(\" \",referentes!AA214)))","v":""}]
[null,null,null,null,null,null,null,null,null,null,null,null,null,null,null,"","",null,null,null,null,{"$f":"IF(referentes!Y215=\"\",\"\",referentes!Y215)","v":""},{"$f":"CONCATENATE(IF(referentes!Z215=\"\",\"\",referentes!Z215),IF(referentes!AA215=\"\",\"\",CONCATENATE(\" \",referentes!AA215)))","v":""}]
[null,null,null,null,null,null,null,null,null,null,null,null,null,null,null,"","",null,null,null,null,{"$f":"IF(referentes!Y216=\"\",\"\",referentes!Y216)","v":""},{"$f":"CONCATENATE(IF(referentes!Z216=\"\",\"\",referentes!Z216),IF(referentes!AA216=\"\",\"\",CONCATENATE(\" \",referentes!AA216)))","v":""}]
[null,null,null,null,null,null,null,null,null,null,null,null,null,null,null,"","",null,null,null,null,{"$f":"IF(referentes!Y217=\"\",\"\",referentes!Y217)","v":""},{"$f":"CONCATENATE(IF(referentes!Z217=\"\",\"\",referentes!Z217),IF(referentes!AA217=\"\",\"\",CONCATENATE(\" \",referentes!AA217)))","v":""}]
[null,null,null,null,null,null,null,null,null,null,null,null,null,null,null,"","",null,null,null,null,{"$f":"IF(referentes!Y218=\"\",\"\",referentes!Y218)","v":""},{"$f":"CONCATENATE(IF(referentes!Z218=\"\",\"\",referentes!Z218),IF(referentes!AA218=\"\",\"\",CONCATENATE(\" \",referentes!AA218)))","v":""}]
[null,null,null,null,null,null,null,null,null,null,null,null,null,null,null,"","",null,null,null,null,{"$f":"IF(referentes!Y219=\"\",\"\",referentes!Y219)","v":""},{"$f":"CONCATENATE(IF(referentes!Z219=\"\",\"\",referentes!Z219),IF(referentes!AA219=\"\",\"\",CONCATENATE(\" \",referentes!AA219)))","v":""}]
[null,null,null,null,null,null,null,null,null,null,null,null,null,null,null,"","",null,null,null,null,{"$f":"IF(referentes!Y220=\"\",\"\",referentes!Y220)","v":""},{"$f":"CONCATENATE(IF(referentes!Z220=\"\",\"\",referentes!Z220),IF(referentes!AA220=\"\",\"\",CONCATENATE(\" \",referentes!AA220)))","v":""}]
[null,null,null,null,null,null,null,null,null,null,null,null,null,null,null,"","",null,null,null,null,{"$f":"IF(referentes!Y221=\"\",\"\",referentes!Y221)","v":""},{"$f":"CONCATENATE(IF(referentes!Z221=\"\",\"\",referentes!Z221),IF(referentes!AA221=\"\",\"\",CONCATENATE(\" \",referentes!AA221)))","v":""}]
[null,null,null,null,null,null,null,null,null,null,null,null,null,null,null,"","",null,null,null,null,{"$f":"IF(referentes!Y222=\"\",\"\",referentes!Y222)","v":""},{"$f":"CONCATENATE(IF(referentes!Z222=\"\",\"\",referentes!Z222),IF(referentes!AA222=\"\",\"\",CONCATENATE(\" \",referentes!AA222)))","v":""}]
[null,null,null,null,null,null,null,null,null,null,null,null,null,null,null,"","",null,null,null,null,{"$f":"IF(referentes!Y223=\"\",\"\",referentes!Y223)","v":""},{"$f":"CONCATENATE(IF(referentes!Z223=\"\",\"\",referentes!Z223),IF(referentes!AA223=\"\",\"\",CONCATENATE(\" \",referentes!AA223)))","v":""}]
[null,null,null,null,null,null,null,null,null,null,null,null,null,null,null,"","",null,null,null,null,{"$f":"IF(referentes!Y224=\"\",\"\",referentes!Y224)","v":""},{"$f":"CONCATENATE(IF(referentes!Z224=\"\",\"\",referentes!Z224),IF(referentes!AA224=\"\",\"\",CONCATENATE(\" \",referentes!AA224)))","v":""}]
[null,null,null,null,null,null,null,null,null,null,null,null,null,null,null,"","",null,null,null,null,{"$f":"IF(referentes!Y225=\"\",\"\",referentes!Y225)","v":""},{"$f":"CONCATENATE(IF(referentes!Z225=\"\",\"\",referentes!Z225),IF(referentes!AA225=\"\",\"\",CONCATENATE(\" \",referentes!AA225)))","v":""}]
[null,null,null,null,null,null,null,null,null,null,null,null,null,null,null,"","",null,null,null,null,{"$f":"IF(referentes!Y226=\"\",\"\",referentes!Y226)","v":""},{"$f":"CONCATENATE(IF(referentes!Z226=\"\",\"\",referentes!Z226),IF(referentes!AA226=\"\",\"\",CONCATENATE(\" \",referentes!AA226)))","v":""}]
[null,null,null,null,null,null,null,null,null,null,null,null,null,null,null,"","",null,null,null,null,{"$f":"IF(referentes!Y227=\"\",\"\",referentes!Y227)","v":""},{"$f":"CONCATENATE(IF(referentes!Z227=\"\",\"\",referentes!Z227),IF(referentes!AA227=\"\",\"\",CONCATENATE(\" \",referentes!AA227)))","v":""}]
[null,null,null,null,null,null,null,null,null,null,null,null,null,null,null,"","",null,null,null,null,{"$f":"IF(referentes!Y228=\"\",\"\",referentes!Y228)","v":""},{"$f":"CONCATENATE(IF(referentes!Z228=\"\",\"\",referentes!Z228),IF(referentes!AA228=\"\",\"\",CONCATENATE(\" \",referentes!AA228)))","v":""}]
[null,null,null,null,null,null,null,null,null,null,null,null,null,null,null,"","",null,null,null,null,{"$f":"IF(referentes!Y229=\"\",\"\",referentes!Y229)","v":""},{"$f":"CONCATENATE(IF(referentes!Z229=\"\",\"\",referentes!Z229),IF(referentes!AA229=\"\",\"\",CONCATENATE(\" \",referentes!AA229)))","v":""}]
[null,null,null,null,null,null,null,null,null,null,null,null,null,null,null,"","",null,null,null,null,{"$f":"IF(referentes!Y230=\"\",\"\",referentes!Y230)","v":""},{"$f":"CONCATENATE(IF(referentes!Z230=\"\",\"\",referentes!Z230),IF(referentes!AA230=\"\",\"\",CONCATENATE(\" \",referentes!AA230)))","v":""}]
[null,null,null,null,null,null,null,null,null,null,null,null,null,null,null,"","",null,null,null,null,{"$f":"IF(referentes!Y231=\"\",\"\",referentes!Y231)","v":""},{"$f":"CONCATENATE(IF(referentes!Z231=\"\",\"\",referentes!Z231),IF(referentes!AA231=\"\",\"\",CONCATENATE(\" \",referentes!AA231)))","v":""}]
[null,null,null,null,null,null,null,null,null,null,null,null,null,null,null,"","",null,null,null,null,{"$f":"IF(referentes!Y232=\"\",\"\",referentes!Y232)","v":""},{"$f":"CONCATENATE(IF(referentes!Z232=\"\",\"\",referentes!Z232),IF(referentes!AA232=\"\",\"\",CONCATENATE(\" \",referentes!AA232)))","v":""}]
[null,null,null,null,null,null,null,null,null,null,null,null,null,null,null,"","",null,null,null,null,{"$f":"IF(referentes!Y233=\"\",\"\",referentes!Y233)","v":""},{"$f":"CONCATENATE(IF(referentes!Z233=\"\",\"\",referentes!Z233),IF(referentes!AA233=\"\",\"\",CONCATENATE(\" \",referentes!AA233)))","v":""}]
[null,null,null,null,null,null,null,null,null,null,null,null,null,null,null,"","",null,null,null,null,{"$f":"IF(referentes!Y234=\"\",\"\",referentes!Y234)","v":""},{"$f":"CONCATENATE(IF(referentes!Z234=\"\",\"\",referentes!Z234),IF(referentes!AA234=\"\",\"\",CONCATENATE(\" \",referentes!AA234)))","v":""}]
[null,null,null,null,null,null,null,null,null,null,null,null,null,null,null,"","",null,null,null,null,{"$f":"IF(referentes!Y235=\"\",\"\",referentes!Y235)","v":""},{"$f":"CONCATENATE(IF(referentes!Z235=\"\",\"\",referentes!Z235),IF(referentes!AA235=\"\",\"\",CONCATENATE(\" \",referentes!AA235)))","v":""}]
[null,null,null,null,null,null,null,null,null,null,null,null,null,null,null,"","",null,null,null,null,{"$f":"IF(referentes!Y236=\"\",\"\",referentes!Y236)","v":""},{"$f":"CONCATENATE(IF(referentes!Z236=\"\",\"\",referentes!Z236),IF(referentes!AA236=\"\",\"\",CONCATENATE(\" \",referentes!AA236)))","v":""}]
[null,null,null,null,null,null,null,null,null,null,null,null,null,null,null,"","",null,null,null,null,{"$f":"IF(referentes!Y237=\"\",\"\",referentes!Y237)","v":""},{"$f":"CONCATENATE(IF(referentes!Z237=\"\",\"\",referentes!Z237),IF(referentes!AA237=\"\",\"\",CONCATENATE(\" \",referentes!AA237)))","v":""}]
[null,null,null,null,null,null,null,null,null,null,null,null,null,null,null,"","",null,null,null,null,{"$f":"IF(referentes!Y238=\"\",\"\",referentes!Y238)","v":""},{"$f":"CONCATENATE(IF(referentes!Z238=\"\",\"\",referentes!Z238),IF(referentes!AA238=\"\",\"\",CONCATENATE(\" \",referentes!AA238)))","v":""}]
[null,null,null,null,null,null,null,null,null,null,null,null,null,null,null,"","",null,null,null,null,{"$f":"IF(referentes!Y239=\"\",\"\",referentes!Y239)","v":""},{"$f":"CONCATENATE(IF(referentes!Z239=\"\",\"\",referentes!Z239),IF(referentes!AA239=\"\",\"\",CONCATENATE(\" \",referentes!AA239)))","v":""}]
[null,null,null,null,null,null,null,null,null,null,null,null,null,null,null,"","",null,null,null,null,{"$f":"IF(referentes!Y240=\"\",\"\",referentes!Y240)","v":""},{"$f":"CONCATENATE(IF(referentes!Z240=\"\",\"\",referentes!Z240),IF(referentes!AA240=\"\",\"\",CONCATENATE(\" \",referentes!AA240)))","v":""}]
[null,null,null,null,null,null,null,null,null,null,null,null,null,null,null,"","",null,null,null,null,{"$f":"IF(referentes!Y241=\"\",\"\",referentes!Y241)","v":""},{"$f":"CONCATENATE(IF(referentes!Z241=\"\",\"\",referentes!Z241),IF(referentes!AA241=\"\",\"\",CONCATENATE(\" \",referentes!AA241)))","v":""}]
[null,null,null,null,null,null,null,null,null,null,null,null,null,null,null,"","",null,null,null,null,{"$f":"IF(referentes!Y242=\"\",\"\",referentes!Y242)","v":""},{"$f":"CONCATENATE(IF(referentes!Z242=\"\",\"\",referentes!Z242),IF(referentes!AA242=\"\",\"\",CONCATENATE(\" \",referentes!AA242)))","v":""}]
[null,null,null,null,null,null,null,null,null,null,null,null,null,null,null,"","",null,null,null,null,{"$f":"IF(referentes!Y243=\"\",\"\",referentes!Y243)","v":""},{"$f":"CONCATENATE(IF(referentes!Z243=\"\",\"\",referentes!Z243),IF(referentes!AA243=\"\",\"\",CONCATENATE(\" \",referentes!AA243)))","v":""}]
[null,null,null,null,null,null,null,null,null,null,null,null,null,null,null,"","",null,null,null,null,{"$f":"IF(referentes!Y244=\"\",\"\",referentes!Y244)","v":""},{"$f":"CONCATENATE(IF(referentes!Z244=\"\",\"\",referentes!Z244),IF(referentes!AA244=\"\",\"\",CONCATENATE(\" \",referentes!AA244)))","v":""}]
[null,null,null,null,null,null,null,null,null,null,null,null,null,null,null,"","",null,null,null,null,{"$f":"IF(referentes!Y245=\"\",\"\",referentes!Y245)","v":""},{"$f":"CONCATENATE(IF(referentes!Z245=\"\",\"\",referentes!Z245),IF(referentes!AA245=\"\",\"\",CONCATENATE(\" \",referentes!AA245)))","v":""}]
[null,null,null,null,null,null,null,null,null,null,null,null,null,null,null,"","",null,null,null,null,{"$f":"IF(referentes!Y246=\"\",\"\",referentes!Y246)","v":""},{"$f":"CONCATENATE(IF(referentes!Z246=\"\",\"\",referentes!Z246),IF(referentes!AA246=\"\",\"\",CONCATENATE(\" \",referentes!AA246)))","v":""}]
[null,null,null,null,null,null,null,null,null,null,null,null,null,null,null,"","",null,null,null,null,{"$f":"IF(referentes!Y247=\"\",\"\",referentes!Y247)","v":""},{"$f":"CONCATENATE(IF(referentes!Z247=\"\",\"\",referentes!Z247),IF(referentes!AA247=\"\",\"\",CONCATENATE(\" \",referentes!AA247)))","v":""}]
[null,null,null,null,null,null,null,null,null,null,null,null,null,null,null,"","",null,null,null,null,{"$f":"IF(referentes!Y248=\"\",\"\",referentes!Y248)","v":""},{"$f":"CONCATENATE(IF(referentes!Z248=\"\",\"\",referentes!Z248),IF(referentes!AA248=\"\",\"\",CONCATENATE(\" \",referentes!AA248)))","v":""}]
[null,null,null,null,null,null,null,null,null,null,null,null,null,null,null,"","",null,null,null,null,{"$f":"IF(referentes!Y249=\"\",\"\",referentes!Y249)","v":""},{"$f":"CONCATENATE(IF(referentes!Z249=\"\",\"\",referentes!Z249),IF(referentes!AA249=\"\",\"\",CONCATENATE(\" \",referentes!AA249)))","v":""}]
[null,null,null,null,null,null,null,null,null,null,null,null,null,null,null,"","",null,null,null,null,{"$f":"IF(referentes!Y250=\"\",\"\",referentes!Y250)","v":""},{"$f":"CONCATENATE(IF(referentes!Z250=\"\",\"\",referentes!Z250),IF(referentes!AA250=\"\",\"\",CONCATENATE(\" \",referentes!AA250)))","v":""}]
[null,null,null,null,null,null,null,null,null,null,null,null,null,null,null,"","",null,null,null,null,{"$f":"IF(referentes!Y251=\"\",\"\",referentes!Y251)","v":""},{"$f":"CONCATENATE(IF(referentes!Z251=\"\",\"\",referentes!Z251),IF(referentes!AA251=\"\",\"\",CONCATENATE(\" \",referentes!AA251)))","v":""}]
[null,null,null,null,null,null,null,null,null,null,null,null,null,null,null,"","",null,null,null,null,{"$f":"IF(referentes!Y252=\"\",\"\",referentes!Y252)","v":""},{"$f":"CONCATENATE(IF(referentes!Z252=\"\",\"\",referentes!Z252),IF(referentes!AA252=\"\",\"\",CONCATENATE(\" \",referentes!AA252)))","v":""}]
[null,null,null,null,null,null,null,null,null,null,null,null,null,null,null,"","",null,null,null,null,{"$f":"IF(referentes!Y253=\"\",\"\",referentes!Y253)","v":""},{"$f":"CONCATENATE(IF(referentes!Z253=\"\",\"\",referentes!Z253),IF(referentes!AA253=\"\",\"\",CONCATENATE(\" \",referentes!AA253)))","v":""}]
[null,null,null,null,null,null,null,null,null,null,null,null,null,null,null,"","",null,null,null,null,{"$f":"IF(referentes!Y254=\"\",\"\",referentes!Y254)","v":""},{"$f":"CONCATENATE(IF(referentes!Z254=\"\",\"\",referentes!Z254),IF(referentes!AA254=\"\",\"\",CONCATENATE(\" \",referentes!AA254)))","v":""}]
[null,null,null,null,null,null,null,null,null,null,null,null,null,null,null,"","",null,null,null,null,{"$f":"IF(referentes!Y255=\"\",\"\",referentes!Y255)","v":""},{"$f":"CONCATENATE(IF(referentes!Z255=\"\",\"\",referentes!Z255),IF(referentes!AA255=\"\",\"\",CONCATENATE(\" \",referentes!AA255)))","v":""}]
[null,null,null,null,null,null,null,null,null,null,null,null,null,null,null,"","",null,null,null,null,{"$f":"IF(referentes!Y256=\"\",\"\",referentes!Y256)","v":""},{"$f":"CONCATENATE(IF(referentes!Z256=\"\",\"\",referentes!Z256),IF(referentes!AA256=\"\",\"\",CONCATENATE(\" \",referentes!AA256)))","v":""}]
[null,null,null,null,null,null,null,null,null,null,null,null,null,null,null,"","",null,null,null,null,{"$f":"IF(referentes!Y257=\"\",\"\",referentes!Y257)","v":""},{"$f":"CONCATENATE(IF(referentes!Z257=\"\",\"\",referentes!Z257),IF(referentes!AA257=\"\",\"\",CONCATENATE(\" \",referentes!AA257)))","v":""}]
[null,null,null,null,null,null,null,null,null,null,null,null,null,null,null,"","",null,null,null,null,{"$f":"IF(referentes!Y258=\"\",\"\",referentes!Y258)","v":""},{"$f":"CONCATENATE(IF(referentes!Z258=\"\",\"\",referentes!Z258),IF(referentes!AA258=\"\",\"\",CONCATENATE(\" \",referentes!AA258)))","v":""}]
[null,null,null,null,null,null,null,null,null,null,null,null,null,null,null,"","",null,null,null,null,{"$f":"IF(referentes!Y259=\"\",\"\",referentes!Y259)","v":""},{"$f":"CONCATENATE(IF(referentes!Z259=\"\",\"\",referentes!Z259),IF(referentes!AA259=\"\",\"\",CONCATENATE(\" \",referentes!AA259)))","v":""}]
[null,null,null,null,null,null,null,null,null,null,null,null,null,null,null,"","",null,null,null,null,{"$f":"IF(referentes!Y260=\"\",\"\",referentes!Y260)","v":""},{"$f":"CONCATENATE(IF(referentes!Z260=\"\",\"\",referentes!Z260),IF(referentes!AA260=\"\",\"\",CONCATENATE(\" \",referentes!AA260)))","v":""}]
[null,null,null,null,null,null,null,null,null,null,null,null,null,null,null,"","",null,null,null,null,{"$f":"IF(referentes!Y261=\"\",\"\",referentes!Y261)","v":""},{"$f":"CONCATENATE(IF(referentes!Z261=\"\",\"\",referentes!Z261),IF(referentes!AA261=\"\",\"\",CONCATENATE(\" \",referentes!AA261)))","v":""}]
[null,null,null,null,null,null,null,null,null,null,null,null,null,null,null,"","",null,null,null,null,{"$f":"IF(referentes!Y262=\"\",\"\",referentes!Y262)","v":""},{"$f":"CONCATENATE(IF(referentes!Z262=\"\",\"\",referentes!Z262),IF(referentes!AA262=\"\",\"\",CONCATENATE(\" \",referentes!AA262)))","v":""}]
[null,null,null,null,null,null,null,null,null,null,null,null,null,null,null,"","",null,null,null,null,{"$f":"IF(referentes!Y263=\"\",\"\",referentes!Y263)","v":""},{"$f":"CONCATENATE(IF(referentes!Z263=\"\",\"\",referentes!Z263),IF(referentes!AA263=\"\",\"\",CONCATENATE(\" \",referentes!AA263)))","v":""}]
[null,null,null,null,null,null,null,null,null,null,null,null,null,null,null,"","",null,null,null,null,{"$f":"IF(referentes!Y264=\"\",\"\",referentes!Y264)","v":""},{"$f":"CONCATENATE(IF(referentes!Z264=\"\",\"\",referentes!Z264),IF(referentes!AA264=\"\",\"\",CONCATENATE(\" \",referentes!AA264)))","v":""}]
[null,null,null,null,null,null,null,null,null,null,null,null,null,null,null,"","",null,null,null,null,{"$f":"IF(referentes!Y265=\"\",\"\",referentes!Y265)","v":""},{"$f":"CONCATENATE(IF(referentes!Z265=\"\",\"\",referentes!Z265),IF(referentes!AA265=\"\",\"\",CONCATENATE(\" \",referentes!AA265)))","v":""}]
[null,null,null,null,null,null,null,null,null,null,null,null,null,null,null,"","",null,null,null,null,{"$f":"IF(referentes!Y266=\"\",\"\",referentes!Y266)","v":""},{"$f":"CONCATENATE(IF(referentes!Z266=\"\",\"\",referentes!Z266),IF(referentes!AA266=\"\",\"\",CONCATENATE(\" \",referentes!AA266)))","v":""}]
[null,null,null,null,null,null,null,null,null,null,null,null,null,null,null,"","",null,null,null,null,{"$f":"IF(referentes!Y267=\"\",\"\",referentes!Y267)","v":""},{"$f":"CONCATENATE(IF(referentes!Z267=\"\",\"\",referentes!Z267),IF(referentes!AA267=\"\",\"\",CONCATENATE(\" \",referentes!AA267)))","v":""}]
[null,null,null,null,null,null,null,null,null,null,null,null,null,null,null,"","",null,null,null,null,{"$f":"IF(referentes!Y268=\"\",\"\",referentes!Y268)","v":""},{"$f":"CONCATENATE(IF(referentes!Z268=\"\",\"\",referentes!Z268),IF(referentes!AA268=\"\",\"\",CONCATENATE(\" \",referentes!AA268)))","v":""}]
[null,null,null,null,null,null,null,null,null,null,null,null,null,null,null,"","",null,null,null,null,{"$f":"IF(referentes!Y269=\"\",\"\",referentes!Y269)","v":""},{"$f":"CONCATENATE(IF(referentes!Z269=\"\",\"\",referentes!Z269),IF(referentes!AA269=\"\",\"\",CONCATENATE(\" \",referentes!AA269)))","v":""}]
[null,null,null,null,null,null,null,null,null,null,null,null,null,null,null,"","",null,null,null,null,{"$f":"IF(referentes!Y270=\"\",\"\",referentes!Y270)","v":""},{"$f":"CONCATENATE(IF(referentes!Z270=\"\",\"\",referentes!Z270),IF(referentes!AA270=\"\",\"\",CONCATENATE(\" \",referentes!AA270)))","v":""}]
[null,null,null,null,null,null,null,null,null,null,null,null,null,null,null,"","",null,null,null,null,{"$f":"IF(referentes!Y271=\"\",\"\",referentes!Y271)","v":""},{"$f":"CONCATENATE(IF(referentes!Z271=\"\",\"\",referentes!Z271),IF(referentes!AA271=\"\",\"\",CONCATENATE(\" \",referentes!AA271)))","v":""}]
[null,null,null,null,null,null,null,null,null,null,null,null,null,null,null,"","",null,null,null,null,{"$f":"IF(referentes!Y272=\"\",\"\",referentes!Y272)","v":""},{"$f":"CONCATENATE(IF(referentes!Z272=\"\",\"\",referentes!Z272),IF(referentes!AA272=\"\",\"\",CONCATENATE(\" \",referentes!AA272)))","v":""}]
[null,null,null,null,null,null,null,null,null,null,null,null,null,null,null,"","",null,null,null,null,{"$f":"IF(referentes!Y273=\"\",\"\",referentes!Y273)","v":""},{"$f":"CONCATENATE(IF(referentes!Z273=\"\",\"\",referentes!Z273),IF(referentes!AA273=\"\",\"\",CONCATENATE(\" \",referentes!AA273)))","v":""}]
[null,null,null,null,null,null,null,null,null,null,null,null,null,null,null,"","",null,null,null,null,{"$f":"IF(referentes!Y274=\"\",\"\",referentes!Y274)","v":""},{"$f":"CONCATENATE(IF(referentes!Z274=\"\",\"\",referentes!Z274),IF(referentes!AA274=\"\",\"\",CONCATENATE(\" \",referentes!AA274)))","v":""}]
[null,null,null,null,null,null,null,null,null,null,null,null,null,null,null,"","",null,null,null,null,{"$f":"IF(referentes!Y275=\"\",\"\",referentes!Y275)","v":""},{"$f":"CONCATENATE(IF(referentes!Z275=\"\",\"\",referentes!Z275),IF(referentes!AA275=\"\",\"\",CONCATENATE(\" \",referentes!AA275)))","v":""}]
[null,null,null,null,null,null,null,null,null,null,null,null,null,null,null,"","",null,null,null,null,{"$f":"IF(referentes!Y276=\"\",\"\",referentes!Y276)","v":""},{"$f":"CONCATENATE(IF(referentes!Z276=\"\",\"\",referentes!Z276),IF(referentes!AA276=\"\",\"\",CONCATENATE(\" \",referentes!AA276)))","v":""}]
[null,null,null,null,null,null,null,null,null,null,null,null,null,null,null,"","",null,null,null,null,{"$f":"IF(referentes!Y277=\"\",\"\",referentes!Y277)","v":""},{"$f":"CONCATENATE(IF(referentes!Z277=\"\",\"\",referentes!Z277),IF(referentes!AA277=\"\",\"\",CONCATENATE(\" \",referentes!AA277)))","v":""}]
[null,null,null,null,null,null,null,null,null,null,null,null,null,null,null,"","",null,null,null,null,{"$f":"IF(referentes!Y278=\"\",\"\",referentes!Y278)","v":""},{"$f":"CONCATENATE(IF(referentes!Z278=\"\",\"\",referentes!Z278),IF(referentes!AA278=\"\",\"\",CONCATENATE(\" \",referentes!AA278)))","v":""}]
[null,null,null,null,null,null,null,null,null,null,null,null,null,null,null,"","",null,null,null,null,{"$f":"IF(referentes!Y279=\"\",\"\",referentes!Y279)","v":""},{"$f":"CONCATENATE(IF(referentes!Z279=\"\",\"\",referentes!Z279),IF(referentes!AA279=\"\",\"\",CONCATENATE(\" \",referentes!AA279)))","v":""}]
[null,null,null,null,null,null,null,null,null,null,null,null,null,null,null,"","",null,null,null,null,{"$f":"IF(referentes!Y280=\"\",\"\",referentes!Y280)","v":""},{"$f":"CONCATENATE(IF(referentes!Z280=\"\",\"\",referentes!Z280),IF(referentes!AA280=\"\",\"\",CONCATENATE(\" \",referentes!AA280)))","v":""}]
[null,null,null,null,null,null,null,null,null,null,null,null,null,null,null,"","",null,null,null,null,{"$f":"IF(referentes!Y281=\"\",\"\",referentes!Y281)","v":""},{"$f":"CONCATENATE(IF(referentes!Z281=\"\",\"\",referentes!Z281),IF(referentes!AA281=\"\",\"\",CONCATENATE(\" \",referentes!AA281)))","v":""}]
[null,null,null,null,null,null,null,null,null,null,null,null,null,null,null,"","",null,null,null,null,{"$f":"IF(referentes!Y282=\"\",\"\",referentes!Y282)","v":""},{"$f":"CONCATENATE(IF(referentes!Z282=\"\",\"\",referentes!Z282),IF(referentes!AA282=\"\",\"\",CONCATENATE(\" \",referentes!AA282)))","v":""}]
[null,null,null,null,null,null,null,null,null,null,null,null,null,null,null,"","",null,null,null,null,{"$f":"IF(referentes!Y283=\"\",\"\",referentes!Y283)","v":""},{"$f":"CONCATENATE(IF(referentes!Z283=\"\",\"\",referentes!Z283),IF(referentes!AA283=\"\",\"\",CONCATENATE(\" \",referentes!AA283)))","v":""}]
[null,null,null,null,null,null,null,null,null,null,null,null,null,null,null,"","",null,null,null,null,{"$f":"IF(referentes!Y284=\"\",\"\",referentes!Y284)","v":""},{"$f":"CONCATENATE(IF(referentes!Z284=\"\",\"\",referentes!Z284),IF(referentes!AA284=\"\",\"\",CONCATENATE(\" \",referentes!AA284)))","v":""}]
[null,null,null,null,null,null,null,null,null,null,null,null,null,null,null,"","",null,null,null,null,{"$f":"IF(referentes!Y285=\"\",\"\",referentes!Y285)","v":""},{"$f":"CONCATENATE(IF(referentes!Z285=\"\",\"\",referentes!Z285),IF(referentes!AA285=\"\",\"\",CONCATENATE(\" \",referentes!AA285)))","v":""}]
[null,null,null,null,null,null,null,null,null,null,null,null,null,null,null,"","",null,null,null,null,{"$f":"IF(referentes!Y286=\"\",\"\",referentes!Y286)","v":""},{"$f":"CONCATENATE(IF(referentes!Z286=\"\",\"\",referentes!Z286),IF(referentes!AA286=\"\",\"\",CONCATENATE(\" \",referentes!AA286)))","v":""}]
[null,null,null,null,null,null,null,null,null,null,null,null,null,null,null,"","",null,null,null,null,{"$f":"IF(referentes!Y287=\"\",\"\",referentes!Y287)","v":""},{"$f":"CONCATENATE(IF(referentes!Z287=\"\",\"\",referentes!Z287),IF(referentes!AA287=\"\",\"\",CONCATENATE(\" \",referentes!AA287)))","v":""}]
[null,null,null,null,null,null,null,null,null,null,null,null,null,null,null,"","",null,null,null,null,{"$f":"IF(referentes!Y288=\"\",\"\",referentes!Y288)","v":""},{"$f":"CONCATENATE(IF(referentes!Z288=\"\",\"\",referentes!Z288),IF(referentes!AA288=\"\",\"\",CONCATENATE(\" \",referentes!AA288)))","v":""}]
[null,null,null,null,null,null,null,null,null,null,null,null,null,null,null,"","",null,null,null,null,{"$f":"IF(referentes!Y289=\"\",\"\",referentes!Y289)","v":""},{"$f":"CONCATENATE(IF(referentes!Z289=\"\",\"\",referentes!Z289),IF(referentes!AA289=\"\",\"\",CONCATENATE(\" \",referentes!AA289)))","v":""}]
[null,null,null,null,null,null,null,null,null,null,null,null,null,null,null,"","",null,null,null,null,{"$f":"IF(referentes!Y290=\"\",\"\",referentes!Y290)","v":""},{"$f":"CONCATENATE(IF(referentes!Z290=\"\",\"\",referentes!Z290),IF(referentes!AA290=\"\",\"\",CONCATENATE(\" \",referentes!AA290)))","v":""}]
[null,null,null,null,null,null,null,null,null,null,null,null,null,null,null,"","",null,null,null,null,{"$f":"IF(referentes!Y291=\"\",\"\",referentes!Y291)","v":""},{"$f":"CONCATENATE(IF(referentes!Z291=\"\",\"\",referentes!Z291),IF(referentes!AA291=\"\",\"\",CONCATENATE(\" \",referentes!AA291)))","v":""}]
[null,null,null,null,null,null,null,null,null,null,null,null,null,null,null,"","",null,null,null,null,{"$f":"IF(referentes!Y292=\"\",\"\",referentes!Y292)","v":""},{"$f":"CONCATENATE(IF(referentes!Z292=\"\",\"\",referentes!Z292),IF(referentes!AA292=\"\",\"\",CONCATENATE(\" \",referentes!AA292)))","v":""}]
[null,null,null,null,null,null,null,null,null,null,null,null,null,null,null,"","",null,null,null,null,{"$f":"IF(referentes!Y293=\"\",\"\",referentes!Y293)","v":""},{"$f":"CONCATENATE(IF(referentes!Z293=\"\",\"\",referentes!Z293),IF(referentes!AA293=\"\",\"\",CONCATENATE(\" \",referentes!AA293)))","v":""}]
[null,null,null,null,null,null,null,null,null,null,null,null,null,null,null,"","",null,null,null,null,{"$f":"IF(referentes!Y294=\"\",\"\",referentes!Y294)","v":""},{"$f":"CONCATENATE(IF(referentes!Z294=\"\",\"\",referentes!Z294),IF(referentes!AA294=\"\",\"\",CONCATENATE(\" \",referentes!AA294)))","v":""}]
[null,null,null,null,null,null,null,null,null,null,null,null,null,null,null,"","",null,null,null,null,{"$f":"IF(referentes!Y295=\"\",\"\",referentes!Y295)","v":""},{"$f":"CONCATENATE(IF(referentes!Z295=\"\",\"\",referentes!Z295),IF(referentes!AA295=\"\",\"\",CONCATENATE(\" \",referentes!AA295)))","v":""}]
[null,null,null,null,null,null,null,null,null,null,null,null,null,null,null,"","",null,null,null,null,{"$f":"IF(referentes!Y296=\"\",\"\",referentes!Y296)","v":""},{"$f":"CONCATENATE(IF(referentes!Z296=\"\",\"\",referentes!Z296),IF(referentes!AA296=\"\",\"\",CONCATENATE(\" \",referentes!AA296)))","v":""}]
[null,null,null,null,null,null,null,null,null,null,null,null,null,null,null,"","",null,null,null,null,{"$f":"IF(referentes!Y297=\"\",\"\",referentes!Y297)","v":""},{"$f":"CONCATENATE(IF(referentes!Z297=\"\",\"\",referentes!Z297),IF(referentes!AA297=\"\",\"\",CONCATENATE(\" \",referentes!AA297)))","v":""}]
[null,null,null,null,null,null,null,null,null,null,null,null,null,null,null,"","",null,null,null,null,{"$f":"IF(referentes!Y298=\"\",\"\",referentes!Y298)","v":""},{"$f":"CONCATENATE(IF(referentes!Z298=\"\",\"\",referentes!Z298),IF(referentes!AA298=\"\",\"\",CONCATENATE(\" \",referentes!AA298)))","v":""}]
[null,null,null,null,null,null,null,null,null,null,null,null,null,null,null,"","",null,null,null,null,{"$f":"IF(referentes!Y299=\"\",\"\",referentes!Y299)","v":""},{"$f":"CONCATENATE(IF(referentes!Z299=\"\",\"\",referentes!Z299),IF(referentes!AA299=\"\",\"\",CONCATENATE(\" \",referentes!AA299)))","v":""}]
[null,null,null,null,null,null,null,null,null,null,null,null,null,null,null,"","",null,null,null,null,{"$f":"IF(referentes!Y300=\"\",\"\",referentes!Y300)","v":""},{"$f":"CONCATENATE(IF(referentes!Z300=\"\",\"\",referentes!Z300),IF(referentes!AA300=\"\",\"\",CONCATENATE(\" \",referentes!AA300)))","v":""}]
[null,null,null,null,null,null,null,null,null,null,null,null,null,null,null,"","",null,null,null,null,{"$f":"IF(referentes!Y301=\"\",\"\",referentes!Y301)","v":""},{"$f":"CONCATENATE(IF(referentes!Z301=\"\",\"\",referentes!Z301),IF(referentes!AA301=\"\",\"\",CONCATENATE(\" \",referentes!AA301)))","v":""}]
[null,null,null,null,null,null,null,null,null,null,null,null,null,null,null,"","",null,null,null,null,{"$f":"IF(referentes!Y302=\"\",\"\",referentes!Y302)","v":""},{"$f":"CONCATENATE(IF(referentes!Z302=\"\",\"\",referentes!Z302),IF(referentes!AA302=\"\",\"\",CONCATENATE(\" \",referentes!AA302)))","v":""}]
[null,null,null,null,null,null,null,null,null,null,null,null,null,null,null,"","",null,null,null,null,{"$f":"IF(referentes!Y303=\"\",\"\",referentes!Y303)","v":""},{"$f":"CONCATENATE(IF(referentes!Z303=\"\",\"\",referentes!Z303),IF(referentes!AA303=\"\",\"\",CONCATENATE(\" \",referentes!AA303)))","v":""}]
[null,null,null,null,null,null,null,null,null,null,null,null,null,null,null,"","",null,null,null,null,{"$f":"IF(referentes!Y304=\"\",\"\",referentes!Y304)","v":""},{"$f":"CONCATENATE(IF(referentes!Z304=\"\",\"\",referentes!Z304),IF(referentes!AA304=\"\",\"\",CONCATENATE(\" \",referentes!AA304)))","v":""}]
[null,null,null,null,null,null,null,null,null,null,null,null,null,null,null,"","",null,null,null,null,{"$f":"IF(referentes!Y305=\"\",\"\",referentes!Y305)","v":""},{"$f":"CONCATENATE(IF(referentes!Z305=\"\",\"\",referentes!Z305),IF(referentes!AA305=\"\",\"\",CONCATENATE(\" \",referentes!AA305)))","v":""}]
[null,null,null,null,null,null,null,null,null,null,null,null,null,null,null,"","",null,null,null,null,{"$f":"IF(referentes!Y306=\"\",\"\",referentes!Y306)","v":""},{"$f":"CONCATENATE(IF(referentes!Z306=\"\",\"\",referentes!Z306),IF(referentes!AA306=\"\",\"\",CONCATENATE(\" \",referentes!AA306)))","v":""}]
[null,null,null,null,null,null,null,null,null,null,null,null,null,null,null,"","",null,null,null,null,{"$f":"IF(referentes!Y307=\"\",\"\",referentes!Y307)","v":""},{"$f":"CONCATENATE(IF(referentes!Z307=\"\",\"\",referentes!Z307),IF(referentes!AA307=\"\",\"\",CONCATENATE(\" \",referentes!AA307)))","v":""}]
[null,null,null,null,null,null,null,null,null,null,null,null,null,null,null,"","",null,null,null,null,{"$f":"IF(referentes!Y308=\"\",\"\",referentes!Y308)","v":""},{"$f":"CONCATENATE(IF(referentes!Z308=\"\",\"\",referentes!Z308),IF(referentes!AA308=\"\",\"\",CONCATENATE(\" \",referentes!AA308)))","v":""}]
[null,null,null,null,null,null,null,null,null,null,null,null,null,null,null,"","",null,null,null,null,{"$f":"IF(referentes!Y309=\"\",\"\",referentes!Y309)","v":""},{"$f":"CONCATENATE(IF(referentes!Z309=\"\",\"\",referentes!Z309),IF(referentes!AA309=\"\",\"\",CONCATENATE(\" \",referentes!AA309)))","v":""}]
[null,null,null,null,null,null,null,null,null,null,null,null,null,null,null,"","",null,null,null,null,{"$f":"IF(referentes!Y310=\"\",\"\",referentes!Y310)","v":""},{"$f":"CONCATENATE(IF(referentes!Z310=\"\",\"\",referentes!Z310),IF(referentes!AA310=\"\",\"\",CONCATENATE(\" \",referentes!AA310)))","v":""}]
[null,null,null,null,null,null,null,null,null,null,null,null,null,null,null,"","",null,null,null,null,{"$f":"IF(referentes!Y311=\"\",\"\",referentes!Y311)","v":""},{"$f":"CONCATENATE(IF(referentes!Z311=\"\",\"\",referentes!Z311),IF(referentes!AA311=\"\",\"\",CONCATENATE(\" \",referentes!AA311)))","v":""}]
[null,null,null,null,null,null,null,null,null,null,null,null,null,null,null,"","",null,null,null,null,{"$f":"IF(referentes!Y312=\"\",\"\",referentes!Y312)","v":""},{"$f":"CONCATENATE(IF(referentes!Z312=\"\",\"\",referentes!Z312),IF(referentes!AA312=\"\",\"\",CONCATENATE(\" \",referentes!AA312)))","v":""}]
[null,null,null,null,null,null,null,null,null,null,null,null,null,null,null,"","",null,null,null,null,{"$f":"IF(referentes!Y313=\"\",\"\",referentes!Y313)","v":""},{"$f":"CONCATENATE(IF(referentes!Z313=\"\",\"\",referentes!Z313),IF(referentes!AA313=\"\",\"\",CONCATENATE(\" \",referentes!AA313)))","v":""}]
[null,null,null,null,null,null,null,null,null,null,null,null,null,null,null,"","",null,null,null,null,{"$f":"IF(referentes!Y314=\"\",\"\",referentes!Y314)","v":""},{"$f":"CONCATENATE(IF(referentes!Z314=\"\",\"\",referentes!Z314),IF(referentes!AA314=\"\",\"\",CONCATENATE(\" \",referentes!AA314)))","v":""}]
[null,null,null,null,null,null,null,null,null,null,null,null,null,null,null,"","",null,null,null,null,{"$f":"IF(referentes!Y315=\"\",\"\",referentes!Y315)","v":""},{"$f":"CONCATENATE(IF(referentes!Z315=\"\",\"\",referentes!Z315),IF(referentes!AA315=\"\",\"\",CONCATENATE(\" \",referentes!AA315)))","v":""}]
[null,null,null,null,null,null,null,null,null,null,null,null,null,null,null,"","",null,null,null,null,{"$f":"IF(referentes!Y316=\"\",\"\",referentes!Y316)","v":""},{"$f":"CONCATENATE(IF(referentes!Z316=\"\",\"\",referentes!Z316),IF(referentes!AA316=\"\",\"\",CONCATENATE(\" \",referentes!AA316)))","v":""}]
[null,null,null,null,null,null,null,null,null,null,null,null,null,null,null,"","",null,null,null,null,{"$f":"IF(referentes!Y317=\"\",\"\",referentes!Y317)","v":""},{"$f":"CONCATENATE(IF(referentes!Z317=\"\",\"\",referentes!Z317),IF(referentes!AA317=\"\",\"\",CONCATENATE(\" \",referentes!AA317)))","v":""}]
[null,null,null,null,null,null,null,null,null,null,null,null,null,null,null,"","",null,null,null,null,{"$f":"IF(referentes!Y318=\"\",\"\",referentes!Y318)","v":""},{"$f":"CONCATENATE(IF(referentes!Z318=\"\",\"\",referentes!Z318),IF(referentes!AA318=\"\",\"\",CONCATENATE(\" \",referentes!AA318)))","v":""}]
[null,null,null,null,null,null,null,null,null,null,null,null,null,null,null,"","",null,null,null,null,{"$f":"IF(referentes!Y319=\"\",\"\",referentes!Y319)","v":""},{"$f":"CONCATENATE(IF(referentes!Z319=\"\",\"\",referentes!Z319),IF(referentes!AA319=\"\",\"\",CONCATENATE(\" \",referentes!AA319)))","v":""}]
[null,null,null,null,null,null,null,null,null,null,null,null,null,null,null,"","",null,null,null,null,{"$f":"IF(referentes!Y320=\"\",\"\",referentes!Y320)","v":""},{"$f":"CONCATENATE(IF(referentes!Z320=\"\",\"\",referentes!Z320),IF(referentes!AA320=\"\",\"\",CONCATENATE(\" \",referentes!AA320)))","v":""}]
[null,null,null,null,null,null,null,null,null,null,null,null,null,null,null,"","",null,null,null,null,{"$f":"IF(referentes!Y321=\"\",\"\",referentes!Y321)","v":""},{"$f":"CONCATENATE(IF(referentes!Z321=\"\",\"\",referentes!Z321),IF(referentes!AA321=\"\",\"\",CONCATENATE(\" \",referentes!AA321)))","v":""}]
[null,null,null,null,null,null,null,null,null,null,null,null,null,null,null,"","",null,null,null,null,{"$f":"IF(referentes!Y322=\"\",\"\",referentes!Y322)","v":""},{"$f":"CONCATENATE(IF(referentes!Z322=\"\",\"\",referentes!Z322),IF(referentes!AA322=\"\",\"\",CONCATENATE(\" \",referentes!AA322)))","v":""}]
[null,null,null,null,null,null,null,null,null,null,null,null,null,null,null,"","",null,null,null,null,{"$f":"IF(referentes!Y323=\"\",\"\",referentes!Y323)","v":""},{"$f":"CONCATENATE(IF(referentes!Z323=\"\",\"\",referentes!Z323),IF(referentes!AA323=\"\",\"\",CONCATENATE(\" \",referentes!AA323)))","v":""}]
[null,null,null,null,null,null,null,null,null,null,null,null,null,null,null,"","",null,null,null,null,{"$f":"IF(referentes!Y324=\"\",\"\",referentes!Y324)","v":""},{"$f":"CONCATENATE(IF(referentes!Z324=\"\",\"\",referentes!Z324),IF(referentes!AA324=\"\",\"\",CONCATENATE(\" \",referentes!AA324)))","v":""}]
[null,null,null,null,null,null,null,null,null,null,null,null,null,null,null,"","",null,null,null,null,{"$f":"IF(referentes!Y325=\"\",\"\",referentes!Y325)","v":""},{"$f":"CONCATENATE(IF(referentes!Z325=\"\",\"\",referentes!Z325),IF(referentes!AA325=\"\",\"\",CONCATENATE(\" \",referentes!AA325)))","v":""}]
[null,null,null,null,null,null,null,null,null,null,null,null,null,null,null,"","",null,null,null,null,{"$f":"IF(referentes!Y326=\"\",\"\",referentes!Y326)","v":""},{"$f":"CONCATENATE(IF(referentes!Z326=\"\",\"\",referentes!Z326),IF(referentes!AA326=\"\",\"\",CONCATENATE(\" \",referentes!AA326)))","v":""}]
[null,null,null,null,null,null,null,null,null,null,null,null,null,null,null,"","",null,null,null,null,{"$f":"IF(referentes!Y327=\"\",\"\",referentes!Y327)","v":""},{"$f":"CONCATENATE(IF(referentes!Z327=\"\",\"\",referentes!Z327),IF(referentes!AA327=\"\",\"\",CONCATENATE(\" \",referentes!AA327)))","v":""}]
[null,null,null,null,null,null,null,null,null,null,null,null,null,null,null,"","",null,null,null,null,{"$f":"IF(referentes!Y328=\"\",\"\",referentes!Y328)","v":""},{"$f":"CONCATENATE(IF(referentes!Z328=\"\",\"\",referentes!Z328),IF(referentes!AA328=\"\",\"\",CONCATENATE(\" \",referentes!AA328)))","v":""}]
[null,null,null,null,null,null,null,null,null,null,null,null,null,null,null,"","",null,null,null,null,{"$f":"IF(referentes!Y329=\"\",\"\",referentes!Y329)","v":""},{"$f":"CONCATENATE(IF(referentes!Z329=\"\",\"\",referentes!Z329),IF(referentes!AA329=\"\",\"\",CONCATENATE(\" \",referentes!AA329)))","v":""}]
[null,null,null,null,null,null,null,null,null,null,null,null,null,null,null,"","",null,null,null,null,{"$f":"IF(referentes!Y330=\"\",\"\",referentes!Y330)","v":""},{"$f":"CONCATENATE(IF(referentes!Z330=\"\",\"\",referentes!Z330),IF(referentes!AA330=\"\",\"\",CONCATENATE(\" \",referentes!AA330)))","v":""}]
[null,null,null,null,null,null,null,null,null,null,null,null,null,null,null,"","",null,null,null,null,{"$f":"IF(referentes!Y331=\"\",\"\",referentes!Y331)","v":""},{"$f":"CONCATENATE(IF(referentes!Z331=\"\",\"\",referentes!Z331),IF(referentes!AA331=\"\",\"\",CONCATENATE(\" \",referentes!AA331)))","v":""}]
[null,null,null,null,null,null,null,null,null,null,null,null,null,null,null,"","",null,null,null,null,{"$f":"IF(referentes!Y332=\"\",\"\",referentes!Y332)","v":""},{"$f":"CONCATENATE(IF(referentes!Z332=\"\",\"\",referentes!Z332),IF(referentes!AA332=\"\",\"\",CONCATENATE(\" \",referentes!AA332)))","v":""}]
[null,null,null,null,null,null,null,null,null,null,null,null,null,null,null,"","",null,null,null,null,{"$f":"IF(referentes!Y333=\"\",\"\",referentes!Y333)","v":""},{"$f":"CONCATENATE(IF(referentes!Z333=\"\",\"\",referentes!Z333),IF(referentes!AA333=\"\",\"\",CONCATENATE(\" \",referentes!AA333)))","v":""}]
[null,null,null,null,null,null,null,null,null,null,null,null,null,null,null,"","",null,null,null,null,{"$f":"IF(referentes!Y334=\"\",\"\",referentes!Y334)","v":""},{"$f":"CONCATENATE(IF(referentes!Z334=\"\",\"\",referentes!Z334),IF(referentes!AA334=\"\",\"\",CONCATENATE(\" \",referentes!AA334)))","v":""}]
[null,null,null,null,null,null,null,null,null,null,null,null,null,null,null,"","",null,null,null,null,{"$f":"IF(referentes!Y335=\"\",\"\",referentes!Y335)","v":""},{"$f":"CONCATENATE(IF(referentes!Z335=\"\",\"\",referentes!Z335),IF(referentes!AA335=\"\",\"\",CONCATENATE(\" \",referentes!AA335)))","v":""}]
[null,null,null,null,null,null,null,null,null,null,null,null,null,null,null,"","",null,null,null,null,{"$f":"IF(referentes!Y336=\"\",\"\",referentes!Y336)","v":""},{"$f":"CONCATENATE(IF(referentes!Z336=\"\",\"\",referentes!Z336),IF(referentes!AA336=\"\",\"\",CONCATENATE(\" \",referentes!AA336)))","v":""}]
[null,null,null,null,null,null,null,null,null,null,null,null,null,null,null,"","",null,null,null,null,{"$f":"IF(referentes!Y337=\"\",\"\",referentes!Y337)","v":""},{"$f":"CONCATENATE(IF(referentes!Z337=\"\",\"\",referentes!Z337),IF(referentes!AA337=\"\",\"\",CONCATENATE(\" \",referentes!AA337)))","v":""}]
[null,null,null,null,null,null,null,null,null,null,null,null,null,null,null,"","",null,null,null,null,{"$f":"IF(referentes!Y338=\"\",\"\",referentes!Y338)","v":""},{"$f":"CONCATENATE(IF(referentes!Z338=\"\",\"\",referentes!Z338),IF(referentes!AA338=\"\",\"\",CONCATENATE(\" \",referentes!AA338)))","v":""}]
[null,null,null,null,null,null,null,null,null,null,null,null,null,null,null,"","",null,null,null,null,{"$f":"IF(referentes!Y339=\"\",\"\",referentes!Y339)","v":""},{"$f":"CONCATENATE(IF(referentes!Z339=\"\",\"\",referentes!Z339),IF(referentes!AA339=\"\",\"\",CONCATENATE(\" \",referentes!AA339)))","v":""}]
[null,null,null,null,null,null,null,null,null,null,null,null,null,null,null,"","",null,null,null,null,{"$f":"IF(referentes!Y340=\"\",\"\",referentes!Y340)","v":""},{"$f":"CONCATENATE(IF(referentes!Z340=\"\",\"\",referentes!Z340),IF(referentes!AA340=\"\",\"\",CONCATENATE(\" \",referentes!AA340)))","v":""}]
[null,null,null,null,null,null,null,null,null,null,null,null,null,null,null,"","",null,null,null,null,{"$f":"IF(referentes!Y341=\"\",\"\",referentes!Y341)","v":""},{"$f":"CONCATENATE(IF(referentes!Z341=\"\",\"\",referentes!Z341),IF(referentes!AA341=\"\",\"\",CONCATENATE(\" \",referentes!AA341)))","v":""}]
[null,null,null,null,null,null,null,null,null,null,null,null,null,null,null,"","",null,null,null,null,{"$f":"IF(referentes!Y342=\"\",\"\",referentes!Y342)","v":""},{"$f":"CONCATENATE(IF(referentes!Z342=\"\",\"\",referentes!Z342),IF(referentes!AA342=\"\",\"\",CONCATENATE(\" \",referentes!AA342)))","v":""}]
[null,null,null,null,null,null,null,null,null,null,null,null,null,null,null,"","",null,null,null,null,{"$f":"IF(referentes!Y343=\"\",\"\",referentes!Y343)","v":""},{"$f":"CONCATENATE(IF(referentes!Z343=\"\",\"\",referentes!Z343),IF(referentes!AA343=\"\",\"\",CONCATENATE(\" \",referentes!AA343)))","v":""}]
[null,null,null,null,null,null,null,null,null,null,null,null,null,null,null,"","",null,null,null,null,{"$f":"IF(referentes!Y344=\"\",\"\",referentes!Y344)","v":""},{"$f":"CONCATENATE(IF(referentes!Z344=\"\",\"\",referentes!Z344),IF(referentes!AA344=\"\",\"\",CONCATENATE(\" \",referentes!AA344)))","v":""}]
[null,null,null,null,null,null,null,null,null,null,null,null,null,null,null,"","",null,null,null,null,{"$f":"IF(referentes!Y345=\"\",\"\",referentes!Y345)","v":""},{"$f":"CONCATENATE(IF(referentes!Z345=\"\",\"\",referentes!Z345),IF(referentes!AA345=\"\",\"\",CONCATENATE(\" \",referentes!AA345)))","v":""}]
[null,null,null,null,null,null,null,null,null,null,null,null,null,null,null,"","",null,null,null,null,{"$f":"IF(referentes!Y346=\"\",\"\",referentes!Y346)","v":""},{"$f":"CONCATENATE(IF(referentes!Z346=\"\",\"\",referentes!Z346),IF(referentes!AA346=\"\",\"\",CONCATENATE(\" \",referentes!AA346)))","v":""}]
[null,null,null,null,null,null,null,null,null,null,null,null,null,null,null,"","",null,null,null,null,{"$f":"IF(referentes!Y347=\"\",\"\",referentes!Y347)","v":""},{"$f":"CONCATENATE(IF(referentes!Z347=\"\",\"\",referentes!Z347),IF(referentes!AA347=\"\",\"\",CONCATENATE(\" \",referentes!AA347)))","v":""}]
[null,null,null,null,null,null,null,null,null,null,null,null,null,null,null,"","",null,null,null,null,{"$f":"IF(referentes!Y348=\"\",\"\",referentes!Y348)","v":""},{"$f":"CONCATENATE(IF(referentes!Z348=\"\",\"\",referentes!Z348),IF(referentes!AA348=\"\",\"\",CONCATENATE(\" \",referentes!AA348)))","v":""}]
[null,null,null,null,null,null,null,null,null,null,null,null,null,null,null,"","",null,null,null,null,{"$f":"IF(referentes!Y349=\"\",\"\",referentes!Y349)","v":""},{"$f":"CONCATENATE(IF(referentes!Z349=\"\",\"\",referentes!Z349),IF(referentes!AA349=\"\",\"\",CONCATENATE(\" \",referentes!AA349)))","v":""}]
[null,null,null,null,null,null,null,null,null,null,null,null,null,null,null,"","",null,null,null,null,{"$f":"IF(referentes!Y350=\"\",\"\",referentes!Y350)","v":""},{"$f":"CONCATENATE(IF(referentes!Z350=\"\",\"\",referentes!Z350),IF(referentes!AA350=\"\",\"\",CONCATENATE(\" \",referentes!AA350)))","v":""}]
[null,null,null,null,null,null,null,null,null,null,null,null,null,null,null,"","",null,null,null,null,{"$f":"IF(referentes!Y351=\"\",\"\",referentes!Y351)","v":""},{"$f":"CONCATENATE(IF(referentes!Z351=\"\",\"\",referentes!Z351),IF(referentes!AA351=\"\",\"\",CONCATENATE(\" \",referentes!AA351)))","v":""}]
[null,null,null,null,null,null,null,null,null,null,null,null,null,null,null,"","",null,null,null,null,{"$f":"IF(referentes!Y352=\"\",\"\",referentes!Y352)","v":""},{"$f":"CONCATENATE(IF(referentes!Z352=\"\",\"\",referentes!Z352),IF(referentes!AA352=\"\",\"\",CONCATENATE(\" \",referentes!AA352)))","v":""}]
[null,null,null,null,null,null,null,null,null,null,null,null,null,null,null,"","",null,null,null,null,{"$f":"IF(referentes!Y353=\"\",\"\",referentes!Y353)","v":""},{"$f":"CONCATENATE(IF(referentes!Z353=\"\",\"\",referentes!Z353),IF(referentes!AA353=\"\",\"\",CONCATENATE(\" \",referentes!AA353)))","v":""}]
[null,null,null,null,null,null,null,null,null,null,null,null,null,null,null,"","",null,null,null,null,{"$f":"IF(referentes!Y354=\"\",\"\",referentes!Y354)","v":""},{"$f":"CONCATENATE(IF(referentes!Z354=\"\",\"\",referentes!Z354),IF(referentes!AA354=\"\",\"\",CONCATENATE(\" \",referentes!AA354)))","v":""}]
[null,null,null,null,null,null,null,null,null,null,null,null,null,null,null,"","",null,null,null,null,{"$f":"IF(referentes!Y355=\"\",\"\",referentes!Y355)","v":""},{"$f":"CONCATENATE(IF(referentes!Z355=\"\",\"\",referentes!Z355),IF(referentes!AA355=\"\",\"\",CONCATENATE(\" \",referentes!AA355)))","v":""}]
[null,null,null,null,null,null,null,null,null,null,null,null,null,null,null,"","",null,null,null,null,{"$f":"IF(referentes!Y356=\"\",\"\",referentes!Y356)","v":""},{"$f":"CONCATENATE(IF(referentes!Z356=\"\",\"\",referentes!Z356),IF(referentes!AA356=\"\",\"\",CONCATENATE(\" \",referentes!AA356)))","v":""}]
[null,null,null,null,null,null,null,null,null,null,null,null,null,null,null,"","",null,null,null,null,{"$f":"IF(referentes!Y357=\"\",\"\",referentes!Y357)","v":""},{"$f":"CONCATENATE(IF(referentes!Z357=\"\",\"\",referentes!Z357),IF(referentes!AA357=\"\",\"\",CONCATENATE(\" \",referentes!AA357)))","v":""}]
[null,null,null,null,null,null,null,null,null,null,null,null,null,null,null,"","",null,null,null,null,{"$f":"IF(referentes!Y358=\"\",\"\",referentes!Y358)","v":""},{"$f":"CONCATENATE(IF(referentes!Z358=\"\",\"\",referentes!Z358),IF(referentes!AA358=\"\",\"\",CONCATENATE(\" \",referentes!AA358)))","v":""}]
[null,null,null,null,null,null,null,null,null,null,null,null,null,null,null,"","",null,null,null,null,{"$f":"IF(referentes!Y359=\"\",\"\",referentes!Y359)","v":""},{"$f":"CONCATENATE(IF(referentes!Z359=\"\",\"\",referentes!Z359),IF(referentes!AA359=\"\",\"\",CONCATENATE(\" \",referentes!AA359)))","v":""}]
[null,null,null,null,null,null,null,null,null,null,null,null,null,null,null,"","",null,null,null,null,{"$f":"IF(referentes!Y360=\"\",\"\",referentes!Y360)","v":""},{"$f":"CONCATENATE(IF(referentes!Z360=\"\",\"\",referentes!Z360),IF(referentes!AA360=\"\",\"\",CONCATENATE(\" \",referentes!AA360)))","v":""}]
[null,null,null,null,null,null,null,null,null,null,null,null,null,null,null,"","",null,null,null,null,{"$f":"IF(referentes!Y361=\"\",\"\",referentes!Y361)","v":""},{"$f":"CONCATENATE(IF(referentes!Z361=\"\",\"\",referentes!Z361),IF(referentes!AA361=\"\",\"\",CONCATENATE(\" \",referentes!AA361)))","v":""}]
[null,null,null,null,null,null,null,null,null,null,null,null,null,null,null,"","",null,null,null,null,{"$f":"IF(referentes!Y362=\"\",\"\",referentes!Y362)","v":""},{"$f":"CONCATENATE(IF(referentes!Z362=\"\",\"\",referentes!Z362),IF(referentes!AA362=\"\",\"\",CONCATENATE(\" \",referentes!AA362)))","v":""}]
[null,null,null,null,null,null,null,null,null,null,null,null,null,null,null,"","",null,null,null,null,{"$f":"IF(referentes!Y363=\"\",\"\",referentes!Y363)","v":""},{"$f":"CONCATENATE(IF(referentes!Z363=\"\",\"\",referentes!Z363),IF(referentes!AA363=\"\",\"\",CONCATENATE(\" \",referentes!AA363)))","v":""}]
[null,null,null,null,null,null,null,null,null,null,null,null,null,null,null,"","",null,null,null,null,{"$f":"IF(referentes!Y364=\"\",\"\",referentes!Y364)","v":""},{"$f":"CONCATENATE(IF(referentes!Z364=\"\",\"\",referentes!Z364),IF(referentes!AA364=\"\",\"\",CONCATENATE(\" \",referentes!AA364)))","v":""}]
[null,null,null,null,null,null,null,null,null,null,null,null,null,null,null,"","",null,null,null,null,{"$f":"IF(referentes!Y365=\"\",\"\",referentes!Y365)","v":""},{"$f":"CONCATENATE(IF(referentes!Z365=\"\",\"\",referentes!Z365),IF(referentes!AA365=\"\",\"\",CONCATENATE(\" \",referentes!AA365)))","v":""}]
[null,null,null,null,null,null,null,null,null,null,null,null,null,null,null,"","",null,null,null,null,{"$f":"IF(referentes!Y366=\"\",\"\",referentes!Y366)","v":""},{"$f":"CONCATENATE(IF(referentes!Z366=\"\",\"\",referentes!Z366),IF(referentes!AA366=\"\",\"\",CONCATENATE(\" \",referentes!AA366)))","v":""}]
[null,null,null,null,null,null,null,null,null,null,null,null,null,null,null,"","",null,null,null,null,{"$f":"IF(referentes!Y367=\"\",\"\",referentes!Y367)","v":""},{"$f":"CONCATENATE(IF(referentes!Z367=\"\",\"\",referentes!Z367),IF(referentes!AA367=\"\",\"\",CONCATENATE(\" \",referentes!AA367)))","v":""}]
[null,null,null,null,null,null,null,null,null,null,null,null,null,null,null,"","",null,null,null,null,{"$f":"IF(referentes!Y368=\"\",\"\",referentes!Y368)","v":""},{"$f":"CONCATENATE(IF(referentes!Z368=\"\",\"\",referentes!Z368),IF(referentes!AA368=\"\",\"\",CONCATENATE(\" \",referentes!AA368)))","v":""}]
[null,null,null,null,null,null,null,null,null,null,null,null,null,null,null,"","",null,null,null,null,{"$f":"IF(referentes!Y369=\"\",\"\",referentes!Y369)","v":""},{"$f":"CONCATENATE(IF(referentes!Z369=\"\",\"\",referentes!Z369),IF(referentes!AA369=\"\",\"\",CONCATENATE(\" \",referentes!AA369)))","v":""}]
[null,null,null,null,null,null,null,null,null,null,null,null,null,null,null,"","",null,null,null,null,{"$f":"IF(referentes!Y370=\"\",\"\",referentes!Y370)","v":""},{"$f":"CONCATENATE(IF(referentes!Z370=\"\",\"\",referentes!Z370),IF(referentes!AA370=\"\",\"\",CONCATENATE(\" \",referentes!AA370)))","v":""}]
[null,null,null,null,null,null,null,null,null,null,null,null,null,null,null,"","",null,null,null,null,{"$f":"IF(referentes!Y371=\"\",\"\",referentes!Y371)","v":""},{"$f":"CONCATENATE(IF(referentes!Z371=\"\",\"\",referentes!Z371),IF(referentes!AA371=\"\",\"\",CONCATENATE(\" \",referentes!AA371)))","v":""}]
[null,null,null,null,null,null,null,null,null,null,null,null,null,null,null,"","",null,null,null,null,{"$f":"IF(referentes!Y372=\"\",\"\",referentes!Y372)","v":""},{"$f":"CONCATENATE(IF(referentes!Z372=\"\",\"\",referentes!Z372),IF(referentes!AA372=\"\",\"\",CONCATENATE(\" \",referentes!AA372)))","v":""}]
[null,null,null,null,null,null,null,null,null,null,null,null,null,null,null,"","",null,null,null,null,{"$f":"IF(referentes!Y373=\"\",\"\",referentes!Y373)","v":""},{"$f":"CONCATENATE(IF(referentes!Z373=\"\",\"\",referentes!Z373),IF(referentes!AA373=\"\",\"\",CONCATENATE(\" \",referentes!AA373)))","v":""}]
[null,null,null,null,null,null,null,null,null,null,null,null,null,null,null,"","",null,null,null,null,{"$f":"IF(referentes!Y374=\"\",\"\",referentes!Y374)","v":""},{"$f":"CONCATENATE(IF(referentes!Z374=\"\",\"\",referentes!Z374),IF(referentes!AA374=\"\",\"\",CONCATENATE(\" \",referentes!AA374)))","v":""}]
[null,null,null,null,null,null,null,null,null,null,null,null,null,null,null,"","",null,null,null,null,{"$f":"IF(referentes!Y375=\"\",\"\",referentes!Y375)","v":""},{"$f":"CONCATENATE(IF(referentes!Z375=\"\",\"\",referentes!Z375),IF(referentes!AA375=\"\",\"\",CONCATENATE(\" \",referentes!AA375)))","v":""}]
[null,null,null,null,null,null,null,null,null,null,null,null,null,null,null,"","",null,null,null,null,{"$f":"IF(referentes!Y376=\"\",\"\",referentes!Y376)","v":""},{"$f":"CONCATENATE(IF(referentes!Z376=\"\",\"\",referentes!Z376),IF(referentes!AA376=\"\",\"\",CONCATENATE(\" \",referentes!AA376)))","v":""}]
[null,null,null,null,null,null,null,null,null,null,null,null,null,null,null,"","",null,null,null,null,{"$f":"IF(referentes!Y377=\"\",\"\",referentes!Y377)","v":""},{"$f":"CONCATENATE(IF(referentes!Z377=\"\",\"\",referentes!Z377),IF(referentes!AA377=\"\",\"\",CONCATENATE(\" \",referentes!AA377)))","v":""}]
[null,null,null,null,null,null,null,null,null,null,null,null,null,null,null,"","",null,null,null,null,{"$f":"IF(referentes!Y378=\"\",\"\",referentes!Y378)","v":""},{"$f":"CONCATENATE(IF(referentes!Z378=\"\",\"\",referentes!Z378),IF(referentes!AA378=\"\",\"\",CONCATENATE(\" \",referentes!AA378)))","v":""}]
[null,null,null,null,null,null,null,null,null,null,null,null,null,null,null,"","",null,null,null,null,{"$f":"IF(referentes!Y379=\"\",\"\",referentes!Y379)","v":""},{"$f":"CONCATENATE(IF(referentes!Z379=\"\",\"\",referentes!Z379),IF(referentes!AA379=\"\",\"\",CONCATENATE(\" \",referentes!AA379)))","v":""}]
[null,null,null,null,null,null,null,null,null,null,null,null,null,null,null,"","",null,null,null,null,{"$f":"IF(referentes!Y380=\"\",\"\",referentes!Y380)","v":""},{"$f":"CONCATENATE(IF(referentes!Z380=\"\",\"\",referentes!Z380),IF(referentes!AA380=\"\",\"\",CONCATENATE(\" \",referentes!AA380)))","v":""}]
[null,null,null,null,null,null,null,null,null,null,null,null,null,null,null,"","",null,null,null,null,{"$f":"IF(referentes!Y381=\"\",\"\",referentes!Y381)","v":""},{"$f":"CONCATENATE(IF(referentes!Z381=\"\",\"\",referentes!Z381),IF(referentes!AA381=\"\",\"\",CONCATENATE(\" \",referentes!AA381)))","v":""}]
[null,null,null,null,null,null,null,null,null,null,null,null,null,null,null,"","",null,null,null,null,{"$f":"IF(referentes!Y382=\"\",\"\",referentes!Y382)","v":""},{"$f":"CONCATENATE(IF(referentes!Z382=\"\",\"\",referentes!Z382),IF(referentes!AA382=\"\",\"\",CONCATENATE(\" \",referentes!AA382)))","v":""}]
[null,null,null,null,null,null,null,null,null,null,null,null,null,null,null,"","",null,null,null,null,{"$f":"IF(referentes!Y383=\"\",\"\",referentes!Y383)","v":""},{"$f":"CONCATENATE(IF(referentes!Z383=\"\",\"\",referentes!Z383),IF(referentes!AA383=\"\",\"\",CONCATENATE(\" \",referentes!AA383)))","v":""}]
[null,null,null,null,null,null,null,null,null,null,null,null,null,null,null,"","",null,null,null,null,{"$f":"IF(referentes!Y384=\"\",\"\",referentes!Y384)","v":""},{"$f":"CONCATENATE(IF(referentes!Z384=\"\",\"\",referentes!Z384),IF(referentes!AA384=\"\",\"\",CONCATENATE(\" \",referentes!AA384)))","v":""}]
[null,null,null,null,null,null,null,null,null,null,null,null,null,null,null,"","",null,null,null,null,{"$f":"IF(referentes!Y385=\"\",\"\",referentes!Y385)","v":""},{"$f":"CONCATENATE(IF(referentes!Z385=\"\",\"\",referentes!Z385),IF(referentes!AA385=\"\",\"\",CONCATENATE(\" \",referentes!AA385)))","v":""}]
[null,null,null,null,null,null,null,null,null,null,null,null,null,null,null,"","",null,null,null,null,{"$f":"IF(referentes!Y386=\"\",\"\",referentes!Y386)","v":""},{"$f":"CONCATENATE(IF(referentes!Z386=\"\",\"\",referentes!Z386),IF(referentes!AA386=\"\",\"\",CONCATENATE(\" \",referentes!AA386)))","v":""}]
[null,null,null,null,null,null,null,null,null,null,null,null,null,null,null,"","",null,null,null,null,{"$f":"IF(referentes!Y387=\"\",\"\",referentes!Y387)","v":""},{"$f":"CONCATENATE(IF(referentes!Z387=\"\",\"\",referentes!Z387),IF(referentes!AA387=\"\",\"\",CONCATENATE(\" \",referentes!AA387)))","v":""}]
[null,null,null,null,null,null,null,null,null,null,null,null,null,null,null,"","",null,null,null,null,{"$f":"IF(referentes!Y388=\"\",\"\",referentes!Y388)","v":""},{"$f":"CONCATENATE(IF(referentes!Z388=\"\",\"\",referentes!Z388),IF(referentes!AA388=\"\",\"\",CONCATENATE(\" \",referentes!AA388)))","v":""}]
[null,null,null,null,null,null,null,null,null,null,null,null,null,null,null,"","",null,null,null,null,{"$f":"IF(referentes!Y389=\"\",\"\",referentes!Y389)","v":""},{"$f":"CONCATENATE(IF(referentes!Z389=\"\",\"\",referentes!Z389),IF(referentes!AA389=\"\",\"\",CONCATENATE(\" \",referentes!AA389)))","v":""}]
[null,null,null,null,null,null,null,null,null,null,null,null,null,null,null,"","",null,null,null,null,{"$f":"IF(referentes!Y390=\"\",\"\",referentes!Y390)","v":""},{"$f":"CONCATENATE(IF(referentes!Z390=\"\",\"\",referentes!Z390),IF(referentes!AA390=\"\",\"\",CONCATENATE(\" \",referentes!AA390)))","v":""}]
[null,null,null,null,null,null,null,null,null,null,null,null,null,null,null,"","",null,null,null,null,{"$f":"IF(referentes!Y391=\"\",\"\",referentes!Y391)","v":""},{"$f":"CONCATENATE(IF(referentes!Z391=\"\",\"\",referentes!Z391),IF(referentes!AA391=\"\",\"\",CONCATENATE(\" \",referentes!AA391)))","v":""}]
[null,null,null,null,null,null,null,null,null,null,null,null,null,null,null,"","",null,null,null,null,{"$f":"IF(referentes!Y392=\"\",\"\",referentes!Y392)","v":""},{"$f":"CONCATENATE(IF(referentes!Z392=\"\",\"\",referentes!Z392),IF(referentes!AA392=\"\",\"\",CONCATENATE(\" \",referentes!AA392)))","v":""}]
[null,null,null,null,null,null,null,null,null,null,null,null,null,null,null,"","",null,null,null,null,{"$f":"IF(referentes!Y393=\"\",\"\",referentes!Y393)","v":""},{"$f":"CONCATENATE(IF(referentes!Z393=\"\",\"\",referentes!Z393),IF(referentes!AA393=\"\",\"\",CONCATENATE(\" \",referentes!AA393)))","v":""}]
[null,null,null,null,null,null,null,null,null,null,null,null,null,null,null,"","",null,null,null,null,{"$f":"IF(referentes!Y394=\"\",\"\",referentes!Y394)","v":""},{"$f":"CONCATENATE(IF(referentes!Z394=\"\",\"\",referentes!Z394),IF(referentes!AA394=\"\",\"\",CONCATENATE(\" \",referentes!AA394)))","v":""}]
[null,null,null,null,null,null,null,null,null,null,null,null,null,null,null,"","",null,null,null,null,{"$f":"IF(referentes!Y395=\"\",\"\",referentes!Y395)","v":""},{"$f":"CONCATENATE(IF(referentes!Z395=\"\",\"\",referentes!Z395),IF(referentes!AA395=\"\",\"\",CONCATENATE(\" \",referentes!AA395)))","v":""}]
[null,null,null,null,null,null,null,null,null,null,null,null,null,null,null,"","",null,null,null,null,{"$f":"IF(referentes!Y396=\"\",\"\",referentes!Y396)","v":""},{"$f":"CONCATENATE(IF(referentes!Z396=\"\",\"\",referentes!Z396),IF(referentes!AA396=\"\",\"\",CONCATENATE(\" \",referentes!AA396)))","v":""}]
[null,null,null,null,null,null,null,null,null,null,null,null,null,null,null,"","",null,null,null,null,{"$f":"IF(referentes!Y397=\"\",\"\",referentes!Y397)","v":""},{"$f":"CONCATENATE(IF(referentes!Z397=\"\",\"\",referentes!Z397),IF(referentes!AA397=\"\",\"\",CONCATENATE(\" \",referentes!AA397)))","v":""}]
[null,null,null,null,null,null,null,null,null,null,null,null,null,null,null,"","",null,null,null,null,{"$f":"IF(referentes!Y398=\"\",\"\",referentes!Y398)","v":""},{"$f":"CONCATENATE(IF(referentes!Z398=\"\",\"\",referentes!Z398),IF(referentes!AA398=\"\",\"\",CONCATENATE(\" \",referentes!AA398)))","v":""}]
[null,null,null,null,null,null,null,null,null,null,null,null,null,null,null,"","",null,null,null,null,{"$f":"IF(referentes!Y399=\"\",\"\",referentes!Y399)","v":""},{"$f":"CONCATENATE(IF(referentes!Z399=\"\",\"\",referentes!Z399),IF(referentes!AA399=\"\",\"\",CONCATENATE(\" \",referentes!AA399)))","v":""}]
[null,null,null,null,null,null,null,null,null,null,null,null,null,null,null,"","",null,null,null,null,{"$f":"IF(referentes!Y400=\"\",\"\",referentes!Y400)","v":""},{"$f":"CONCATENATE(IF(referentes!Z400=\"\",\"\",referentes!Z400),IF(referentes!AA400=\"\",\"\",CONCATENATE(\" \",referentes!AA400)))","v":""}]
[null,null,null,null,null,null,null,null,null,null,null,null,null,null,null,"","",null,null,null,null,{"$f":"IF(referentes!Y401=\"\",\"\",referentes!Y401)","v":""},{"$f":"CONCATENATE(IF(referentes!Z401=\"\",\"\",referentes!Z401),IF(referentes!AA401=\"\",\"\",CONCATENATE(\" \",referentes!AA401)))","v":""}]
[null,null,null,null,null,null,null,null,null,null,null,null,null,null,null,"","",null,null,null,null,{"$f":"IF(referentes!Y402=\"\",\"\",referentes!Y402)","v":""},{"$f":"CONCATENATE(IF(referentes!Z402=\"\",\"\",referentes!Z402),IF(referentes!AA402=\"\",\"\",CONCATENATE(\" \",referentes!AA402)))","v":""}]
[null,null,null,null,null,null,null,null,null,null,null,null,null,null,null,"","",null,null,null,null,{"$f":"IF(referentes!Y403=\"\",\"\",referentes!Y403)","v":""},{"$f":"CONCATENATE(IF(referentes!Z403=\"\",\"\",referentes!Z403),IF(referentes!AA403=\"\",\"\",CONCATENATE(\" \",referentes!AA403)))","v":""}]
[null,null,null,null,null,null,null,null,null,null,null,null,null,null,null,"","",null,null,null,null,{"$f":"IF(referentes!Y404=\"\",\"\",referentes!Y404)","v":""},{"$f":"CONCATENATE(IF(referentes!Z404=\"\",\"\",referentes!Z404),IF(referentes!AA404=\"\",\"\",CONCATENATE(\" \",referentes!AA404)))","v":""}]
[null,null,null,null,null,null,null,null,null,null,null,null,null,null,null,"","",null,null,null,null,{"$f":"IF(referentes!Y405=\"\",\"\",referentes!Y405)","v":""},{"$f":"CONCATENATE(IF(referentes!Z405=\"\",\"\",referentes!Z405),IF(referentes!AA405=\"\",\"\",CONCATENATE(\" \",referentes!AA405)))","v":""}]
[null,null,null,null,null,null,null,null,null,null,null,null,null,null,null,"","",null,null,null,null,{"$f":"IF(referentes!Y406=\"\",\"\",referentes!Y406)","v":""},{"$f":"CONCATENATE(IF(referentes!Z406=\"\",\"\",referentes!Z406),IF(referentes!AA406=\"\",\"\",CONCATENATE(\" \",referentes!AA406)))","v":""}]
[null,null,null,null,null,null,null,null,null,null,null,null,null,null,null,"","",null,null,null,null,{"$f":"IF(referentes!Y407=\"\",\"\",referentes!Y407)","v":""},{"$f":"CONCATENATE(IF(referentes!Z407=\"\",\"\",referentes!Z407),IF(referentes!AA407=\"\",\"\",CONCATENATE(\" \",referentes!AA407)))","v":""}]
[null,null,null,null,null,null,null,null,null,null,null,null,null,null,null,"","",null,null,null,null,{"$f":"IF(referentes!Y408=\"\",\"\",referentes!Y408)","v":""},{"$f":"CONCATENATE(IF(referentes!Z408=\"\",\"\",referentes!Z408),IF(referentes!AA408=\"\",\"\",CONCATENATE(\" \",referentes!AA408)))","v":""}]
[null,null,null,null,null,null,null,null,null,null,null,null,null,null,null,"","",null,null,null,null,{"$f":"IF(referentes!Y409=\"\",\"\",referentes!Y409)","v":""},{"$f":"CONCATENATE(IF(referentes!Z409=\"\",\"\",referentes!Z409),IF(referentes!AA409=\"\",\"\",CONCATENATE(\" \",referentes!AA409)))","v":""}]
[null,null,null,null,null,null,null,null,null,null,null,null,null,null,null,"","",null,null,null,null,{"$f":"IF(referentes!Y410=\"\",\"\",referentes!Y410)","v":""},{"$f":"CONCATENATE(IF(referentes!Z410=\"\",\"\",referentes!Z410),IF(referentes!AA410=\"\",\"\",CONCATENATE(\" \",referentes!AA410)))","v":""}]
[null,null,null,null,null,null,null,null,null,null,null,null,null,null,null,"","",null,null,null,null,{"$f":"IF(referentes!Y411=\"\",\"\",referentes!Y411)","v":""},{"$f":"CONCATENATE(IF(referentes!Z411=\"\",\"\",referentes!Z411),IF(referentes!AA411=\"\",\"\",CONCATENATE(\" \",referentes!AA411)))","v":""}]
[null,null,null,null,null,null,null,null,null,null,null,null,null,null,null,"","",null,null,null,null,{"$f":"IF(referentes!Y412=\"\",\"\",referentes!Y412)","v":""},{"$f":"CONCATENATE(IF(referentes!Z412=\"\",\"\",referentes!Z412),IF(referentes!AA412=\"\",\"\",CONCATENATE(\" \",referentes!AA412)))","v":""}]
[null,null,null,null,null,null,null,null,null,null,null,null,null,null,null,"","",null,null,null,null,{"$f":"IF(referentes!Y413=\"\",\"\",referentes!Y413)","v":""},{"$f":"CONCATENATE(IF(referentes!Z413=\"\",\"\",referentes!Z413),IF(referentes!AA413=\"\",\"\",CONCATENATE(\" \",referentes!AA413)))","v":""}]
[null,null,null,null,null,null,null,null,null,null,null,null,null,null,null,"","",null,null,null,null,{"$f":"IF(referentes!Y414=\"\",\"\",referentes!Y414)","v":""},{"$f":"CONCATENATE(IF(referentes!Z414=\"\",\"\",referentes!Z414),IF(referentes!AA414=\"\",\"\",CONCATENATE(\" \",referentes!AA414)))","v":""}]
[null,null,null,null,null,null,null,null,null,null,null,null,null,null,null,"","",null,null,null,null,{"$f":"IF(referentes!Y415=\"\",\"\",referentes!Y415)","v":""},{"$f":"CONCATENATE(IF(referentes!Z415=\"\",\"\",referentes!Z415),IF(referentes!AA415=\"\",\"\",CONCATENATE(\" \",referentes!AA415)))","v":""}]
[null,null,null,null,null,null,null,null,null,null,null,null,null,null,null,"","",null,null,null,null,{"$f":"IF(referentes!Y416=\"\",\"\",referentes!Y416)","v":""},{"$f":"CONCATENATE(IF(referentes!Z416=\"\",\"\",referentes!Z416),IF(referentes!AA416=\"\",\"\",CONCATENATE(\" \",referentes!AA416)))","v":""}]
[null,null,null,null,null,null,null,null,null,null,null,null,null,null,null,"","",null,null,null,null,{"$f":"IF(referentes!Y417=\"\",\"\",referentes!Y417)","v":""},{"$f":"CONCATENATE(IF(referentes!Z417=\"\",\"\",referentes!Z417),IF(referentes!AA417=\"\",\"\",CONCATENATE(\" \",referentes!AA417)))","v":""}]
[null,null,null,null,null,null,null,null,null,null,null,null,null,null,null,"","",null,null,null,null,{"$f":"IF(referentes!Y418=\"\",\"\",referentes!Y418)","v":""},{"$f":"CONCATENATE(IF(referentes!Z418=\"\",\"\",referentes!Z418),IF(referentes!AA418=\"\",\"\",CONCATENATE(\" \",referentes!AA418)))","v":""}]
[null,null,null,null,null,null,null,null,null,null,null,null,null,null,null,"","",null,null,null,null,{"$f":"IF(referentes!Y419=\"\",\"\",referentes!Y419)","v":""},{"$f":"CONCATENATE(IF(referentes!Z419=\"\",\"\",referentes!Z419),IF(referentes!AA419=\"\",\"\",CONCATENATE(\" \",referentes!AA419)))","v":""}]
[null,null,null,null,null,null,null,null,null,null,null,null,null,null,null,"","",null,null,null,null,{"$f":"IF(referentes!Y420=\"\",\"\",referentes!Y420)","v":""},{"$f":"CONCATENATE(IF(referentes!Z420=\"\",\"\",referentes!Z420),IF(referentes!AA420=\"\",\"\",CONCATENATE(\" \",referentes!AA420)))","v":""}]
[null,null,null,null,null,null,null,null,null,null,null,null,null,null,null,"","",null,null,null,null,{"$f":"IF(referentes!Y421=\"\",\"\",referentes!Y421)","v":""},{"$f":"CONCATENATE(IF(referentes!Z421=\"\",\"\",referentes!Z421),IF(referentes!AA421=\"\",\"\",CONCATENATE(\" \",referentes!AA421)))","v":""}]
[null,null,null,null,null,null,null,null,null,null,null,null,null,null,null,"","",null,null,null,null,{"$f":"IF(referentes!Y422=\"\",\"\",referentes!Y422)","v":""},{"$f":"CONCATENATE(IF(referentes!Z422=\"\",\"\",referentes!Z422),IF(referentes!AA422=\"\",\"\",CONCATENATE(\" \",referentes!AA422)))","v":""}]
[null,null,null,null,null,null,null,null,null,null,null,null,null,null,null,"","",null,null,null,null,{"$f":"IF(referentes!Y423=\"\",\"\",referentes!Y423)","v":""},{"$f":"CONCATENATE(IF(referentes!Z423=\"\",\"\",referentes!Z423),IF(referentes!AA423=\"\",\"\",CONCATENATE(\" \",referentes!AA423)))","v":""}]
[null,null,null,null,null,null,null,null,null,null,null,null,null,null,null,"","",null,null,null,null,{"$f":"IF(referentes!Y424=\"\",\"\",referentes!Y424)","v":""},{"$f":"CONCATENATE(IF(referentes!Z424=\"\",\"\",referentes!Z424),IF(referentes!AA424=\"\",\"\",CONCATENATE(\" \",referentes!AA424)))","v":""}]
[null,null,null,null,null,null,null,null,null,null,null,null,null,null,null,"","",null,null,null,null,{"$f":"IF(referentes!Y425=\"\",\"\",referentes!Y425)","v":""},{"$f":"CONCATENATE(IF(referentes!Z425=\"\",\"\",referentes!Z425),IF(referentes!AA425=\"\",\"\",CONCATENATE(\" \",referentes!AA425)))","v":""}]
[null,null,null,null,null,null,null,null,null,null,null,null,null,null,null,"","",null,null,null,null,{"$f":"IF(referentes!Y426=\"\",\"\",referentes!Y426)","v":""},{"$f":"CONCATENATE(IF(referentes!Z426=\"\",\"\",referentes!Z426),IF(referentes!AA426=\"\",\"\",CONCATENATE(\" \",referentes!AA426)))","v":""}]
[null,null,null,null,null,null,null,null,null,null,null,null,null,null,null,"","",null,null,null,null,{"$f":"IF(referentes!Y427=\"\",\"\",referentes!Y427)","v":""},{"$f":"CONCATENATE(IF(referentes!Z427=\"\",\"\",referentes!Z427),IF(referentes!AA427=\"\",\"\",CONCATENATE(\" \",referentes!AA427)))","v":""}]
[null,null,null,null,null,null,null,null,null,null,null,null,null,null,null,"","",null,null,null,null,{"$f":"IF(referentes!Y428=\"\",\"\",referentes!Y428)","v":""},{"$f":"CONCATENATE(IF(referentes!Z428=\"\",\"\",referentes!Z428),IF(referentes!AA428=\"\",\"\",CONCATENATE(\" \",referentes!AA428)))","v":""}]
[null,null,null,null,null,null,null,null,null,null,null,null,null,null,null,"","",null,null,null,null,{"$f":"IF(referentes!Y429=\"\",\"\",referentes!Y429)","v":""},{"$f":"CONCATENATE(IF(referentes!Z429=\"\",\"\",referentes!Z429),IF(referentes!AA429=\"\",\"\",CONCATENATE(\" \",referentes!AA429)))","v":""}]
[null,null,null,null,null,null,null,null,null,null,null,null,null,null,null,"","",null,null,null,null,{"$f":"IF(referentes!Y430=\"\",\"\",referentes!Y430)","v":""},{"$f":"CONCATENATE(IF(referentes!Z430=\"\",\"\",referentes!Z430),IF(referentes!AA430=\"\",\"\",CONCATENATE(\" \",referentes!AA430)))","v":""}]
[null,null,null,null,null,null,null,null,null,null,null,null,null,null,null,"","",null,null,null,null,{"$f":"IF(referentes!Y431=\"\",\"\",referentes!Y431)","v":""},{"$f":"CONCATENATE(IF(referentes!Z431=\"\",\"\",referentes!Z431),IF(referentes!AA431=\"\",\"\",CONCATENATE(\" \",referentes!AA431)))","v":""}]
[null,null,null,null,null,null,null,null,null,null,null,null,null,null,null,"","",null,null,null,null,{"$f":"IF(referentes!Y432=\"\",\"\",referentes!Y432)","v":""},{"$f":"CONCATENATE(IF(referentes!Z432=\"\",\"\",referentes!Z432),IF(referentes!AA432=\"\",\"\",CONCATENATE(\" \",referentes!AA432)))","v":""}]
[null,null,null,null,null,null,null,null,null,null,null,null,null,null,null,"","",null,null,null,null,{"$f":"IF(referentes!Y433=\"\",\"\",referentes!Y433)","v":""},{"$f":"CONCATENATE(IF(referentes!Z433=\"\",\"\",referentes!Z433),IF(referentes!AA433=\"\",\"\",CONCATENATE(\" \",referentes!AA433)))","v":""}]
[null,null,null,null,null,null,null,null,null,null,null,null,null,null,null,"","",null,null,null,null,{"$f":"IF(referentes!Y434=\"\",\"\",referentes!Y434)","v":""},{"$f":"CONCATENATE(IF(referentes!Z434=\"\",\"\",referentes!Z434),IF(referentes!AA434=\"\",\"\",CONCATENATE(\" \",referentes!AA434)))","v":""}]
[null,null,null,null,null,null,null,null,null,null,null,null,null,null,null,"","",null,null,null,null,{"$f":"IF(referentes!Y435=\"\",\"\",referentes!Y435)","v":""},{"$f":"CONCATENATE(IF(referentes!Z435=\"\",\"\",referentes!Z435),IF(referentes!AA435=\"\",\"\",CONCATENATE(\" \",referentes!AA435)))","v":""}]
[null,null,null,null,null,null,null,null,null,null,null,null,null,null,null,"","",null,null,null,null,{"$f":"IF(referentes!Y436=\"\",\"\",referentes!Y436)","v":""},{"$f":"CONCATENATE(IF(referentes!Z436=\"\",\"\",referentes!Z436),IF(referentes!AA436=\"\",\"\",CONCATENATE(\" \",referentes!AA436)))","v":""}]
[null,null,null,null,null,null,null,null,null,null,null,null,null,null,null,"","",null,null,null,null,{"$f":"IF(referentes!Y437=\"\",\"\",referentes!Y437)","v":""},{"$f":"CONCATENATE(IF(referentes!Z437=\"\",\"\",referentes!Z437),IF(referentes!AA437=\"\",\"\",CONCATENATE(\" \",referentes!AA437)))","v":""}]
[null,null,null,null,null,null,null,null,null,null,null,null,null,null,null,"","",null,null,null,null,{"$f":"IF(referentes!Y438=\"\",\"\",referentes!Y438)","v":""},{"$f":"CONCATENATE(IF(referentes!Z438=\"\",\"\",referentes!Z438),IF(referentes!AA438=\"\",\"\",CONCATENATE(\" \",referentes!AA438)))","v":""}]
[null,null,null,null,null,null,null,null,null,null,null,null,null,null,null,"","",null,null,null,null,{"$f":"IF(referentes!Y439=\"\",\"\",referentes!Y439)","v":""},{"$f":"CONCATENATE(IF(referentes!Z439=\"\",\"\",referentes!Z439),IF(referentes!AA439=\"\",\"\",CONCATENATE(\" \",referentes!AA439)))","v":""}]
[null,null,null,null,null,null,null,null,null,null,null,null,null,null,null,"","",null,null,null,null,{"$f":"IF(referentes!Y440=\"\",\"\",referentes!Y440)","v":""},{"$f":"CONCATENATE(IF(referentes!Z440=\"\",\"\",referentes!Z440),IF(referentes!AA440=\"\",\"\",CONCATENATE(\" \",referentes!AA440)))","v":""}]
[null,null,null,null,null,null,null,null,null,null,null,null,null,null,null,"","",null,null,null,null,{"$f":"IF(referentes!Y441=\"\",\"\",referentes!Y441)","v":""},{"$f":"CONCATENATE(IF(referentes!Z441=\"\",\"\",referentes!Z441),IF(referentes!AA441=\"\",\"\",CONCATENATE(\" \",referentes!AA441)))","v":""}]
[null,null,null,null,null,null,null,null,null,null,null,null,null,null,null,"","",null,null,null,null,{"$f":"IF(referentes!Y442=\"\",\"\",referentes!Y442)","v":""},{"$f":"CONCATENATE(IF(referentes!Z442=\"\",\"\",referentes!Z442),IF(referentes!AA442=\"\",\"\",CONCATENATE(\" \",referentes!AA442)))","v":""}]
[null,null,null,null,null,null,null,null,null,null,null,null,null,null,null,"","",null,null,null,null,{"$f":"IF(referentes!Y443=\"\",\"\",referentes!Y443)","v":""},{"$f":"CONCATENATE(IF(referentes!Z443=\"\",\"\",referentes!Z443),IF(referentes!AA443=\"\",\"\",CONCATENATE(\" \",referentes!AA443)))","v":""}]
[null,null,null,null,null,null,null,null,null,null,null,null,null,null,null,"","",null,null,null,null,{"$f":"IF(referentes!Y444=\"\",\"\",referentes!Y444)","v":""},{"$f":"CONCATENATE(IF(referentes!Z444=\"\",\"\",referentes!Z444),IF(referentes!AA444=\"\",\"\",CONCATENATE(\" \",referentes!AA444)))","v":""}]
[null,null,null,null,null,null,null,null,null,null,null,null,null,null,null,"","",null,null,null,null,{"$f":"IF(referentes!Y445=\"\",\"\",referentes!Y445)","v":""},{"$f":"CONCATENATE(IF(referentes!Z445=\"\",\"\",referentes!Z445),IF(referentes!AA445=\"\",\"\",CONCATENATE(\" \",referentes!AA445)))","v":""}]
[null,null,null,null,null,null,null,null,null,null,null,null,null,null,null,"","",null,null,null,null,{"$f":"IF(referentes!Y446=\"\",\"\",referentes!Y446)","v":""},{"$f":"CONCATENATE(IF(referentes!Z446=\"\",\"\",referentes!Z446),IF(referentes!AA446=\"\",\"\",CONCATENATE(\" \",referentes!AA446)))","v":""}]
[null,null,null,null,null,null,null,null,null,null,null,null,null,null,null,"","",null,null,null,null,{"$f":"IF(referentes!Y447=\"\",\"\",referentes!Y447)","v":""},{"$f":"CONCATENATE(IF(referentes!Z447=\"\",\"\",referentes!Z447),IF(referentes!AA447=\"\",\"\",CONCATENATE(\" \",referentes!AA447)))","v":""}]
[null,null,null,null,null,null,null,null,null,null,null,null,null,null,null,"","",null,null,null,null,{"$f":"IF(referentes!Y448=\"\",\"\",referentes!Y448)","v":""},{"$f":"CONCATENATE(IF(referentes!Z448=\"\",\"\",referentes!Z448),IF(referentes!AA448=\"\",\"\",CONCATENATE(\" \",referentes!AA448)))","v":""}]
[null,null,null,null,null,null,null,null,null,null,null,null,null,null,null,"","",null,null,null,null,{"$f":"IF(referentes!Y449=\"\",\"\",referentes!Y449)","v":""},{"$f":"CONCATENATE(IF(referentes!Z449=\"\",\"\",referentes!Z449),IF(referentes!AA449=\"\",\"\",CONCATENATE(\" \",referentes!AA449)))","v":""}]
[null,null,null,null,null,null,null,null,null,null,null,null,null,null,null,"","",null,null,null,null,{"$f":"IF(referentes!Y450=\"\",\"\",referentes!Y450)","v":""},{"$f":"CONCATENATE(IF(referentes!Z450=\"\",\"\",referentes!Z450),IF(referentes!AA450=\"\",\"\",CONCATENATE(\" \",referentes!AA450)))","v":""}]
[null,null,null,null,null,null,null,null,null,null,null,null,null,null,null,"","",null,null,null,null,{"$f":"IF(referentes!Y451=\"\",\"\",referentes!Y451)","v":""},{"$f":"CONCATENATE(IF(referentes!Z451=\"\",\"\",referentes!Z451),IF(referentes!AA451=\"\",\"\",CONCATENATE(\" \",referentes!AA451)))","v":""}]
[null,null,null,null,null,null,null,null,null,null,null,null,null,null,null,"","",null,null,null,null,{"$f":"IF(referentes!Y452=\"\",\"\",referentes!Y452)","v":""},{"$f":"CONCATENATE(IF(referentes!Z452=\"\",\"\",referentes!Z452),IF(referentes!AA452=\"\",\"\",CONCATENATE(\" \",referentes!AA452)))","v":""}]
[null,null,null,null,null,null,null,null,null,null,null,null,null,null,null,"","",null,null,null,null,{"$f":"IF(referentes!Y453=\"\",\"\",referentes!Y453)","v":""},{"$f":"CONCATENATE(IF(referentes!Z453=\"\",\"\",referentes!Z453),IF(referentes!AA453=\"\",\"\",CONCATENATE(\" \",referentes!AA453)))","v":""}]
[null,null,null,null,null,null,null,null,null,null,null,null,null,null,null,"","",null,null,null,null,{"$f":"IF(referentes!Y454=\"\",\"\",referentes!Y454)","v":""},{"$f":"CONCATENATE(IF(referentes!Z454=\"\",\"\",referentes!Z454),IF(referentes!AA454=\"\",\"\",CONCATENATE(\" \",referentes!AA454)))","v":""}]
[null,null,null,null,null,null,null,null,null,null,null,null,null,null,null,"","",null,null,null,null,{"$f":"IF(referentes!Y455=\"\",\"\",referentes!Y455)","v":""},{"$f":"CONCATENATE(IF(referentes!Z455=\"\",\"\",referentes!Z455),IF(referentes!AA455=\"\",\"\",CONCATENATE(\" \",referentes!AA455)))","v":""}]
[null,null,null,null,null,null,null,null,null,null,null,null,null,null,null,"","",null,null,null,null,{"$f":"IF(referentes!Y456=\"\",\"\",referentes!Y456)","v":""},{"$f":"CONCATENATE(IF(referentes!Z456=\"\",\"\",referentes!Z456),IF(referentes!AA456=\"\",\"\",CONCATENATE(\" \",referentes!AA456)))","v":""}]
[null,null,null,null,null,null,null,null,null,null,null,null,null,null,null,"","",null,null,null,null,{"$f":"IF(referentes!Y457=\"\",\"\",referentes!Y457)","v":""},{"$f":"CONCATENATE(IF(referentes!Z457=\"\",\"\",referentes!Z457),IF(referentes!AA457=\"\",\"\",CONCATENATE(\" \",referentes!AA457)))","v":""}]
[null,null,null,null,null,null,null,null,null,null,null,null,null,null,null,"","",null,null,null,null,{"$f":"IF(referentes!Y458=\"\",\"\",referentes!Y458)","v":""},{"$f":"CONCATENATE(IF(referentes!Z458=\"\",\"\",referentes!Z458),IF(referentes!AA458=\"\",\"\",CONCATENATE(\" \",referentes!AA458)))","v":""}]
[null,null,null,null,null,null,null,null,null,null,null,null,null,null,null,"","",null,null,null,null,{"$f":"IF(referentes!Y459=\"\",\"\",referentes!Y459)","v":""},{"$f":"CONCATENATE(IF(referentes!Z459=\"\",\"\",referentes!Z459),IF(referentes!AA459=\"\",\"\",CONCATENATE(\" \",referentes!AA459)))","v":""}]
[null,null,null,null,null,null,null,null,null,null,null,null,null,null,null,"","",null,null,null,null,{"$f":"IF(referentes!Y460=\"\",\"\",referentes!Y460)","v":""},{"$f":"CONCATENATE(IF(referentes!Z460=\"\",\"\",referentes!Z460),IF(referentes!AA460=\"\",\"\",CONCATENATE(\" \",referentes!AA460)))","v":""}]
[null,null,null,null,null,null,null,null,null,null,null,null,null,null,null,"","",null,null,null,null,{"$f":"IF(referentes!Y461=\"\",\"\",referentes!Y461)","v":""},{"$f":"CONCATENATE(IF(referentes!Z461=\"\",\"\",referentes!Z461),IF(referentes!AA461=\"\",\"\",CONCATENATE(\" \",referentes!AA461)))","v":""}]
[null,null,null,null,null,null,null,null,null,null,null,null,null,null,null,"","",null,null,null,null,{"$f":"IF(referentes!Y462=\"\",\"\",referentes!Y462)","v":""},{"$f":"CONCATENATE(IF(referentes!Z462=\"\",\"\",referentes!Z462),IF(referentes!AA462=\"\",\"\",CONCATENATE(\" \",referentes!AA462)))","v":""}]
[null,null,null,null,null,null,null,null,null,null,null,null,null,null,null,"","",null,null,null,null,{"$f":"IF(referentes!Y463=\"\",\"\",referentes!Y463)","v":""},{"$f":"CONCATENATE(IF(referentes!Z463=\"\",\"\",referentes!Z463),IF(referentes!AA463=\"\",\"\",CONCATENATE(\" \",referentes!AA463)))","v":""}]
[null,null,null,null,null,null,null,null,null,null,null,null,null,null,null,"","",null,null,null,null,{"$f":"IF(referentes!Y464=\"\",\"\",referentes!Y464)","v":""},{"$f":"CONCATENATE(IF(referentes!Z464=\"\",\"\",referentes!Z464),IF(referentes!AA464=\"\",\"\",CONCATENATE(\" \",referentes!AA464)))","v":""}]
[null,null,null,null,null,null,null,null,null,null,null,null,null,null,null,"","",null,null,null,null,{"$f":"IF(referentes!Y465=\"\",\"\",referentes!Y465)","v":""},{"$f":"CONCATENATE(IF(referentes!Z465=\"\",\"\",referentes!Z465),IF(referentes!AA465=\"\",\"\",CONCATENATE(\" \",referentes!AA465)))","v":""}]
[null,null,null,null,null,null,null,null,null,null,null,null,null,null,null,"","",null,null,null,null,{"$f":"IF(referentes!Y466=\"\",\"\",referentes!Y466)","v":""},{"$f":"CONCATENATE(IF(referentes!Z466=\"\",\"\",referentes!Z466),IF(referentes!AA466=\"\",\"\",CONCATENATE(\" \",referentes!AA466)))","v":""}]
[null,null,null,null,null,null,null,null,null,null,null,null,null,null,null,"","",null,null,null,null,{"$f":"IF(referentes!Y467=\"\",\"\",referentes!Y467)","v":""},{"$f":"CONCATENATE(IF(referentes!Z467=\"\",\"\",referentes!Z467),IF(referentes!AA467=\"\",\"\",CONCATENATE(\" \",referentes!AA467)))","v":""}]
[null,null,null,null,null,null,null,null,null,null,null,null,null,null,null,"","",null,null,null,null,{"$f":"IF(referentes!Y468=\"\",\"\",referentes!Y468)","v":""},{"$f":"CONCATENATE(IF(referentes!Z468=\"\",\"\",referentes!Z468),IF(referentes!AA468=\"\",\"\",CONCATENATE(\" \",referentes!AA468)))","v":""}]
[null,null,null,null,null,null,null,null,null,null,null,null,null,null,null,"","",null,null,null,null,{"$f":"IF(referentes!Y469=\"\",\"\",referentes!Y469)","v":""},{"$f":"CONCATENATE(IF(referentes!Z469=\"\",\"\",referentes!Z469),IF(referentes!AA469=\"\",\"\",CONCATENATE(\" \",referentes!AA469)))","v":""}]
[null,null,null,null,null,null,null,null,null,null,null,null,null,null,null,"","",null,null,null,null,{"$f":"IF(referentes!Y470=\"\",\"\",referentes!Y470)","v":""},{"$f":"CONCATENATE(IF(referentes!Z470=\"\",\"\",referentes!Z470),IF(referentes!AA470=\"\",\"\",CONCATENATE(\" \",referentes!AA470)))","v":""}]
[null,null,null,null,null,null,null,null,null,null,null,null,null,null,null,"","",null,null,null,null,{"$f":"IF(referentes!Y471=\"\",\"\",referentes!Y471)","v":""},{"$f":"CONCATENATE(IF(referentes!Z471=\"\",\"\",referentes!Z471),IF(referentes!AA471=\"\",\"\",CONCATENATE(\" \",referentes!AA471)))","v":""}]
[null,null,null,null,null,null,null,null,null,null,null,null,null,null,null,"","",null,null,null,null,{"$f":"IF(referentes!Y472=\"\",\"\",referentes!Y472)","v":""},{"$f":"CONCATENATE(IF(referentes!Z472=\"\",\"\",referentes!Z472),IF(referentes!AA472=\"\",\"\",CONCATENATE(\" \",referentes!AA472)))","v":""}]
[null,null,null,null,null,null,null,null,null,null,null,null,null,null,null,"","",null,null,null,null,{"$f":"IF(referentes!Y473=\"\",\"\",referentes!Y473)","v":""},{"$f":"CONCATENATE(IF(referentes!Z473=\"\",\"\",referentes!Z473),IF(referentes!AA473=\"\",\"\",CONCATENATE(\" \",referentes!AA473)))","v":""}]
[null,null,null,null,null,null,null,null,null,null,null,null,null,null,null,"","",null,null,null,null,{"$f":"IF(referentes!Y474=\"\",\"\",referentes!Y474)","v":""},{"$f":"CONCATENATE(IF(referentes!Z474=\"\",\"\",referentes!Z474),IF(referentes!AA474=\"\",\"\",CONCATENATE(\" \",referentes!AA474)))","v":""}]
[null,null,null,null,null,null,null,null,null,null,null,null,null,null,null,"","",null,null,null,null,{"$f":"IF(referentes!Y475=\"\",\"\",referentes!Y475)","v":""},{"$f":"CONCATENATE(IF(referentes!Z475=\"\",\"\",referentes!Z475),IF(referentes!AA475=\"\",\"\",CONCATENATE(\" \",referentes!AA475)))","v":""}]
[null,null,null,null,null,null,null,null,null,null,null,null,null,null,null,"","",null,null,null,null,{"$f":"IF(referentes!Y476=\"\",\"\",referentes!Y476)","v":""},{"$f":"CONCATENATE(IF(referentes!Z476=\"\",\"\",referentes!Z476),IF(referentes!AA476=\"\",\"\",CONCATENATE(\" \",referentes!AA476)))","v":""}]
[null,null,null,null,null,null,null,null,null,null,null,null,null,null,null,"","",null,null,null,null,{"$f":"IF(referentes!Y477=\"\",\"\",referentes!Y477)","v":""},{"$f":"CONCATENATE(IF(referentes!Z477=\"\",\"\",referentes!Z477),IF(referentes!AA477=\"\",\"\",CONCATENATE(\" \",referentes!AA477)))","v":""}]
[null,null,null,null,null,null,null,null,null,null,null,null,null,null,null,"","",null,null,null,null,{"$f":"IF(referentes!Y478=\"\",\"\",referentes!Y478)","v":""},{"$f":"CONCATENATE(IF(referentes!Z478=\"\",\"\",referentes!Z478),IF(referentes!AA478=\"\",\"\",CONCATENATE(\" \",referentes!AA478)))","v":""}]
[null,null,null,null,null,null,null,null,null,null,null,null,null,null,null,"","",null,null,null,null,{"$f":"IF(referentes!Y479=\"\",\"\",referentes!Y479)","v":""},{"$f":"CONCATENATE(IF(referentes!Z479=\"\",\"\",referentes!Z479),IF(referentes!AA479=\"\",\"\",CONCATENATE(\" \",referentes!AA479)))","v":""}]
[null,null,null,null,null,null,null,null,null,null,null,null,null,null,null,"","",null,null,null,null,{"$f":"IF(referentes!Y480=\"\",\"\",referentes!Y480)","v":""},{"$f":"CONCATENATE(IF(referentes!Z480=\"\",\"\",referentes!Z480),IF(referentes!AA480=\"\",\"\",CONCATENATE(\" \",referentes!AA480)))","v":""}]
[null,null,null,null,null,null,null,null,null,null,null,null,null,null,null,"","",null,null,null,null,{"$f":"IF(referentes!Y481=\"\",\"\",referentes!Y481)","v":""},{"$f":"CONCATENATE(IF(referentes!Z481=\"\",\"\",referentes!Z481),IF(referentes!AA481=\"\",\"\",CONCATENATE(\" \",referentes!AA481)))","v":""}]
[null,null,null,null,null,null,null,null,null,null,null,null,null,null,null,"","",null,null,null,null,{"$f":"IF(referentes!Y482=\"\",\"\",referentes!Y482)","v":""},{"$f":"CONCATENATE(IF(referentes!Z482=\"\",\"\",referentes!Z482),IF(referentes!AA482=\"\",\"\",CONCATENATE(\" \",referentes!AA482)))","v":""}]
[null,null,null,null,null,null,null,null,null,null,null,null,null,null,null,"","",null,null,null,null,{"$f":"IF(referentes!Y483=\"\",\"\",referentes!Y483)","v":""},{"$f":"CONCATENATE(IF(referentes!Z483=\"\",\"\",referentes!Z483),IF(referentes!AA483=\"\",\"\",CONCATENATE(\" \",referentes!AA483)))","v":""}]
[null,null,null,null,null,null,null,null,null,null,null,null,null,null,null,"","",null,null,null,null,{"$f":"IF(referentes!Y484=\"\",\"\",referentes!Y484)","v":""},{"$f":"CONCATENATE(IF(referentes!Z484=\"\",\"\",referentes!Z484),IF(referentes!AA484=\"\",\"\",CONCATENATE(\" \",referentes!AA484)))","v":""}]
[null,null,null,null,null,null,null,null,null,null,null,null,null,null,null,"","",null,null,null,null,{"$f":"IF(referentes!Y485=\"\",\"\",referentes!Y485)","v":""},{"$f":"CONCATENATE(IF(referentes!Z485=\"\",\"\",referentes!Z485),IF(referentes!AA485=\"\",\"\",CONCATENATE(\" \",referentes!AA485)))","v":""}]
[null,null,null,null,null,null,null,null,null,null,null,null,null,null,null,"","",null,null,null,null,{"$f":"IF(referentes!Y486=\"\",\"\",referentes!Y486)","v":""},{"$f":"CONCATENATE(IF(referentes!Z486=\"\",\"\",referentes!Z486),IF(referentes!AA486=\"\",\"\",CONCATENATE(\" \",referentes!AA486)))","v":""}]
[null,null,null,null,null,null,null,null,null,null,null,null,null,null,null,"","",null,null,null,null,{"$f":"IF(referentes!Y487=\"\",\"\",referentes!Y487)","v":""},{"$f":"CONCATENATE(IF(referentes!Z487=\"\",\"\",referentes!Z487),IF(referentes!AA487=\"\",\"\",CONCATENATE(\" \",referentes!AA487)))","v":""}]
[null,null,null,null,null,null,null,null,null,null,null,null,null,null,null,"","",null,null,null,null,{"$f":"IF(referentes!Y488=\"\",\"\",referentes!Y488)","v":""},{"$f":"CONCATENATE(IF(referentes!Z488=\"\",\"\",referentes!Z488),IF(referentes!AA488=\"\",\"\",CONCATENATE(\" \",referentes!AA488)))","v":""}]
[null,null,null,null,null,null,null,null,null,null,null,null,null,null,null,"","",null,null,null,null,{"$f":"IF(referentes!Y489=\"\",\"\",referentes!Y489)","v":""},{"$f":"CONCATENATE(IF(referentes!Z489=\"\",\"\",referentes!Z489),IF(referentes!AA489=\"\",\"\",CONCATENATE(\" \",referentes!AA489)))","v":""}]
[null,null,null,null,null,null,null,null,null,null,null,null,null,null,null,"","",null,null,null,null,{"$f":"IF(referentes!Y490=\"\",\"\",referentes!Y490)","v":""},{"$f":"CONCATENATE(IF(referentes!Z490=\"\",\"\",referentes!Z490),IF(referentes!AA490=\"\",\"\",CONCATENATE(\" \",referentes!AA490)))","v":""}]
[null,null,null,null,null,null,null,null,null,null,null,null,null,null,null,"","",null,null,null,null,{"$f":"IF(referentes!Y491=\"\",\"\",referentes!Y491)","v":""},{"$f":"CONCATENATE(IF(referentes!Z491=\"\",\"\",referentes!Z491),IF(referentes!AA491=\"\",\"\",CONCATENATE(\" \",referentes!AA491)))","v":""}]
[null,null,null,null,null,null,null,null,null,null,null,null,null,null,null,"","",null,null,null,null,{"$f":"IF(referentes!Y492=\"\",\"\",referentes!Y492)","v":""},{"$f":"CONCATENATE(IF(referentes!Z492=\"\",\"\",referentes!Z492),IF(referentes!AA492=\"\",\"\",CONCATENATE(\" \",referentes!AA492)))","v":""}]
[null,null,null,null,null,null,null,null,null,null,null,null,null,null,null,"","",null,null,null,null,{"$f":"IF(referentes!Y493=\"\",\"\",referentes!Y493)","v":""},{"$f":"CONCATENATE(IF(referentes!Z493=\"\",\"\",referentes!Z493),IF(referentes!AA493=\"\",\"\",CONCATENATE(\" \",referentes!AA493)))","v":""}]
[null,null,null,null,null,null,null,null,null,null,null,null,null,null,null,"","",null,null,null,null,{"$f":"IF(referentes!Y494=\"\",\"\",referentes!Y494)","v":""},{"$f":"CONCATENATE(IF(referentes!Z494=\"\",\"\",referentes!Z494),IF(referentes!AA494=\"\",\"\",CONCATENATE(\" \",referentes!AA494)))","v":""}]
[null,null,null,null,null,null,null,null,null,null,null,null,null,null,null,"","",null,null,null,null,{"$f":"IF(referentes!Y495=\"\",\"\",referentes!Y495)","v":""},{"$f":"CONCATENATE(IF(referentes!Z495=\"\",\"\",referentes!Z495),IF(referentes!AA495=\"\",\"\",CONCATENATE(\" \",referentes!AA495)))","v":""}]
[null,null,null,null,null,null,null,null,null,null,null,null,null,null,null,"","",null,null,null,null,{"$f":"IF(referentes!Y496=\"\",\"\",referentes!Y496)","v":""},{"$f":"CONCATENATE(IF(referentes!Z496=\"\",\"\",referentes!Z496),IF(referentes!AA496=\"\",\"\",CONCATENATE(\" \",referentes!AA496)))","v":""}]
[null,null,null,null,null,null,null,null,null,null,null,null,null,null,null,"","",null,null,null,null,{"$f":"IF(referentes!Y497=\"\",\"\",referentes!Y497)","v":""},{"$f":"CONCATENATE(IF(referentes!Z497=\"\",\"\",referentes!Z497),IF(referentes!AA497=\"\",\"\",CONCATENATE(\" \",referentes!AA497)))","v":""}]
[null,null,null,null,null,null,null,null,null,null,null,null,null,null,null,"","",null,null,null,null,{"$f":"IF(referentes!Y498=\"\",\"\",referentes!Y498)","v":""},{"$f":"CONCATENATE(IF(referentes!Z498=\"\",\"\",referentes!Z498),IF(referentes!AA498=\"\",\"\",CONCATENATE(\" \",referentes!AA498)))","v":""}]
[null,null,null,null,null,null,null,null,null,null,null,null,null,null,null,"","",null,null,null,null,{"$f":"IF(referentes!Y499=\"\",\"\",referentes!Y499)","v":""},{"$f":"CONCATENATE(IF(referentes!Z499=\"\",\"\",referentes!Z499),IF(referentes!AA499=\"\",\"\",CONCATENATE(\" \",referentes!AA499)))","v":""}]
[null,null,null,null,null,null,null,null,null,null,null,null,null,null,null,"","",null,null,null,null,{"$f":"IF(referentes!Y500=\"\",\"\",referentes!Y500)","v":""},{"$f":"CONCATENATE(IF(referentes!Z500=\"\",\"\",referentes!Z500),IF(referentes!AA500=\"\",\"\",CONCATENATE(\" \",referentes!AA500)))","v":""}]
[null,null,null,null,null,null,null,null,null,null,null,null,null,null,null,"","",null,null,null,null,{"$f":"IF(referentes!Y501=\"\",\"\",referentes!Y501)","v":""},{"$f":"CONCATENATE(IF(referentes!Z501=\"\",\"\",referentes!Z501),IF(referentes!AA501=\"\",\"\",CONCATENATE(\" \",referentes!AA501)))","v":""}]
[null,null,null,null,null,null,null,null,null,null,null,null,null,null,null,"","",null,null,null,null,{"$f":"IF(referentes!Y502=\"\",\"\",referentes!Y502)","v":""},{"$f":"CONCATENATE(IF(referentes!Z502=\"\",\"\",referentes!Z502),IF(referentes!AA502=\"\",\"\",CONCATENATE(\" \",referentes!AA502)))","v":""}]
[null,null,null,null,null,null,null,null,null,null,null,null,null,null,null,"","",null,null,null,null,{"$f":"IF(referentes!Y503=\"\",\"\",referentes!Y503)","v":""},{"$f":"CONCATENATE(IF(referentes!Z503=\"\",\"\",referentes!Z503),IF(referentes!AA503=\"\",\"\",CONCATENATE(\" \",referentes!AA503)))","v":""}]
[null,null,null,null,null,null,null,null,null,null,null,null,null,null,null,"","",null,null,null,null,{"$f":"IF(referentes!Y504=\"\",\"\",referentes!Y504)","v":""},{"$f":"CONCATENATE(IF(referentes!Z504=\"\",\"\",referentes!Z504),IF(referentes!AA504=\"\",\"\",CONCATENATE(\" \",referentes!AA504)))","v":""}]
[null,null,null,null,null,null,null,null,null,null,null,null,null,null,null,"","",null,null,null,null,{"$f":"IF(referentes!Y505=\"\",\"\",referentes!Y505)","v":""},{"$f":"CONCATENATE(IF(referentes!Z505=\"\",\"\",referentes!Z505),IF(referentes!AA505=\"\",\"\",CONCATENATE(\" \",referentes!AA505)))","v":""}]
[null,null,null,null,null,null,null,null,null,null,null,null,null,null,null,"","",null,null,null,null,{"$f":"IF(referentes!Y506=\"\",\"\",referentes!Y506)","v":""},{"$f":"CONCATENATE(IF(referentes!Z506=\"\",\"\",referentes!Z506),IF(referentes!AA506=\"\",\"\",CONCATENATE(\" \",referentes!AA506)))","v":""}]
[null,null,null,null,null,null,null,null,null,null,null,null,null,null,null,"","",null,null,null,null,{"$f":"IF(referentes!Y507=\"\",\"\",referentes!Y507)","v":""},{"$f":"CONCATENATE(IF(referentes!Z507=\"\",\"\",referentes!Z507),IF(referentes!AA507=\"\",\"\",CONCATENATE(\" \",referentes!AA507)))","v":""}]
[null,null,null,null,null,null,null,null,null,null,null,null,null,null,null,"","",null,null,null,null,{"$f":"IF(referentes!Y508=\"\",\"\",referentes!Y508)","v":""},{"$f":"CONCATENATE(IF(referentes!Z508=\"\",\"\",referentes!Z508),IF(referentes!AA508=\"\",\"\",CONCATENATE(\" \",referentes!AA508)))","v":""}]
[null,null,null,null,null,null,null,null,null,null,null,null,null,null,null,"","",null,null,null,null,{"$f":"IF(referentes!Y509=\"\",\"\",referentes!Y509)","v":""},{"$f":"CONCATENATE(IF(referentes!Z509=\"\",\"\",referentes!Z509),IF(referentes!AA509=\"\",\"\",CONCATENATE(\" \",referentes!AA509)))","v":""}]
[null,null,null,null,null,null,null,null,null,null,null,null,null,null,null,"","",null,null,null,null,{"$f":"IF(referentes!Y510=\"\",\"\",referentes!Y510)","v":""},{"$f":"CONCATENATE(IF(referentes!Z510=\"\",\"\",referentes!Z510),IF(referentes!AA510=\"\",\"\",CONCATENATE(\" \",referentes!AA510)))","v":""}]
[null,null,null,null,null,null,null,null,null,null,null,null,null,null,null,"","",null,null,null,null,{"$f":"IF(referentes!Y511=\"\",\"\",referentes!Y511)","v":""},{"$f":"CONCATENATE(IF(referentes!Z511=\"\",\"\",referentes!Z511),IF(referentes!AA511=\"\",\"\",CONCATENATE(\" \",referentes!AA511)))","v":""}]
[null,null,null,null,null,null,null,null,null,null,null,null,null,null,null,"","",null,null,null,null,{"$f":"IF(referentes!Y512=\"\",\"\",referentes!Y512)","v":""},{"$f":"CONCATENATE(IF(referentes!Z512=\"\",\"\",referentes!Z512),IF(referentes!AA512=\"\",\"\",CONCATENATE(\" \",referentes!AA512)))","v":""}]
[null,null,null,null,null,null,null,null,null,null,null,null,null,null,null,"","",null,null,null,null,{"$f":"IF(referentes!Y513=\"\",\"\",referentes!Y513)","v":""},{"$f":"CONCATENATE(IF(referentes!Z513=\"\",\"\",referentes!Z513),IF(referentes!AA513=\"\",\"\",CONCATENATE(\" \",referentes!AA513)))","v":""}]
[null,null,null,null,null,null,null,null,null,null,null,null,null,null,null,"","",null,null,null,null,{"$f":"IF(referentes!Y514=\"\",\"\",referentes!Y514)","v":""},{"$f":"CONCATENATE(IF(referentes!Z514=\"\",\"\",referentes!Z514),IF(referentes!AA514=\"\",\"\",CONCATENATE(\" \",referentes!AA514)))","v":""}]
[null,null,null,null,null,null,null,null,null,null,null,null,null,null,null,"","",null,null,null,null,{"$f":"IF(referentes!Y515=\"\",\"\",referentes!Y515)","v":""},{"$f":"CONCATENATE(IF(referentes!Z515=\"\",\"\",referentes!Z515),IF(referentes!AA515=\"\",\"\",CONCATENATE(\" \",referentes!AA515)))","v":""}]
[null,null,null,null,null,null,null,null,null,null,null,null,null,null,null,"","",null,null,null,null,{"$f":"IF(referentes!Y516=\"\",\"\",referentes!Y516)","v":""},{"$f":"CONCATENATE(IF(referentes!Z516=\"\",\"\",referentes!Z516),IF(referentes!AA516=\"\",\"\",CONCATENATE(\" \",referentes!AA516)))","v":""}]
[null,null,null,null,null,null,null,null,null,null,null,null,null,null,null,"","",null,null,null,null,{"$f":"IF(referentes!Y517=\"\",\"\",referentes!Y517)","v":""},{"$f":"CONCATENATE(IF(referentes!Z517=\"\",\"\",referentes!Z517),IF(referentes!AA517=\"\",\"\",CONCATENATE(\" \",referentes!AA517)))","v":""}]
[null,null,null,null,null,null,null,null,null,null,null,null,null,null,null,"","",null,null,null,null,{"$f":"IF(referentes!Y518=\"\",\"\",referentes!Y518)","v":""},{"$f":"CONCATENATE(IF(referentes!Z518=\"\",\"\",referentes!Z518),IF(referentes!AA518=\"\",\"\",CONCATENATE(\" \",referentes!AA518)))","v":""}]
[null,null,null,null,null,null,null,null,null,null,null,null,null,null,null,"","",null,null,null,null,{"$f":"IF(referentes!Y519=\"\",\"\",referentes!Y519)","v":""},{"$f":"CONCATENATE(IF(referentes!Z519=\"\",\"\",referentes!Z519),IF(referentes!AA519=\"\",\"\",CONCATENATE(\" \",referentes!AA519)))","v":""}]
[null,null,null,null,null,null,null,null,null,null,null,null,null,null,null,"","",null,null,null,null,{"$f":"IF(referentes!Y520=\"\",\"\",referentes!Y520)","v":""},{"$f":"CONCATENATE(IF(referentes!Z520=\"\",\"\",referentes!Z520),IF(referentes!AA520=\"\",\"\",CONCATENATE(\" \",referentes!AA520)))","v":""}]
[null,null,null,null,null,null,null,null,null,null,null,null,null,null,null,"","",null,null,null,null,{"$f":"IF(referentes!Y521=\"\",\"\",referentes!Y521)","v":""},{"$f":"CONCATENATE(IF(referentes!Z521=\"\",\"\",referentes!Z521),IF(referentes!AA521=\"\",\"\",CONCATENATE(\" \",referentes!AA521)))","v":""}]
[null,null,null,null,null,null,null,null,null,null,null,null,null,null,null,"","",null,null,null,null,{"$f":"IF(referentes!Y522=\"\",\"\",referentes!Y522)","v":""},{"$f":"CONCATENATE(IF(referentes!Z522=\"\",\"\",referentes!Z522),IF(referentes!AA522=\"\",\"\",CONCATENATE(\" \",referentes!AA522)))","v":""}]
[null,null,null,null,null,null,null,null,null,null,null,null,null,null,null,"","",null,null,null,null,{"$f":"IF(referentes!Y523=\"\",\"\",referentes!Y523)","v":""},{"$f":"CONCATENATE(IF(referentes!Z523=\"\",\"\",referentes!Z523),IF(referentes!AA523=\"\",\"\",CONCATENATE(\" \",referentes!AA523)))","v":""}]
[null,null,null,null,null,null,null,null,null,null,null,null,null,null,null,"","",null,null,null,null,{"$f":"IF(referentes!Y524=\"\",\"\",referentes!Y524)","v":""},{"$f":"CONCATENATE(IF(referentes!Z524=\"\",\"\",referentes!Z524),IF(referentes!AA524=\"\",\"\",CONCATENATE(\" \",referentes!AA524)))","v":""}]
[null,null,null,null,null,null,null,null,null,null,null,null,null,null,null,"","",null,null,null,null,{"$f":"IF(referentes!Y525=\"\",\"\",referentes!Y525)","v":""},{"$f":"CONCATENATE(IF(referentes!Z525=\"\",\"\",referentes!Z525),IF(referentes!AA525=\"\",\"\",CONCATENATE(\" \",referentes!AA525)))","v":""}]
[null,null,null,null,null,null,null,null,null,null,null,null,null,null,null,"","",null,null,null,null,{"$f":"IF(referentes!Y526=\"\",\"\",referentes!Y526)","v":""},{"$f":"CONCATENATE(IF(referentes!Z526=\"\",\"\",referentes!Z526),IF(referentes!AA526=\"\",\"\",CONCATENATE(\" \",referentes!AA526)))","v":""}]
[null,null,null,null,null,null,null,null,null,null,null,null,null,null,null,"","",null,null,null,null,{"$f":"IF(referentes!Y527=\"\",\"\",referentes!Y527)","v":""},{"$f":"CONCATENATE(IF(referentes!Z527=\"\",\"\",referentes!Z527),IF(referentes!AA527=\"\",\"\",CONCATENATE(\" \",referentes!AA527)))","v":""}]
[null,null,null,null,null,null,null,null,null,null,null,null,null,null,null,"","",null,null,null,null,{"$f":"IF(referentes!Y528=\"\",\"\",referentes!Y528)","v":""},{"$f":"CONCATENATE(IF(referentes!Z528=\"\",\"\",referentes!Z528),IF(referentes!AA528=\"\",\"\",CONCATENATE(\" \",referentes!AA528)))","v":""}]
[null,null,null,null,null,null,null,null,null,null,null,null,null,null,null,"","",null,null,null,null,{"$f":"IF(referentes!Y529=\"\",\"\",referentes!Y529)","v":""},{"$f":"CONCATENATE(IF(referentes!Z529=\"\",\"\",referentes!Z529),IF(referentes!AA529=\"\",\"\",CONCATENATE(\" \",referentes!AA529)))","v":""}]
[null,null,null,null,null,null,null,null,null,null,null,null,null,null,null,"","",null,null,null,null,{"$f":"IF(referentes!Y530=\"\",\"\",referentes!Y530)","v":""},{"$f":"CONCATENATE(IF(referentes!Z530=\"\",\"\",referentes!Z530),IF(referentes!AA530=\"\",\"\",CONCATENATE(\" \",referentes!AA530)))","v":""}]
[null,null,null,null,null,null,null,null,null,null,null,null,null,null,null,"","",null,null,null,null,{"$f":"IF(referentes!Y531=\"\",\"\",referentes!Y531)","v":""},{"$f":"CONCATENATE(IF(referentes!Z531=\"\",\"\",referentes!Z531),IF(referentes!AA531=\"\",\"\",CONCATENATE(\" \",referentes!AA531)))","v":""}]
[null,null,null,null,null,null,null,null,null,null,null,null,null,null,null,"","",null,null,null,null,{"$f":"IF(referentes!Y532=\"\",\"\",referentes!Y532)","v":""},{"$f":"CONCATENATE(IF(referentes!Z532=\"\",\"\",referentes!Z532),IF(referentes!AA532=\"\",\"\",CONCATENATE(\" \",referentes!AA532)))","v":""}]
[null,null,null,null,null,null,null,null,null,null,null,null,null,null,null,"","",null,null,null,null,{"$f":"IF(referentes!Y533=\"\",\"\",referentes!Y533)","v":""},{"$f":"CONCATENATE(IF(referentes!Z533=\"\",\"\",referentes!Z533),IF(referentes!AA533=\"\",\"\",CONCATENATE(\" \",referentes!AA533)))","v":""}]
[null,null,null,null,null,null,null,null,null,null,null,null,null,null,null,"","",null,null,null,null,{"$f":"IF(referentes!Y534=\"\",\"\",referentes!Y534)","v":""},{"$f":"CONCATENATE(IF(referentes!Z534=\"\",\"\",referentes!Z534),IF(referentes!AA534=\"\",\"\",CONCATENATE(\" \",referentes!AA534)))","v":""}]
[null,null,null,null,null,null,null,null,null,null,null,null,null,null,null,"","",null,null,null,null,{"$f":"IF(referentes!Y535=\"\",\"\",referentes!Y535)","v":""},{"$f":"CONCATENATE(IF(referentes!Z535=\"\",\"\",referentes!Z535),IF(referentes!AA535=\"\",\"\",CONCATENATE(\" \",referentes!AA535)))","v":""}]
[null,null,null,null,null,null,null,null,null,null,null,null,null,null,null,"","",null,null,null,null,{"$f":"IF(referentes!Y536=\"\",\"\",referentes!Y536)","v":""},{"$f":"CONCATENATE(IF(referentes!Z536=\"\",\"\",referentes!Z536),IF(referentes!AA536=\"\",\"\",CONCATENATE(\" \",referentes!AA536)))","v":""}]
[null,null,null,null,null,null,null,null,null,null,null,null,null,null,null,"","",null,null,null,null,{"$f":"IF(referentes!Y537=\"\",\"\",referentes!Y537)","v":""},{"$f":"CONCATENATE(IF(referentes!Z537=\"\",\"\",referentes!Z537),IF(referentes!AA537=\"\",\"\",CONCATENATE(\" \",referentes!AA537)))","v":""}]
[null,null,null,null,null,null,null,null,null,null,null,null,null,null,null,"","",null,null,null,null,{"$f":"IF(referentes!Y538=\"\",\"\",referentes!Y538)","v":""},{"$f":"CONCATENATE(IF(referentes!Z538=\"\",\"\",referentes!Z538),IF(referentes!AA538=\"\",\"\",CONCATENATE(\" \",referentes!AA538)))","v":""}]
[null,null,null,null,null,null,null,null,null,null,null,null,null,null,null,"","",null,null,null,null,{"$f":"IF(referentes!Y539=\"\",\"\",referentes!Y539)","v":""},{"$f":"CONCATENATE(IF(referentes!Z539=\"\",\"\",referentes!Z539),IF(referentes!AA539=\"\",\"\",CONCATENATE(\" \",referentes!AA539)))","v":""}]
[null,null,null,null,null,null,null,null,null,null,null,null,null,null,null,"","",null,null,null,null,{"$f":"IF(referentes!Y540=\"\",\"\",referentes!Y540)","v":""},{"$f":"CONCATENATE(IF(referentes!Z540=\"\",\"\",referentes!Z540),IF(referentes!AA540=\"\",\"\",CONCATENATE(\" \",referentes!AA540)))","v":""}]
[null,null,null,null,null,null,null,null,null,null,null,null,null,null,null,"","",null,null,null,null,{"$f":"IF(referentes!Y541=\"\",\"\",referentes!Y541)","v":""},{"$f":"CONCATENATE(IF(referentes!Z541=\"\",\"\",referentes!Z541),IF(referentes!AA541=\"\",\"\",CONCATENATE(\" \",referentes!AA541)))","v":""}]
[null,null,null,null,null,null,null,null,null,null,null,null,null,null,null,"","",null,null,null,null,{"$f":"IF(referentes!Y542=\"\",\"\",referentes!Y542)","v":""},{"$f":"CONCATENATE(IF(referentes!Z542=\"\",\"\",referentes!Z542),IF(referentes!AA542=\"\",\"\",CONCATENATE(\" \",referentes!AA542)))","v":""}]
[null,null,null,null,null,null,null,null,null,null,null,null,null,null,null,"","",null,null,null,null,{"$f":"IF(referentes!Y543=\"\",\"\",referentes!Y543)","v":""},{"$f":"CONCATENATE(IF(referentes!Z543=\"\",\"\",referentes!Z543),IF(referentes!AA543=\"\",\"\",CONCATENATE(\" \",referentes!AA543)))","v":""}]
[null,null,null,null,null,null,null,null,null,null,null,null,null,null,null,"","",null,null,null,null,{"$f":"IF(referentes!Y544=\"\",\"\",referentes!Y544)","v":""},{"$f":"CONCATENATE(IF(referentes!Z544=\"\",\"\",referentes!Z544),IF(referentes!AA544=\"\",\"\",CONCATENATE(\" \",referentes!AA544)))","v":""}]
[null,null,null,null,null,null,null,null,null,null,null,null,null,null,null,"","",null,null,null,null,{"$f":"IF(referentes!Y545=\"\",\"\",referentes!Y545)","v":""},{"$f":"CONCATENATE(IF(referentes!Z545=\"\",\"\",referentes!Z545),IF(referentes!AA545=\"\",\"\",CONCATENATE(\" \",referentes!AA545)))","v":""}]
[null,null,null,null,null,null,null,null,null,null,null,null,null,null,null,"","",null,null,null,null,{"$f":"IF(referentes!Y546=\"\",\"\",referentes!Y546)","v":""},{"$f":"CONCATENATE(IF(referentes!Z546=\"\",\"\",referentes!Z546),IF(referentes!AA546=\"\",\"\",CONCATENATE(\" \",referentes!AA546)))","v":""}]
[null,null,null,null,null,null,null,null,null,null,null,null,null,null,null,"","",null,null,null,null,{"$f":"IF(referentes!Y547=\"\",\"\",referentes!Y547)","v":""},{"$f":"CONCATENATE(IF(referentes!Z547=\"\",\"\",referentes!Z547),IF(referentes!AA547=\"\",\"\",CONCATENATE(\" \",referentes!AA547)))","v":""}]
[null,null,null,null,null,null,null,null,null,null,null,null,null,null,null,"","",null,null,null,null,{"$f":"IF(referentes!Y548=\"\",\"\",referentes!Y548)","v":""},{"$f":"CONCATENATE(IF(referentes!Z548=\"\",\"\",referentes!Z548),IF(referentes!AA548=\"\",\"\",CONCATENATE(\" \",referentes!AA548)))","v":""}]
[null,null,null,null,null,null,null,null,null,null,null,null,null,null,null,"","",null,null,null,null,{"$f":"IF(referentes!Y549=\"\",\"\",referentes!Y549)","v":""},{"$f":"CONCATENATE(IF(referentes!Z549=\"\",\"\",referentes!Z549),IF(referentes!AA549=\"\",\"\",CONCATENATE(\" \",referentes!AA549)))","v":""}]
[null,null,null,null,null,null,null,null,null,null,null,null,null,null,null,"","",null,null,null,null,{"$f":"IF(referentes!Y550=\"\",\"\",referentes!Y550)","v":""},{"$f":"CONCATENATE(IF(referentes!Z550=\"\",\"\",referentes!Z550),IF(referentes!AA550=\"\",\"\",CONCATENATE(\" \",referentes!AA550)))","v":""}]
[null,null,null,null,null,null,null,null,null,null,null,null,null,null,null,"","",null,null,null,null,{"$f":"IF(referentes!Y551=\"\",\"\",referentes!Y551)","v":""},{"$f":"CONCATENATE(IF(referentes!Z551=\"\",\"\",referentes!Z551),IF(referentes!AA551=\"\",\"\",CONCATENATE(\" \",referentes!AA551)))","v":""}]
[null,null,null,null,null,null,null,null,null,null,null,null,null,null,null,"","",null,null,null,null,{"$f":"IF(referentes!Y552=\"\",\"\",referentes!Y552)","v":""},{"$f":"CONCATENATE(IF(referentes!Z552=\"\",\"\",referentes!Z552),IF(referentes!AA552=\"\",\"\",CONCATENATE(\" \",referentes!AA552)))","v":""}]
[null,null,null,null,null,null,null,null,null,null,null,null,null,null,null,"","",null,null,null,null,{"$f":"IF(referentes!Y553=\"\",\"\",referentes!Y553)","v":""},{"$f":"CONCATENATE(IF(referentes!Z553=\"\",\"\",referentes!Z553),IF(referentes!AA553=\"\",\"\",CONCATENATE(\" \",referentes!AA553)))","v":""}]
[null,null,null,null,null,null,null,null,null,null,null,null,null,null,null,"","",null,null,null,null,{"$f":"IF(referentes!Y554=\"\",\"\",referentes!Y554)","v":""},{"$f":"CONCATENATE(IF(referentes!Z554=\"\",\"\",referentes!Z554),IF(referentes!AA554=\"\",\"\",CONCATENATE(\" \",referentes!AA554)))","v":""}]
[null,null,null,null,null,null,null,null,null,null,null,null,null,null,null,"","",null,null,null,null,{"$f":"IF(referentes!Y555=\"\",\"\",referentes!Y555)","v":""},{"$f":"CONCATENATE(IF(referentes!Z555=\"\",\"\",referentes!Z555),IF(referentes!AA555=\"\",\"\",CONCATENATE(\" \",referentes!AA555)))","v":""}]
[null,null,null,null,null,null,null,null,null,null,null,null,null,null,null,"","",null,null,null,null,{"$f":"IF(referentes!Y556=\"\",\"\",referentes!Y556)","v":""},{"$f":"CONCATENATE(IF(referentes!Z556=\"\",\"\",referentes!Z556),IF(referentes!AA556=\"\",\"\",CONCATENATE(\" \",referentes!AA556)))","v":""}]
[null,null,null,null,null,null,null,null,null,null,null,null,null,null,null,"","",null,null,null,null,{"$f":"IF(referentes!Y557=\"\",\"\",referentes!Y557)","v":""},{"$f":"CONCATENATE(IF(referentes!Z557=\"\",\"\",referentes!Z557),IF(referentes!AA557=\"\",\"\",CONCATENATE(\" \",referentes!AA557)))","v":""}]
[null,null,null,null,null,null,null,null,null,null,null,null,null,null,null,"","",null,null,null,null,{"$f":"IF(referentes!Y558=\"\",\"\",referentes!Y558)","v":""},{"$f":"CONCATENATE(IF(referentes!Z558=\"\",\"\",referentes!Z558),IF(referentes!AA558=\"\",\"\",CONCATENATE(\" \",referentes!AA558)))","v":""}]
[null,null,null,null,null,null,null,null,null,null,null,null,null,null,null,"","",null,null,null,null,{"$f":"IF(referentes!Y559=\"\",\"\",referentes!Y559)","v":""},{"$f":"CONCATENATE(IF(referentes!Z559=\"\",\"\",referentes!Z559),IF(referentes!AA559=\"\",\"\",CONCATENATE(\" \",referentes!AA559)))","v":""}]
[null,null,null,null,null,null,null,null,null,null,null,null,null,null,null,"","",null,null,null,null,{"$f":"IF(referentes!Y560=\"\",\"\",referentes!Y560)","v":""},{"$f":"CONCATENATE(IF(referentes!Z560=\"\",\"\",referentes!Z560),IF(referentes!AA560=\"\",\"\",CONCATENATE(\" \",referentes!AA560)))","v":""}]
[null,null,null,null,null,null,null,null,null,null,null,null,null,null,null,"","",null,null,null,null,{"$f":"IF(referentes!Y561=\"\",\"\",referentes!Y561)","v":""},{"$f":"CONCATENATE(IF(referentes!Z561=\"\",\"\",referentes!Z561),IF(referentes!AA561=\"\",\"\",CONCATENATE(\" \",referentes!AA561)))","v":""}]
[null,null,null,null,null,null,null,null,null,null,null,null,null,null,null,"","",null,null,null,null,{"$f":"IF(referentes!Y562=\"\",\"\",referentes!Y562)","v":""},{"$f":"CONCATENATE(IF(referentes!Z562=\"\",\"\",referentes!Z562),IF(referentes!AA562=\"\",\"\",CONCATENATE(\" \",referentes!AA562)))","v":""}]
[null,null,null,null,null,null,null,null,null,null,null,null,null,null,null,"","",null,null,null,null,{"$f":"IF(referentes!Y563=\"\",\"\",referentes!Y563)","v":""},{"$f":"CONCATENATE(IF(referentes!Z563=\"\",\"\",referentes!Z563),IF(referentes!AA563=\"\",\"\",CONCATENATE(\" \",referentes!AA563)))","v":""}]
[null,null,null,null,null,null,null,null,null,null,null,null,null,null,null,"","",null,null,null,null,{"$f":"IF(referentes!Y564=\"\",\"\",referentes!Y564)","v":""},{"$f":"CONCATENATE(IF(referentes!Z564=\"\",\"\",referentes!Z564),IF(referentes!AA564=\"\",\"\",CONCATENATE(\" \",referentes!AA564)))","v":""}]
[null,null,null,null,null,null,null,null,null,null,null,null,null,null,null,"","",null,null,null,null,{"$f":"IF(referentes!Y565=\"\",\"\",referentes!Y565)","v":""},{"$f":"CONCATENATE(IF(referentes!Z565=\"\",\"\",referentes!Z565),IF(referentes!AA565=\"\",\"\",CONCATENATE(\" \",referentes!AA565)))","v":""}]
[null,null,null,null,null,null,null,null,null,null,null,null,null,null,null,"","",null,null,null,null,{"$f":"IF(referentes!Y566=\"\",\"\",referentes!Y566)","v":""},{"$f":"CONCATENATE(IF(referentes!Z566=\"\",\"\",referentes!Z566),IF(referentes!AA566=\"\",\"\",CONCATENATE(\" \",referentes!AA566)))","v":""}]
[null,null,null,null,null,null,null,null,null,null,null,null,null,null,null,"","",null,null,null,null,{"$f":"IF(referentes!Y567=\"\",\"\",referentes!Y567)","v":""},{"$f":"CONCATENATE(IF(referentes!Z567=\"\",\"\",referentes!Z567),IF(referentes!AA567=\"\",\"\",CONCATENATE(\" \",referentes!AA567)))","v":""}]
[null,null,null,null,null,null,null,null,null,null,null,null,null,null,null,"","",null,null,null,null,{"$f":"IF(referentes!Y568=\"\",\"\",referentes!Y568)","v":""},{"$f":"CONCATENATE(IF(referentes!Z568=\"\",\"\",referentes!Z568),IF(referentes!AA568=\"\",\"\",CONCATENATE(\" \",referentes!AA568)))","v":""}]
[null,null,null,null,null,null,null,null,null,null,null,null,null,null,null,"","",null,null,null,null,{"$f":"IF(referentes!Y569=\"\",\"\",referentes!Y569)","v":""},{"$f":"CONCATENATE(IF(referentes!Z569=\"\",\"\",referentes!Z569),IF(referentes!AA569=\"\",\"\",CONCATENATE(\" \",referentes!AA569)))","v":""}]
[null,null,null,null,null,null,null,null,null,null,null,null,null,null,null,"","",null,null,null,null,{"$f":"IF(referentes!Y570=\"\",\"\",referentes!Y570)","v":""},{"$f":"CONCATENATE(IF(referentes!Z570=\"\",\"\",referentes!Z570),IF(referentes!AA570=\"\",\"\",CONCATENATE(\" \",referentes!AA570)))","v":""}]
[null,null,null,null,null,null,null,null,null,null,null,null,null,null,null,"","",null,null,null,null,{"$f":"IF(referentes!Y571=\"\",\"\",referentes!Y571)","v":""},{"$f":"CONCATENATE(IF(referentes!Z571=\"\",\"\",referentes!Z571),IF(referentes!AA571=\"\",\"\",CONCATENATE(\" \",referentes!AA571)))","v":""}]
[null,null,null,null,null,null,null,null,null,null,null,null,null,null,null,"","",null,null,null,null,{"$f":"IF(referentes!Y572=\"\",\"\",referentes!Y572)","v":""},{"$f":"CONCATENATE(IF(referentes!Z572=\"\",\"\",referentes!Z572),IF(referentes!AA572=\"\",\"\",CONCATENATE(\" \",referentes!AA572)))","v":""}]
[null,null,null,null,null,null,null,null,null,null,null,null,null,null,null,"","",null,null,null,null,{"$f":"IF(referentes!Y573=\"\",\"\",referentes!Y573)","v":""},{"$f":"CONCATENATE(IF(referentes!Z573=\"\",\"\",referentes!Z573),IF(referentes!AA573=\"\",\"\",CONCATENATE(\" \",referentes!AA573)))","v":""}]
[null,null,null,null,null,null,null,null,null,null,null,null,null,null,null,"","",null,null,null,null,{"$f":"IF(referentes!Y574=\"\",\"\",referentes!Y574)","v":""},{"$f":"CONCATENATE(IF(referentes!Z574=\"\",\"\",referentes!Z574),IF(referentes!AA574=\"\",\"\",CONCATENATE(\" \",referentes!AA574)))","v":""}]
[null,null,null,null,null,null,null,null,null,null,null,null,null,null,null,"","",null,null,null,null,{"$f":"IF(referentes!Y575=\"\",\"\",referentes!Y575)","v":""},{"$f":"CONCATENATE(IF(referentes!Z575=\"\",\"\",referentes!Z575),IF(referentes!AA575=\"\",\"\",CONCATENATE(\" \",referentes!AA575)))","v":""}]
[null,null,null,null,null,null,null,null,null,null,null,null,null,null,null,"","",null,null,null,null,{"$f":"IF(referentes!Y576=\"\",\"\",referentes!Y576)","v":""},{"$f":"CONCATENATE(IF(referentes!Z576=\"\",\"\",referentes!Z576),IF(referentes!AA576=\"\",\"\",CONCATENATE(\" \",referentes!AA576)))","v":""}]
[null,null,null,null,null,null,null,null,null,null,null,null,null,null,null,"","",null,null,null,null,{"$f":"IF(referentes!Y577=\"\",\"\",referentes!Y577)","v":""},{"$f":"CONCATENATE(IF(referentes!Z577=\"\",\"\",referentes!Z577),IF(referentes!AA577=\"\",\"\",CONCATENATE(\" \",referentes!AA577)))","v":""}]
[null,null,null,null,null,null,null,null,null,null,null,null,null,null,null,"","",null,null,null,null,{"$f":"IF(referentes!Y578=\"\",\"\",referentes!Y578)","v":""},{"$f":"CONCATENATE(IF(referentes!Z578=\"\",\"\",referentes!Z578),IF(referentes!AA578=\"\",\"\",CONCATENATE(\" \",referentes!AA578)))","v":""}]
[null,null,null,null,null,null,null,null,null,null,null,null,null,null,null,"","",null,null,null,null,{"$f":"IF(referentes!Y579=\"\",\"\",referentes!Y579)","v":""},{"$f":"CONCATENATE(IF(referentes!Z579=\"\",\"\",referentes!Z579),IF(referentes!AA579=\"\",\"\",CONCATENATE(\" \",referentes!AA579)))","v":""}]
[null,null,null,null,null,null,null,null,null,null,null,null,null,null,null,"","",null,null,null,null,{"$f":"IF(referentes!Y580=\"\",\"\",referentes!Y580)","v":""},{"$f":"CONCATENATE(IF(referentes!Z580=\"\",\"\",referentes!Z580),IF(referentes!AA580=\"\",\"\",CONCATENATE(\" \",referentes!AA580)))","v":""}]
[null,null,null,null,null,null,null,null,null,null,null,null,null,null,null,"","",null,null,null,null,{"$f":"IF(referentes!Y581=\"\",\"\",referentes!Y581)","v":""},{"$f":"CONCATENATE(IF(referentes!Z581=\"\",\"\",referentes!Z581),IF(referentes!AA581=\"\",\"\",CONCATENATE(\" \",referentes!AA581)))","v":""}]
[null,null,null,null,null,null,null,null,null,null,null,null,null,null,null,"","",null,null,null,null,{"$f":"IF(referentes!Y582=\"\",\"\",referentes!Y582)","v":""},{"$f":"CONCATENATE(IF(referentes!Z582=\"\",\"\",referentes!Z582),IF(referentes!AA582=\"\",\"\",CONCATENATE(\" \",referentes!AA582)))","v":""}]
[null,null,null,null,null,null,null,null,null,null,null,null,null,null,null,"","",null,null,null,null,{"$f":"IF(referentes!Y583=\"\",\"\",referentes!Y583)","v":""},{"$f":"CONCATENATE(IF(referentes!Z583=\"\",\"\",referentes!Z583),IF(referentes!AA583=\"\",\"\",CONCATENATE(\" \",referentes!AA583)))","v":""}]
[null,null,null,null,null,null,null,null,null,null,null,null,null,null,null,"","",null,null,null,null,{"$f":"IF(referentes!Y584=\"\",\"\",referentes!Y584)","v":""},{"$f":"CONCATENATE(IF(referentes!Z584=\"\",\"\",referentes!Z584),IF(referentes!AA584=\"\",\"\",CONCATENATE(\" \",referentes!AA584)))","v":""}]
[null,null,null,null,null,null,null,null,null,null,null,null,null,null,null,"","",null,null,null,null,{"$f":"IF(referentes!Y585=\"\",\"\",referentes!Y585)","v":""},{"$f":"CONCATENATE(IF(referentes!Z585=\"\",\"\",referentes!Z585),IF(referentes!AA585=\"\",\"\",CONCATENATE(\" \",referentes!AA585)))","v":""}]
[null,null,null,null,null,null,null,null,null,null,null,null,null,null,null,"","",null,null,null,null,{"$f":"IF(referentes!Y586=\"\",\"\",referentes!Y586)","v":""},{"$f":"CONCATENATE(IF(referentes!Z586=\"\",\"\",referentes!Z586),IF(referentes!AA586=\"\",\"\",CONCATENATE(\" \",referentes!AA586)))","v":""}]
[null,null,null,null,null,null,null,null,null,null,null,null,null,null,null,"","",null,null,null,null,{"$f":"IF(referentes!Y587=\"\",\"\",referentes!Y587)","v":""},{"$f":"CONCATENATE(IF(referentes!Z587=\"\",\"\",referentes!Z587),IF(referentes!AA587=\"\",\"\",CONCATENATE(\" \",referentes!AA587)))","v":""}]
[null,null,null,null,null,null,null,null,null,null,null,null,null,null,null,"","",null,null,null,null,{"$f":"IF(referentes!Y588=\"\",\"\",referentes!Y588)","v":""},{"$f":"CONCATENATE(IF(referentes!Z588=\"\",\"\",referentes!Z588),IF(referentes!AA588=\"\",\"\",CONCATENATE(\" \",referentes!AA588)))","v":""}]
[null,null,null,null,null,null,null,null,null,null,null,null,null,null,null,"","",null,null,null,null,{"$f":"IF(referentes!Y589=\"\",\"\",referentes!Y589)","v":""},{"$f":"CONCATENATE(IF(referentes!Z589=\"\",\"\",referentes!Z589),IF(referentes!AA589=\"\",\"\",CONCATENATE(\" \",referentes!AA589)))","v":""}]
[null,null,null,null,null,null,null,null,null,null,null,null,null,null,null,"","",null,null,null,null,{"$f":"IF(referentes!Y590=\"\",\"\",referentes!Y590)","v":""},{"$f":"CONCATENATE(IF(referentes!Z590=\"\",\"\",referentes!Z590),IF(referentes!AA590=\"\",\"\",CONCATENATE(\" \",referentes!AA590)))","v":""}]
[null,null,null,null,null,null,null,null,null,null,null,null,null,null,null,"","",null,null,null,null,{"$f":"IF(referentes!Y591=\"\",\"\",referentes!Y591)","v":""},{"$f":"CONCATENATE(IF(referentes!Z591=\"\",\"\",referentes!Z591),IF(referentes!AA591=\"\",\"\",CONCATENATE(\" \",referentes!AA591)))","v":""}]
[null,null,null,null,null,null,null,null,null,null,null,null,null,null,null,"","",null,null,null,null,{"$f":"IF(referentes!Y592=\"\",\"\",referentes!Y592)","v":""},{"$f":"CONCATENATE(IF(referentes!Z592=\"\",\"\",referentes!Z592),IF(referentes!AA592=\"\",\"\",CONCATENATE(\" \",referentes!AA592)))","v":""}]
[null,null,null,null,null,null,null,null,null,null,null,null,null,null,null,"","",null,null,null,null,{"$f":"IF(referentes!Y593=\"\",\"\",referentes!Y593)","v":""},{"$f":"CONCATENATE(IF(referentes!Z593=\"\",\"\",referentes!Z593),IF(referentes!AA593=\"\",\"\",CONCATENATE(\" \",referentes!AA593)))","v":""}]
[null,null,null,null,null,null,null,null,null,null,null,null,null,null,null,"","",null,null,null,null,{"$f":"IF(referentes!Y594=\"\",\"\",referentes!Y594)","v":""},{"$f":"CONCATENATE(IF(referentes!Z594=\"\",\"\",referentes!Z594),IF(referentes!AA594=\"\",\"\",CONCATENATE(\" \",referentes!AA594)))","v":""}]
[null,null,null,null,null,null,null,null,null,null,null,null,null,null,null,"","",null,null,null,null,{"$f":"IF(referentes!Y595=\"\",\"\",referentes!Y595)","v":""},{"$f":"CONCATENATE(IF(referentes!Z595=\"\",\"\",referentes!Z595),IF(referentes!AA595=\"\",\"\",CONCATENATE(\" \",referentes!AA595)))","v":""}]
[null,null,null,null,null,null,null,null,null,null,null,null,null,null,null,"","",null,null,null,null,{"$f":"IF(referentes!Y596=\"\",\"\",referentes!Y596)","v":""},{"$f":"CONCATENATE(IF(referentes!Z596=\"\",\"\",referentes!Z596),IF(referentes!AA596=\"\",\"\",CONCATENATE(\" \",referentes!AA596)))","v":""}]
[null,null,null,null,null,null,null,null,null,null,null,null,null,null,null,"","",null,null,null,null,{"$f":"IF(referentes!Y597=\"\",\"\",referentes!Y597)","v":""},{"$f":"CONCATENATE(IF(referentes!Z597=\"\",\"\",referentes!Z597),IF(referentes!AA597=\"\",\"\",CONCATENATE(\" \",referentes!AA597)))","v":""}]
[null,null,null,null,null,null,null,null,null,null,null,null,null,null,null,"","",null,null,null,null,{"$f":"IF(referentes!Y598=\"\",\"\",referentes!Y598)","v":""},{"$f":"CONCATENATE(IF(referentes!Z598=\"\",\"\",referentes!Z598),IF(referentes!AA598=\"\",\"\",CONCATENATE(\" \",referentes!AA598)))","v":""}]
[null,null,null,null,null,null,null,null,null,null,null,null,null,null,null,"","",null,null,null,null,{"$f":"IF(referentes!Y599=\"\",\"\",referentes!Y599)","v":""},{"$f":"CONCATENATE(IF(referentes!Z599=\"\",\"\",referentes!Z599),IF(referentes!AA599=\"\",\"\",CONCATENATE(\" \",referentes!AA599)))","v":""}]
[null,null,null,null,null,null,null,null,null,null,null,null,null,null,null,"","",null,null,null,null,{"$f":"IF(referentes!Y600=\"\",\"\",referentes!Y600)","v":""},{"$f":"CONCATENATE(IF(referentes!Z600=\"\",\"\",referentes!Z600),IF(referentes!AA600=\"\",\"\",CONCATENATE(\" \",referentes!AA600)))","v":""}]
[null,null,null,null,null,null,null,null,null,null,null,null,null,null,null,"","",null,null,null,null,{"$f":"IF(referentes!Y601=\"\",\"\",referentes!Y601)","v":""},{"$f":"CONCATENATE(IF(referentes!Z601=\"\",\"\",referentes!Z601),IF(referentes!AA601=\"\",\"\",CONCATENATE(\" \",referentes!AA601)))","v":""}]
[null,null,null,null,null,null,null,null,null,null,null,null,null,null,null,"","",null,null,null,null,{"$f":"IF(referentes!Y602=\"\",\"\",referentes!Y602)","v":""},{"$f":"CONCATENATE(IF(referentes!Z602=\"\",\"\",referentes!Z602),IF(referentes!AA602=\"\",\"\",CONCATENATE(\" \",referentes!AA602)))","v":""}]
[null,null,null,null,null,null,null,null,null,null,null,null,null,null,null,"","",null,null,null,null,{"$f":"IF(referentes!Y603=\"\",\"\",referentes!Y603)","v":""},{"$f":"CONCATENATE(IF(referentes!Z603=\"\",\"\",referentes!Z603),IF(referentes!AA603=\"\",\"\",CONCATENATE(\" \",referentes!AA603)))","v":""}]
[null,null,null,null,null,null,null,null,null,null,null,null,null,null,null,"","",null,null,null,null,{"$f":"IF(referentes!Y604=\"\",\"\",referentes!Y604)","v":""},{"$f":"CONCATENATE(IF(referentes!Z604=\"\",\"\",referentes!Z604),IF(referentes!AA604=\"\",\"\",CONCATENATE(\" \",referentes!AA604)))","v":""}]
[null,null,null,null,null,null,null,null,null,null,null,null,null,null,null,"","",null,null,null,null,{"$f":"IF(referentes!Y605=\"\",\"\",referentes!Y605)","v":""},{"$f":"CONCATENATE(IF(referentes!Z605=\"\",\"\",referentes!Z605),IF(referentes!AA605=\"\",\"\",CONCATENATE(\" \",referentes!AA605)))","v":""}]
[null,null,null,null,null,null,null,null,null,null,null,null,null,null,null,"","",null,null,null,null,{"$f":"IF(referentes!Y606=\"\",\"\",referentes!Y606)","v":""},{"$f":"CONCATENATE(IF(referentes!Z606=\"\",\"\",referentes!Z606),IF(referentes!AA606=\"\",\"\",CONCATENATE(\" \",referentes!AA606)))","v":""}]
[null,null,null,null,null,null,null,null,null,null,null,null,null,null,null,"","",null,null,null,null,{"$f":"IF(referentes!Y607=\"\",\"\",referentes!Y607)","v":""},{"$f":"CONCATENATE(IF(referentes!Z607=\"\",\"\",referentes!Z607),IF(referentes!AA607=\"\",\"\",CONCATENATE(\" \",referentes!AA607)))","v":""}]
[null,null,null,null,null,null,null,null,null,null,null,null,null,null,null,"","",null,null,null,null,{"$f":"IF(referentes!Y608=\"\",\"\",referentes!Y608)","v":""},{"$f":"CONCATENATE(IF(referentes!Z608=\"\",\"\",referentes!Z608),IF(referentes!AA608=\"\",\"\",CONCATENATE(\" \",referentes!AA608)))","v":""}]
[null,null,null,null,null,null,null,null,null,null,null,null,null,null,null,"","",null,null,null,null,{"$f":"IF(referentes!Y609=\"\",\"\",referentes!Y609)","v":""},{"$f":"CONCATENATE(IF(referentes!Z609=\"\",\"\",referentes!Z609),IF(referentes!AA609=\"\",\"\",CONCATENATE(\" \",referentes!AA609)))","v":""}]
[null,null,null,null,null,null,null,null,null,null,null,null,null,null,null,"","",null,null,null,null,{"$f":"IF(referentes!Y610=\"\",\"\",referentes!Y610)","v":""},{"$f":"CONCATENATE(IF(referentes!Z610=\"\",\"\",referentes!Z610),IF(referentes!AA610=\"\",\"\",CONCATENATE(\" \",referentes!AA610)))","v":""}]
[null,null,null,null,null,null,null,null,null,null,null,null,null,null,null,"","",null,null,null,null,{"$f":"IF(referentes!Y611=\"\",\"\",referentes!Y611)","v":""},{"$f":"CONCATENATE(IF(referentes!Z611=\"\",\"\",referentes!Z611),IF(referentes!AA611=\"\",\"\",CONCATENATE(\" \",referentes!AA611)))","v":""}]
[null,null,null,null,null,null,null,null,null,null,null,null,null,null,null,"","",null,null,null,null,{"$f":"IF(referentes!Y612=\"\",\"\",referentes!Y612)","v":""},{"$f":"CONCATENATE(IF(referentes!Z612=\"\",\"\",referentes!Z612),IF(referentes!AA612=\"\",\"\",CONCATENATE(\" \",referentes!AA612)))","v":""}]
[null,null,null,null,null,null,null,null,null,null,null,null,null,null,null,"","",null,null,null,null,{"$f":"IF(referentes!Y613=\"\",\"\",referentes!Y613)","v":""},{"$f":"CONCATENATE(IF(referentes!Z613=\"\",\"\",referentes!Z613),IF(referentes!AA613=\"\",\"\",CONCATENATE(\" \",referentes!AA613)))","v":""}]
[null,null,null,null,null,null,null,null,null,null,null,null,null,null,null,"","",null,null,null,null,{"$f":"IF(referentes!Y614=\"\",\"\",referentes!Y614)","v":""},{"$f":"CONCATENATE(IF(referentes!Z614=\"\",\"\",referentes!Z614),IF(referentes!AA614=\"\",\"\",CONCATENATE(\" \",referentes!AA614)))","v":""}]
[null,null,null,null,null,null,null,null,null,null,null,null,null,null,null,"","",null,null,null,null,{"$f":"IF(referentes!Y615=\"\",\"\",referentes!Y615)","v":""},{"$f":"CONCATENATE(IF(referentes!Z615=\"\",\"\",referentes!Z615),IF(referentes!AA615=\"\",\"\",CONCATENATE(\" \",referentes!AA615)))","v":""}]
[null,null,null,null,null,null,null,null,null,null,null,null,null,null,null,"","",null,null,null,null,{"$f":"IF(referentes!Y616=\"\",\"\",referentes!Y616)","v":""},{"$f":"CONCATENATE(IF(referentes!Z616=\"\",\"\",referentes!Z616),IF(referentes!AA616=\"\",\"\",CONCATENATE(\" \",referentes!AA616)))","v":""}]
[null,null,null,null,null,null,null,null,null,null,null,null,null,null,null,"","",null,null,null,null,{"$f":"IF(referentes!Y617=\"\",\"\",referentes!Y617)","v":""},{"$f":"CONCATENATE(IF(referentes!Z617=\"\",\"\",referentes!Z617),IF(referentes!AA617=\"\",\"\",CONCATENATE(\" \",referentes!AA617)))","v":""}]
[null,null,null,null,null,null,null,null,null,null,null,null,null,null,null,"","",null,null,null,null,{"$f":"IF(referentes!Y618=\"\",\"\",referentes!Y618)","v":""},{"$f":"CONCATENATE(IF(referentes!Z618=\"\",\"\",referentes!Z618),IF(referentes!AA618=\"\",\"\",CONCATENATE(\" \",referentes!AA618)))","v":""}]
[null,null,null,null,null,null,null,null,null,null,null,null,null,null,null,"","",null,null,null,null,{"$f":"IF(referentes!Y619=\"\",\"\",referentes!Y619)","v":""},{"$f":"CONCATENATE(IF(referentes!Z619=\"\",\"\",referentes!Z619),IF(referentes!AA619=\"\",\"\",CONCATENATE(\" \",referentes!AA619)))","v":""}]
[null,null,null,null,null,null,null,null,null,null,null,null,null,null,null,"","",null,null,null,null,{"$f":"IF(referentes!Y620=\"\",\"\",referentes!Y620)","v":""},{"$f":"CONCATENATE(IF(referentes!Z620=\"\",\"\",referentes!Z620),IF(referentes!AA620=\"\",\"\",CONCATENATE(\" \",referentes!AA620)))","v":""}]
[null,null,null,null,null,null,null,null,null,null,null,null,null,null,null,"","",null,null,null,null,{"$f":"IF(referentes!Y621=\"\",\"\",referentes!Y621)","v":""},{"$f":"CONCATENATE(IF(referentes!Z621=\"\",\"\",referentes!Z621),IF(referentes!AA621=\"\",\"\",CONCATENATE(\" \",referentes!AA621)))","v":""}]
[null,null,null,null,null,null,null,null,null,null,null,null,null,null,null,"","",null,null,null,null,{"$f":"IF(referentes!Y622=\"\",\"\",referentes!Y622)","v":""},{"$f":"CONCATENATE(IF(referentes!Z622=\"\",\"\",referentes!Z622),IF(referentes!AA622=\"\",\"\",CONCATENATE(\" \",referentes!AA622)))","v":""}]
[null,null,null,null,null,null,null,null,null,null,null,null,null,null,null,"","",null,null,null,null,{"$f":"IF(referentes!Y623=\"\",\"\",referentes!Y623)","v":""},{"$f":"CONCATENATE(IF(referentes!Z623=\"\",\"\",referentes!Z623),IF(referentes!AA623=\"\",\"\",CONCATENATE(\" \",referentes!AA623)))","v":""}]
[null,null,null,null,null,null,null,null,null,null,null,null,null,null,null,"","",null,null,null,null,{"$f":"IF(referentes!Y624=\"\",\"\",referentes!Y624)","v":""},{"$f":"CONCATENATE(IF(referentes!Z624=\"\",\"\",referentes!Z624),IF(referentes!AA624=\"\",\"\",CONCATENATE(\" \",referentes!AA624)))","v":""}]
[null,null,null,null,null,null,null,null,null,null,null,null,null,null,null,"","",null,null,null,null,{"$f":"IF(referentes!Y625=\"\",\"\",referentes!Y625)","v":""},{"$f":"CONCATENATE(IF(referentes!Z625=\"\",\"\",referentes!Z625),IF(referentes!AA625=\"\",\"\",CONCATENATE(\" \",referentes!AA625)))","v":""}]
[null,null,null,null,null,null,null,null,null,null,null,null,null,null,null,"","",null,null,null,null,{"$f":"IF(referentes!Y626=\"\",\"\",referentes!Y626)","v":""},{"$f":"CONCATENATE(IF(referentes!Z626=\"\",\"\",referentes!Z626),IF(referentes!AA626=\"\",\"\",CONCATENATE(\" \",referentes!AA626)))","v":""}]
[null,null,null,null,null,null,null,null,null,null,null,null,null,null,null,"","",null,null,null,null,{"$f":"IF(referentes!Y627=\"\",\"\",referentes!Y627)","v":""},{"$f":"CONCATENATE(IF(referentes!Z627=\"\",\"\",referentes!Z627),IF(referentes!AA627=\"\",\"\",CONCATENATE(\" \",referentes!AA627)))","v":""}]
[null,null,null,null,null,null,null,null,null,null,null,null,null,null,null,"","",null,null,null,null,{"$f":"IF(referentes!Y628=\"\",\"\",referentes!Y628)","v":""},{"$f":"CONCATENATE(IF(referentes!Z628=\"\",\"\",referentes!Z628),IF(referentes!AA628=\"\",\"\",CONCATENATE(\" \",referentes!AA628)))","v":""}]
[null,null,null,null,null,null,null,null,null,null,null,null,null,null,null,"","",null,null,null,null,{"$f":"IF(referentes!Y629=\"\",\"\",referentes!Y629)","v":""},{"$f":"CONCATENATE(IF(referentes!Z629=\"\",\"\",referentes!Z629),IF(referentes!AA629=\"\",\"\",CONCATENATE(\" \",referentes!AA629)))","v":""}]
[null,null,null,null,null,null,null,null,null,null,null,null,null,null,null,"","",null,null,null,null,{"$f":"IF(referentes!Y630=\"\",\"\",referentes!Y630)","v":""},{"$f":"CONCATENATE(IF(referentes!Z630=\"\",\"\",referentes!Z630),IF(referentes!AA630=\"\",\"\",CONCATENATE(\" \",referentes!AA630)))","v":""}]
[null,null,null,null,null,null,null,null,null,null,null,null,null,null,null,"","",null,null,null,null,{"$f":"IF(referentes!Y631=\"\",\"\",referentes!Y631)","v":""},{"$f":"CONCATENATE(IF(referentes!Z631=\"\",\"\",referentes!Z631),IF(referentes!AA631=\"\",\"\",CONCATENATE(\" \",referentes!AA631)))","v":""}]
[null,null,null,null,null,null,null,null,null,null,null,null,null,null,null,"","",null,null,null,null,{"$f":"IF(referentes!Y632=\"\",\"\",referentes!Y632)","v":""},{"$f":"CONCATENATE(IF(referentes!Z632=\"\",\"\",referentes!Z632),IF(referentes!AA632=\"\",\"\",CONCATENATE(\" \",referentes!AA632)))","v":""}]
[null,null,null,null,null,null,null,null,null,null,null,null,null,null,null,"","",null,null,null,null,{"$f":"IF(referentes!Y633=\"\",\"\",referentes!Y633)","v":""},{"$f":"CONCATENATE(IF(referentes!Z633=\"\",\"\",referentes!Z633),IF(referentes!AA633=\"\",\"\",CONCATENATE(\" \",referentes!AA633)))","v":""}]
[null,null,null,null,null,null,null,null,null,null,null,null,null,null,null,"","",null,null,null,null,{"$f":"IF(referentes!Y634=\"\",\"\",referentes!Y634)","v":""},{"$f":"CONCATENATE(IF(referentes!Z634=\"\",\"\",referentes!Z634),IF(referentes!AA634=\"\",\"\",CONCATENATE(\" \",referentes!AA634)))","v":""}]
[null,null,null,null,null,null,null,null,null,null,null,null,null,null,null,"","",null,null,null,null,{"$f":"IF(referentes!Y635=\"\",\"\",referentes!Y635)","v":""},{"$f":"CONCATENATE(IF(referentes!Z635=\"\",\"\",referentes!Z635),IF(referentes!AA635=\"\",\"\",CONCATENATE(\" \",referentes!AA635)))","v":""}]
[null,null,null,null,null,null,null,null,null,null,null,null,null,null,null,"","",null,null,null,null,{"$f":"IF(referentes!Y636=\"\",\"\",referentes!Y636)","v":""},{"$f":"CONCATENATE(IF(referentes!Z636=\"\",\"\",referentes!Z636),IF(referentes!AA636=\"\",\"\",CONCATENATE(\" \",referentes!AA636)))","v":""}]
[null,null,null,null,null,null,null,null,null,null,null,null,null,null,null,"","",null,null,null,null,{"$f":"IF(referentes!Y637=\"\",\"\",referentes!Y637)","v":""},{"$f":"CONCATENATE(IF(referentes!Z637=\"\",\"\",referentes!Z637),IF(referentes!AA637=\"\",\"\",CONCATENATE(\" \",referentes!AA637)))","v":""}]
[null,null,null,null,null,null,null,null,null,null,null,null,null,null,null,"","",null,null,null,null,{"$f":"IF(referentes!Y638=\"\",\"\",referentes!Y638)","v":""},{"$f":"CONCATENATE(IF(referentes!Z638=\"\",\"\",referentes!Z638),IF(referentes!AA638=\"\",\"\",CONCATENATE(\" \",referentes!AA638)))","v":""}]
[null,null,null,null,null,null,null,null,null,null,null,null,null,null,null,"","",null,null,null,null,{"$f":"IF(referentes!Y639=\"\",\"\",referentes!Y639)","v":""},{"$f":"CONCATENATE(IF(referentes!Z639=\"\",\"\",referentes!Z639),IF(referentes!AA639=\"\",\"\",CONCATENATE(\" \",referentes!AA639)))","v":""}]
[null,null,null,null,null,null,null,null,null,null,null,null,null,null,null,"","",null,null,null,null,{"$f":"IF(referentes!Y640=\"\",\"\",referentes!Y640)","v":""},{"$f":"CONCATENATE(IF(referentes!Z640=\"\",\"\",referentes!Z640),IF(referentes!AA640=\"\",\"\",CONCATENATE(\" \",referentes!AA640)))","v":""}]
[null,null,null,null,null,null,null,null,null,null,null,null,null,null,null,"","",null,null,null,null,{"$f":"IF(referentes!Y641=\"\",\"\",referentes!Y641)","v":""},{"$f":"CONCATENATE(IF(referentes!Z641=\"\",\"\",referentes!Z641),IF(referentes!AA641=\"\",\"\",CONCATENATE(\" \",referentes!AA641)))","v":""}]
[null,null,null,null,null,null,null,null,null,null,null,null,null,null,null,"","",null,null,null,null,{"$f":"IF(referentes!Y642=\"\",\"\",referentes!Y642)","v":""},{"$f":"CONCATENATE(IF(referentes!Z642=\"\",\"\",referentes!Z642),IF(referentes!AA642=\"\",\"\",CONCATENATE(\" \",referentes!AA642)))","v":""}]
[null,null,null,null,null,null,null,null,null,null,null,null,null,null,null,"","",null,null,null,null,{"$f":"IF(referentes!Y643=\"\",\"\",referentes!Y643)","v":""},{"$f":"CONCATENATE(IF(referentes!Z643=\"\",\"\",referentes!Z643),IF(referentes!AA643=\"\",\"\",CONCATENATE(\" \",referentes!AA643)))","v":""}]
[null,null,null,null,null,null,null,null,null,null,null,null,null,null,null,"","",null,null,null,null,{"$f":"IF(referentes!Y644=\"\",\"\",referentes!Y644)","v":""},{"$f":"CONCATENATE(IF(referentes!Z644=\"\",\"\",referentes!Z644),IF(referentes!AA644=\"\",\"\",CONCATENATE(\" \",referentes!AA644)))","v":""}]
[null,null,null,null,null,null,null,null,null,null,null,null,null,null,null,"","",null,null,null,null,{"$f":"IF(referentes!Y645=\"\",\"\",referentes!Y645)","v":""},{"$f":"CONCATENATE(IF(referentes!Z645=\"\",\"\",referentes!Z645),IF(referentes!AA645=\"\",\"\",CONCATENATE(\" \",referentes!AA645)))","v":""}]
[null,null,null,null,null,null,null,null,null,null,null,null,null,null,null,"","",null,null,null,null,{"$f":"IF(referentes!Y646=\"\",\"\",referentes!Y646)","v":""},{"$f":"CONCATENATE(IF(referentes!Z646=\"\",\"\",referentes!Z646),IF(referentes!AA646=\"\",\"\",CONCATENATE(\" \",referentes!AA646)))","v":""}]
[null,null,null,null,null,null,null,null,null,null,null,null,null,null,null,"","",null,null,null,null,{"$f":"IF(referentes!Y647=\"\",\"\",referentes!Y647)","v":""},{"$f":"CONCATENATE(IF(referentes!Z647=\"\",\"\",referentes!Z647),IF(referentes!AA647=\"\",\"\",CONCATENATE(\" \",referentes!AA647)))","v":""}]
[null,null,null,null,null,null,null,null,null,null,null,null,null,null,null,"","",null,null,null,null,{"$f":"IF(referentes!Y648=\"\",\"\",referentes!Y648)","v":""},{"$f":"CONCATENATE(IF(referentes!Z648=\"\",\"\",referentes!Z648),IF(referentes!AA648=\"\",\"\",CONCATENATE(\" \",referentes!AA648)))","v":""}]
[null,null,null,null,null,null,null,null,null,null,null,null,null,null,null,"","",null,null,null,null,{"$f":"IF(referentes!Y649=\"\",\"\",referentes!Y649)","v":""},{"$f":"CONCATENATE(IF(referentes!Z649=\"\",\"\",referentes!Z649),IF(referentes!AA649=\"\",\"\",CONCATENATE(\" \",referentes!AA649)))","v":""}]
[null,null,null,null,null,null,null,null,null,null,null,null,null,null,null,"","",null,null,null,null,{"$f":"IF(referentes!Y650=\"\",\"\",referentes!Y650)","v":""},{"$f":"CONCATENATE(IF(referentes!Z650=\"\",\"\",referentes!Z650),IF(referentes!AA650=\"\",\"\",CONCATENATE(\" \",referentes!AA650)))","v":""}]
[null,null,null,null,null,null,null,null,null,null,null,null,null,null,null,"","",null,null,null,null,{"$f":"IF(referentes!Y651=\"\",\"\",referentes!Y651)","v":""},{"$f":"CONCATENATE(IF(referentes!Z651=\"\",\"\",referentes!Z651),IF(referentes!AA651=\"\",\"\",CONCATENATE(\" \",referentes!AA651)))","v":""}]
[null,null,null,null,null,null,null,null,null,null,null,null,null,null,null,"","",null,null,null,null,{"$f":"IF(referentes!Y652=\"\",\"\",referentes!Y652)","v":""},{"$f":"CONCATENATE(IF(referentes!Z652=\"\",\"\",referentes!Z652),IF(referentes!AA652=\"\",\"\",CONCATENATE(\" \",referentes!AA652)))","v":""}]
[null,null,null,null,null,null,null,null,null,null,null,null,null,null,null,"","",null,null,null,null,{"$f":"IF(referentes!Y653=\"\",\"\",referentes!Y653)","v":""},{"$f":"CONCATENATE(IF(referentes!Z653=\"\",\"\",referentes!Z653),IF(referentes!AA653=\"\",\"\",CONCATENATE(\" \",referentes!AA653)))","v":""}]
[null,null,null,null,null,null,null,null,null,null,null,null,null,null,null,"","",null,null,null,null,{"$f":"IF(referentes!Y654=\"\",\"\",referentes!Y654)","v":""},{"$f":"CONCATENATE(IF(referentes!Z654=\"\",\"\",referentes!Z654),IF(referentes!AA654=\"\",\"\",CONCATENATE(\" \",referentes!AA654)))","v":""}]
[null,null,null,null,null,null,null,null,null,null,null,null,null,null,null,"","",null,null,null,null,{"$f":"IF(referentes!Y655=\"\",\"\",referentes!Y655)","v":""},{"$f":"CONCATENATE(IF(referentes!Z655=\"\",\"\",referentes!Z655),IF(referentes!AA655=\"\",\"\",CONCATENATE(\" \",referentes!AA655)))","v":""}]
[null,null,null,null,null,null,null,null,null,null,null,null,null,null,null,"","",null,null,null,null,{"$f":"IF(referentes!Y656=\"\",\"\",referentes!Y656)","v":""},{"$f":"CONCATENATE(IF(referentes!Z656=\"\",\"\",referentes!Z656),IF(referentes!AA656=\"\",\"\",CONCATENATE(\" \",referentes!AA656)))","v":""}]
[null,null,null,null,null,null,null,null,null,null,null,null,null,null,null,"","",null,null,null,null,{"$f":"IF(referentes!Y657=\"\",\"\",referentes!Y657)","v":""},{"$f":"CONCATENATE(IF(referentes!Z657=\"\",\"\",referentes!Z657),IF(referentes!AA657=\"\",\"\",CONCATENATE(\" \",referentes!AA657)))","v":""}]
[null,null,null,null,null,null,null,null,null,null,null,null,null,null,null,"","",null,null,null,null,{"$f":"IF(referentes!Y658=\"\",\"\",referentes!Y658)","v":""},{"$f":"CONCATENATE(IF(referentes!Z658=\"\",\"\",referentes!Z658),IF(referentes!AA658=\"\",\"\",CONCATENATE(\" \",referentes!AA658)))","v":""}]
[null,null,null,null,null,null,null,null,null,null,null,null,null,null,null,"","",null,null,null,null,{"$f":"IF(referentes!Y659=\"\",\"\",referentes!Y659)","v":""},{"$f":"CONCATENATE(IF(referentes!Z659=\"\",\"\",referentes!Z659),IF(referentes!AA659=\"\",\"\",CONCATENATE(\" \",referentes!AA659)))","v":""}]
[null,null,null,null,null,null,null,null,null,null,null,null,null,null,null,"","",null,null,null,null,{"$f":"IF(referentes!Y660=\"\",\"\",referentes!Y660)","v":""},{"$f":"CONCATENATE(IF(referentes!Z660=\"\",\"\",referentes!Z660),IF(referentes!AA660=\"\",\"\",CONCATENATE(\" \",referentes!AA660)))","v":""}]
[null,null,null,null,null,null,null,null,null,null,null,null,null,null,null,"","",null,null,null,null,{"$f":"IF(referentes!Y661=\"\",\"\",referentes!Y661)","v":""},{"$f":"CONCATENATE(IF(referentes!Z661=\"\",\"\",referentes!Z661),IF(referentes!AA661=\"\",\"\",CONCATENATE(\" \",referentes!AA661)))","v":""}]
[null,null,null,null,null,null,null,null,null,null,null,null,null,null,null,"","",null,null,null,null,{"$f":"IF(referentes!Y662=\"\",\"\",referentes!Y662)","v":""},{"$f":"CONCATENATE(IF(referentes!Z662=\"\",\"\",referentes!Z662),IF(referentes!AA662=\"\",\"\",CONCATENATE(\" \",referentes!AA662)))","v":""}]
[null,null,null,null,null,null,null,null,null,null,null,null,null,null,null,"","",null,null,null,null,{"$f":"IF(referentes!Y663=\"\",\"\",referentes!Y663)","v":""},{"$f":"CONCATENATE(IF(referentes!Z663=\"\",\"\",referentes!Z663),IF(referentes!AA663=\"\",\"\",CONCATENATE(\" \",referentes!AA663)))","v":""}]
[null,null,null,null,null,null,null,null,null,null,null,null,null,null,null,"","",null,null,null,null,{"$f":"IF(referentes!Y664=\"\",\"\",referentes!Y664)","v":""},{"$f":"CONCATENATE(IF(referentes!Z664=\"\",\"\",referentes!Z664),IF(referentes!AA664=\"\",\"\",CONCATENATE(\" \",referentes!AA664)))","v":""}]
[null,null,null,null,null,null,null,null,null,null,null,null,null,null,null,"","",null,null,null,null,{"$f":"IF(referentes!Y665=\"\",\"\",referentes!Y665)","v":""},{"$f":"CONCATENATE(IF(referentes!Z665=\"\",\"\",referentes!Z665),IF(referentes!AA665=\"\",\"\",CONCATENATE(\" \",referentes!AA665)))","v":""}]
[null,null,null,null,null,null,null,null,null,null,null,null,null,null,null,"","",null,null,null,null,{"$f":"IF(referentes!Y666=\"\",\"\",referentes!Y666)","v":""},{"$f":"CONCATENATE(IF(referentes!Z666=\"\",\"\",referentes!Z666),IF(referentes!AA666=\"\",\"\",CONCATENATE(\" \",referentes!AA666)))","v":""}]
[null,null,null,null,null,null,null,null,null,null,null,null,null,null,null,"","",null,null,null,null,{"$f":"IF(referentes!Y667=\"\",\"\",referentes!Y667)","v":""},{"$f":"CONCATENATE(IF(referentes!Z667=\"\",\"\",referentes!Z667),IF(referentes!AA667=\"\",\"\",CONCATENATE(\" \",referentes!AA667)))","v":""}]
[null,null,null,null,null,null,null,null,null,null,null,null,null,null,null,"","",null,null,null,null,{"$f":"IF(referentes!Y668=\"\",\"\",referentes!Y668)","v":""},{"$f":"CONCATENATE(IF(referentes!Z668=\"\",\"\",referentes!Z668),IF(referentes!AA668=\"\",\"\",CONCATENATE(\" \",referentes!AA668)))","v":""}]
[null,null,null,null,null,null,null,null,null,null,null,null,null,null,null,"","",null,null,null,null,{"$f":"IF(referentes!Y669=\"\",\"\",referentes!Y669)","v":""},{"$f":"CONCATENATE(IF(referentes!Z669=\"\",\"\",referentes!Z669),IF(referentes!AA669=\"\",\"\",CONCATENATE(\" \",referentes!AA669)))","v":""}]
[null,null,null,null,null,null,null,null,null,null,null,null,null,null,null,"","",null,null,null,null,{"$f":"IF(referentes!Y670=\"\",\"\",referentes!Y670)","v":""},{"$f":"CONCATENATE(IF(referentes!Z670=\"\",\"\",referentes!Z670),IF(referentes!AA670=\"\",\"\",CONCATENATE(\" \",referentes!AA670)))","v":""}]
[null,null,null,null,null,null,null,null,null,null,null,null,null,null,null,"","",null,null,null,null,{"$f":"IF(referentes!Y671=\"\",\"\",referentes!Y671)","v":""},{"$f":"CONCATENATE(IF(referentes!Z671=\"\",\"\",referentes!Z671),IF(referentes!AA671=\"\",\"\",CONCATENATE(\" \",referentes!AA671)))","v":""}]
[null,null,null,null,null,null,null,null,null,null,null,null,null,null,null,"","",null,null,null,null,{"$f":"IF(referentes!Y672=\"\",\"\",referentes!Y672)","v":""},{"$f":"CONCATENATE(IF(referentes!Z672=\"\",\"\",referentes!Z672),IF(referentes!AA672=\"\",\"\",CONCATENATE(\" \",referentes!AA672)))","v":""}]
[null,null,null,null,null,null,null,null,null,null,null,null,null,null,null,"","",null,null,null,null,{"$f":"IF(referentes!Y673=\"\",\"\",referentes!Y673)","v":""},{"$f":"CONCATENATE(IF(referentes!Z673=\"\",\"\",referentes!Z673),IF(referentes!AA673=\"\",\"\",CONCATENATE(\" \",referentes!AA673)))","v":""}]
[null,null,null,null,null,null,null,null,null,null,null,null,null,null,null,"","",null,null,null,null,{"$f":"IF(referentes!Y674=\"\",\"\",referentes!Y674)","v":""},{"$f":"CONCATENATE(IF(referentes!Z674=\"\",\"\",referentes!Z674),IF(referentes!AA674=\"\",\"\",CONCATENATE(\" \",referentes!AA674)))","v":""}]
[null,null,null,null,null,null,null,null,null,null,null,null,null,null,null,"","",null,null,null,null,{"$f":"IF(referentes!Y675=\"\",\"\",referentes!Y675)","v":""},{"$f":"CONCATENATE(IF(referentes!Z675=\"\",\"\",referentes!Z675),IF(referentes!AA675=\"\",\"\",CONCATENATE(\" \",referentes!AA675)))","v":""}]
[null,null,null,null,null,null,null,null,null,null,null,null,null,null,null,"","",null,null,null,null,{"$f":"IF(referentes!Y676=\"\",\"\",referentes!Y676)","v":""},{"$f":"CONCATENATE(IF(referentes!Z676=\"\",\"\",referentes!Z676),IF(referentes!AA676=\"\",\"\",CONCATENATE(\" \",referentes!AA676)))","v":""}]
[null,null,null,null,null,null,null,null,null,null,null,null,null,null,null,"","",null,null,null,null,{"$f":"IF(referentes!Y677=\"\",\"\",referentes!Y677)","v":""},{"$f":"CONCATENATE(IF(referentes!Z677=\"\",\"\",referentes!Z677),IF(referentes!AA677=\"\",\"\",CONCATENATE(\" \",referentes!AA677)))","v":""}]
[null,null,null,null,null,null,null,null,null,null,null,null,null,null,null,"","",null,null,null,null,{"$f":"IF(referentes!Y678=\"\",\"\",referentes!Y678)","v":""},{"$f":"CONCATENATE(IF(referentes!Z678=\"\",\"\",referentes!Z678),IF(referentes!AA678=\"\",\"\",CONCATENATE(\" \",referentes!AA678)))","v":""}]
[null,null,null,null,null,null,null,null,null,null,null,null,null,null,null,"","",null,null,null,null,{"$f":"IF(referentes!Y679=\"\",\"\",referentes!Y679)","v":""},{"$f":"CONCATENATE(IF(referentes!Z679=\"\",\"\",referentes!Z679),IF(referentes!AA679=\"\",\"\",CONCATENATE(\" \",referentes!AA679)))","v":""}]
[null,null,null,null,null,null,null,null,null,null,null,null,null,null,null,"","",null,null,null,null,{"$f":"IF(referentes!Y680=\"\",\"\",referentes!Y680)","v":""},{"$f":"CONCATENATE(IF(referentes!Z680=\"\",\"\",referentes!Z680),IF(referentes!AA680=\"\",\"\",CONCATENATE(\" \",referentes!AA680)))","v":""}]
[null,null,null,null,null,null,null,null,null,null,null,null,null,null,null,"","",null,null,null,null,{"$f":"IF(referentes!Y681=\"\",\"\",referentes!Y681)","v":""},{"$f":"CONCATENATE(IF(referentes!Z681=\"\",\"\",referentes!Z681),IF(referentes!AA681=\"\",\"\",CONCATENATE(\" \",referentes!AA681)))","v":""}]
[null,null,null,null,null,null,null,null,null,null,null,null,null,null,null,"","",null,null,null,null,{"$f":"IF(referentes!Y682=\"\",\"\",referentes!Y682)","v":""},{"$f":"CONCATENATE(IF(referentes!Z682=\"\",\"\",referentes!Z682),IF(referentes!AA682=\"\",\"\",CONCATENATE(\" \",referentes!AA682)))","v":""}]
[null,null,null,null,null,null,null,null,null,null,null,null,null,null,null,"","",null,null,null,null,{"$f":"IF(referentes!Y683=\"\",\"\",referentes!Y683)","v":""},{"$f":"CONCATENATE(IF(referentes!Z683=\"\",\"\",referentes!Z683),IF(referentes!AA683=\"\",\"\",CONCATENATE(\" \",referentes!AA683)))","v":""}]
[null,null,null,null,null,null,null,null,null,null,null,null,null,null,null,"","",null,null,null,null,{"$f":"IF(referentes!Y684=\"\",\"\",referentes!Y684)","v":""},{"$f":"CONCATENATE(IF(referentes!Z684=\"\",\"\",referentes!Z684),IF(referentes!AA684=\"\",\"\",CONCATENATE(\" \",referentes!AA684)))","v":""}]
[null,null,null,null,null,null,null,null,null,null,null,null,null,null,null,"","",null,null,null,null,{"$f":"IF(referentes!Y685=\"\",\"\",referentes!Y685)","v":""},{"$f":"CONCATENATE(IF(referentes!Z685=\"\",\"\",referentes!Z685),IF(referentes!AA685=\"\",\"\",CONCATENATE(\" \",referentes!AA685)))","v":""}]
[null,null,null,null,null,null,null,null,null,null,null,null,null,null,null,"","",null,null,null,null,{"$f":"IF(referentes!Y686=\"\",\"\",referentes!Y686)","v":""},{"$f":"CONCATENATE(IF(referentes!Z686=\"\",\"\",referentes!Z686),IF(referentes!AA686=\"\",\"\",CONCATENATE(\" \",referentes!AA686)))","v":""}]
[null,null,null,null,null,null,null,null,null,null,null,null,null,null,null,"","",null,null,null,null,{"$f":"IF(referentes!Y687=\"\",\"\",referentes!Y687)","v":""},{"$f":"CONCATENATE(IF(referentes!Z687=\"\",\"\",referentes!Z687),IF(referentes!AA687=\"\",\"\",CONCATENATE(\" \",referentes!AA687)))","v":""}]
[null,null,null,null,null,null,null,null,null,null,null,null,null,null,null,"","",null,null,null,null,{"$f":"IF(referentes!Y688=\"\",\"\",referentes!Y688)","v":""},{"$f":"CONCATENATE(IF(referentes!Z688=\"\",\"\",referentes!Z688),IF(referentes!AA688=\"\",\"\",CONCATENATE(\" \",referentes!AA688)))","v":""}]
[null,null,null,null,null,null,null,null,null,null,null,null,null,null,null,"","",null,null,null,null,{"$f":"IF(referentes!Y689=\"\",\"\",referentes!Y689)","v":""},{"$f":"CONCATENATE(IF(referentes!Z689=\"\",\"\",referentes!Z689),IF(referentes!AA689=\"\",\"\",CONCATENATE(\" \",referentes!AA689)))","v":""}]
[null,null,null,null,null,null,null,null,null,null,null,null,null,null,null,"","",null,null,null,null,{"$f":"IF(referentes!Y690=\"\",\"\",referentes!Y690)","v":""},{"$f":"CONCATENATE(IF(referentes!Z690=\"\",\"\",referentes!Z690),IF(referentes!AA690=\"\",\"\",CONCATENATE(\" \",referentes!AA690)))","v":""}]
[null,null,null,null,null,null,null,null,null,null,null,null,null,null,null,"","",null,null,null,null,{"$f":"IF(referentes!Y691=\"\",\"\",referentes!Y691)","v":""},{"$f":"CONCATENATE(IF(referentes!Z691=\"\",\"\",referentes!Z691),IF(referentes!AA691=\"\",\"\",CONCATENATE(\" \",referentes!AA691)))","v":""}]
[null,null,null,null,null,null,null,null,null,null,null,null,null,null,null,"","",null,null,null,null,{"$f":"IF(referentes!Y692=\"\",\"\",referentes!Y692)","v":""},{"$f":"CONCATENATE(IF(referentes!Z692=\"\",\"\",referentes!Z692),IF(referentes!AA692=\"\",\"\",CONCATENATE(\" \",referentes!AA692)))","v":""}]
[null,null,null,null,null,null,null,null,null,null,null,null,null,null,null,"","",null,null,null,null,{"$f":"IF(referentes!Y693=\"\",\"\",referentes!Y693)","v":""},{"$f":"CONCATENATE(IF(referentes!Z693=\"\",\"\",referentes!Z693),IF(referentes!AA693=\"\",\"\",CONCATENATE(\" \",referentes!AA693)))","v":""}]
[null,null,null,null,null,null,null,null,null,null,null,null,null,null,null,"","",null,null,null,null,{"$f":"IF(referentes!Y694=\"\",\"\",referentes!Y694)","v":""},{"$f":"CONCATENATE(IF(referentes!Z694=\"\",\"\",referentes!Z694),IF(referentes!AA694=\"\",\"\",CONCATENATE(\" \",referentes!AA694)))","v":""}]
[null,null,null,null,null,null,null,null,null,null,null,null,null,null,null,"","",null,null,null,null,{"$f":"IF(referentes!Y695=\"\",\"\",referentes!Y695)","v":""},{"$f":"CONCATENATE(IF(referentes!Z695=\"\",\"\",referentes!Z695),IF(referentes!AA695=\"\",\"\",CONCATENATE(\" \",referentes!AA695)))","v":""}]
[null,null,null,null,null,null,null,null,null,null,null,null,null,null,null,"","",null,null,null,null,{"$f":"IF(referentes!Y696=\"\",\"\",referentes!Y696)","v":""},{"$f":"CONCATENATE(IF(referentes!Z696=\"\",\"\",referentes!Z696),IF(referentes!AA696=\"\",\"\",CONCATENATE(\" \",referentes!AA696)))","v":""}]
[null,null,null,null,null,null,null,null,null,null,null,null,null,null,null,"","",null,null,null,null,{"$f":"IF(referentes!Y697=\"\",\"\",referentes!Y697)","v":""},{"$f":"CONCATENATE(IF(referentes!Z697=\"\",\"\",referentes!Z697),IF(referentes!AA697=\"\",\"\",CONCATENATE(\" \",referentes!AA697)))","v":""}]
[null,null,null,null,null,null,null,null,null,null,null,null,null,null,null,"","",null,null,null,null,{"$f":"IF(referentes!Y698=\"\",\"\",referentes!Y698)","v":""},{"$f":"CONCATENATE(IF(referentes!Z698=\"\",\"\",referentes!Z698),IF(referentes!AA698=\"\",\"\",CONCATENATE(\" \",referentes!AA698)))","v":""}]
[null,null,null,null,null,null,null,null,null,null,null,null,null,null,null,"","",null,null,null,null,{"$f":"IF(referentes!Y699=\"\",\"\",referentes!Y699)","v":""},{"$f":"CONCATENATE(IF(referentes!Z699=\"\",\"\",referentes!Z699),IF(referentes!AA699=\"\",\"\",CONCATENATE(\" \",referentes!AA699)))","v":""}]
[null,null,null,null,null,null,null,null,null,null,null,null,null,null,null,"","",null,null,null,null,{"$f":"IF(referentes!Y700=\"\",\"\",referentes!Y700)","v":""},{"$f":"CONCATENATE(IF(referentes!Z700=\"\",\"\",referentes!Z700),IF(referentes!AA700=\"\",\"\",CONCATENATE(\" \",referentes!AA700)))","v":""}]
[null,null,null,null,null,null,null,null,null,null,null,null,null,null,null,"","",null,null,null,null,{"$f":"IF(referentes!Y701=\"\",\"\",referentes!Y701)","v":""},{"$f":"CONCATENATE(IF(referentes!Z701=\"\",\"\",referentes!Z701),IF(referentes!AA701=\"\",\"\",CONCATENATE(\" \",referentes!AA701)))","v":""}]
[null,null,null,null,null,null,null,null,null,null,null,null,null,null,null,"","",null,null,null,null,{"$f":"IF(referentes!Y702=\"\",\"\",referentes!Y702)","v":""},{"$f":"CONCATENATE(IF(referentes!Z702=\"\",\"\",referentes!Z702),IF(referentes!AA702=\"\",\"\",CONCATENATE(\" \",referentes!AA702)))","v":""}]
[null,null,null,null,null,null,null,null,null,null,null,null,null,null,null,"","",null,null,null,null,{"$f":"IF(referentes!Y703=\"\",\"\",referentes!Y703)","v":""},{"$f":"CONCATENATE(IF(referentes!Z703=\"\",\"\",referentes!Z703),IF(referentes!AA703=\"\",\"\",CONCATENATE(\" \",referentes!AA703)))","v":""}]
[null,null,null,null,null,null,null,null,null,null,null,null,null,null,null,"","",null,null,null,null,{"$f":"IF(referentes!Y704=\"\",\"\",referentes!Y704)","v":""},{"$f":"CONCATENATE(IF(referentes!Z704=\"\",\"\",referentes!Z704),IF(referentes!AA704=\"\",\"\",CONCATENATE(\" \",referentes!AA704)))","v":""}]
[null,null,null,null,null,null,null,null,null,null,null,null,null,null,null,"","",null,null,null,null,{"$f":"IF(referentes!Y705=\"\",\"\",referentes!Y705)","v":""},{"$f":"CONCATENATE(IF(referentes!Z705=\"\",\"\",referentes!Z705),IF(referentes!AA705=\"\",\"\",CONCATENATE(\" \",referentes!AA705)))","v":""}]
[null,null,null,null,null,null,null,null,null,null,null,null,null,null,null,"","",null,null,null,null,{"$f":"IF(referentes!Y706=\"\",\"\",referentes!Y706)","v":""},{"$f":"CONCATENATE(IF(referentes!Z706=\"\",\"\",referentes!Z706),IF(referentes!AA706=\"\",\"\",CONCATENATE(\" \",referentes!AA706)))","v":""}]
[null,null,null,null,null,null,null,null,null,null,null,null,null,null,null,"","",null,null,null,null,{"$f":"IF(referentes!Y707=\"\",\"\",referentes!Y707)","v":""},{"$f":"CONCATENATE(IF(referentes!Z707=\"\",\"\",referentes!Z707),IF(referentes!AA707=\"\",\"\",CONCATENATE(\" \",referentes!AA707)))","v":""}]
[null,null,null,null,null,null,null,null,null,null,null,null,null,null,null,"","",null,null,null,null,{"$f":"IF(referentes!Y708=\"\",\"\",referentes!Y708)","v":""},{"$f":"CONCATENATE(IF(referentes!Z708=\"\",\"\",referentes!Z708),IF(referentes!AA708=\"\",\"\",CONCATENATE(\" \",referentes!AA708)))","v":""}]
[null,null,null,null,null,null,null,null,null,null,null,null,null,null,null,"","",null,null,null,null,{"$f":"IF(referentes!Y709=\"\",\"\",referentes!Y709)","v":""},{"$f":"CONCATENATE(IF(referentes!Z709=\"\",\"\",referentes!Z709),IF(referentes!AA709=\"\",\"\",CONCATENATE(\" \",referentes!AA709)))","v":""}]
[null,null,null,null,null,null,null,null,null,null,null,null,null,null,null,"","",null,null,null,null,{"$f":"IF(referentes!Y710=\"\",\"\",referentes!Y710)","v":""},{"$f":"CONCATENATE(IF(referentes!Z710=\"\",\"\",referentes!Z710),IF(referentes!AA710=\"\",\"\",CONCATENATE(\" \",referentes!AA710)))","v":""}]
[null,null,null,null,null,null,null,null,null,null,null,null,null,null,null,"","",null,null,null,null,{"$f":"IF(referentes!Y711=\"\",\"\",referentes!Y711)","v":""},{"$f":"CONCATENATE(IF(referentes!Z711=\"\",\"\",referentes!Z711),IF(referentes!AA711=\"\",\"\",CONCATENATE(\" \",referentes!AA711)))","v":""}]
[null,null,null,null,null,null,null,null,null,null,null,null,null,null,null,"","",null,null,null,null,{"$f":"IF(referentes!Y712=\"\",\"\",referentes!Y712)","v":""},{"$f":"CONCATENATE(IF(referentes!Z712=\"\",\"\",referentes!Z712),IF(referentes!AA712=\"\",\"\",CONCATENATE(\" \",referentes!AA712)))","v":""}]
[null,null,null,null,null,null,null,null,null,null,null,null,null,null,null,"","",null,null,null,null,{"$f":"IF(referentes!Y713=\"\",\"\",referentes!Y713)","v":""},{"$f":"CONCATENATE(IF(referentes!Z713=\"\",\"\",referentes!Z713),IF(referentes!AA713=\"\",\"\",CONCATENATE(\" \",referentes!AA713)))","v":""}]
[null,null,null,null,null,null,null,null,null,null,null,null,null,null,null,"","",null,null,null,null,{"$f":"IF(referentes!Y714=\"\",\"\",referentes!Y714)","v":""},{"$f":"CONCATENATE(IF(referentes!Z714=\"\",\"\",referentes!Z714),IF(referentes!AA714=\"\",\"\",CONCATENATE(\" \",referentes!AA714)))","v":""}]
[null,null,null,null,null,null,null,null,null,null,null,null,null,null,null,"","",null,null,null,null,{"$f":"IF(referentes!Y715=\"\",\"\",referentes!Y715)","v":""},{"$f":"CONCATENATE(IF(referentes!Z715=\"\",\"\",referentes!Z715),IF(referentes!AA715=\"\",\"\",CONCATENATE(\" \",referentes!AA715)))","v":""}]
[null,null,null,null,null,null,null,null,null,null,null,null,null,null,null,"","",null,null,null,null,{"$f":"IF(referentes!Y716=\"\",\"\",referentes!Y716)","v":""},{"$f":"CONCATENATE(IF(referentes!Z716=\"\",\"\",referentes!Z716),IF(referentes!AA716=\"\",\"\",CONCATENATE(\" \",referentes!AA716)))","v":""}]
[null,null,null,null,null,null,null,null,null,null,null,null,null,null,null,"","",null,null,null,null,{"$f":"IF(referentes!Y717=\"\",\"\",referentes!Y717)","v":""},{"$f":"CONCATENATE(IF(referentes!Z717=\"\",\"\",referentes!Z717),IF(referentes!AA717=\"\",\"\",CONCATENATE(\" \",referentes!AA717)))","v":""}]
[null,null,null,null,null,null,null,null,null,null,null,null,null,null,null,"","",null,null,null,null,{"$f":"IF(referentes!Y718=\"\",\"\",referentes!Y718)","v":""},{"$f":"CONCATENATE(IF(referentes!Z718=\"\",\"\",referentes!Z718),IF(referentes!AA718=\"\",\"\",CONCATENATE(\" \",referentes!AA718)))","v":""}]
[null,null,null,null,null,null,null,null,null,null,null,null,null,null,null,"","",null,null,null,null,{"$f":"IF(referentes!Y719=\"\",\"\",referentes!Y719)","v":""},{"$f":"CONCATENATE(IF(referentes!Z719=\"\",\"\",referentes!Z719),IF(referentes!AA719=\"\",\"\",CONCATENATE(\" \",referentes!AA719)))","v":""}]
[null,null,null,null,null,null,null,null,null,null,null,null,null,null,null,"","",null,null,null,null,{"$f":"IF(referentes!Y720=\"\",\"\",referentes!Y720)","v":""},{"$f":"CONCATENATE(IF(referentes!Z720=\"\",\"\",referentes!Z720),IF(referentes!AA720=\"\",\"\",CONCATENATE(\" \",referentes!AA720)))","v":""}]
[null,null,null,null,null,null,null,null,null,null,null,null,null,null,null,"","",null,null,null,null,{"$f":"IF(referentes!Y721=\"\",\"\",referentes!Y721)","v":""},{"$f":"CONCATENATE(IF(referentes!Z721=\"\",\"\",referentes!Z721),IF(referentes!AA721=\"\",\"\",CONCATENATE(\" \",referentes!AA721)))","v":""}]
[null,null,null,null,null,null,null,null,null,null,null,null,null,null,null,"","",null,null,null,null,{"$f":"IF(referentes!Y722=\"\",\"\",referentes!Y722)","v":""},{"$f":"CONCATENATE(IF(referentes!Z722=\"\",\"\",referentes!Z722),IF(referentes!AA722=\"\",\"\",CONCATENATE(\" \",referentes!AA722)))","v":""}]
[null,null,null,null,null,null,null,null,null,null,null,null,null,null,null,"","",null,null,null,null,{"$f":"IF(referentes!Y723=\"\",\"\",referentes!Y723)","v":""},{"$f":"CONCATENATE(IF(referentes!Z723=\"\",\"\",referentes!Z723),IF(referentes!AA723=\"\",\"\",CONCATENATE(\" \",referentes!AA723)))","v":""}]
[null,null,null,null,null,null,null,null,null,null,null,null,null,null,null,"","",null,null,null,null,{"$f":"IF(referentes!Y724=\"\",\"\",referentes!Y724)","v":""},{"$f":"CONCATENATE(IF(referentes!Z724=\"\",\"\",referentes!Z724),IF(referentes!AA724=\"\",\"\",CONCATENATE(\" \",referentes!AA724)))","v":""}]
[null,null,null,null,null,null,null,null,null,null,null,null,null,null,null,"","",null,null,null,null,{"$f":"IF(referentes!Y725=\"\",\"\",referentes!Y725)","v":""},{"$f":"CONCATENATE(IF(referentes!Z725=\"\",\"\",referentes!Z725),IF(referentes!AA725=\"\",\"\",CONCATENATE(\" \",referentes!AA725)))","v":""}]
[null,null,null,null,null,null,null,null,null,null,null,null,null,null,null,"","",null,null,null,null,{"$f":"IF(referentes!Y726=\"\",\"\",referentes!Y726)","v":""},{"$f":"CONCATENATE(IF(referentes!Z726=\"\",\"\",referentes!Z726),IF(referentes!AA726=\"\",\"\",CONCATENATE(\" \",referentes!AA726)))","v":""}]
[null,null,null,null,null,null,null,null,null,null,null,null,null,null,null,"","",null,null,null,null,{"$f":"IF(referentes!Y727=\"\",\"\",referentes!Y727)","v":""},{"$f":"CONCATENATE(IF(referentes!Z727=\"\",\"\",referentes!Z727),IF(referentes!AA727=\"\",\"\",CONCATENATE(\" \",referentes!AA727)))","v":""}]
[null,null,null,null,null,null,null,null,null,null,null,null,null,null,null,"","",null,null,null,null,{"$f":"IF(referentes!Y728=\"\",\"\",referentes!Y728)","v":""},{"$f":"CONCATENATE(IF(referentes!Z728=\"\",\"\",referentes!Z728),IF(referentes!AA728=\"\",\"\",CONCATENATE(\" \",referentes!AA728)))","v":""}]
[null,null,null,null,null,null,null,null,null,null,null,null,null,null,null,"","",null,null,null,null,{"$f":"IF(referentes!Y729=\"\",\"\",referentes!Y729)","v":""},{"$f":"CONCATENATE(IF(referentes!Z729=\"\",\"\",referentes!Z729),IF(referentes!AA729=\"\",\"\",CONCATENATE(\" \",referentes!AA729)))","v":""}]
[null,null,null,null,null,null,null,null,null,null,null,null,null,null,null,"","",null,null,null,null,{"$f":"IF(referentes!Y730=\"\",\"\",referentes!Y730)","v":""},{"$f":"CONCATENATE(IF(referentes!Z730=\"\",\"\",referentes!Z730),IF(referentes!AA730=\"\",\"\",CONCATENATE(\" \",referentes!AA730)))","v":""}]
[null,null,null,null,null,null,null,null,null,null,null,null,null,null,null,"","",null,null,null,null,{"$f":"IF(referentes!Y731=\"\",\"\",referentes!Y731)","v":""},{"$f":"CONCATENATE(IF(referentes!Z731=\"\",\"\",referentes!Z731),IF(referentes!AA731=\"\",\"\",CONCATENATE(\" \",referentes!AA731)))","v":""}]
[null,null,null,null,null,null,null,null,null,null,null,null,null,null,null,"","",null,null,null,null,{"$f":"IF(referentes!Y732=\"\",\"\",referentes!Y732)","v":""},{"$f":"CONCATENATE(IF(referentes!Z732=\"\",\"\",referentes!Z732),IF(referentes!AA732=\"\",\"\",CONCATENATE(\" \",referentes!AA732)))","v":""}]
[null,null,null,null,null,null,null,null,null,null,null,null,null,null,null,"","",null,null,null,null,{"$f":"IF(referentes!Y733=\"\",\"\",referentes!Y733)","v":""},{"$f":"CONCATENATE(IF(referentes!Z733=\"\",\"\",referentes!Z733),IF(referentes!AA733=\"\",\"\",CONCATENATE(\" \",referentes!AA733)))","v":""}]
[null,null,null,null,null,null,null,null,null,null,null,null,null,null,null,"","",null,null,null,null,{"$f":"IF(referentes!Y734=\"\",\"\",referentes!Y734)","v":""},{"$f":"CONCATENATE(IF(referentes!Z734=\"\",\"\",referentes!Z734),IF(referentes!AA734=\"\",\"\",CONCATENATE(\" \",referentes!AA734)))","v":""}]
[null,null,null,null,null,null,null,null,null,null,null,null,null,null,null,"","",null,null,null,null,{"$f":"IF(referentes!Y735=\"\",\"\",referentes!Y735)","v":""},{"$f":"CONCATENATE(IF(referentes!Z735=\"\",\"\",referentes!Z735),IF(referentes!AA735=\"\",\"\",CONCATENATE(\" \",referentes!AA735)))","v":""}]
[null,null,null,null,null,null,null,null,null,null,null,null,null,null,null,"","",null,null,null,null,{"$f":"IF(referentes!Y736=\"\",\"\",referentes!Y736)","v":""},{"$f":"CONCATENATE(IF(referentes!Z736=\"\",\"\",referentes!Z736),IF(referentes!AA736=\"\",\"\",CONCATENATE(\" \",referentes!AA736)))","v":""}]
[null,null,null,null,null,null,null,null,null,null,null,null,null,null,null,"","",null,null,null,null,{"$f":"IF(referentes!Y737=\"\",\"\",referentes!Y737)","v":""},{"$f":"CONCATENATE(IF(referentes!Z737=\"\",\"\",referentes!Z737),IF(referentes!AA737=\"\",\"\",CONCATENATE(\" \",referentes!AA737)))","v":""}]
[null,null,null,null,null,null,null,null,null,null,null,null,null,null,null,"","",null,null,null,null,{"$f":"IF(referentes!Y738=\"\",\"\",referentes!Y738)","v":""},{"$f":"CONCATENATE(IF(referentes!Z738=\"\",\"\",referentes!Z738),IF(referentes!AA738=\"\",\"\",CONCATENATE(\" \",referentes!AA738)))","v":""}]
[null,null,null,null,null,null,null,null,null,null,null,null,null,null,null,"","",null,null,null,null,{"$f":"IF(referentes!Y739=\"\",\"\",referentes!Y739)","v":""},{"$f":"CONCATENATE(IF(referentes!Z739=\"\",\"\",referentes!Z739),IF(referentes!AA739=\"\",\"\",CONCATENATE(\" \",referentes!AA739)))","v":""}]
[null,null,null,null,null,null,null,null,null,null,null,null,null,null,null,"","",null,null,null,null,{"$f":"IF(referentes!Y740=\"\",\"\",referentes!Y740)","v":""},{"$f":"CONCATENATE(IF(referentes!Z740=\"\",\"\",referentes!Z740),IF(referentes!AA740=\"\",\"\",CONCATENATE(\" \",referentes!AA740)))","v":""}]
[null,null,null,null,null,null,null,null,null,null,null,null,null,null,null,"","",null,null,null,null,{"$f":"IF(referentes!Y741=\"\",\"\",referentes!Y741)","v":""},{"$f":"CONCATENATE(IF(referentes!Z741=\"\",\"\",referentes!Z741),IF(referentes!AA741=\"\",\"\",CONCATENATE(\" \",referentes!AA741)))","v":""}]
[null,null,null,null,null,null,null,null,null,null,null,null,null,null,null,"","",null,null,null,null,{"$f":"IF(referentes!Y742=\"\",\"\",referentes!Y742)","v":""},{"$f":"CONCATENATE(IF(referentes!Z742=\"\",\"\",referentes!Z742),IF(referentes!AA742=\"\",\"\",CONCATENATE(\" \",referentes!AA742)))","v":""}]
[null,null,null,null,null,null,null,null,null,null,null,null,null,null,null,"","",null,null,null,null,{"$f":"IF(referentes!Y743=\"\",\"\",referentes!Y743)","v":""},{"$f":"CONCATENATE(IF(referentes!Z743=\"\",\"\",referentes!Z743),IF(referentes!AA743=\"\",\"\",CONCATENATE(\" \",referentes!AA743)))","v":""}]
[null,null,null,null,null,null,null,null,null,null,null,null,null,null,null,"","",null,null,null,null,{"$f":"IF(referentes!Y744=\"\",\"\",referentes!Y744)","v":""},{"$f":"CONCATENATE(IF(referentes!Z744=\"\",\"\",referentes!Z744),IF(referentes!AA744=\"\",\"\",CONCATENATE(\" \",referentes!AA744)))","v":""}]
[null,null,null,null,null,null,null,null,null,null,null,null,null,null,null,"","",null,null,null,null,{"$f":"IF(referentes!Y745=\"\",\"\",referentes!Y745)","v":""},{"$f":"CONCATENATE(IF(referentes!Z745=\"\",\"\",referentes!Z745),IF(referentes!AA745=\"\",\"\",CONCATENATE(\" \",referentes!AA745)))","v":""}]
[null,null,null,null,null,null,null,null,null,null,null,null,null,null,null,"","",null,null,null,null,{"$f":"IF(referentes!Y746=\"\",\"\",referentes!Y746)","v":""},{"$f":"CONCATENATE(IF(referentes!Z746=\"\",\"\",referentes!Z746),IF(referentes!AA746=\"\",\"\",CONCATENATE(\" \",referentes!AA746)))","v":""}]
[null,null,null,null,null,null,null,null,null,null,null,null,null,null,null,"","",null,null,null,null,{"$f":"IF(referentes!Y747=\"\",\"\",referentes!Y747)","v":""},{"$f":"CONCATENATE(IF(referentes!Z747=\"\",\"\",referentes!Z747),IF(referentes!AA747=\"\",\"\",CONCATENATE(\" \",referentes!AA747)))","v":""}]
[null,null,null,null,null,null,null,null,null,null,null,null,null,null,null,"","",null,null,null,null,{"$f":"IF(referentes!Y748=\"\",\"\",referentes!Y748)","v":""},{"$f":"CONCATENATE(IF(referentes!Z748=\"\",\"\",referentes!Z748),IF(referentes!AA748=\"\",\"\",CONCATENATE(\" \",referentes!AA748)))","v":""}]
[null,null,null,null,null,null,null,null,null,null,null,null,null,null,null,"","",null,null,null,null,{"$f":"IF(referentes!Y749=\"\",\"\",referentes!Y749)","v":""},{"$f":"CONCATENATE(IF(referentes!Z749=\"\",\"\",referentes!Z749),IF(referentes!AA749=\"\",\"\",CONCATENATE(\" \",referentes!AA749)))","v":""}]
[null,null,null,null,null,null,null,null,null,null,null,null,null,null,null,"","",null,null,null,null,{"$f":"IF(referentes!Y750=\"\",\"\",referentes!Y750)","v":""},{"$f":"CONCATENATE(IF(referentes!Z750=\"\",\"\",referentes!Z750),IF(referentes!AA750=\"\",\"\",CONCATENATE(\" \",referentes!AA750)))","v":""}]
[null,null,null,null,null,null,null,null,null,null,null,null,null,null,null,"","",null,null,null,null,{"$f":"IF(referentes!Y751=\"\",\"\",referentes!Y751)","v":""},{"$f":"CONCATENATE(IF(referentes!Z751=\"\",\"\",referentes!Z751),IF(referentes!AA751=\"\",\"\",CONCATENATE(\" \",referentes!AA751)))","v":""}]
[null,null,null,null,null,null,null,null,null,null,null,null,null,null,null,"","",null,null,null,null,{"$f":"IF(referentes!Y752=\"\",\"\",referentes!Y752)","v":""},{"$f":"CONCATENATE(IF(referentes!Z752=\"\",\"\",referentes!Z752),IF(referentes!AA752=\"\",\"\",CONCATENATE(\" \",referentes!AA752)))","v":""}]
[null,null,null,null,null,null,null,null,null,null,null,null,null,null,null,"","",null,null,null,null,{"$f":"IF(referentes!Y753=\"\",\"\",referentes!Y753)","v":""},{"$f":"CONCATENATE(IF(referentes!Z753=\"\",\"\",referentes!Z753),IF(referentes!AA753=\"\",\"\",CONCATENATE(\" \",referentes!AA753)))","v":""}]
[null,null,null,null,null,null,null,null,null,null,null,null,null,null,null,"","",null,null,null,null,{"$f":"IF(referentes!Y754=\"\",\"\",referentes!Y754)","v":""},{"$f":"CONCATENATE(IF(referentes!Z754=\"\",\"\",referentes!Z754),IF(referentes!AA754=\"\",\"\",CONCATENATE(\" \",referentes!AA754)))","v":""}]
[null,null,null,null,null,null,null,null,null,null,null,null,null,null,null,"","",null,null,null,null,{"$f":"IF(referentes!Y755=\"\",\"\",referentes!Y755)","v":""},{"$f":"CONCATENATE(IF(referentes!Z755=\"\",\"\",referentes!Z755),IF(referentes!AA755=\"\",\"\",CONCATENATE(\" \",referentes!AA755)))","v":""}]
[null,null,null,null,null,null,null,null,null,null,null,null,null,null,null,"","",null,null,null,null,{"$f":"IF(referentes!Y756=\"\",\"\",referentes!Y756)","v":""},{"$f":"CONCATENATE(IF(referentes!Z756=\"\",\"\",referentes!Z756),IF(referentes!AA756=\"\",\"\",CONCATENATE(\" \",referentes!AA756)))","v":""}]
[null,null,null,null,null,null,null,null,null,null,null,null,null,null,null,"","",null,null,null,null,{"$f":"IF(referentes!Y757=\"\",\"\",referentes!Y757)","v":""},{"$f":"CONCATENATE(IF(referentes!Z757=\"\",\"\",referentes!Z757),IF(referentes!AA757=\"\",\"\",CONCATENATE(\" \",referentes!AA757)))","v":""}]
[null,null,null,null,null,null,null,null,null,null,null,null,null,null,null,"","",null,null,null,null,{"$f":"IF(referentes!Y758=\"\",\"\",referentes!Y758)","v":""},{"$f":"CONCATENATE(IF(referentes!Z758=\"\",\"\",referentes!Z758),IF(referentes!AA758=\"\",\"\",CONCATENATE(\" \",referentes!AA758)))","v":""}]
[null,null,null,null,null,null,null,null,null,null,null,null,null,null,null,"","",null,null,null,null,{"$f":"IF(referentes!Y759=\"\",\"\",referentes!Y759)","v":""},{"$f":"CONCATENATE(IF(referentes!Z759=\"\",\"\",referentes!Z759),IF(referentes!AA759=\"\",\"\",CONCATENATE(\" \",referentes!AA759)))","v":""}]
[null,null,null,null,null,null,null,null,null,null,null,null,null,null,null,"","",null,null,null,null,{"$f":"IF(referentes!Y760=\"\",\"\",referentes!Y760)","v":""},{"$f":"CONCATENATE(IF(referentes!Z760=\"\",\"\",referentes!Z760),IF(referentes!AA760=\"\",\"\",CONCATENATE(\" \",referentes!AA760)))","v":""}]
[null,null,null,null,null,null,null,null,null,null,null,null,null,null,null,"","",null,null,null,null,{"$f":"IF(referentes!Y761=\"\",\"\",referentes!Y761)","v":""},{"$f":"CONCATENATE(IF(referentes!Z761=\"\",\"\",referentes!Z761),IF(referentes!AA761=\"\",\"\",CONCATENATE(\" \",referentes!AA761)))","v":""}]
[null,null,null,null,null,null,null,null,null,null,null,null,null,null,null,"","",null,null,null,null,{"$f":"IF(referentes!Y762=\"\",\"\",referentes!Y762)","v":""},{"$f":"CONCATENATE(IF(referentes!Z762=\"\",\"\",referentes!Z762),IF(referentes!AA762=\"\",\"\",CONCATENATE(\" \",referentes!AA762)))","v":""}]
[null,null,null,null,null,null,null,null,null,null,null,null,null,null,null,"","",null,null,null,null,{"$f":"IF(referentes!Y763=\"\",\"\",referentes!Y763)","v":""},{"$f":"CONCATENATE(IF(referentes!Z763=\"\",\"\",referentes!Z763),IF(referentes!AA763=\"\",\"\",CONCATENATE(\" \",referentes!AA763)))","v":""}]
[null,null,null,null,null,null,null,null,null,null,null,null,null,null,null,"","",null,null,null,null,{"$f":"IF(referentes!Y764=\"\",\"\",referentes!Y764)","v":""},{"$f":"CONCATENATE(IF(referentes!Z764=\"\",\"\",referentes!Z764),IF(referentes!AA764=\"\",\"\",CONCATENATE(\" \",referentes!AA764)))","v":""}]
[null,null,null,null,null,null,null,null,null,null,null,null,null,null,null,"","",null,null,null,null,{"$f":"IF(referentes!Y765=\"\",\"\",referentes!Y765)","v":""},{"$f":"CONCATENATE(IF(referentes!Z765=\"\",\"\",referentes!Z765),IF(referentes!AA765=\"\",\"\",CONCATENATE(\" \",referentes!AA765)))","v":""}]
[null,null,null,null,null,null,null,null,null,null,null,null,null,null,null,"","",null,null,null,null,{"$f":"IF(referentes!Y766=\"\",\"\",referentes!Y766)","v":""},{"$f":"CONCATENATE(IF(referentes!Z766=\"\",\"\",referentes!Z766),IF(referentes!AA766=\"\",\"\",CONCATENATE(\" \",referentes!AA766)))","v":""}]
[null,null,null,null,null,null,null,null,null,null,null,null,null,null,null,"","",null,null,null,null,{"$f":"IF(referentes!Y767=\"\",\"\",referentes!Y767)","v":""},{"$f":"CONCATENATE(IF(referentes!Z767=\"\",\"\",referentes!Z767),IF(referentes!AA767=\"\",\"\",CONCATENATE(\" \",referentes!AA767)))","v":""}]
[null,null,null,null,null,null,null,null,null,null,null,null,null,null,null,"","",null,null,null,null,{"$f":"IF(referentes!Y768=\"\",\"\",referentes!Y768)","v":""},{"$f":"CONCATENATE(IF(referentes!Z768=\"\",\"\",referentes!Z768),IF(referentes!AA768=\"\",\"\",CONCATENATE(\" \",referentes!AA768)))","v":""}]
[null,null,null,null,null,null,null,null,null,null,null,null,null,null,null,"","",null,null,null,null,{"$f":"IF(referentes!Y769=\"\",\"\",referentes!Y769)","v":""},{"$f":"CONCATENATE(IF(referentes!Z769=\"\",\"\",referentes!Z769),IF(referentes!AA769=\"\",\"\",CONCATENATE(\" \",referentes!AA769)))","v":""}]
[null,null,null,null,null,null,null,null,null,null,null,null,null,null,null,"","",null,null,null,null,{"$f":"IF(referentes!Y770=\"\",\"\",referentes!Y770)","v":""},{"$f":"CONCATENATE(IF(referentes!Z770=\"\",\"\",referentes!Z770),IF(referentes!AA770=\"\",\"\",CONCATENATE(\" \",referentes!AA770)))","v":""}]
[null,null,null,null,null,null,null,null,null,null,null,null,null,null,null,"","",null,null,null,null,{"$f":"IF(referentes!Y771=\"\",\"\",referentes!Y771)","v":""},{"$f":"CONCATENATE(IF(referentes!Z771=\"\",\"\",referentes!Z771),IF(referentes!AA771=\"\",\"\",CONCATENATE(\" \",referentes!AA771)))","v":""}]
[null,null,null,null,null,null,null,null,null,null,null,null,null,null,null,"","",null,null,null,null,{"$f":"IF(referentes!Y772=\"\",\"\",referentes!Y772)","v":""},{"$f":"CONCATENATE(IF(referentes!Z772=\"\",\"\",referentes!Z772),IF(referentes!AA772=\"\",\"\",CONCATENATE(\" \",referentes!AA772)))","v":""}]
[null,null,null,null,null,null,null,null,null,null,null,null,null,null,null,"","",null,null,null,null,{"$f":"IF(referentes!Y773=\"\",\"\",referentes!Y773)","v":""},{"$f":"CONCATENATE(IF(referentes!Z773=\"\",\"\",referentes!Z773),IF(referentes!AA773=\"\",\"\",CONCATENATE(\" \",referentes!AA773)))","v":""}]
[null,null,null,null,null,null,null,null,null,null,null,null,null,null,null,"","",null,null,null,null,{"$f":"IF(referentes!Y774=\"\",\"\",referentes!Y774)","v":""},{"$f":"CONCATENATE(IF(referentes!Z774=\"\",\"\",referentes!Z774),IF(referentes!AA774=\"\",\"\",CONCATENATE(\" \",referentes!AA774)))","v":""}]
[null,null,null,null,null,null,null,null,null,null,null,null,null,null,null,"","",null,null,null,null,{"$f":"IF(referentes!Y775=\"\",\"\",referentes!Y775)","v":""},{"$f":"CONCATENATE(IF(referentes!Z775=\"\",\"\",referentes!Z775),IF(referentes!AA775=\"\",\"\",CONCATENATE(\" \",referentes!AA775)))","v":""}]
[null,null,null,null,null,null,null,null,null,null,null,null,null,null,null,"","",null,null,null,null,{"$f":"IF(referentes!Y776=\"\",\"\",referentes!Y776)","v":""},{"$f":"CONCATENATE(IF(referentes!Z776=\"\",\"\",referentes!Z776),IF(referentes!AA776=\"\",\"\",CONCATENATE(\" \",referentes!AA776)))","v":""}]
[null,null,null,null,null,null,null,null,null,null,null,null,null,null,null,"","",null,null,null,null,{"$f":"IF(referentes!Y777=\"\",\"\",referentes!Y777)","v":""},{"$f":"CONCATENATE(IF(referentes!Z777=\"\",\"\",referentes!Z777),IF(referentes!AA777=\"\",\"\",CONCATENATE(\" \",referentes!AA777)))","v":""}]
[null,null,null,null,null,null,null,null,null,null,null,null,null,null,null,"","",null,null,null,null,{"$f":"IF(referentes!Y778=\"\",\"\",referentes!Y778)","v":""},{"$f":"CONCATENATE(IF(referentes!Z778=\"\",\"\",referentes!Z778),IF(referentes!AA778=\"\",\"\",CONCATENATE(\" \",referentes!AA778)))","v":""}]
[null,null,null,null,null,null,null,null,null,null,null,null,null,null,null,"","",null,null,null,null,{"$f":"IF(referentes!Y779=\"\",\"\",referentes!Y779)","v":""},{"$f":"CONCATENATE(IF(referentes!Z779=\"\",\"\",referentes!Z779),IF(referentes!AA779=\"\",\"\",CONCATENATE(\" \",referentes!AA779)))","v":""}]
[null,null,null,null,null,null,null,null,null,null,null,null,null,null,null,"","",null,null,null,null,{"$f":"IF(referentes!Y780=\"\",\"\",referentes!Y780)","v":""},{"$f":"CONCATENATE(IF(referentes!Z780=\"\",\"\",referentes!Z780),IF(referentes!AA780=\"\",\"\",CONCATENATE(\" \",referentes!AA780)))","v":""}]
[null,null,null,null,null,null,null,null,null,null,null,null,null,null,null,"","",null,null,null,null,{"$f":"IF(referentes!Y781=\"\",\"\",referentes!Y781)","v":""},{"$f":"CONCATENATE(IF(referentes!Z781=\"\",\"\",referentes!Z781),IF(referentes!AA781=\"\",\"\",CONCATENATE(\" \",referentes!AA781)))","v":""}]
[null,null,null,null,null,null,null,null,null,null,null,null,null,null,null,"","",null,null,null,null,{"$f":"IF(referentes!Y782=\"\",\"\",referentes!Y782)","v":""},{"$f":"CONCATENATE(IF(referentes!Z782=\"\",\"\",referentes!Z782),IF(referentes!AA782=\"\",\"\",CONCATENATE(\" \",referentes!AA782)))","v":""}]
[null,null,null,null,null,null,null,null,null,null,null,null,null,null,null,"","",null,null,null,null,{"$f":"IF(referentes!Y783=\"\",\"\",referentes!Y783)","v":""},{"$f":"CONCATENATE(IF(referentes!Z783=\"\",\"\",referentes!Z783),IF(referentes!AA783=\"\",\"\",CONCATENATE(\" \",referentes!AA783)))","v":""}]
[null,null,null,null,null,null,null,null,null,null,null,null,null,null,null,"","",null,null,null,null,{"$f":"IF(referentes!Y784=\"\",\"\",referentes!Y784)","v":""},{"$f":"CONCATENATE(IF(referentes!Z784=\"\",\"\",referentes!Z784),IF(referentes!AA784=\"\",\"\",CONCATENATE(\" \",referentes!AA784)))","v":""}]
[null,null,null,null,null,null,null,null,null,null,null,null,null,null,null,"","",null,null,null,null,{"$f":"IF(referentes!Y785=\"\",\"\",referentes!Y785)","v":""},{"$f":"CONCATENATE(IF(referentes!Z785=\"\",\"\",referentes!Z785),IF(referentes!AA785=\"\",\"\",CONCATENATE(\" \",referentes!AA785)))","v":""}]
[null,null,null,null,null,null,null,null,null,null,null,null,null,null,null,"","",null,null,null,null,{"$f":"IF(referentes!Y786=\"\",\"\",referentes!Y786)","v":""},{"$f":"CONCATENATE(IF(referentes!Z786=\"\",\"\",referentes!Z786),IF(referentes!AA786=\"\",\"\",CONCATENATE(\" \",referentes!AA786)))","v":""}]
[null,null,null,null,null,null,null,null,null,null,null,null,null,null,null,"","",null,null,null,null,{"$f":"IF(referentes!Y787=\"\",\"\",referentes!Y787)","v":""},{"$f":"CONCATENATE(IF(referentes!Z787=\"\",\"\",referentes!Z787),IF(referentes!AA787=\"\",\"\",CONCATENATE(\" \",referentes!AA787)))","v":""}]
[null,null,null,null,null,null,null,null,null,null,null,null,null,null,null,"","",null,null,null,null,{"$f":"IF(referentes!Y788=\"\",\"\",referentes!Y788)","v":""},{"$f":"CONCATENATE(IF(referentes!Z788=\"\",\"\",referentes!Z788),IF(referentes!AA788=\"\",\"\",CONCATENATE(\" \",referentes!AA788)))","v":""}]
[null,null,null,null,null,null,null,null,null,null,null,null,null,null,null,"","",null,null,null,null,{"$f":"IF(referentes!Y789=\"\",\"\",referentes!Y789)","v":""},{"$f":"CONCATENATE(IF(referentes!Z789=\"\",\"\",referentes!Z789),IF(referentes!AA789=\"\",\"\",CONCATENATE(\" \",referentes!AA789)))","v":""}]
[null,null,null,null,null,null,null,null,null,null,null,null,null,null,null,"","",null,null,null,null,{"$f":"IF(referentes!Y790=\"\",\"\",referentes!Y790)","v":""},{"$f":"CONCATENATE(IF(referentes!Z790=\"\",\"\",referentes!Z790),IF(referentes!AA790=\"\",\"\",CONCATENATE(\" \",referentes!AA790)))","v":""}]
[null,null,null,null,null,null,null,null,null,null,null,null,null,null,null,"","",null,null,null,null,{"$f":"IF(referentes!Y791=\"\",\"\",referentes!Y791)","v":""},{"$f":"CONCATENATE(IF(referentes!Z791=\"\",\"\",referentes!Z791),IF(referentes!AA791=\"\",\"\",CONCATENATE(\" \",referentes!AA791)))","v":""}]
[null,null,null,null,null,null,null,null,null,null,null,null,null,null,null,"","",null,null,null,null,{"$f":"IF(referentes!Y792=\"\",\"\",referentes!Y792)","v":""},{"$f":"CONCATENATE(IF(referentes!Z792=\"\",\"\",referentes!Z792),IF(referentes!AA792=\"\",\"\",CONCATENATE(\" \",referentes!AA792)))","v":""}]
[null,null,null,null,null,null,null,null,null,null,null,null,null,null,null,"","",null,null,null,null,{"$f":"IF(referentes!Y793=\"\",\"\",referentes!Y793)","v":""},{"$f":"CONCATENATE(IF(referentes!Z793=\"\",\"\",referentes!Z793),IF(referentes!AA793=\"\",\"\",CONCATENATE(\" \",referentes!AA793)))","v":""}]
[null,null,null,null,null,null,null,null,null,null,null,null,null,null,null,"","",null,null,null,null,{"$f":"IF(referentes!Y794=\"\",\"\",referentes!Y794)","v":""},{"$f":"CONCATENATE(IF(referentes!Z794=\"\",\"\",referentes!Z794),IF(referentes!AA794=\"\",\"\",CONCATENATE(\" \",referentes!AA794)))","v":""}]
[null,null,null,null,null,null,null,null,null,null,null,null,null,null,null,"","",null,null,null,null,{"$f":"IF(referentes!Y795=\"\",\"\",referentes!Y795)","v":""},{"$f":"CONCATENATE(IF(referentes!Z795=\"\",\"\",referentes!Z795),IF(referentes!AA795=\"\",\"\",CONCATENATE(\" \",referentes!AA795)))","v":""}]
[null,null,null,null,null,null,null,null,null,null,null,null,null,null,null,"","",null,null,null,null,{"$f":"IF(referentes!Y796=\"\",\"\",referentes!Y796)","v":""},{"$f":"CONCATENATE(IF(referentes!Z796=\"\",\"\",referentes!Z796),IF(referentes!AA796=\"\",\"\",CONCATENATE(\" \",referentes!AA796)))","v":""}]
[null,null,null,null,null,null,null,null,null,null,null,null,null,null,null,"","",null,null,null,null,{"$f":"IF(referentes!Y797=\"\",\"\",referentes!Y797)","v":""},{"$f":"CONCATENATE(IF(referentes!Z797=\"\",\"\",referentes!Z797),IF(referentes!AA797=\"\",\"\",CONCATENATE(\" \",referentes!AA797)))","v":""}]
[null,null,null,null,null,null,null,null,null,null,null,null,null,null,null,"","",null,null,null,null,{"$f":"IF(referentes!Y798=\"\",\"\",referentes!Y798)","v":""},{"$f":"CONCATENATE(IF(referentes!Z798=\"\",\"\",referentes!Z798),IF(referentes!AA798=\"\",\"\",CONCATENATE(\" \",referentes!AA798)))","v":""}]
[null,null,null,null,null,null,null,null,null,null,null,null,null,null,null,"","",null,null,null,null,{"$f":"IF(referentes!Y799=\"\",\"\",referentes!Y799)","v":""},{"$f":"CONCATENATE(IF(referentes!Z799=\"\",\"\",referentes!Z799),IF(referentes!AA799=\"\",\"\",CONCATENATE(\" \",referentes!AA799)))","v":""}]
[null,null,null,null,null,null,null,null,null,null,null,null,null,null,null,"","",null,null,null,null,{"$f":"IF(referentes!Y800=\"\",\"\",referentes!Y800)","v":""},{"$f":"CONCATENATE(IF(referentes!Z800=\"\",\"\",referentes!Z800),IF(referentes!AA800=\"\",\"\",CONCATENATE(\" \",referentes!AA800)))","v":""}]
[null,null,null,null,null,null,null,null,null,null,null,null,null,null,null,"","",null,null,null,null,{"$f":"IF(referentes!Y801=\"\",\"\",referentes!Y801)","v":""},{"$f":"CONCATENATE(IF(referentes!Z801=\"\",\"\",referentes!Z801),IF(referentes!AA801=\"\",\"\",CONCATENATE(\" \",referentes!AA801)))","v":""}]
[null,null,null,null,null,null,null,null,null,null,null,null,null,null,null,"","",null,null,null,null,{"$f":"IF(referentes!Y802=\"\",\"\",referentes!Y802)","v":""},{"$f":"CONCATENATE(IF(referentes!Z802=\"\",\"\",referentes!Z802),IF(referentes!AA802=\"\",\"\",CONCATENATE(\" \",referentes!AA802)))","v":""}]
[null,null,null,null,null,null,null,null,null,null,null,null,null,null,null,"","",null,null,null,null,{"$f":"IF(referentes!Y803=\"\",\"\",referentes!Y803)","v":""},{"$f":"CONCATENATE(IF(referentes!Z803=\"\",\"\",referentes!Z803),IF(referentes!AA803=\"\",\"\",CONCATENATE(\" \",referentes!AA803)))","v":""}]
[null,null,null,null,null,null,null,null,null,null,null,null,null,null,null,"","",null,null,null,null,{"$f":"IF(referentes!Y804=\"\",\"\",referentes!Y804)","v":""},{"$f":"CONCATENATE(IF(referentes!Z804=\"\",\"\",referentes!Z804),IF(referentes!AA804=\"\",\"\",CONCATENATE(\" \",referentes!AA804)))","v":""}]
[null,null,null,null,null,null,null,null,null,null,null,null,null,null,null,"","",null,null,null,null,{"$f":"IF(referentes!Y805=\"\",\"\",referentes!Y805)","v":""},{"$f":"CONCATENATE(IF(referentes!Z805=\"\",\"\",referentes!Z805),IF(referentes!AA805=\"\",\"\",CONCATENATE(\" \",referentes!AA805)))","v":""}]
[null,null,null,null,null,null,null,null,null,null,null,null,null,null,null,"","",null,null,null,null,{"$f":"IF(referentes!Y806=\"\",\"\",referentes!Y806)","v":""},{"$f":"CONCATENATE(IF(referentes!Z806=\"\",\"\",referentes!Z806),IF(referentes!AA806=\"\",\"\",CONCATENATE(\" \",referentes!AA806)))","v":""}]
[null,null,null,null,null,null,null,null,null,null,null,null,null,null,null,"","",null,null,null,null,{"$f":"IF(referentes!Y807=\"\",\"\",referentes!Y807)","v":""},{"$f":"CONCATENATE(IF(referentes!Z807=\"\",\"\",referentes!Z807),IF(referentes!AA807=\"\",\"\",CONCATENATE(\" \",referentes!AA807)))","v":""}]
[null,null,null,null,null,null,null,null,null,null,null,null,null,null,null,"","",null,null,null,null,{"$f":"IF(referentes!Y808=\"\",\"\",referentes!Y808)","v":""},{"$f":"CONCATENATE(IF(referentes!Z808=\"\",\"\",referentes!Z808),IF(referentes!AA808=\"\",\"\",CONCATENATE(\" \",referentes!AA808)))","v":""}]
[null,null,null,null,null,null,null,null,null,null,null,null,null,null,null,"","",null,null,null,null,{"$f":"IF(referentes!Y809=\"\",\"\",referentes!Y809)","v":""},{"$f":"CONCATENATE(IF(referentes!Z809=\"\",\"\",referentes!Z809),IF(referentes!AA809=\"\",\"\",CONCATENATE(\" \",referentes!AA809)))","v":""}]
[null,null,null,null,null,null,null,null,null,null,null,null,null,null,null,"","",null,null,null,null,{"$f":"IF(referentes!Y810=\"\",\"\",referentes!Y810)","v":""},{"$f":"CONCATENATE(IF(referentes!Z810=\"\",\"\",referentes!Z810),IF(referentes!AA810=\"\",\"\",CONCATENATE(\" \",referentes!AA810)))","v":""}]
[null,null,null,null,null,null,null,null,null,null,null,null,null,null,null,"","",null,null,null,null,{"$f":"IF(referentes!Y811=\"\",\"\",referentes!Y811)","v":""},{"$f":"CONCATENATE(IF(referentes!Z811=\"\",\"\",referentes!Z811),IF(referentes!AA811=\"\",\"\",CONCATENATE(\" \",referentes!AA811)))","v":""}]
[null,null,null,null,null,null,null,null,null,null,null,null,null,null,null,"","",null,null,null,null,{"$f":"IF(referentes!Y812=\"\",\"\",referentes!Y812)","v":""},{"$f":"CONCATENATE(IF(referentes!Z812=\"\",\"\",referentes!Z812),IF(referentes!AA812=\"\",\"\",CONCATENATE(\" \",referentes!AA812)))","v":""}]
[null,null,null,null,null,null,null,null,null,null,null,null,null,null,null,"","",null,null,null,null,{"$f":"IF(referentes!Y813=\"\",\"\",referentes!Y813)","v":""},{"$f":"CONCATENATE(IF(referentes!Z813=\"\",\"\",referentes!Z813),IF(referentes!AA813=\"\",\"\",CONCATENATE(\" \",referentes!AA813)))","v":""}]
[null,null,null,null,null,null,null,null,null,null,null,null,null,null,null,"","",null,null,null,null,{"$f":"IF(referentes!Y814=\"\",\"\",referentes!Y814)","v":""},{"$f":"CONCATENATE(IF(referentes!Z814=\"\",\"\",referentes!Z814),IF(referentes!AA814=\"\",\"\",CONCATENATE(\" \",referentes!AA814)))","v":""}]
[null,null,null,null,null,null,null,null,null,null,null,null,null,null,null,"","",null,null,null,null,{"$f":"IF(referentes!Y815=\"\",\"\",referentes!Y815)","v":""},{"$f":"CONCATENATE(IF(referentes!Z815=\"\",\"\",referentes!Z815),IF(referentes!AA815=\"\",\"\",CONCATENATE(\" \",referentes!AA815)))","v":""}]
[null,null,null,null,null,null,null,null,null,null,null,null,null,null,null,"","",null,null,null,null,{"$f":"IF(referentes!Y816=\"\",\"\",referentes!Y816)","v":""},{"$f":"CONCATENATE(IF(referentes!Z816=\"\",\"\",referentes!Z816),IF(referentes!AA816=\"\",\"\",CONCATENATE(\" \",referentes!AA816)))","v":""}]
[null,null,null,null,null,null,null,null,null,null,null,null,null,null,null,"","",null,null,null,null,{"$f":"IF(referentes!Y817=\"\",\"\",referentes!Y817)","v":""},{"$f":"CONCATENATE(IF(referentes!Z817=\"\",\"\",referentes!Z817),IF(referentes!AA817=\"\",\"\",CONCATENATE(\" \",referentes!AA817)))","v":""}]
[null,null,null,null,null,null,null,null,null,null,null,null,null,null,null,"","",null,null,null,null,{"$f":"IF(referentes!Y818=\"\",\"\",referentes!Y818)","v":""},{"$f":"CONCATENATE(IF(referentes!Z818=\"\",\"\",referentes!Z818),IF(referentes!AA818=\"\",\"\",CONCATENATE(\" \",referentes!AA818)))","v":""}]
[null,null,null,null,null,null,null,null,null,null,null,null,null,null,null,"","",null,null,null,null,{"$f":"IF(referentes!Y819=\"\",\"\",referentes!Y819)","v":""},{"$f":"CONCATENATE(IF(referentes!Z819=\"\",\"\",referentes!Z819),IF(referentes!AA819=\"\",\"\",CONCATENATE(\" \",referentes!AA819)))","v":""}]
[null,null,null,null,null,null,null,null,null,null,null,null,null,null,null,"","",null,null,null,null,{"$f":"IF(referentes!Y820=\"\",\"\",referentes!Y820)","v":""},{"$f":"CONCATENATE(IF(referentes!Z820=\"\",\"\",referentes!Z820),IF(referentes!AA820=\"\",\"\",CONCATENATE(\" \",referentes!AA820)))","v":""}]
[null,null,null,null,null,null,null,null,null,null,null,null,null,null,null,"","",null,null,null,null,{"$f":"IF(referentes!Y821=\"\",\"\",referentes!Y821)","v":""},{"$f":"CONCATENATE(IF(referentes!Z821=\"\",\"\",referentes!Z821),IF(referentes!AA821=\"\",\"\",CONCATENATE(\" \",referentes!AA821)))","v":""}]
[null,null,null,null,null,null,null,null,null,null,null,null,null,null,null,"","",null,null,null,null,{"$f":"IF(referentes!Y822=\"\",\"\",referentes!Y822)","v":""},{"$f":"CONCATENATE(IF(referentes!Z822=\"\",\"\",referentes!Z822),IF(referentes!AA822=\"\",\"\",CONCATENATE(\" \",referentes!AA822)))","v":""}]
[null,null,null,null,null,null,null,null,null,null,null,null,null,null,null,"","",null,null,null,null,{"$f":"IF(referentes!Y823=\"\",\"\",referentes!Y823)","v":""},{"$f":"CONCATENATE(IF(referentes!Z823=\"\",\"\",referentes!Z823),IF(referentes!AA823=\"\",\"\",CONCATENATE(\" \",referentes!AA823)))","v":""}]
[null,null,null,null,null,null,null,null,null,null,null,null,null,null,null,"","",null,null,null,null,{"$f":"IF(referentes!Y824=\"\",\"\",referentes!Y824)","v":""},{"$f":"CONCATENATE(IF(referentes!Z824=\"\",\"\",referentes!Z824),IF(referentes!AA824=\"\",\"\",CONCATENATE(\" \",referentes!AA824)))","v":""}]
[null,null,null,null,null,null,null,null,null,null,null,null,null,null,null,"","",null,null,null,null,{"$f":"IF(referentes!Y825=\"\",\"\",referentes!Y825)","v":""},{"$f":"CONCATENATE(IF(referentes!Z825=\"\",\"\",referentes!Z825),IF(referentes!AA825=\"\",\"\",CONCATENATE(\" \",referentes!AA825)))","v":""}]
[null,null,null,null,null,null,null,null,null,null,null,null,null,null,null,"","",null,null,null,null,{"$f":"IF(referentes!Y826=\"\",\"\",referentes!Y826)","v":""},{"$f":"CONCATENATE(IF(referentes!Z826=\"\",\"\",referentes!Z826),IF(referentes!AA826=\"\",\"\",CONCATENATE(\" \",referentes!AA826)))","v":""}]
[null,null,null,null,null,null,null,null,null,null,null,null,null,null,null,"","",null,null,null,null,{"$f":"IF(referentes!Y827=\"\",\"\",referentes!Y827)","v":""},{"$f":"CONCATENATE(IF(referentes!Z827=\"\",\"\",referentes!Z827),IF(referentes!AA827=\"\",\"\",CONCATENATE(\" \",referentes!AA827)))","v":""}]
[null,null,null,null,null,null,null,null,null,null,null,null,null,null,null,"","",null,null,null,null,{"$f":"IF(referentes!Y828=\"\",\"\",referentes!Y828)","v":""},{"$f":"CONCATENATE(IF(referentes!Z828=\"\",\"\",referentes!Z828),IF(referentes!AA828=\"\",\"\",CONCATENATE(\" \",referentes!AA828)))","v":""}]
[null,null,null,null,null,null,null,null,null,null,null,null,null,null,null,"","",null,null,null,null,{"$f":"IF(referentes!Y829=\"\",\"\",referentes!Y829)","v":""},{"$f":"CONCATENATE(IF(referentes!Z829=\"\",\"\",referentes!Z829),IF(referentes!AA829=\"\",\"\",CONCATENATE(\" \",referentes!AA829)))","v":""}]
[null,null,null,null,null,null,null,null,null,null,null,null,null,null,null,"","",null,null,null,null,{"$f":"IF(referentes!Y830=\"\",\"\",referentes!Y830)","v":""},{"$f":"CONCATENATE(IF(referentes!Z830=\"\",\"\",referentes!Z830),IF(referentes!AA830=\"\",\"\",CONCATENATE(\" \",referentes!AA830)))","v":""}]
[null,null,null,null,null,null,null,null,null,null,null,null,null,null,null,"","",null,null,null,null,{"$f":"IF(referentes!Y831=\"\",\"\",referentes!Y831)","v":""},{"$f":"CONCATENATE(IF(referentes!Z831=\"\",\"\",referentes!Z831),IF(referentes!AA831=\"\",\"\",CONCATENATE(\" \",referentes!AA831)))","v":""}]
[null,null,null,null,null,null,null,null,null,null,null,null,null,null,null,"","",null,null,null,null,{"$f":"IF(referentes!Y832=\"\",\"\",referentes!Y832)","v":""},{"$f":"CONCATENATE(IF(referentes!Z832=\"\",\"\",referentes!Z832),IF(referentes!AA832=\"\",\"\",CONCATENATE(\" \",referentes!AA832)))","v":""}]
[null,null,null,null,null,null,null,null,null,null,null,null,null,null,null,"","",null,null,null,null,{"$f":"IF(referentes!Y833=\"\",\"\",referentes!Y833)","v":""},{"$f":"CONCATENATE(IF(referentes!Z833=\"\",\"\",referentes!Z833),IF(referentes!AA833=\"\",\"\",CONCATENATE(\" \",referentes!AA833)))","v":""}]
[null,null,null,null,null,null,null,null,null,null,null,null,null,null,null,"","",null,null,null,null,{"$f":"IF(referentes!Y834=\"\",\"\",referentes!Y834)","v":""},{"$f":"CONCATENATE(IF(referentes!Z834=\"\",\"\",referentes!Z834),IF(referentes!AA834=\"\",\"\",CONCATENATE(\" \",referentes!AA834)))","v":""}]
[null,null,null,null,null,null,null,null,null,null,null,null,null,null,null,"","",null,null,null,null,{"$f":"IF(referentes!Y835=\"\",\"\",referentes!Y835)","v":""},{"$f":"CONCATENATE(IF(referentes!Z835=\"\",\"\",referentes!Z835),IF(referentes!AA835=\"\",\"\",CONCATENATE(\" \",referentes!AA835)))","v":""}]
[null,null,null,null,null,null,null,null,null,null,null,null,null,null,null,"","",null,null,null,null,{"$f":"IF(referentes!Y836=\"\",\"\",referentes!Y836)","v":""},{"$f":"CONCATENATE(IF(referentes!Z836=\"\",\"\",referentes!Z836),IF(referentes!AA836=\"\",\"\",CONCATENATE(\" \",referentes!AA836)))","v":""}]
[null,null,null,null,null,null,null,null,null,null,null,null,null,null,null,"","",null,null,null,null,{"$f":"IF(referentes!Y837=\"\",\"\",referentes!Y837)","v":""},{"$f":"CONCATENATE(IF(referentes!Z837=\"\",\"\",referentes!Z837),IF(referentes!AA837=\"\",\"\",CONCATENATE(\" \",referentes!AA837)))","v":""}]
[null,null,null,null,null,null,null,null,null,null,null,null,null,null,null,"","",null,null,null,null,{"$f":"IF(referentes!Y838=\"\",\"\",referentes!Y838)","v":""},{"$f":"CONCATENATE(IF(referentes!Z838=\"\",\"\",referentes!Z838),IF(referentes!AA838=\"\",\"\",CONCATENATE(\" \",referentes!AA838)))","v":""}]
[null,null,null,null,null,null,null,null,null,null,null,null,null,null,null,"","",null,null,null,null,{"$f":"IF(referentes!Y839=\"\",\"\",referentes!Y839)","v":""},{"$f":"CONCATENATE(IF(referentes!Z839=\"\",\"\",referentes!Z839),IF(referentes!AA839=\"\",\"\",CONCATENATE(\" \",referentes!AA839)))","v":""}]
[null,null,null,null,null,null,null,null,null,null,null,null,null,null,null,"","",null,null,null,null,{"$f":"IF(referentes!Y840=\"\",\"\",referentes!Y840)","v":""},{"$f":"CONCATENATE(IF(referentes!Z840=\"\",\"\",referentes!Z840),IF(referentes!AA840=\"\",\"\",CONCATENATE(\" \",referentes!AA840)))","v":""}]
[null,null,null,null,null,null,null,null,null,null,null,null,null,null,null,"","",null,null,null,null,{"$f":"IF(referentes!Y841=\"\",\"\",referentes!Y841)","v":""},{"$f":"CONCATENATE(IF(referentes!Z841=\"\",\"\",referentes!Z841),IF(referentes!AA841=\"\",\"\",CONCATENATE(\" \",referentes!AA841)))","v":""}]
[null,null,null,null,null,null,null,null,null,null,null,null,null,null,null,"","",null,null,null,null,{"$f":"IF(referentes!Y842=\"\",\"\",referentes!Y842)","v":""},{"$f":"CONCATENATE(IF(referentes!Z842=\"\",\"\",referentes!Z842),IF(referentes!AA842=\"\",\"\",CONCATENATE(\" \",referentes!AA842)))","v":""}]
[null,null,null,null,null,null,null,null,null,null,null,null,null,null,null,"","",null,null,null,null,{"$f":"IF(referentes!Y843=\"\",\"\",referentes!Y843)","v":""},{"$f":"CONCATENATE(IF(referentes!Z843=\"\",\"\",referentes!Z843),IF(referentes!AA843=\"\",\"\",CONCATENATE(\" \",referentes!AA843)))","v":""}]
[null,null,null,null,null,null,null,null,null,null,null,null,null,null,null,"","",null,null,null,null,{"$f":"IF(referentes!Y844=\"\",\"\",referentes!Y844)","v":""},{"$f":"CONCATENATE(IF(referentes!Z844=\"\",\"\",referentes!Z844),IF(referentes!AA844=\"\",\"\",CONCATENATE(\" \",referentes!AA844)))","v":""}]
[null,null,null,null,null,null,null,null,null,null,null,null,null,null,null,"","",null,null,null,null,{"$f":"IF(referentes!Y845=\"\",\"\",referentes!Y845)","v":""},{"$f":"CONCATENATE(IF(referentes!Z845=\"\",\"\",referentes!Z845),IF(referentes!AA845=\"\",\"\",CONCATENATE(\" \",referentes!AA845)))","v":""}]
[null,null,null,null,null,null,null,null,null,null,null,null,null,null,null,"","",null,null,null,null,{"$f":"IF(referentes!Y846=\"\",\"\",referentes!Y846)","v":""},{"$f":"CONCATENATE(IF(referentes!Z846=\"\",\"\",referentes!Z846),IF(referentes!AA846=\"\",\"\",CONCATENATE(\" \",referentes!AA846)))","v":""}]
[null,null,null,null,null,null,null,null,null,null,null,null,null,null,null,"","",null,null,null,null,{"$f":"IF(referentes!Y847=\"\",\"\",referentes!Y847)","v":""},{"$f":"CONCATENATE(IF(referentes!Z847=\"\",\"\",referentes!Z847),IF(referentes!AA847=\"\",\"\",CONCATENATE(\" \",referentes!AA847)))","v":""}]
[null,null,null,null,null,null,null,null,null,null,null,null,null,null,null,"","",null,null,null,null,{"$f":"IF(referentes!Y848=\"\",\"\",referentes!Y848)","v":""},{"$f":"CONCATENATE(IF(referentes!Z848=\"\",\"\",referentes!Z848),IF(referentes!AA848=\"\",\"\",CONCATENATE(\" \",referentes!AA848)))","v":""}]
[null,null,null,null,null,null,null,null,null,null,null,null,null,null,null,"","",null,null,null,null,{"$f":"IF(referentes!Y849=\"\",\"\",referentes!Y849)","v":""},{"$f":"CONCATENATE(IF(referentes!Z849=\"\",\"\",referentes!Z849),IF(referentes!AA849=\"\",\"\",CONCATENATE(\" \",referentes!AA849)))","v":""}]
[null,null,null,null,null,null,null,null,null,null,null,null,null,null,null,"","",null,null,null,null,{"$f":"IF(referentes!Y850=\"\",\"\",referentes!Y850)","v":""},{"$f":"CONCATENATE(IF(referentes!Z850=\"\",\"\",referentes!Z850),IF(referentes!AA850=\"\",\"\",CONCATENATE(\" \",referentes!AA850)))","v":""}]
[null,null,null,null,null,null,null,null,null,null,null,null,null,null,null,"","",null,null,null,null,{"$f":"IF(referentes!Y851=\"\",\"\",referentes!Y851)","v":""},{"$f":"CONCATENATE(IF(referentes!Z851=\"\",\"\",referentes!Z851),IF(referentes!AA851=\"\",\"\",CONCATENATE(\" \",referentes!AA851)))","v":""}]
[null,null,null,null,null,null,null,null,null,null,null,null,null,null,null,"","",null,null,null,null,{"$f":"IF(referentes!Y852=\"\",\"\",referentes!Y852)","v":""},{"$f":"CONCATENATE(IF(referentes!Z852=\"\",\"\",referentes!Z852),IF(referentes!AA852=\"\",\"\",CONCATENATE(\" \",referentes!AA852)))","v":""}]
[null,null,null,null,null,null,null,null,null,null,null,null,null,null,null,"","",null,null,null,null,{"$f":"IF(referentes!Y853=\"\",\"\",referentes!Y853)","v":""},{"$f":"CONCATENATE(IF(referentes!Z853=\"\",\"\",referentes!Z853),IF(referentes!AA853=\"\",\"\",CONCATENATE(\" \",referentes!AA853)))","v":""}]
[null,null,null,null,null,null,null,null,null,null,null,null,null,null,null,"","",null,null,null,null,{"$f":"IF(referentes!Y854=\"\",\"\",referentes!Y854)","v":""},{"$f":"CONCATENATE(IF(referentes!Z854=\"\",\"\",referentes!Z854),IF(referentes!AA854=\"\",\"\",CONCATENATE(\" \",referentes!AA854)))","v":""}]
[null,null,null,null,null,null,null,null,null,null,null,null,null,null,null,"","",null,null,null,null,{"$f":"IF(referentes!Y855=\"\",\"\",referentes!Y855)","v":""},{"$f":"CONCATENATE(IF(referentes!Z855=\"\",\"\",referentes!Z855),IF(referentes!AA855=\"\",\"\",CONCATENATE(\" \",referentes!AA855)))","v":""}]
[null,null,null,null,null,null,null,null,null,null,null,null,null,null,null,"","",null,null,null,null,{"$f":"IF(referentes!Y856=\"\",\"\",referentes!Y856)","v":""},{"$f":"CONCATENATE(IF(referentes!Z856=\"\",\"\",referentes!Z856),IF(referentes!AA856=\"\",\"\",CONCATENATE(\" \",referentes!AA856)))","v":""}]
[null,null,null,null,null,null,null,null,null,null,null,null,null,null,null,"","",null,null,null,null,{"$f":"IF(referentes!Y857=\"\",\"\",referentes!Y857)","v":""},{"$f":"CONCATENATE(IF(referentes!Z857=\"\",\"\",referentes!Z857),IF(referentes!AA857=\"\",\"\",CONCATENATE(\" \",referentes!AA857)))","v":""}]
[null,null,null,null,null,null,null,null,null,null,null,null,null,null,null,"","",null,null,null,null,{"$f":"IF(referentes!Y858=\"\",\"\",referentes!Y858)","v":""},{"$f":"CONCATENATE(IF(referentes!Z858=\"\",\"\",referentes!Z858),IF(referentes!AA858=\"\",\"\",CONCATENATE(\" \",referentes!AA858)))","v":""}]
[null,null,null,null,null,null,null,null,null,null,null,null,null,null,null,"","",null,null,null,null,{"$f":"IF(referentes!Y859=\"\",\"\",referentes!Y859)","v":""},{"$f":"CONCATENATE(IF(referentes!Z859=\"\",\"\",referentes!Z859),IF(referentes!AA859=\"\",\"\",CONCATENATE(\" \",referentes!AA859)))","v":""}]
[null,null,null,null,null,null,null,null,null,null,null,null,null,null,null,"","",null,null,null,null,{"$f":"IF(referentes!Y860=\"\",\"\",referentes!Y860)","v":""},{"$f":"CONCATENATE(IF(referentes!Z860=\"\",\"\",referentes!Z860),IF(referentes!AA860=\"\",\"\",CONCATENATE(\" \",referentes!AA860)))","v":""}]
[null,null,null,null,null,null,null,null,null,null,null,null,null,null,null,"","",null,null,null,null,{"$f":"IF(referentes!Y861=\"\",\"\",referentes!Y861)","v":""},{"$f":"CONCATENATE(IF(referentes!Z861=\"\",\"\",referentes!Z861),IF(referentes!AA861=\"\",\"\",CONCATENATE(\" \",referentes!AA861)))","v":""}]
[null,null,null,null,null,null,null,null,null,null,null,null,null,null,null,"","",null,null,null,null,{"$f":"IF(referentes!Y862=\"\",\"\",referentes!Y862)","v":""},{"$f":"CONCATENATE(IF(referentes!Z862=\"\",\"\",referentes!Z862),IF(referentes!AA862=\"\",\"\",CONCATENATE(\" \",referentes!AA862)))","v":""}]
[null,null,null,null,null,null,null,null,null,null,null,null,null,null,null,"","",null,null,null,null,{"$f":"IF(referentes!Y863=\"\",\"\",referentes!Y863)","v":""},{"$f":"CONCATENATE(IF(referentes!Z863=\"\",\"\",referentes!Z863),IF(referentes!AA863=\"\",\"\",CONCATENATE(\" \",referentes!AA863)))","v":""}]
[null,null,null,null,null,null,null,null,null,null,null,null,null,null,null,"","",null,null,null,null,{"$f":"IF(referentes!Y864=\"\",\"\",referentes!Y864)","v":""},{"$f":"CONCATENATE(IF(referentes!Z864=\"\",\"\",referentes!Z864),IF(referentes!AA864=\"\",\"\",CONCATENATE(\" \",referentes!AA864)))","v":""}]
[null,null,null,null,null,null,null,null,null,null,null,null,null,null,null,"","",null,null,null,null,{"$f":"IF(referentes!Y865=\"\",\"\",referentes!Y865)","v":""},{"$f":"CONCATENATE(IF(referentes!Z865=\"\",\"\",referentes!Z865),IF(referentes!AA865=\"\",\"\",CONCATENATE(\" \",referentes!AA865)))","v":""}]
[null,null,null,null,null,null,null,null,null,null,null,null,null,null,null,"","",null,null,null,null,{"$f":"IF(referentes!Y866=\"\",\"\",referentes!Y866)","v":""},{"$f":"CONCATENATE(IF(referentes!Z866=\"\",\"\",referentes!Z866),IF(referentes!AA866=\"\",\"\",CONCATENATE(\" \",referentes!AA866)))","v":""}]
[null,null,null,null,null,null,null,null,null,null,null,null,null,null,null,"","",null,null,null,null,{"$f":"IF(referentes!Y867=\"\",\"\",referentes!Y867)","v":""},{"$f":"CONCATENATE(IF(referentes!Z867=\"\",\"\",referentes!Z867),IF(referentes!AA867=\"\",\"\",CONCATENATE(\" \",referentes!AA867)))","v":""}]
[null,null,null,null,null,null,null,null,null,null,null,null,null,null,null,"","",null,null,null,null,{"$f":"IF(referentes!Y868=\"\",\"\",referentes!Y868)","v":""},{"$f":"CONCATENATE(IF(referentes!Z868=\"\",\"\",referentes!Z868),IF(referentes!AA868=\"\",\"\",CONCATENATE(\" \",referentes!AA868)))","v":""}]
[null,null,null,null,null,null,null,null,null,null,null,null,null,null,null,"","",null,null,null,null,{"$f":"IF(referentes!Y869=\"\",\"\",referentes!Y869)","v":""},{"$f":"CONCATENATE(IF(referentes!Z869=\"\",\"\",referentes!Z869),IF(referentes!AA869=\"\",\"\",CONCATENATE(\" \",referentes!AA869)))","v":""}]
[null,null,null,null,null,null,null,null,null,null,null,null,null,null,null,"","",null,null,null,null,{"$f":"IF(referentes!Y870=\"\",\"\",referentes!Y870)","v":""},{"$f":"CONCATENATE(IF(referentes!Z870=\"\",\"\",referentes!Z870),IF(referentes!AA870=\"\",\"\",CONCATENATE(\" \",referentes!AA870)))","v":""}]
[null,null,null,null,null,null,null,null,null,null,null,null,null,null,null,"","",null,null,null,null,{"$f":"IF(referentes!Y871=\"\",\"\",referentes!Y871)","v":""},{"$f":"CONCATENATE(IF(referentes!Z871=\"\",\"\",referentes!Z871),IF(referentes!AA871=\"\",\"\",CONCATENATE(\" \",referentes!AA871)))","v":""}]
[null,null,null,null,null,null,null,null,null,null,null,null,null,null,null,"","",null,null,null,null,{"$f":"IF(referentes!Y872=\"\",\"\",referentes!Y872)","v":""},{"$f":"CONCATENATE(IF(referentes!Z872=\"\",\"\",referentes!Z872),IF(referentes!AA872=\"\",\"\",CONCATENATE(\" \",referentes!AA872)))","v":""}]
[null,null,null,null,null,null,null,null,null,null,null,null,null,null,null,"","",null,null,null,null,{"$f":"IF(referentes!Y873=\"\",\"\",referentes!Y873)","v":""},{"$f":"CONCATENATE(IF(referentes!Z873=\"\",\"\",referentes!Z873),IF(referentes!AA873=\"\",\"\",CONCATENATE(\" \",referentes!AA873)))","v":""}]
[null,null,null,null,null,null,null,null,null,null,null,null,null,null,null,"","",null,null,null,null,{"$f":"IF(referentes!Y874=\"\",\"\",referentes!Y874)","v":""},{"$f":"CONCATENATE(IF(referentes!Z874=\"\",\"\",referentes!Z874),IF(referentes!AA874=\"\",\"\",CONCATENATE(\" \",referentes!AA874)))","v":""}]
[null,null,null,null,null,null,null,null,null,null,null,null,null,null,null,"","",null,null,null,null,{"$f":"IF(referentes!Y875=\"\",\"\",referentes!Y875)","v":""},{"$f":"CONCATENATE(IF(referentes!Z875=\"\",\"\",referentes!Z875),IF(referentes!AA875=\"\",\"\",CONCATENATE(\" \",referentes!AA875)))","v":""}]
[null,null,null,null,null,null,null,null,null,null,null,null,null,null,null,"","",null,null,null,null,{"$f":"IF(referentes!Y876=\"\",\"\",referentes!Y876)","v":""},{"$f":"CONCATENATE(IF(referentes!Z876=\"\",\"\",referentes!Z876),IF(referentes!AA876=\"\",\"\",CONCATENATE(\" \",referentes!AA876)))","v":""}]
[null,null,null,null,null,null,null,null,null,null,null,null,null,null,null,"","",null,null,null,null,{"$f":"IF(referentes!Y877=\"\",\"\",referentes!Y877)","v":""},{"$f":"CONCATENATE(IF(referentes!Z877=\"\",\"\",referentes!Z877),IF(referentes!AA877=\"\",\"\",CONCATENATE(\" \",referentes!AA877)))","v":""}]
[null,null,null,null,null,null,null,null,null,null,null,null,null,null,null,"","",null,null,null,null,{"$f":"IF(referentes!Y878=\"\",\"\",referentes!Y878)","v":""},{"$f":"CONCATENATE(IF(referentes!Z878=\"\",\"\",referentes!Z878),IF(referentes!AA878=\"\",\"\",CONCATENATE(\" \",referentes!AA878)))","v":""}]
[null,null,null,null,null,null,null,null,null,null,null,null,null,null,null,"","",null,null,null,null,{"$f":"IF(referentes!Y879=\"\",\"\",referentes!Y879)","v":""},{"$f":"CONCATENATE(IF(referentes!Z879=\"\",\"\",referentes!Z879),IF(referentes!AA879=\"\",\"\",CONCATENATE(\" \",referentes!AA879)))","v":""}]
[null,null,null,null,null,null,null,null,null,null,null,null,null,null,null,"","",null,null,null,null,{"$f":"IF(referentes!Y880=\"\",\"\",referentes!Y880)","v":""},{"$f":"CONCATENATE(IF(referentes!Z880=\"\",\"\",referentes!Z880),IF(referentes!AA880=\"\",\"\",CONCATENATE(\" \",referentes!AA880)))","v":""}]
[null,null,null,null,null,null,null,null,null,null,null,null,null,null,null,"","",null,null,null,null,{"$f":"IF(referentes!Y881=\"\",\"\",referentes!Y881)","v":""},{"$f":"CONCATENATE(IF(referentes!Z881=\"\",\"\",referentes!Z881),IF(referentes!AA881=\"\",\"\",CONCATENATE(\" \",referentes!AA881)))","v":""}]
[null,null,null,null,null,null,null,null,null,null,null,null,null,null,null,"","",null,null,null,null,{"$f":"IF(referentes!Y882=\"\",\"\",referentes!Y882)","v":""},{"$f":"CONCATENATE(IF(referentes!Z882=\"\",\"\",referentes!Z882),IF(referentes!AA882=\"\",\"\",CONCATENATE(\" \",referentes!AA882)))","v":""}]
[null,null,null,null,null,null,null,null,null,null,null,null,null,null,null,"","",null,null,null,null,{"$f":"IF(referentes!Y883=\"\",\"\",referentes!Y883)","v":""},{"$f":"CONCATENATE(IF(referentes!Z883=\"\",\"\",referentes!Z883),IF(referentes!AA883=\"\",\"\",CONCATENATE(\" \",referentes!AA883)))","v":""}]
[null,null,null,null,null,null,null,null,null,null,null,null,null,null,null,"","",null,null,null,null,{"$f":"IF(referentes!Y884=\"\",\"\",referentes!Y884)","v":""},{"$f":"CONCATENATE(IF(referentes!Z884=\"\",\"\",referentes!Z884),IF(referentes!AA884=\"\",\"\",CONCATENATE(\" \",referentes!AA884)))","v":""}]
[null,null,null,null,null,null,null,null,null,null,null,null,null,null,null,"","",null,null,null,null,{"$f":"IF(referentes!Y885=\"\",\"\",referentes!Y885)","v":""},{"$f":"CONCATENATE(IF(referentes!Z885=\"\",\"\",referentes!Z885),IF(referentes!AA885=\"\",\"\",CONCATENATE(\" \",referentes!AA885)))","v":""}]
[null,null,null,null,null,null,null,null,null,null,null,null,null,null,null,"","",null,null,null,null,{"$f":"IF(referentes!Y886=\"\",\"\",referentes!Y886)","v":""},{"$f":"CONCATENATE(IF(referentes!Z886=\"\",\"\",referentes!Z886),IF(referentes!AA886=\"\",\"\",CONCATENATE(\" \",referentes!AA886)))","v":""}]
[null,null,null,null,null,null,null,null,null,null,null,null,null,null,null,"","",null,null,null,null,{"$f":"IF(referentes!Y887=\"\",\"\",referentes!Y887)","v":""},{"$f":"CONCATENATE(IF(referentes!Z887=\"\",\"\",referentes!Z887),IF(referentes!AA887=\"\",\"\",CONCATENATE(\" \",referentes!AA887)))","v":""}]
[null,null,null,null,null,null,null,null,null,null,null,null,null,null,null,"","",null,null,null,null,{"$f":"IF(referentes!Y888=\"\",\"\",referentes!Y888)","v":""},{"$f":"CONCATENATE(IF(referentes!Z888=\"\",\"\",referentes!Z888),IF(referentes!AA888=\"\",\"\",CONCATENATE(\" \",referentes!AA888)))","v":""}]
[null,null,null,null,null,null,null,null,null,null,null,null,null,null,null,"","",null,null,null,null,{"$f":"IF(referentes!Y889=\"\",\"\",referentes!Y889)","v":""},{"$f":"CONCATENATE(IF(referentes!Z889=\"\",\"\",referentes!Z889),IF(referentes!AA889=\"\",\"\",CONCATENATE(\" \",referentes!AA889)))","v":""}]
[null,null,null,null,null,null,null,null,null,null,null,null,null,null,null,"","",null,null,null,null,{"$f":"IF(referentes!Y890=\"\",\"\",referentes!Y890)","v":""},{"$f":"CONCATENATE(IF(referentes!Z890=\"\",\"\",referentes!Z890),IF(referentes!AA890=\"\",\"\",CONCATENATE(\" \",referentes!AA890)))","v":""}]
[null,null,null,null,null,null,null,null,null,null,null,null,null,null,null,"","",null,null,null,null,{"$f":"IF(referentes!Y891=\"\",\"\",referentes!Y891)","v":""},{"$f":"CONCATENATE(IF(referentes!Z891=\"\",\"\",referentes!Z891),IF(referentes!AA891=\"\",\"\",CONCATENATE(\" \",referentes!AA891)))","v":""}]
[null,null,null,null,null,null,null,null,null,null,null,null,null,null,null,"","",null,null,null,null,{"$f":"IF(referentes!Y892=\"\",\"\",referentes!Y892)","v":""},{"$f":"CONCATENATE(IF(referentes!Z892=\"\",\"\",referentes!Z892),IF(referentes!AA892=\"\",\"\",CONCATENATE(\" \",referentes!AA892)))","v":""}]
[null,null,null,null,null,null,null,null,null,null,null,null,null,null,null,"","",null,null,null,null,{"$f":"IF(referentes!Y893=\"\",\"\",referentes!Y893)","v":""},{"$f":"CONCATENATE(IF(referentes!Z893=\"\",\"\",referentes!Z893),IF(referentes!AA893=\"\",\"\",CONCATENATE(\" \",referentes!AA893)))","v":""}]
[null,null,null,null,null,null,null,null,null,null,null,null,null,null,null,"","",null,null,null,null,{"$f":"IF(referentes!Y894=\"\",\"\",referentes!Y894)","v":""},{"$f":"CONCATENATE(IF(referentes!Z894=\"\",\"\",referentes!Z894),IF(referentes!AA894=\"\",\"\",CONCATENATE(\" \",referentes!AA894)))","v":""}]
[null,null,null,null,null,null,null,null,null,null,null,null,null,null,null,"","",null,null,null,null,{"$f":"IF(referentes!Y895=\"\",\"\",referentes!Y895)","v":""},{"$f":"CONCATENATE(IF(referentes!Z895=\"\",\"\",referentes!Z895),IF(referentes!AA895=\"\",\"\",CONCATENATE(\" \",referentes!AA895)))","v":""}]
[null,null,null,null,null,null,null,null,null,null,null,null,null,null,null,"","",null,null,null,null,{"$f":"IF(referentes!Y896=\"\",\"\",referentes!Y896)","v":""},{"$f":"CONCATENATE(IF(referentes!Z896=\"\",\"\",referentes!Z896),IF(referentes!AA896=\"\",\"\",CONCATENATE(\" \",referentes!AA896)))","v":""}]
[null,null,null,null,null,null,null,null,null,null,null,null,null,null,null,"","",null,null,null,null,{"$f":"IF(referentes!Y897=\"\",\"\",referentes!Y897)","v":""},{"$f":"CONCATENATE(IF(referentes!Z897=\"\",\"\",referentes!Z897),IF(referentes!AA897=\"\",\"\",CONCATENATE(\" \",referentes!AA897)))","v":""}]
[null,null,null,null,null,null,null,null,null,null,null,null,null,null,null,"","",null,null,null,null,{"$f":"IF(referentes!Y898=\"\",\"\",referentes!Y898)","v":""},{"$f":"CONCATENATE(IF(referentes!Z898=\"\",\"\",referentes!Z898),IF(referentes!AA898=\"\",\"\",CONCATENATE(\" \",referentes!AA898)))","v":""}]
[null,null,null,null,null,null,null,null,null,null,null,null,null,null,null,"","",null,null,null,null,{"$f":"IF(referentes!Y899=\"\",\"\",referentes!Y899)","v":""},{"$f":"CONCATENATE(IF(referentes!Z899=\"\",\"\",referentes!Z899),IF(referentes!AA899=\"\",\"\",CONCATENATE(\" \",referentes!AA899)))","v":""}]
[null,null,null,null,null,null,null,null,null,null,null,null,null,null,null,"","",null,null,null,null,{"$f":"IF(referentes!Y900=\"\",\"\",referentes!Y900)","v":""},{"$f":"CONCATENATE(IF(referentes!Z900=\"\",\"\",referentes!Z900),IF(referentes!AA900=\"\",\"\",CONCATENATE(\" \",referentes!AA900)))","v":""}]
[null,null,null,null,null,null,null,null,null,null,null,null,null,null,null,"","",null,null,null,null,{"$f":"IF(referentes!Y901=\"\",\"\",referentes!Y901)","v":""},{"$f":"CONCATENATE(IF(referentes!Z901=\"\",\"\",referentes!Z901),IF(referentes!AA901=\"\",\"\",CONCATENATE(\" \",referentes!AA901)))","v":""}]
[null,null,null,null,null,null,null,null,null,null,null,null,null,null,null,"","",null,null,null,null,{"$f":"IF(referentes!Y902=\"\",\"\",referentes!Y902)","v":""},{"$f":"CONCATENATE(IF(referentes!Z902=\"\",\"\",referentes!Z902),IF(referentes!AA902=\"\",\"\",CONCATENATE(\" \",referentes!AA902)))","v":""}]
[null,null,null,null,null,null,null,null,null,null,null,null,null,null,null,"","",null,null,null,null,{"$f":"IF(referentes!Y903=\"\",\"\",referentes!Y903)","v":""},{"$f":"CONCATENATE(IF(referentes!Z903=\"\",\"\",referentes!Z903),IF(referentes!AA903=\"\",\"\",CONCATENATE(\" \",referentes!AA903)))","v":""}]
[null,null,null,null,null,null,null,null,null,null,null,null,null,null,null,"","",null,null,null,null,{"$f":"IF(referentes!Y904=\"\",\"\",referentes!Y904)","v":""},{"$f":"CONCATENATE(IF(referentes!Z904=\"\",\"\",referentes!Z904),IF(referentes!AA904=\"\",\"\",CONCATENATE(\" \",referentes!AA904)))","v":""}]
[null,null,null,null,null,null,null,null,null,null,null,null,null,null,null,"","",null,null,null,null,{"$f":"IF(referentes!Y905=\"\",\"\",referentes!Y905)","v":""},{"$f":"CONCATENATE(IF(referentes!Z905=\"\",\"\",referentes!Z905),IF(referentes!AA905=\"\",\"\",CONCATENATE(\" \",referentes!AA905)))","v":""}]
[null,null,null,null,null,null,null,null,null,null,null,null,null,null,null,"","",null,null,null,null,{"$f":"IF(referentes!Y906=\"\",\"\",referentes!Y906)","v":""},{"$f":"CONCATENATE(IF(referentes!Z906=\"\",\"\",referentes!Z906),IF(referentes!AA906=\"\",\"\",CONCATENATE(\" \",referentes!AA906)))","v":""}]
[null,null,null,null,null,null,null,null,null,null,null,null,null,null,null,"","",null,null,null,null,{"$f":"IF(referentes!Y907=\"\",\"\",referentes!Y907)","v":""},{"$f":"CONCATENATE(IF(referentes!Z907=\"\",\"\",referentes!Z907),IF(referentes!AA907=\"\",\"\",CONCATENATE(\" \",referentes!AA907)))","v":""}]
[null,null,null,null,null,null,null,null,null,null,null,null,null,null,null,"","",null,null,null,null,{"$f":"IF(referentes!Y908=\"\",\"\",referentes!Y908)","v":""},{"$f":"CONCATENATE(IF(referentes!Z908=\"\",\"\",referentes!Z908),IF(referentes!AA908=\"\",\"\",CONCATENATE(\" \",referentes!AA908)))","v":""}]
[null,null,null,null,null,null,null,null,null,null,null,null,null,null,null,"","",null,null,null,null,{"$f":"IF(referentes!Y909=\"\",\"\",referentes!Y909)","v":""},{"$f":"CONCATENATE(IF(referentes!Z909=\"\",\"\",referentes!Z909),IF(referentes!AA909=\"\",\"\",CONCATENATE(\" \",referentes!AA909)))","v":""}]
[null,null,null,null,null,null,null,null,null,null,null,null,null,null,null,"","",null,null,null,null,{"$f":"IF(referentes!Y910=\"\",\"\",referentes!Y910)","v":""},{"$f":"CONCATENATE(IF(referentes!Z910=\"\",\"\",referentes!Z910),IF(referentes!AA910=\"\",\"\",CONCATENATE(\" \",referentes!AA910)))","v":""}]
[null,null,null,null,null,null,null,null,null,null,null,null,null,null,null,"","",null,null,null,null,{"$f":"IF(referentes!Y911=\"\",\"\",referentes!Y911)","v":""},{"$f":"CONCATENATE(IF(referentes!Z911=\"\",\"\",referentes!Z911),IF(referentes!AA911=\"\",\"\",CONCATENATE(\" \",referentes!AA911)))","v":""}]
[null,null,null,null,null,null,null,null,null,null,null,null,null,null,null,"","",null,null,null,null,{"$f":"IF(referentes!Y912=\"\",\"\",referentes!Y912)","v":""},{"$f":"CONCATENATE(IF(referentes!Z912=\"\",\"\",referentes!Z912),IF(referentes!AA912=\"\",\"\",CONCATENATE(\" \",referentes!AA912)))","v":""}]
[null,null,null,null,null,null,null,null,null,null,null,null,null,null,null,"","",null,null,null,null,{"$f":"IF(referentes!Y913=\"\",\"\",referentes!Y913)","v":""},{"$f":"CONCATENATE(IF(referentes!Z913=\"\",\"\",referentes!Z913),IF(referentes!AA913=\"\",\"\",CONCATENATE(\" \",referentes!AA913)))","v":""}]
[null,null,null,null,null,null,null,null,null,null,null,null,null,null,null,"","",null,null,null,null,{"$f":"IF(referentes!Y914=\"\",\"\",referentes!Y914)","v":""},{"$f":"CONCATENATE(IF(referentes!Z914=\"\",\"\",referentes!Z914),IF(referentes!AA914=\"\",\"\",CONCATENATE(\" \",referentes!AA914)))","v":""}]
[null,null,null,null,null,null,null,null,null,null,null,null,null,null,null,"","",null,null,null,null,{"$f":"IF(referentes!Y915=\"\",\"\",referentes!Y915)","v":""},{"$f":"CONCATENATE(IF(referentes!Z915=\"\",\"\",referentes!Z915),IF(referentes!AA915=\"\",\"\",CONCATENATE(\" \",referentes!AA915)))","v":""}]
[null,null,null,null,null,null,null,null,null,null,null,null,null,null,null,"","",null,null,null,null,{"$f":"IF(referentes!Y916=\"\",\"\",referentes!Y916)","v":""},{"$f":"CONCATENATE(IF(referentes!Z916=\"\",\"\",referentes!Z916),IF(referentes!AA916=\"\",\"\",CONCATENATE(\" \",referentes!AA916)))","v":""}]
[null,null,null,null,null,null,null,null,null,null,null,null,null,null,null,"","",null,null,null,null,{"$f":"IF(referentes!Y917=\"\",\"\",referentes!Y917)","v":""},{"$f":"CONCATENATE(IF(referentes!Z917=\"\",\"\",referentes!Z917),IF(referentes!AA917=\"\",\"\",CONCATENATE(\" \",referentes!AA917)))","v":""}]
[null,null,null,null,null,null,null,null,null,null,null,null,null,null,null,"","",null,null,null,null,{"$f":"IF(referentes!Y918=\"\",\"\",referentes!Y918)","v":""},{"$f":"CONCATENATE(IF(referentes!Z918=\"\",\"\",referentes!Z918),IF(referentes!AA918=\"\",\"\",CONCATENATE(\" \",referentes!AA918)))","v":""}]
[null,null,null,null,null,null,null,null,null,null,null,null,null,null,null,"","",null,null,null,null,{"$f":"IF(referentes!Y919=\"\",\"\",referentes!Y919)","v":""},{"$f":"CONCATENATE(IF(referentes!Z919=\"\",\"\",referentes!Z919),IF(referentes!AA919=\"\",\"\",CONCATENATE(\" \",referentes!AA919)))","v":""}]
[null,null,null,null,null,null,null,null,null,null,null,null,null,null,null,"","",null,null,null,null,{"$f":"IF(referentes!Y920=\"\",\"\",referentes!Y920)","v":""},{"$f":"CONCATENATE(IF(referentes!Z920=\"\",\"\",referentes!Z920),IF(referentes!AA920=\"\",\"\",CONCATENATE(\" \",referentes!AA920)))","v":""}]
[null,null,null,null,null,null,null,null,null,null,null,null,null,null,null,"","",null,null,null,null,{"$f":"IF(referentes!Y921=\"\",\"\",referentes!Y921)","v":""},{"$f":"CONCATENATE(IF(referentes!Z921=\"\",\"\",referentes!Z921),IF(referentes!AA921=\"\",\"\",CONCATENATE(\" \",referentes!AA921)))","v":""}]
[null,null,null,null,null,null,null,null,null,null,null,null,null,null,null,"","",null,null,null,null,{"$f":"IF(referentes!Y922=\"\",\"\",referentes!Y922)","v":""},{"$f":"CONCATENATE(IF(referentes!Z922=\"\",\"\",referentes!Z922),IF(referentes!AA922=\"\",\"\",CONCATENATE(\" \",referentes!AA922)))","v":""}]
[null,null,null,null,null,null,null,null,null,null,null,null,null,null,null,"","",null,null,null,null,{"$f":"IF(referentes!Y923=\"\",\"\",referentes!Y923)","v":""},{"$f":"CONCATENATE(IF(referentes!Z923=\"\",\"\",referentes!Z923),IF(referentes!AA923=\"\",\"\",CONCATENATE(\" \",referentes!AA923)))","v":""}]
[null,null,null,null,null,null,null,null,null,null,null,null,null,null,null,"","",null,null,null,null,{"$f":"IF(referentes!Y924=\"\",\"\",referentes!Y924)","v":""},{"$f":"CONCATENATE(IF(referentes!Z924=\"\",\"\",referentes!Z924),IF(referentes!AA924=\"\",\"\",CONCATENATE(\" \",referentes!AA924)))","v":""}]
[null,null,null,null,null,null,null,null,null,null,null,null,null,null,null,"","",null,null,null,null,{"$f":"IF(referentes!Y925=\"\",\"\",referentes!Y925)","v":""},{"$f":"CONCATENATE(IF(referentes!Z925=\"\",\"\",referentes!Z925),IF(referentes!AA925=\"\",\"\",CONCATENATE(\" \",referentes!AA925)))","v":""}]
[null,null,null,null,null,null,null,null,null,null,null,null,null,null,null,"","",null,null,null,null,{"$f":"IF(referentes!Y926=\"\",\"\",referentes!Y926)","v":""},{"$f":"CONCATENATE(IF(referentes!Z926=\"\",\"\",referentes!Z926),IF(referentes!AA926=\"\",\"\",CONCATENATE(\" \",referentes!AA926)))","v":""}]
[null,null,null,null,null,null,null,null,null,null,null,null,null,null,null,"","",null,null,null,null,{"$f":"IF(referentes!Y927=\"\",\"\",referentes!Y927)","v":""},{"$f":"CONCATENATE(IF(referentes!Z927=\"\",\"\",referentes!Z927),IF(referentes!AA927=\"\",\"\",CONCATENATE(\" \",referentes!AA927)))","v":""}]
[null,null,null,null,null,null,null,null,null,null,null,null,null,null,null,"","",null,null,null,null,{"$f":"IF(referentes!Y928=\"\",\"\",referentes!Y928)","v":""},{"$f":"CONCATENATE(IF(referentes!Z928=\"\",\"\",referentes!Z928),IF(referentes!AA928=\"\",\"\",CONCATENATE(\" \",referentes!AA928)))","v":""}]
[null,null,null,null,null,null,null,null,null,null,null,null,null,null,null,"","",null,null,null,null,{"$f":"IF(referentes!Y929=\"\",\"\",referentes!Y929)","v":""},{"$f":"CONCATENATE(IF(referentes!Z929=\"\",\"\",referentes!Z929),IF(referentes!AA929=\"\",\"\",CONCATENATE(\" \",referentes!AA929)))","v":""}]
[null,null,null,null,null,null,null,null,null,null,null,null,null,null,null,"","",null,null,null,null,{"$f":"IF(referentes!Y930=\"\",\"\",referentes!Y930)","v":""},{"$f":"CONCATENATE(IF(referentes!Z930=\"\",\"\",referentes!Z930),IF(referentes!AA930=\"\",\"\",CONCATENATE(\" \",referentes!AA930)))","v":""}]
[null,null,null,null,null,null,null,null,null,null,null,null,null,null,null,"","",null,null,null,null,{"$f":"IF(referentes!Y931=\"\",\"\",referentes!Y931)","v":""},{"$f":"CONCATENATE(IF(referentes!Z931=\"\",\"\",referentes!Z931),IF(referentes!AA931=\"\",\"\",CONCATENATE(\" \",referentes!AA931)))","v":""}]
[null,null,null,null,null,null,null,null,null,null,null,null,null,null,null,"","",null,null,null,null,{"$f":"IF(referentes!Y932=\"\",\"\",referentes!Y932)","v":""},{"$f":"CONCATENATE(IF(referentes!Z932=\"\",\"\",referentes!Z932),IF(referentes!AA932=\"\",\"\",CONCATENATE(\" \",referentes!AA932)))","v":""}]
[null,null,null,null,null,null,null,null,null,null,null,null,null,null,null,"","",null,null,null,null,{"$f":"IF(referentes!Y933=\"\",\"\",referentes!Y933)","v":""},{"$f":"CONCATENATE(IF(referentes!Z933=\"\",\"\",referentes!Z933),IF(referentes!AA933=\"\",\"\",CONCATENATE(\" \",referentes!AA933)))","v":""}]
[null,null,null,null,null,null,null,null,null,null,null,null,null,null,null,"","",null,null,null,null,{"$f":"IF(referentes!Y934=\"\",\"\",referentes!Y934)","v":""},{"$f":"CONCATENATE(IF(referentes!Z934=\"\",\"\",referentes!Z934),IF(referentes!AA934=\"\",\"\",CONCATENATE(\" \",referentes!AA934)))","v":""}]
[null,null,null,null,null,null,null,null,null,null,null,null,null,null,null,"","",null,null,null,null,{"$f":"IF(referentes!Y935=\"\",\"\",referentes!Y935)","v":""},{"$f":"CONCATENATE(IF(referentes!Z935=\"\",\"\",referentes!Z935),IF(referentes!AA935=\"\",\"\",CONCATENATE(\" \",referentes!AA935)))","v":""}]
[null,null,null,null,null,null,null,null,null,null,null,null,null,null,null,"","",null,null,null,null,{"$f":"IF(referentes!Y936=\"\",\"\",referentes!Y936)","v":""},{"$f":"CONCATENATE(IF(referentes!Z936=\"\",\"\",referentes!Z936),IF(referentes!AA936=\"\",\"\",CONCATENATE(\" \",referentes!AA936)))","v":""}]
[null,null,null,null,null,null,null,null,null,null,null,null,null,null,null,"","",null,null,null,null,{"$f":"IF(referentes!Y937=\"\",\"\",referentes!Y937)","v":""},{"$f":"CONCATENATE(IF(referentes!Z937=\"\",\"\",referentes!Z937),IF(referentes!AA937=\"\",\"\",CONCATENATE(\" \",referentes!AA937)))","v":""}]
[null,null,null,null,null,null,null,null,null,null,null,null,null,null,null,"","",null,null,null,null,{"$f":"IF(referentes!Y938=\"\",\"\",referentes!Y938)","v":""},{"$f":"CONCATENATE(IF(referentes!Z938=\"\",\"\",referentes!Z938),IF(referentes!AA938=\"\",\"\",CONCATENATE(\" \",referentes!AA938)))","v":""}]
[null,null,null,null,null,null,null,null,null,null,null,null,null,null,null,"","",null,null,null,null,{"$f":"IF(referentes!Y939=\"\",\"\",referentes!Y939)","v":""},{"$f":"CONCATENATE(IF(referentes!Z939=\"\",\"\",referentes!Z939),IF(referentes!AA939=\"\",\"\",CONCATENATE(\" \",referentes!AA939)))","v":""}]
[null,null,null,null,null,null,null,null,null,null,null,null,null,null,null,"","",null,null,null,null,{"$f":"IF(referentes!Y940=\"\",\"\",referentes!Y940)","v":""},{"$f":"CONCATENATE(IF(referentes!Z940=\"\",\"\",referentes!Z940),IF(referentes!AA940=\"\",\"\",CONCATENATE(\" \",referentes!AA940)))","v":""}]
[null,null,null,null,null,null,null,null,null,null,null,null,null,null,null,"","",null,null,null,null,{"$f":"IF(referentes!Y941=\"\",\"\",referentes!Y941)","v":""},{"$f":"CONCATENATE(IF(referentes!Z941=\"\",\"\",referentes!Z941),IF(referentes!AA941=\"\",\"\",CONCATENATE(\" \",referentes!AA941)))","v":""}]
[null,null,null,null,null,null,null,null,null,null,null,null,null,null,null,"","",null,null,null,null,{"$f":"IF(referentes!Y942=\"\",\"\",referentes!Y942)","v":""},{"$f":"CONCATENATE(IF(referentes!Z942=\"\",\"\",referentes!Z942),IF(referentes!AA942=\"\",\"\",CONCATENATE(\" \",referentes!AA942)))","v":""}]
[null,null,null,null,null,null,null,null,null,null,null,null,null,null,null,"","",null,null,null,null,{"$f":"IF(referentes!Y943=\"\",\"\",referentes!Y943)","v":""},{"$f":"CONCATENATE(IF(referentes!Z943=\"\",\"\",referentes!Z943),IF(referentes!AA943=\"\",\"\",CONCATENATE(\" \",referentes!AA943)))","v":""}]
[null,null,null,null,null,null,null,null,null,null,null,null,null,null,null,"","",null,null,null,null,{"$f":"IF(referentes!Y944=\"\",\"\",referentes!Y944)","v":""},{"$f":"CONCATENATE(IF(referentes!Z944=\"\",\"\",referentes!Z944),IF(referentes!AA944=\"\",\"\",CONCATENATE(\" \",referentes!AA944)))","v":""}]
[null,null,null,null,null,null,null,null,null,null,null,null,null,null,null,"","",null,null,null,null,{"$f":"IF(referentes!Y945=\"\",\"\",referentes!Y945)","v":""},{"$f":"CONCATENATE(IF(referentes!Z945=\"\",\"\",referentes!Z945),IF(referentes!AA945=\"\",\"\",CONCATENATE(\" \",referentes!AA945)))","v":""}]
[null,null,null,null,null,null,null,null,null,null,null,null,null,null,null,"","",null,null,null,null,{"$f":"IF(referentes!Y946=\"\",\"\",referentes!Y946)","v":""},{"$f":"CONCATENATE(IF(referentes!Z946=\"\",\"\",referentes!Z946),IF(referentes!AA946=\"\",\"\",CONCATENATE(\" \",referentes!AA946)))","v":""}]
[null,null,null,null,null,null,null,null,null,null,null,null,null,null,null,"","",null,null,null,null,{"$f":"IF(referentes!Y947=\"\",\"\",referentes!Y947)","v":""},{"$f":"CONCATENATE(IF(referentes!Z947=\"\",\"\",referentes!Z947),IF(referentes!AA947=\"\",\"\",CONCATENATE(\" \",referentes!AA947)))","v":""}]
[null,null,null,null,null,null,null,null,null,null,null,null,null,null,null,"","",null,null,null,null,{"$f":"IF(referentes!Y948=\"\",\"\",referentes!Y948)","v":""},{"$f":"CONCATENATE(IF(referentes!Z948=\"\",\"\",referentes!Z948),IF(referentes!AA948=\"\",\"\",CONCATENATE(\" \",referentes!AA948)))","v":""}]
[null,null,null,null,null,null,null,null,null,null,null,null,null,null,null,"","",null,null,null,null,{"$f":"IF(referentes!Y949=\"\",\"\",referentes!Y949)","v":""},{"$f":"CONCATENATE(IF(referentes!Z949=\"\",\"\",referentes!Z949),IF(referentes!AA949=\"\",\"\",CONCATENATE(\" \",referentes!AA949)))","v":""}]
[null,null,null,null,null,null,null,null,null,null,null,null,null,null,null,"","",null,null,null,null,{"$f":"IF(referentes!Y950=\"\",\"\",referentes!Y950)","v":""},{"$f":"CONCATENATE(IF(referentes!Z950=\"\",\"\",referentes!Z950),IF(referentes!AA950=\"\",\"\",CONCATENATE(\" \",referentes!AA950)))","v":""}]
[null,null,null,null,null,null,null,null,null,null,null,null,null,null,null,"","",null,null,null,null,{"$f":"IF(referentes!Y951=\"\",\"\",referentes!Y951)","v":""},{"$f":"CONCATENATE(IF(referentes!Z951=\"\",\"\",referentes!Z951),IF(referentes!AA951=\"\",\"\",CONCATENATE(\" \",referentes!AA951)))","v":""}]
[null,null,null,null,null,null,null,null,null,null,null,null,null,null,null,"","",null,null,null,null,{"$f":"IF(referentes!Y952=\"\",\"\",referentes!Y952)","v":""},{"$f":"CONCATENATE(IF(referentes!Z952=\"\",\"\",referentes!Z952),IF(referentes!AA952=\"\",\"\",CONCATENATE(\" \",referentes!AA952)))","v":""}]
[null,null,null,null,null,null,null,null,null,null,null,null,null,null,null,"","",null,null,null,null,{"$f":"IF(referentes!Y953=\"\",\"\",referentes!Y953)","v":""},{"$f":"CONCATENATE(IF(referentes!Z953=\"\",\"\",referentes!Z953),IF(referentes!AA953=\"\",\"\",CONCATENATE(\" \",referentes!AA953)))","v":""}]
[null,null,null,null,null,null,null,null,null,null,null,null,null,null,null,"","",null,null,null,null,{"$f":"IF(referentes!Y954=\"\",\"\",referentes!Y954)","v":""},{"$f":"CONCATENATE(IF(referentes!Z954=\"\",\"\",referentes!Z954),IF(referentes!AA954=\"\",\"\",CONCATENATE(\" \",referentes!AA954)))","v":""}]
[null,null,null,null,null,null,null,null,null,null,null,null,null,null,null,"","",null,null,null,null,{"$f":"IF(referentes!Y955=\"\",\"\",referentes!Y955)","v":""},{"$f":"CONCATENATE(IF(referentes!Z955=\"\",\"\",referentes!Z955),IF(referentes!AA955=\"\",\"\",CONCATENATE(\" \",referentes!AA955)))","v":""}]
[null,null,null,null,null,null,null,null,null,null,null,null,null,null,null,"","",null,null,null,null,{"$f":"IF(referentes!Y956=\"\",\"\",referentes!Y956)","v":""},{"$f":"CONCATENATE(IF(referentes!Z956=\"\",\"\",referentes!Z956),IF(referentes!AA956=\"\",\"\",CONCATENATE(\" \",referentes!AA956)))","v":""}]
[null,null,null,null,null,null,null,null,null,null,null,null,null,null,null,"","",null,null,null,null,{"$f":"IF(referentes!Y957=\"\",\"\",referentes!Y957)","v":""},{"$f":"CONCATENATE(IF(referentes!Z957=\"\",\"\",referentes!Z957),IF(referentes!AA957=\"\",\"\",CONCATENATE(\" \",referentes!AA957)))","v":""}]
[null,null,null,null,null,null,null,null,null,null,null,null,null,null,null,"","",null,null,null,null,{"$f":"IF(referentes!Y958=\"\",\"\",referentes!Y958)","v":""},{"$f":"CONCATENATE(IF(referentes!Z958=\"\",\"\",referentes!Z958),IF(referentes!AA958=\"\",\"\",CONCATENATE(\" \",referentes!AA958)))","v":""}]
[null,null,null,null,null,null,null,null,null,null,null,null,null,null,null,"","",null,null,null,null,{"$f":"IF(referentes!Y959=\"\",\"\",referentes!Y959)","v":""},{"$f":"CONCATENATE(IF(referentes!Z959=\"\",\"\",referentes!Z959),IF(referentes!AA959=\"\",\"\",CONCATENATE(\" \",referentes!AA959)))","v":""}]
[null,null,null,null,null,null,null,null,null,null,null,null,null,null,null,"","",null,null,null,null,{"$f":"IF(referentes!Y960=\"\",\"\",referentes!Y960)","v":""},{"$f":"CONCATENATE(IF(referentes!Z960=\"\",\"\",referentes!Z960),IF(referentes!AA960=\"\",\"\",CONCATENATE(\" \",referentes!AA960)))","v":""}]
[null,null,null,null,null,null,null,null,null,null,null,null,null,null,null,"","",null,null,null,null,{"$f":"IF(referentes!Y961=\"\",\"\",referentes!Y961)","v":""},{"$f":"CONCATENATE(IF(referentes!Z961=\"\",\"\",referentes!Z961),IF(referentes!AA961=\"\",\"\",CONCATENATE(\" \",referentes!AA961)))","v":""}]
[null,null,null,null,null,null,null,null,null,null,null,null,null,null,null,"","",null,null,null,null,{"$f":"IF(referentes!Y962=\"\",\"\",referentes!Y962)","v":""},{"$f":"CONCATENATE(IF(referentes!Z962=\"\",\"\",referentes!Z962),IF(referentes!AA962=\"\",\"\",CONCATENATE(\" \",referentes!AA962)))","v":""}]
[null,null,null,null,null,null,null,null,null,null,null,null,null,null,null,"","",null,null,null,null,{"$f":"IF(referentes!Y963=\"\",\"\",referentes!Y963)","v":""},{"$f":"CONCATENATE(IF(referentes!Z963=\"\",\"\",referentes!Z963),IF(referentes!AA963=\"\",\"\",CONCATENATE(\" \",referentes!AA963)))","v":""}]
[null,null,null,null,null,null,null,null,null,null,null,null,null,null,null,"","",null,null,null,null,{"$f":"IF(referentes!Y964=\"\",\"\",referentes!Y964)","v":""},{"$f":"CONCATENATE(IF(referentes!Z964=\"\",\"\",referentes!Z964),IF(referentes!AA964=\"\",\"\",CONCATENATE(\" \",referentes!AA964)))","v":""}]
[null,null,null,null,null,null,null,null,null,null,null,null,null,null,null,"","",null,null,null,null,{"$f":"IF(referentes!Y965=\"\",\"\",referentes!Y965)","v":""},{"$f":"CONCATENATE(IF(referentes!Z965=\"\",\"\",referentes!Z965),IF(referentes!AA965=\"\",\"\",CONCATENATE(\" \",referentes!AA965)))","v":""}]
[null,null,null,null,null,null,null,null,null,null,null,null,null,null,null,"","",null,null,null,null,{"$f":"IF(referentes!Y966=\"\",\"\",referentes!Y966)","v":""},{"$f":"CONCATENATE(IF(referentes!Z966=\"\",\"\",referentes!Z966),IF(referentes!AA966=\"\",\"\",CONCATENATE(\" \",referentes!AA966)))","v":""}]
[null,null,null,null,null,null,null,null,null,null,null,null,null,null,null,"","",null,null,null,null,{"$f":"IF(referentes!Y967=\"\",\"\",referentes!Y967)","v":""},{"$f":"CONCATENATE(IF(referentes!Z967=\"\",\"\",referentes!Z967),IF(referentes!AA967=\"\",\"\",CONCATENATE(\" \",referentes!AA967)))","v":""}]
[null,null,null,null,null,null,null,null,null,null,null,null,null,null,null,"","",null,null,null,null,{"$f":"IF(referentes!Y968=\"\",\"\",referentes!Y968)","v":""},{"$f":"CONCATENATE(IF(referentes!Z968=\"\",\"\",referentes!Z968),IF(referentes!AA968=\"\",\"\",CONCATENATE(\" \",referentes!AA968)))","v":""}]
[null,null,null,null,null,null,null,null,null,null,null,null,null,null,null,"","",null,null,null,null,{"$f":"IF(referentes!Y969=\"\",\"\",referentes!Y969)","v":""},{"$f":"CONCATENATE(IF(referentes!Z969=\"\",\"\",referentes!Z969),IF(referentes!AA969=\"\",\"\",CONCATENATE(\" \",referentes!AA969)))","v":""}]
[null,null,null,null,null,null,null,null,null,null,null,null,null,null,null,"","",null,null,null,null,{"$f":"IF(referentes!Y970=\"\",\"\",referentes!Y970)","v":""},{"$f":"CONCATENATE(IF(referentes!Z970=\"\",\"\",referentes!Z970),IF(referentes!AA970=\"\",\"\",CONCATENATE(\" \",referentes!AA970)))","v":""}]
[null,null,null,null,null,null,null,null,null,null,null,null,null,null,null,"","",null,null,null,null,{"$f":"IF(referentes!Y971=\"\",\"\",referentes!Y971)","v":""},{"$f":"CONCATENATE(IF(referentes!Z971=\"\",\"\",referentes!Z971),IF(referentes!AA971=\"\",\"\",CONCATENATE(\" \",referentes!AA971)))","v":""}]
[null,null,null,null,null,null,null,null,null,null,null,null,null,null,null,"","",null,null,null,null,{"$f":"IF(referentes!Y972=\"\",\"\",referentes!Y972)","v":""},{"$f":"CONCATENATE(IF(referentes!Z972=\"\",\"\",referentes!Z972),IF(referentes!AA972=\"\",\"\",CONCATENATE(\" \",referentes!AA972)))","v":""}]
[null,null,null,null,null,null,null,null,null,null,null,null,null,null,null,"","",null,null,null,null,{"$f":"IF(referentes!Y973=\"\",\"\",referentes!Y973)","v":""},{"$f":"CONCATENATE(IF(referentes!Z973=\"\",\"\",referentes!Z973),IF(referentes!AA973=\"\",\"\",CONCATENATE(\" \",referentes!AA973)))","v":""}]
[null,null,null,null,null,null,null,null,null,null,null,null,null,null,null,"","",null,null,null,null,{"$f":"IF(referentes!Y974=\"\",\"\",referentes!Y974)","v":""},{"$f":"CONCATENATE(IF(referentes!Z974=\"\",\"\",referentes!Z974),IF(referentes!AA974=\"\",\"\",CONCATENATE(\" \",referentes!AA974)))","v":""}]
[null,null,null,null,null,null,null,null,null,null,null,null,null,null,null,"","",null,null,null,null,{"$f":"IF(referentes!Y975=\"\",\"\",referentes!Y975)","v":""},{"$f":"CONCATENATE(IF(referentes!Z975=\"\",\"\",referentes!Z975),IF(referentes!AA975=\"\",\"\",CONCATENATE(\" \",referentes!AA975)))","v":""}]
[null,null,null,null,null,null,null,null,null,null,null,null,null,null,null,"","",null,null,null,null,{"$f":"IF(referentes!Y976=\"\",\"\",referentes!Y976)","v":""},{"$f":"CONCATENATE(IF(referentes!Z976=\"\",\"\",referentes!Z976),IF(referentes!AA976=\"\",\"\",CONCATENATE(\" \",referentes!AA976)))","v":""}]
[null,null,null,null,null,null,null,null,null,null,null,null,null,null,null,"","",null,null,null,null,{"$f":"IF(referentes!Y977=\"\",\"\",referentes!Y977)","v":""},{"$f":"CONCATENATE(IF(referentes!Z977=\"\",\"\",referentes!Z977),IF(referentes!AA977=\"\",\"\",CONCATENATE(\" \",referentes!AA977)))","v":""}]
[null,null,null,null,null,null,null,null,null,null,null,null,null,null,null,"","",null,null,null,null,{"$f":"IF(referentes!Y978=\"\",\"\",referentes!Y978)","v":""},{"$f":"CONCATENATE(IF(referentes!Z978=\"\",\"\",referentes!Z978),IF(referentes!AA978=\"\",\"\",CONCATENATE(\" \",referentes!AA978)))","v":""}]
[null,null,null,null,null,null,null,null,null,null,null,null,null,null,null,"","",null,null,null,null,{"$f":"IF(referentes!Y979=\"\",\"\",referentes!Y979)","v":""},{"$f":"CONCATENATE(IF(referentes!Z979=\"\",\"\",referentes!Z979),IF(referentes!AA979=\"\",\"\",CONCATENATE(\" \",referentes!AA979)))","v":""}]
[null,null,null,null,null,null,null,null,null,null,null,null,null,null,null,"","",null,null,null,null,{"$f":"IF(referentes!Y980=\"\",\"\",referentes!Y980)","v":""},{"$f":"CONCATENATE(IF(referentes!Z980=\"\",\"\",referentes!Z980),IF(referentes!AA980=\"\",\"\",CONCATENATE(\" \",referentes!AA980)))","v":""}]
[null,null,null,null,null,null,null,null,null,null,null,null,null,null,null,"","",null,null,null,null,{"$f":"IF(referentes!Y981=\"\",\"\",referentes!Y981)","v":""},{"$f":"CONCATENATE(IF(referentes!Z981=\"\",\"\",referentes!Z981),IF(referentes!AA981=\"\",\"\",CONCATENATE(\" \",referentes!AA981)))","v":""}]
[null,null,null,null,null,null,null,null,null,null,null,null,null,null,null,"","",null,null,null,null,{"$f":"IF(referentes!Y982=\"\",\"\",referentes!Y982)","v":""},{"$f":"CONCATENATE(IF(referentes!Z982=\"\",\"\",referentes!Z982),IF(referentes!AA982=\"\",\"\",CONCATENATE(\" \",referentes!AA982)))","v":""}]
[null,null,null,null,null,null,null,null,null,null,null,null,null,null,null,"","",null,null,null,null,{"$f":"IF(referentes!Y983=\"\",\"\",referentes!Y983)","v":""},{"$f":"CONCATENATE(IF(referentes!Z983=\"\",\"\",referentes!Z983),IF(referentes!AA983=\"\",\"\",CONCATENATE(\" \",referentes!AA983)))","v":""}]
[null,null,null,null,null,null,null,null,null,null,null,null,null,null,null,"","",null,null,null,null,{"$f":"IF(referentes!Y984=\"\",\"\",referentes!Y984)","v":""},{"$f":"CONCATENATE(IF(referentes!Z984=\"\",\"\",referentes!Z984),IF(referentes!AA984=\"\",\"\",CONCATENATE(\" \",referentes!AA984)))","v":""}]
[null,null,null,null,null,null,null,null,null,null,null,null,null,null,null,"","",null,null,null,null,{"$f":"IF(referentes!Y985=\"\",\"\",referentes!Y985)","v":""},{"$f":"CONCATENATE(IF(referentes!Z985=\"\",\"\",referentes!Z985),IF(referentes!AA985=\"\",\"\",CONCATENATE(\" \",referentes!AA985)))","v":""}]
[null,null,null,null,null,null,null,null,null,null,null,null,null,null,null,"","",null,null,null,null,{"$f":"IF(referentes!Y986=\"\",\"\",referentes!Y986)","v":""},{"$f":"CONCATENATE(IF(referentes!Z986=\"\",\"\",referentes!Z986),IF(referentes!AA986=\"\",\"\",CONCATENATE(\" \",referentes!AA986)))","v":""}]
[null,null,null,null,null,null,null,null,null,null,null,null,null,null,null,"","",null,null,null,null,{"$f":"IF(referentes!Y987=\"\",\"\",referentes!Y987)","v":""},{"$f":"CONCATENATE(IF(referentes!Z987=\"\",\"\",referentes!Z987),IF(referentes!AA987=\"\",\"\",CONCATENATE(\" \",referentes!AA987)))","v":""}]
[null,null,null,null,null,null,null,null,null,null,null,null,null,null,null,"","",null,null,null,null,{"$f":"IF(referentes!Y988=\"\",\"\",referentes!Y988)","v":""},{"$f":"CONCATENATE(IF(referentes!Z988=\"\",\"\",referentes!Z988),IF(referentes!AA988=\"\",\"\",CONCATENATE(\" \",referentes!AA988)))","v":""}]
[null,null,null,null,null,null,null,null,null,null,null,null,null,null,null,"","",null,null,null,null,{"$f":"IF(referentes!Y989=\"\",\"\",referentes!Y989)","v":""},{"$f":"CONCATENATE(IF(referentes!Z989=\"\",\"\",referentes!Z989),IF(referentes!AA989=\"\",\"\",CONCATENATE(\" \",referentes!AA989)))","v":""}]
[null,null,null,null,null,null,null,null,null,null,null,null,null,null,null,"","",null,null,null,null,{"$f":"IF(referentes!Y990=\"\",\"\",referentes!Y990)","v":""},{"$f":"CONCATENATE(IF(referentes!Z990=\"\",\"\",referentes!Z990),IF(referentes!AA990=\"\",\"\",CONCATENATE(\" \",referentes!AA990)))","v":""}]
[null,null,null,null,null,null,null,null,null,null,null,null,null,null,null,"","",null,null,null,null,{"$f":"IF(referentes!Y991=\"\",\"\",referentes!Y991)","v":""},{"$f":"CONCATENATE(IF(referentes!Z991=\"\",\"\",referentes!Z991),IF(referentes!AA991=\"\",\"\",CONCATENATE(\" \",referentes!AA991)))","v":""}]
[null,null,null,null,null,null,null,null,null,null,null,null,null,null,null,"","",null,null,null,null,{"$f":"IF(referentes!Y992=\"\",\"\",referentes!Y992)","v":""},{"$f":"CONCATENATE(IF(referentes!Z992=\"\",\"\",referentes!Z992),IF(referentes!AA992=\"\",\"\",CONCATENATE(\" \",referentes!AA992)))","v":""}]
[null,null,null,null,null,null,null,null,null,null,null,null,null,null,null,"","",null,null,null,null,{"$f":"IF(referentes!Y993=\"\",\"\",referentes!Y993)","v":""},{"$f":"CONCATENATE(IF(referentes!Z993=\"\",\"\",referentes!Z993),IF(referentes!AA993=\"\",\"\",CONCATENATE(\" \",referentes!AA993)))","v":""}]
[null,null,null,null,null,null,null,null,null,null,null,null,null,null,null,"","",null,null,null,null,{"$f":"IF(referentes!Y994=\"\",\"\",referentes!Y994)","v":""},{"$f":"CONCATENATE(IF(referentes!Z994=\"\",\"\",referentes!Z994),IF(referentes!AA994=\"\",\"\",CONCATENATE(\" \",referentes!AA994)))","v":""}]
[null,null,null,null,null,null,null,null,null,null,null,null,null,null,null,"","",null,null,null,null,{"$f":"IF(referentes!Y995=\"\",\"\",referentes!Y995)","v":""},{"$f":"CONCATENATE(IF(referentes!Z995=\"\",\"\",referentes!Z995),IF(referentes!AA995=\"\",\"\",CONCATENATE(\" \",referentes!AA995)))","v":""}]
[null,null,null,null,null,null,null,null,null,null,null,null,null,null,null,"","",null,null,null,null,{"$f":"IF(referentes!Y996=\"\",\"\",referentes!Y996)","v":""},{"$f":"CONCATENATE(IF(referentes!Z996=\"\",\"\",referentes!Z996),IF(referentes!AA996=\"\",\"\",CONCATENATE(\" \",referentes!AA996)))","v":""}]
[null,null,null,null,null,null,null,null,null,null,null,null,null,null,null,"","",null,null,null,null,{"$f":"IF(referentes!Y997=\"\",\"\",referentes!Y997)","v":""},{"$f":"CONCATENATE(IF(referentes!Z997=\"\",\"\",referentes!Z997),IF(referentes!AA997=\"\",\"\",CONCATENATE(\" \",referentes!AA997)))","v":""}]
[null,null,null,null,null,null,null,null,null,null,null,null,null,null,null,"","",null,null,null,null,{"$f":"IF(referentes!Y998=\"\",\"\",referentes!Y998)","v":""},{"$f":"CONCATENATE(IF(referentes!Z998=\"\",\"\",referentes!Z998),IF(referentes!AA998=\"\",\"\",CONCATENATE(\" \",referentes!AA998)))","v":""}]
[null,null,null,null,null,null,null,null,null,null,null,null,null,null,null,"","",null,null,null,null,{"$f":"IF(referentes!Y999=\"\",\"\",referentes!Y999)","v":""},{"$f":"CONCATENATE(IF(referentes!Z999=\"\",\"\",referentes!Z999),IF(referentes!AA999=\"\",\"\",CONCATENATE(\" \",referentes!AA999)))","v":""}]
[null,null,null,null,null,null,null,null,null,null,null,null,null,null,null,"","",null,null,null,null,{"$f":"IF(referentes!Y1000=\"\",\"\",referentes!Y1000)","v":""},{"$f":"CONCATENATE(IF(referentes!Z1000=\"\",\"\",referentes!Z1000),IF(referentes!AA1000=\"\",\"\",CONCATENATE(\" \",referentes!AA1000)))","v":""}]
[null,null,null,null,null,null,null,null,null,null,null,null,null,null,null,"","",null,null,null,null,{"$f":"IF(referentes!Y1001=\"\",\"\",referentes!Y1001)","v":""},{"$f":"CONCATENATE(IF(referentes!Z1001=\"\",\"\",referentes!Z1001),IF(referentes!AA1001=\"\",\"\",CONCATENATE(\" \",referentes!AA1001)))","v":""}]
[null,null,null,null,null,null,null,null,null,null,null,null,null,null,null,"","",null,null,null,null,{"$f":"IF(referentes!Y1002=\"\",\"\",referentes!Y1002)","v":""},{"$f":"CONCATENATE(IF(referentes!Z1002=\"\",\"\",referentes!Z1002),IF(referentes!AA1002=\"\",\"\",CONCATENATE(\" \",referentes!AA1002)))","v":""}]
[null,null,null,null,null,null,null,null,null,null,null,null,null,null,null,"","",null,null,null,null,{"$f":"IF(referentes!Y1003=\"\",\"\",referentes!Y1003)","v":""},{"$f":"CONCATENATE(IF(referentes!Z1003=\"\",\"\",referentes!Z1003),IF(referentes!AA1003=\"\",\"\",CONCATENATE(\" \",referentes!AA1003)))","v":""}]
[null,null,null,null,null,null,null,null,null,null,null,null,null,null,null,"","",null,null,null,null,{"$f":"IF(referentes!Y1004=\"\",\"\",referentes!Y1004)","v":""},{"$f":"CONCATENATE(IF(referentes!Z1004=\"\",\"\",referentes!Z1004),IF(referentes!AA1004=\"\",\"\",CONCATENATE(\" \",referentes!AA1004)))","v":""}]
[null,null,null,null,null,null,null,null,null,null,null,null,null,null,null,"","",null,null,null,null,{"$f":"IF(referentes!Y1005=\"\",\"\",referentes!Y1005)","v":""},{"$f":"CONCATENATE(IF(referentes!Z1005=\"\",\"\",referentes!Z1005),IF(referentes!AA1005=\"\",\"\",CONCATENATE(\" \",referentes!AA1005)))","v":""}]
[null,null,null,null,null,null,null,null,null,null,null,null,null,null,null,"","",null,null,null,null,{"$f":"IF(referentes!Y1006=\"\",\"\",referentes!Y1006)","v":""},{"$f":"CONCATENATE(IF(referentes!Z1006=\"\",\"\",referentes!Z1006),IF(referentes!AA1006=\"\",\"\",CONCATENATE(\" \",referentes!AA1006)))","v":""}]
[null,null,null,null,null,null,null,null,null,null,null,null,null,null,null,"","",null,null,null,null,{"$f":"IF(referentes!Y1007=\"\",\"\",referentes!Y1007)","v":""},{"$f":"CONCATENATE(IF(referentes!Z1007=\"\",\"\",referentes!Z1007),IF(referentes!AA1007=\"\",\"\",CONCATENATE(\" \",referentes!AA1007)))","v":""}]
[null,null,null,null,null,null,null,null,null,null,null,null,null,null,null,"","",null,null,null,null,{"$f":"IF(referentes!Y1008=\"\",\"\",referentes!Y1008)","v":""},{"$f":"CONCATENATE(IF(referentes!Z1008=\"\",\"\",referentes!Z1008),IF(referentes!AA1008=\"\",\"\",CONCATENATE(\" \",referentes!AA1008)))","v":""}]
[null,null,null,null,null,null,null,null,null,null,null,null,null,null,null,"","",null,null,null,null,{"$f":"IF(referentes!Y1009=\"\",\"\",referentes!Y1009)","v":""},{"$f":"CONCATENATE(IF(referentes!Z1009=\"\",\"\",referentes!Z1009),IF(referentes!AA1009=\"\",\"\",CONCATENATE(\" \",referentes!AA1009)))","v":""}]
[null,null,null,null,null,null,null,null,null,null,null,null,null,null,null,"","",null,null,null,null,{"$f":"IF(referentes!Y1010=\"\",\"\",referentes!Y1010)","v":""},{"$f":"CONCATENATE(IF(referentes!Z1010=\"\",\"\",referentes!Z1010),IF(referentes!AA1010=\"\",\"\",CONCATENATE(\" \",referentes!AA1010)))","v":""}]
[null,null,null,null,null,null,null,null,null,null,null,null,null,null,null,"","",null,null,null,null,{"$f":"IF(referentes!Y1011=\"\",\"\",referentes!Y1011)","v":""},{"$f":"CONCATENATE(IF(referentes!Z1011=\"\",\"\",referentes!Z1011),IF(referentes!AA1011=\"\",\"\",CONCATENATE(\" \",referentes!AA1011)))","v":""}]
[null,null,null,null,null,null,null,null,null,null,null,null,null,null,null,"","",null,null,null,null,{"$f":"IF(referentes!Y1012=\"\",\"\",referentes!Y1012)","v":""},{"$f":"CONCATENATE(IF(referentes!Z1012=\"\",\"\",referentes!Z1012),IF(referentes!AA1012=\"\",\"\",CONCATENATE(\" \",referentes!AA1012)))","v":""}]
[null,null,null,null,null,null,null,null,null,null,null,null,null,null,null,"","",null,null,null,null,{"$f":"IF(referentes!Y1013=\"\",\"\",referentes!Y1013)","v":""},{"$f":"CONCATENATE(IF(referentes!Z1013=\"\",\"\",referentes!Z1013),IF(referentes!AA1013=\"\",\"\",CONCATENATE(\" \",referentes!AA1013)))","v":""}]
[null,null,null,null,null,null,null,null,null,null,null,null,null,null,null,"","",null,null,null,null,{"$f":"IF(referentes!Y1014=\"\",\"\",referentes!Y1014)","v":""},{"$f":"CONCATENATE(IF(referentes!Z1014=\"\",\"\",referentes!Z1014),IF(referentes!AA1014=\"\",\"\",CONCATENATE(\" \",referentes!AA1014)))","v":""}]
[null,null,null,null,null,null,null,null,null,null,null,null,null,null,null,"","",null,null,null,null,{"$f":"IF(referentes!Y1015=\"\",\"\",referentes!Y1015)","v":""},{"$f":"CONCATENATE(IF(referentes!Z1015=\"\",\"\",referentes!Z1015),IF(referentes!AA1015=\"\",\"\",CONCATENATE(\" \",referentes!AA1015)))","v":""}]
[null,null,null,null,null,null,null,null,null,null,null,null,null,null,null,"","",null,null,null,null,{"$f":"IF(referentes!Y1016=\"\",\"\",referentes!Y1016)","v":""},{"$f":"CONCATENATE(IF(referentes!Z1016=\"\",\"\",referentes!Z1016),IF(referentes!AA1016=\"\",\"\",CONCATENATE(\" \",referentes!AA1016)))","v":""}]
[null,null,null,null,null,null,null,null,null,null,null,null,null,null,null,"","",null,null,null,null,{"$f":"IF(referentes!Y1017=\"\",\"\",referentes!Y1017)","v":""},{"$f":"CONCATENATE(IF(referentes!Z1017=\"\",\"\",referentes!Z1017),IF(referentes!AA1017=\"\",\"\",CONCATENATE(\" \",referentes!AA1017)))","v":""}]
[null,null,null,null,null,null,null,null,null,null,null,null,null,null,null,"","",null,null,null,null,{"$f":"IF(referentes!Y1018=\"\",\"\",referentes!Y1018)","v":""},{"$f":"CONCATENATE(IF(referentes!Z1018=\"\",\"\",referentes!Z1018),IF(referentes!AA1018=\"\",\"\",CONCATENATE(\" \",referentes!AA1018)))","v":""}]
[null,null,null,null,null,null,null,null,null,null,null,null,null,null,null,"","",null,null,null,null,{"$f":"IF(referentes!Y1019=\"\",\"\",referentes!Y1019)","v":""},{"$f":"CONCATENATE(IF(referentes!Z1019=\"\",\"\",referentes!Z1019),IF(referentes!AA1019=\"\",\"\",CONCATENATE(\" \",referentes!AA1019)))","v":""}]
[null,null,null,null,null,null,null,null,null,null,null,null,null,null,null,"","",null,null,null,null,{"$f":"IF(referentes!Y1020=\"\",\"\",referentes!Y1020)","v":""},{"$f":"CONCATENATE(IF(referentes!Z1020=\"\",\"\",referentes!Z1020),IF(referentes!AA1020=\"\",\"\",CONCATENATE(\" \",referentes!AA1020)))","v":""}]
[null,null,null,null,null,null,null,null,null,null,null,null,null,null,null,"","",null,null,null,null,{"$f":"IF(referentes!Y1021=\"\",\"\",referentes!Y1021)","v":""},{"$f":"CONCATENATE(IF(referentes!Z1021=\"\",\"\",referentes!Z1021),IF(referentes!AA1021=\"\",\"\",CONCATENATE(\" \",referentes!AA1021)))","v":""}]
[null,null,null,null,null,null,null,null,null,null,null,null,null,null,null,"","",null,null,null,null,{"$f":"IF(referentes!Y1022=\"\",\"\",referentes!Y1022)","v":""},{"$f":"CONCATENATE(IF(referentes!Z1022=\"\",\"\",referentes!Z1022),IF(referentes!AA1022=\"\",\"\",CONCATENATE(\" \",referentes!AA1022)))","v":""}]
[null,null,null,null,null,null,null,null,null,null,null,null,null,null,null,"","",null,null,null,null,{"$f":"IF(referentes!Y1023=\"\",\"\",referentes!Y1023)","v":""},{"$f":"CONCATENATE(IF(referentes!Z1023=\"\",\"\",referentes!Z1023),IF(referentes!AA1023=\"\",\"\",CONCATENATE(\" \",referentes!AA1023)))","v":""}]
[null,null,null,null,null,null,null,null,null,null,null,null,null,null,null,"","",null,null,null,null,{"$f":"IF(referentes!Y1024=\"\",\"\",referentes!Y1024)","v":""},{"$f":"CONCATENATE(IF(referentes!Z1024=\"\",\"\",referentes!Z1024),IF(referentes!AA1024=\"\",\"\",CONCATENATE(\" \",referentes!AA1024)))","v":""}]
[null,null,null,null,null,null,null,null,null,null,null,null,null,null,null,"","",null,null,null,null,{"$f":"IF(referentes!Y1025=\"\",\"\",referentes!Y1025)","v":""},{"$f":"CONCATENATE(IF(referentes!Z1025=\"\",\"\",referentes!Z1025),IF(referentes!AA1025=\"\",\"\",CONCATENATE(\" \",referentes!AA1025)))","v":""}]
[null,null,null,null,null,null,null,null,null,null,null,null,null,null,null,"","",null,null,null,null,{"$f":"IF(referentes!Y1026=\"\",\"\",referentes!Y1026)","v":""},{"$f":"CONCATENATE(IF(referentes!Z1026=\"\",\"\",referentes!Z1026),IF(referentes!AA1026=\"\",\"\",CONCATENATE(\" \",referentes!AA1026)))","v":""}]
[null,null,null,null,null,null,null,null,null,null,null,null,null,null,null,"","",null,null,null,null,{"$f":"IF(referentes!Y1027=\"\",\"\",referentes!Y1027)","v":""},{"$f":"CONCATENATE(IF(referentes!Z1027=\"\",\"\",referentes!Z1027),IF(referentes!AA1027=\"\",\"\",CONCATENATE(\" \",referentes!AA1027)))","v":""}]
[null,null,null,null,null,null,null,null,null,null,null,null,null,null,null,"","",null,null,null,null,{"$f":"IF(referentes!Y1028=\"\",\"\",referentes!Y1028)","v":""},{"$f":"CONCATENATE(IF(referentes!Z1028=\"\",\"\",referentes!Z1028),IF(referentes!AA1028=\"\",\"\",CONCATENATE(\" \",referentes!AA1028)))","v":""}]
[null,null,null,null,null,null,null,null,null,null,null,null,null,null,null,"","",null,null,null,null,{"$f":"IF(referentes!Y1029=\"\",\"\",referentes!Y1029)","v":""},{"$f":"CONCATENATE(IF(referentes!Z1029=\"\",\"\",referentes!Z1029),IF(referentes!AA1029=\"\",\"\",CONCATENATE(\" \",referentes!AA1029)))","v":""}]
[null,null,null,null,null,null,null,null,null,null,null,null,null,null,null,"","",null,null,null,null,{"$f":"IF(referentes!Y1030=\"\",\"\",referentes!Y1030)","v":""},{"$f":"CONCATENATE(IF(referentes!Z1030=\"\",\"\",referentes!Z1030),IF(referentes!AA1030=\"\",\"\",CONCATENATE(\" \",referentes!AA1030)))","v":""}]
[null,null,null,null,null,null,null,null,null,null,null,null,null,null,null,"","",null,null,null,null,{"$f":"IF(referentes!Y1031=\"\",\"\",referentes!Y1031)","v":""},{"$f":"CONCATENATE(IF(referentes!Z1031=\"\",\"\",referentes!Z1031),IF(referentes!AA1031=\"\",\"\",CONCATENATE(\" \",referentes!AA1031)))","v":""}]
[null,null,null,null,null,null,null,null,null,null,null,null,null,null,null,"","",null,null,null,null,{"$f":"IF(referentes!Y1032=\"\",\"\",referentes!Y1032)","v":""},{"$f":"CONCATENATE(IF(referentes!Z1032=\"\",\"\",referentes!Z1032),IF(referentes!AA1032=\"\",\"\",CONCATENATE(\" \",referentes!AA1032)))","v":""}]
[null,null,null,null,null,null,null,null,null,null,null,null,null,null,null,"","",null,null,null,null,{"$f":"IF(referentes!Y1033=\"\",\"\",referentes!Y1033)","v":""},{"$f":"CONCATENATE(IF(referentes!Z1033=\"\",\"\",referentes!Z1033),IF(referentes!AA1033=\"\",\"\",CONCATENATE(\" \",referentes!AA1033)))","v":""}]
[null,null,null,null,null,null,null,null,null,null,null,null,null,null,null,"","",null,null,null,null,{"$f":"IF(referentes!Y1034=\"\",\"\",referentes!Y1034)","v":""},{"$f":"CONCATENATE(IF(referentes!Z1034=\"\",\"\",referentes!Z1034),IF(referentes!AA1034=\"\",\"\",CONCATENATE(\" \",referentes!AA1034)))","v":""}]
[null,null,null,null,null,null,null,null,null,null,null,null,null,null,null,"","",null,null,null,null,{"$f":"IF(referentes!Y1035=\"\",\"\",referentes!Y1035)","v":""},{"$f":"CONCATENATE(IF(referentes!Z1035=\"\",\"\",referentes!Z1035),IF(referentes!AA1035=\"\",\"\",CONCATENATE(\" \",referentes!AA1035)))","v":""}]
[null,null,null,null,null,null,null,null,null,null,null,null,null,null,null,"","",null,null,null,null,{"$f":"IF(referentes!Y1036=\"\",\"\",referentes!Y1036)","v":""},{"$f":"CONCATENATE(IF(referentes!Z1036=\"\",\"\",referentes!Z1036),IF(referentes!AA1036=\"\",\"\",CONCATENATE(\" \",referentes!AA1036)))","v":""}]
[null,null,null,null,null,null,null,null,null,null,null,null,null,null,null,"","",null,null,null,null,{"$f":"IF(referentes!Y1037=\"\",\"\",referentes!Y1037)","v":""},{"$f":"CONCATENATE(IF(referentes!Z1037=\"\",\"\",referentes!Z1037),IF(referentes!AA1037=\"\",\"\",CONCATENATE(\" \",referentes!AA1037)))","v":""}]
[null,null,null,null,null,null,null,null,null,null,null,null,null,null,null,"","",null,null,null,null,{"$f":"IF(referentes!Y1038=\"\",\"\",referentes!Y1038)","v":""},{"$f":"CONCATENATE(IF(referentes!Z1038=\"\",\"\",referentes!Z1038),IF(referentes!AA1038=\"\",\"\",CONCATENATE(\" \",referentes!AA1038)))","v":""}]
[null,null,null,null,null,null,null,null,null,null,null,null,null,null,null,"","",null,null,null,null,{"$f":"IF(referentes!Y1039=\"\",\"\",referentes!Y1039)","v":""},{"$f":"CONCATENATE(IF(referentes!Z1039=\"\",\"\",referentes!Z1039),IF(referentes!AA1039=\"\",\"\",CONCATENATE(\" \",referentes!AA1039)))","v":""}]
[null,null,null,null,null,null,null,null,null,null,null,null,null,null,null,"","",null,null,null,null,{"$f":"IF(referentes!Y1040=\"\",\"\",referentes!Y1040)","v":""},{"$f":"CONCATENATE(IF(referentes!Z1040=\"\",\"\",referentes!Z1040),IF(referentes!AA1040=\"\",\"\",CONCATENATE(\" \",referentes!AA1040)))","v":""}]
[null,null,null,null,null,null,null,null,null,null,null,null,null,null,null,"","",null,null,null,null,{"$f":"IF(referentes!Y1041=\"\",\"\",referentes!Y1041)","v":""},{"$f":"CONCATENATE(IF(referentes!Z1041=\"\",\"\",referentes!Z1041),IF(referentes!AA1041=\"\",\"\",CONCATENATE(\" \",referentes!AA1041)))","v":""}]
[null,null,null,null,null,null,null,null,null,null,null,null,null,null,null,"","",null,null,null,null,{"$f":"IF(referentes!Y1042=\"\",\"\",referentes!Y1042)","v":""},{"$f":"CONCATENATE(IF(referentes!Z1042=\"\",\"\",referentes!Z1042),IF(referentes!AA1042=\"\",\"\",CONCATENATE(\" \",referentes!AA1042)))","v":""}]
[null,null,null,null,null,null,null,null,null,null,null,null,null,null,null,"","",null,null,null,null,{"$f":"IF(referentes!Y1043=\"\",\"\",referentes!Y1043)","v":""},{"$f":"CONCATENATE(IF(referentes!Z1043=\"\",\"\",referentes!Z1043),IF(referentes!AA1043=\"\",\"\",CONCATENATE(\" \",referentes!AA1043)))","v":""}]
[null,null,null,null,null,null,null,null,null,null,null,null,null,null,null,"","",null,null,null,null,{"$f":"IF(referentes!Y1044=\"\",\"\",referentes!Y1044)","v":""},{"$f":"CONCATENATE(IF(referentes!Z1044=\"\",\"\",referentes!Z1044),IF(referentes!AA1044=\"\",\"\",CONCATENATE(\" \",referentes!AA1044)))","v":""}]
[null,null,null,null,null,null,null,null,null,null,null,null,null,null,null,"","",null,null,null,null,{"$f":"IF(referentes!Y1045=\"\",\"\",referentes!Y1045)","v":""},{"$f":"CONCATENATE(IF(referentes!Z1045=\"\",\"\",referentes!Z1045),IF(referentes!AA1045=\"\",\"\",CONCATENATE(\" \",referentes!AA1045)))","v":""}]
[null,null,null,null,null,null,null,null,null,null,null,null,null,null,null,"","",null,null,null,null,{"$f":"IF(referentes!Y1046=\"\",\"\",referentes!Y1046)","v":""},{"$f":"CONCATENATE(IF(referentes!Z1046=\"\",\"\",referentes!Z1046),IF(referentes!AA1046=\"\",\"\",CONCATENATE(\" \",referentes!AA1046)))","v":""}]
[null,null,null,null,null,null,null,null,null,null,null,null,null,null,null,"","",null,null,null,null,{"$f":"IF(referentes!Y1047=\"\",\"\",referentes!Y1047)","v":""},{"$f":"CONCATENATE(IF(referentes!Z1047=\"\",\"\",referentes!Z1047),IF(referentes!AA1047=\"\",\"\",CONCATENATE(\" \",referentes!AA1047)))","v":""}]
[null,null,null,null,null,null,null,null,null,null,null,null,null,null,null,"","",null,null,null,null,{"$f":"IF(referentes!Y1048=\"\",\"\",referentes!Y1048)","v":""},{"$f":"CONCATENATE(IF(referentes!Z1048=\"\",\"\",referentes!Z1048),IF(referentes!AA1048=\"\",\"\",CONCATENATE(\" \",referentes!AA1048)))","v":""}]
[null,null,null,null,null,null,null,null,null,null,null,null,null,null,null,"","",null,null,null,null,{"$f":"IF(referentes!Y1049=\"\",\"\",referentes!Y1049)","v":""},{"$f":"CONCATENATE(IF(referentes!Z1049=\"\",\"\",referentes!Z1049),IF(referentes!AA1049=\"\",\"\",CONCATENATE(\" \",referentes!AA1049)))","v":""}]
[null,null,null,null,null,null,null,null,null,null,null,null,null,null,null,"","",null,null,null,null,{"$f":"IF(referentes!Y1050=\"\",\"\",referentes!Y1050)","v":""},{"$f":"CONCATENATE(IF(referentes!Z1050=\"\",\"\",referentes!Z1050),IF(referentes!AA1050=\"\",\"\",CONCATENATE(\" \",referentes!AA1050)))","v":""}]
[null,null,null,null,null,null,null,null,null,null,null,null,null,null,null,"","",null,null,null,null,{"$f":"IF(referentes!Y1051=\"\",\"\",referentes!Y1051)","v":""},{"$f":"CONCATENATE(IF(referentes!Z1051=\"\",\"\",referentes!Z1051),IF(referentes!AA1051=\"\",\"\",CONCATENATE(\" \",referentes!AA1051)))","v":""}]
[null,null,null,null,null,null,null,null,null,null,null,null,null,null,null,"","",null,null,null,null,{"$f":"IF(referentes!Y1052=\"\",\"\",referentes!Y1052)","v":""},{"$f":"CONCATENATE(IF(referentes!Z1052=\"\",\"\",referentes!Z1052),IF(referentes!AA1052=\"\",\"\",CONCATENATE(\" \",referentes!AA1052)))","v":""}]
[null,null,null,null,null,null,null,null,null,null,null,null,null,null,null,"","",null,null,null,null,{"$f":"IF(referentes!Y1053=\"\",\"\",referentes!Y1053)","v":""},{"$f":"CONCATENATE(IF(referentes!Z1053=\"\",\"\",referentes!Z1053),IF(referentes!AA1053=\"\",\"\",CONCATENATE(\" \",referentes!AA1053)))","v":""}]
[null,null,null,null,null,null,null,null,null,null,null,null,null,null,null,"","",null,null,null,null,{"$f":"IF(referentes!Y1054=\"\",\"\",referentes!Y1054)","v":""},{"$f":"CONCATENATE(IF(referentes!Z1054=\"\",\"\",referentes!Z1054),IF(referentes!AA1054=\"\",\"\",CONCATENATE(\" \",referentes!AA1054)))","v":""}]
[null,null,null,null,null,null,null,null,null,null,null,null,null,null,null,"","",null,null,null,null,{"$f":"IF(referentes!Y1055=\"\",\"\",referentes!Y1055)","v":""},{"$f":"CONCATENATE(IF(referentes!Z1055=\"\",\"\",referentes!Z1055),IF(referentes!AA1055=\"\",\"\",CONCATENATE(\" \",referentes!AA1055)))","v":""}]
[null,null,null,null,null,null,null,null,null,null,null,null,null,null,null,"","",null,null,null,null,{"$f":"IF(referentes!Y1056=\"\",\"\",referentes!Y1056)","v":""},{"$f":"CONCATENATE(IF(referentes!Z1056=\"\",\"\",referentes!Z1056),IF(referentes!AA1056=\"\",\"\",CONCATENATE(\" \",referentes!AA1056)))","v":""}]
[null,null,null,null,null,null,null,null,null,null,null,null,null,null,null,"","",null,null,null,null,{"$f":"IF(referentes!Y1057=\"\",\"\",referentes!Y1057)","v":""},{"$f":"CONCATENATE(IF(referentes!Z1057=\"\",\"\",referentes!Z1057),IF(referentes!AA1057=\"\",\"\",CONCATENATE(\" \",referentes!AA1057)))","v":""}]
[null,null,null,null,null,null,null,null,null,null,null,null,null,null,null,"","",null,null,null,null,{"$f":"IF(referentes!Y1058=\"\",\"\",referentes!Y1058)","v":""},{"$f":"CONCATENATE(IF(referentes!Z1058=\"\",\"\",referentes!Z1058),IF(referentes!AA1058=\"\",\"\",CONCATENATE(\" \",referentes!AA1058)))","v":""}]
[null,null,null,null,null,null,null,null,null,null,null,null,null,null,null,"","",null,null,null,null,{"$f":"IF(referentes!Y1059=\"\",\"\",referentes!Y1059)","v":""},{"$f":"CONCATENATE(IF(referentes!Z1059=\"\",\"\",referentes!Z1059),IF(referentes!AA1059=\"\",\"\",CONCATENATE(\" \",referentes!AA1059)))","v":""}]
[null,null,null,null,null,null,null,null,null,null,null,null,null,null,null,"","",null,null,null,null,{"$f":"IF(referentes!Y1060=\"\",\"\",referentes!Y1060)","v":""},{"$f":"CONCATENATE(IF(referentes!Z1060=\"\",\"\",referentes!Z1060),IF(referentes!AA1060=\"\",\"\",CONCATENATE(\" \",referentes!AA1060)))","v":""}]
[null,null,null,null,null,null,null,null,null,null,null,null,null,null,null,"","",null,null,null,null,{"$f":"IF(referentes!Y1061=\"\",\"\",referentes!Y1061)","v":""},{"$f":"CONCATENATE(IF(referentes!Z1061=\"\",\"\",referentes!Z1061),IF(referentes!AA1061=\"\",\"\",CONCATENATE(\" \",referentes!AA1061)))","v":""}]
[null,null,null,null,null,null,null,null,null,null,null,null,null,null,null,"","",null,null,null,null,{"$f":"IF(referentes!Y1062=\"\",\"\",referentes!Y1062)","v":""},{"$f":"CONCATENATE(IF(referentes!Z1062=\"\",\"\",referentes!Z1062),IF(referentes!AA1062=\"\",\"\",CONCATENATE(\" \",referentes!AA1062)))","v":""}]
[null,null,null,null,null,null,null,null,null,null,null,null,null,null,null,"","",null,null,null,null,{"$f":"IF(referentes!Y1063=\"\",\"\",referentes!Y1063)","v":""},{"$f":"CONCATENATE(IF(referentes!Z1063=\"\",\"\",referentes!Z1063),IF(referentes!AA1063=\"\",\"\",CONCATENATE(\" \",referentes!AA1063)))","v":""}]
[null,null,null,null,null,null,null,null,null,null,null,null,null,null,null,"","",null,null,null,null,{"$f":"IF(referentes!Y1064=\"\",\"\",referentes!Y1064)","v":""},{"$f":"CONCATENATE(IF(referentes!Z1064=\"\",\"\",referentes!Z1064),IF(referentes!AA1064=\"\",\"\",CONCATENATE(\" \",referentes!AA1064)))","v":""}]
[null,null,null,null,null,null,null,null,null,null,null,null,null,null,null,"","",null,null,null,null,{"$f":"IF(referentes!Y1065=\"\",\"\",referentes!Y1065)","v":""},{"$f":"CONCATENATE(IF(referentes!Z1065=\"\",\"\",referentes!Z1065),IF(referentes!AA1065=\"\",\"\",CONCATENATE(\" \",referentes!AA1065)))","v":""}]
[null,null,null,null,null,null,null,null,null,null,null,null,null,null,null,"","",null,null,null,null,{"$f":"IF(referentes!Y1066=\"\",\"\",referentes!Y1066)","v":""},{"$f":"CONCATENATE(IF(referentes!Z1066=\"\",\"\",referentes!Z1066),IF(referentes!AA1066=\"\",\"\",CONCATENATE(\" \",referentes!AA1066)))","v":""}]
[null,null,null,null,null,null,null,null,null,null,null,null,null,null,null,"","",null,null,null,null,{"$f":"IF(referentes!Y1067=\"\",\"\",referentes!Y1067)","v":""},{"$f":"CONCATENATE(IF(referentes!Z1067=\"\",\"\",referentes!Z1067),IF(referentes!AA1067=\"\",\"\",CONCATENATE(\" \",referentes!AA1067)))","v":""}]
[null,null,null,null,null,null,null,null,null,null,null,null,null,null,null,"","",null,null,null,null,{"$f":"IF(referentes!Y1068=\"\",\"\",referentes!Y1068)","v":""},{"$f":"CONCATENATE(IF(referentes!Z1068=\"\",\"\",referentes!Z1068),IF(referentes!AA1068=\"\",\"\",CONCATENATE(\" \",referentes!AA1068)))","v":""}]
[null,null,null,null,null,null,null,null,null,null,null,null,null,null,null,"","",null,null,null,null,{"$f":"IF(referentes!Y1069=\"\",\"\",referentes!Y1069)","v":""},{"$f":"CONCATENATE(IF(referentes!Z1069=\"\",\"\",referentes!Z1069),IF(referentes!AA1069=\"\",\"\",CONCATENATE(\" \",referentes!AA1069)))","v":""}]
[null,null,null,null,null,null,null,null,null,null,null,null,null,null,null,"","",null,null,null,null,{"$f":"IF(referentes!Y1070=\"\",\"\",referentes!Y1070)","v":""},{"$f":"CONCATENATE(IF(referentes!Z1070=\"\",\"\",referentes!Z1070),IF(referentes!AA1070=\"\",\"\",CONCATENATE(\" \",referentes!AA1070)))","v":""}]
[null,null,null,null,null,null,null,null,null,null,null,null,null,null,null,"","",null,null,null,null,{"$f":"IF(referentes!Y1071=\"\",\"\",referentes!Y1071)","v":""},{"$f":"CONCATENATE(IF(referentes!Z1071=\"\",\"\",referentes!Z1071),IF(referentes!AA1071=\"\",\"\",CONCATENATE(\" \",referentes!AA1071)))","v":""}]
[null,null,null,null,null,null,null,null,null,null,null,null,null,null,null,"","",null,null,null,null,{"$f":"IF(referentes!Y1072=\"\",\"\",referentes!Y1072)","v":""},{"$f":"CONCATENATE(IF(referentes!Z1072=\"\",\"\",referentes!Z1072),IF(referentes!AA1072=\"\",\"\",CONCATENATE(\" \",referentes!AA1072)))","v":""}]
[null,null,null,null,null,null,null,null,null,null,null,null,null,null,null,"","",null,null,null,null,{"$f":"IF(referentes!Y1073=\"\",\"\",referentes!Y1073)","v":""},{"$f":"CONCATENATE(IF(referentes!Z1073=\"\",\"\",referentes!Z1073),IF(referentes!AA1073=\"\",\"\",CONCATENATE(\" \",referentes!AA1073)))","v":""}]
[null,null,null,null,null,null,null,null,null,null,null,null,null,null,null,"","",null,null,null,null,{"$f":"IF(referentes!Y1074=\"\",\"\",referentes!Y1074)","v":""},{"$f":"CONCATENATE(IF(referentes!Z1074=\"\",\"\",referentes!Z1074),IF(referentes!AA1074=\"\",\"\",CONCATENATE(\" \",referentes!AA1074)))","v":""}]
[null,null,null,null,null,null,null,null,null,null,null,null,null,null,null,"","",null,null,null,null,{"$f":"IF(referentes!Y1075=\"\",\"\",referentes!Y1075)","v":""},{"$f":"CONCATENATE(IF(referentes!Z1075=\"\",\"\",referentes!Z1075),IF(referentes!AA1075=\"\",\"\",CONCATENATE(\" \",referentes!AA1075)))","v":""}]
[null,null,null,null,null,null,null,null,null,null,null,null,null,null,null,"","",null,null,null,null,{"$f":"IF(referentes!Y1076=\"\",\"\",referentes!Y1076)","v":""},{"$f":"CONCATENATE(IF(referentes!Z1076=\"\",\"\",referentes!Z1076),IF(referentes!AA1076=\"\",\"\",CONCATENATE(\" \",referentes!AA1076)))","v":""}]
[null,null,null,null,null,null,null,null,null,null,null,null,null,null,null,"","",null,null,null,null,{"$f":"IF(referentes!Y1077=\"\",\"\",referentes!Y1077)","v":""},{"$f":"CONCATENATE(IF(referentes!Z1077=\"\",\"\",referentes!Z1077),IF(referentes!AA1077=\"\",\"\",CONCATENATE(\" \",referentes!AA1077)))","v":""}]
[null,null,null,null,null,null,null,null,null,null,null,null,null,null,null,"","",null,null,null,null,{"$f":"IF(referentes!Y1078=\"\",\"\",referentes!Y1078)","v":""},{"$f":"CONCATENATE(IF(referentes!Z1078=\"\",\"\",referentes!Z1078),IF(referentes!AA1078=\"\",\"\",CONCATENATE(\" \",referentes!AA1078)))","v":""}]
[null,null,null,null,null,null,null,null,null,null,null,null,null,null,null,"","",null,null,null,null,{"$f":"IF(referentes!Y1079=\"\",\"\",referentes!Y1079)","v":""},{"$f":"CONCATENATE(IF(referentes!Z1079=\"\",\"\",referentes!Z1079),IF(referentes!AA1079=\"\",\"\",CONCATENATE(\" \",referentes!AA1079)))","v":""}]
[null,null,null,null,null,null,null,null,null,null,null,null,null,null,null,"","",null,null,null,null,{"$f":"IF(referentes!Y1080=\"\",\"\",referentes!Y1080)","v":""},{"$f":"CONCATENATE(IF(referentes!Z1080=\"\",\"\",referentes!Z1080),IF(referentes!AA1080=\"\",\"\",CONCATENATE(\" \",referentes!AA1080)))","v":""}]
[null,null,null,null,null,null,null,null,null,null,null,null,null,null,null,"","",null,null,null,null,{"$f":"IF(referentes!Y1081=\"\",\"\",referentes!Y1081)","v":""},{"$f":"CONCATENATE(IF(referentes!Z1081=\"\",\"\",referentes!Z1081),IF(referentes!AA1081=\"\",\"\",CONCATENATE(\" \",referentes!AA1081)))","v":""}]
[null,null,null,null,null,null,null,null,null,null,null,null,null,null,null,"","",null,null,null,null,{"$f":"IF(referentes!Y1082=\"\",\"\",referentes!Y1082)","v":""},{"$f":"CONCATENATE(IF(referentes!Z1082=\"\",\"\",referentes!Z1082),IF(referentes!AA1082=\"\",\"\",CONCATENATE(\" \",referentes!AA1082)))","v":""}]
[null,null,null,null,null,null,null,null,null,null,null,null,null,null,null,"","",null,null,null,null,{"$f":"IF(referentes!Y1083=\"\",\"\",referentes!Y1083)","v":""},{"$f":"CONCATENATE(IF(referentes!Z1083=\"\",\"\",referentes!Z1083),IF(referentes!AA1083=\"\",\"\",CONCATENATE(\" \",referentes!AA1083)))","v":""}]
[null,null,null,null,null,null,null,null,null,null,null,null,null,null,null,"","",null,null,null,null,{"$f":"IF(referentes!Y1084=\"\",\"\",referentes!Y1084)","v":""},{"$f":"CONCATENATE(IF(referentes!Z1084=\"\",\"\",referentes!Z1084),IF(referentes!AA1084=\"\",\"\",CONCATENATE(\" \",referentes!AA1084)))","v":""}]
[null,null,null,null,null,null,null,null,null,null,null,null,null,null,null,"","",null,null,null,null,{"$f":"IF(referentes!Y1085=\"\",\"\",referentes!Y1085)","v":""},{"$f":"CONCATENATE(IF(referentes!Z1085=\"\",\"\",referentes!Z1085),IF(referentes!AA1085=\"\",\"\",CONCATENATE(\" \",referentes!AA1085)))","v":""}]
[null,null,null,null,null,null,null,null,null,null,null,null,null,null,null,"","",null,null,null,null,{"$f":"IF(referentes!Y1086=\"\",\"\",referentes!Y1086)","v":""},{"$f":"CONCATENATE(IF(referentes!Z1086=\"\",\"\",referentes!Z1086),IF(referentes!AA1086=\"\",\"\",CONCATENATE(\" \",referentes!AA1086)))","v":""}]
[null,null,null,null,null,null,null,null,null,null,null,null,null,null,null,"","",null,null,null,null,{"$f":"IF(referentes!Y1087=\"\",\"\",referentes!Y1087)","v":""},{"$f":"CONCATENATE(IF(referentes!Z1087=\"\",\"\",referentes!Z1087),IF(referentes!AA1087=\"\",\"\",CONCATENATE(\" \",referentes!AA1087)))","v":""}]
[null,null,null,null,null,null,null,null,null,null,null,null,null,null,null,"","",null,null,null,null,{"$f":"IF(referentes!Y1088=\"\",\"\",referentes!Y1088)","v":""},{"$f":"CONCATENATE(IF(referentes!Z1088=\"\",\"\",referentes!Z1088),IF(referentes!AA1088=\"\",\"\",CONCATENATE(\" \",referentes!AA1088)))","v":""}]
[null,null,null,null,null,null,null,null,null,null,null,null,null,null,null,"","",null,null,null,null,{"$f":"IF(referentes!Y1089=\"\",\"\",referentes!Y1089)","v":""},{"$f":"CONCATENATE(IF(referentes!Z1089=\"\",\"\",referentes!Z1089),IF(referentes!AA1089=\"\",\"\",CONCATENATE(\" \",referentes!AA1089)))","v":""}]
[null,null,null,null,null,null,null,null,null,null,null,null,null,null,null,"","",null,null,null,null,{"$f":"IF(referentes!Y1090=\"\",\"\",referentes!Y1090)","v":""},{"$f":"CONCATENATE(IF(referentes!Z1090=\"\",\"\",referentes!Z1090),IF(referentes!AA1090=\"\",\"\",CONCATENATE(\" \",referentes!AA1090)))","v":""}]
[null,null,null,null,null,null,null,null,null,null,null,null,null,null,null,"","",null,null,null,null,{"$f":"IF(referentes!Y1091=\"\",\"\",referentes!Y1091)","v":""},{"$f":"CONCATENATE(IF(referentes!Z1091=\"\",\"\",referentes!Z1091),IF(referentes!AA1091=\"\",\"\",CONCATENATE(\" \",referentes!AA1091)))","v":""}]
[null,null,null,null,null,null,null,null,null,null,null,null,null,null,null,"","",null,null,null,null,{"$f":"IF(referentes!Y1092=\"\",\"\",referentes!Y1092)","v":""},{"$f":"CONCATENATE(IF(referentes!Z1092=\"\",\"\",referentes!Z1092),IF(referentes!AA1092=\"\",\"\",CONCATENATE(\" \",referentes!AA1092)))","v":""}]
[null,null,null,null,null,null,null,null,null,null,null,null,null,null,null,"","",null,null,null,null,{"$f":"IF(referentes!Y1093=\"\",\"\",referentes!Y1093)","v":""},{"$f":"CONCATENATE(IF(referentes!Z1093=\"\",\"\",referentes!Z1093),IF(referentes!AA1093=\"\",\"\",CONCATENATE(\" \",referentes!AA1093)))","v":""}]
[null,null,null,null,null,null,null,null,null,null,null,null,null,null,null,"","",null,null,null,null,{"$f":"IF(referentes!Y1094=\"\",\"\",referentes!Y1094)","v":""},{"$f":"CONCATENATE(IF(referentes!Z1094=\"\",\"\",referentes!Z1094),IF(referentes!AA1094=\"\",\"\",CONCATENATE(\" \",referentes!AA1094)))","v":""}]
[null,null,null,null,null,null,null,null,null,null,null,null,null,null,null,"","",null,null,null,null,{"$f":"IF(referentes!Y1095=\"\",\"\",referentes!Y1095)","v":""},{"$f":"CONCATENATE(IF(referentes!Z1095=\"\",\"\",referentes!Z1095),IF(referentes!AA1095=\"\",\"\",CONCATENATE(\" \",referentes!AA1095)))","v":""}]
[null,null,null,null,null,null,null,null,null,null,null,null,null,null,null,"","",null,null,null,null,{"$f":"IF(referentes!Y1096=\"\",\"\",referentes!Y1096)","v":""},{"$f":"CONCATENATE(IF(referentes!Z1096=\"\",\"\",referentes!Z1096),IF(referentes!AA1096=\"\",\"\",CONCATENATE(\" \",referentes!AA1096)))","v":""}]
[null,null,null,null,null,null,null,null,null,null,null,null,null,null,null,"","",null,null,null,null,{"$f":"IF(referentes!Y1097=\"\",\"\",referentes!Y1097)","v":""},{"$f":"CONCATENATE(IF(referentes!Z1097=\"\",\"\",referentes!Z1097),IF(referentes!AA1097=\"\",\"\",CONCATENATE(\" \",referentes!AA1097)))","v":""}]
[null,null,null,null,null,null,null,null,null,null,null,null,null,null,null,"","",null,null,null,null,{"$f":"IF(referentes!Y1098=\"\",\"\",referentes!Y1098)","v":""},{"$f":"CONCATENATE(IF(referentes!Z1098=\"\",\"\",referentes!Z1098),IF(referentes!AA1098=\"\",\"\",CONCATENATE(\" \",referentes!AA1098)))","v":""}]
[null,null,null,null,null,null,null,null,null,null,null,null,null,null,null,"","",null,null,null,null,{"$f":"IF(referentes!Y1099=\"\",\"\",referentes!Y1099)","v":""},{"$f":"CONCATENATE(IF(referentes!Z1099=\"\",\"\",referentes!Z1099),IF(referentes!AA1099=\"\",\"\",CONCATENATE(\" \",referentes!AA1099)))","v":""}]
[null,null,null,null,null,null,null,null,null,null,null,null,null,null,null,"","",null,null,null,null,{"$f":"IF(referentes!Y1100=\"\",\"\",referentes!Y1100)","v":""},{"$f":"CONCATENATE(IF(referentes!Z1100=\"\",\"\",referentes!Z1100),IF(referentes!AA1100=\"\",\"\",CONCATENATE(\" \",referentes!AA1100)))","v":""}]
[null,null,null,null,null,null,null,null,null,null,null,null,null,null,null,"","",null,null,null,null,{"$f":"IF(referentes!Y1101=\"\",\"\",referentes!Y1101)","v":""},{"$f":"CONCATENATE(IF(referentes!Z1101=\"\",\"\",referentes!Z1101),IF(referentes!AA1101=\"\",\"\",CONCATENATE(\" \",referentes!AA1101)))","v":""}]
[null,null,null,null,null,null,null,null,null,null,null,null,null,null,null,"","",null,null,null,null,{"$f":"IF(referentes!Y1102=\"\",\"\",referentes!Y1102)","v":""},{"$f":"CONCATENATE(IF(referentes!Z1102=\"\",\"\",referentes!Z1102),IF(referentes!AA1102=\"\",\"\",CONCATENATE(\" \",referentes!AA1102)))","v":""}]
[null,null,null,null,null,null,null,null,null,null,null,null,null,null,null,"","",null,null,null,null,{"$f":"IF(referentes!Y1103=\"\",\"\",referentes!Y1103)","v":""},{"$f":"CONCATENATE(IF(referentes!Z1103=\"\",\"\",referentes!Z1103),IF(referentes!AA1103=\"\",\"\",CONCATENATE(\" \",referentes!AA1103)))","v":""}]
[null,null,null,null,null,null,null,null,null,null,null,null,null,null,null,"","",null,null,null,null,{"$f":"IF(referentes!Y1104=\"\",\"\",referentes!Y1104)","v":""},{"$f":"CONCATENATE(IF(referentes!Z1104=\"\",\"\",referentes!Z1104),IF(referentes!AA1104=\"\",\"\",CONCATENATE(\" \",referentes!AA1104)))","v":""}]
[null,null,null,null,null,null,null,null,null,null,null,null,null,null,null,"","",null,null,null,null,{"$f":"IF(referentes!Y1105=\"\",\"\",referentes!Y1105)","v":""},{"$f":"CONCATENATE(IF(referentes!Z1105=\"\",\"\",referentes!Z1105),IF(referentes!AA1105=\"\",\"\",CONCATENATE(\" \",referentes!AA1105)))","v":""}]
[null,null,null,null,null,null,null,null,null,null,null,null,null,null,null,"","",null,null,null,null,{"$f":"IF(referentes!Y1106=\"\",\"\",referentes!Y1106)","v":""},{"$f":"CONCATENATE(IF(referentes!Z1106=\"\",\"\",referentes!Z1106),IF(referentes!AA1106=\"\",\"\",CONCATENATE(\" \",referentes!AA1106)))","v":""}]
[null,null,null,null,null,null,null,null,null,null,null,null,null,null,null,"","",null,null,null,null,{"$f":"IF(referentes!AB1107=\"\",\"\",referentes!AB1107)","v":""},{"$f":"CONCATENATE(IF(referentes!AC1107=\"\",\"\",referentes!AC1107),IF(referentes!AD1107=\"\",\"\",CONCATENATE(\" \",referentes!AD1107)))","v":""}]
[null,null,null,null,null,null,null,null,null,null,null,null,null,null,null,"","",null,null,null,null,{"$f":"IF(referentes!AB1108=\"\",\"\",referentes!AB1108)","v":""},{"$f":"CONCATENATE(IF(referentes!AC1108=\"\",\"\",referentes!AC1108),IF(referentes!AD1108=\"\",\"\",CONCATENATE(\" \",referentes!AD1108)))","v":""}]
[null,null,null,null,null,null,null,null,null,null,null,null,null,null,null,"","",null,null,null,null,{"$f":"IF(referentes!AB1109=\"\",\"\",referentes!AB1109)","v":""},{"$f":"CONCATENATE(IF(referentes!AC1109=\"\",\"\",referentes!AC1109),IF(referentes!AD1109=\"\",\"\",CONCATENATE(\" \",referentes!AD1109)))","v":""}]
[null,null,null,null,null,null,null,null,null,null,null,null,null,null,null,"","",null,null,null,null,{"$f":"IF(referentes!AB1110=\"\",\"\",referentes!AB1110)","v":""},{"$f":"CONCATENATE(IF(referentes!AC1110=\"\",\"\",referentes!AC1110),IF(referentes!AD1110=\"\",\"\",CONCATENATE(\" \",referentes!AD1110)))","v":""}]
[null,null,null,null,null,null,null,null,null,null,null,null,null,null,null,"","",null,null,null,null,{"$f":"IF(referentes!AB1111=\"\",\"\",referentes!AB1111)","v":""},{"$f":"CONCATENATE(IF(referentes!AC1111=\"\",\"\",referentes!AC1111),IF(referentes!AD1111=\"\",\"\",CONCATENATE(\" \",referentes!AD1111)))","v":""}]
[null,null,null,null,null,null,null,null,null,null,null,null,null,null,null,"","",null,null,null,null,{"$f":"IF(referentes!AB1112=\"\",\"\",referentes!AB1112)","v":""},{"$f":"CONCATENATE(IF(referentes!AC1112=\"\",\"\",referentes!AC1112),IF(referentes!AD1112=\"\",\"\",CONCATENATE(\" \",referentes!AD1112)))","v":""}]
[null,null,null,null,null,null,null,null,null,null,null,null,null,null,null,"","",null,null,null,null,{"$f":"IF(referentes!AB1113=\"\",\"\",referentes!AB1113)","v":""},{"$f":"CONCATENATE(IF(referentes!AC1113=\"\",\"\",referentes!AC1113),IF(referentes!AD1113=\"\",\"\",CONCATENATE(\" \",referentes!AD1113)))","v":""}]
[null,null,null,null,null,null,null,null,null,null,null,null,null,null,null,"","",null,null,null,null,{"$f":"IF(referentes!AB1114=\"\",\"\",referentes!AB1114)","v":""},{"$f":"CONCATENATE(IF(referentes!AC1114=\"\",\"\",referentes!AC1114),IF(referentes!AD1114=\"\",\"\",CONCATENATE(\" \",referentes!AD1114)))","v":""}]
[null,null,null,null,null,null,null,null,null,null,null,null,null,null,null,"","",null,null,null,null,{"$f":"IF(referentes!AB1115=\"\",\"\",referentes!AB1115)","v":""},{"$f":"CONCATENATE(IF(referentes!AC1115=\"\",\"\",referentes!AC1115),IF(referentes!AD1115=\"\",\"\",CONCATENATE(\" \",referentes!AD1115)))","v":""}]
[null,null,null,null,null,null,null,null,null,null,null,null,null,null,null,"","",null,null,null,null,{"$f":"IF(referentes!AB1116=\"\",\"\",referentes!AB1116)","v":""},{"$f":"CONCATENATE(IF(referentes!AC1116=\"\",\"\",referentes!AC1116),IF(referentes!AD1116=\"\",\"\",CONCATENATE(\" \",referentes!AD1116)))","v":""}]
[null,null,null,null,null,null,null,null,null,null,null,null,null,null,null,"","",null,null,null,null,{"$f":"IF(referentes!AB1117=\"\",\"\",referentes!AB1117)","v":""},{"$f":"CONCATENATE(IF(referentes!AC1117=\"\",\"\",referentes!AC1117),IF(referentes!AD1117=\"\",\"\",CONCATENATE(\" \",referentes!AD1117)))","v":""}]
[null,null,null,null,null,null,null,null,null,null,null,null,null,null,null,"","",null,null,null,null,{"$f":"IF(referentes!AB1118=\"\",\"\",referentes!AB1118)","v":""},{"$f":"CONCATENATE(IF(referentes!AC1118=\"\",\"\",referentes!AC1118),IF(referentes!AD1118=\"\",\"\",CONCATENATE(\" \",referentes!AD1118)))","v":""}]
[null,null,null,null,null,null,null,null,null,null,null,null,null,null,null,"","",null,null,null,null,{"$f":"IF(referentes!AB1119=\"\",\"\",referentes!AB1119)","v":""},{"$f":"CONCATENATE(IF(referentes!AC1119=\"\",\"\",referentes!AC1119),IF(referentes!AD1119=\"\",\"\",CONCATENATE(\" \",referentes!AD1119)))","v":""}]
[null,null,null,null,null,null,null,null,null,null,null,null,null,null,null,"","",null,null,null,null,{"$f":"IF(referentes!AB1120=\"\",\"\",referentes!AB1120)","v":""},{"$f":"CONCATENATE(IF(referentes!AC1120=\"\",\"\",referentes!AC1120),IF(referentes!AD1120=\"\",\"\",CONCATENATE(\" \",referentes!AD1120)))","v":""}]
[null,null,null,null,null,null,null,null,null,null,null,null,null,null,null,"","",null,null,null,null,{"$f":"IF(referentes!AB1121=\"\",\"\",referentes!AB1121)","v":""},{"$f":"CONCATENATE(IF(referentes!AC1121=\"\",\"\",referentes!AC1121),IF(referentes!AD1121=\"\",\"\",CONCATENATE(\" \",referentes!AD1121)))","v":""}]
[null,null,null,null,null,null,null,null,null,null,null,null,null,null,null,"","",null,null,null,null,{"$f":"IF(referentes!AB1122=\"\",\"\",referentes!AB1122)","v":""},{"$f":"CONCATENATE(IF(referentes!AC1122=\"\",\"\",referentes!AC1122),IF(referentes!AD1122=\"\",\"\",CONCATENATE(\" \",referentes!AD1122)))","v":""}]
[null,null,null,null,null,null,null,null,null,null,null,null,null,null,null,"","",null,null,null,null,{"$f":"IF(referentes!AB1123=\"\",\"\",referentes!AB1123)","v":""},{"$f":"CONCATENATE(IF(referentes!AC1123=\"\",\"\",referentes!AC1123),IF(referentes!AD1123=\"\",\"\",CONCATENATE(\" \",referentes!AD1123)))","v":""}]
[null,null,null,null,null,null,null,null,null,null,null,null,null,null,null,"","",null,null,null,null,{"$f":"IF(referentes!AB1124=\"\",\"\",referentes!AB1124)","v":""},{"$f":"CONCATENATE(IF(referentes!AC1124=\"\",\"\",referentes!AC1124),IF(referentes!AD1124=\"\",\"\",CONCATENATE(\" \",referentes!AD1124)))","v":""}]
[null,null,null,null,null,null,null,null,null,null,null,null,null,null,null,"","",null,null,null,null,{"$f":"IF(referentes!AB1125=\"\",\"\",referentes!AB1125)","v":""},{"$f":"CONCATENATE(IF(referentes!AC1125=\"\",\"\",referentes!AC1125),IF(referentes!AD1125=\"\",\"\",CONCATENATE(\" \",referentes!AD1125)))","v":""}]
[null,null,null,null,null,null,null,null,null,null,null,null,null,null,null,"","",null,null,null,null,{"$f":"IF(referentes!AB1126=\"\",\"\",referentes!AB1126)","v":""},{"$f":"CONCATENATE(IF(referentes!AC1126=\"\",\"\",referentes!AC1126),IF(referentes!AD1126=\"\",\"\",CONCATENATE(\" \",referentes!AD1126)))","v":""}]
[null,null,null,null,null,null,null,null,null,null,null,null,null,null,null,"","",null,null,null,null,{"$f":"IF(referentes!AB1127=\"\",\"\",referentes!AB1127)","v":""},{"$f":"CONCATENATE(IF(referentes!AC1127=\"\",\"\",referentes!AC1127),IF(referentes!AD1127=\"\",\"\",CONCATENATE(\" \",referentes!AD1127)))","v":""}]
[null,null,null,null,null,null,null,null,null,null,null,null,null,null,null,"","",null,null,null,null,{"$f":"IF(referentes!AB1128=\"\",\"\",referentes!AB1128)","v":""},{"$f":"CONCATENATE(IF(referentes!AC1128=\"\",\"\",referentes!AC1128),IF(referentes!AD1128=\"\",\"\",CONCATENATE(\" \",referentes!AD1128)))","v":""}]
[null,null,null,null,null,null,null,null,null,null,null,null,null,null,null,"","",null,null,null,null,{"$f":"IF(referentes!AB1129=\"\",\"\",referentes!AB1129)","v":""},{"$f":"CONCATENATE(IF(referentes!AC1129=\"\",\"\",referentes!AC1129),IF(referentes!AD1129=\"\",\"\",CONCATENATE(\" \",referentes!AD1129)))","v":""}]
[null,null,null,null,null,null,null,null,null,null,null,null,null,null,null,"","",null,null,null,null,{"$f":"IF(referentes!AB1130=\"\",\"\",referentes!AB1130)","v":""},{"$f":"CONCATENATE(IF(referentes!AC1130=\"\",\"\",referentes!AC1130),IF(referentes!AD1130=\"\",\"\",CONCATENATE(\" \",referentes!AD1130)))","v":""}]
[null,null,null,null,null,null,null,null,null,null,null,null,null,null,null,"","",null,null,null,null,{"$f":"IF(referentes!AB1131=\"\",\"\",referentes!AB1131)","v":""},{"$f":"CONCATENATE(IF(referentes!AC1131=\"\",\"\",referentes!AC1131),IF(referentes!AD1131=\"\",\"\",CONCATENATE(\" \",referentes!AD1131)))","v":""}]
[null,null,null,null,null,null,null,null,null,null,null,null,null,null,null,"","",null,null,null,null,{"$f":"IF(referentes!AB1132=\"\",\"\",referentes!AB1132)","v":""},{"$f":"CONCATENATE(IF(referentes!AC1132=\"\",\"\",referentes!AC1132),IF(referentes!AD1132=\"\",\"\",CONCATENATE(\" \",referentes!AD1132)))","v":""}]
[null,null,null,null,null,null,null,null,null,null,null,null,null,null,null,"","",null,null,null,null,{"$f":"IF(referentes!AB1133=\"\",\"\",referentes!AB1133)","v":""},{"$f":"CONCATENATE(IF(referentes!AC1133=\"\",\"\",referentes!AC1133),IF(referentes!AD1133=\"\",\"\",CONCATENATE(\" \",referentes!AD1133)))","v":""}]
[null,null,null,null,null,null,null,null,null,null,null,null,null,null,null,"","",null,null,null,null,{"$f":"IF(referentes!AB1134=\"\",\"\",referentes!AB1134)","v":""},{"$f":"CONCATENATE(IF(referentes!AC1134=\"\",\"\",referentes!AC1134),IF(referentes!AD1134=\"\",\"\",CONCATENATE(\" \",referentes!AD1134)))","v":""}]
[null,null,null,null,null,null,null,null,null,null,null,null,null,null,null,"","",null,null,null,null,{"$f":"IF(referentes!AB1135=\"\",\"\",referentes!AB1135)","v":""},{"$f":"CONCATENATE(IF(referentes!AC1135=\"\",\"\",referentes!AC1135),IF(referentes!AD1135=\"\",\"\",CONCATENATE(\" \",referentes!AD1135)))","v":""}]
[null,null,null,null,null,null,null,null,null,null,null,null,null,null,null,"","",null,null,null,null,{"$f":"IF(referentes!AB1136=\"\",\"\",referentes!AB1136)","v":""},{"$f":"CONCATENATE(IF(referentes!AC1136=\"\",\"\",referentes!AC1136),IF(referentes!AD1136=\"\",\"\",CONCATENATE(\" \",referentes!AD1136)))","v":""}]
[null,null,null,null,null,null,null,null,null,null,null,null,null,null,null,"","",null,null,null,null,{"$f":"IF(referentes!AB1137=\"\",\"\",referentes!AB1137)","v":""},{"$f":"CONCATENATE(IF(referentes!AC1137=\"\",\"\",referentes!AC1137),IF(referentes!AD1137=\"\",\"\",CONCATENATE(\" \",referentes!AD1137)))","v":""}]
[null,null,null,null,null,null,null,null,null,null,null,null,null,null,null,"","",null,null,null,null,{"$f":"IF(referentes!AB1138=\"\",\"\",referentes!AB1138)","v":""},{"$f":"CONCATENATE(IF(referentes!AC1138=\"\",\"\",referentes!AC1138),IF(referentes!AD1138=\"\",\"\",CONCATENATE(\" \",referentes!AD1138)))","v":""}]
[null,null,null,null,null,null,null,null,null,null,null,null,null,null,null,"","",null,null,null,null,{"$f":"IF(referentes!AB1139=\"\",\"\",referentes!AB1139)","v":""},{"$f":"CONCATENATE(IF(referentes!AC1139=\"\",\"\",referentes!AC1139),IF(referentes!AD1139=\"\",\"\",CONCATENATE(\" \",referentes!AD1139)))","v":""}]
[null,null,null,null,null,null,null,null,null,null,null,null,null,null,null,"","",null,null,null,null,{"$f":"IF(referentes!AB1140=\"\",\"\",referentes!AB1140)","v":""},{"$f":"CONCATENATE(IF(referentes!AC1140=\"\",\"\",referentes!AC1140),IF(referentes!AD1140=\"\",\"\",CONCATENATE(\" \",referentes!AD1140)))","v":""}]
[null,null,null,null,null,null,null,null,null,null,null,null,null,null,null,"","",null,null,null,null,{"$f":"IF(referentes!AB1141=\"\",\"\",referentes!AB1141)","v":""},{"$f":"CONCATENATE(IF(referentes!AC1141=\"\",\"\",referentes!AC1141),IF(referentes!AD1141=\"\",\"\",CONCATENATE(\" \",referentes!AD1141)))","v":""}]
[null,null,null,null,null,null,null,null,null,null,null,null,null,null,null,"","",null,null,null,null,{"$f":"IF(referentes!AB1142=\"\",\"\",referentes!AB1142)","v":""},{"$f":"CONCATENATE(IF(referentes!AC1142=\"\",\"\",referentes!AC1142),IF(referentes!AD1142=\"\",\"\",CONCATENATE(\" \",referentes!AD1142)))","v":""}]
[null,null,null,null,null,null,null,null,null,null,null,null,null,null,null,"","",null,null,null,null,{"$f":"IF(referentes!AB1143=\"\",\"\",referentes!AB1143)","v":""},{"$f":"CONCATENATE(IF(referentes!AC1143=\"\",\"\",referentes!AC1143),IF(referentes!AD1143=\"\",\"\",CONCATENATE(\" \",referentes!AD1143)))","v":""}]
[null,null,null,null,null,null,null,null,null,null,null,null,null,null,null,"","",null,null,null,null,{"$f":"IF(referentes!AB1144=\"\",\"\",referentes!AB1144)","v":""},{"$f":"CONCATENATE(IF(referentes!AC1144=\"\",\"\",referentes!AC1144),IF(referentes!AD1144=\"\",\"\",CONCATENATE(\" \",referentes!AD1144)))","v":""}]
[null,null,null,null,null,null,null,null,null,null,null,null,null,null,null,"","",null,null,null,null,{"$f":"IF(referentes!AB1145=\"\",\"\",referentes!AB1145)","v":""},{"$f":"CONCATENATE(IF(referentes!AC1145=\"\",\"\",referentes!AC1145),IF(referentes!AD1145=\"\",\"\",CONCATENATE(\" \",referentes!AD1145)))","v":""}]
[null,null,null,null,null,null,null,null,null,null,null,null,null,null,null,"","",null,null,null,null,{"$f":"IF(referentes!AB1146=\"\",\"\",referentes!AB1146)","v":""},{"$f":"CONCATENATE(IF(referentes!AC1146=\"\",\"\",referentes!AC1146),IF(referentes!AD1146=\"\",\"\",CONCATENATE(\" \",referentes!AD1146)))","v":""}]
[null,null,null,null,null,null,null,null,null,null,null,null,null,null,null,"","",null,null,null,null,{"$f":"IF(referentes!AB1147=\"\",\"\",referentes!AB1147)","v":""},{"$f":"CONCATENATE(IF(referentes!AC1147=\"\",\"\",referentes!AC1147),IF(referentes!AD1147=\"\",\"\",CONCATENATE(\" \",referentes!AD1147)))","v":""}]
[null,null,null,null,null,null,null,null,null,null,null,null,null,null,null,"","",null,null,null,null,{"$f":"IF(referentes!AB1148=\"\",\"\",referentes!AB1148)","v":""},{"$f":"CONCATENATE(IF(referentes!AC1148=\"\",\"\",referentes!AC1148),IF(referentes!AD1148=\"\",\"\",CONCATENATE(\" \",referentes!AD1148)))","v":""}]
[null,null,null,null,null,null,null,null,null,null,null,null,null,null,null,"","",null,null,null,null,{"$f":"IF(referentes!AB1149=\"\",\"\",referentes!AB1149)","v":""},{"$f":"CONCATENATE(IF(referentes!AC1149=\"\",\"\",referentes!AC1149),IF(referentes!AD1149=\"\",\"\",CONCATENATE(\" \",referentes!AD1149)))","v":""}]
[null,null,null,null,null,null,null,null,null,null,null,null,null,null,null,"","",null,null,null,null,{"$f":"IF(referentes!AB1150=\"\",\"\",referentes!AB1150)","v":""},{"$f":"CONCATENATE(IF(referentes!AC1150=\"\",\"\",referentes!AC1150),IF(referentes!AD1150=\"\",\"\",CONCATENATE(\" \",referentes!AD1150)))","v":""}]
[null,null,null,null,null,null,null,null,null,null,null,null,null,null,null,"","",null,null,null,null,{"$f":"IF(referentes!AB1151=\"\",\"\",referentes!AB1151)","v":""},{"$f":"CONCATENATE(IF(referentes!AC1151=\"\",\"\",referentes!AC1151),IF(referentes!AD1151=\"\",\"\",CONCATENATE(\" \",referentes!AD1151)))","v":""}]
[null,null,null,null,null,null,null,null,null,null,null,null,null,null,null,"","",null,null,null,null,{"$f":"IF(referentes!AB1152=\"\",\"\",referentes!AB1152)","v":""},{"$f":"CONCATENATE(IF(referentes!AC1152=\"\",\"\",referentes!AC1152),IF(referentes!AD1152=\"\",\"\",CONCATENATE(\" \",referentes!AD1152)))","v":""}]
[null,null,null,null,null,null,null,null,null,null,null,null,null,null,null,"","",null,null,null,null,{"$f":"IF(referentes!AB1153=\"\",\"\",referentes!AB1153)","v":""},{"$f":"CONCATENATE(IF(referentes!AC1153=\"\",\"\",referentes!AC1153),IF(referentes!AD1153=\"\",\"\",CONCATENATE(\" \",referentes!AD1153)))","v":""}]
[null,null,null,null,null,null,null,null,null,null,null,null,null,null,null,"","",null,null,null,null,{"$f":"IF(referentes!AB1154=\"\",\"\",referentes!AB1154)","v":""},{"$f":"CONCATENATE(IF(referentes!AC1154=\"\",\"\",referentes!AC1154),IF(referentes!AD1154=\"\",\"\",CONCATENATE(\" \",referentes!AD1154)))","v":""}]
[null,null,null,null,null,null,null,null,null,null,null,null,null,null,null,"","",null,null,null,null,{"$f":"IF(referentes!AB1155=\"\",\"\",referentes!AB1155)","v":""},{"$f":"CONCATENATE(IF(referentes!AC1155=\"\",\"\",referentes!AC1155),IF(referentes!AD1155=\"\",\"\",CONCATENATE(\" \",referentes!AD1155)))","v":""}]
[null,null,null,null,null,null,null,null,null,null,null,null,null,null,null,"","",null,null,null,null,{"$f":"IF(referentes!AB1156=\"\",\"\",referentes!AB1156)","v":""},{"$f":"CONCATENATE(IF(referentes!AC1156=\"\",\"\",referentes!AC1156),IF(referentes!AD1156=\"\",\"\",CONCATENATE(\" \",referentes!AD1156)))","v":""}]
[null,null,null,null,null,null,null,null,null,null,null,null,null,null,null,"","",null,null,null,null,{"$f":"IF(referentes!AB1157=\"\",\"\",referentes!AB1157)","v":""},{"$f":"CONCATENATE(IF(referentes!AC1157=\"\",\"\",referentes!AC1157),IF(referentes!AD1157=\"\",\"\",CONCATENATE(\" \",referentes!AD1157)))","v":""}]
[null,null,null,null,null,null,null,null,null,null,null,null,null,null,null,"","",null,null,null,null,{"$f":"IF(referentes!AB1158=\"\",\"\",referentes!AB1158)","v":""},{"$f":"CONCATENATE(IF(referentes!AC1158=\"\",\"\",referentes!AC1158),IF(referentes!AD1158=\"\",\"\",CONCATENATE(\" \",referentes!AD1158)))","v":""}]
[null,null,null,null,null,null,null,null,null,null,null,null,null,null,null,"","",null,null,null,null,{"$f":"IF(referentes!AB1159=\"\",\"\",referentes!AB1159)","v":""},{"$f":"CONCATENATE(IF(referentes!AC1159=\"\",\"\",referentes!AC1159),IF(referentes!AD1159=\"\",\"\",CONCATENATE(\" \",referentes!AD1159)))","v":""}]
[null,null,null,null,null,null,null,null,null,null,null,null,null,null,null,"","",null,null,null,null,{"$f":"IF(referentes!AB1160=\"\",\"\",referentes!AB1160)","v":""},{"$f":"CONCATENATE(IF(referentes!AC1160=\"\",\"\",referentes!AC1160),IF(referentes!AD1160=\"\",\"\",CONCATENATE(\" \",referentes!AD1160)))","v":""}]
[null,null,null,null,null,null,null,null,null,null,null,null,null,null,null,"","",null,null,null,null,{"$f":"IF(referentes!AB1161=\"\",\"\",referentes!AB1161)","v":""},{"$f":"CONCATENATE(IF(referentes!AC1161=\"\",\"\",referentes!AC1161),IF(referentes!AD1161=\"\",\"\",CONCATENATE(\" \",referentes!AD1161)))","v":""}]
[null,null,null,null,null,null,null,null,null,null,null,null,null,null,null,"","",null,null,null,null,{"$f":"IF(referentes!AB1162=\"\",\"\",referentes!AB1162)","v":""},{"$f":"CONCATENATE(IF(referentes!AC1162=\"\",\"\",referentes!AC1162),IF(referentes!AD1162=\"\",\"\",CONCATENATE(\" \",referentes!AD1162)))","v":""}]
[null,null,null,null,null,null,null,null,null,null,null,null,null,null,null,"","",null,null,null,null,{"$f":"IF(referentes!AB1163=\"\",\"\",referentes!AB1163)","v":""},{"$f":"CONCATENATE(IF(referentes!AC1163=\"\",\"\",referentes!AC1163),IF(referentes!AD1163=\"\",\"\",CONCATENATE(\" \",referentes!AD1163)))","v":""}]
[null,null,null,null,null,null,null,null,null,null,null,null,null,null,null,"","",null,null,null,null,{"$f":"IF(referentes!AB1164=\"\",\"\",referentes!AB1164)","v":""},{"$f":"CONCATENATE(IF(referentes!AC1164=\"\",\"\",referentes!AC1164),IF(referentes!AD1164=\"\",\"\",CONCATENATE(\" \",referentes!AD1164)))","v":""}]
[null,null,null,null,null,null,null,null,null,null,null,null,null,null,null,"","",null,null,null,null,{"$f":"IF(referentes!AB1165=\"\",\"\",referentes!AB1165)","v":""},{"$f":"CONCATENATE(IF(referentes!AC1165=\"\",\"\",referentes!AC1165),IF(referentes!AD1165=\"\",\"\",CONCATENATE(\" \",referentes!AD1165)))","v":""}]
[null,null,null,null,null,null,null,null,null,null,null,null,null,null,null,"","",null,null,null,null,{"$f":"IF(referentes!AB1166=\"\",\"\",referentes!AB1166)","v":""},{"$f":"CONCATENATE(IF(referentes!AC1166=\"\",\"\",referentes!AC1166),IF(referentes!AD1166=\"\",\"\",CONCATENATE(\" \",referentes!AD1166)))","v":""}]
[null,null,null,null,null,null,null,null,null,null,null,null,null,null,null,"","",null,null,null,null,{"$f":"IF(referentes!AB1167=\"\",\"\",referentes!AB1167)","v":""},{"$f":"CONCATENATE(IF(referentes!AC1167=\"\",\"\",referentes!AC1167),IF(referentes!AD1167=\"\",\"\",CONCATENATE(\" \",referentes!AD1167)))","v":""}]
[null,null,null,null,null,null,null,null,null,null,null,null,null,null,null,"","",null,null,null,null,{"$f":"IF(referentes!AB1168=\"\",\"\",referentes!AB1168)","v":""},{"$f":"CONCATENATE(IF(referentes!AC1168=\"\",\"\",referentes!AC1168),IF(referentes!AD1168=\"\",\"\",CONCATENATE(\" \",referentes!AD1168)))","v":""}]
[null,null,null,null,null,null,null,null,null,null,null,null,null,null,null,"","",null,null,null,null,{"$f":"IF(referentes!AB1169=\"\",\"\",referentes!AB1169)","v":""},{"$f":"CONCATENATE(IF(referentes!AC1169=\"\",\"\",referentes!AC1169),IF(referentes!AD1169=\"\",\"\",CONCATENATE(\" \",referentes!AD1169)))","v":""}]
[null,null,null,null,null,null,null,null,null,null,null,null,null,null,null,"","",null,null,null,null,{"$f":"IF(referentes!AB1170=\"\",\"\",referentes!AB1170)","v":""},{"$f":"CONCATENATE(IF(referentes!AC1170=\"\",\"\",referentes!AC1170),IF(referentes!AD1170=\"\",\"\",CONCATENATE(\" \",referentes!AD1170)))","v":""}]
[null,null,null,null,null,null,null,null,null,null,null,null,null,null,null,"","",null,null,null,null,{"$f":"IF(referentes!AB1171=\"\",\"\",referentes!AB1171)","v":""},{"$f":"CONCATENATE(IF(referentes!AC1171=\"\",\"\",referentes!AC1171),IF(referentes!AD1171=\"\",\"\",CONCATENATE(\" \",referentes!AD1171)))","v":""}]
[null,null,null,null,null,null,null,null,null,null,null,null,null,null,null,"","",null,null,null,null,{"$f":"IF(referentes!AB1172=\"\",\"\",referentes!AB1172)","v":""},{"$f":"CONCATENATE(IF(referentes!AC1172=\"\",\"\",referentes!AC1172),IF(referentes!AD1172=\"\",\"\",CONCATENATE(\" \",referentes!AD1172)))","v":""}]
[null,null,null,null,null,null,null,null,null,null,null,null,null,null,null,"","",null,null,null,null,{"$f":"IF(referentes!AB1173=\"\",\"\",referentes!AB1173)","v":""},{"$f":"CONCATENATE(IF(referentes!AC1173=\"\",\"\",referentes!AC1173),IF(referentes!AD1173=\"\",\"\",CONCATENATE(\" \",referentes!AD1173)))","v":""}]
[null,null,null,null,null,null,null,null,null,null,null,null,null,null,null,"","",null,null,null,null,{"$f":"IF(referentes!AB1174=\"\",\"\",referentes!AB1174)","v":""},{"$f":"CONCATENATE(IF(referentes!AC1174=\"\",\"\",referentes!AC1174),IF(referentes!AD1174=\"\",\"\",CONCATENATE(\" \",referentes!AD1174)))","v":""}]
[null,null,null,null,null,null,null,null,null,null,null,null,null,null,null,"","",null,null,null,null,{"$f":"IF(referentes!AB1175=\"\",\"\",referentes!AB1175)","v":""},{"$f":"CONCATENATE(IF(referentes!AC1175=\"\",\"\",referentes!AC1175),IF(referentes!AD1175=\"\",\"\",CONCATENATE(\" \",referentes!AD1175)))","v":""}]
[null,null,null,null,null,null,null,null,null,null,null,null,null,null,null,"","",null,null,null,null,{"$f":"IF(referentes!AB1176=\"\",\"\",referentes!AB1176)","v":""},{"$f":"CONCATENATE(IF(referentes!AC1176=\"\",\"\",referentes!AC1176),IF(referentes!AD1176=\"\",\"\",CONCATENATE(\" \",referentes!AD1176)))","v":""}]
[null,null,null,null,null,null,null,null,null,null,null,null,null,null,null,"","",null,null,null,null,{"$f":"IF(referentes!AB1177=\"\",\"\",referentes!AB1177)","v":""},{"$f":"CONCATENATE(IF(referentes!AC1177=\"\",\"\",referentes!AC1177),IF(referentes!AD1177=\"\",\"\",CONCATENATE(\" \",referentes!AD1177)))","v":""}]
[null,null,null,null,null,null,null,null,null,null,null,null,null,null,null,"","",null,null,null,null,{"$f":"IF(referentes!AB1178=\"\",\"\",referentes!AB1178)","v":""},{"$f":"CONCATENATE(IF(referentes!AC1178=\"\",\"\",referentes!AC1178),IF(referentes!AD1178=\"\",\"\",CONCATENATE(\" \",referentes!AD1178)))","v":""}]
[null,null,null,null,null,null,null,null,null,null,null,null,null,null,null,"","",null,null,null,null,{"$f":"IF(referentes!AB1179=\"\",\"\",referentes!AB1179)","v":""},{"$f":"CONCATENATE(IF(referentes!AC1179=\"\",\"\",referentes!AC1179),IF(referentes!AD1179=\"\",\"\",CONCATENATE(\" \",referentes!AD1179)))","v":""}]
[null,null,null,null,null,null,null,null,null,null,null,null,null,null,null,"","",null,null,null,null,{"$f":"IF(referentes!AB1180=\"\",\"\",referentes!AB1180)","v":""},{"$f":"CONCATENATE(IF(referentes!AC1180=\"\",\"\",referentes!AC1180),IF(referentes!AD1180=\"\",\"\",CONCATENATE(\" \",referentes!AD1180)))","v":""}]
[null,null,null,null,null,null,null,null,null,null,null,null,null,null,null,"","",null,null,null,null,{"$f":"IF(referentes!AB1181=\"\",\"\",referentes!AB1181)","v":""},{"$f":"CONCATENATE(IF(referentes!AC1181=\"\",\"\",referentes!AC1181),IF(referentes!AD1181=\"\",\"\",CONCATENATE(\" \",referentes!AD1181)))","v":""}]
[null,null,null,null,null,null,null,null,null,null,null,null,null,null,null,"","",null,null,null,null,{"$f":"IF(referentes!AB1182=\"\",\"\",referentes!AB1182)","v":""},{"$f":"CONCATENATE(IF(referentes!AC1182=\"\",\"\",referentes!AC1182),IF(referentes!AD1182=\"\",\"\",CONCATENATE(\" \",referentes!AD1182)))","v":""}]
[null,null,null,null,null,null,null,null,null,null,null,null,null,null,null,"","",null,null,null,null,{"$f":"IF(referentes!AB1183=\"\",\"\",referentes!AB1183)","v":""},{"$f":"CONCATENATE(IF(referentes!AC1183=\"\",\"\",referentes!AC1183),IF(referentes!AD1183=\"\",\"\",CONCATENATE(\" \",referentes!AD1183)))","v":""}]
[null,null,null,null,null,null,null,null,null,null,null,null,null,null,null,"","",null,null,null,null,{"$f":"IF(referentes!AB1184=\"\",\"\",referentes!AB1184)","v":""},{"$f":"CONCATENATE(IF(referentes!AC1184=\"\",\"\",referentes!AC1184),IF(referentes!AD1184=\"\",\"\",CONCATENATE(\" \",referentes!AD1184)))","v":""}]
[null,null,null,null,null,null,null,null,null,null,null,null,null,null,null,"","",null,null,null,null,{"$f":"IF(referentes!AB1185=\"\",\"\",referentes!AB1185)","v":""},{"$f":"CONCATENATE(IF(referentes!AC1185=\"\",\"\",referentes!AC1185),IF(referentes!AD1185=\"\",\"\",CONCATENATE(\" \",referentes!AD1185)))","v":""}]
[null,null,null,null,null,null,null,null,null,null,null,null,null,null,null,"","",null,null,null,null,{"$f":"IF(referentes!AB1186=\"\",\"\",referentes!AB1186)","v":""},{"$f":"CONCATENATE(IF(referentes!AC1186=\"\",\"\",referentes!AC1186),IF(referentes!AD1186=\"\",\"\",CONCATENATE(\" \",referentes!AD1186)))","v":""}]
[null,null,null,null,null,null,null,null,null,null,null,null,null,null,null,"","",null,null,null,null,{"$f":"IF(referentes!AB1187=\"\",\"\",referentes!AB1187)","v":""},{"$f":"CONCATENATE(IF(referentes!AC1187=\"\",\"\",referentes!AC1187),IF(referentes!AD1187=\"\",\"\",CONCATENATE(\" \",referentes!AD1187)))","v":""}]
[null,null,null,null,null,null,null,null,null,null,null,null,null,null,null,"","",null,null,null,null,{"$f":"IF(referentes!AB1188=\"\",\"\",referentes!AB1188)","v":""},{"$f":"CONCATENATE(IF(referentes!AC1188=\"\",\"\",referentes!AC1188),IF(referentes!AD1188=\"\",\"\",CONCATENATE(\" \",referentes!AD1188)))","v":""}]
[null,null,null,null,null,null,null,null,null,null,null,null,null,null,null,"","",null,null,null,null,{"$f":"IF(referentes!AB1189=\"\",\"\",referentes!AB1189)","v":""},{"$f":"CONCATENATE(IF(referentes!AC1189=\"\",\"\",referentes!AC1189),IF(referentes!AD1189=\"\",\"\",CONCATENATE(\" \",referentes!AD1189)))","v":""}]
[null,null,null,null,null,null,null,null,null,null,null,null,null,null,null,"","",null,null,null,null,{"$f":"IF(referentes!AB1190=\"\",\"\",referentes!AB1190)","v":""},{"$f":"CONCATENATE(IF(referentes!AC1190=\"\",\"\",referentes!AC1190),IF(referentes!AD1190=\"\",\"\",CONCATENATE(\" \",referentes!AD1190)))","v":""}]
[null,null,null,null,null,null,null,null,null,null,null,null,null,null,null,"","",null,null,null,null,{"$f":"IF(referentes!AB1191=\"\",\"\",referentes!AB1191)","v":""},{"$f":"CONCATENATE(IF(referentes!AC1191=\"\",\"\",referentes!AC1191),IF(referentes!AD1191=\"\",\"\",CONCATENATE(\" \",referentes!AD1191)))","v":""}]
[null,null,null,null,null,null,null,null,null,null,null,null,null,null,null,"","",null,null,null,null,{"$f":"IF(referentes!AB1192=\"\",\"\",referentes!AB1192)","v":""},{"$f":"CONCATENATE(IF(referentes!AC1192=\"\",\"\",referentes!AC1192),IF(referentes!AD1192=\"\",\"\",CONCATENATE(\" \",referentes!AD1192)))","v":""}]
[null,null,null,null,null,null,null,null,null,null,null,null,null,null,null,"","",null,null,null,null,{"$f":"IF(referentes!AB1193=\"\",\"\",referentes!AB1193)","v":""},{"$f":"CONCATENATE(IF(referentes!AC1193=\"\",\"\",referentes!AC1193),IF(referentes!AD1193=\"\",\"\",CONCATENATE(\" \",referentes!AD1193)))","v":""}]
[null,null,null,null,null,null,null,null,null,null,null,null,null,null,null,"","",null,null,null,null,{"$f":"IF(referentes!AB1194=\"\",\"\",referentes!AB1194)","v":""},{"$f":"CONCATENATE(IF(referentes!AC1194=\"\",\"\",referentes!AC1194),IF(referentes!AD1194=\"\",\"\",CONCATENATE(\" \",referentes!AD1194)))","v":""}]
[null,null,null,null,null,null,null,null,null,null,null,null,null,null,null,"","",null,null,null,null,{"$f":"IF(referentes!AB1195=\"\",\"\",referentes!AB1195)","v":""},{"$f":"CONCATENATE(IF(referentes!AC1195=\"\",\"\",referentes!AC1195),IF(referentes!AD1195=\"\",\"\",CONCATENATE(\" \",referentes!AD1195)))","v":""}]
[null,null,null,null,null,null,null,null,null,null,null,null,null,null,null,"","",null,null,null,null,{"$f":"IF(referentes!AB1196=\"\",\"\",referentes!AB1196)","v":""},{"$f":"CONCATENATE(IF(referentes!AC1196=\"\",\"\",referentes!AC1196),IF(referentes!AD1196=\"\",\"\",CONCATENATE(\" \",referentes!AD1196)))","v":""}]
[null,null,null,null,null,null,null,null,null,null,null,null,null,null,null,"","",null,null,null,null,{"$f":"IF(referentes!AB1197=\"\",\"\",referentes!AB1197)","v":""},{"$f":"CONCATENATE(IF(referentes!AC1197=\"\",\"\",referentes!AC1197),IF(referentes!AD1197=\"\",\"\",CONCATENATE(\" \",referentes!AD1197)))","v":""}]
[null,null,null,null,null,null,null,null,null,null,null,null,null,null,null,"","",null,null,null,null,{"$f":"IF(referentes!AB1198=\"\",\"\",referentes!AB1198)","v":""},{"$f":"CONCATENATE(IF(referentes!AC1198=\"\",\"\",referentes!AC1198),IF(referentes!AD1198=\"\",\"\",CONCATENATE(\" \",referentes!AD1198)))","v":""}]
[null,null,null,null,null,null,null,null,null,null,null,null,null,null,null,"","",null,null,null,null,{"$f":"IF(referentes!AB1199=\"\",\"\",referentes!AB1199)","v":""},{"$f":"CONCATENATE(IF(referentes!AC1199=\"\",\"\",referentes!AC1199),IF(referentes!AD1199=\"\",\"\",CONCATENATE(\" \",referentes!AD1199)))","v":""}]
[null,null,null,null,null,null,null,null,null,null,null,null,null,null,null,"","",null,null,null,null,{"$f":"IF(referentes!AB1200=\"\",\"\",referentes!AB1200)","v":""},{"$f":"CONCATENATE(IF(referentes!AC1200=\"\",\"\",referentes!AC1200),IF(referentes!AD1200=\"\",\"\",CONCATENATE(\" \",referentes!AD1200)))","v":""}]
[null,null,null,null,null,null,null,null,null,null,null,null,null,null,null,"","",null,null,null,null,{"$f":"IF(referentes!AB1201=\"\",\"\",referentes!AB1201)","v":""},{"$f":"CONCATENATE(IF(referentes!AC1201=\"\",\"\",referentes!AC1201),IF(referentes!AD1201=\"\",\"\",CONCATENATE(\" \",referentes!AD1201)))","v":""}]
[null,null,null,null,null,null,null,null,null,null,null,null,null,null,null,"","",null,null,null,null,{"$f":"IF(referentes!AB1202=\"\",\"\",referentes!AB1202)","v":""},{"$f":"CONCATENATE(IF(referentes!AC1202=\"\",\"\",referentes!AC1202),IF(referentes!AD1202=\"\",\"\",CONCATENATE(\" \",referentes!AD1202)))","v":""}]
[null,null,null,null,null,null,null,null,null,null,null,null,null,null,null,"","",null,null,null,null,{"$f":"IF(referentes!AB1203=\"\",\"\",referentes!AB1203)","v":""},{"$f":"CONCATENATE(IF(referentes!AC1203=\"\",\"\",referentes!AC1203),IF(referentes!AD1203=\"\",\"\",CONCATENATE(\" \",referentes!AD1203)))","v":""}]
[null,null,null,null,null,null,null,null,null,null,null,null,null,null,null,"","",null,null,null,null,{"$f":"IF(referentes!AB1204=\"\",\"\",referentes!AB1204)","v":""},{"$f":"CONCATENATE(IF(referentes!AC1204=\"\",\"\",referentes!AC1204),IF(referentes!AD1204=\"\",\"\",CONCATENATE(\" \",referentes!AD1204)))","v":""}]
[null,null,null,null,null,null,null,null,null,null,null,null,null,null,null,"","",null,null,null,null,{"$f":"IF(referentes!AB1205=\"\",\"\",referentes!AB1205)","v":""},{"$f":"CONCATENATE(IF(referentes!AC1205=\"\",\"\",referentes!AC1205),IF(referentes!AD1205=\"\",\"\",CONCATENATE(\" \",referentes!AD1205)))","v":""}]
[null,null,null,null,null,null,null,null,null,null,null,null,null,null,null,"","",null,null,null,null,{"$f":"IF(referentes!AB1206=\"\",\"\",referentes!AB1206)","v":""},{"$f":"CONCATENATE(IF(referentes!AC1206=\"\",\"\",referentes!AC1206),IF(referentes!AD1206=\"\",\"\",CONCATENATE(\" \",referentes!AD1206)))","v":""}]
[null,null,null,null,null,null,null,null,null,null,null,null,null,null,null,"","",null,null,null,null,{"$f":"IF(referentes!AB1207=\"\",\"\",referentes!AB1207)","v":""},{"$f":"CONCATENATE(IF(referentes!AC1207=\"\",\"\",referentes!AC1207),IF(referentes!AD1207=\"\",\"\",CONCATENATE(\" \",referentes!AD1207)))","v":""}]
[null,null,null,null,null,null,null,null,null,null,null,null,null,null,null,"","",null,null,null,null,{"$f":"IF(referentes!AB1208=\"\",\"\",referentes!AB1208)","v":""},{"$f":"CONCATENATE(IF(referentes!AC1208=\"\",\"\",referentes!AC1208),IF(referentes!AD1208=\"\",\"\",CONCATENATE(\" \",referentes!AD1208)))","v":""}]
[null,null,null,null,null,null,null,null,null,null,null,null,null,null,null,"","",null,null,null,null,{"$f":"IF(referentes!AB1209=\"\",\"\",referentes!AB1209)","v":""},{"$f":"CONCATENATE(IF(referentes!AC1209=\"\",\"\",referentes!AC1209),IF(referentes!AD1209=\"\",\"\",CONCATENATE(\" \",referentes!AD1209)))","v":""}]
[null,null,null,null,null,null,null,null,null,null,null,null,null,null,null,"","",null,null,null,null,{"$f":"IF(referentes!AB1210=\"\",\"\",referentes!AB1210)","v":""},{"$f":"CONCATENATE(IF(referentes!AC1210=\"\",\"\",referentes!AC1210),IF(referentes!AD1210=\"\",\"\",CONCATENATE(\" \",referentes!AD1210)))","v":""}]
[null,null,null,null,null,null,null,null,null,null,null,null,null,null,null,"","",null,null,null,null,{"$f":"IF(referentes!AB1211=\"\",\"\",referentes!AB1211)","v":""},{"$f":"CONCATENATE(IF(referentes!AC1211=\"\",\"\",referentes!AC1211),IF(referentes!AD1211=\"\",\"\",CONCATENATE(\" \",referentes!AD1211)))","v":""}]
[null,null,null,null,null,null,null,null,null,null,null,null,null,null,null,"","",null,null,null,null,{"$f":"IF(referentes!AB1212=\"\",\"\",referentes!AB1212)","v":""},{"$f":"CONCATENATE(IF(referentes!AC1212=\"\",\"\",referentes!AC1212),IF(referentes!AD1212=\"\",\"\",CONCATENATE(\" \",referentes!AD1212)))","v":""}]
[null,null,null,null,null,null,null,null,null,null,null,null,null,null,null,"","",null,null,null,null,{"$f":"IF(referentes!AB1213=\"\",\"\",referentes!AB1213)","v":""},{"$f":"CONCATENATE(IF(referentes!AC1213=\"\",\"\",referentes!AC1213),IF(referentes!AD1213=\"\",\"\",CONCATENATE(\" \",referentes!AD1213)))","v":""}]
[null,null,null,null,null,null,null,null,null,null,null,null,null,null,null,"","",null,null,null,null,{"$f":"IF(referentes!AB1214=\"\",\"\",referentes!AB1214)","v":""},{"$f":"CONCATENATE(IF(referentes!AC1214=\"\",\"\",referentes!AC1214),IF(referentes!AD1214=\"\",\"\",CONCATENATE(\" \",referentes!AD1214)))","v":""}]
[null,null,null,null,null,null,null,null,null,null,null,null,null,null,null,"","",null,null,null,null,{"$f":"IF(referentes!AB1215=\"\",\"\",referentes!AB1215)","v":""},{"$f":"CONCATENATE(IF(referentes!AC1215=\"\",\"\",referentes!AC1215),IF(referentes!AD1215=\"\",\"\",CONCATENATE(\" \",referentes!AD1215)))","v":""}]
[null,null,null,null,null,null,null,null,null,null,null,null,null,null,null,"","",null,null,null,null,{"$f":"IF(referentes!AB1216=\"\",\"\",referentes!AB1216)","v":""},{"$f":"CONCATENATE(IF(referentes!AC1216=\"\",\"\",referentes!AC1216),IF(referentes!AD1216=\"\",\"\",CONCATENATE(\" \",referentes!AD1216)))","v":""}]
[null,null,null,null,null,null,null,null,null,null,null,null,null,null,null,"","",null,null,null,null,{"$f":"IF(referentes!AB1217=\"\",\"\",referentes!AB1217)","v":""},{"$f":"CONCATENATE(IF(referentes!AC1217=\"\",\"\",referentes!AC1217),IF(referentes!AD1217=\"\",\"\",CONCATENATE(\" \",referentes!AD1217)))","v":""}]
[null,null,null,null,null,null,null,null,null,null,null,null,null,null,null,"","",null,null,null,null,{"$f":"IF(referentes!AB1218=\"\",\"\",referentes!AB1218)","v":""},{"$f":"CONCATENATE(IF(referentes!AC1218=\"\",\"\",referentes!AC1218),IF(referentes!AD1218=\"\",\"\",CONCATENATE(\" \",referentes!AD1218)))","v":""}]
[null,null,null,null,null,null,null,null,null,null,null,null,null,null,null,"","",null,null,null,null,{"$f":"IF(referentes!AB1219=\"\",\"\",referentes!AB1219)","v":""},{"$f":"CONCATENATE(IF(referentes!AC1219=\"\",\"\",referentes!AC1219),IF(referentes!AD1219=\"\",\"\",CONCATENATE(\" \",referentes!AD1219)))","v":""}]
[null,null,null,null,null,null,null,null,null,null,null,null,null,null,null,"","",null,null,null,null,{"$f":"IF(referentes!AB1220=\"\",\"\",referentes!AB1220)","v":""},{"$f":"CONCATENATE(IF(referentes!AC1220=\"\",\"\",referentes!AC1220),IF(referentes!AD1220=\"\",\"\",CONCATENATE(\" \",referentes!AD1220)))","v":""}]
[null,null,null,null,null,null,null,null,null,null,null,null,null,null,null,"","",null,null,null,null,{"$f":"IF(referentes!AB1221=\"\",\"\",referentes!AB1221)","v":""},{"$f":"CONCATENATE(IF(referentes!AC1221=\"\",\"\",referentes!AC1221),IF(referentes!AD1221=\"\",\"\",CONCATENATE(\" \",referentes!AD1221)))","v":""}]
[null,null,null,null,null,null,null,null,null,null,null,null,null,null,null,"","",null,null,null,null,{"$f":"IF(referentes!AB1222=\"\",\"\",referentes!AB1222)","v":""},{"$f":"CONCATENATE(IF(referentes!AC1222=\"\",\"\",referentes!AC1222),IF(referentes!AD1222=\"\",\"\",CONCATENATE(\" \",referentes!AD1222)))","v":""}]
[null,null,null,null,null,null,null,null,null,null,null,null,null,null,null,"","",null,null,null,null,{"$f":"IF(referentes!AB1223=\"\",\"\",referentes!AB1223)","v":""},{"$f":"CONCATENATE(IF(referentes!AC1223=\"\",\"\",referentes!AC1223),IF(referentes!AD1223=\"\",\"\",CONCATENATE(\" \",referentes!AD1223)))","v":""}]
[null,null,null,null,null,null,null,null,null,null,null,null,null,null,null,"","",null,null,null,null,{"$f":"IF(referentes!AB1224=\"\",\"\",referentes!AB1224)","v":""},{"$f":"CONCATENATE(IF(referentes!AC1224=\"\",\"\",referentes!AC1224),IF(referentes!AD1224=\"\",\"\",CONCATENATE(\" \",referentes!AD1224)))","v":""}]
[null,null,null,null,null,null,null,null,null,null,null,null,null,null,null,"","",null,null,null,null,{"$f":"IF(referentes!AB1225=\"\",\"\",referentes!AB1225)","v":""},{"$f":"CONCATENATE(IF(referentes!AC1225=\"\",\"\",referentes!AC1225),IF(referentes!AD1225=\"\",\"\",CONCATENATE(\" \",referentes!AD1225)))","v":""}]
[null,null,null,null,null,null,null,null,null,null,null,null,null,null,null,"","",null,null,null,null,{"$f":"IF(referentes!AB1226=\"\",\"\",referentes!AB1226)","v":""},{"$f":"CONCATENATE(IF(referentes!AC1226=\"\",\"\",referentes!AC1226),IF(referentes!AD1226=\"\",\"\",CONCATENATE(\" \",referentes!AD1226)))","v":""}]
[null,null,null,null,null,null,null,null,null,null,null,null,null,null,null,"","",null,null,null,null,{"$f":"IF(referentes!AB1227=\"\",\"\",referentes!AB1227)","v":""},{"$f":"CONCATENATE(IF(referentes!AC1227=\"\",\"\",referentes!AC1227),IF(referentes!AD1227=\"\",\"\",CONCATENATE(\" \",referentes!AD1227)))","v":""}]
[null,null,null,null,null,null,null,null,null,null,null,null,null,null,null,"","",null,null,null,null,{"$f":"IF(referentes!AB1228=\"\",\"\",referentes!AB1228)","v":""},{"$f":"CONCATENATE(IF(referentes!AC1228=\"\",\"\",referentes!AC1228),IF(referentes!AD1228=\"\",\"\",CONCATENATE(\" \",referentes!AD1228)))","v":""}]
[null,null,null,null,null,null,null,null,null,null,null,null,null,null,null,"","",null,null,null,null,{"$f":"IF(referentes!AB1229=\"\",\"\",referentes!AB1229)","v":""},{"$f":"CONCATENATE(IF(referentes!AC1229=\"\",\"\",referentes!AC1229),IF(referentes!AD1229=\"\",\"\",CONCATENATE(\" \",referentes!AD1229)))","v":""}]
[null,null,null,null,null,null,null,null,null,null,null,null,null,null,null,"","",null,null,null,null,{"$f":"IF(referentes!AB1230=\"\",\"\",referentes!AB1230)","v":""},{"$f":"CONCATENATE(IF(referentes!AC1230=\"\",\"\",referentes!AC1230),IF(referentes!AD1230=\"\",\"\",CONCATENATE(\" \",referentes!AD1230)))","v":""}]
[null,null,null,null,null,null,null,null,null,null,null,null,null,null,null,"","",null,null,null,null,{"$f":"IF(referentes!AB1231=\"\",\"\",referentes!AB1231)","v":""},{"$f":"CONCATENATE(IF(referentes!AC1231=\"\",\"\",referentes!AC1231),IF(referentes!AD1231=\"\",\"\",CONCATENATE(\" \",referentes!AD1231)))","v":""}]
[null,null,null,null,null,null,null,null,null,null,null,null,null,null,null,"","",null,null,null,null,{"$f":"IF(referentes!AB1232=\"\",\"\",referentes!AB1232)","v":""},{"$f":"CONCATENATE(IF(referentes!AC1232=\"\",\"\",referentes!AC1232),IF(referentes!AD1232=\"\",\"\",CONCATENATE(\" \",referentes!AD1232)))","v":""}]
[null,null,null,null,null,null,null,null,null,null,null,null,null,null,null,"","",null,null,null,null,{"$f":"IF(referentes!AB1233=\"\",\"\",referentes!AB1233)","v":""},{"$f":"CONCATENATE(IF(referentes!AC1233=\"\",\"\",referentes!AC1233),IF(referentes!AD1233=\"\",\"\",CONCATENATE(\" \",referentes!AD1233)))","v":""}]
[null,null,null,null,null,null,null,null,null,null,null,null,null,null,null,"","",null,null,null,null,{"$f":"IF(referentes!AB1234=\"\",\"\",referentes!AB1234)","v":""},{"$f":"CONCATENATE(IF(referentes!AC1234=\"\",\"\",referentes!AC1234),IF(referentes!AD1234=\"\",\"\",CONCATENATE(\" \",referentes!AD1234)))","v":""}]
[null,null,null,null,null,null,null,null,null,null,null,null,null,null,null,"","",null,null,null,null,{"$f":"IF(referentes!AB1235=\"\",\"\",referentes!AB1235)","v":""},{"$f":"CONCATENATE(IF(referentes!AC1235=\"\",\"\",referentes!AC1235),IF(referentes!AD1235=\"\",\"\",CONCATENATE(\" \",referentes!AD1235)))","v":""}]
[null,null,null,null,null,null,null,null,null,null,null,null,null,null,null,"","",null,null,null,null,{"$f":"IF(referentes!AB1236=\"\",\"\",referentes!AB1236)","v":""},{"$f":"CONCATENATE(IF(referentes!AC1236=\"\",\"\",referentes!AC1236),IF(referentes!AD1236=\"\",\"\",CONCATENATE(\" \",referentes!AD1236)))","v":""}]
[null,null,null,null,null,null,null,null,null,null,null,null,null,null,null,"","",null,null,null,null,{"$f":"IF(referentes!AB1237=\"\",\"\",referentes!AB1237)","v":""},{"$f":"CONCATENATE(IF(referentes!AC1237=\"\",\"\",referentes!AC1237),IF(referentes!AD1237=\"\",\"\",CONCATENATE(\" \",referentes!AD1237)))","v":""}]
[null,null,null,null,null,null,null,null,null,null,null,null,null,null,null,"","",null,null,null,null,{"$f":"IF(referentes!AB1238=\"\",\"\",referentes!AB1238)","v":""},{"$f":"CONCATENATE(IF(referentes!AC1238=\"\",\"\",referentes!AC1238),IF(referentes!AD1238=\"\",\"\",CONCATENATE(\" \",referentes!AD1238)))","v":""}]
[null,null,null,null,null,null,null,null,null,null,null,null,null,null,null,"","",null,null,null,null,{"$f":"IF(referentes!AB1239=\"\",\"\",referentes!AB1239)","v":""},{"$f":"CONCATENATE(IF(referentes!AC1239=\"\",\"\",referentes!AC1239),IF(referentes!AD1239=\"\",\"\",CONCATENATE(\" \",referentes!AD1239)))","v":""}]
[null,null,null,null,null,null,null,null,null,null,null,null,null,null,null,"","",null,null,null,null,{"$f":"IF(referentes!AB1240=\"\",\"\",referentes!AB1240)","v":""},{"$f":"CONCATENATE(IF(referentes!AC1240=\"\",\"\",referentes!AC1240),IF(referentes!AD1240=\"\",\"\",CONCATENATE(\" \",referentes!AD1240)))","v":""}]
[null,null,null,null,null,null,null,null,null,null,null,null,null,null,null,"","",null,null,null,null,{"$f":"IF(referentes!AB1241=\"\",\"\",referentes!AB1241)","v":""},{"$f":"CONCATENATE(IF(referentes!AC1241=\"\",\"\",referentes!AC1241),IF(referentes!AD1241=\"\",\"\",CONCATENATE(\" \",referentes!AD1241)))","v":""}]
[null,null,null,null,null,null,null,null,null,null,null,null,null,null,null,"","",null,null,null,null,{"$f":"IF(referentes!AB1242=\"\",\"\",referentes!AB1242)","v":""},{"$f":"CONCATENATE(IF(referentes!AC1242=\"\",\"\",referentes!AC1242),IF(referentes!AD1242=\"\",\"\",CONCATENATE(\" \",referentes!AD1242)))","v":""}]
[null,null,null,null,null,null,null,null,null,null,null,null,null,null,null,"","",null,null,null,null,{"$f":"IF(referentes!AB1243=\"\",\"\",referentes!AB1243)","v":""},{"$f":"CONCATENATE(IF(referentes!AC1243=\"\",\"\",referentes!AC1243),IF(referentes!AD1243=\"\",\"\",CONCATENATE(\" \",referentes!AD1243)))","v":""}]
[null,null,null,null,null,null,null,null,null,null,null,null,null,null,null,"","",null,null,null,null,{"$f":"IF(referentes!AB1244=\"\",\"\",referentes!AB1244)","v":""},{"$f":"CONCATENATE(IF(referentes!AC1244=\"\",\"\",referentes!AC1244),IF(referentes!AD1244=\"\",\"\",CONCATENATE(\" \",referentes!AD1244)))","v":""}]
[null,null,null,null,null,null,null,null,null,null,null,null,null,null,null,"","",null,null,null,null,{"$f":"IF(referentes!AB1245=\"\",\"\",referentes!AB1245)","v":""},{"$f":"CONCATENATE(IF(referentes!AC1245=\"\",\"\",referentes!AC1245),IF(referentes!AD1245=\"\",\"\",CONCATENATE(\" \",referentes!AD1245)))","v":""}]
[null,null,null,null,null,null,null,null,null,null,null,null,null,null,null,"","",null,null,null,null,{"$f":"IF(referentes!AB1246=\"\",\"\",referentes!AB1246)","v":""},{"$f":"CONCATENATE(IF(referentes!AC1246=\"\",\"\",referentes!AC1246),IF(referentes!AD1246=\"\",\"\",CONCATENATE(\" \",referentes!AD1246)))","v":""}]
[null,null,null,null,null,null,null,null,null,null,null,null,null,null,null,"","",null,null,null,null,{"$f":"IF(referentes!AB1247=\"\",\"\",referentes!AB1247)","v":""},{"$f":"CONCATENATE(IF(referentes!AC1247=\"\",\"\",referentes!AC1247),IF(referentes!AD1247=\"\",\"\",CONCATENATE(\" \",referentes!AD1247)))","v":""}]
[null,null,null,null,null,null,null,null,null,null,null,null,null,null,null,"","",null,null,null,null,{"$f":"IF(referentes!AB1248=\"\",\"\",referentes!AB1248)","v":""},{"$f":"CONCATENATE(IF(referentes!AC1248=\"\",\"\",referentes!AC1248),IF(referentes!AD1248=\"\",\"\",CONCATENATE(\" \",referentes!AD1248)))","v":""}]
[null,null,null,null,null,null,null,null,null,null,null,null,null,null,null,"","",null,null,null,null,{"$f":"IF(referentes!AB1249=\"\",\"\",referentes!AB1249)","v":""},{"$f":"CONCATENATE(IF(referentes!AC1249=\"\",\"\",referentes!AC1249),IF(referentes!AD1249=\"\",\"\",CONCATENATE(\" \",referentes!AD1249)))","v":""}]
[null,null,null,null,null,null,null,null,null,null,null,null,null,null,null,"","",null,null,null,null,{"$f":"IF(referentes!AB1250=\"\",\"\",referentes!AB1250)","v":""},{"$f":"CONCATENATE(IF(referentes!AC1250=\"\",\"\",referentes!AC1250),IF(referentes!AD1250=\"\",\"\",CONCATENATE(\" \",referentes!AD1250)))","v":""}]
[null,null,null,null,null,null,null,null,null,null,null,null,null,null,null,"","",null,null,null,null,{"$f":"IF(referentes!AB1251=\"\",\"\",referentes!AB1251)","v":""},{"$f":"CONCATENATE(IF(referentes!AC1251=\"\",\"\",referentes!AC1251),IF(referentes!AD1251=\"\",\"\",CONCATENATE(\" \",referentes!AD1251)))","v":""}]
[null,null,null,null,null,null,null,null,null,null,null,null,null,null,null,"","",null,null,null,null,{"$f":"IF(referentes!AB1252=\"\",\"\",referentes!AB1252)","v":""},{"$f":"CONCATENATE(IF(referentes!AC1252=\"\",\"\",referentes!AC1252),IF(referentes!AD1252=\"\",\"\",CONCATENATE(\" \",referentes!AD1252)))","v":""}]
[null,null,null,null,null,null,null,null,null,null,null,null,null,null,null,"","",null,null,null,null,{"$f":"IF(referentes!AB1253=\"\",\"\",referentes!AB1253)","v":""},{"$f":"CONCATENATE(IF(referentes!AC1253=\"\",\"\",referentes!AC1253),IF(referentes!AD1253=\"\",\"\",CONCATENATE(\" \",referentes!AD1253)))","v":""}]
[null,null,null,null,null,null,null,null,null,null,null,null,null,null,null,"","",null,null,null,null,{"$f":"IF(referentes!AB1254=\"\",\"\",referentes!AB1254)","v":""},{"$f":"CONCATENATE(IF(referentes!AC1254=\"\",\"\",referentes!AC1254),IF(referentes!AD1254=\"\",\"\",CONCATENATE(\" \",referentes!AD1254)))","v":""}]
[null,null,null,null,null,null,null,null,null,null,null,null,null,null,null,"","",null,null,null,null,{"$f":"IF(referentes!AB1255=\"\",\"\",referentes!AB1255)","v":""},{"$f":"CONCATENATE(IF(referentes!AC1255=\"\",\"\",referentes!AC1255),IF(referentes!AD1255=\"\",\"\",CONCATENATE(\" \",referentes!AD1255)))","v":""}]
[null,null,null,null,null,null,null,null,null,null,null,null,null,null,null,"","",null,null,null,null,{"$f":"IF(referentes!AB1256=\"\",\"\",referentes!AB1256)","v":""},{"$f":"CONCATENATE(IF(referentes!AC1256=\"\",\"\",referentes!AC1256),IF(referentes!AD1256=\"\",\"\",CONCATENATE(\" \",referentes!AD1256)))","v":""}]
[null,null,null,null,null,null,null,null,null,null,null,null,null,null,null,"","",null,null,null,null,{"$f":"IF(referentes!AB1257=\"\",\"\",referentes!AB1257)","v":""},{"$f":"CONCATENATE(IF(referentes!AC1257=\"\",\"\",referentes!AC1257),IF(referentes!AD1257=\"\",\"\",CONCATENATE(\" \",referentes!AD1257)))","v":""}]
[null,null,null,null,null,null,null,null,null,null,null,null,null,null,null,"","",null,null,null,null,{"$f":"IF(referentes!AB1258=\"\",\"\",referentes!AB1258)","v":""},{"$f":"CONCATENATE(IF(referentes!AC1258=\"\",\"\",referentes!AC1258),IF(referentes!AD1258=\"\",\"\",CONCATENATE(\" \",referentes!AD1258)))","v":""}]
[null,null,null,null,null,null,null,null,null,null,null,null,null,null,null,"","",null,null,null,null,{"$f":"IF(referentes!AB1259=\"\",\"\",referentes!AB1259)","v":""},{"$f":"CONCATENATE(IF(referentes!AC1259=\"\",\"\",referentes!AC1259),IF(referentes!AD1259=\"\",\"\",CONCATENATE(\" \",referentes!AD1259)))","v":""}]
[null,null,null,null,null,null,null,null,null,null,null,null,null,null,null,"","",null,null,null,null,{"$f":"IF(referentes!AB1260=\"\",\"\",referentes!AB1260)","v":""},{"$f":"CONCATENATE(IF(referentes!AC1260=\"\",\"\",referentes!AC1260),IF(referentes!AD1260=\"\",\"\",CONCATENATE(\" \",referentes!AD1260)))","v":""}]
[null,null,null,null,null,null,null,null,null,null,null,null,null,null,null,"","",null,null,null,null,{"$f":"IF(referentes!AB1261=\"\",\"\",referentes!AB1261)","v":""},{"$f":"CONCATENATE(IF(referentes!AC1261=\"\",\"\",referentes!AC1261),IF(referentes!AD1261=\"\",\"\",CONCATENATE(\" \",referentes!AD1261)))","v":""}]
[null,null,null,null,null,null,null,null,null,null,null,null,null,null,null,"","",null,null,null,null,{"$f":"IF(referentes!AB1262=\"\",\"\",referentes!AB1262)","v":""},{"$f":"CONCATENATE(IF(referentes!AC1262=\"\",\"\",referentes!AC1262),IF(referentes!AD1262=\"\",\"\",CONCATENATE(\" \",referentes!AD1262)))","v":""}]
[null,null,null,null,null,null,null,null,null,null,null,null,null,null,null,"","",null,null,null,null,{"$f":"IF(referentes!AB1263=\"\",\"\",referentes!AB1263)","v":""},{"$f":"CONCATENATE(IF(referentes!AC1263=\"\",\"\",referentes!AC1263),IF(referentes!AD1263=\"\",\"\",CONCATENATE(\" \",referentes!AD1263)))","v":""}]
[null,null,null,null,null,null,null,null,null,null,null,null,null,null,null,"","",null,null,null,null,{"$f":"IF(referentes!AB1264=\"\",\"\",referentes!AB1264)","v":""},{"$f":"CONCATENATE(IF(referentes!AC1264=\"\",\"\",referentes!AC1264),IF(referentes!AD1264=\"\",\"\",CONCATENATE(\" \",referentes!AD1264)))","v":""}]
[null,null,null,null,null,null,null,null,null,null,null,null,null,null,null,"","",null,null,null,null,{"$f":"IF(referentes!AB1265=\"\",\"\",referentes!AB1265)","v":""},{"$f":"CONCATENATE(IF(referentes!AC1265=\"\",\"\",referentes!AC1265),IF(referentes!AD1265=\"\",\"\",CONCATENATE(\" \",referentes!AD1265)))","v":""}]
[null,null,null,null,null,null,null,null,null,null,null,null,null,null,null,"","",null,null,null,null,{"$f":"IF(referentes!AB1266=\"\",\"\",referentes!AB1266)","v":""},{"$f":"CONCATENATE(IF(referentes!AC1266=\"\",\"\",referentes!AC1266),IF(referentes!AD1266=\"\",\"\",CONCATENATE(\" \",referentes!AD1266)))","v":""}]
[null,null,null,null,null,null,null,null,null,null,null,null,null,null,null,"","",null,null,null,null,{"$f":"IF(referentes!AB1267=\"\",\"\",referentes!AB1267)","v":""},{"$f":"CONCATENATE(IF(referentes!AC1267=\"\",\"\",referentes!AC1267),IF(referentes!AD1267=\"\",\"\",CONCATENATE(\" \",referentes!AD1267)))","v":""}]
[null,null,null,null,null,null,null,null,null,null,null,null,null,null,null,"","",null,null,null,null,{"$f":"IF(referentes!AB1268=\"\",\"\",referentes!AB1268)","v":""},{"$f":"CONCATENATE(IF(referentes!AC1268=\"\",\"\",referentes!AC1268),IF(referentes!AD1268=\"\",\"\",CONCATENATE(\" \",referentes!AD1268)))","v":""}]
[null,null,null,null,null,null,null,null,null,null,null,null,null,null,null,"","",null,null,null,null,{"$f":"IF(referentes!AB1269=\"\",\"\",referentes!AB1269)","v":""},{"$f":"CONCATENATE(IF(referentes!AC1269=\"\",\"\",referentes!AC1269),IF(referentes!AD1269=\"\",\"\",CONCATENATE(\" \",referentes!AD1269)))","v":""}]
[null,null,null,null,null,null,null,null,null,null,null,null,null,null,null,"","",null,null,null,null,{"$f":"IF(referentes!AB1270=\"\",\"\",referentes!AB1270)","v":""},{"$f":"CONCATENATE(IF(referentes!AC1270=\"\",\"\",referentes!AC1270),IF(referentes!AD1270=\"\",\"\",CONCATENATE(\" \",referentes!AD1270)))","v":""}]
[null,null,null,null,null,null,null,null,null,null,null,null,null,null,null,"","",null,null,null,null,{"$f":"IF(referentes!AB1271=\"\",\"\",referentes!AB1271)","v":""},{"$f":"CONCATENATE(IF(referentes!AC1271=\"\",\"\",referentes!AC1271),IF(referentes!AD1271=\"\",\"\",CONCATENATE(\" \",referentes!AD1271)))","v":""}]
[null,null,null,null,null,null,null,null,null,null,null,null,null,null,null,"","",null,null,null,null,{"$f":"IF(referentes!AB1272=\"\",\"\",referentes!AB1272)","v":""},{"$f":"CONCATENATE(IF(referentes!AC1272=\"\",\"\",referentes!AC1272),IF(referentes!AD1272=\"\",\"\",CONCATENATE(\" \",referentes!AD1272)))","v":""}]
[null,null,null,null,null,null,null,null,null,null,null,null,null,null,null,"","",null,null,null,null,{"$f":"IF(referentes!AB1273=\"\",\"\",referentes!AB1273)","v":""},{"$f":"CONCATENATE(IF(referentes!AC1273=\"\",\"\",referentes!AC1273),IF(referentes!AD1273=\"\",\"\",CONCATENATE(\" \",referentes!AD1273)))","v":""}]
[null,null,null,null,null,null,null,null,null,null,null,null,null,null,null,"","",null,null,null,null,{"$f":"IF(referentes!AB1274=\"\",\"\",referentes!AB1274)","v":""},{"$f":"CONCATENATE(IF(referentes!AC1274=\"\",\"\",referentes!AC1274),IF(referentes!AD1274=\"\",\"\",CONCATENATE(\" \",referentes!AD1274)))","v":""}]
[null,null,null,null,null,null,null,null,null,null,null,null,null,null,null,"","",null,null,null,null,{"$f":"IF(referentes!AB1275=\"\",\"\",referentes!AB1275)","v":""},{"$f":"CONCATENATE(IF(referentes!AC1275=\"\",\"\",referentes!AC1275),IF(referentes!AD1275=\"\",\"\",CONCATENATE(\" \",referentes!AD1275)))","v":""}]
[null,null,null,null,null,null,null,null,null,null,null,null,null,null,null,"","",null,null,null,null,{"$f":"IF(referentes!AB1276=\"\",\"\",referentes!AB1276)","v":""},{"$f":"CONCATENATE(IF(referentes!AC1276=\"\",\"\",referentes!AC1276),IF(referentes!AD1276=\"\",\"\",CONCATENATE(\" \",referentes!AD1276)))","v":""}]
[null,null,null,null,null,null,null,null,null,null,null,null,null,null,null,"","",null,null,null,null,{"$f":"IF(referentes!AB1277=\"\",\"\",referentes!AB1277)","v":""},{"$f":"CONCATENATE(IF(referentes!AC1277=\"\",\"\",referentes!AC1277),IF(referentes!AD1277=\"\",\"\",CONCATENATE(\" \",referentes!AD1277)))","v":""}]
[null,null,null,null,null,null,null,null,null,null,null,null,null,null,null,"","",null,null,null,null,{"$f":"IF(referentes!AB1278=\"\",\"\",referentes!AB1278)","v":""},{"$f":"CONCATENATE(IF(referentes!AC1278=\"\",\"\",referentes!AC1278),IF(referentes!AD1278=\"\",\"\",CONCATENATE(\" \",referentes!AD1278)))","v":""}]
[null,null,null,null,null,null,null,null,null,null,null,null,null,null,null,"","",null,null,null,null,{"$f":"IF(referentes!AB1279=\"\",\"\",referentes!AB1279)","v":""},{"$f":"CONCATENATE(IF(referentes!AC1279=\"\",\"\",referentes!AC1279),IF(referentes!AD1279=\"\",\"\",CONCATENATE(\" \",referentes!AD1279)))","v":""}]
[null,null,null,null,null,null,null,null,null,null,null,null,null,null,null,"","",null,null,null,null,{"$f":"IF(referentes!AB1280=\"\",\"\",referentes!AB1280)","v":""},{"$f":"CONCATENATE(IF(referentes!AC1280=\"\",\"\",referentes!AC1280),IF(referentes!AD1280=\"\",\"\",CONCATENATE(\" \",referentes!AD1280)))","v":""}]
[null,null,null,null,null,null,null,null,null,null,null,null,null,null,null,"","",null,null,null,null,{"$f":"IF(referentes!AB1281=\"\",\"\",referentes!AB1281)","v":""},{"$f":"CONCATENATE(IF(referentes!AC1281=\"\",\"\",referentes!AC1281),IF(referentes!AD1281=\"\",\"\",CONCATENATE(\" \",referentes!AD1281)))","v":""}]
[null,null,null,null,null,null,null,null,null,null,null,null,null,null,null,"","",null,null,null,null,{"$f":"IF(referentes!AB1282=\"\",\"\",referentes!AB1282)","v":""},{"$f":"CONCATENATE(IF(referentes!AC1282=\"\",\"\",referentes!AC1282),IF(referentes!AD1282=\"\",\"\",CONCATENATE(\" \",referentes!AD1282)))","v":""}]
[null,null,null,null,null,null,null,null,null,null,null,null,null,null,null,"","",null,null,null,null,{"$f":"IF(referentes!AB1283=\"\",\"\",referentes!AB1283)","v":""},{"$f":"CONCATENATE(IF(referentes!AC1283=\"\",\"\",referentes!AC1283),IF(referentes!AD1283=\"\",\"\",CONCATENATE(\" \",referentes!AD1283)))","v":""}]
[null,null,null,null,null,null,null,null,null,null,null,null,null,null,null,"","",null,null,null,null,{"$f":"IF(referentes!AB1284=\"\",\"\",referentes!AB1284)","v":""},{"$f":"CONCATENATE(IF(referentes!AC1284=\"\",\"\",referentes!AC1284),IF(referentes!AD1284=\"\",\"\",CONCATENATE(\" \",referentes!AD1284)))","v":""}]
[null,null,null,null,null,null,null,null,null,null,null,null,null,null,null,"","",null,null,null,null,{"$f":"IF(referentes!AB1285=\"\",\"\",referentes!AB1285)","v":""},{"$f":"CONCATENATE(IF(referentes!AC1285=\"\",\"\",referentes!AC1285),IF(referentes!AD1285=\"\",\"\",CONCATENATE(\" \",referentes!AD1285)))","v":""}]
[null,null,null,null,null,null,null,null,null,null,null,null,null,null,null,"","",null,null,null,null,{"$f":"IF(referentes!AB1286=\"\",\"\",referentes!AB1286)","v":""},{"$f":"CONCATENATE(IF(referentes!AC1286=\"\",\"\",referentes!AC1286),IF(referentes!AD1286=\"\",\"\",CONCATENATE(\" \",referentes!AD1286)))","v":""}]
[null,null,null,null,null,null,null,null,null,null,null,null,null,null,null,"","",null,null,null,null,{"$f":"IF(referentes!AB1287=\"\",\"\",referentes!AB1287)","v":""},{"$f":"CONCATENATE(IF(referentes!AC1287=\"\",\"\",referentes!AC1287),IF(referentes!AD1287=\"\",\"\",CONCATENATE(\" \",referentes!AD1287)))","v":""}]
[null,null,null,null,null,null,null,null,null,null,null,null,null,null,null,"","",null,null,null,null,{"$f":"IF(referentes!AB1288=\"\",\"\",referentes!AB1288)","v":""},{"$f":"CONCATENATE(IF(referentes!AC1288=\"\",\"\",referentes!AC1288),IF(referentes!AD1288=\"\",\"\",CONCATENATE(\" \",referentes!AD1288)))","v":""}]
[null,null,null,null,null,null,null,null,null,null,null,null,null,null,null,"","",null,null,null,null,{"$f":"IF(referentes!AB1289=\"\",\"\",referentes!AB1289)","v":""},{"$f":"CONCATENATE(IF(referentes!AC1289=\"\",\"\",referentes!AC1289),IF(referentes!AD1289=\"\",\"\",CONCATENATE(\" \",referentes!AD1289)))","v":""}]
[null,null,null,null,null,null,null,null,null,null,null,null,null,null,null,"","",null,null,null,null,{"$f":"IF(referentes!AB1290=\"\",\"\",referentes!AB1290)","v":""},{"$f":"CONCATENATE(IF(referentes!AC1290=\"\",\"\",referentes!AC1290),IF(referentes!AD1290=\"\",\"\",CONCATENATE(\" \",referentes!AD1290)))","v":""}]
[null,null,null,null,null,null,null,null,null,null,null,null,null,null,null,"","",null,null,null,null,{"$f":"IF(referentes!AB1291=\"\",\"\",referentes!AB1291)","v":""},{"$f":"CONCATENATE(IF(referentes!AC1291=\"\",\"\",referentes!AC1291),IF(referentes!AD1291=\"\",\"\",CONCATENATE(\" \",referentes!AD1291)))","v":""}]
[null,null,null,null,null,null,null,null,null,null,null,null,null,null,null,"","",null,null,null,null,{"$f":"IF(referentes!AB1292=\"\",\"\",referentes!AB1292)","v":""},{"$f":"CONCATENATE(IF(referentes!AC1292=\"\",\"\",referentes!AC1292),IF(referentes!AD1292=\"\",\"\",CONCATENATE(\" \",referentes!AD1292)))","v":""}]
[null,null,null,null,null,null,null,null,null,null,null,null,null,null,null,"","",null,null,null,null,{"$f":"IF(referentes!AB1293=\"\",\"\",referentes!AB1293)","v":""},{"$f":"CONCATENATE(IF(referentes!AC1293=\"\",\"\",referentes!AC1293),IF(referentes!AD1293=\"\",\"\",CONCATENATE(\" \",referentes!AD1293)))","v":""}]
[null,null,null,null,null,null,null,null,null,null,null,null,null,null,null,"","",null,null,null,null,{"$f":"IF(referentes!AB1294=\"\",\"\",referentes!AB1294)","v":""},{"$f":"CONCATENATE(IF(referentes!AC1294=\"\",\"\",referentes!AC1294),IF(referentes!AD1294=\"\",\"\",CONCATENATE(\" \",referentes!AD1294)))","v":""}]
[null,null,null,null,null,null,null,null,null,null,null,null,null,null,null,"","",null,null,null,null,{"$f":"IF(referentes!AB1295=\"\",\"\",referentes!AB1295)","v":""},{"$f":"CONCATENATE(IF(referentes!AC1295=\"\",\"\",referentes!AC1295),IF(referentes!AD1295=\"\",\"\",CONCATENATE(\" \",referentes!AD1295)))","v":""}]
[null,null,null,null,null,null,null,null,null,null,null,null,null,null,null,"","",null,null,null,null,{"$f":"IF(referentes!AB1296=\"\",\"\",referentes!AB1296)","v":""},{"$f":"CONCATENATE(IF(referentes!AC1296=\"\",\"\",referentes!AC1296),IF(referentes!AD1296=\"\",\"\",CONCATENATE(\" \",referentes!AD1296)))","v":""}]
[null,null,null,null,null,null,null,null,null,null,null,null,null,null,null,"","",null,null,null,null,{"$f":"IF(referentes!AB1297=\"\",\"\",referentes!AB1297)","v":""},{"$f":"CONCATENATE(IF(referentes!AC1297=\"\",\"\",referentes!AC1297),IF(referentes!AD1297=\"\",\"\",CONCATENATE(\" \",referentes!AD1297)))","v":""}]
[null,null,null,null,null,null,null,null,null,null,null,null,null,null,null,"","",null,null,null,null,{"$f":"IF(referentes!AB1298=\"\",\"\",referentes!AB1298)","v":""},{"$f":"CONCATENATE(IF(referentes!AC1298=\"\",\"\",referentes!AC1298),IF(referentes!AD1298=\"\",\"\",CONCATENATE(\" \",referentes!AD1298)))","v":""}]
[null,null,null,null,null,null,null,null,null,null,null,null,null,null,null,"","",null,null,null,null,{"$f":"IF(referentes!AB1299=\"\",\"\",referentes!AB1299)","v":""},{"$f":"CONCATENATE(IF(referentes!AC1299=\"\",\"\",referentes!AC1299),IF(referentes!AD1299=\"\",\"\",CONCATENATE(\" \",referentes!AD1299)))","v":""}]
[null,null,null,null,null,null,null,null,null,null,null,null,null,null,null,"","",null,null,null,null,{"$f":"IF(referentes!AB1300=\"\",\"\",referentes!AB1300)","v":""},{"$f":"CONCATENATE(IF(referentes!AC1300=\"\",\"\",referentes!AC1300),IF(referentes!AD1300=\"\",\"\",CONCATENATE(\" \",referentes!AD1300)))","v":""}]
[null,null,null,null,null,null,null,null,null,null,null,null,null,null,null,"","",null,null,null,null,{"$f":"IF(referentes!AB1301=\"\",\"\",referentes!AB1301)","v":""},{"$f":"CONCATENATE(IF(referentes!AC1301=\"\",\"\",referentes!AC1301),IF(referentes!AD1301=\"\",\"\",CONCATENATE(\" \",referentes!AD1301)))","v":""}]
[null,null,null,null,null,null,null,null,null,null,null,null,null,null,null,"","",null,null,null,null,{"$f":"IF(referentes!AB1302=\"\",\"\",referentes!AB1302)","v":""},{"$f":"CONCATENATE(IF(referentes!AC1302=\"\",\"\",referentes!AC1302),IF(referentes!AD1302=\"\",\"\",CONCATENATE(\" \",referentes!AD1302)))","v":""}]
[null,null,null,null,null,null,null,null,null,null,null,null,null,null,null,"","",null,null,null,null,{"$f":"IF(referentes!AB1303=\"\",\"\",referentes!AB1303)","v":""},{"$f":"CONCATENATE(IF(referentes!AC1303=\"\",\"\",referentes!AC1303),IF(referentes!AD1303=\"\",\"\",CONCATENATE(\" \",referentes!AD1303)))","v":""}]
[null,null,null,null,null,null,null,null,null,null,null,null,null,null,null,"","",null,null,null,null,{"$f":"IF(referentes!AB1304=\"\",\"\",referentes!AB1304)","v":""},{"$f":"CONCATENATE(IF(referentes!AC1304=\"\",\"\",referentes!AC1304),IF(referentes!AD1304=\"\",\"\",CONCATENATE(\" \",referentes!AD1304)))","v":""}]
[null,null,null,null,null,null,null,null,null,null,null,null,null,null,null,"","",null,null,null,null,{"$f":"IF(referentes!AB1305=\"\",\"\",referentes!AB1305)","v":""},{"$f":"CONCATENATE(IF(referentes!AC1305=\"\",\"\",referentes!AC1305),IF(referentes!AD1305=\"\",\"\",CONCATENATE(\" \",referentes!AD1305)))","v":""}]
[null,null,null,null,null,null,null,null,null,null,null,null,null,null,null,"","",null,null,null,null,{"$f":"IF(referentes!AB1306=\"\",\"\",referentes!AB1306)","v":""},{"$f":"CONCATENATE(IF(referentes!AC1306=\"\",\"\",referentes!AC1306),IF(referentes!AD1306=\"\",\"\",CONCATENATE(\" \",referentes!AD1306)))","v":""}]
[null,null,null,null,null,null,null,null,null,null,null,null,null,null,null,"","",null,null,null,null,{"$f":"IF(referentes!AB1307=\"\",\"\",referentes!AB1307)","v":""},{"$f":"CONCATENATE(IF(referentes!AC1307=\"\",\"\",referentes!AC1307),IF(referentes!AD1307=\"\",\"\",CONCATENATE(\" \",referentes!AD1307)))","v":""}]
[null,null,null,null,null,null,null,null,null,null,null,null,null,null,null,"","",null,null,null,null,{"$f":"IF(referentes!AB1308=\"\",\"\",referentes!AB1308)","v":""},{"$f":"CONCATENATE(IF(referentes!AC1308=\"\",\"\",referentes!AC1308),IF(referentes!AD1308=\"\",\"\",CONCATENATE(\" \",referentes!AD1308)))","v":""}]
[null,null,null,null,null,null,null,null,null,null,null,null,null,null,null,"","",null,null,null,null,{"$f":"IF(referentes!AB1309=\"\",\"\",referentes!AB1309)","v":""},{"$f":"CONCATENATE(IF(referentes!AC1309=\"\",\"\",referentes!AC1309),IF(referentes!AD1309=\"\",\"\",CONCATENATE(\" \",referentes!AD1309)))","v":""}]
[null,null,null,null,null,null,null,null,null,null,null,null,null,null,null,"","",null,null,null,null,{"$f":"IF(referentes!AB1310=\"\",\"\",referentes!AB1310)","v":""},{"$f":"CONCATENATE(IF(referentes!AC1310=\"\",\"\",referentes!AC1310),IF(referentes!AD1310=\"\",\"\",CONCATENATE(\" \",referentes!AD1310)))","v":""}]
[null,null,null,null,null,null,null,null,null,null,null,null,null,null,null,"","",null,null,null,null,{"$f":"IF(referentes!AB1311=\"\",\"\",referentes!AB1311)","v":""},{"$f":"CONCATENATE(IF(referentes!AC1311=\"\",\"\",referentes!AC1311),IF(referentes!AD1311=\"\",\"\",CONCATENATE(\" \",referentes!AD1311)))","v":""}]
[null,null,null,null,null,null,null,null,null,null,null,null,null,null,null,"","",null,null,null,null,{"$f":"IF(referentes!AB1312=\"\",\"\",referentes!AB1312)","v":""},{"$f":"CONCATENATE(IF(referentes!AC1312=\"\",\"\",referentes!AC1312),IF(referentes!AD1312=\"\",\"\",CONCATENATE(\" \",referentes!AD1312)))","v":""}]
[null,null,null,null,null,null,null,null,null,null,null,null,null,null,null,"","",null,null,null,null,{"$f":"IF(referentes!AB1313=\"\",\"\",referentes!AB1313)","v":""},{"$f":"CONCATENATE(IF(referentes!AC1313=\"\",\"\",referentes!AC1313),IF(referentes!AD1313=\"\",\"\",CONCATENATE(\" \",referentes!AD1313)))","v":""}]
[null,null,null,null,null,null,null,null,null,null,null,null,null,null,null,"","",null,null,null,null,{"$f":"IF(referentes!AB1314=\"\",\"\",referentes!AB1314)","v":""},{"$f":"CONCATENATE(IF(referentes!AC1314=\"\",\"\",referentes!AC1314),IF(referentes!AD1314=\"\",\"\",CONCATENATE(\" \",referentes!AD1314)))","v":""}]
[null,null,null,null,null,null,null,null,null,null,null,null,null,null,null,"","",null,null,null,null,{"$f":"IF(referentes!AB1315=\"\",\"\",referentes!AB1315)","v":""},{"$f":"CONCATENATE(IF(referentes!AC1315=\"\",\"\",referentes!AC1315),IF(referentes!AD1315=\"\",\"\",CONCATENATE(\" \",referentes!AD1315)))","v":""}]
[null,null,null,null,null,null,null,null,null,null,null,null,null,null,null,"","",null,null,null,null,{"$f":"IF(referentes!AB1316=\"\",\"\",referentes!AB1316)","v":""},{"$f":"CONCATENATE(IF(referentes!AC1316=\"\",\"\",referentes!AC1316),IF(referentes!AD1316=\"\",\"\",CONCATENATE(\" \",referentes!AD1316)))","v":""}]
[null,null,null,null,null,null,null,null,null,null,null,null,null,null,null,"","",null,null,null,null,{"$f":"IF(referentes!AB1317=\"\",\"\",referentes!AB1317)","v":""},{"$f":"CONCATENATE(IF(referentes!AC1317=\"\",\"\",referentes!AC1317),IF(referentes!AD1317=\"\",\"\",CONCATENATE(\" \",referentes!AD1317)))","v":""}]
[null,null,null,null,null,null,null,null,null,null,null,null,null,null,null,"","",null,null,null,null,{"$f":"IF(referentes!AB1318=\"\",\"\",referentes!AB1318)","v":""},{"$f":"CONCATENATE(IF(referentes!AC1318=\"\",\"\",referentes!AC1318),IF(referentes!AD1318=\"\",\"\",CONCATENATE(\" \",referentes!AD1318)))","v":""}]
[null,null,null,null,null,null,null,null,null,null,null,null,null,null,null,"","",null,null,null,null,{"$f":"IF(referentes!AB1319=\"\",\"\",referentes!AB1319)","v":""},{"$f":"CONCATENATE(IF(referentes!AC1319=\"\",\"\",referentes!AC1319),IF(referentes!AD1319=\"\",\"\",CONCATENATE(\" \",referentes!AD1319)))","v":""}]
[null,null,null,null,null,null,null,null,null,null,null,null,null,null,null,"","",null,null,null,null,{"$f":"IF(referentes!AB1320=\"\",\"\",referentes!AB1320)","v":""},{"$f":"CONCATENATE(IF(referentes!AC1320=\"\",\"\",referentes!AC1320),IF(referentes!AD1320=\"\",\"\",CONCATENATE(\" \",referentes!AD1320)))","v":""}]
[null,null,null,null,null,null,null,null,null,null,null,null,null,null,null,"","",null,null,null,null,{"$f":"IF(referentes!AB1321=\"\",\"\",referentes!AB1321)","v":""},{"$f":"CONCATENATE(IF(referentes!AC1321=\"\",\"\",referentes!AC1321),IF(referentes!AD1321=\"\",\"\",CONCATENATE(\" \",referentes!AD1321)))","v":""}]
[null,null,null,null,null,null,null,null,null,null,null,null,null,null,null,"","",null,null,null,null,{"$f":"IF(referentes!AB1322=\"\",\"\",referentes!AB1322)","v":""},{"$f":"CONCATENATE(IF(referentes!AC1322=\"\",\"\",referentes!AC1322),IF(referentes!AD1322=\"\",\"\",CONCATENATE(\" \",referentes!AD1322)))","v":""}]
[null,null,null,null,null,null,null,null,null,null,null,null,null,null,null,"","",null,null,null,null,{"$f":"IF(referentes!AB1323=\"\",\"\",referentes!AB1323)","v":""},{"$f":"CONCATENATE(IF(referentes!AC1323=\"\",\"\",referentes!AC1323),IF(referentes!AD1323=\"\",\"\",CONCATENATE(\" \",referentes!AD1323)))","v":""}]
[null,null,null,null,null,null,null,null,null,null,null,null,null,null,null,"","",null,null,null,null,{"$f":"IF(referentes!AB1324=\"\",\"\",referentes!AB1324)","v":""},{"$f":"CONCATENATE(IF(referentes!AC1324=\"\",\"\",referentes!AC1324),IF(referentes!AD1324=\"\",\"\",CONCATENATE(\" \",referentes!AD1324)))","v":""}]
[null,null,null,null,null,null,null,null,null,null,null,null,null,null,null,"","",null,null,null,null,{"$f":"IF(referentes!AB1325=\"\",\"\",referentes!AB1325)","v":""},{"$f":"CONCATENATE(IF(referentes!AC1325=\"\",\"\",referentes!AC1325),IF(referentes!AD1325=\"\",\"\",CONCATENATE(\" \",referentes!AD1325)))","v":""}]
[null,null,null,null,null,null,null,null,null,null,null,null,null,null,null,"","",null,null,null,null,{"$f":"IF(referentes!AB1326=\"\",\"\",referentes!AB1326)","v":""},{"$f":"CONCATENATE(IF(referentes!AC1326=\"\",\"\",referentes!AC1326),IF(referentes!AD1326=\"\",\"\",CONCATENATE(\" \",referentes!AD1326)))","v":""}]
[null,null,null,null,null,null,null,null,null,null,null,null,null,null,null,"","",null,null,null,null,{"$f":"IF(referentes!AB1327=\"\",\"\",referentes!AB1327)","v":""},{"$f":"CONCATENATE(IF(referentes!AC1327=\"\",\"\",referentes!AC1327),IF(referentes!AD1327=\"\",\"\",CONCATENATE(\" \",referentes!AD1327)))","v":""}]
[null,null,null,null,null,null,null,null,null,null,null,null,null,null,null,"","",null,null,null,null,{"$f":"IF(referentes!AB1328=\"\",\"\",referentes!AB1328)","v":""},{"$f":"CONCATENATE(IF(referentes!AC1328=\"\",\"\",referentes!AC1328),IF(referentes!AD1328=\"\",\"\",CONCATENATE(\" \",referentes!AD1328)))","v":""}]
[null,null,null,null,null,null,null,null,null,null,null,null,null,null,null,"","",null,null,null,null,{"$f":"IF(referentes!AB1329=\"\",\"\",referentes!AB1329)","v":""},{"$f":"CONCATENATE(IF(referentes!AC1329=\"\",\"\",referentes!AC1329),IF(referentes!AD1329=\"\",\"\",CONCATENATE(\" \",referentes!AD1329)))","v":""}]
[null,null,null,null,null,null,null,null,null,null,null,null,null,null,null,"","",null,null,null,null,{"$f":"IF(referentes!AB1330=\"\",\"\",referentes!AB1330)","v":""},{"$f":"CONCATENATE(IF(referentes!AC1330=\"\",\"\",referentes!AC1330),IF(referentes!AD1330=\"\",\"\",CONCATENATE(\" \",referentes!AD1330)))","v":""}]
[null,null,null,null,null,null,null,null,null,null,null,null,null,null,null,"","",null,null,null,null,{"$f":"IF(referentes!AB1331=\"\",\"\",referentes!AB1331)","v":""},{"$f":"CONCATENATE(IF(referentes!AC1331=\"\",\"\",referentes!AC1331),IF(referentes!AD1331=\"\",\"\",CONCATENATE(\" \",referentes!AD1331)))","v":""}]
[null,null,null,null,null,null,null,null,null,null,null,null,null,null,null,"","",null,null,null,null,{"$f":"IF(referentes!AB1332=\"\",\"\",referentes!AB1332)","v":""},{"$f":"CONCATENATE(IF(referentes!AC1332=\"\",\"\",referentes!AC1332),IF(referentes!AD1332=\"\",\"\",CONCATENATE(\" \",referentes!AD1332)))","v":""}]
[null,null,null,null,null,null,null,null,null,null,null,null,null,null,null,"","",null,null,null,null,{"$f":"IF(referentes!AB1333=\"\",\"\",referentes!AB1333)","v":""},{"$f":"CONCATENATE(IF(referentes!AC1333=\"\",\"\",referentes!AC1333),IF(referentes!AD1333=\"\",\"\",CONCATENATE(\" \",referentes!AD1333)))","v":""}]
[null,null,null,null,null,null,null,null,null,null,null,null,null,null,null,"","",null,null,null,null,{"$f":"IF(referentes!AB1334=\"\",\"\",referentes!AB1334)","v":""},{"$f":"CONCATENATE(IF(referentes!AC1334=\"\",\"\",referentes!AC1334),IF(referentes!AD1334=\"\",\"\",CONCATENATE(\" \",referentes!AD1334)))","v":""}]
[null,null,null,null,null,null,null,null,null,null,null,null,null,null,null,"","",null,null,null,null,{"$f":"IF(referentes!AB1335=\"\",\"\",referentes!AB1335)","v":""},{"$f":"CONCATENATE(IF(referentes!AC1335=\"\",\"\",referentes!AC1335),IF(referentes!AD1335=\"\",\"\",CONCATENATE(\" \",referentes!AD1335)))","v":""}]
[null,null,null,null,null,null,null,null,null,null,null,null,null,null,null,"","",null,null,null,null,{"$f":"IF(referentes!AB1336=\"\",\"\",referentes!AB1336)","v":""},{"$f":"CONCATENATE(IF(referentes!AC1336=\"\",\"\",referentes!AC1336),IF(referentes!AD1336=\"\",\"\",CONCATENATE(\" \",referentes!AD1336)))","v":""}]
[null,null,null,null,null,null,null,null,null,null,null,null,null,null,null,"","",null,null,null,null,{"$f":"IF(referentes!AB1337=\"\",\"\",referentes!AB1337)","v":""},{"$f":"CONCATENATE(IF(referentes!AC1337=\"\",\"\",referentes!AC1337),IF(referentes!AD1337=\"\",\"\",CONCATENATE(\" \",referentes!AD1337)))","v":""}]
[null,null,null,null,null,null,null,null,null,null,null,null,null,null,null,"","",null,null,null,null,{"$f":"IF(referentes!AB1338=\"\",\"\",referentes!AB1338)","v":""},{"$f":"CONCATENATE(IF(referentes!AC1338=\"\",\"\",referentes!AC1338),IF(referentes!AD1338=\"\",\"\",CONCATENATE(\" \",referentes!AD1338)))","v":""}]
[null,null,null,null,null,null,null,null,null,null,null,null,null,null,null,"","",null,null,null,null,{"$f":"IF(referentes!AB1339=\"\",\"\",referentes!AB1339)","v":""},{"$f":"CONCATENATE(IF(referentes!AC1339=\"\",\"\",referentes!AC1339),IF(referentes!AD1339=\"\",\"\",CONCATENATE(\" \",referentes!AD1339)))","v":""}]
[null,null,null,null,null,null,null,null,null,null,null,null,null,null,null,"","",null,null,null,null,{"$f":"IF(referentes!AB1340=\"\",\"\",referentes!AB1340)","v":""},{"$f":"CONCATENATE(IF(referentes!AC1340=\"\",\"\",referentes!AC1340),IF(referentes!AD1340=\"\",\"\",CONCATENATE(\" \",referentes!AD1340)))","v":""}]
[null,null,null,null,null,null,null,null,null,null,null,null,null,null,null,"","",null,null,null,null,{"$f":"IF(referentes!AB1341=\"\",\"\",referentes!AB1341)","v":""},{"$f":"CONCATENATE(IF(referentes!AC1341=\"\",\"\",referentes!AC1341),IF(referentes!AD1341=\"\",\"\",CONCATENATE(\" \",referentes!AD1341)))","v":""}]
[null,null,null,null,null,null,null,null,null,null,null,null,null,null,null,"","",null,null,null,null,{"$f":"IF(referentes!AB1342=\"\",\"\",referentes!AB1342)","v":""},{"$f":"CONCATENATE(IF(referentes!AC1342=\"\",\"\",referentes!AC1342),IF(referentes!AD1342=\"\",\"\",CONCATENATE(\" \",referentes!AD1342)))","v":""}]
[null,null,null,null,null,null,null,null,null,null,null,null,null,null,null,"","",null,null,null,null,{"$f":"IF(referentes!AB1343=\"\",\"\",referentes!AB1343)","v":""},{"$f":"CONCATENATE(IF(referentes!AC1343=\"\",\"\",referentes!AC1343),IF(referentes!AD1343=\"\",\"\",CONCATENATE(\" \",referentes!AD1343)))","v":""}]
[null,null,null,null,null,null,null,null,null,null,null,null,null,null,null,"","",null,null,null,null,{"$f":"IF(referentes!AB1344=\"\",\"\",referentes!AB1344)","v":""},{"$f":"CONCATENATE(IF(referentes!AC1344=\"\",\"\",referentes!AC1344),IF(referentes!AD1344=\"\",\"\",CONCATENATE(\" \",referentes!AD1344)))","v":""}]
[null,null,null,null,null,null,null,null,null,null,null,null,null,null,null,"","",null,null,null,null,{"$f":"IF(referentes!AB1345=\"\",\"\",referentes!AB1345)","v":""},{"$f":"CONCATENATE(IF(referentes!AC1345=\"\",\"\",referentes!AC1345),IF(referentes!AD1345=\"\",\"\",CONCATENATE(\" \",referentes!AD1345)))","v":""}]
[null,null,null,null,null,null,null,null,null,null,null,null,null,null,null,"","",null,null,null,null,{"$f":"IF(referentes!AB1346=\"\",\"\",referentes!AB1346)","v":""},{"$f":"CONCATENATE(IF(referentes!AC1346=\"\",\"\",referentes!AC1346),IF(referentes!AD1346=\"\",\"\",CONCATENATE(\" \",referentes!AD1346)))","v":""}]
[null,null,null,null,null,null,null,null,null,null,null,null,null,null,null,"","",null,null,null,null,{"$f":"IF(referentes!AB1347=\"\",\"\",referentes!AB1347)","v":""},{"$f":"CONCATENATE(IF(referentes!AC1347=\"\",\"\",referentes!AC1347),IF(referentes!AD1347=\"\",\"\",CONCATENATE(\" \",referentes!AD1347)))","v":""}]
[null,null,null,null,null,null,null,null,null,null,null,null,null,null,null,"","",null,null,null,null,{"$f":"IF(referentes!AB1348=\"\",\"\",referentes!AB1348)","v":""},{"$f":"CONCATENATE(IF(referentes!AC1348=\"\",\"\",referentes!AC1348),IF(referentes!AD1348=\"\",\"\",CONCATENATE(\" \",referentes!AD1348)))","v":""}]
[null,null,null,null,null,null,null,null,null,null,null,null,null,null,null,"","",null,null,null,null,{"$f":"IF(referentes!AB1349=\"\",\"\",referentes!AB1349)","v":""},{"$f":"CONCATENATE(IF(referentes!AC1349=\"\",\"\",referentes!AC1349),IF(referentes!AD1349=\"\",\"\",CONCATENATE(\" \",referentes!AD1349)))","v":""}]
[null,null,null,null,null,null,null,null,null,null,null,null,null,null,null,"","",null,null,null,null,{"$f":"IF(referentes!AB1350=\"\",\"\",referentes!AB1350)","v":""},{"$f":"CONCATENATE(IF(referentes!AC1350=\"\",\"\",referentes!AC1350),IF(referentes!AD1350=\"\",\"\",CONCATENATE(\" \",referentes!AD1350)))","v":""}]
[null,null,null,null,null,null,null,null,null,null,null,null,null,null,null,"","",null,null,null,null,{"$f":"IF(referentes!AB1351=\"\",\"\",referentes!AB1351)","v":""},{"$f":"CONCATENATE(IF(referentes!AC1351=\"\",\"\",referentes!AC1351),IF(referentes!AD1351=\"\",\"\",CONCATENATE(\" \",referentes!AD1351)))","v":""}]
[null,null,null,null,null,null,null,null,null,null,null,null,null,null,null,"","",null,null,null,null,{"$f":"IF(referentes!AB1352=\"\",\"\",referentes!AB1352)","v":""},{"$f":"CONCATENATE(IF(referentes!AC1352=\"\",\"\",referentes!AC1352),IF(referentes!AD1352=\"\",\"\",CONCATENATE(\" \",referentes!AD1352)))","v":""}]
[null,null,null,null,null,null,null,null,null,null,null,null,null,null,null,"","",null,null,null,null,{"$f":"IF(referentes!AB1353=\"\",\"\",referentes!AB1353)","v":""},{"$f":"CONCATENATE(IF(referentes!AC1353=\"\",\"\",referentes!AC1353),IF(referentes!AD1353=\"\",\"\",CONCATENATE(\" \",referentes!AD1353)))","v":""}]
[null,null,null,null,null,null,null,null,null,null,null,null,null,null,null,"","",null,null,null,null,{"$f":"IF(referentes!AB1354=\"\",\"\",referentes!AB1354)","v":""},{"$f":"CONCATENATE(IF(referentes!AC1354=\"\",\"\",referentes!AC1354),IF(referentes!AD1354=\"\",\"\",CONCATENATE(\" \",referentes!AD1354)))","v":""}]
[null,null,null,null,null,null,null,null,null,null,null,null,null,null,null,"","",null,null,null,null,{"$f":"IF(referentes!AB1355=\"\",\"\",referentes!AB1355)","v":""},{"$f":"CONCATENATE(IF(referentes!AC1355=\"\",\"\",referentes!AC1355),IF(referentes!AD1355=\"\",\"\",CONCATENATE(\" \",referentes!AD1355)))","v":""}]
[null,null,null,null,null,null,null,null,null,null,null,null,null,null,null,"","",null,null,null,null,{"$f":"IF(referentes!AB1356=\"\",\"\",referentes!AB1356)","v":""},{"$f":"CONCATENATE(IF(referentes!AC1356=\"\",\"\",referentes!AC1356),IF(referentes!AD1356=\"\",\"\",CONCATENATE(\" \",referentes!AD1356)))","v":""}]
[null,null,null,null,null,null,null,null,null,null,null,null,null,null,null,"","",null,null,null,null,{"$f":"IF(referentes!AB1357=\"\",\"\",referentes!AB1357)","v":""},{"$f":"CONCATENATE(IF(referentes!AC1357=\"\",\"\",referentes!AC1357),IF(referentes!AD1357=\"\",\"\",CONCATENATE(\" \",referentes!AD1357)))","v":""}]
[null,null,null,null,null,null,null,null,null,null,null,null,null,null,null,"","",null,null,null,null,{"$f":"IF(referentes!AB1358=\"\",\"\",referentes!AB1358)","v":""},{"$f":"CONCATENATE(IF(referentes!AC1358=\"\",\"\",referentes!AC1358),IF(referentes!AD1358=\"\",\"\",CONCATENATE(\" \",referentes!AD1358)))","v":""}]
[null,null,null,null,null,null,null,null,null,null,null,null,null,null,null,"","",null,null,null,null,{"$f":"IF(referentes!AB1359=\"\",\"\",referentes!AB1359)","v":""},{"$f":"CONCATENATE(IF(referentes!AC1359=\"\",\"\",referentes!AC1359),IF(referentes!AD1359=\"\",\"\",CONCATENATE(\" \",referentes!AD1359)))","v":""}]
[null,null,null,null,null,null,null,null,null,null,null,null,null,null,null,"","",null,null,null,null,{"$f":"IF(referentes!AB1360=\"\",\"\",referentes!AB1360)","v":""},{"$f":"CONCATENATE(IF(referentes!AC1360=\"\",\"\",referentes!AC1360),IF(referentes!AD1360=\"\",\"\",CONCATENATE(\" \",referentes!AD1360)))","v":""}]
[null,null,null,null,null,null,null,null,null,null,null,null,null,null,null,"","",null,null,null,null,{"$f":"IF(referentes!AB1361=\"\",\"\",referentes!AB1361)","v":""},{"$f":"CONCATENATE(IF(referentes!AC1361=\"\",\"\",referentes!AC1361),IF(referentes!AD1361=\"\",\"\",CONCATENATE(\" \",referentes!AD1361)))","v":""}]
[null,null,null,null,null,null,null,null,null,null,null,null,null,null,null,"","",null,null,null,null,{"$f":"IF(referentes!AB1362=\"\",\"\",referentes!AB1362)","v":""},{"$f":"CONCATENATE(IF(referentes!AC1362=\"\",\"\",referentes!AC1362),IF(referentes!AD1362=\"\",\"\",CONCATENATE(\" \",referentes!AD1362)))","v":""}]
[null,null,null,null,null,null,null,null,null,null,null,null,null,null,null,"","",null,null,null,null,{"$f":"IF(referentes!AB1363=\"\",\"\",referentes!AB1363)","v":""},{"$f":"CONCATENATE(IF(referentes!AC1363=\"\",\"\",referentes!AC1363),IF(referentes!AD1363=\"\",\"\",CONCATENATE(\" \",referentes!AD1363)))","v":""}]
[null,null,null,null,null,null,null,null,null,null,null,null,null,null,null,"","",null,null,null,null,{"$f":"IF(referentes!AB1364=\"\",\"\",referentes!AB1364)","v":""},{"$f":"CONCATENATE(IF(referentes!AC1364=\"\",\"\",referentes!AC1364),IF(referentes!AD1364=\"\",\"\",CONCATENATE(\" \",referentes!AD1364)))","v":""}]
[null,null,null,null,null,null,null,null,null,null,null,null,null,null,null,"","",null,null,null,null,{"$f":"IF(referentes!AB1365=\"\",\"\",referentes!AB1365)","v":""},{"$f":"CONCATENATE(IF(referentes!AC1365=\"\",\"\",referentes!AC1365),IF(referentes!AD1365=\"\",\"\",CONCATENATE(\" \",referentes!AD1365)))","v":""}]
[null,null,null,null,null,null,null,null,null,null,null,null,null,null,null,"","",null,null,null,null,{"$f":"IF(referentes!AB1366=\"\",\"\",referentes!AB1366)","v":""},{"$f":"CONCATENATE(IF(referentes!AC1366=\"\",\"\",referentes!AC1366),IF(referentes!AD1366=\"\",\"\",CONCATENATE(\" \",referentes!AD1366)))","v":""}]
[null,null,null,null,null,null,null,null,null,null,null,null,null,null,null,"","",null,null,null,null,{"$f":"IF(referentes!AB1367=\"\",\"\",referentes!AB1367)","v":""},{"$f":"CONCATENATE(IF(referentes!AC1367=\"\",\"\",referentes!AC1367),IF(referentes!AD1367=\"\",\"\",CONCATENATE(\" \",referentes!AD1367)))","v":""}]
[null,null,null,null,null,null,null,null,null,null,null,null,null,null,null,"","",null,null,null,null,{"$f":"IF(referentes!AB1368=\"\",\"\",referentes!AB1368)","v":""},{"$f":"CONCATENATE(IF(referentes!AC1368=\"\",\"\",referentes!AC1368),IF(referentes!AD1368=\"\",\"\",CONCATENATE(\" \",referentes!AD1368)))","v":""}]
[null,null,null,null,null,null,null,null,null,null,null,null,null,null,null,"","",null,null,null,null,{"$f":"IF(referentes!AB1369=\"\",\"\",referentes!AB1369)","v":""},{"$f":"CONCATENATE(IF(referentes!AC1369=\"\",\"\",referentes!AC1369),IF(referentes!AD1369=\"\",\"\",CONCATENATE(\" \",referentes!AD1369)))","v":""}]
[null,null,null,null,null,null,null,null,null,null,null,null,null,null,null,"","",null,null,null,null,{"$f":"IF(referentes!AB1370=\"\",\"\",referentes!AB1370)","v":""},{"$f":"CONCATENATE(IF(referentes!AC1370=\"\",\"\",referentes!AC1370),IF(referentes!AD1370=\"\",\"\",CONCATENATE(\" \",referentes!AD1370)))","v":""}]
[null,null,null,null,null,null,null,null,null,null,null,null,null,null,null,"","",null,null,null,null,{"$f":"IF(referentes!AB1371=\"\",\"\",referentes!AB1371)","v":""},{"$f":"CONCATENATE(IF(referentes!AC1371=\"\",\"\",referentes!AC1371),IF(referentes!AD1371=\"\",\"\",CONCATENATE(\" \",referentes!AD1371)))","v":""}]
[null,null,null,null,null,null,null,null,null,null,null,null,null,null,null,"","",null,null,null,null,{"$f":"IF(referentes!AB1372=\"\",\"\",referentes!AB1372)","v":""},{"$f":"CONCATENATE(IF(referentes!AC1372=\"\",\"\",referentes!AC1372),IF(referentes!AD1372=\"\",\"\",CONCATENATE(\" \",referentes!AD1372)))","v":""}]
[null,null,null,null,null,null,null,null,null,null,null,null,null,null,null,"","",null,null,null,null,{"$f":"IF(referentes!AB1373=\"\",\"\",referentes!AB1373)","v":""},{"$f":"CONCATENATE(IF(referentes!AC1373=\"\",\"\",referentes!AC1373),IF(referentes!AD1373=\"\",\"\",CONCATENATE(\" \",referentes!AD1373)))","v":""}]
[null,null,null,null,null,null,null,null,null,null,null,null,null,null,null,"","",null,null,null,null,{"$f":"IF(referentes!AB1374=\"\",\"\",referentes!AB1374)","v":""},{"$f":"CONCATENATE(IF(referentes!AC1374=\"\",\"\",referentes!AC1374),IF(referentes!AD1374=\"\",\"\",CONCATENATE(\" \",referentes!AD1374)))","v":""}]
[null,null,null,null,null,null,null,null,null,null,null,null,null,null,null,"","",null,null,null,null,{"$f":"IF(referentes!AB1375=\"\",\"\",referentes!AB1375)","v":""},{"$f":"CONCATENATE(IF(referentes!AC1375=\"\",\"\",referentes!AC1375),IF(referentes!AD1375=\"\",\"\",CONCATENATE(\" \",referentes!AD1375)))","v":""}]
[null,null,null,null,null,null,null,null,null,null,null,null,null,null,null,"","",null,null,null,null,{"$f":"IF(referentes!AB1376=\"\",\"\",referentes!AB1376)","v":""},{"$f":"CONCATENATE(IF(referentes!AC1376=\"\",\"\",referentes!AC1376),IF(referentes!AD1376=\"\",\"\",CONCATENATE(\" \",referentes!AD1376)))","v":""}]
[null,null,null,null,null,null,null,null,null,null,null,null,null,null,null,"","",null,null,null,null,{"$f":"IF(referentes!AB1377=\"\",\"\",referentes!AB1377)","v":""},{"$f":"CONCATENATE(IF(referentes!AC1377=\"\",\"\",referentes!AC1377),IF(referentes!AD1377=\"\",\"\",CONCATENATE(\" \",referentes!AD1377)))","v":""}]
[null,null,null,null,null,null,null,null,null,null,null,null,null,null,null,"","",null,null,null,null,{"$f":"IF(referentes!AB1378=\"\",\"\",referentes!AB1378)","v":""},{"$f":"CONCATENATE(IF(referentes!AC1378=\"\",\"\",referentes!AC1378),IF(referentes!AD1378=\"\",\"\",CONCATENATE(\" \",referentes!AD1378)))","v":""}]
[null,null,null,null,null,null,null,null,null,null,null,null,null,null,null,"","",null,null,null,null,{"$f":"IF(referentes!AB1379=\"\",\"\",referentes!AB1379)","v":""},{"$f":"CONCATENATE(IF(referentes!AC1379=\"\",\"\",referentes!AC1379),IF(referentes!AD1379=\"\",\"\",CONCATENATE(\" \",referentes!AD1379)))","v":""}]
[null,null,null,null,null,null,null,null,null,null,null,null,null,null,null,"","",null,null,null,null,{"$f":"IF(referentes!AB1380=\"\",\"\",referentes!AB1380)","v":""},{"$f":"CONCATENATE(IF(referentes!AC1380=\"\",\"\",referentes!AC1380),IF(referentes!AD1380=\"\",\"\",CONCATENATE(\" \",referentes!AD1380)))","v":""}]
[null,null,null,null,null,null,null,null,null,null,null,null,null,null,null,"","",null,null,null,null,{"$f":"IF(referentes!AB1381=\"\",\"\",referentes!AB1381)","v":""},{"$f":"CONCATENATE(IF(referentes!AC1381=\"\",\"\",referentes!AC1381),IF(referentes!AD1381=\"\",\"\",CONCATENATE(\" \",referentes!AD1381)))","v":""}]
[null,null,null,null,null,null,null,null,null,null,null,null,null,null,null,"","",null,null,null,null,{"$f":"IF(referentes!AB1382=\"\",\"\",referentes!AB1382)","v":""},{"$f":"CONCATENATE(IF(referentes!AC1382=\"\",\"\",referentes!AC1382),IF(referentes!AD1382=\"\",\"\",CONCATENATE(\" \",referentes!AD1382)))","v":""}]
[null,null,null,null,null,null,null,null,null,null,null,null,null,null,null,"","",null,null,null,null,{"$f":"IF(referentes!AB1383=\"\",\"\",referentes!AB1383)","v":""},{"$f":"CONCATENATE(IF(referentes!AC1383=\"\",\"\",referentes!AC1383),IF(referentes!AD1383=\"\",\"\",CONCATENATE(\" \",referentes!AD1383)))","v":""}]
[null,null,null,null,null,null,null,null,null,null,null,null,null,null,null,"","",null,null,null,null,{"$f":"IF(referentes!AB1384=\"\",\"\",referentes!AB1384)","v":""},{"$f":"CONCATENATE(IF(referentes!AC1384=\"\",\"\",referentes!AC1384),IF(referentes!AD1384=\"\",\"\",CONCATENATE(\" \",referentes!AD1384)))","v":""}]
[null,null,null,null,null,null,null,null,null,null,null,null,null,null,null,"","",null,null,null,null,{"$f":"IF(referentes!AB1385=\"\",\"\",referentes!AB1385)","v":""},{"$f":"CONCATENATE(IF(referentes!AC1385=\"\",\"\",referentes!AC1385),IF(referentes!AD1385=\"\",\"\",CONCATENATE(\" \",referentes!AD1385)))","v":""}]
[null,null,null,null,null,null,null,null,null,null,null,null,null,null,null,"","",null,null,null,null,{"$f":"IF(referentes!AB1386=\"\",\"\",referentes!AB1386)","v":""},{"$f":"CONCATENATE(IF(referentes!AC1386=\"\",\"\",referentes!AC1386),IF(referentes!AD1386=\"\",\"\",CONCATENATE(\" \",referentes!AD1386)))","v":""}]
[null,null,null,null,null,null,null,null,null,null,null,null,null,null,null,"","",null,null,null,null,{"$f":"IF(referentes!AB1387=\"\",\"\",referentes!AB1387)","v":""},{"$f":"CONCATENATE(IF(referentes!AC1387=\"\",\"\",referentes!AC1387),IF(referentes!AD1387=\"\",\"\",CONCATENATE(\" \",referentes!AD1387)))","v":""}]
[null,null,null,null,null,null,null,null,null,null,null,null,null,null,null,"","",null,null,null,null,{"$f":"IF(referentes!AB1388=\"\",\"\",referentes!AB1388)","v":""},{"$f":"CONCATENATE(IF(referentes!AC1388=\"\",\"\",referentes!AC1388),IF(referentes!AD1388=\"\",\"\",CONCATENATE(\" \",referentes!AD1388)))","v":""}]
[null,null,null,null,null,null,null,null,null,null,null,null,null,null,null,"","",null,null,null,null,{"$f":"IF(referentes!AB1389=\"\",\"\",referentes!AB1389)","v":""},{"$f":"CONCATENATE(IF(referentes!AC1389=\"\",\"\",referentes!AC1389),IF(referentes!AD1389=\"\",\"\",CONCATENATE(\" \",referentes!AD1389)))","v":""}]
[null,null,null,null,null,null,null,null,null,null,null,null,null,null,null,"","",null,null,null,null,{"$f":"IF(referentes!AB1390=\"\",\"\",referentes!AB1390)","v":""},{"$f":"CONCATENATE(IF(referentes!AC1390=\"\",\"\",referentes!AC1390),IF(referentes!AD1390=\"\",\"\",CONCATENATE(\" \",referentes!AD1390)))","v":""}]
[null,null,null,null,null,null,null,null,null,null,null,null,null,null,null,"","",null,null,null,null,{"$f":"IF(referentes!AB1391=\"\",\"\",referentes!AB1391)","v":""},{"$f":"CONCATENATE(IF(referentes!AC1391=\"\",\"\",referentes!AC1391),IF(referentes!AD1391=\"\",\"\",CONCATENATE(\" \",referentes!AD1391)))","v":""}]
[null,null,null,null,null,null,null,null,null,null,null,null,null,null,null,"","",null,null,null,null,{"$f":"IF(referentes!AB1392=\"\",\"\",referentes!AB1392)","v":""},{"$f":"CONCATENATE(IF(referentes!AC1392=\"\",\"\",referentes!AC1392),IF(referentes!AD1392=\"\",\"\",CONCATENATE(\" \",referentes!AD1392)))","v":""}]
[null,null,null,null,null,null,null,null,null,null,null,null,null,null,null,"","",null,null,null,null,{"$f":"IF(referentes!AB1393=\"\",\"\",referentes!AB1393)","v":""},{"$f":"CONCATENATE(IF(referentes!AC1393=\"\",\"\",referentes!AC1393),IF(referentes!AD1393=\"\",\"\",CONCATENATE(\" \",referentes!AD1393)))","v":""}]
[null,null,null,null,null,null,null,null,null,null,null,null,null,null,null,"","",null,null,null,null,{"$f":"IF(referentes!AB1394=\"\",\"\",referentes!AB1394)","v":""},{"$f":"CONCATENATE(IF(referentes!AC1394=\"\",\"\",referentes!AC1394),IF(referentes!AD1394=\"\",\"\",CONCATENATE(\" \",referentes!AD1394)))","v":""}]
[null,null,null,null,null,null,null,null,null,null,null,null,null,null,null,"","",null,null,null,null,{"$f":"IF(referentes!AB1395=\"\",\"\",referentes!AB1395)","v":""},{"$f":"CONCATENATE(IF(referentes!AC1395=\"\",\"\",referentes!AC1395),IF(referentes!AD1395=\"\",\"\",CONCATENATE(\" \",referentes!AD1395)))","v":""}]
[null,null,null,null,null,null,null,null,null,null,null,null,null,null,null,"","",null,null,null,null,{"$f":"IF(referentes!AB1396=\"\",\"\",referentes!AB1396)","v":""},{"$f":"CONCATENATE(IF(referentes!AC1396=\"\",\"\",referentes!AC1396),IF(referentes!AD1396=\"\",\"\",CONCATENATE(\" \",referentes!AD1396)))","v":""}]
[null,null,null,null,null,null,null,null,null,null,null,null,null,null,null,"","",null,null,null,null,{"$f":"IF(referentes!AB1397=\"\",\"\",referentes!AB1397)","v":""},{"$f":"CONCATENATE(IF(referentes!AC1397=\"\",\"\",referentes!AC1397),IF(referentes!AD1397=\"\",\"\",CONCATENATE(\" \",referentes!AD1397)))","v":""}]
[null,null,null,null,null,null,null,null,null,null,null,null,null,null,null,"","",null,null,null,null,{"$f":"IF(referentes!AB1398=\"\",\"\",referentes!AB1398)","v":""},{"$f":"CONCATENATE(IF(referentes!AC1398=\"\",\"\",referentes!AC1398),IF(referentes!AD1398=\"\",\"\",CONCATENATE(\" \",referentes!AD1398)))","v":""}]
[null,null,null,null,null,null,null,null,null,null,null,null,null,null,null,"","",null,null,null,null,{"$f":"IF(referentes!AB1399=\"\",\"\",referentes!AB1399)","v":""},{"$f":"CONCATENATE(IF(referentes!AC1399=\"\",\"\",referentes!AC1399),IF(referentes!AD1399=\"\",\"\",CONCATENATE(\" \",referentes!AD1399)))","v":""}]
[null,null,null,null,null,null,null,null,null,null,null,null,null,null,null,"","",null,null,null,null,{"$f":"IF(referentes!AB1400=\"\",\"\",referentes!AB1400)","v":""},{"$f":"CONCATENATE(IF(referentes!AC1400=\"\",\"\",referentes!AC1400),IF(referentes!AD1400=\"\",\"\",CONCATENATE(\" \",referentes!AD1400)))","v":""}]
[null,null,null,null,null,null,null,null,null,null,null,null,null,null,null,"","",null,null,null,null,{"$f":"IF(referentes!AB1401=\"\",\"\",referentes!AB1401)","v":""},{"$f":"CONCATENATE(IF(referentes!AC1401=\"\",\"\",referentes!AC1401),IF(referentes!AD1401=\"\",\"\",CONCATENATE(\" \",referentes!AD1401)))","v":""}]
[null,null,null,null,null,null,null,null,null,null,null,null,null,null,null,"","",null,null,null,null,{"$f":"IF(referentes!AB1402=\"\",\"\",referentes!AB1402)","v":""},{"$f":"CONCATENATE(IF(referentes!AC1402=\"\",\"\",referentes!AC1402),IF(referentes!AD1402=\"\",\"\",CONCATENATE(\" \",referentes!AD1402)))","v":""}]
[null,null,null,null,null,null,null,null,null,null,null,null,null,null,null,"","",null,null,null,null,{"$f":"IF(referentes!AB1403=\"\",\"\",referentes!AB1403)","v":""},{"$f":"CONCATENATE(IF(referentes!AC1403=\"\",\"\",referentes!AC1403),IF(referentes!AD1403=\"\",\"\",CONCATENATE(\" \",referentes!AD1403)))","v":""}]
[null,null,null,null,null,null,null,null,null,null,null,null,null,null,null,"","",null,null,null,null,{"$f":"IF(referentes!AB1404=\"\",\"\",referentes!AB1404)","v":""},{"$f":"CONCATENATE(IF(referentes!AC1404=\"\",\"\",referentes!AC1404),IF(referentes!AD1404=\"\",\"\",CONCATENATE(\" \",referentes!AD1404)))","v":""}]
[null,null,null,null,null,null,null,null,null,null,null,null,null,null,null,"","",null,null,null,null,{"$f":"IF(referentes!AB1405=\"\",\"\",referentes!AB1405)","v":""},{"$f":"CONCATENATE(IF(referentes!AC1405=\"\",\"\",referentes!AC1405),IF(referentes!AD1405=\"\",\"\",CONCATENATE(\" \",referentes!AD1405)))","v":""}]
[null,null,null,null,null,null,null,null,null,null,null,null,null,null,null,"","",null,null,null,null,{"$f":"IF(referentes!AB1406=\"\",\"\",referentes!AB1406)","v":""},{"$f":"CONCATENATE(IF(referentes!AC1406=\"\",\"\",referentes!AC1406),IF(referentes!AD1406=\"\",\"\",CONCATENATE(\" \",referentes!AD1406)))","v":""}]
[null,null,null,null,null,null,null,null,null,null,null,null,null,null,null,"","",null,null,null,null,{"$f":"IF(referentes!AB1407=\"\",\"\",referentes!AB1407)","v":""},{"$f":"CONCATENATE(IF(referentes!AC1407=\"\",\"\",referentes!AC1407),IF(referentes!AD1407=\"\",\"\",CONCATENATE(\" \",referentes!AD1407)))","v":""}]
[null,null,null,null,null,null,null,null,null,null,null,null,null,null,null,"","",null,null,null,null,{"$f":"IF(referentes!AB1408=\"\",\"\",referentes!AB1408)","v":""},{"$f":"CONCATENATE(IF(referentes!AC1408=\"\",\"\",referentes!AC1408),IF(referentes!AD1408=\"\",\"\",CONCATENATE(\" \",referentes!AD1408)))","v":""}]
[null,null,null,null,null,null,null,null,null,null,null,null,null,null,null,"","",null,null,null,null,{"$f":"IF(referentes!AB1409=\"\",\"\",referentes!AB1409)","v":""},{"$f":"CONCATENATE(IF(referentes!AC1409=\"\",\"\",referentes!AC1409),IF(referentes!AD1409=\"\",\"\",CONCATENATE(\" \",referentes!AD1409)))","v":""}]
[null,null,null,null,null,null,null,null,null,null,null,null,null,null,null,"","",null,null,null,null,{"$f":"IF(referentes!AB1410=\"\",\"\",referentes!AB1410)","v":""},{"$f":"CONCATENATE(IF(referentes!AC1410=\"\",\"\",referentes!AC1410),IF(referentes!AD1410=\"\",\"\",CONCATENATE(\" \",referentes!AD1410)))","v":""}]
[null,null,null,null,null,null,null,null,null,null,null,null,null,null,null,"","",null,null,null,null,{"$f":"IF(referentes!AB1411=\"\",\"\",referentes!AB1411)","v":""},{"$f":"CONCATENATE(IF(referentes!AC1411=\"\",\"\",referentes!AC1411),IF(referentes!AD1411=\"\",\"\",CONCATENATE(\" \",referentes!AD1411)))","v":""}]
[null,null,null,null,null,null,null,null,null,null,null,null,null,null,null,"","",null,null,null,null,{"$f":"IF(referentes!AB1412=\"\",\"\",referentes!AB1412)","v":""},{"$f":"CONCATENATE(IF(referentes!AC1412=\"\",\"\",referentes!AC1412),IF(referentes!AD1412=\"\",\"\",CONCATENATE(\" \",referentes!AD1412)))","v":""}]
[null,null,null,null,null,null,null,null,null,null,null,null,null,null,null,"","",null,null,null,null,{"$f":"IF(referentes!AB1413=\"\",\"\",referentes!AB1413)","v":""},{"$f":"CONCATENATE(IF(referentes!AC1413=\"\",\"\",referentes!AC1413),IF(referentes!AD1413=\"\",\"\",CONCATENATE(\" \",referentes!AD1413)))","v":""}]
[null,null,null,null,null,null,null,null,null,null,null,null,null,null,null,"","",null,null,null,null,{"$f":"IF(referentes!AB1414=\"\",\"\",referentes!AB1414)","v":""},{"$f":"CONCATENATE(IF(referentes!AC1414=\"\",\"\",referentes!AC1414),IF(referentes!AD1414=\"\",\"\",CONCATENATE(\" \",referentes!AD1414)))","v":""}]
[null,null,null,null,null,null,null,null,null,null,null,null,null,null,null,"","",null,null,null,null,{"$f":"IF(referentes!AB1415=\"\",\"\",referentes!AB1415)","v":""},{"$f":"CONCATENATE(IF(referentes!AC1415=\"\",\"\",referentes!AC1415),IF(referentes!AD1415=\"\",\"\",CONCATENATE(\" \",referentes!AD1415)))","v":""}]
[null,null,null,null,null,null,null,null,null,null,null,null,null,null,null,"","",null,null,null,null,{"$f":"IF(referentes!AB1416=\"\",\"\",referentes!AB1416)","v":""},{"$f":"CONCATENATE(IF(referentes!AC1416=\"\",\"\",referentes!AC1416),IF(referentes!AD1416=\"\",\"\",CONCATENATE(\" \",referentes!AD1416)))","v":""}]
[null,null,null,null,null,null,null,null,null,null,null,null,null,null,null,"","",null,null,null,null,{"$f":"IF(referentes!AB1417=\"\",\"\",referentes!AB1417)","v":""},{"$f":"CONCATENATE(IF(referentes!AC1417=\"\",\"\",referentes!AC1417),IF(referentes!AD1417=\"\",\"\",CONCATENATE(\" \",referentes!AD1417)))","v":""}]
[null,null,null,null,null,null,null,null,null,null,null,null,null,null,null,"","",null,null,null,null,{"$f":"IF(referentes!AB1418=\"\",\"\",referentes!AB1418)","v":""},{"$f":"CONCATENATE(IF(referentes!AC1418=\"\",\"\",referentes!AC1418),IF(referentes!AD1418=\"\",\"\",CONCATENATE(\" \",referentes!AD1418)))","v":""}]
[null,null,null,null,null,null,null,null,null,null,null,null,null,null,null,"","",null,null,null,null,{"$f":"IF(referentes!AB1419=\"\",\"\",referentes!AB1419)","v":""},{"$f":"CONCATENATE(IF(referentes!AC1419=\"\",\"\",referentes!AC1419),IF(referentes!AD1419=\"\",\"\",CONCATENATE(\" \",referentes!AD1419)))","v":""}]
[null,null,null,null,null,null,null,null,null,null,null,null,null,null,null,"","",null,null,null,null,{"$f":"IF(referentes!AB1420=\"\",\"\",referentes!AB1420)","v":""},{"$f":"CONCATENATE(IF(referentes!AC1420=\"\",\"\",referentes!AC1420),IF(referentes!AD1420=\"\",\"\",CONCATENATE(\" \",referentes!AD1420)))","v":""}]
[null,null,null,null,null,null,null,null,null,null,null,null,null,null,null,"","",null,null,null,null,{"$f":"IF(referentes!AB1421=\"\",\"\",referentes!AB1421)","v":""},{"$f":"CONCATENATE(IF(referentes!AC1421=\"\",\"\",referentes!AC1421),IF(referentes!AD1421=\"\",\"\",CONCATENATE(\" \",referentes!AD1421)))","v":""}]
[null,null,null,null,null,null,null,null,null,null,null,null,null,null,null,"","",null,null,null,null,{"$f":"IF(referentes!AB1422=\"\",\"\",referentes!AB1422)","v":""},{"$f":"CONCATENATE(IF(referentes!AC1422=\"\",\"\",referentes!AC1422),IF(referentes!AD1422=\"\",\"\",CONCATENATE(\" \",referentes!AD1422)))","v":""}]
[null,null,null,null,null,null,null,null,null,null,null,null,null,null,null,"","",null,null,null,null,{"$f":"IF(referentes!AB1423=\"\",\"\",referentes!AB1423)","v":""},{"$f":"CONCATENATE(IF(referentes!AC1423=\"\",\"\",referentes!AC1423),IF(referentes!AD1423=\"\",\"\",CONCATENATE(\" \",referentes!AD1423)))","v":""}]
[null,null,null,null,null,null,null,null,null,null,null,null,null,null,null,"","",null,null,null,null,{"$f":"IF(referentes!AB1424=\"\",\"\",referentes!AB1424)","v":""},{"$f":"CONCATENATE(IF(referentes!AC1424=\"\",\"\",referentes!AC1424),IF(referentes!AD1424=\"\",\"\",CONCATENATE(\" \",referentes!AD1424)))","v":""}]
[null,null,null,null,null,null,null,null,null,null,null,null,null,null,null,"","",null,null,null,null,{"$f":"IF(referentes!AB1425=\"\",\"\",referentes!AB1425)","v":""},{"$f":"CONCATENATE(IF(referentes!AC1425=\"\",\"\",referentes!AC1425),IF(referentes!AD1425=\"\",\"\",CONCATENATE(\" \",referentes!AD1425)))","v":""}]
[null,null,null,null,null,null,null,null,null,null,null,null,null,null,null,"","",null,null,null,null,{"$f":"IF(referentes!AB1426=\"\",\"\",referentes!AB1426)","v":""},{"$f":"CONCATENATE(IF(referentes!AC1426=\"\",\"\",referentes!AC1426),IF(referentes!AD1426=\"\",\"\",CONCATENATE(\" \",referentes!AD1426)))","v":""}]
[null,null,null,null,null,null,null,null,null,null,null,null,null,null,null,"","",null,null,null,null,{"$f":"IF(referentes!AB1427=\"\",\"\",referentes!AB1427)","v":""},{"$f":"CONCATENATE(IF(referentes!AC1427=\"\",\"\",referentes!AC1427),IF(referentes!AD1427=\"\",\"\",CONCATENATE(\" \",referentes!AD1427)))","v":""}]
[null,null,null,null,null,null,null,null,null,null,null,null,null,null,null,"","",null,null,null,null,{"$f":"IF(referentes!AB1428=\"\",\"\",referentes!AB1428)","v":""},{"$f":"CONCATENATE(IF(referentes!AC1428=\"\",\"\",referentes!AC1428),IF(referentes!AD1428=\"\",\"\",CONCATENATE(\" \",referentes!AD1428)))","v":""}]
[null,null,null,null,null,null,null,null,null,null,null,null,null,null,null,"","",null,null,null,null,{"$f":"IF(referentes!AB1429=\"\",\"\",referentes!AB1429)","v":""},{"$f":"CONCATENATE(IF(referentes!AC1429=\"\",\"\",referentes!AC1429),IF(referentes!AD1429=\"\",\"\",CONCATENATE(\" \",referentes!AD1429)))","v":""}]
[null,null,null,null,null,null,null,null,null,null,null,null,null,null,null,"","",null,null,null,null,{"$f":"IF(referentes!AB1430=\"\",\"\",referentes!AB1430)","v":""},{"$f":"CONCATENATE(IF(referentes!AC1430=\"\",\"\",referentes!AC1430),IF(referentes!AD1430=\"\",\"\",CONCATENATE(\" \",referentes!AD1430)))","v":""}]
[null,null,null,null,null,null,null,null,null,null,null,null,null,null,null,"","",null,null,null,null,{"$f":"IF(referentes!AB1431=\"\",\"\",referentes!AB1431)","v":""},{"$f":"CONCATENATE(IF(referentes!AC1431=\"\",\"\",referentes!AC1431),IF(referentes!AD1431=\"\",\"\",CONCATENATE(\" \",referentes!AD1431)))","v":""}]
[null,null,null,null,null,null,null,null,null,null,null,null,null,null,null,"","",null,null,null,null,{"$f":"IF(referentes!AB1432=\"\",\"\",referentes!AB1432)","v":""},{"$f":"CONCATENATE(IF(referentes!AC1432=\"\",\"\",referentes!AC1432),IF(referentes!AD1432=\"\",\"\",CONCATENATE(\" \",referentes!AD1432)))","v":""}]
[null,null,null,null,null,null,null,null,null,null,null,null,null,null,null,"","",null,null,null,null,{"$f":"IF(referentes!AB1433=\"\",\"\",referentes!AB1433)","v":""},{"$f":"CONCATENATE(IF(referentes!AC1433=\"\",\"\",referentes!AC1433),IF(referentes!AD1433=\"\",\"\",CONCATENATE(\" \",referentes!AD1433)))","v":""}]
[null,null,null,null,null,null,null,null,null,null,null,null,null,null,null,"","",null,null,null,null,{"$f":"IF(referentes!AB1434=\"\",\"\",referentes!AB1434)","v":""},{"$f":"CONCATENATE(IF(referentes!AC1434=\"\",\"\",referentes!AC1434),IF(referentes!AD1434=\"\",\"\",CONCATENATE(\" \",referentes!AD1434)))","v":""}]
[null,null,null,null,null,null,null,null,null,null,null,null,null,null,null,"","",null,null,null,null,{"$f":"IF(referentes!AB1435=\"\",\"\",referentes!AB1435)","v":""},{"$f":"CONCATENATE(IF(referentes!AC1435=\"\",\"\",referentes!AC1435),IF(referentes!AD1435=\"\",\"\",CONCATENATE(\" \",referentes!AD1435)))","v":""}]
[null,null,null,null,null,null,null,null,null,null,null,null,null,null,null,"","",null,null,null,null,{"$f":"IF(referentes!AB1436=\"\",\"\",referentes!AB1436)","v":""},{"$f":"CONCATENATE(IF(referentes!AC1436=\"\",\"\",referentes!AC1436),IF(referentes!AD1436=\"\",\"\",CONCATENATE(\" \",referentes!AD1436)))","v":""}]
[null,null,null,null,null,null,null,null,null,null,null,null,null,null,null,"","",null,null,null,null,{"$f":"IF(referentes!AB1437=\"\",\"\",referentes!AB1437)","v":""},{"$f":"CONCATENATE(IF(referentes!AC1437=\"\",\"\",referentes!AC1437),IF(referentes!AD1437=\"\",\"\",CONCATENATE(\" \",referentes!AD1437)))","v":""}]
[null,null,null,null,null,null,null,null,null,null,null,null,null,null,null,"","",null,null,null,null,{"$f":"IF(referentes!AB1438=\"\",\"\",referentes!AB1438)","v":""},{"$f":"CONCATENATE(IF(referentes!AC1438=\"\",\"\",referentes!AC1438),IF(referentes!AD1438=\"\",\"\",CONCATENATE(\" \",referentes!AD1438)))","v":""}]
[null,null,null,null,null,null,null,null,null,null,null,null,null,null,null,"","",null,null,null,null,{"$f":"IF(referentes!AB1439=\"\",\"\",referentes!AB1439)","v":""},{"$f":"CONCATENATE(IF(referentes!AC1439=\"\",\"\",referentes!AC1439),IF(referentes!AD1439=\"\",\"\",CONCATENATE(\" \",referentes!AD1439)))","v":""}]
[null,null,null,null,null,null,null,null,null,null,null,null,null,null,null,"","",null,null,null,null,{"$f":"IF(referentes!AB1440=\"\",\"\",referentes!AB1440)","v":""},{"$f":"CONCATENATE(IF(referentes!AC1440=\"\",\"\",referentes!AC1440),IF(referentes!AD1440=\"\",\"\",CONCATENATE(\" \",referentes!AD1440)))","v":""}]
[null,null,null,null,null,null,null,null,null,null,null,null,null,null,null,"","",null,null,null,null,{"$f":"IF(referentes!AB1441=\"\",\"\",referentes!AB1441)","v":""},{"$f":"CONCATENATE(IF(referentes!AC1441=\"\",\"\",referentes!AC1441),IF(referentes!AD1441=\"\",\"\",CONCATENATE(\" \",referentes!AD1441)))","v":""}]
[null,null,null,null,null,null,null,null,null,null,null,null,null,null,null,"","",null,null,null,null,{"$f":"IF(referentes!AB1442=\"\",\"\",referentes!AB1442)","v":""},{"$f":"CONCATENATE(IF(referentes!AC1442=\"\",\"\",referentes!AC1442),IF(referentes!AD1442=\"\",\"\",CONCATENATE(\" \",referentes!AD1442)))","v":""}]
[null,null,null,null,null,null,null,null,null,null,null,null,null,null,null,"","",null,null,null,null,{"$f":"IF(referentes!AB1443=\"\",\"\",referentes!AB1443)","v":""},{"$f":"CONCATENATE(IF(referentes!AC1443=\"\",\"\",referentes!AC1443),IF(referentes!AD1443=\"\",\"\",CONCATENATE(\" \",referentes!AD1443)))","v":""}]
[null,null,null,null,null,null,null,null,null,null,null,null,null,null,null,"","",null,null,null,null,{"$f":"IF(referentes!AB1444=\"\",\"\",referentes!AB1444)","v":""},{"$f":"CONCATENATE(IF(referentes!AC1444=\"\",\"\",referentes!AC1444),IF(referentes!AD1444=\"\",\"\",CONCATENATE(\" \",referentes!AD1444)))","v":""}]
[null,null,null,null,null,null,null,null,null,null,null,null,null,null,null,"","",null,null,null,null,{"$f":"IF(referentes!AB1445=\"\",\"\",referentes!AB1445)","v":""},{"$f":"CONCATENATE(IF(referentes!AC1445=\"\",\"\",referentes!AC1445),IF(referentes!AD1445=\"\",\"\",CONCATENATE(\" \",referentes!AD1445)))","v":""}]
[null,null,null,null,null,null,null,null,null,null,null,null,null,null,null,"","",null,null,null,null,{"$f":"IF(referentes!AB1446=\"\",\"\",referentes!AB1446)","v":""},{"$f":"CONCATENATE(IF(referentes!AC1446=\"\",\"\",referentes!AC1446),IF(referentes!AD1446=\"\",\"\",CONCATENATE(\" \",referentes!AD1446)))","v":""}]
[null,null,null,null,null,null,null,null,null,null,null,null,null,null,null,"","",null,null,null,null,{"$f":"IF(referentes!AB1447=\"\",\"\",referentes!AB1447)","v":""},{"$f":"CONCATENATE(IF(referentes!AC1447=\"\",\"\",referentes!AC1447),IF(referentes!AD1447=\"\",\"\",CONCATENATE(\" \",referentes!AD1447)))","v":""}]
[null,null,null,null,null,null,null,null,null,null,null,null,null,null,null,"","",null,null,null,null,{"$f":"IF(referentes!AB1448=\"\",\"\",referentes!AB1448)","v":""},{"$f":"CONCATENATE(IF(referentes!AC1448=\"\",\"\",referentes!AC1448),IF(referentes!AD1448=\"\",\"\",CONCATENATE(\" \",referentes!AD1448)))","v":""}]
[null,null,null,null,null,null,null,null,null,null,null,null,null,null,null,"","",null,null,null,null,{"$f":"IF(referentes!AB1449=\"\",\"\",referentes!AB1449)","v":""},{"$f":"CONCATENATE(IF(referentes!AC1449=\"\",\"\",referentes!AC1449),IF(referentes!AD1449=\"\",\"\",CONCATENATE(\" \",referentes!AD1449)))","v":""}]
[null,null,null,null,null,null,null,null,null,null,null,null,null,null,null,"","",null,null,null,null,{"$f":"IF(referentes!AB1450=\"\",\"\",referentes!AB1450)","v":""},{"$f":"CONCATENATE(IF(referentes!AC1450=\"\",\"\",referentes!AC1450),IF(referentes!AD1450=\"\",\"\",CONCATENATE(\" \",referentes!AD1450)))","v":""}]
[null,null,null,null,null,null,null,null,null,null,null,null,null,null,null,"","",null,null,null,null,{"$f":"IF(referentes!AB1451=\"\",\"\",referentes!AB1451)","v":""},{"$f":"CONCATENATE(IF(referentes!AC1451=\"\",\"\",referentes!AC1451),IF(referentes!AD1451=\"\",\"\",CONCATENATE(\" \",referentes!AD1451)))","v":""}]
[null,null,null,null,null,null,null,null,null,null,null,null,null,null,null,"","",null,null,null,null,{"$f":"IF(referentes!AB1452=\"\",\"\",referentes!AB1452)","v":""},{"$f":"CONCATENATE(IF(referentes!AC1452=\"\",\"\",referentes!AC1452),IF(referentes!AD1452=\"\",\"\",CONCATENATE(\" \",referentes!AD1452)))","v":""}]
[null,null,null,null,null,null,null,null,null,null,null,null,null,null,null,"","",null,null,null,null,{"$f":"IF(referentes!AB1453=\"\",\"\",referentes!AB1453)","v":""},{"$f":"CONCATENATE(IF(referentes!AC1453=\"\",\"\",referentes!AC1453),IF(referentes!AD1453=\"\",\"\",CONCATENATE(\" \",referentes!AD1453)))","v":""}]
[null,null,null,null,null,null,null,null,null,null,null,null,null,null,null,"","",null,null,null,null,{"$f":"IF(referentes!AB1454=\"\",\"\",referentes!AB1454)","v":""},{"$f":"CONCATENATE(IF(referentes!AC1454=\"\",\"\",referentes!AC1454),IF(referentes!AD1454=\"\",\"\",CONCATENATE(\" \",referentes!AD1454)))","v":""}]
[null,null,null,null,null,null,null,null,null,null,null,null,null,null,null,"","",null,null,null,null,{"$f":"IF(referentes!AB1455=\"\",\"\",referentes!AB1455)","v":""},{"$f":"CONCATENATE(IF(referentes!AC1455=\"\",\"\",referentes!AC1455),IF(referentes!AD1455=\"\",\"\",CONCATENATE(\" \",referentes!AD1455)))","v":""}]
[null,null,null,null,null,null,null,null,null,null,null,null,null,null,null,"","",null,null,null,null,{"$f":"IF(referentes!AB1456=\"\",\"\",referentes!AB1456)","v":""},{"$f":"CONCATENATE(IF(referentes!AC1456=\"\",\"\",referentes!AC1456),IF(referentes!AD1456=\"\",\"\",CONCATENATE(\" \",referentes!AD1456)))","v":""}]
[null,null,null,null,null,null,null,null,null,null,null,null,null,null,null,"","",null,null,null,null,{"$f":"IF(referentes!AB1457=\"\",\"\",referentes!AB1457)","v":""},{"$f":"CONCATENATE(IF(referentes!AC1457=\"\",\"\",referentes!AC1457),IF(referentes!AD1457=\"\",\"\",CONCATENATE(\" \",referentes!AD1457)))","v":""}]
[null,null,null,null,null,null,null,null,null,null,null,null,null,null,null,"","",null,null,null,null,{"$f":"IF(referentes!AB1458=\"\",\"\",referentes!AB1458)","v":""},{"$f":"CONCATENATE(IF(referentes!AC1458=\"\",\"\",referentes!AC1458),IF(referentes!AD1458=\"\",\"\",CONCATENATE(\" \",referentes!AD1458)))","v":""}]
[null,null,null,null,null,null,null,null,null,null,null,null,null,null,null,"","",null,null,null,null,{"$f":"IF(referentes!AB1459=\"\",\"\",referentes!AB1459)","v":""},{"$f":"CONCATENATE(IF(referentes!AC1459=\"\",\"\",referentes!AC1459),IF(referentes!AD1459=\"\",\"\",CONCATENATE(\" \",referentes!AD1459)))","v":""}]
[null,null,null,null,null,null,null,null,null,null,null,null,null,null,null,"","",null,null,null,null,{"$f":"IF(referentes!AB1460=\"\",\"\",referentes!AB1460)","v":""},{"$f":"CONCATENATE(IF(referentes!AC1460=\"\",\"\",referentes!AC1460),IF(referentes!AD1460=\"\",\"\",CONCATENATE(\" \",referentes!AD1460)))","v":""}]
[null,null,null,null,null,null,null,null,null,null,null,null,null,null,null,"","",null,null,null,null,{"$f":"IF(referentes!AB1461=\"\",\"\",referentes!AB1461)","v":""},{"$f":"CONCATENATE(IF(referentes!AC1461=\"\",\"\",referentes!AC1461),IF(referentes!AD1461=\"\",\"\",CONCATENATE(\" \",referentes!AD1461)))","v":""}]
[null,null,null,null,null,null,null,null,null,null,null,null,null,null,null,"","",null,null,null,null,{"$f":"IF(referentes!AB1462=\"\",\"\",referentes!AB1462)","v":""},{"$f":"CONCATENATE(IF(referentes!AC1462=\"\",\"\",referentes!AC1462),IF(referentes!AD1462=\"\",\"\",CONCATENATE(\" \",referentes!AD1462)))","v":""}]
[null,null,null,null,null,null,null,null,null,null,null,null,null,null,null,"","",null,null,null,null,{"$f":"IF(referentes!AB1463=\"\",\"\",referentes!AB1463)","v":""},{"$f":"CONCATENATE(IF(referentes!AC1463=\"\",\"\",referentes!AC1463),IF(referentes!AD1463=\"\",\"\",CONCATENATE(\" \",referentes!AD1463)))","v":""}]
[null,null,null,null,null,null,null,null,null,null,null,null,null,null,null,"","",null,null,null,null,{"$f":"IF(referentes!AB1464=\"\",\"\",referentes!AB1464)","v":""},{"$f":"CONCATENATE(IF(referentes!AC1464=\"\",\"\",referentes!AC1464),IF(referentes!AD1464=\"\",\"\",CONCATENATE(\" \",referentes!AD1464)))","v":""}]
[null,null,null,null,null,null,null,null,null,null,null,null,null,null,null,"","",null,null,null,null,{"$f":"IF(referentes!AB1465=\"\",\"\",referentes!AB1465)","v":""},{"$f":"CONCATENATE(IF(referentes!AC1465=\"\",\"\",referentes!AC1465),IF(referentes!AD1465=\"\",\"\",CONCATENATE(\" \",referentes!AD1465)))","v":""}]
[null,null,null,null,null,null,null,null,null,null,null,null,null,null,null,"","",null,null,null,null,{"$f":"IF(referentes!AB1466=\"\",\"\",referentes!AB1466)","v":""},{"$f":"CONCATENATE(IF(referentes!AC1466=\"\",\"\",referentes!AC1466),IF(referentes!AD1466=\"\",\"\",CONCATENATE(\" \",referentes!AD1466)))","v":""}]
[null,null,null,null,null,null,null,null,null,null,null,null,null,null,null,"","",null,null,null,null,{"$f":"IF(referentes!AB1467=\"\",\"\",referentes!AB1467)","v":""},{"$f":"CONCATENATE(IF(referentes!AC1467=\"\",\"\",referentes!AC1467),IF(referentes!AD1467=\"\",\"\",CONCATENATE(\" \",referentes!AD1467)))","v":""}]
[null,null,null,null,null,null,null,null,null,null,null,null,null,null,null,"","",null,null,null,null,{"$f":"IF(referentes!AB1468=\"\",\"\",referentes!AB1468)","v":""},{"$f":"CONCATENATE(IF(referentes!AC1468=\"\",\"\",referentes!AC1468),IF(referentes!AD1468=\"\",\"\",CONCATENATE(\" \",referentes!AD1468)))","v":""}]
[null,null,null,null,null,null,null,null,null,null,null,null,null,null,null,"","",null,null,null,null,{"$f":"IF(referentes!AB1469=\"\",\"\",referentes!AB1469)","v":""},{"$f":"CONCATENATE(IF(referentes!AC1469=\"\",\"\",referentes!AC1469),IF(referentes!AD1469=\"\",\"\",CONCATENATE(\" \",referentes!AD1469)))","v":""}]
[null,null,null,null,null,null,null,null,null,null,null,null,null,null,null,"","",null,null,null,null,{"$f":"IF(referentes!AB1470=\"\",\"\",referentes!AB1470)","v":""},{"$f":"CONCATENATE(IF(referentes!AC1470=\"\",\"\",referentes!AC1470),IF(referentes!AD1470=\"\",\"\",CONCATENATE(\" \",referentes!AD1470)))","v":""}]
[null,null,null,null,null,null,null,null,null,null,null,null,null,null,null,"","",null,null,null,null,{"$f":"IF(referentes!AB1471=\"\",\"\",referentes!AB1471)","v":""},{"$f":"CONCATENATE(IF(referentes!AC1471=\"\",\"\",referentes!AC1471),IF(referentes!AD1471=\"\",\"\",CONCATENATE(\" \",referentes!AD1471)))","v":""}]
[null,null,null,null,null,null,null,null,null,null,null,null,null,null,null,"","",null,null,null,null,{"$f":"IF(referentes!AB1472=\"\",\"\",referentes!AB1472)","v":""},{"$f":"CONCATENATE(IF(referentes!AC1472=\"\",\"\",referentes!AC1472),IF(referentes!AD1472=\"\",\"\",CONCATENATE(\" \",referentes!AD1472)))","v":""}]
[null,null,null,null,null,null,null,null,null,null,null,null,null,null,null,"","",null,null,null,null,{"$f":"IF(referentes!AB1473=\"\",\"\",referentes!AB1473)","v":""},{"$f":"CONCATENATE(IF(referentes!AC1473=\"\",\"\",referentes!AC1473),IF(referentes!AD1473=\"\",\"\",CONCATENATE(\" \",referentes!AD1473)))","v":""}]
[null,null,null,null,null,null,null,null,null,null,null,null,null,null,null,"","",null,null,null,null,{"$f":"IF(referentes!AB1474=\"\",\"\",referentes!AB1474)","v":""},{"$f":"CONCATENATE(IF(referentes!AC1474=\"\",\"\",referentes!AC1474),IF(referentes!AD1474=\"\",\"\",CONCATENATE(\" \",referentes!AD1474)))","v":""}]
[null,null,null,null,null,null,null,null,null,null,null,null,null,null,null,"","",null,null,null,null,{"$f":"IF(referentes!AB1475=\"\",\"\",referentes!AB1475)","v":""},{"$f":"CONCATENATE(IF(referentes!AC1475=\"\",\"\",referentes!AC1475),IF(referentes!AD1475=\"\",\"\",CONCATENATE(\" \",referentes!AD1475)))","v":""}]
[null,null,null,null,null,null,null,null,null,null,null,null,null,null,null,"","",null,null,null,null,{"$f":"IF(referentes!AB1476=\"\",\"\",referentes!AB1476)","v":""},{"$f":"CONCATENATE(IF(referentes!AC1476=\"\",\"\",referentes!AC1476),IF(referentes!AD1476=\"\",\"\",CONCATENATE(\" \",referentes!AD1476)))","v":""}]
[null,null,null,null,null,null,null,null,null,null,null,null,null,null,null,"","",null,null,null,null,{"$f":"IF(referentes!AB1477=\"\",\"\",referentes!AB1477)","v":""},{"$f":"CONCATENATE(IF(referentes!AC1477=\"\",\"\",referentes!AC1477),IF(referentes!AD1477=\"\",\"\",CONCATENATE(\" \",referentes!AD1477)))","v":""}]
[null,null,null,null,null,null,null,null,null,null,null,null,null,null,null,"","",null,null,null,null,{"$f":"IF(referentes!AB1478=\"\",\"\",referentes!AB1478)","v":""},{"$f":"CONCATENATE(IF(referentes!AC1478=\"\",\"\",referentes!AC1478),IF(referentes!AD1478=\"\",\"\",CONCATENATE(\" \",referentes!AD1478)))","v":""}]
[null,null,null,null,null,null,null,null,null,null,null,null,null,null,null,"","",null,null,null,null,{"$f":"IF(referentes!AB1479=\"\",\"\",referentes!AB1479)","v":""},{"$f":"CONCATENATE(IF(referentes!AC1479=\"\",\"\",referentes!AC1479),IF(referentes!AD1479=\"\",\"\",CONCATENATE(\" \",referentes!AD1479)))","v":""}]
[null,null,null,null,null,null,null,null,null,null,null,null,null,null,null,"","",null,null,null,null,{"$f":"IF(referentes!AB1480=\"\",\"\",referentes!AB1480)","v":""},{"$f":"CONCATENATE(IF(referentes!AC1480=\"\",\"\",referentes!AC1480),IF(referentes!AD1480=\"\",\"\",CONCATENATE(\" \",referentes!AD1480)))","v":""}]
[null,null,null,null,null,null,null,null,null,null,null,null,null,null,null,"","",null,null,null,null,{"$f":"IF(referentes!AB1481=\"\",\"\",referentes!AB1481)","v":""},{"$f":"CONCATENATE(IF(referentes!AC1481=\"\",\"\",referentes!AC1481),IF(referentes!AD1481=\"\",\"\",CONCATENATE(\" \",referentes!AD1481)))","v":""}]
[null,null,null,null,null,null,null,null,null,null,null,null,null,null,null,"","",null,null,null,null,{"$f":"IF(referentes!AB1482=\"\",\"\",referentes!AB1482)","v":""},{"$f":"CONCATENATE(IF(referentes!AC1482=\"\",\"\",referentes!AC1482),IF(referentes!AD1482=\"\",\"\",CONCATENATE(\" \",referentes!AD1482)))","v":""}]
[null,null,null,null,null,null,null,null,null,null,null,null,null,null,null,"","",null,null,null,null,{"$f":"IF(referentes!AB1483=\"\",\"\",referentes!AB1483)","v":""},{"$f":"CONCATENATE(IF(referentes!AC1483=\"\",\"\",referentes!AC1483),IF(referentes!AD1483=\"\",\"\",CONCATENATE(\" \",referentes!AD1483)))","v":""}]
[null,null,null,null,null,null,null,null,null,null,null,null,null,null,null,"","",null,null,null,null,{"$f":"IF(referentes!AB1484=\"\",\"\",referentes!AB1484)","v":""},{"$f":"CONCATENATE(IF(referentes!AC1484=\"\",\"\",referentes!AC1484),IF(referentes!AD1484=\"\",\"\",CONCATENATE(\" \",referentes!AD1484)))","v":""}]
[null,null,null,null,null,null,null,null,null,null,null,null,null,null,null,"","",null,null,null,null,{"$f":"IF(referentes!AB1485=\"\",\"\",referentes!AB1485)","v":""},{"$f":"CONCATENATE(IF(referentes!AC1485=\"\",\"\",referentes!AC1485),IF(referentes!AD1485=\"\",\"\",CONCATENATE(\" \",referentes!AD1485)))","v":""}]
[null,null,null,null,null,null,null,null,null,null,null,null,null,null,null,"","",null,null,null,null,{"$f":"IF(referentes!AB1486=\"\",\"\",referentes!AB1486)","v":""},{"$f":"CONCATENATE(IF(referentes!AC1486=\"\",\"\",referentes!AC1486),IF(referentes!AD1486=\"\",\"\",CONCATENATE(\" \",referentes!AD1486)))","v":""}]
[null,null,null,null,null,null,null,null,null,null,null,null,null,null,null,"","",null,null,null,null,{"$f":"IF(referentes!AB1487=\"\",\"\",referentes!AB1487)","v":""},{"$f":"CONCATENATE(IF(referentes!AC1487=\"\",\"\",referentes!AC1487),IF(referentes!AD1487=\"\",\"\",CONCATENATE(\" \",referentes!AD1487)))","v":""}]
[null,null,null,null,null,null,null,null,null,null,null,null,null,null,null,"","",null,null,null,null,{"$f":"IF(referentes!AB1488=\"\",\"\",referentes!AB1488)","v":""},{"$f":"CONCATENATE(IF(referentes!AC1488=\"\",\"\",referentes!AC1488),IF(referentes!AD1488=\"\",\"\",CONCATENATE(\" \",referentes!AD1488)))","v":""}]
[null,null,null,null,null,null,null,null,null,null,null,null,null,null,null,"","",null,null,null,null,{"$f":"IF(referentes!AB1489=\"\",\"\",referentes!AB1489)","v":""},{"$f":"CONCATENATE(IF(referentes!AC1489=\"\",\"\",referentes!AC1489),IF(referentes!AD1489=\"\",\"\",CONCATENATE(\" \",referentes!AD1489)))","v":""}]
[null,null,null,null,null,null,null,null,null,null,null,null,null,null,null,"","",null,null,null,null,{"$f":"IF(referentes!AB1490=\"\",\"\",referentes!AB1490)","v":""},{"$f":"CONCATENATE(IF(referentes!AC1490=\"\",\"\",referentes!AC1490),IF(referentes!AD1490=\"\",\"\",CONCATENATE(\" \",referentes!AD1490)))","v":""}]
[null,null,null,null,null,null,null,null,null,null,null,null,null,null,null,"","",null,null,null,null,{"$f":"IF(referentes!AB1491=\"\",\"\",referentes!AB1491)","v":""},{"$f":"CONCATENATE(IF(referentes!AC1491=\"\",\"\",referentes!AC1491),IF(referentes!AD1491=\"\",\"\",CONCATENATE(\" \",referentes!AD1491)))","v":""}]
[null,null,null,null,null,null,null,null,null,null,null,null,null,null,null,"","",null,null,null,null,{"$f":"IF(referentes!AB1492=\"\",\"\",referentes!AB1492)","v":""},{"$f":"CONCATENATE(IF(referentes!AC1492=\"\",\"\",referentes!AC1492),IF(referentes!AD1492=\"\",\"\",CONCATENATE(\" \",referentes!AD1492)))","v":""}]
[null,null,null,null,null,null,null,null,null,null,null,null,null,null,null,"","",null,null,null,null,{"$f":"IF(referentes!AB1493=\"\",\"\",referentes!AB1493)","v":""},{"$f":"CONCATENATE(IF(referentes!AC1493=\"\",\"\",referentes!AC1493),IF(referentes!AD1493=\"\",\"\",CONCATENATE(\" \",referentes!AD1493)))","v":""}]
[null,null,null,null,null,null,null,null,null,null,null,null,null,null,null,"","",null,null,null,null,{"$f":"IF(referentes!AB1494=\"\",\"\",referentes!AB1494)","v":""},{"$f":"CONCATENATE(IF(referentes!AC1494=\"\",\"\",referentes!AC1494),IF(referentes!AD1494=\"\",\"\",CONCATENATE(\" \",referentes!AD1494)))","v":""}]
[null,null,null,null,null,null,null,null,null,null,null,null,null,null,null,"","",null,null,null,null,{"$f":"IF(referentes!AB1495=\"\",\"\",referentes!AB1495)","v":""},{"$f":"CONCATENATE(IF(referentes!AC1495=\"\",\"\",referentes!AC1495),IF(referentes!AD1495=\"\",\"\",CONCATENATE(\" \",referentes!AD1495)))","v":""}]
[null,null,null,null,null,null,null,null,null,null,null,null,null,null,null,"","",null,null,null,null,{"$f":"IF(referentes!AB1496=\"\",\"\",referentes!AB1496)","v":""},{"$f":"CONCATENATE(IF(referentes!AC1496=\"\",\"\",referentes!AC1496),IF(referentes!AD1496=\"\",\"\",CONCATENATE(\" \",referentes!AD1496)))","v":""}]
[null,null,null,null,null,null,null,null,null,null,null,null,null,null,null,"","",null,null,null,null,{"$f":"IF(referentes!AB1497=\"\",\"\",referentes!AB1497)","v":""},{"$f":"CONCATENATE(IF(referentes!AC1497=\"\",\"\",referentes!AC1497),IF(referentes!AD1497=\"\",\"\",CONCATENATE(\" \",referentes!AD1497)))","v":""}]
[null,null,null,null,null,null,null,null,null,null,null,null,null,null,null,"","",null,null,null,null,{"$f":"IF(referentes!AB1498=\"\",\"\",referentes!AB1498)","v":""},{"$f":"CONCATENATE(IF(referentes!AC1498=\"\",\"\",referentes!AC1498),IF(referentes!AD1498=\"\",\"\",CONCATENATE(\" \",referentes!AD1498)))","v":""}]
[null,null,null,null,null,null,null,null,null,null,null,null,null,null,null,"","",null,null,null,null,{"$f":"IF(referentes!AB1499=\"\",\"\",referentes!AB1499)","v":""},{"$f":"CONCATENATE(IF(referentes!AC1499=\"\",\"\",referentes!AC1499),IF(referentes!AD1499=\"\",\"\",CONCATENATE(\" \",referentes!AD1499)))","v":""}]
[null,null,null,null,null,null,null,null,null,null,null,null,null,null,null,"","",null,null,null,null,{"$f":"IF(referentes!AB1500=\"\",\"\",referentes!AB1500)","v":""},{"$f":"CONCATENATE(IF(referentes!AC1500=\"\",\"\",referentes!AC1500),IF(referentes!AD1500=\"\",\"\",CONCATENATE(\" \",referentes!AD1500)))","v":""}]
[null,null,null,null,null,null,null,null,null,null,null,null,null,null,null,"","",null,null,null,null,{"$f":"IF(referentes!AB1501=\"\",\"\",referentes!AB1501)","v":""},{"$f":"CONCATENATE(IF(referentes!AC1501=\"\",\"\",referentes!AC1501),IF(referentes!AD1501=\"\",\"\",CONCATENATE(\" \",referentes!AD1501)))","v":""}]
[null,null,null,null,null,null,null,null,null,null,null,null,null,null,null,"","",null,null,null,null,{"$f":"IF(referentes!AB1502=\"\",\"\",referentes!AB1502)","v":""},{"$f":"CONCATENATE(IF(referentes!AC1502=\"\",\"\",referentes!AC1502),IF(referentes!AD1502=\"\",\"\",CONCATENATE(\" \",referentes!AD1502)))","v":""}]
[null,null,null,null,null,null,null,null,null,null,null,null,null,null,null,"","",null,null,null,null,{"$f":"IF(referentes!AB1503=\"\",\"\",referentes!AB1503)","v":""},{"$f":"CONCATENATE(IF(referentes!AC1503=\"\",\"\",referentes!AC1503),IF(referentes!AD1503=\"\",\"\",CONCATENATE(\" \",referentes!AD1503)))","v":""}]
[null,null,null,null,null,null,null,null,null,null,null,null,null,null,null,"","",null,null,null,null,{"$f":"IF(referentes!AB1504=\"\",\"\",referentes!AB1504)","v":""},{"$f":"CONCATENATE(IF(referentes!AC1504=\"\",\"\",referentes!AC1504),IF(referentes!AD1504=\"\",\"\",CONCATENATE(\" \",referentes!AD1504)))","v":""}]
[null,null,null,null,null,null,null,null,null,null,null,null,null,null,null,"","",null,null,null,null,{"$f":"IF(referentes!AB1505=\"\",\"\",referentes!AB1505)","v":""},{"$f":"CONCATENATE(IF(referentes!AC1505=\"\",\"\",referentes!AC1505),IF(referentes!AD1505=\"\",\"\",CONCATENATE(\" \",referentes!AD1505)))","v":""}]
[null,null,null,null,null,null,null,null,null,null,null,null,null,null,null,"","",null,null,null,null,{"$f":"IF(referentes!AB1506=\"\",\"\",referentes!AB1506)","v":""},{"$f":"CONCATENATE(IF(referentes!AC1506=\"\",\"\",referentes!AC1506),IF(referentes!AD1506=\"\",\"\",CONCATENATE(\" \",referentes!AD1506)))","v":""}]
[null,null,null,null,null,null,null,null,null,null,null,null,null,null,null,"","",null,null,null,null,{"$f":"IF(referentes!AB1507=\"\",\"\",referentes!AB1507)","v":""},{"$f":"CONCATENATE(IF(referentes!AC1507=\"\",\"\",referentes!AC1507),IF(referentes!AD1507=\"\",\"\",CONCATENATE(\" \",referentes!AD1507)))","v":""}]
[null,null,null,null,null,null,null,null,null,null,null,null,null,null,null,"","",null,null,null,null,{"$f":"IF(referentes!AB1508=\"\",\"\",referentes!AB1508)","v":""},{"$f":"CONCATENATE(IF(referentes!AC1508=\"\",\"\",referentes!AC1508),IF(referentes!AD1508=\"\",\"\",CONCATENATE(\" \",referentes!AD1508)))","v":""}]
[null,null,null,null,null,null,null,null,null,null,null,null,null,null,null,"","",null,null,null,null,{"$f":"IF(referentes!AB1509=\"\",\"\",referentes!AB1509)","v":""},{"$f":"CONCATENATE(IF(referentes!AC1509=\"\",\"\",referentes!AC1509),IF(referentes!AD1509=\"\",\"\",CONCATENATE(\" \",referentes!AD1509)))","v":""}]
[null,null,null,null,null,null,null,null,null,null,null,null,null,null,null,"","",null,null,null,null,{"$f":"IF(referentes!AB1510=\"\",\"\",referentes!AB1510)","v":""},{"$f":"CONCATENATE(IF(referentes!AC1510=\"\",\"\",referentes!AC1510),IF(referentes!AD1510=\"\",\"\",CONCATENATE(\" \",referentes!AD1510)))","v":""}]
[null,null,null,null,null,null,null,null,null,null,null,null,null,null,null,"","",null,null,null,null,{"$f":"IF(referentes!AB1511=\"\",\"\",referentes!AB1511)","v":""},{"$f":"CONCATENATE(IF(referentes!AC1511=\"\",\"\",referentes!AC1511),IF(referentes!AD1511=\"\",\"\",CONCATENATE(\" \",referentes!AD1511)))","v":""}]
[null,null,null,null,null,null,null,null,null,null,null,null,null,null,null,"","",null,null,null,null,{"$f":"IF(referentes!AB1512=\"\",\"\",referentes!AB1512)","v":""},{"$f":"CONCATENATE(IF(referentes!AC1512=\"\",\"\",referentes!AC1512),IF(referentes!AD1512=\"\",\"\",CONCATENATE(\" \",referentes!AD1512)))","v":""}]
[null,null,null,null,null,null,null,null,null,null,null,null,null,null,null,"","",null,null,null,null,{"$f":"IF(referentes!AB1513=\"\",\"\",referentes!AB1513)","v":""},{"$f":"CONCATENATE(IF(referentes!AC1513=\"\",\"\",referentes!AC1513),IF(referentes!AD1513=\"\",\"\",CONCATENATE(\" \",referentes!AD1513)))","v":""}]
[null,null,null,null,null,null,null,null,null,null,null,null,null,null,null,"","",null,null,null,null,{"$f":"IF(referentes!AB1514=\"\",\"\",referentes!AB1514)","v":""},{"$f":"CONCATENATE(IF(referentes!AC1514=\"\",\"\",referentes!AC1514),IF(referentes!AD1514=\"\",\"\",CONCATENATE(\" \",referentes!AD1514)))","v":""}]
[null,null,null,null,null,null,null,null,null,null,null,null,null,null,null,"","",null,null,null,null,{"$f":"IF(referentes!AB1515=\"\",\"\",referentes!AB1515)","v":""},{"$f":"CONCATENATE(IF(referentes!AC1515=\"\",\"\",referentes!AC1515),IF(referentes!AD1515=\"\",\"\",CONCATENATE(\" \",referentes!AD1515)))","v":""}]
[null,null,null,null,null,null,null,null,null,null,null,null,null,null,null,"","",null,null,null,null,{"$f":"IF(referentes!AB1516=\"\",\"\",referentes!AB1516)","v":""},{"$f":"CONCATENATE(IF(referentes!AC1516=\"\",\"\",referentes!AC1516),IF(referentes!AD1516=\"\",\"\",CONCATENATE(\" \",referentes!AD1516)))","v":""}]
[null,null,null,null,null,null,null,null,null,null,null,null,null,null,null,"","",null,null,null,null,{"$f":"IF(referentes!AB1517=\"\",\"\",referentes!AB1517)","v":""},{"$f":"CONCATENATE(IF(referentes!AC1517=\"\",\"\",referentes!AC1517),IF(referentes!AD1517=\"\",\"\",CONCATENATE(\" \",referentes!AD1517)))","v":""}]
[null,null,null,null,null,null,null,null,null,null,null,null,null,null,null,"","",null,null,null,null,{"$f":"IF(referentes!AB1518=\"\",\"\",referentes!AB1518)","v":""},{"$f":"CONCATENATE(IF(referentes!AC1518=\"\",\"\",referentes!AC1518),IF(referentes!AD1518=\"\",\"\",CONCATENATE(\" \",referentes!AD1518)))","v":""}]
[null,null,null,null,null,null,null,null,null,null,null,null,null,null,null,"","",null,null,null,null,{"$f":"IF(referentes!AB1519=\"\",\"\",referentes!AB1519)","v":""},{"$f":"CONCATENATE(IF(referentes!AC1519=\"\",\"\",referentes!AC1519),IF(referentes!AD1519=\"\",\"\",CONCATENATE(\" \",referentes!AD1519)))","v":""}]
[null,null,null,null,null,null,null,null,null,null,null,null,null,null,null,"","",null,null,null,null,{"$f":"IF(referentes!AB1520=\"\",\"\",referentes!AB1520)","v":""},{"$f":"CONCATENATE(IF(referentes!AC1520=\"\",\"\",referentes!AC1520),IF(referentes!AD1520=\"\",\"\",CONCATENATE(\" \",referentes!AD1520)))","v":""}]
[null,null,null,null,null,null,null,null,null,null,null,null,null,null,null,"","",null,null,null,null,{"$f":"IF(referentes!AB1521=\"\",\"\",referentes!AB1521)","v":""},{"$f":"CONCATENATE(IF(referentes!AC1521=\"\",\"\",referentes!AC1521),IF(referentes!AD1521=\"\",\"\",CONCATENATE(\" \",referentes!AD1521)))","v":""}]
[null,null,null,null,null,null,null,null,null,null,null,null,null,null,null,"","",null,null,null,null,{"$f":"IF(referentes!AB1522=\"\",\"\",referentes!AB1522)","v":""},{"$f":"CONCATENATE(IF(referentes!AC1522=\"\",\"\",referentes!AC1522),IF(referentes!AD1522=\"\",\"\",CONCATENATE(\" \",referentes!AD1522)))","v":""}]
[null,null,null,null,null,null,null,null,null,null,null,null,null,null,null,"","",null,null,null,null,{"$f":"IF(referentes!AB1523=\"\",\"\",referentes!AB1523)","v":""},{"$f":"CONCATENATE(IF(referentes!AC1523=\"\",\"\",referentes!AC1523),IF(referentes!AD1523=\"\",\"\",CONCATENATE(\" \",referentes!AD1523)))","v":""}]
[null,null,null,null,null,null,null,null,null,null,null,null,null,null,null,"","",null,null,null,null,{"$f":"IF(referentes!AB1524=\"\",\"\",referentes!AB1524)","v":""},{"$f":"CONCATENATE(IF(referentes!AC1524=\"\",\"\",referentes!AC1524),IF(referentes!AD1524=\"\",\"\",CONCATENATE(\" \",referentes!AD1524)))","v":""}]
[null,null,null,null,null,null,null,null,null,null,null,null,null,null,null,"","",null,null,null,null,{"$f":"IF(referentes!AB1525=\"\",\"\",referentes!AB1525)","v":""},{"$f":"CONCATENATE(IF(referentes!AC1525=\"\",\"\",referentes!AC1525),IF(referentes!AD1525=\"\",\"\",CONCATENATE(\" \",referentes!AD1525)))","v":""}]
[null,null,null,null,null,null,null,null,null,null,null,null,null,null,null,"","",null,null,null,null,{"$f":"IF(referentes!AB1526=\"\",\"\",referentes!AB1526)","v":""},{"$f":"CONCATENATE(IF(referentes!AC1526=\"\",\"\",referentes!AC1526),IF(referentes!AD1526=\"\",\"\",CONCATENATE(\" \",referentes!AD1526)))","v":""}]
[null,null,null,null,null,null,null,null,null,null,null,null,null,null,null,"","",null,null,null,null,{"$f":"IF(referentes!AB1527=\"\",\"\",referentes!AB1527)","v":""},{"$f":"CONCATENATE(IF(referentes!AC1527=\"\",\"\",referentes!AC1527),IF(referentes!AD1527=\"\",\"\",CONCATENATE(\" \",referentes!AD1527)))","v":""}]
[null,null,null,null,null,null,null,null,null,null,null,null,null,null,null,"","",null,null,null,null,{"$f":"IF(referentes!AB1528=\"\",\"\",referentes!AB1528)","v":""},{"$f":"CONCATENATE(IF(referentes!AC1528=\"\",\"\",referentes!AC1528),IF(referentes!AD1528=\"\",\"\",CONCATENATE(\" \",referentes!AD1528)))","v":""}]
[null,null,null,null,null,null,null,null,null,null,null,null,null,null,null,"","",null,null,null,null,{"$f":"IF(referentes!AB1529=\"\",\"\",referentes!AB1529)","v":""},{"$f":"CONCATENATE(IF(referentes!AC1529=\"\",\"\",referentes!AC1529),IF(referentes!AD1529=\"\",\"\",CONCATENATE(\" \",referentes!AD1529)))","v":""}]
[null,null,null,null,null,null,null,null,null,null,null,null,null,null,null,"","",null,null,null,null,{"$f":"IF(referentes!AB1530=\"\",\"\",referentes!AB1530)","v":""},{"$f":"CONCATENATE(IF(referentes!AC1530=\"\",\"\",referentes!AC1530),IF(referentes!AD1530=\"\",\"\",CONCATENATE(\" \",referentes!AD1530)))","v":""}]
[null,null,null,null,null,null,null,null,null,null,null,null,null,null,null,"","",null,null,null,null,{"$f":"IF(referentes!AB1531=\"\",\"\",referentes!AB1531)","v":""},{"$f":"CONCATENATE(IF(referentes!AC1531=\"\",\"\",referentes!AC1531),IF(referentes!AD1531=\"\",\"\",CONCATENATE(\" \",referentes!AD1531)))","v":""}]
[null,null,null,null,null,null,null,null,null,null,null,null,null,null,null,"","",null,null,null,null,{"$f":"IF(referentes!AB1532=\"\",\"\",referentes!AB1532)","v":""},{"$f":"CONCATENATE(IF(referentes!AC1532=\"\",\"\",referentes!AC1532),IF(referentes!AD1532=\"\",\"\",CONCATENATE(\" \",referentes!AD1532)))","v":""}]
[null,null,null,null,null,null,null,null,null,null,null,null,null,null,null,"","",null,null,null,null,{"$f":"IF(referentes!AB1533=\"\",\"\",referentes!AB1533)","v":""},{"$f":"CONCATENATE(IF(referentes!AC1533=\"\",\"\",referentes!AC1533),IF(referentes!AD1533=\"\",\"\",CONCATENATE(\" \",referentes!AD1533)))","v":""}]
[null,null,null,null,null,null,null,null,null,null,null,null,null,null,null,"","",null,null,null,null,{"$f":"IF(referentes!AB1534=\"\",\"\",referentes!AB1534)","v":""},{"$f":"CONCATENATE(IF(referentes!AC1534=\"\",\"\",referentes!AC1534),IF(referentes!AD1534=\"\",\"\",CONCATENATE(\" \",referentes!AD1534)))","v":""}]
[null,null,null,null,null,null,null,null,null,null,null,null,null,null,null,"","",null,null,null,null,{"$f":"IF(referentes!AB1535=\"\",\"\",referentes!AB1535)","v":""},{"$f":"CONCATENATE(IF(referentes!AC1535=\"\",\"\",referentes!AC1535),IF(referentes!AD1535=\"\",\"\",CONCATENATE(\" \",referentes!AD1535)))","v":""}]
[null,null,null,null,null,null,null,null,null,null,null,null,null,null,null,"","",null,null,null,null,{"$f":"IF(referentes!AB1536=\"\",\"\",referentes!AB1536)","v":""},{"$f":"CONCATENATE(IF(referentes!AC1536=\"\",\"\",referentes!AC1536),IF(referentes!AD1536=\"\",\"\",CONCATENATE(\" \",referentes!AD1536)))","v":""}]
[null,null,null,null,null,null,null,null,null,null,null,null,null,null,null,"","",null,null,null,null,{"$f":"IF(referentes!AB1537=\"\",\"\",referentes!AB1537)","v":""},{"$f":"CONCATENATE(IF(referentes!AC1537=\"\",\"\",referentes!AC1537),IF(referentes!AD1537=\"\",\"\",CONCATENATE(\" \",referentes!AD1537)))","v":""}]
[null,null,null,null,null,null,null,null,null,null,null,null,null,null,null,"","",null,null,null,null,{"$f":"IF(referentes!AB1538=\"\",\"\",referentes!AB1538)","v":""},{"$f":"CONCATENATE(IF(referentes!AC1538=\"\",\"\",referentes!AC1538),IF(referentes!AD1538=\"\",\"\",CONCATENATE(\" \",referentes!AD1538)))","v":""}]
[null,null,null,null,null,null,null,null,null,null,null,null,null,null,null,"","",null,null,null,null,{"$f":"IF(referentes!AB1539=\"\",\"\",referentes!AB1539)","v":""},{"$f":"CONCATENATE(IF(referentes!AC1539=\"\",\"\",referentes!AC1539),IF(referentes!AD1539=\"\",\"\",CONCATENATE(\" \",referentes!AD1539)))","v":""}]
[null,null,null,null,null,null,null,null,null,null,null,null,null,null,null,"","",null,null,null,null,{"$f":"IF(referentes!AB1540=\"\",\"\",referentes!AB1540)","v":""},{"$f":"CONCATENATE(IF(referentes!AC1540=\"\",\"\",referentes!AC1540),IF(referentes!AD1540=\"\",\"\",CONCATENATE(\" \",referentes!AD1540)))","v":""}]
[null,null,null,null,null,null,null,null,null,null,null,null,null,null,null,"","",null,null,null,null,{"$f":"IF(referentes!AB1541=\"\",\"\",referentes!AB1541)","v":""},{"$f":"CONCATENATE(IF(referentes!AC1541=\"\",\"\",referentes!AC1541),IF(referentes!AD1541=\"\",\"\",CONCATENATE(\" \",referentes!AD1541)))","v":""}]
[null,null,null,null,null,null,null,null,null,null,null,null,null,null,null,"","",null,null,null,null,{"$f":"IF(referentes!AB1542=\"\",\"\",referentes!AB1542)","v":""},{"$f":"CONCATENATE(IF(referentes!AC1542=\"\",\"\",referentes!AC1542),IF(referentes!AD1542=\"\",\"\",CONCATENATE(\" \",referentes!AD1542)))","v":""}]
[null,null,null,null,null,null,null,null,null,null,null,null,null,null,null,"","",null,null,null,null,{"$f":"IF(referentes!AB1543=\"\",\"\",referentes!AB1543)","v":""},{"$f":"CONCATENATE(IF(referentes!AC1543=\"\",\"\",referentes!AC1543),IF(referentes!AD1543=\"\",\"\",CONCATENATE(\" \",referentes!AD1543)))","v":""}]
[null,null,null,null,null,null,null,null,null,null,null,null,null,null,null,"","",null,null,null,null,{"$f":"IF(referentes!AB1544=\"\",\"\",referentes!AB1544)","v":""},{"$f":"CONCATENATE(IF(referentes!AC1544=\"\",\"\",referentes!AC1544),IF(referentes!AD1544=\"\",\"\",CONCATENATE(\" \",referentes!AD1544)))","v":""}]
[null,null,null,null,null,null,null,null,null,null,null,null,null,null,null,"","",null,null,null,null,{"$f":"IF(referentes!AB1545=\"\",\"\",referentes!AB1545)","v":""},{"$f":"CONCATENATE(IF(referentes!AC1545=\"\",\"\",referentes!AC1545),IF(referentes!AD1545=\"\",\"\",CONCATENATE(\" \",referentes!AD1545)))","v":""}]
[null,null,null,null,null,null,null,null,null,null,null,null,null,null,null,"","",null,null,null,null,{"$f":"IF(referentes!AB1546=\"\",\"\",referentes!AB1546)","v":""},{"$f":"CONCATENATE(IF(referentes!AC1546=\"\",\"\",referentes!AC1546),IF(referentes!AD1546=\"\",\"\",CONCATENATE(\" \",referentes!AD1546)))","v":""}]
[null,null,null,null,null,null,null,null,null,null,null,null,null,null,null,"","",null,null,null,null,{"$f":"IF(referentes!AB1547=\"\",\"\",referentes!AB1547)","v":""},{"$f":"CONCATENATE(IF(referentes!AC1547=\"\",\"\",referentes!AC1547),IF(referentes!AD1547=\"\",\"\",CONCATENATE(\" \",referentes!AD1547)))","v":""}]
[null,null,null,null,null,null,null,null,null,null,null,null,null,null,null,"","",null,null,null,null,{"$f":"IF(referentes!AB1548=\"\",\"\",referentes!AB1548)","v":""},{"$f":"CONCATENATE(IF(referentes!AC1548=\"\",\"\",referentes!AC1548),IF(referentes!AD1548=\"\",\"\",CONCATENATE(\" \",referentes!AD1548)))","v":""}]
[null,null,null,null,null,null,null,null,null,null,null,null,null,null,null,"","",null,null,null,null,{"$f":"IF(referentes!AB1549=\"\",\"\",referentes!AB1549)","v":""},{"$f":"CONCATENATE(IF(referentes!AC1549=\"\",\"\",referentes!AC1549),IF(referentes!AD1549=\"\",\"\",CONCATENATE(\" \",referentes!AD1549)))","v":""}]
[null,null,null,null,null,null,null,null,null,null,null,null,null,null,null,"","",null,null,null,null,{"$f":"IF(referentes!AB1550=\"\",\"\",referentes!AB1550)","v":""},{"$f":"CONCATENATE(IF(referentes!AC1550=\"\",\"\",referentes!AC1550),IF(referentes!AD1550=\"\",\"\",CONCATENATE(\" \",referentes!AD1550)))","v":""}]
[null,null,null,null,null,null,null,null,null,null,null,null,null,null,null,"","",null,null,null,null,{"$f":"IF(referentes!AB1551=\"\",\"\",referentes!AB1551)","v":""},{"$f":"CONCATENATE(IF(referentes!AC1551=\"\",\"\",referentes!AC1551),IF(referentes!AD1551=\"\",\"\",CONCATENATE(\" \",referentes!AD1551)))","v":""}]
[null,null,null,null,null,null,null,null,null,null,null,null,null,null,null,"","",null,null,null,null,{"$f":"IF(referentes!AB1552=\"\",\"\",referentes!AB1552)","v":""},{"$f":"CONCATENATE(IF(referentes!AC1552=\"\",\"\",referentes!AC1552),IF(referentes!AD1552=\"\",\"\",CONCATENATE(\" \",referentes!AD1552)))","v":""}]
[null,null,null,null,null,null,null,null,null,null,null,null,null,null,null,"","",null,null,null,null,{"$f":"IF(referentes!AB1553=\"\",\"\",referentes!AB1553)","v":""},{"$f":"CONCATENATE(IF(referentes!AC1553=\"\",\"\",referentes!AC1553),IF(referentes!AD1553=\"\",\"\",CONCATENATE(\" \",referentes!AD1553)))","v":""}]
[null,null,null,null,null,null,null,null,null,null,null,null,null,null,null,"","",null,null,null,null,{"$f":"IF(referentes!AB1554=\"\",\"\",referentes!AB1554)","v":""},{"$f":"CONCATENATE(IF(referentes!AC1554=\"\",\"\",referentes!AC1554),IF(referentes!AD1554=\"\",\"\",CONCATENATE(\" \",referentes!AD1554)))","v":""}]
[null,null,null,null,null,null,null,null,null,null,null,null,null,null,null,"","",null,null,null,null,{"$f":"IF(referentes!AB1555=\"\",\"\",referentes!AB1555)","v":""},{"$f":"CONCATENATE(IF(referentes!AC1555=\"\",\"\",referentes!AC1555),IF(referentes!AD1555=\"\",\"\",CONCATENATE(\" \",referentes!AD1555)))","v":""}]
[null,null,null,null,null,null,null,null,null,null,null,null,null,null,null,"","",null,null,null,null,{"$f":"IF(referentes!AB1556=\"\",\"\",referentes!AB1556)","v":""},{"$f":"CONCATENATE(IF(referentes!AC1556=\"\",\"\",referentes!AC1556),IF(referentes!AD1556=\"\",\"\",CONCATENATE(\" \",referentes!AD1556)))","v":""}]
[null,null,null,null,null,null,null,null,null,null,null,null,null,null,null,"","",null,null,null,null,{"$f":"IF(referentes!AB1557=\"\",\"\",referentes!AB1557)","v":""},{"$f":"CONCATENATE(IF(referentes!AC1557=\"\",\"\",referentes!AC1557),IF(referentes!AD1557=\"\",\"\",CONCATENATE(\" \",referentes!AD1557)))","v":""}]
[null,null,null,null,null,null,null,null,null,null,null,null,null,null,null,"","",null,null,null,null,{"$f":"IF(referentes!AB1558=\"\",\"\",referentes!AB1558)","v":""},{"$f":"CONCATENATE(IF(referentes!AC1558=\"\",\"\",referentes!AC1558),IF(referentes!AD1558=\"\",\"\",CONCATENATE(\" \",referentes!AD1558)))","v":""}]
[null,null,null,null,null,null,null,null,null,null,null,null,null,null,null,"","",null,null,null,null,{"$f":"IF(referentes!AB1559=\"\",\"\",referentes!AB1559)","v":""},{"$f":"CONCATENATE(IF(referentes!AC1559=\"\",\"\",referentes!AC1559),IF(referentes!AD1559=\"\",\"\",CONCATENATE(\" \",referentes!AD1559)))","v":""}]
[null,null,null,null,null,null,null,null,null,null,null,null,null,null,null,"","",null,null,null,null,{"$f":"IF(referentes!AB1560=\"\",\"\",referentes!AB1560)","v":""},{"$f":"CONCATENATE(IF(referentes!AC1560=\"\",\"\",referentes!AC1560),IF(referentes!AD1560=\"\",\"\",CONCATENATE(\" \",referentes!AD1560)))","v":""}]
[null,null,null,null,null,null,null,null,null,null,null,null,null,null,null,"","",null,null,null,null,{"$f":"IF(referentes!AB1561=\"\",\"\",referentes!AB1561)","v":""},{"$f":"CONCATENATE(IF(referentes!AC1561=\"\",\"\",referentes!AC1561),IF(referentes!AD1561=\"\",\"\",CONCATENATE(\" \",referentes!AD1561)))","v":""}]
[null,null,null,null,null,null,null,null,null,null,null,null,null,null,null,"","",null,null,null,null,{"$f":"IF(referentes!AB1562=\"\",\"\",referentes!AB1562)","v":""},{"$f":"CONCATENATE(IF(referentes!AC1562=\"\",\"\",referentes!AC1562),IF(referentes!AD1562=\"\",\"\",CONCATENATE(\" \",referentes!AD1562)))","v":""}]
[null,null,null,null,null,null,null,null,null,null,null,null,null,null,null,"","",null,null,null,null,{"$f":"IF(referentes!AB1563=\"\",\"\",referentes!AB1563)","v":""},{"$f":"CONCATENATE(IF(referentes!AC1563=\"\",\"\",referentes!AC1563),IF(referentes!AD1563=\"\",\"\",CONCATENATE(\" \",referentes!AD1563)))","v":""}]
[null,null,null,null,null,null,null,null,null,null,null,null,null,null,null,"","",null,null,null,null,{"$f":"IF(referentes!AB1564=\"\",\"\",referentes!AB1564)","v":""},{"$f":"CONCATENATE(IF(referentes!AC1564=\"\",\"\",referentes!AC1564),IF(referentes!AD1564=\"\",\"\",CONCATENATE(\" \",referentes!AD1564)))","v":""}]
[null,null,null,null,null,null,null,null,null,null,null,null,null,null,null,"","",null,null,null,null,{"$f":"IF(referentes!AB1565=\"\",\"\",referentes!AB1565)","v":""},{"$f":"CONCATENATE(IF(referentes!AC1565=\"\",\"\",referentes!AC1565),IF(referentes!AD1565=\"\",\"\",CONCATENATE(\" \",referentes!AD1565)))","v":""}]
[null,null,null,null,null,null,null,null,null,null,null,null,null,null,null,"","",null,null,null,null,{"$f":"IF(referentes!AB1566=\"\",\"\",referentes!AB1566)","v":""},{"$f":"CONCATENATE(IF(referentes!AC1566=\"\",\"\",referentes!AC1566),IF(referentes!AD1566=\"\",\"\",CONCATENATE(\" \",referentes!AD1566)))","v":""}]
[null,null,null,null,null,null,null,null,null,null,null,null,null,null,null,"","",null,null,null,null,{"$f":"IF(referentes!AB1567=\"\",\"\",referentes!AB1567)","v":""},{"$f":"CONCATENATE(IF(referentes!AC1567=\"\",\"\",referentes!AC1567),IF(referentes!AD1567=\"\",\"\",CONCATENATE(\" \",referentes!AD1567)))","v":""}]
[null,null,null,null,null,null,null,null,null,null,null,null,null,null,null,"","",null,null,null,null,{"$f":"IF(referentes!AB1568=\"\",\"\",referentes!AB1568)","v":""},{"$f":"CONCATENATE(IF(referentes!AC1568=\"\",\"\",referentes!AC1568),IF(referentes!AD1568=\"\",\"\",CONCATENATE(\" \",referentes!AD1568)))","v":""}]
[null,null,null,null,null,null,null,null,null,null,null,null,null,null,null,"","",null,null,null,null,{"$f":"IF(referentes!AB1569=\"\",\"\",referentes!AB1569)","v":""},{"$f":"CONCATENATE(IF(referentes!AC1569=\"\",\"\",referentes!AC1569),IF(referentes!AD1569=\"\",\"\",CONCATENATE(\" \",referentes!AD1569)))","v":""}]
[null,null,null,null,null,null,null,null,null,null,null,null,null,null,null,"","",null,null,null,null,{"$f":"IF(referentes!AB1570=\"\",\"\",referentes!AB1570)","v":""},{"$f":"CONCATENATE(IF(referentes!AC1570=\"\",\"\",referentes!AC1570),IF(referentes!AD1570=\"\",\"\",CONCATENATE(\" \",referentes!AD1570)))","v":""}]
[null,null,null,null,null,null,null,null,null,null,null,null,null,null,null,"","",null,null,null,null,{"$f":"IF(referentes!AB1571=\"\",\"\",referentes!AB1571)","v":""},{"$f":"CONCATENATE(IF(referentes!AC1571=\"\",\"\",referentes!AC1571),IF(referentes!AD1571=\"\",\"\",CONCATENATE(\" \",referentes!AD1571)))","v":""}]
[null,null,null,null,null,null,null,null,null,null,null,null,null,null,null,"","",null,null,null,null,{"$f":"IF(referentes!AB1572=\"\",\"\",referentes!AB1572)","v":""},{"$f":"CONCATENATE(IF(referentes!AC1572=\"\",\"\",referentes!AC1572),IF(referentes!AD1572=\"\",\"\",CONCATENATE(\" \",referentes!AD1572)))","v":""}]
[null,null,null,null,null,null,null,null,null,null,null,null,null,null,null,"","",null,null,null,null,{"$f":"IF(referentes!AB1573=\"\",\"\",referentes!AB1573)","v":""},{"$f":"CONCATENATE(IF(referentes!AC1573=\"\",\"\",referentes!AC1573),IF(referentes!AD1573=\"\",\"\",CONCATENATE(\" \",referentes!AD1573)))","v":""}]
[null,null,null,null,null,null,null,null,null,null,null,null,null,null,null,"","",null,null,null,null,{"$f":"IF(referentes!AB1574=\"\",\"\",referentes!AB1574)","v":""},{"$f":"CONCATENATE(IF(referentes!AC1574=\"\",\"\",referentes!AC1574),IF(referentes!AD1574=\"\",\"\",CONCATENATE(\" \",referentes!AD1574)))","v":""}]
[null,null,null,null,null,null,null,null,null,null,null,null,null,null,null,"","",null,null,null,null,{"$f":"IF(referentes!AB1575=\"\",\"\",referentes!AB1575)","v":""},{"$f":"CONCATENATE(IF(referentes!AC1575=\"\",\"\",referentes!AC1575),IF(referentes!AD1575=\"\",\"\",CONCATENATE(\" \",referentes!AD1575)))","v":""}]
[null,null,null,null,null,null,null,null,null,null,null,null,null,null,null,"","",null,null,null,null,{"$f":"IF(referentes!AB1576=\"\",\"\",referentes!AB1576)","v":""},{"$f":"CONCATENATE(IF(referentes!AC1576=\"\",\"\",referentes!AC1576),IF(referentes!AD1576=\"\",\"\",CONCATENATE(\" \",referentes!AD1576)))","v":""}]
[null,null,null,null,null,null,null,null,null,null,null,null,null,null,null,"","",null,null,null,null,{"$f":"IF(referentes!AB1577=\"\",\"\",referentes!AB1577)","v":""},{"$f":"CONCATENATE(IF(referentes!AC1577=\"\",\"\",referentes!AC1577),IF(referentes!AD1577=\"\",\"\",CONCATENATE(\" \",referentes!AD1577)))","v":""}]
[null,null,null,null,null,null,null,null,null,null,null,null,null,null,null,"","",null,null,null,null,{"$f":"IF(referentes!AB1578=\"\",\"\",referentes!AB1578)","v":""},{"$f":"CONCATENATE(IF(referentes!AC1578=\"\",\"\",referentes!AC1578),IF(referentes!AD1578=\"\",\"\",CONCATENATE(\" \",referentes!AD1578)))","v":""}]
[null,null,null,null,null,null,null,null,null,null,null,null,null,null,null,"","",null,null,null,null,{"$f":"IF(referentes!AB1579=\"\",\"\",referentes!AB1579)","v":""},{"$f":"CONCATENATE(IF(referentes!AC1579=\"\",\"\",referentes!AC1579),IF(referentes!AD1579=\"\",\"\",CONCATENATE(\" \",referentes!AD1579)))","v":""}]
[null,null,null,null,null,null,null,null,null,null,null,null,null,null,null,"","",null,null,null,null,{"$f":"IF(referentes!AB1580=\"\",\"\",referentes!AB1580)","v":""},{"$f":"CONCATENATE(IF(referentes!AC1580=\"\",\"\",referentes!AC1580),IF(referentes!AD1580=\"\",\"\",CONCATENATE(\" \",referentes!AD1580)))","v":""}]
[null,null,null,null,null,null,null,null,null,null,null,null,null,null,null,"","",null,null,null,null,{"$f":"IF(referentes!AB1581=\"\",\"\",referentes!AB1581)","v":""},{"$f":"CONCATENATE(IF(referentes!AC1581=\"\",\"\",referentes!AC1581),IF(referentes!AD1581=\"\",\"\",CONCATENATE(\" \",referentes!AD1581)))","v":""}]
[null,null,null,null,null,null,null,null,null,null,null,null,null,null,null,"","",null,null,null,null,{"$f":"IF(referentes!AB1582=\"\",\"\",referentes!AB1582)","v":""},{"$f":"CONCATENATE(IF(referentes!AC1582=\"\",\"\",referentes!AC1582),IF(referentes!AD1582=\"\",\"\",CONCATENATE(\" \",referentes!AD1582)))","v":""}]
[null,null,null,null,null,null,null,null,null,null,null,null,null,null,null,"","",null,null,null,null,{"$f":"IF(referentes!AB1583=\"\",\"\",referentes!AB1583)","v":""},{"$f":"CONCATENATE(IF(referentes!AC1583=\"\",\"\",referentes!AC1583),IF(referentes!AD1583=\"\",\"\",CONCATENATE(\" \",referentes!AD1583)))","v":""}]
[null,null,null,null,null,null,null,null,null,null,null,null,null,null,null,"","",null,null,null,null,{"$f":"IF(referentes!AB1584=\"\",\"\",referentes!AB1584)","v":""},{"$f":"CONCATENATE(IF(referentes!AC1584=\"\",\"\",referentes!AC1584),IF(referentes!AD1584=\"\",\"\",CONCATENATE(\" \",referentes!AD1584)))","v":""}]
[null,null,null,null,null,null,null,null,null,null,null,null,null,null,null,"","",null,null,null,null,{"$f":"IF(referentes!AB1585=\"\",\"\",referentes!AB1585)","v":""},{"$f":"CONCATENATE(IF(referentes!AC1585=\"\",\"\",referentes!AC1585),IF(referentes!AD1585=\"\",\"\",CONCATENATE(\" \",referentes!AD1585)))","v":""}]
[null,null,null,null,null,null,null,null,null,null,null,null,null,null,null,"","",null,null,null,null,{"$f":"IF(referentes!AB1586=\"\",\"\",referentes!AB1586)","v":""},{"$f":"CONCATENATE(IF(referentes!AC1586=\"\",\"\",referentes!AC1586),IF(referentes!AD1586=\"\",\"\",CONCATENATE(\" \",referentes!AD1586)))","v":""}]
[null,null,null,null,null,null,null,null,null,null,null,null,null,null,null,"","",null,null,null,null,{"$f":"IF(referentes!AB1587=\"\",\"\",referentes!AB1587)","v":""},{"$f":"CONCATENATE(IF(referentes!AC1587=\"\",\"\",referentes!AC1587),IF(referentes!AD1587=\"\",\"\",CONCATENATE(\" \",referentes!AD1587)))","v":""}]
[null,null,null,null,null,null,null,null,null,null,null,null,null,null,null,"","",null,null,null,null,{"$f":"IF(referentes!AB1588=\"\",\"\",referentes!AB1588)","v":""},{"$f":"CONCATENATE(IF(referentes!AC1588=\"\",\"\",referentes!AC1588),IF(referentes!AD1588=\"\",\"\",CONCATENATE(\" \",referentes!AD1588)))","v":""}]
[null,null,null,null,null,null,null,null,null,null,null,null,null,null,null,"","",null,null,null,null,{"$f":"IF(referentes!AB1589=\"\",\"\",referentes!AB1589)","v":""},{"$f":"CONCATENATE(IF(referentes!AC1589=\"\",\"\",referentes!AC1589),IF(referentes!AD1589=\"\",\"\",CONCATENATE(\" \",referentes!AD1589)))","v":""}]
[null,null,null,null,null,null,null,null,null,null,null,null,null,null,null,"","",null,null,null,null,{"$f":"IF(referentes!AB1590=\"\",\"\",referentes!AB1590)","v":""},{"$f":"CONCATENATE(IF(referentes!AC1590=\"\",\"\",referentes!AC1590),IF(referentes!AD1590=\"\",\"\",CONCATENATE(\" \",referentes!AD1590)))","v":""}]
[null,null,null,null,null,null,null,null,null,null,null,null,null,null,null,"","",null,null,null,null,{"$f":"IF(referentes!AB1591=\"\",\"\",referentes!AB1591)","v":""},{"$f":"CONCATENATE(IF(referentes!AC1591=\"\",\"\",referentes!AC1591),IF(referentes!AD1591=\"\",\"\",CONCATENATE(\" \",referentes!AD1591)))","v":""}]
[null,null,null,null,null,null,null,null,null,null,null,null,null,null,null,"","",null,null,null,null,{"$f":"IF(referentes!AB1592=\"\",\"\",referentes!AB1592)","v":""},{"$f":"CONCATENATE(IF(referentes!AC1592=\"\",\"\",referentes!AC1592),IF(referentes!AD1592=\"\",\"\",CONCATENATE(\" \",referentes!AD1592)))","v":""}]
[null,null,null,null,null,null,null,null,null,null,null,null,null,null,null,"","",null,null,null,null,{"$f":"IF(referentes!AB1593=\"\",\"\",referentes!AB1593)","v":""},{"$f":"CONCATENATE(IF(referentes!AC1593=\"\",\"\",referentes!AC1593),IF(referentes!AD1593=\"\",\"\",CONCATENATE(\" \",referentes!AD1593)))","v":""}]
[null,null,null,null,null,null,null,null,null,null,null,null,null,null,null,"","",null,null,null,null,{"$f":"IF(referentes!AB1594=\"\",\"\",referentes!AB1594)","v":""},{"$f":"CONCATENATE(IF(referentes!AC1594=\"\",\"\",referentes!AC1594),IF(referentes!AD1594=\"\",\"\",CONCATENATE(\" \",referentes!AD1594)))","v":""}]
[null,null,null,null,null,null,null,null,null,null,null,null,null,null,null,"","",null,null,null,null,{"$f":"IF(referentes!AB1595=\"\",\"\",referentes!AB1595)","v":""},{"$f":"CONCATENATE(IF(referentes!AC1595=\"\",\"\",referentes!AC1595),IF(referentes!AD1595=\"\",\"\",CONCATENATE(\" \",referentes!AD1595)))","v":""}]
[null,null,null,null,null,null,null,null,null,null,null,null,null,null,null,"","",null,null,null,null,{"$f":"IF(referentes!AB1596=\"\",\"\",referentes!AB1596)","v":""},{"$f":"CONCATENATE(IF(referentes!AC1596=\"\",\"\",referentes!AC1596),IF(referentes!AD1596=\"\",\"\",CONCATENATE(\" \",referentes!AD1596)))","v":""}]
[null,null,null,null,null,null,null,null,null,null,null,null,null,null,null,"","",null,null,null,null,{"$f":"IF(referentes!AB1597=\"\",\"\",referentes!AB1597)","v":""},{"$f":"CONCATENATE(IF(referentes!AC1597=\"\",\"\",referentes!AC1597),IF(referentes!AD1597=\"\",\"\",CONCATENATE(\" \",referentes!AD1597)))","v":""}]
[null,null,null,null,null,null,null,null,null,null,null,null,null,null,null,"","",null,null,null,null,{"$f":"IF(referentes!AB1598=\"\",\"\",referentes!AB1598)","v":""},{"$f":"CONCATENATE(IF(referentes!AC1598=\"\",\"\",referentes!AC1598),IF(referentes!AD1598=\"\",\"\",CONCATENATE(\" \",referentes!AD1598)))","v":""}]
[null,null,null,null,null,null,null,null,null,null,null,null,null,null,null,"","",null,null,null,null,{"$f":"IF(referentes!AB1599=\"\",\"\",referentes!AB1599)","v":""},{"$f":"CONCATENATE(IF(referentes!AC1599=\"\",\"\",referentes!AC1599),IF(referentes!AD1599=\"\",\"\",CONCATENATE(\" \",referentes!AD1599)))","v":""}]
[null,null,null,null,null,null,null,null,null,null,null,null,null,null,null,"","",null,null,null,null,{"$f":"IF(referentes!AB1600=\"\",\"\",referentes!AB1600)","v":""},{"$f":"CONCATENATE(IF(referentes!AC1600=\"\",\"\",referentes!AC1600),IF(referentes!AD1600=\"\",\"\",CONCATENATE(\" \",referentes!AD1600)))","v":""}]
[null,null,null,null,null,null,null,null,null,null,null,null,null,null,null,"","",null,null,null,null,{"$f":"IF(referentes!AB1601=\"\",\"\",referentes!AB1601)","v":""},{"$f":"CONCATENATE(IF(referentes!AC1601=\"\",\"\",referentes!AC1601),IF(referentes!AD1601=\"\",\"\",CONCATENATE(\" \",referentes!AD1601)))","v":""}]
[null,null,null,null,null,null,null,null,null,null,null,null,null,null,null,"","",null,null,null,null,{"$f":"IF(referentes!AB1602=\"\",\"\",referentes!AB1602)","v":""},{"$f":"CONCATENATE(IF(referentes!AC1602=\"\",\"\",referentes!AC1602),IF(referentes!AD1602=\"\",\"\",CONCATENATE(\" \",referentes!AD1602)))","v":""}]
[null,null,null,null,null,null,null,null,null,null,null,null,null,null,null,"","",null,null,null,null,{"$f":"IF(referentes!AB1603=\"\",\"\",referentes!AB1603)","v":""},{"$f":"CONCATENATE(IF(referentes!AC1603=\"\",\"\",referentes!AC1603),IF(referentes!AD1603=\"\",\"\",CONCATENATE(\" \",referentes!AD1603)))","v":""}]
[null,null,null,null,null,null,null,null,null,null,null,null,null,null,null,"","",null,null,null,null,{"$f":"IF(referentes!AB1604=\"\",\"\",referentes!AB1604)","v":""},{"$f":"CONCATENATE(IF(referentes!AC1604=\"\",\"\",referentes!AC1604),IF(referentes!AD1604=\"\",\"\",CONCATENATE(\" \",referentes!AD1604)))","v":""}]
[null,null,null,null,null,null,null,null,null,null,null,null,null,null,null,"","",null,null,null,null,{"$f":"IF(referentes!AB1605=\"\",\"\",referentes!AB1605)","v":""},{"$f":"CONCATENATE(IF(referentes!AC1605=\"\",\"\",referentes!AC1605),IF(referentes!AD1605=\"\",\"\",CONCATENATE(\" \",referentes!AD1605)))","v":""}]
[null,null,null,null,null,null,null,null,null,null,null,null,null,null,null,"","",null,null,null,null,{"$f":"IF(referentes!AB1606=\"\",\"\",referentes!AB1606)","v":""},{"$f":"CONCATENATE(IF(referentes!AC1606=\"\",\"\",referentes!AC1606),IF(referentes!AD1606=\"\",\"\",CONCATENATE(\" \",referentes!AD1606)))","v":""}]
[null,null,null,null,null,null,null,null,null,null,null,null,null,null,null,"","",null,null,null,null,{"$f":"IF(referentes!AB1607=\"\",\"\",referentes!AB1607)","v":""},{"$f":"CONCATENATE(IF(referentes!AC1607=\"\",\"\",referentes!AC1607),IF(referentes!AD1607=\"\",\"\",CONCATENATE(\" \",referentes!AD1607)))","v":""}]
[null,null,null,null,null,null,null,null,null,null,null,null,null,null,null,"","",null,null,null,null,{"$f":"IF(referentes!AB1608=\"\",\"\",referentes!AB1608)","v":""},{"$f":"CONCATENATE(IF(referentes!AC1608=\"\",\"\",referentes!AC1608),IF(referentes!AD1608=\"\",\"\",CONCATENATE(\" \",referentes!AD1608)))","v":""}]
[null,null,null,null,null,null,null,null,null,null,null,null,null,null,null,"","",null,null,null,null,{"$f":"IF(referentes!AB1609=\"\",\"\",referentes!AB1609)","v":""},{"$f":"CONCATENATE(IF(referentes!AC1609=\"\",\"\",referentes!AC1609),IF(referentes!AD1609=\"\",\"\",CONCATENATE(\" \",referentes!AD1609)))","v":""}]
[null,null,null,null,null,null,null,null,null,null,null,null,null,null,null,"","",null,null,null,null,{"$f":"IF(referentes!AB1610=\"\",\"\",referentes!AB1610)","v":""},{"$f":"CONCATENATE(IF(referentes!AC1610=\"\",\"\",referentes!AC1610),IF(referentes!AD1610=\"\",\"\",CONCATENATE(\" \",referentes!AD1610)))","v":""}]
[null,null,null,null,null,null,null,null,null,null,null,null,null,null,null,"","",null,null,null,null,{"$f":"IF(referentes!AB1611=\"\",\"\",referentes!AB1611)","v":""},{"$f":"CONCATENATE(IF(referentes!AC1611=\"\",\"\",referentes!AC1611),IF(referentes!AD1611=\"\",\"\",CONCATENATE(\" \",referentes!AD1611)))","v":""}]
[null,null,null,null,null,null,null,null,null,null,null,null,null,null,null,"","",null,null,null,null,{"$f":"IF(referentes!AB1612=\"\",\"\",referentes!AB1612)","v":""},{"$f":"CONCATENATE(IF(referentes!AC1612=\"\",\"\",referentes!AC1612),IF(referentes!AD1612=\"\",\"\",CONCATENATE(\" \",referentes!AD1612)))","v":""}]
[null,null,null,null,null,null,null,null,null,null,null,null,null,null,null,"","",null,null,null,null,{"$f":"IF(referentes!AB1613=\"\",\"\",referentes!AB1613)","v":""},{"$f":"CONCATENATE(IF(referentes!AC1613=\"\",\"\",referentes!AC1613),IF(referentes!AD1613=\"\",\"\",CONCATENATE(\" \",referentes!AD1613)))","v":""}]
[null,null,null,null,null,null,null,null,null,null,null,null,null,null,null,"","",null,null,null,null,{"$f":"IF(referentes!AB1614=\"\",\"\",referentes!AB1614)","v":""},{"$f":"CONCATENATE(IF(referentes!AC1614=\"\",\"\",referentes!AC1614),IF(referentes!AD1614=\"\",\"\",CONCATENATE(\" \",referentes!AD1614)))","v":""}]
[null,null,null,null,null,null,null,null,null,null,null,null,null,null,null,"","",null,null,null,null,{"$f":"IF(referentes!AB1615=\"\",\"\",referentes!AB1615)","v":""},{"$f":"CONCATENATE(IF(referentes!AC1615=\"\",\"\",referentes!AC1615),IF(referentes!AD1615=\"\",\"\",CONCATENATE(\" \",referentes!AD1615)))","v":""}]
[null,null,null,null,null,null,null,null,null,null,null,null,null,null,null,"","",null,null,null,null,{"$f":"IF(referentes!AB1616=\"\",\"\",referentes!AB1616)","v":""},{"$f":"CONCATENATE(IF(referentes!AC1616=\"\",\"\",referentes!AC1616),IF(referentes!AD1616=\"\",\"\",CONCATENATE(\" \",referentes!AD1616)))","v":""}]
[null,null,null,null,null,null,null,null,null,null,null,null,null,null,null,"","",null,null,null,null,{"$f":"IF(referentes!AB1617=\"\",\"\",referentes!AB1617)","v":""},{"$f":"CONCATENATE(IF(referentes!AC1617=\"\",\"\",referentes!AC1617),IF(referentes!AD1617=\"\",\"\",CONCATENATE(\" \",referentes!AD1617)))","v":""}]
[null,null,null,null,null,null,null,null,null,null,null,null,null,null,null,"","",null,null,null,null,{"$f":"IF(referentes!AB1618=\"\",\"\",referentes!AB1618)","v":""},{"$f":"CONCATENATE(IF(referentes!AC1618=\"\",\"\",referentes!AC1618),IF(referentes!AD1618=\"\",\"\",CONCATENATE(\" \",referentes!AD1618)))","v":""}]
[null,null,null,null,null,null,null,null,null,null,null,null,null,null,null,"","",null,null,null,null,{"$f":"IF(referentes!AB1619=\"\",\"\",referentes!AB1619)","v":""},{"$f":"CONCATENATE(IF(referentes!AC1619=\"\",\"\",referentes!AC1619),IF(referentes!AD1619=\"\",\"\",CONCATENATE(\" \",referentes!AD1619)))","v":""}]
[null,null,null,null,null,null,null,null,null,null,null,null,null,null,null,"","",null,null,null,null,{"$f":"IF(referentes!AB1620=\"\",\"\",referentes!AB1620)","v":""},{"$f":"CONCATENATE(IF(referentes!AC1620=\"\",\"\",referentes!AC1620),IF(referentes!AD1620=\"\",\"\",CONCATENATE(\" \",referentes!AD1620)))","v":""}]
[null,null,null,null,null,null,null,null,null,null,null,null,null,null,null,"","",null,null,null,null,{"$f":"IF(referentes!AB1621=\"\",\"\",referentes!AB1621)","v":""},{"$f":"CONCATENATE(IF(referentes!AC1621=\"\",\"\",referentes!AC1621),IF(referentes!AD1621=\"\",\"\",CONCATENATE(\" \",referentes!AD1621)))","v":""}]
[null,null,null,null,null,null,null,null,null,null,null,null,null,null,null,"","",null,null,null,null,{"$f":"IF(referentes!AB1622=\"\",\"\",referentes!AB1622)","v":""},{"$f":"CONCATENATE(IF(referentes!AC1622=\"\",\"\",referentes!AC1622),IF(referentes!AD1622=\"\",\"\",CONCATENATE(\" \",referentes!AD1622)))","v":""}]
[null,null,null,null,null,null,null,null,null,null,null,null,null,null,null,"","",null,null,null,null,{"$f":"IF(referentes!AB1623=\"\",\"\",referentes!AB1623)","v":""},{"$f":"CONCATENATE(IF(referentes!AC1623=\"\",\"\",referentes!AC1623),IF(referentes!AD1623=\"\",\"\",CONCATENATE(\" \",referentes!AD1623)))","v":""}]
[null,null,null,null,null,null,null,null,null,null,null,null,null,null,null,"","",null,null,null,null,{"$f":"IF(referentes!AB1624=\"\",\"\",referentes!AB1624)","v":""},{"$f":"CONCATENATE(IF(referentes!AC1624=\"\",\"\",referentes!AC1624),IF(referentes!AD1624=\"\",\"\",CONCATENATE(\" \",referentes!AD1624)))","v":""}]
[null,null,null,null,null,null,null,null,null,null,null,null,null,null,null,"","",null,null,null,null,{"$f":"IF(referentes!AB1625=\"\",\"\",referentes!AB1625)","v":""},{"$f":"CONCATENATE(IF(referentes!AC1625=\"\",\"\",referentes!AC1625),IF(referentes!AD1625=\"\",\"\",CONCATENATE(\" \",referentes!AD1625)))","v":""}]
[null,null,null,null,null,null,null,null,null,null,null,null,null,null,null,"","",null,null,null,null,{"$f":"IF(referentes!AB1626=\"\",\"\",referentes!AB1626)","v":""},{"$f":"CONCATENATE(IF(referentes!AC1626=\"\",\"\",referentes!AC1626),IF(referentes!AD1626=\"\",\"\",CONCATENATE(\" \",referentes!AD1626)))","v":""}]
[null,null,null,null,null,null,null,null,null,null,null,null,null,null,null,"","",null,null,null,null,{"$f":"IF(referentes!AB1627=\"\",\"\",referentes!AB1627)","v":""},{"$f":"CONCATENATE(IF(referentes!AC1627=\"\",\"\",referentes!AC1627),IF(referentes!AD1627=\"\",\"\",CONCATENATE(\" \",referentes!AD1627)))","v":""}]
[null,null,null,null,null,null,null,null,null,null,null,null,null,null,null,"","",null,null,null,null,{"$f":"IF(referentes!AB1628=\"\",\"\",referentes!AB1628)","v":""},{"$f":"CONCATENATE(IF(referentes!AC1628=\"\",\"\",referentes!AC1628),IF(referentes!AD1628=\"\",\"\",CONCATENATE(\" \",referentes!AD1628)))","v":""}]
[null,null,null,null,null,null,null,null,null,null,null,null,null,null,null,"","",null,null,null,null,{"$f":"IF(referentes!AB1629=\"\",\"\",referentes!AB1629)","v":""},{"$f":"CONCATENATE(IF(referentes!AC1629=\"\",\"\",referentes!AC1629),IF(referentes!AD1629=\"\",\"\",CONCATENATE(\" \",referentes!AD1629)))","v":""}]
[null,null,null,null,null,null,null,null,null,null,null,null,null,null,null,"","",null,null,null,null,{"$f":"IF(referentes!AB1630=\"\",\"\",referentes!AB1630)","v":""},{"$f":"CONCATENATE(IF(referentes!AC1630=\"\",\"\",referentes!AC1630),IF(referentes!AD1630=\"\",\"\",CONCATENATE(\" \",referentes!AD1630)))","v":""}]
[null,null,null,null,null,null,null,null,null,null,null,null,null,null,null,"","",null,null,null,null,{"$f":"IF(referentes!AB1631=\"\",\"\",referentes!AB1631)","v":""},{"$f":"CONCATENATE(IF(referentes!AC1631=\"\",\"\",referentes!AC1631),IF(referentes!AD1631=\"\",\"\",CONCATENATE(\" \",referentes!AD1631)))","v":""}]
[null,null,null,null,null,null,null,null,null,null,null,null,null,null,null,"","",null,null,null,null,{"$f":"IF(referentes!AB1632=\"\",\"\",referentes!AB1632)","v":""},{"$f":"CONCATENATE(IF(referentes!AC1632=\"\",\"\",referentes!AC1632),IF(referentes!AD1632=\"\",\"\",CONCATENATE(\" \",referentes!AD1632)))","v":""}]
[null,null,null,null,null,null,null,null,null,null,null,null,null,null,null,"","",null,null,null,null,{"$f":"IF(referentes!AB1633=\"\",\"\",referentes!AB1633)","v":""},{"$f":"CONCATENATE(IF(referentes!AC1633=\"\",\"\",referentes!AC1633),IF(referentes!AD1633=\"\",\"\",CONCATENATE(\" \",referentes!AD1633)))","v":""}]
[null,null,null,null,null,null,null,null,null,null,null,null,null,null,null,"","",null,null,null,null,{"$f":"IF(referentes!AB1634=\"\",\"\",referentes!AB1634)","v":""},{"$f":"CONCATENATE(IF(referentes!AC1634=\"\",\"\",referentes!AC1634),IF(referentes!AD1634=\"\",\"\",CONCATENATE(\" \",referentes!AD1634)))","v":""}]
[null,null,null,null,null,null,null,null,null,null,null,null,null,null,null,"","",null,null,null,null,{"$f":"IF(referentes!AB1635=\"\",\"\",referentes!AB1635)","v":""},{"$f":"CONCATENATE(IF(referentes!AC1635=\"\",\"\",referentes!AC1635),IF(referentes!AD1635=\"\",\"\",CONCATENATE(\" \",referentes!AD1635)))","v":""}]
[null,null,null,null,null,null,null,null,null,null,null,null,null,null,null,"","",null,null,null,null,{"$f":"IF(referentes!AB1636=\"\",\"\",referentes!AB1636)","v":""},{"$f":"CONCATENATE(IF(referentes!AC1636=\"\",\"\",referentes!AC1636),IF(referentes!AD1636=\"\",\"\",CONCATENATE(\" \",referentes!AD1636)))","v":""}]
[null,null,null,null,null,null,null,null,null,null,null,null,null,null,null,"","",null,null,null,null,{"$f":"IF(referentes!AB1637=\"\",\"\",referentes!AB1637)","v":""},{"$f":"CONCATENATE(IF(referentes!AC1637=\"\",\"\",referentes!AC1637),IF(referentes!AD1637=\"\",\"\",CONCATENATE(\" \",referentes!AD1637)))","v":""}]
[null,null,null,null,null,null,null,null,null,null,null,null,null,null,null,"","",null,null,null,null,{"$f":"IF(referentes!AB1638=\"\",\"\",referentes!AB1638)","v":""},{"$f":"CONCATENATE(IF(referentes!AC1638=\"\",\"\",referentes!AC1638),IF(referentes!AD1638=\"\",\"\",CONCATENATE(\" \",referentes!AD1638)))","v":""}]
[null,null,null,null,null,null,null,null,null,null,null,null,null,null,null,"","",null,null,null,null,{"$f":"IF(referentes!AB1639=\"\",\"\",referentes!AB1639)","v":""},{"$f":"CONCATENATE(IF(referentes!AC1639=\"\",\"\",referentes!AC1639),IF(referentes!AD1639=\"\",\"\",CONCATENATE(\" \",referentes!AD1639)))","v":""}]
[null,null,null,null,null,null,null,null,null,null,null,null,null,null,null,"","",null,null,null,null,{"$f":"IF(referentes!AB1640=\"\",\"\",referentes!AB1640)","v":""},{"$f":"CONCATENATE(IF(referentes!AC1640=\"\",\"\",referentes!AC1640),IF(referentes!AD1640=\"\",\"\",CONCATENATE(\" \",referentes!AD1640)))","v":""}]
[null,null,null,null,null,null,null,null,null,null,null,null,null,null,null,"","",null,null,null,null,{"$f":"IF(referentes!AB1641=\"\",\"\",referentes!AB1641)","v":""},{"$f":"CONCATENATE(IF(referentes!AC1641=\"\",\"\",referentes!AC1641),IF(referentes!AD1641=\"\",\"\",CONCATENATE(\" \",referentes!AD1641)))","v":""}]
[null,null,null,null,null,null,null,null,null,null,null,null,null,null,null,"","",null,null,null,null,{"$f":"IF(referentes!AB1642=\"\",\"\",referentes!AB1642)","v":""},{"$f":"CONCATENATE(IF(referentes!AC1642=\"\",\"\",referentes!AC1642),IF(referentes!AD1642=\"\",\"\",CONCATENATE(\" \",referentes!AD1642)))","v":""}]
[null,null,null,null,null,null,null,null,null,null,null,null,null,null,null,"","",null,null,null,null,{"$f":"IF(referentes!AB1643=\"\",\"\",referentes!AB1643)","v":""},{"$f":"CONCATENATE(IF(referentes!AC1643=\"\",\"\",referentes!AC1643),IF(referentes!AD1643=\"\",\"\",CONCATENATE(\" \",referentes!AD1643)))","v":""}]
[null,null,null,null,null,null,null,null,null,null,null,null,null,null,null,"","",null,null,null,null,{"$f":"IF(referentes!AB1644=\"\",\"\",referentes!AB1644)","v":""},{"$f":"CONCATENATE(IF(referentes!AC1644=\"\",\"\",referentes!AC1644),IF(referentes!AD1644=\"\",\"\",CONCATENATE(\" \",referentes!AD1644)))","v":""}]
[null,null,null,null,null,null,null,null,null,null,null,null,null,null,null,"","",null,null,null,null,{"$f":"IF(referentes!AB1645=\"\",\"\",referentes!AB1645)","v":""},{"$f":"CONCATENATE(IF(referentes!AC1645=\"\",\"\",referentes!AC1645),IF(referentes!AD1645=\"\",\"\",CONCATENATE(\" \",referentes!AD1645)))","v":""}]
[null,null,null,null,null,null,null,null,null,null,null,null,null,null,null,"","",null,null,null,null,{"$f":"IF(referentes!AB1646=\"\",\"\",referentes!AB1646)","v":""},{"$f":"CONCATENATE(IF(referentes!AC1646=\"\",\"\",referentes!AC1646),IF(referentes!AD1646=\"\",\"\",CONCATENATE(\" \",referentes!AD1646)))","v":""}]
[null,null,null,null,null,null,null,null,null,null,null,null,null,null,null,"","",null,null,null,null,{"$f":"IF(referentes!AB1647=\"\",\"\",referentes!AB1647)","v":""},{"$f":"CONCATENATE(IF(referentes!AC1647=\"\",\"\",referentes!AC1647),IF(referentes!AD1647=\"\",\"\",CONCATENATE(\" \",referentes!AD1647)))","v":""}]
[null,null,null,null,null,null,null,null,null,null,null,null,null,null,null,"","",null,null,null,null,{"$f":"IF(referentes!AB1648=\"\",\"\",referentes!AB1648)","v":""},{"$f":"CONCATENATE(IF(referentes!AC1648=\"\",\"\",referentes!AC1648),IF(referentes!AD1648=\"\",\"\",CONCATENATE(\" \",referentes!AD1648)))","v":""}]
[null,null,null,null,null,null,null,null,null,null,null,null,null,null,null,"","",null,null,null,null,{"$f":"IF(referentes!AB1649=\"\",\"\",referentes!AB1649)","v":""},{"$f":"CONCATENATE(IF(referentes!AC1649=\"\",\"\",referentes!AC1649),IF(referentes!AD1649=\"\",\"\",CONCATENATE(\" \",referentes!AD1649)))","v":""}]
[null,null,null,null,null,null,null,null,null,null,null,null,null,null,null,"","",null,null,null,null,{"$f":"IF(referentes!AB1650=\"\",\"\",referentes!AB1650)","v":""},{"$f":"CONCATENATE(IF(referentes!AC1650=\"\",\"\",referentes!AC1650),IF(referentes!AD1650=\"\",\"\",CONCATENATE(\" \",referentes!AD1650)))","v":""}]
[null,null,null,null,null,null,null,null,null,null,null,null,null,null,null,"","",null,null,null,null,{"$f":"IF(referentes!AB1651=\"\",\"\",referentes!AB1651)","v":""},{"$f":"CONCATENATE(IF(referentes!AC1651=\"\",\"\",referentes!AC1651),IF(referentes!AD1651=\"\",\"\",CONCATENATE(\" \",referentes!AD1651)))","v":""}]
[null,null,null,null,null,null,null,null,null,null,null,null,null,null,null,"","",null,null,null,null,{"$f":"IF(referentes!AB1652=\"\",\"\",referentes!AB1652)","v":""},{"$f":"CONCATENATE(IF(referentes!AC1652=\"\",\"\",referentes!AC1652),IF(referentes!AD1652=\"\",\"\",CONCATENATE(\" \",referentes!AD1652)))","v":""}]
[null,null,null,null,null,null,null,null,null,null,null,null,null,null,null,"","",null,null,null,null,{"$f":"IF(referentes!AB1653=\"\",\"\",referentes!AB1653)","v":""},{"$f":"CONCATENATE(IF(referentes!AC1653=\"\",\"\",referentes!AC1653),IF(referentes!AD1653=\"\",\"\",CONCATENATE(\" \",referentes!AD1653)))","v":""}]
[null,null,null,null,null,null,null,null,null,null,null,null,null,null,null,"","",null,null,null,null,{"$f":"IF(referentes!AB1654=\"\",\"\",referentes!AB1654)","v":""},{"$f":"CONCATENATE(IF(referentes!AC1654=\"\",\"\",referentes!AC1654),IF(referentes!AD1654=\"\",\"\",CONCATENATE(\" \",referentes!AD1654)))","v":""}]
[null,null,null,null,null,null,null,null,null,null,null,null,null,null,null,"","",null,null,null,null,{"$f":"IF(referentes!AB1655=\"\",\"\",referentes!AB1655)","v":""},{"$f":"CONCATENATE(IF(referentes!AC1655=\"\",\"\",referentes!AC1655),IF(referentes!AD1655=\"\",\"\",CONCATENATE(\" \",referentes!AD1655)))","v":""}]
[null,null,null,null,null,null,null,null,null,null,null,null,null,null,null,"","",null,null,null,null,{"$f":"IF(referentes!AB1656=\"\",\"\",referentes!AB1656)","v":""},{"$f":"CONCATENATE(IF(referentes!AC1656=\"\",\"\",referentes!AC1656),IF(referentes!AD1656=\"\",\"\",CONCATENATE(\" \",referentes!AD1656)))","v":""}]
[null,null,null,null,null,null,null,null,null,null,null,null,null,null,null,"","",null,null,null,null,{"$f":"IF(referentes!AB1657=\"\",\"\",referentes!AB1657)","v":""},{"$f":"CONCATENATE(IF(referentes!AC1657=\"\",\"\",referentes!AC1657),IF(referentes!AD1657=\"\",\"\",CONCATENATE(\" \",referentes!AD1657)))","v":""}]
[null,null,null,null,null,null,null,null,null,null,null,null,null,null,null,"","",null,null,null,null,{"$f":"IF(referentes!AB1658=\"\",\"\",referentes!AB1658)","v":""},{"$f":"CONCATENATE(IF(referentes!AC1658=\"\",\"\",referentes!AC1658),IF(referentes!AD1658=\"\",\"\",CONCATENATE(\" \",referentes!AD1658)))","v":""}]
[null,null,null,null,null,null,null,null,null,null,null,null,null,null,null,"","",null,null,null,null,{"$f":"IF(referentes!AB1659=\"\",\"\",referentes!AB1659)","v":""},{"$f":"CONCATENATE(IF(referentes!AC1659=\"\",\"\",referentes!AC1659),IF(referentes!AD1659=\"\",\"\",CONCATENATE(\" \",referentes!AD1659)))","v":""}]
[null,null,null,null,null,null,null,null,null,null,null,null,null,null,null,"","",null,null,null,null,{"$f":"IF(referentes!AB1660=\"\",\"\",referentes!AB1660)","v":""},{"$f":"CONCATENATE(IF(referentes!AC1660=\"\",\"\",referentes!AC1660),IF(referentes!AD1660=\"\",\"\",CONCATENATE(\" \",referentes!AD1660)))","v":""}]
[null,null,null,null,null,null,null,null,null,null,null,null,null,null,null,"","",null,null,null,null,{"$f":"IF(referentes!AB1661=\"\",\"\",referentes!AB1661)","v":""},{"$f":"CONCATENATE(IF(referentes!AC1661=\"\",\"\",referentes!AC1661),IF(referentes!AD1661=\"\",\"\",CONCATENATE(\" \",referentes!AD1661)))","v":""}]
[null,null,null,null,null,null,null,null,null,null,null,null,null,null,null,"","",null,null,null,null,{"$f":"IF(referentes!AB1662=\"\",\"\",referentes!AB1662)","v":""},{"$f":"CONCATENATE(IF(referentes!AC1662=\"\",\"\",referentes!AC1662),IF(referentes!AD1662=\"\",\"\",CONCATENATE(\" \",referentes!AD1662)))","v":""}]
[null,null,null,null,null,null,null,null,null,null,null,null,null,null,null,"","",null,null,null,null,{"$f":"IF(referentes!AB1663=\"\",\"\",referentes!AB1663)","v":""},{"$f":"CONCATENATE(IF(referentes!AC1663=\"\",\"\",referentes!AC1663),IF(referentes!AD1663=\"\",\"\",CONCATENATE(\" \",referentes!AD1663)))","v":""}]
[null,null,null,null,null,null,null,null,null,null,null,null,null,null,null,"","",null,null,null,null,{"$f":"IF(referentes!AB1664=\"\",\"\",referentes!AB1664)","v":""},{"$f":"CONCATENATE(IF(referentes!AC1664=\"\",\"\",referentes!AC1664),IF(referentes!AD1664=\"\",\"\",CONCATENATE(\" \",referentes!AD1664)))","v":""}]
[null,null,null,null,null,null,null,null,null,null,null,null,null,null,null,"","",null,null,null,null,{"$f":"IF(referentes!AB1665=\"\",\"\",referentes!AB1665)","v":""},{"$f":"CONCATENATE(IF(referentes!AC1665=\"\",\"\",referentes!AC1665),IF(referentes!AD1665=\"\",\"\",CONCATENATE(\" \",referentes!AD1665)))","v":""}]
[null,null,null,null,null,null,null,null,null,null,null,null,null,null,null,"","",null,null,null,null,{"$f":"IF(referentes!AB1666=\"\",\"\",referentes!AB1666)","v":""},{"$f":"CONCATENATE(IF(referentes!AC1666=\"\",\"\",referentes!AC1666),IF(referentes!AD1666=\"\",\"\",CONCATENATE(\" \",referentes!AD1666)))","v":""}]
[null,null,null,null,null,null,null,null,null,null,null,null,null,null,null,"","",null,null,null,null,{"$f":"IF(referentes!AB1667=\"\",\"\",referentes!AB1667)","v":""},{"$f":"CONCATENATE(IF(referentes!AC1667=\"\",\"\",referentes!AC1667),IF(referentes!AD1667=\"\",\"\",CONCATENATE(\" \",referentes!AD1667)))","v":""}]
[null,null,null,null,null,null,null,null,null,null,null,null,null,null,null,"","",null,null,null,null,{"$f":"IF(referentes!AB1668=\"\",\"\",referentes!AB1668)","v":""},{"$f":"CONCATENATE(IF(referentes!AC1668=\"\",\"\",referentes!AC1668),IF(referentes!AD1668=\"\",\"\",CONCATENATE(\" \",referentes!AD1668)))","v":""}]
[null,null,null,null,null,null,null,null,null,null,null,null,null,null,null,"","",null,null,null,null,{"$f":"IF(referentes!AB1669=\"\",\"\",referentes!AB1669)","v":""},{"$f":"CONCATENATE(IF(referentes!AC1669=\"\",\"\",referentes!AC1669),IF(referentes!AD1669=\"\",\"\",CONCATENATE(\" \",referentes!AD1669)))","v":""}]
[null,null,null,null,null,null,null,null,null,null,null,null,null,null,null,"","",null,null,null,null,{"$f":"IF(referentes!AB1670=\"\",\"\",referentes!AB1670)","v":""},{"$f":"CONCATENATE(IF(referentes!AC1670=\"\",\"\",referentes!AC1670),IF(referentes!AD1670=\"\",\"\",CONCATENATE(\" \",referentes!AD1670)))","v":""}]
[null,null,null,null,null,null,null,null,null,null,null,null,null,null,null,"","",null,null,null,null,{"$f":"IF(referentes!AB1671=\"\",\"\",referentes!AB1671)","v":""},{"$f":"CONCATENATE(IF(referentes!AC1671=\"\",\"\",referentes!AC1671),IF(referentes!AD1671=\"\",\"\",CONCATENATE(\" \",referentes!AD1671)))","v":""}]
[null,null,null,null,null,null,null,null,null,null,null,null,null,null,null,"","",null,null,null,null,{"$f":"IF(referentes!AB1672=\"\",\"\",referentes!AB1672)","v":""},{"$f":"CONCATENATE(IF(referentes!AC1672=\"\",\"\",referentes!AC1672),IF(referentes!AD1672=\"\",\"\",CONCATENATE(\" \",referentes!AD1672)))","v":""}]
[null,null,null,null,null,null,null,null,null,null,null,null,null,null,null,"","",null,null,null,null,{"$f":"IF(referentes!AB1673=\"\",\"\",referentes!AB1673)","v":""},{"$f":"CONCATENATE(IF(referentes!AC1673=\"\",\"\",referentes!AC1673),IF(referentes!AD1673=\"\",\"\",CONCATENATE(\" \",referentes!AD1673)))","v":""}]
[null,null,null,null,null,null,null,null,null,null,null,null,null,null,null,"","",null,null,null,null,{"$f":"IF(referentes!AB1674=\"\",\"\",referentes!AB1674)","v":""},{"$f":"CONCATENATE(IF(referentes!AC1674=\"\",\"\",referentes!AC1674),IF(referentes!AD1674=\"\",\"\",CONCATENATE(\" \",referentes!AD1674)))","v":""}]
[null,null,null,null,null,null,null,null,null,null,null,null,null,null,null,"","",null,null,null,null,{"$f":"IF(referentes!AB1675=\"\",\"\",referentes!AB1675)","v":""},{"$f":"CONCATENATE(IF(referentes!AC1675=\"\",\"\",referentes!AC1675),IF(referentes!AD1675=\"\",\"\",CONCATENATE(\" \",referentes!AD1675)))","v":""}]
[null,null,null,null,null,null,null,null,null,null,null,null,null,null,null,"","",null,null,null,null,{"$f":"IF(referentes!AB1676=\"\",\"\",referentes!AB1676)","v":""},{"$f":"CONCATENATE(IF(referentes!AC1676=\"\",\"\",referentes!AC1676),IF(referentes!AD1676=\"\",\"\",CONCATENATE(\" \",referentes!AD1676)))","v":""}]
[null,null,null,null,null,null,null,null,null,null,null,null,null,null,null,"","",null,null,null,null,{"$f":"IF(referentes!AB1677=\"\",\"\",referentes!AB1677)","v":""},{"$f":"CONCATENATE(IF(referentes!AC1677=\"\",\"\",referentes!AC1677),IF(referentes!AD1677=\"\",\"\",CONCATENATE(\" \",referentes!AD1677)))","v":""}]
[null,null,null,null,null,null,null,null,null,null,null,null,null,null,null,"","",null,null,null,null,{"$f":"IF(referentes!AB1678=\"\",\"\",referentes!AB1678)","v":""},{"$f":"CONCATENATE(IF(referentes!AC1678=\"\",\"\",referentes!AC1678),IF(referentes!AD1678=\"\",\"\",CONCATENATE(\" \",referentes!AD1678)))","v":""}]
[null,null,null,null,null,null,null,null,null,null,null,null,null,null,null,"","",null,null,null,null,{"$f":"IF(referentes!AB1679=\"\",\"\",referentes!AB1679)","v":""},{"$f":"CONCATENATE(IF(referentes!AC1679=\"\",\"\",referentes!AC1679),IF(referentes!AD1679=\"\",\"\",CONCATENATE(\" \",referentes!AD1679)))","v":""}]
[null,null,null,null,null,null,null,null,null,null,null,null,null,null,null,"","",null,null,null,null,{"$f":"IF(referentes!AB1680=\"\",\"\",referentes!AB1680)","v":""},{"$f":"CONCATENATE(IF(referentes!AC1680=\"\",\"\",referentes!AC1680),IF(referentes!AD1680=\"\",\"\",CONCATENATE(\" \",referentes!AD1680)))","v":""}]
[null,null,null,null,null,null,null,null,null,null,null,null,null,null,null,"","",null,null,null,null,{"$f":"IF(referentes!AB1681=\"\",\"\",referentes!AB1681)","v":""},{"$f":"CONCATENATE(IF(referentes!AC1681=\"\",\"\",referentes!AC1681),IF(referentes!AD1681=\"\",\"\",CONCATENATE(\" \",referentes!AD1681)))","v":""}]
[null,null,null,null,null,null,null,null,null,null,null,null,null,null,null,"","",null,null,null,null,{"$f":"IF(referentes!AB1682=\"\",\"\",referentes!AB1682)","v":""},{"$f":"CONCATENATE(IF(referentes!AC1682=\"\",\"\",referentes!AC1682),IF(referentes!AD1682=\"\",\"\",CONCATENATE(\" \",referentes!AD1682)))","v":""}]
[null,null,null,null,null,null,null,null,null,null,null,null,null,null,null,"","",null,null,null,null,{"$f":"IF(referentes!AB1683=\"\",\"\",referentes!AB1683)","v":""},{"$f":"CONCATENATE(IF(referentes!AC1683=\"\",\"\",referentes!AC1683),IF(referentes!AD1683=\"\",\"\",CONCATENATE(\" \",referentes!AD1683)))","v":""}]
[null,null,null,null,null,null,null,null,null,null,null,null,null,null,null,"","",null,null,null,null,{"$f":"IF(referentes!AB1684=\"\",\"\",referentes!AB1684)","v":""},{"$f":"CONCATENATE(IF(referentes!AC1684=\"\",\"\",referentes!AC1684),IF(referentes!AD1684=\"\",\"\",CONCATENATE(\" \",referentes!AD1684)))","v":""}]
[null,null,null,null,null,null,null,null,null,null,null,null,null,null,null,"","",null,null,null,null,{"$f":"IF(referentes!AB1685=\"\",\"\",referentes!AB1685)","v":""},{"$f":"CONCATENATE(IF(referentes!AC1685=\"\",\"\",referentes!AC1685),IF(referentes!AD1685=\"\",\"\",CONCATENATE(\" \",referentes!AD1685)))","v":""}]
[null,null,null,null,null,null,null,null,null,null,null,null,null,null,null,"","",null,null,null,null,{"$f":"IF(referentes!AB1686=\"\",\"\",referentes!AB1686)","v":""},{"$f":"CONCATENATE(IF(referentes!AC1686=\"\",\"\",referentes!AC1686),IF(referentes!AD1686=\"\",\"\",CONCATENATE(\" \",referentes!AD1686)))","v":""}]
[null,null,null,null,null,null,null,null,null,null,null,null,null,null,null,"","",null,null,null,null,{"$f":"IF(referentes!AB1687=\"\",\"\",referentes!AB1687)","v":""},{"$f":"CONCATENATE(IF(referentes!AC1687=\"\",\"\",referentes!AC1687),IF(referentes!AD1687=\"\",\"\",CONCATENATE(\" \",referentes!AD1687)))","v":""}]
[null,null,null,null,null,null,null,null,null,null,null,null,null,null,null,"","",null,null,null,null,{"$f":"IF(referentes!AB1688=\"\",\"\",referentes!AB1688)","v":""},{"$f":"CONCATENATE(IF(referentes!AC1688=\"\",\"\",referentes!AC1688),IF(referentes!AD1688=\"\",\"\",CONCATENATE(\" \",referentes!AD1688)))","v":""}]
[null,null,null,null,null,null,null,null,null,null,null,null,null,null,null,"","",null,null,null,null,{"$f":"IF(referentes!AB1689=\"\",\"\",referentes!AB1689)","v":""},{"$f":"CONCATENATE(IF(referentes!AC1689=\"\",\"\",referentes!AC1689),IF(referentes!AD1689=\"\",\"\",CONCATENATE(\" \",referentes!AD1689)))","v":""}]
[null,null,null,null,null,null,null,null,null,null,null,null,null,null,null,"","",null,null,null,null,{"$f":"IF(referentes!AB1690=\"\",\"\",referentes!AB1690)","v":""},{"$f":"CONCATENATE(IF(referentes!AC1690=\"\",\"\",referentes!AC1690),IF(referentes!AD1690=\"\",\"\",CONCATENATE(\" \",referentes!AD1690)))","v":""}]
[null,null,null,null,null,null,null,null,null,null,null,null,null,null,null,"","",null,null,null,null,{"$f":"IF(referentes!AB1691=\"\",\"\",referentes!AB1691)","v":""},{"$f":"CONCATENATE(IF(referentes!AC1691=\"\",\"\",referentes!AC1691),IF(referentes!AD1691=\"\",\"\",CONCATENATE(\" \",referentes!AD1691)))","v":""}]
[null,null,null,null,null,null,null,null,null,null,null,null,null,null,null,"","",null,null,null,null,{"$f":"IF(referentes!AB1692=\"\",\"\",referentes!AB1692)","v":""},{"$f":"CONCATENATE(IF(referentes!AC1692=\"\",\"\",referentes!AC1692),IF(referentes!AD1692=\"\",\"\",CONCATENATE(\" \",referentes!AD1692)))","v":""}]
[null,null,null,null,null,null,null,null,null,null,null,null,null,null,null,"","",null,null,null,null,{"$f":"IF(referentes!AB1693=\"\",\"\",referentes!AB1693)","v":""},{"$f":"CONCATENATE(IF(referentes!AC1693=\"\",\"\",referentes!AC1693),IF(referentes!AD1693=\"\",\"\",CONCATENATE(\" \",referentes!AD1693)))","v":""}]
[null,null,null,null,null,null,null,null,null,null,null,null,null,null,null,"","",null,null,null,null,{"$f":"IF(referentes!AB1694=\"\",\"\",referentes!AB1694)","v":""},{"$f":"CONCATENATE(IF(referentes!AC1694=\"\",\"\",referentes!AC1694),IF(referentes!AD1694=\"\",\"\",CONCATENATE(\" \",referentes!AD1694)))","v":""}]
[null,null,null,null,null,null,null,null,null,null,null,null,null,null,null,"","",null,null,null,null,{"$f":"IF(referentes!AB1695=\"\",\"\",referentes!AB1695)","v":""},{"$f":"CONCATENATE(IF(referentes!AC1695=\"\",\"\",referentes!AC1695),IF(referentes!AD1695=\"\",\"\",CONCATENATE(\" \",referentes!AD1695)))","v":""}]
[null,null,null,null,null,null,null,null,null,null,null,null,null,null,null,"","",null,null,null,null,{"$f":"IF(referentes!AB1696=\"\",\"\",referentes!AB1696)","v":""},{"$f":"CONCATENATE(IF(referentes!AC1696=\"\",\"\",referentes!AC1696),IF(referentes!AD1696=\"\",\"\",CONCATENATE(\" \",referentes!AD1696)))","v":""}]
[null,null,null,null,null,null,null,null,null,null,null,null,null,null,null,"","",null,null,null,null,{"$f":"IF(referentes!AB1697=\"\",\"\",referentes!AB1697)","v":""},{"$f":"CONCATENATE(IF(referentes!AC1697=\"\",\"\",referentes!AC1697),IF(referentes!AD1697=\"\",\"\",CONCATENATE(\" \",referentes!AD1697)))","v":""}]
[null,null,null,null,null,null,null,null,null,null,null,null,null,null,null,"","",null,null,null,null,{"$f":"IF(referentes!AB1698=\"\",\"\",referentes!AB1698)","v":""},{"$f":"CONCATENATE(IF(referentes!AC1698=\"\",\"\",referentes!AC1698),IF(referentes!AD1698=\"\",\"\",CONCATENATE(\" \",referentes!AD1698)))","v":""}]
[null,null,null,null,null,null,null,null,null,null,null,null,null,null,null,"","",null,null,null,null,{"$f":"IF(referentes!AB1699=\"\",\"\",referentes!AB1699)","v":""},{"$f":"CONCATENATE(IF(referentes!AC1699=\"\",\"\",referentes!AC1699),IF(referentes!AD1699=\"\",\"\",CONCATENATE(\" \",referentes!AD1699)))","v":""}]
[null,null,null,null,null,null,null,null,null,null,null,null,null,null,null,"","",null,null,null,null,{"$f":"IF(referentes!AB1700=\"\",\"\",referentes!AB1700)","v":""},{"$f":"CONCATENATE(IF(referentes!AC1700=\"\",\"\",referentes!AC1700),IF(referentes!AD1700=\"\",\"\",CONCATENATE(\" \",referentes!AD1700)))","v":""}]
[null,null,null,null,null,null,null,null,null,null,null,null,null,null,null,"","",null,null,null,null,{"$f":"IF(referentes!AB1701=\"\",\"\",referentes!AB1701)","v":""},{"$f":"CONCATENATE(IF(referentes!AC1701=\"\",\"\",referentes!AC1701),IF(referentes!AD1701=\"\",\"\",CONCATENATE(\" \",referentes!AD1701)))","v":""}]
[null,null,null,null,null,null,null,null,null,null,null,null,null,null,null,"","",null,null,null,null,{"$f":"IF(referentes!AB1702=\"\",\"\",referentes!AB1702)","v":""},{"$f":"CONCATENATE(IF(referentes!AC1702=\"\",\"\",referentes!AC1702),IF(referentes!AD1702=\"\",\"\",CONCATENATE(\" \",referentes!AD1702)))","v":""}]
[null,null,null,null,null,null,null,null,null,null,null,null,null,null,null,"","",null,null,null,null,{"$f":"IF(referentes!AB1703=\"\",\"\",referentes!AB1703)","v":""},{"$f":"CONCATENATE(IF(referentes!AC1703=\"\",\"\",referentes!AC1703),IF(referentes!AD1703=\"\",\"\",CONCATENATE(\" \",referentes!AD1703)))","v":""}]
[null,null,null,null,null,null,null,null,null,null,null,null,null,null,null,"","",null,null,null,null,{"$f":"IF(referentes!AB1704=\"\",\"\",referentes!AB1704)","v":""},{"$f":"CONCATENATE(IF(referentes!AC1704=\"\",\"\",referentes!AC1704),IF(referentes!AD1704=\"\",\"\",CONCATENATE(\" \",referentes!AD1704)))","v":""}]
[null,null,null,null,null,null,null,null,null,null,null,null,null,null,null,"","",null,null,null,null,{"$f":"IF(referentes!AB1705=\"\",\"\",referentes!AB1705)","v":""},{"$f":"CONCATENATE(IF(referentes!AC1705=\"\",\"\",referentes!AC1705),IF(referentes!AD1705=\"\",\"\",CONCATENATE(\" \",referentes!AD1705)))","v":""}]
[null,null,null,null,null,null,null,null,null,null,null,null,null,null,null,"","",null,null,null,null,{"$f":"IF(referentes!AB1706=\"\",\"\",referentes!AB1706)","v":""},{"$f":"CONCATENATE(IF(referentes!AC1706=\"\",\"\",referentes!AC1706),IF(referentes!AD1706=\"\",\"\",CONCATENATE(\" \",referentes!AD1706)))","v":""}]
[null,null,null,null,null,null,null,null,null,null,null,null,null,null,null,"","",null,null,null,null,{"$f":"IF(referentes!AB1707=\"\",\"\",referentes!AB1707)","v":""},{"$f":"CONCATENATE(IF(referentes!AC1707=\"\",\"\",referentes!AC1707),IF(referentes!AD1707=\"\",\"\",CONCATENATE(\" \",referentes!AD1707)))","v":""}]
[null,null,null,null,null,null,null,null,null,null,null,null,null,null,null,"","",null,null,null,null,{"$f":"IF(referentes!AB1708=\"\",\"\",referentes!AB1708)","v":""},{"$f":"CONCATENATE(IF(referentes!AC1708=\"\",\"\",referentes!AC1708),IF(referentes!AD1708=\"\",\"\",CONCATENATE(\" \",referentes!AD1708)))","v":""}]
[null,null,null,null,null,null,null,null,null,null,null,null,null,null,null,"","",null,null,null,null,{"$f":"IF(referentes!AB1709=\"\",\"\",referentes!AB1709)","v":""},{"$f":"CONCATENATE(IF(referentes!AC1709=\"\",\"\",referentes!AC1709),IF(referentes!AD1709=\"\",\"\",CONCATENATE(\" \",referentes!AD1709)))","v":""}]
[null,null,null,null,null,null,null,null,null,null,null,null,null,null,null,"","",null,null,null,null,{"$f":"IF(referentes!AB1710=\"\",\"\",referentes!AB1710)","v":""},{"$f":"CONCATENATE(IF(referentes!AC1710=\"\",\"\",referentes!AC1710),IF(referentes!AD1710=\"\",\"\",CONCATENATE(\" \",referentes!AD1710)))","v":""}]
[null,null,null,null,null,null,null,null,null,null,null,null,null,null,null,"","",null,null,null,null,{"$f":"IF(referentes!AB1711=\"\",\"\",referentes!AB1711)","v":""},{"$f":"CONCATENATE(IF(referentes!AC1711=\"\",\"\",referentes!AC1711),IF(referentes!AD1711=\"\",\"\",CONCATENATE(\" \",referentes!AD1711)))","v":""}]
[null,null,null,null,null,null,null,null,null,null,null,null,null,null,null,"","",null,null,null,null,{"$f":"IF(referentes!AB1712=\"\",\"\",referentes!AB1712)","v":""},{"$f":"CONCATENATE(IF(referentes!AC1712=\"\",\"\",referentes!AC1712),IF(referentes!AD1712=\"\",\"\",CONCATENATE(\" \",referentes!AD1712)))","v":""}]
[null,null,null,null,null,null,null,null,null,null,null,null,null,null,null,"","",null,null,null,null,{"$f":"IF(referentes!AB1713=\"\",\"\",referentes!AB1713)","v":""},{"$f":"CONCATENATE(IF(referentes!AC1713=\"\",\"\",referentes!AC1713),IF(referentes!AD1713=\"\",\"\",CONCATENATE(\" \",referentes!AD1713)))","v":""}]
[null,null,null,null,null,null,null,null,null,null,null,null,null,null,null,"","",null,null,null,null,{"$f":"IF(referentes!AB1714=\"\",\"\",referentes!AB1714)","v":""},{"$f":"CONCATENATE(IF(referentes!AC1714=\"\",\"\",referentes!AC1714),IF(referentes!AD1714=\"\",\"\",CONCATENATE(\" \",referentes!AD1714)))","v":""}]
[null,null,null,null,null,null,null,null,null,null,null,null,null,null,null,"","",null,null,null,null,{"$f":"IF(referentes!AB1715=\"\",\"\",referentes!AB1715)","v":""},{"$f":"CONCATENATE(IF(referentes!AC1715=\"\",\"\",referentes!AC1715),IF(referentes!AD1715=\"\",\"\",CONCATENATE(\" \",referentes!AD1715)))","v":""}]
[null,null,null,null,null,null,null,null,null,null,null,null,null,null,null,"","",null,null,null,null,{"$f":"IF(referentes!AB1716=\"\",\"\",referentes!AB1716)","v":""},{"$f":"CONCATENATE(IF(referentes!AC1716=\"\",\"\",referentes!AC1716),IF(referentes!AD1716=\"\",\"\",CONCATENATE(\" \",referentes!AD1716)))","v":""}]
[null,null,null,null,null,null,null,null,null,null,null,null,null,null,null,"","",null,null,null,null,{"$f":"IF(referentes!AB1717=\"\",\"\",referentes!AB1717)","v":""},{"$f":"CONCATENATE(IF(referentes!AC1717=\"\",\"\",referentes!AC1717),IF(referentes!AD1717=\"\",\"\",CONCATENATE(\" \",referentes!AD1717)))","v":""}]
[null,null,null,null,null,null,null,null,null,null,null,null,null,null,null,"","",null,null,null,null,{"$f":"IF(referentes!AB1718=\"\",\"\",referentes!AB1718)","v":""},{"$f":"CONCATENATE(IF(referentes!AC1718=\"\",\"\",referentes!AC1718),IF(referentes!AD1718=\"\",\"\",CONCATENATE(\" \",referentes!AD1718)))","v":""}]
[null,null,null,null,null,null,null,null,null,null,null,null,null,null,null,"","",null,null,null,null,{"$f":"IF(referentes!AB1719=\"\",\"\",referentes!AB1719)","v":""},{"$f":"CONCATENATE(IF(referentes!AC1719=\"\",\"\",referentes!AC1719),IF(referentes!AD1719=\"\",\"\",CONCATENATE(\" \",referentes!AD1719)))","v":""}]
[null,null,null,null,null,null,null,null,null,null,null,null,null,null,null,"","",null,null,null,null,{"$f":"IF(referentes!AB1720=\"\",\"\",referentes!AB1720)","v":""},{"$f":"CONCATENATE(IF(referentes!AC1720=\"\",\"\",referentes!AC1720),IF(referentes!AD1720=\"\",\"\",CONCATENATE(\" \",referentes!AD1720)))","v":""}]
[null,null,null,null,null,null,null,null,null,null,null,null,null,null,null,"","",null,null,null,null,{"$f":"IF(referentes!AB1721=\"\",\"\",referentes!AB1721)","v":""},{"$f":"CONCATENATE(IF(referentes!AC1721=\"\",\"\",referentes!AC1721),IF(referentes!AD1721=\"\",\"\",CONCATENATE(\" \",referentes!AD1721)))","v":""}]
[null,null,null,null,null,null,null,null,null,null,null,null,null,null,null,"","",null,null,null,null,{"$f":"IF(referentes!AB1722=\"\",\"\",referentes!AB1722)","v":""},{"$f":"CONCATENATE(IF(referentes!AC1722=\"\",\"\",referentes!AC1722),IF(referentes!AD1722=\"\",\"\",CONCATENATE(\" \",referentes!AD1722)))","v":""}]
[null,null,null,null,null,null,null,null,null,null,null,null,null,null,null,"","",null,null,null,null,{"$f":"IF(referentes!AB1723=\"\",\"\",referentes!AB1723)","v":""},{"$f":"CONCATENATE(IF(referentes!AC1723=\"\",\"\",referentes!AC1723),IF(referentes!AD1723=\"\",\"\",CONCATENATE(\" \",referentes!AD1723)))","v":""}]
[null,null,null,null,null,null,null,null,null,null,null,null,null,null,null,"","",null,null,null,null,{"$f":"IF(referentes!AB1724=\"\",\"\",referentes!AB1724)","v":""},{"$f":"CONCATENATE(IF(referentes!AC1724=\"\",\"\",referentes!AC1724),IF(referentes!AD1724=\"\",\"\",CONCATENATE(\" \",referentes!AD1724)))","v":""}]
[null,null,null,null,null,null,null,null,null,null,null,null,null,null,null,"","",null,null,null,null,{"$f":"IF(referentes!AB1725=\"\",\"\",referentes!AB1725)","v":""},{"$f":"CONCATENATE(IF(referentes!AC1725=\"\",\"\",referentes!AC1725),IF(referentes!AD1725=\"\",\"\",CONCATENATE(\" \",referentes!AD1725)))","v":""}]
[null,null,null,null,null,null,null,null,null,null,null,null,null,null,null,"","",null,null,null,null,{"$f":"IF(referentes!AB1726=\"\",\"\",referentes!AB1726)","v":""},{"$f":"CONCATENATE(IF(referentes!AC1726=\"\",\"\",referentes!AC1726),IF(referentes!AD1726=\"\",\"\",CONCATENATE(\" \",referentes!AD1726)))","v":""}]
[null,null,null,null,null,null,null,null,null,null,null,null,null,null,null,"","",null,null,null,null,{"$f":"IF(referentes!AB1727=\"\",\"\",referentes!AB1727)","v":""},{"$f":"CONCATENATE(IF(referentes!AC1727=\"\",\"\",referentes!AC1727),IF(referentes!AD1727=\"\",\"\",CONCATENATE(\" \",referentes!AD1727)))","v":""}]
[null,null,null,null,null,null,null,null,null,null,null,null,null,null,null,"","",null,null,null,null,{"$f":"IF(referentes!AB1728=\"\",\"\",referentes!AB1728)","v":""},{"$f":"CONCATENATE(IF(referentes!AC1728=\"\",\"\",referentes!AC1728),IF(referentes!AD1728=\"\",\"\",CONCATENATE(\" \",referentes!AD1728)))","v":""}]
[null,null,null,null,null,null,null,null,null,null,null,null,null,null,null,"","",null,null,null,null,{"$f":"IF(referentes!AB1729=\"\",\"\",referentes!AB1729)","v":""},{"$f":"CONCATENATE(IF(referentes!AC1729=\"\",\"\",referentes!AC1729),IF(referentes!AD1729=\"\",\"\",CONCATENATE(\" \",referentes!AD1729)))","v":""}]
[null,null,null,null,null,null,null,null,null,null,null,null,null,null,null,"","",null,null,null,null,{"$f":"IF(referentes!AB1730=\"\",\"\",referentes!AB1730)","v":""},{"$f":"CONCATENATE(IF(referentes!AC1730=\"\",\"\",referentes!AC1730),IF(referentes!AD1730=\"\",\"\",CONCATENATE(\" \",referentes!AD1730)))","v":""}]
[null,null,null,null,null,null,null,null,null,null,null,null,null,null,null,"","",null,null,null,null,{"$f":"IF(referentes!AB1731=\"\",\"\",referentes!AB1731)","v":""},{"$f":"CONCATENATE(IF(referentes!AC1731=\"\",\"\",referentes!AC1731),IF(referentes!AD1731=\"\",\"\",CONCATENATE(\" \",referentes!AD1731)))","v":""}]
[null,null,null,null,null,null,null,null,null,null,null,null,null,null,null,"","",null,null,null,null,{"$f":"IF(referentes!AB1732=\"\",\"\",referentes!AB1732)","v":""},{"$f":"CONCATENATE(IF(referentes!AC1732=\"\",\"\",referentes!AC1732),IF(referentes!AD1732=\"\",\"\",CONCATENATE(\" \",referentes!AD1732)))","v":""}]
[null,null,null,null,null,null,null,null,null,null,null,null,null,null,null,"","",null,null,null,null,{"$f":"IF(referentes!AB1733=\"\",\"\",referentes!AB1733)","v":""},{"$f":"CONCATENATE(IF(referentes!AC1733=\"\",\"\",referentes!AC1733),IF(referentes!AD1733=\"\",\"\",CONCATENATE(\" \",referentes!AD1733)))","v":""}]
[null,null,null,null,null,null,null,null,null,null,null,null,null,null,null,"","",null,null,null,null,{"$f":"IF(referentes!AB1734=\"\",\"\",referentes!AB1734)","v":""},{"$f":"CONCATENATE(IF(referentes!AC1734=\"\",\"\",referentes!AC1734),IF(referentes!AD1734=\"\",\"\",CONCATENATE(\" \",referentes!AD1734)))","v":""}]
[null,null,null,null,null,null,null,null,null,null,null,null,null,null,null,"","",null,null,null,null,{"$f":"IF(referentes!AB1735=\"\",\"\",referentes!AB1735)","v":""},{"$f":"CONCATENATE(IF(referentes!AC1735=\"\",\"\",referentes!AC1735),IF(referentes!AD1735=\"\",\"\",CONCATENATE(\" \",referentes!AD1735)))","v":""}]
[null,null,null,null,null,null,null,null,null,null,null,null,null,null,null,"","",null,null,null,null,{"$f":"IF(referentes!AB1736=\"\",\"\",referentes!AB1736)","v":""},{"$f":"CONCATENATE(IF(referentes!AC1736=\"\",\"\",referentes!AC1736),IF(referentes!AD1736=\"\",\"\",CONCATENATE(\" \",referentes!AD1736)))","v":""}]
[null,null,null,null,null,null,null,null,null,null,null,null,null,null,null,"","",null,null,null,null,{"$f":"IF(referentes!AB1737=\"\",\"\",referentes!AB1737)","v":""},{"$f":"CONCATENATE(IF(referentes!AC1737=\"\",\"\",referentes!AC1737),IF(referentes!AD1737=\"\",\"\",CONCATENATE(\" \",referentes!AD1737)))","v":""}]
[null,null,null,null,null,null,null,null,null,null,null,null,null,null,null,"","",null,null,null,null,{"$f":"IF(referentes!AB1738=\"\",\"\",referentes!AB1738)","v":""},{"$f":"CONCATENATE(IF(referentes!AC1738=\"\",\"\",referentes!AC1738),IF(referentes!AD1738=\"\",\"\",CONCATENATE(\" \",referentes!AD1738)))","v":""}]
[null,null,null,null,null,null,null,null,null,null,null,null,null,null,null,"","",null,null,null,null,{"$f":"IF(referentes!AB1739=\"\",\"\",referentes!AB1739)","v":""},{"$f":"CONCATENATE(IF(referentes!AC1739=\"\",\"\",referentes!AC1739),IF(referentes!AD1739=\"\",\"\",CONCATENATE(\" \",referentes!AD1739)))","v":""}]
[null,null,null,null,null,null,null,null,null,null,null,null,null,null,null,"","",null,null,null,null,{"$f":"IF(referentes!AB1740=\"\",\"\",referentes!AB1740)","v":""},{"$f":"CONCATENATE(IF(referentes!AC1740=\"\",\"\",referentes!AC1740),IF(referentes!AD1740=\"\",\"\",CONCATENATE(\" \",referentes!AD1740)))","v":""}]
[null,null,null,null,null,null,null,null,null,null,null,null,null,null,null,"","",null,null,null,null,{"$f":"IF(referentes!AB1741=\"\",\"\",referentes!AB1741)","v":""},{"$f":"CONCATENATE(IF(referentes!AC1741=\"\",\"\",referentes!AC1741),IF(referentes!AD1741=\"\",\"\",CONCATENATE(\" \",referentes!AD1741)))","v":""}]
[null,null,null,null,null,null,null,null,null,null,null,null,null,null,null,"","",null,null,null,null,{"$f":"IF(referentes!AB1742=\"\",\"\",referentes!AB1742)","v":""},{"$f":"CONCATENATE(IF(referentes!AC1742=\"\",\"\",referentes!AC1742),IF(referentes!AD1742=\"\",\"\",CONCATENATE(\" \",referentes!AD1742)))","v":""}]
[null,null,null,null,null,null,null,null,null,null,null,null,null,null,null,"","",null,null,null,null,{"$f":"IF(referentes!AB1743=\"\",\"\",referentes!AB1743)","v":""},{"$f":"CONCATENATE(IF(referentes!AC1743=\"\",\"\",referentes!AC1743),IF(referentes!AD1743=\"\",\"\",CONCATENATE(\" \",referentes!AD1743)))","v":""}]
[null,null,null,null,null,null,null,null,null,null,null,null,null,null,null,"","",null,null,null,null,{"$f":"IF(referentes!AB1744=\"\",\"\",referentes!AB1744)","v":""},{"$f":"CONCATENATE(IF(referentes!AC1744=\"\",\"\",referentes!AC1744),IF(referentes!AD1744=\"\",\"\",CONCATENATE(\" \",referentes!AD1744)))","v":""}]
[null,null,null,null,null,null,null,null,null,null,null,null,null,null,null,"","",null,null,null,null,{"$f":"IF(referentes!AB1745=\"\",\"\",referentes!AB1745)","v":""},{"$f":"CONCATENATE(IF(referentes!AC1745=\"\",\"\",referentes!AC1745),IF(referentes!AD1745=\"\",\"\",CONCATENATE(\" \",referentes!AD1745)))","v":""}]
[null,null,null,null,null,null,null,null,null,null,null,null,null,null,null,"","",null,null,null,null,{"$f":"IF(referentes!AB1746=\"\",\"\",referentes!AB1746)","v":""},{"$f":"CONCATENATE(IF(referentes!AC1746=\"\",\"\",referentes!AC1746),IF(referentes!AD1746=\"\",\"\",CONCATENATE(\" \",referentes!AD1746)))","v":""}]
[null,null,null,null,null,null,null,null,null,null,null,null,null,null,null,"","",null,null,null,null,{"$f":"IF(referentes!AB1747=\"\",\"\",referentes!AB1747)","v":""},{"$f":"CONCATENATE(IF(referentes!AC1747=\"\",\"\",referentes!AC1747),IF(referentes!AD1747=\"\",\"\",CONCATENATE(\" \",referentes!AD1747)))","v":""}]
[null,null,null,null,null,null,null,null,null,null,null,null,null,null,null,"","",null,null,null,null,{"$f":"IF(referentes!AB1748=\"\",\"\",referentes!AB1748)","v":""},{"$f":"CONCATENATE(IF(referentes!AC1748=\"\",\"\",referentes!AC1748),IF(referentes!AD1748=\"\",\"\",CONCATENATE(\" \",referentes!AD1748)))","v":""}]
[null,null,null,null,null,null,null,null,null,null,null,null,null,null,null,"","",null,null,null,null,{"$f":"IF(referentes!AB1749=\"\",\"\",referentes!AB1749)","v":""},{"$f":"CONCATENATE(IF(referentes!AC1749=\"\",\"\",referentes!AC1749),IF(referentes!AD1749=\"\",\"\",CONCATENATE(\" \",referentes!AD1749)))","v":""}]
[null,null,null,null,null,null,null,null,null,null,null,null,null,null,null,"","",null,null,null,null,{"$f":"IF(referentes!AB1750=\"\",\"\",referentes!AB1750)","v":""},{"$f":"CONCATENATE(IF(referentes!AC1750=\"\",\"\",referentes!AC1750),IF(referentes!AD1750=\"\",\"\",CONCATENATE(\" \",referentes!AD1750)))","v":""}]
[null,null,null,null,null,null,null,null,null,null,null,null,null,null,null,"","",null,null,null,null,{"$f":"IF(referentes!AB1751=\"\",\"\",referentes!AB1751)","v":""},{"$f":"CONCATENATE(IF(referentes!AC1751=\"\",\"\",referentes!AC1751),IF(referentes!AD1751=\"\",\"\",CONCATENATE(\" \",referentes!AD1751)))","v":""}]
[null,null,null,null,null,null,null,null,null,null,null,null,null,null,null,"","",null,null,null,null,{"$f":"IF(referentes!AB1752=\"\",\"\",referentes!AB1752)","v":""},{"$f":"CONCATENATE(IF(referentes!AC1752=\"\",\"\",referentes!AC1752),IF(referentes!AD1752=\"\",\"\",CONCATENATE(\" \",referentes!AD1752)))","v":""}]
[null,null,null,null,null,null,null,null,null,null,null,null,null,null,null,"","",null,null,null,null,{"$f":"IF(referentes!AB1753=\"\",\"\",referentes!AB1753)","v":""},{"$f":"CONCATENATE(IF(referentes!AC1753=\"\",\"\",referentes!AC1753),IF(referentes!AD1753=\"\",\"\",CONCATENATE(\" \",referentes!AD1753)))","v":""}]
[null,null,null,null,null,null,null,null,null,null,null,null,null,null,null,"","",null,null,null,null,{"$f":"IF(referentes!AB1754=\"\",\"\",referentes!AB1754)","v":""},{"$f":"CONCATENATE(IF(referentes!AC1754=\"\",\"\",referentes!AC1754),IF(referentes!AD1754=\"\",\"\",CONCATENATE(\" \",referentes!AD1754)))","v":""}]
[null,null,null,null,null,null,null,null,null,null,null,null,null,null,null,"","",null,null,null,null,{"$f":"IF(referentes!AB1755=\"\",\"\",referentes!AB1755)","v":""},{"$f":"CONCATENATE(IF(referentes!AC1755=\"\",\"\",referentes!AC1755),IF(referentes!AD1755=\"\",\"\",CONCATENATE(\" \",referentes!AD1755)))","v":""}]
[null,null,null,null,null,null,null,null,null,null,null,null,null,null,null,"","",null,null,null,null,{"$f":"IF(referentes!AB1756=\"\",\"\",referentes!AB1756)","v":""},{"$f":"CONCATENATE(IF(referentes!AC1756=\"\",\"\",referentes!AC1756),IF(referentes!AD1756=\"\",\"\",CONCATENATE(\" \",referentes!AD1756)))","v":""}]
[null,null,null,null,null,null,null,null,null,null,null,null,null,null,null,"","",null,null,null,null,{"$f":"IF(referentes!AB1757=\"\",\"\",referentes!AB1757)","v":""},{"$f":"CONCATENATE(IF(referentes!AC1757=\"\",\"\",referentes!AC1757),IF(referentes!AD1757=\"\",\"\",CONCATENATE(\" \",referentes!AD1757)))","v":""}]
[null,null,null,null,null,null,null,null,null,null,null,null,null,null,null,"","",null,null,null,null,{"$f":"IF(referentes!AB1758=\"\",\"\",referentes!AB1758)","v":""},{"$f":"CONCATENATE(IF(referentes!AC1758=\"\",\"\",referentes!AC1758),IF(referentes!AD1758=\"\",\"\",CONCATENATE(\" \",referentes!AD1758)))","v":""}]
[null,null,null,null,null,null,null,null,null,null,null,null,null,null,null,"","",null,null,null,null,{"$f":"IF(referentes!AB1759=\"\",\"\",referentes!AB1759)","v":""},{"$f":"CONCATENATE(IF(referentes!AC1759=\"\",\"\",referentes!AC1759),IF(referentes!AD1759=\"\",\"\",CONCATENATE(\" \",referentes!AD1759)))","v":""}]
[null,null,null,null,null,null,null,null,null,null,null,null,null,null,null,"","",null,null,null,null,{"$f":"IF(referentes!AB1760=\"\",\"\",referentes!AB1760)","v":""},{"$f":"CONCATENATE(IF(referentes!AC1760=\"\",\"\",referentes!AC1760),IF(referentes!AD1760=\"\",\"\",CONCATENATE(\" \",referentes!AD1760)))","v":""}]
[null,null,null,null,null,null,null,null,null,null,null,null,null,null,null,"","",null,null,null,null,{"$f":"IF(referentes!AB1761=\"\",\"\",referentes!AB1761)","v":""},{"$f":"CONCATENATE(IF(referentes!AC1761=\"\",\"\",referentes!AC1761),IF(referentes!AD1761=\"\",\"\",CONCATENATE(\" \",referentes!AD1761)))","v":""}]
[null,null,null,null,null,null,null,null,null,null,null,null,null,null,null,"","",null,null,null,null,{"$f":"IF(referentes!AB1762=\"\",\"\",referentes!AB1762)","v":""},{"$f":"CONCATENATE(IF(referentes!AC1762=\"\",\"\",referentes!AC1762),IF(referentes!AD1762=\"\",\"\",CONCATENATE(\" \",referentes!AD1762)))","v":""}]
[null,null,null,null,null,null,null,null,null,null,null,null,null,null,null,"","",null,null,null,null,{"$f":"IF(referentes!AB1763=\"\",\"\",referentes!AB1763)","v":""},{"$f":"CONCATENATE(IF(referentes!AC1763=\"\",\"\",referentes!AC1763),IF(referentes!AD1763=\"\",\"\",CONCATENATE(\" \",referentes!AD1763)))","v":""}]
[null,null,null,null,null,null,null,null,null,null,null,null,null,null,null,"","",null,null,null,null,{"$f":"IF(referentes!AB1764=\"\",\"\",referentes!AB1764)","v":""},{"$f":"CONCATENATE(IF(referentes!AC1764=\"\",\"\",referentes!AC1764),IF(referentes!AD1764=\"\",\"\",CONCATENATE(\" \",referentes!AD1764)))","v":""}]
[null,null,null,null,null,null,null,null,null,null,null,null,null,null,null,"","",null,null,null,null,{"$f":"IF(referentes!AB1765=\"\",\"\",referentes!AB1765)","v":""},{"$f":"CONCATENATE(IF(referentes!AC1765=\"\",\"\",referentes!AC1765),IF(referentes!AD1765=\"\",\"\",CONCATENATE(\" \",referentes!AD1765)))","v":""}]
[null,null,null,null,null,null,null,null,null,null,null,null,null,null,null,"","",null,null,null,null,{"$f":"IF(referentes!AB1766=\"\",\"\",referentes!AB1766)","v":""},{"$f":"CONCATENATE(IF(referentes!AC1766=\"\",\"\",referentes!AC1766),IF(referentes!AD1766=\"\",\"\",CONCATENATE(\" \",referentes!AD1766)))","v":""}]
[null,null,null,null,null,null,null,null,null,null,null,null,null,null,null,"","",null,null,null,null,{"$f":"IF(referentes!AB1767=\"\",\"\",referentes!AB1767)","v":""},{"$f":"CONCATENATE(IF(referentes!AC1767=\"\",\"\",referentes!AC1767),IF(referentes!AD1767=\"\",\"\",CONCATENATE(\" \",referentes!AD1767)))","v":""}]
[null,null,null,null,null,null,null,null,null,null,null,null,null,null,null,"","",null,null,null,null,{"$f":"IF(referentes!AB1768=\"\",\"\",referentes!AB1768)","v":""},{"$f":"CONCATENATE(IF(referentes!AC1768=\"\",\"\",referentes!AC1768),IF(referentes!AD1768=\"\",\"\",CONCATENATE(\" \",referentes!AD1768)))","v":""}]
[null,null,null,null,null,null,null,null,null,null,null,null,null,null,null,"","",null,null,null,null,{"$f":"IF(referentes!AB1769=\"\",\"\",referentes!AB1769)","v":""},{"$f":"CONCATENATE(IF(referentes!AC1769=\"\",\"\",referentes!AC1769),IF(referentes!AD1769=\"\",\"\",CONCATENATE(\" \",referentes!AD1769)))","v":""}]
[null,null,null,null,null,null,null,null,null,null,null,null,null,null,null,"","",null,null,null,null,{"$f":"IF(referentes!AB1770=\"\",\"\",referentes!AB1770)","v":""},{"$f":"CONCATENATE(IF(referentes!AC1770=\"\",\"\",referentes!AC1770),IF(referentes!AD1770=\"\",\"\",CONCATENATE(\" \",referentes!AD1770)))","v":""}]
[null,null,null,null,null,null,null,null,null,null,null,null,null,null,null,"","",null,null,null,null,{"$f":"IF(referentes!AB1771=\"\",\"\",referentes!AB1771)","v":""},{"$f":"CONCATENATE(IF(referentes!AC1771=\"\",\"\",referentes!AC1771),IF(referentes!AD1771=\"\",\"\",CONCATENATE(\" \",referentes!AD1771)))","v":""}]
[null,null,null,null,null,null,null,null,null,null,null,null,null,null,null,"","",null,null,null,null,{"$f":"IF(referentes!AB1772=\"\",\"\",referentes!AB1772)","v":""},{"$f":"CONCATENATE(IF(referentes!AC1772=\"\",\"\",referentes!AC1772),IF(referentes!AD1772=\"\",\"\",CONCATENATE(\" \",referentes!AD1772)))","v":""}]
[null,null,null,null,null,null,null,null,null,null,null,null,null,null,null,"","",null,null,null,null,{"$f":"IF(referentes!AB1773=\"\",\"\",referentes!AB1773)","v":""},{"$f":"CONCATENATE(IF(referentes!AC1773=\"\",\"\",referentes!AC1773),IF(referentes!AD1773=\"\",\"\",CONCATENATE(\" \",referentes!AD1773)))","v":""}]
[null,null,null,null,null,null,null,null,null,null,null,null,null,null,null,"","",null,null,null,null,{"$f":"IF(referentes!AB1774=\"\",\"\",referentes!AB1774)","v":""},{"$f":"CONCATENATE(IF(referentes!AC1774=\"\",\"\",referentes!AC1774),IF(referentes!AD1774=\"\",\"\",CONCATENATE(\" \",referentes!AD1774)))","v":""}]
[null,null,null,null,null,null,null,null,null,null,null,null,null,null,null,"","",null,null,null,null,{"$f":"IF(referentes!AB1775=\"\",\"\",referentes!AB1775)","v":""},{"$f":"CONCATENATE(IF(referentes!AC1775=\"\",\"\",referentes!AC1775),IF(referentes!AD1775=\"\",\"\",CONCATENATE(\" \",referentes!AD1775)))","v":""}]
[null,null,null,null,null,null,null,null,null,null,null,null,null,null,null,"","",null,null,null,null,{"$f":"IF(referentes!AB1776=\"\",\"\",referentes!AB1776)","v":""},{"$f":"CONCATENATE(IF(referentes!AC1776=\"\",\"\",referentes!AC1776),IF(referentes!AD1776=\"\",\"\",CONCATENATE(\" \",referentes!AD1776)))","v":""}]
[null,null,null,null,null,null,null,null,null,null,null,null,null,null,null,"","",null,null,null,null,{"$f":"IF(referentes!AB1777=\"\",\"\",referentes!AB1777)","v":""},{"$f":"CONCATENATE(IF(referentes!AC1777=\"\",\"\",referentes!AC1777),IF(referentes!AD1777=\"\",\"\",CONCATENATE(\" \",referentes!AD1777)))","v":""}]
[null,null,null,null,null,null,null,null,null,null,null,null,null,null,null,"","",null,null,null,null,{"$f":"IF(referentes!AB1778=\"\",\"\",referentes!AB1778)","v":""},{"$f":"CONCATENATE(IF(referentes!AC1778=\"\",\"\",referentes!AC1778),IF(referentes!AD1778=\"\",\"\",CONCATENATE(\" \",referentes!AD1778)))","v":""}]
[null,null,null,null,null,null,null,null,null,null,null,null,null,null,null,"","",null,null,null,null,{"$f":"IF(referentes!AB1779=\"\",\"\",referentes!AB1779)","v":""},{"$f":"CONCATENATE(IF(referentes!AC1779=\"\",\"\",referentes!AC1779),IF(referentes!AD1779=\"\",\"\",CONCATENATE(\" \",referentes!AD1779)))","v":""}]
[null,null,null,null,null,null,null,null,null,null,null,null,null,null,null,"","",null,null,null,null,{"$f":"IF(referentes!AB1780=\"\",\"\",referentes!AB1780)","v":""},{"$f":"CONCATENATE(IF(referentes!AC1780=\"\",\"\",referentes!AC1780),IF(referentes!AD1780=\"\",\"\",CONCATENATE(\" \",referentes!AD1780)))","v":""}]
[null,null,null,null,null,null,null,null,null,null,null,null,null,null,null,"","",null,null,null,null,{"$f":"IF(referentes!AB1781=\"\",\"\",referentes!AB1781)","v":""},{"$f":"CONCATENATE(IF(referentes!AC1781=\"\",\"\",referentes!AC1781),IF(referentes!AD1781=\"\",\"\",CONCATENATE(\" \",referentes!AD1781)))","v":""}]
[null,null,null,null,null,null,null,null,null,null,null,null,null,null,null,"","",null,null,null,null,{"$f":"IF(referentes!AB1782=\"\",\"\",referentes!AB1782)","v":""},{"$f":"CONCATENATE(IF(referentes!AC1782=\"\",\"\",referentes!AC1782),IF(referentes!AD1782=\"\",\"\",CONCATENATE(\" \",referentes!AD1782)))","v":""}]
[null,null,null,null,null,null,null,null,null,null,null,null,null,null,null,"","",null,null,null,null,{"$f":"IF(referentes!AB1783=\"\",\"\",referentes!AB1783)","v":""},{"$f":"CONCATENATE(IF(referentes!AC1783=\"\",\"\",referentes!AC1783),IF(referentes!AD1783=\"\",\"\",CONCATENATE(\" \",referentes!AD1783)))","v":""}]
[null,null,null,null,null,null,null,null,null,null,null,null,null,null,null,"","",null,null,null,null,{"$f":"IF(referentes!AB1784=\"\",\"\",referentes!AB1784)","v":""},{"$f":"CONCATENATE(IF(referentes!AC1784=\"\",\"\",referentes!AC1784),IF(referentes!AD1784=\"\",\"\",CONCATENATE(\" \",referentes!AD1784)))","v":""}]
[null,null,null,null,null,null,null,null,null,null,null,null,null,null,null,"","",null,null,null,null,{"$f":"IF(referentes!AB1785=\"\",\"\",referentes!AB1785)","v":""},{"$f":"CONCATENATE(IF(referentes!AC1785=\"\",\"\",referentes!AC1785),IF(referentes!AD1785=\"\",\"\",CONCATENATE(\" \",referentes!AD1785)))","v":""}]
[null,null,null,null,null,null,null,null,null,null,null,null,null,null,null,"","",null,null,null,null,{"$f":"IF(referentes!AB1786=\"\",\"\",referentes!AB1786)","v":""},{"$f":"CONCATENATE(IF(referentes!AC1786=\"\",\"\",referentes!AC1786),IF(referentes!AD1786=\"\",\"\",CONCATENATE(\" \",referentes!AD1786)))","v":""}]
[null,null,null,null,null,null,null,null,null,null,null,null,null,null,null,"","",null,null,null,null,{"$f":"IF(referentes!AB1787=\"\",\"\",referentes!AB1787)","v":""},{"$f":"CONCATENATE(IF(referentes!AC1787=\"\",\"\",referentes!AC1787),IF(referentes!AD1787=\"\",\"\",CONCATENATE(\" \",referentes!AD1787)))","v":""}]
[null,null,null,null,null,null,null,null,null,null,null,null,null,null,null,"","",null,null,null,null,{"$f":"IF(referentes!AB1788=\"\",\"\",referentes!AB1788)","v":""},{"$f":"CONCATENATE(IF(referentes!AC1788=\"\",\"\",referentes!AC1788),IF(referentes!AD1788=\"\",\"\",CONCATENATE(\" \",referentes!AD1788)))","v":""}]
[null,null,null,null,null,null,null,null,null,null,null,null,null,null,null,"","",null,null,null,null,{"$f":"IF(referentes!AB1789=\"\",\"\",referentes!AB1789)","v":""},{"$f":"CONCATENATE(IF(referentes!AC1789=\"\",\"\",referentes!AC1789),IF(referentes!AD1789=\"\",\"\",CONCATENATE(\" \",referentes!AD1789)))","v":""}]
[null,null,null,null,null,null,null,null,null,null,null,null,null,null,null,"","",null,null,null,null,{"$f":"IF(referentes!AB1790=\"\",\"\",referentes!AB1790)","v":""},{"$f":"CONCATENATE(IF(referentes!AC1790=\"\",\"\",referentes!AC1790),IF(referentes!AD1790=\"\",\"\",CONCATENATE(\" \",referentes!AD1790)))","v":""}]
[null,null,null,null,null,null,null,null,null,null,null,null,null,null,null,"","",null,null,null,null,{"$f":"IF(referentes!AB1791=\"\",\"\",referentes!AB1791)","v":""},{"$f":"CONCATENATE(IF(referentes!AC1791=\"\",\"\",referentes!AC1791),IF(referentes!AD1791=\"\",\"\",CONCATENATE(\" \",referentes!AD1791)))","v":""}]
[null,null,null,null,null,null,null,null,null,null,null,null,null,null,null,"","",null,null,null,null,{"$f":"IF(referentes!AB1792=\"\",\"\",referentes!AB1792)","v":""},{"$f":"CONCATENATE(IF(referentes!AC1792=\"\",\"\",referentes!AC1792),IF(referentes!AD1792=\"\",\"\",CONCATENATE(\" \",referentes!AD1792)))","v":""}]
[null,null,null,null,null,null,null,null,null,null,null,null,null,null,null,"","",null,null,null,null,{"$f":"IF(referentes!AB1793=\"\",\"\",referentes!AB1793)","v":""},{"$f":"CONCATENATE(IF(referentes!AC1793=\"\",\"\",referentes!AC1793),IF(referentes!AD1793=\"\",\"\",CONCATENATE(\" \",referentes!AD1793)))","v":""}]
[null,null,null,null,null,null,null,null,null,null,null,null,null,null,null,"","",null,null,null,null,{"$f":"IF(referentes!AB1794=\"\",\"\",referentes!AB1794)","v":""},{"$f":"CONCATENATE(IF(referentes!AC1794=\"\",\"\",referentes!AC1794),IF(referentes!AD1794=\"\",\"\",CONCATENATE(\" \",referentes!AD1794)))","v":""}]
[null,null,null,null,null,null,null,null,null,null,null,null,null,null,null,"","",null,null,null,null,{"$f":"IF(referentes!AB1795=\"\",\"\",referentes!AB1795)","v":""},{"$f":"CONCATENATE(IF(referentes!AC1795=\"\",\"\",referentes!AC1795),IF(referentes!AD1795=\"\",\"\",CONCATENATE(\" \",referentes!AD1795)))","v":""}]
[null,null,null,null,null,null,null,null,null,null,null,null,null,null,null,"","",null,null,null,null,{"$f":"IF(referentes!AB1796=\"\",\"\",referentes!AB1796)","v":""},{"$f":"CONCATENATE(IF(referentes!AC1796=\"\",\"\",referentes!AC1796),IF(referentes!AD1796=\"\",\"\",CONCATENATE(\" \",referentes!AD1796)))","v":""}]
[null,null,null,null,null,null,null,null,null,null,null,null,null,null,null,"","",null,null,null,null,{"$f":"IF(referentes!AB1797=\"\",\"\",referentes!AB1797)","v":""},{"$f":"CONCATENATE(IF(referentes!AC1797=\"\",\"\",referentes!AC1797),IF(referentes!AD1797=\"\",\"\",CONCATENATE(\" \",referentes!AD1797)))","v":""}]
[null,null,null,null,null,null,null,null,null,null,null,null,null,null,null,"","",null,null,null,null,{"$f":"IF(referentes!AB1798=\"\",\"\",referentes!AB1798)","v":""},{"$f":"CONCATENATE(IF(referentes!AC1798=\"\",\"\",referentes!AC1798),IF(referentes!AD1798=\"\",\"\",CONCATENATE(\" \",referentes!AD1798)))","v":""}]
[null,null,null,null,null,null,null,null,null,null,null,null,null,null,null,"","",null,null,null,null,{"$f":"IF(referentes!AB1799=\"\",\"\",referentes!AB1799)","v":""},{"$f":"CONCATENATE(IF(referentes!AC1799=\"\",\"\",referentes!AC1799),IF(referentes!AD1799=\"\",\"\",CONCATENATE(\" \",referentes!AD1799)))","v":""}]
[null,null,null,null,null,null,null,null,null,null,null,null,null,null,null,"","",null,null,null,null,{"$f":"IF(referentes!AB1800=\"\",\"\",referentes!AB1800)","v":""},{"$f":"CONCATENATE(IF(referentes!AC1800=\"\",\"\",referentes!AC1800),IF(referentes!AD1800=\"\",\"\",CONCATENATE(\" \",referentes!AD1800)))","v":""}]
[null,null,null,null,null,null,null,null,null,null,null,null,null,null,null,"","",null,null,null,null,{"$f":"IF(referentes!AB1801=\"\",\"\",referentes!AB1801)","v":""},{"$f":"CONCATENATE(IF(referentes!AC1801=\"\",\"\",referentes!AC1801),IF(referentes!AD1801=\"\",\"\",CONCATENATE(\" \",referentes!AD1801)))","v":""}]
[null,null,null,null,null,null,null,null,null,null,null,null,null,null,null,"","",null,null,null,null,{"$f":"IF(referentes!AB1802=\"\",\"\",referentes!AB1802)","v":""},{"$f":"CONCATENATE(IF(referentes!AC1802=\"\",\"\",referentes!AC1802),IF(referentes!AD1802=\"\",\"\",CONCATENATE(\" \",referentes!AD1802)))","v":""}]
[null,null,null,null,null,null,null,null,null,null,null,null,null,null,null,"","",null,null,null,null,{"$f":"IF(referentes!AB1803=\"\",\"\",referentes!AB1803)","v":""},{"$f":"CONCATENATE(IF(referentes!AC1803=\"\",\"\",referentes!AC1803),IF(referentes!AD1803=\"\",\"\",CONCATENATE(\" \",referentes!AD1803)))","v":""}]
[null,null,null,null,null,null,null,null,null,null,null,null,null,null,null,"","",null,null,null,null,{"$f":"IF(referentes!AB1804=\"\",\"\",referentes!AB1804)","v":""},{"$f":"CONCATENATE(IF(referentes!AC1804=\"\",\"\",referentes!AC1804),IF(referentes!AD1804=\"\",\"\",CONCATENATE(\" \",referentes!AD1804)))","v":""}]
[null,null,null,null,null,null,null,null,null,null,null,null,null,null,null,"","",null,null,null,null,{"$f":"IF(referentes!AB1805=\"\",\"\",referentes!AB1805)","v":""},{"$f":"CONCATENATE(IF(referentes!AC1805=\"\",\"\",referentes!AC1805),IF(referentes!AD1805=\"\",\"\",CONCATENATE(\" \",referentes!AD1805)))","v":""}]
[null,null,null,null,null,null,null,null,null,null,null,null,null,null,null,"","",null,null,null,null,{"$f":"IF(referentes!AB1806=\"\",\"\",referentes!AB1806)","v":""},{"$f":"CONCATENATE(IF(referentes!AC1806=\"\",\"\",referentes!AC1806),IF(referentes!AD1806=\"\",\"\",CONCATENATE(\" \",referentes!AD1806)))","v":""}]
[null,null,null,null,null,null,null,null,null,null,null,null,null,null,null,"","",null,null,null,null,{"$f":"IF(referentes!AB1807=\"\",\"\",referentes!AB1807)","v":""},{"$f":"CONCATENATE(IF(referentes!AC1807=\"\",\"\",referentes!AC1807),IF(referentes!AD1807=\"\",\"\",CONCATENATE(\" \",referentes!AD1807)))","v":""}]
[null,null,null,null,null,null,null,null,null,null,null,null,null,null,null,"","",null,null,null,null,{"$f":"IF(referentes!AB1808=\"\",\"\",referentes!AB1808)","v":""},{"$f":"CONCATENATE(IF(referentes!AC1808=\"\",\"\",referentes!AC1808),IF(referentes!AD1808=\"\",\"\",CONCATENATE(\" \",referentes!AD1808)))","v":""}]
[null,null,null,null,null,null,null,null,null,null,null,null,null,null,null,"","",null,null,null,null,{"$f":"IF(referentes!AB1809=\"\",\"\",referentes!AB1809)","v":""},{"$f":"CONCATENATE(IF(referentes!AC1809=\"\",\"\",referentes!AC1809),IF(referentes!AD1809=\"\",\"\",CONCATENATE(\" \",referentes!AD1809)))","v":""}]
[null,null,null,null,null,null,null,null,null,null,null,null,null,null,null,"","",null,null,null,null,{"$f":"IF(referentes!AB1810=\"\",\"\",referentes!AB1810)","v":""},{"$f":"CONCATENATE(IF(referentes!AC1810=\"\",\"\",referentes!AC1810),IF(referentes!AD1810=\"\",\"\",CONCATENATE(\" \",referentes!AD1810)))","v":""}]
[null,null,null,null,null,null,null,null,null,null,null,null,null,null,null,"","",null,null,null,null,{"$f":"IF(referentes!AB1811=\"\",\"\",referentes!AB1811)","v":""},{"$f":"CONCATENATE(IF(referentes!AC1811=\"\",\"\",referentes!AC1811),IF(referentes!AD1811=\"\",\"\",CONCATENATE(\" \",referentes!AD1811)))","v":""}]
[null,null,null,null,null,null,null,null,null,null,null,null,null,null,null,"","",null,null,null,null,{"$f":"IF(referentes!AB1812=\"\",\"\",referentes!AB1812)","v":""},{"$f":"CONCATENATE(IF(referentes!AC1812=\"\",\"\",referentes!AC1812),IF(referentes!AD1812=\"\",\"\",CONCATENATE(\" \",referentes!AD1812)))","v":""}]
[null,null,null,null,null,null,null,null,null,null,null,null,null,null,null,"","",null,null,null,null,{"$f":"IF(referentes!AB1813=\"\",\"\",referentes!AB1813)","v":""},{"$f":"CONCATENATE(IF(referentes!AC1813=\"\",\"\",referentes!AC1813),IF(referentes!AD1813=\"\",\"\",CONCATENATE(\" \",referentes!AD1813)))","v":""}]
[null,null,null,null,null,null,null,null,null,null,null,null,null,null,null,"","",null,null,null,null,{"$f":"IF(referentes!AB1814=\"\",\"\",referentes!AB1814)","v":""},{"$f":"CONCATENATE(IF(referentes!AC1814=\"\",\"\",referentes!AC1814),IF(referentes!AD1814=\"\",\"\",CONCATENATE(\" \",referentes!AD1814)))","v":""}]
[null,null,null,null,null,null,null,null,null,null,null,null,null,null,null,"","",null,null,null,null,{"$f":"IF(referentes!AB1815=\"\",\"\",referentes!AB1815)","v":""},{"$f":"CONCATENATE(IF(referentes!AC1815=\"\",\"\",referentes!AC1815),IF(referentes!AD1815=\"\",\"\",CONCATENATE(\" \",referentes!AD1815)))","v":""}]
[null,null,null,null,null,null,null,null,null,null,null,null,null,null,null,"","",null,null,null,null,{"$f":"IF(referentes!AB1816=\"\",\"\",referentes!AB1816)","v":""},{"$f":"CONCATENATE(IF(referentes!AC1816=\"\",\"\",referentes!AC1816),IF(referentes!AD1816=\"\",\"\",CONCATENATE(\" \",referentes!AD1816)))","v":""}]
[null,null,null,null,null,null,null,null,null,null,null,null,null,null,null,"","",null,null,null,null,{"$f":"IF(referentes!AB1817=\"\",\"\",referentes!AB1817)","v":""},{"$f":"CONCATENATE(IF(referentes!AC1817=\"\",\"\",referentes!AC1817),IF(referentes!AD1817=\"\",\"\",CONCATENATE(\" \",referentes!AD1817)))","v":""}]
[null,null,null,null,null,null,null,null,null,null,null,null,null,null,null,"","",null,null,null,null,{"$f":"IF(referentes!AB1818=\"\",\"\",referentes!AB1818)","v":""},{"$f":"CONCATENATE(IF(referentes!AC1818=\"\",\"\",referentes!AC1818),IF(referentes!AD1818=\"\",\"\",CONCATENATE(\" \",referentes!AD1818)))","v":""}]
[null,null,null,null,null,null,null,null,null,null,null,null,null,null,null,"","",null,null,null,null,{"$f":"IF(referentes!AB1819=\"\",\"\",referentes!AB1819)","v":""},{"$f":"CONCATENATE(IF(referentes!AC1819=\"\",\"\",referentes!AC1819),IF(referentes!AD1819=\"\",\"\",CONCATENATE(\" \",referentes!AD1819)))","v":""}]
[null,null,null,null,null,null,null,null,null,null,null,null,null,null,null,"","",null,null,null,null,{"$f":"IF(referentes!AB1820=\"\",\"\",referentes!AB1820)","v":""},{"$f":"CONCATENATE(IF(referentes!AC1820=\"\",\"\",referentes!AC1820),IF(referentes!AD1820=\"\",\"\",CONCATENATE(\" \",referentes!AD1820)))","v":""}]
[null,null,null,null,null,null,null,null,null,null,null,null,null,null,null,"","",null,null,null,null,{"$f":"IF(referentes!AB1821=\"\",\"\",referentes!AB1821)","v":""},{"$f":"CONCATENATE(IF(referentes!AC1821=\"\",\"\",referentes!AC1821),IF(referentes!AD1821=\"\",\"\",CONCATENATE(\" \",referentes!AD1821)))","v":""}]
[null,null,null,null,null,null,null,null,null,null,null,null,null,null,null,"","",null,null,null,null,{"$f":"IF(referentes!AB1822=\"\",\"\",referentes!AB1822)","v":""},{"$f":"CONCATENATE(IF(referentes!AC1822=\"\",\"\",referentes!AC1822),IF(referentes!AD1822=\"\",\"\",CONCATENATE(\" \",referentes!AD1822)))","v":""}]
[null,null,null,null,null,null,null,null,null,null,null,null,null,null,null,"","",null,null,null,null,{"$f":"IF(referentes!AB1823=\"\",\"\",referentes!AB1823)","v":""},{"$f":"CONCATENATE(IF(referentes!AC1823=\"\",\"\",referentes!AC1823),IF(referentes!AD1823=\"\",\"\",CONCATENATE(\" \",referentes!AD1823)))","v":""}]
[null,null,null,null,null,null,null,null,null,null,null,null,null,null,null,"","",null,null,null,null,{"$f":"IF(referentes!AB1824=\"\",\"\",referentes!AB1824)","v":""},{"$f":"CONCATENATE(IF(referentes!AC1824=\"\",\"\",referentes!AC1824),IF(referentes!AD1824=\"\",\"\",CONCATENATE(\" \",referentes!AD1824)))","v":""}]
[null,null,null,null,null,null,null,null,null,null,null,null,null,null,null,"","",null,null,null,null,{"$f":"IF(referentes!AB1825=\"\",\"\",referentes!AB1825)","v":""},{"$f":"CONCATENATE(IF(referentes!AC1825=\"\",\"\",referentes!AC1825),IF(referentes!AD1825=\"\",\"\",CONCATENATE(\" \",referentes!AD1825)))","v":""}]
[null,null,null,null,null,null,null,null,null,null,null,null,null,null,null,"","",null,null,null,null,{"$f":"IF(referentes!AB1826=\"\",\"\",referentes!AB1826)","v":""},{"$f":"CONCATENATE(IF(referentes!AC1826=\"\",\"\",referentes!AC1826),IF(referentes!AD1826=\"\",\"\",CONCATENATE(\" \",referentes!AD1826)))","v":""}]
[null,null,null,null,null,null,null,null,null,null,null,null,null,null,null,"","",null,null,null,null,{"$f":"IF(referentes!AB1827=\"\",\"\",referentes!AB1827)","v":""},{"$f":"CONCATENATE(IF(referentes!AC1827=\"\",\"\",referentes!AC1827),IF(referentes!AD1827=\"\",\"\",CONCATENATE(\" \",referentes!AD1827)))","v":""}]
[null,null,null,null,null,null,null,null,null,null,null,null,null,null,null,"","",null,null,null,null,{"$f":"IF(referentes!AB1828=\"\",\"\",referentes!AB1828)","v":""},{"$f":"CONCATENATE(IF(referentes!AC1828=\"\",\"\",referentes!AC1828),IF(referentes!AD1828=\"\",\"\",CONCATENATE(\" \",referentes!AD1828)))","v":""}]
[null,null,null,null,null,null,null,null,null,null,null,null,null,null,null,"","",null,null,null,null,{"$f":"IF(referentes!AB1829=\"\",\"\",referentes!AB1829)","v":""},{"$f":"CONCATENATE(IF(referentes!AC1829=\"\",\"\",referentes!AC1829),IF(referentes!AD1829=\"\",\"\",CONCATENATE(\" \",referentes!AD1829)))","v":""}]
[null,null,null,null,null,null,null,null,null,null,null,null,null,null,null,"","",null,null,null,null,{"$f":"IF(referentes!AB1830=\"\",\"\",referentes!AB1830)","v":""},{"$f":"CONCATENATE(IF(referentes!AC1830=\"\",\"\",referentes!AC1830),IF(referentes!AD1830=\"\",\"\",CONCATENATE(\" \",referentes!AD1830)))","v":""}]
[null,null,null,null,null,null,null,null,null,null,null,null,null,null,null,"","",null,null,null,null,{"$f":"IF(referentes!AB1831=\"\",\"\",referentes!AB1831)","v":""},{"$f":"CONCATENATE(IF(referentes!AC1831=\"\",\"\",referentes!AC1831),IF(referentes!AD1831=\"\",\"\",CONCATENATE(\" \",referentes!AD1831)))","v":""}]
[null,null,null,null,null,null,null,null,null,null,null,null,null,null,null,"","",null,null,null,null,{"$f":"IF(referentes!AB1832=\"\",\"\",referentes!AB1832)","v":""},{"$f":"CONCATENATE(IF(referentes!AC1832=\"\",\"\",referentes!AC1832),IF(referentes!AD1832=\"\",\"\",CONCATENATE(\" \",referentes!AD1832)))","v":""}]
[null,null,null,null,null,null,null,null,null,null,null,null,null,null,null,"","",null,null,null,null,{"$f":"IF(referentes!AB1833=\"\",\"\",referentes!AB1833)","v":""},{"$f":"CONCATENATE(IF(referentes!AC1833=\"\",\"\",referentes!AC1833),IF(referentes!AD1833=\"\",\"\",CONCATENATE(\" \",referentes!AD1833)))","v":""}]
[null,null,null,null,null,null,null,null,null,null,null,null,null,null,null,"","",null,null,null,null,{"$f":"IF(referentes!AB1834=\"\",\"\",referentes!AB1834)","v":""},{"$f":"CONCATENATE(IF(referentes!AC1834=\"\",\"\",referentes!AC1834),IF(referentes!AD1834=\"\",\"\",CONCATENATE(\" \",referentes!AD1834)))","v":""}]
[null,null,null,null,null,null,null,null,null,null,null,null,null,null,null,"","",null,null,null,null,{"$f":"IF(referentes!AB1835=\"\",\"\",referentes!AB1835)","v":""},{"$f":"CONCATENATE(IF(referentes!AC1835=\"\",\"\",referentes!AC1835),IF(referentes!AD1835=\"\",\"\",CONCATENATE(\" \",referentes!AD1835)))","v":""}]
[null,null,null,null,null,null,null,null,null,null,null,null,null,null,null,"","",null,null,null,null,{"$f":"IF(referentes!AB1836=\"\",\"\",referentes!AB1836)","v":""},{"$f":"CONCATENATE(IF(referentes!AC1836=\"\",\"\",referentes!AC1836),IF(referentes!AD1836=\"\",\"\",CONCATENATE(\" \",referentes!AD1836)))","v":""}]
[null,null,null,null,null,null,null,null,null,null,null,null,null,null,null,"","",null,null,null,null,{"$f":"IF(referentes!AB1837=\"\",\"\",referentes!AB1837)","v":""},{"$f":"CONCATENATE(IF(referentes!AC1837=\"\",\"\",referentes!AC1837),IF(referentes!AD1837=\"\",\"\",CONCATENATE(\" \",referentes!AD1837)))","v":""}]
[null,null,null,null,null,null,null,null,null,null,null,null,null,null,null,"","",null,null,null,null,{"$f":"IF(referentes!AB1838=\"\",\"\",referentes!AB1838)","v":""},{"$f":"CONCATENATE(IF(referentes!AC1838=\"\",\"\",referentes!AC1838),IF(referentes!AD1838=\"\",\"\",CONCATENATE(\" \",referentes!AD1838)))","v":""}]
[null,null,null,null,null,null,null,null,null,null,null,null,null,null,null,"","",null,null,null,null,{"$f":"IF(referentes!AB1839=\"\",\"\",referentes!AB1839)","v":""},{"$f":"CONCATENATE(IF(referentes!AC1839=\"\",\"\",referentes!AC1839),IF(referentes!AD1839=\"\",\"\",CONCATENATE(\" \",referentes!AD1839)))","v":""}]
[null,null,null,null,null,null,null,null,null,null,null,null,null,null,null,"","",null,null,null,null,{"$f":"IF(referentes!AB1840=\"\",\"\",referentes!AB1840)","v":""},{"$f":"CONCATENATE(IF(referentes!AC1840=\"\",\"\",referentes!AC1840),IF(referentes!AD1840=\"\",\"\",CONCATENATE(\" \",referentes!AD1840)))","v":""}]
[null,null,null,null,null,null,null,null,null,null,null,null,null,null,null,"","",null,null,null,null,{"$f":"IF(referentes!AB1841=\"\",\"\",referentes!AB1841)","v":""},{"$f":"CONCATENATE(IF(referentes!AC1841=\"\",\"\",referentes!AC1841),IF(referentes!AD1841=\"\",\"\",CONCATENATE(\" \",referentes!AD1841)))","v":""}]
[null,null,null,null,null,null,null,null,null,null,null,null,null,null,null,"","",null,null,null,null,{"$f":"IF(referentes!AB1842=\"\",\"\",referentes!AB1842)","v":""},{"$f":"CONCATENATE(IF(referentes!AC1842=\"\",\"\",referentes!AC1842),IF(referentes!AD1842=\"\",\"\",CONCATENATE(\" \",referentes!AD1842)))","v":""}]
[null,null,null,null,null,null,null,null,null,null,null,null,null,null,null,"","",null,null,null,null,{"$f":"IF(referentes!AB1843=\"\",\"\",referentes!AB1843)","v":""},{"$f":"CONCATENATE(IF(referentes!AC1843=\"\",\"\",referentes!AC1843),IF(referentes!AD1843=\"\",\"\",CONCATENATE(\" \",referentes!AD1843)))","v":""}]
[null,null,null,null,null,null,null,null,null,null,null,null,null,null,null,"","",null,null,null,null,{"$f":"IF(referentes!AB1844=\"\",\"\",referentes!AB1844)","v":""},{"$f":"CONCATENATE(IF(referentes!AC1844=\"\",\"\",referentes!AC1844),IF(referentes!AD1844=\"\",\"\",CONCATENATE(\" \",referentes!AD1844)))","v":""}]
[null,null,null,null,null,null,null,null,null,null,null,null,null,null,null,"","",null,null,null,null,{"$f":"IF(referentes!AB1845=\"\",\"\",referentes!AB1845)","v":""},{"$f":"CONCATENATE(IF(referentes!AC1845=\"\",\"\",referentes!AC1845),IF(referentes!AD1845=\"\",\"\",CONCATENATE(\" \",referentes!AD1845)))","v":""}]
[null,null,null,null,null,null,null,null,null,null,null,null,null,null,null,"","",null,null,null,null,{"$f":"IF(referentes!AB1846=\"\",\"\",referentes!AB1846)","v":""},{"$f":"CONCATENATE(IF(referentes!AC1846=\"\",\"\",referentes!AC1846),IF(referentes!AD1846=\"\",\"\",CONCATENATE(\" \",referentes!AD1846)))","v":""}]
[null,null,null,null,null,null,null,null,null,null,null,null,null,null,null,"","",null,null,null,null,{"$f":"IF(referentes!AB1847=\"\",\"\",referentes!AB1847)","v":""},{"$f":"CONCATENATE(IF(referentes!AC1847=\"\",\"\",referentes!AC1847),IF(referentes!AD1847=\"\",\"\",CONCATENATE(\" \",referentes!AD1847)))","v":""}]
[null,null,null,null,null,null,null,null,null,null,null,null,null,null,null,"","",null,null,null,null,{"$f":"IF(referentes!AB1848=\"\",\"\",referentes!AB1848)","v":""},{"$f":"CONCATENATE(IF(referentes!AC1848=\"\",\"\",referentes!AC1848),IF(referentes!AD1848=\"\",\"\",CONCATENATE(\" \",referentes!AD1848)))","v":""}]
[null,null,null,null,null,null,null,null,null,null,null,null,null,null,null,"","",null,null,null,null,{"$f":"IF(referentes!AB1849=\"\",\"\",referentes!AB1849)","v":""},{"$f":"CONCATENATE(IF(referentes!AC1849=\"\",\"\",referentes!AC1849),IF(referentes!AD1849=\"\",\"\",CONCATENATE(\" \",referentes!AD1849)))","v":""}]
[null,null,null,null,null,null,null,null,null,null,null,null,null,null,null,"","",null,null,null,null,{"$f":"IF(referentes!AB1850=\"\",\"\",referentes!AB1850)","v":""},{"$f":"CONCATENATE(IF(referentes!AC1850=\"\",\"\",referentes!AC1850),IF(referentes!AD1850=\"\",\"\",CONCATENATE(\" \",referentes!AD1850)))","v":""}]
[null,null,null,null,null,null,null,null,null,null,null,null,null,null,null,"","",null,null,null,null,{"$f":"IF(referentes!AB1851=\"\",\"\",referentes!AB1851)","v":""},{"$f":"CONCATENATE(IF(referentes!AC1851=\"\",\"\",referentes!AC1851),IF(referentes!AD1851=\"\",\"\",CONCATENATE(\" \",referentes!AD1851)))","v":""}]
[null,null,null,null,null,null,null,null,null,null,null,null,null,null,null,"","",null,null,null,null,{"$f":"IF(referentes!AB1852=\"\",\"\",referentes!AB1852)","v":""},{"$f":"CONCATENATE(IF(referentes!AC1852=\"\",\"\",referentes!AC1852),IF(referentes!AD1852=\"\",\"\",CONCATENATE(\" \",referentes!AD1852)))","v":""}]
[null,null,null,null,null,null,null,null,null,null,null,null,null,null,null,"","",null,null,null,null,{"$f":"IF(referentes!AB1853=\"\",\"\",referentes!AB1853)","v":""},{"$f":"CONCATENATE(IF(referentes!AC1853=\"\",\"\",referentes!AC1853),IF(referentes!AD1853=\"\",\"\",CONCATENATE(\" \",referentes!AD1853)))","v":""}]
[null,null,null,null,null,null,null,null,null,null,null,null,null,null,null,"","",null,null,null,null,{"$f":"IF(referentes!AB1854=\"\",\"\",referentes!AB1854)","v":""},{"$f":"CONCATENATE(IF(referentes!AC1854=\"\",\"\",referentes!AC1854),IF(referentes!AD1854=\"\",\"\",CONCATENATE(\" \",referentes!AD1854)))","v":""}]
[null,null,null,null,null,null,null,null,null,null,null,null,null,null,null,"","",null,null,null,null,{"$f":"IF(referentes!AB1855=\"\",\"\",referentes!AB1855)","v":""},{"$f":"CONCATENATE(IF(referentes!AC1855=\"\",\"\",referentes!AC1855),IF(referentes!AD1855=\"\",\"\",CONCATENATE(\" \",referentes!AD1855)))","v":""}]
[null,null,null,null,null,null,null,null,null,null,null,null,null,null,null,"","",null,null,null,null,{"$f":"IF(referentes!AB1856=\"\",\"\",referentes!AB1856)","v":""},{"$f":"CONCATENATE(IF(referentes!AC1856=\"\",\"\",referentes!AC1856),IF(referentes!AD1856=\"\",\"\",CONCATENATE(\" \",referentes!AD1856)))","v":""}]
[null,null,null,null,null,null,null,null,null,null,null,null,null,null,null,"","",null,null,null,null,{"$f":"IF(referentes!AB1857=\"\",\"\",referentes!AB1857)","v":""},{"$f":"CONCATENATE(IF(referentes!AC1857=\"\",\"\",referentes!AC1857),IF(referentes!AD1857=\"\",\"\",CONCATENATE(\" \",referentes!AD1857)))","v":""}]
[null,null,null,null,null,null,null,null,null,null,null,null,null,null,null,"","",null,null,null,null,{"$f":"IF(referentes!AB1858=\"\",\"\",referentes!AB1858)","v":""},{"$f":"CONCATENATE(IF(referentes!AC1858=\"\",\"\",referentes!AC1858),IF(referentes!AD1858=\"\",\"\",CONCATENATE(\" \",referentes!AD1858)))","v":""}]
[null,null,null,null,null,null,null,null,null,null,null,null,null,null,null,"","",null,null,null,null,{"$f":"IF(referentes!AB1859=\"\",\"\",referentes!AB1859)","v":""},{"$f":"CONCATENATE(IF(referentes!AC1859=\"\",\"\",referentes!AC1859),IF(referentes!AD1859=\"\",\"\",CONCATENATE(\" \",referentes!AD1859)))","v":""}]
[null,null,null,null,null,null,null,null,null,null,null,null,null,null,null,"","",null,null,null,null,{"$f":"IF(referentes!AB1860=\"\",\"\",referentes!AB1860)","v":""},{"$f":"CONCATENATE(IF(referentes!AC1860=\"\",\"\",referentes!AC1860),IF(referentes!AD1860=\"\",\"\",CONCATENATE(\" \",referentes!AD1860)))","v":""}]
[null,null,null,null,null,null,null,null,null,null,null,null,null,null,null,"","",null,null,null,null,{"$f":"IF(referentes!AB1861=\"\",\"\",referentes!AB1861)","v":""},{"$f":"CONCATENATE(IF(referentes!AC1861=\"\",\"\",referentes!AC1861),IF(referentes!AD1861=\"\",\"\",CONCATENATE(\" \",referentes!AD1861)))","v":""}]
[null,null,null,null,null,null,null,null,null,null,null,null,null,null,null,"","",null,null,null,null,{"$f":"IF(referentes!AB1862=\"\",\"\",referentes!AB1862)","v":""},{"$f":"CONCATENATE(IF(referentes!AC1862=\"\",\"\",referentes!AC1862),IF(referentes!AD1862=\"\",\"\",CONCATENATE(\" \",referentes!AD1862)))","v":""}]
[null,null,null,null,null,null,null,null,null,null,null,null,null,null,null,"","",null,null,null,null,{"$f":"IF(referentes!AB1863=\"\",\"\",referentes!AB1863)","v":""},{"$f":"CONCATENATE(IF(referentes!AC1863=\"\",\"\",referentes!AC1863),IF(referentes!AD1863=\"\",\"\",CONCATENATE(\" \",referentes!AD1863)))","v":""}]
[null,null,null,null,null,null,null,null,null,null,null,null,null,null,null,"","",null,null,null,null,{"$f":"IF(referentes!AB1864=\"\",\"\",referentes!AB1864)","v":""},{"$f":"CONCATENATE(IF(referentes!AC1864=\"\",\"\",referentes!AC1864),IF(referentes!AD1864=\"\",\"\",CONCATENATE(\" \",referentes!AD1864)))","v":""}]
[null,null,null,null,null,null,null,null,null,null,null,null,null,null,null,"","",null,null,null,null,{"$f":"IF(referentes!AB1865=\"\",\"\",referentes!AB1865)","v":""},{"$f":"CONCATENATE(IF(referentes!AC1865=\"\",\"\",referentes!AC1865),IF(referentes!AD1865=\"\",\"\",CONCATENATE(\" \",referentes!AD1865)))","v":""}]
[null,null,null,null,null,null,null,null,null,null,null,null,null,null,null,"","",null,null,null,null,{"$f":"IF(referentes!AB1866=\"\",\"\",referentes!AB1866)","v":""},{"$f":"CONCATENATE(IF(referentes!AC1866=\"\",\"\",referentes!AC1866),IF(referentes!AD1866=\"\",\"\",CONCATENATE(\" \",referentes!AD1866)))","v":""}]
[null,null,null,null,null,null,null,null,null,null,null,null,null,null,null,"","",null,null,null,null,{"$f":"IF(referentes!AB1867=\"\",\"\",referentes!AB1867)","v":""},{"$f":"CONCATENATE(IF(referentes!AC1867=\"\",\"\",referentes!AC1867),IF(referentes!AD1867=\"\",\"\",CONCATENATE(\" \",referentes!AD1867)))","v":""}]
[null,null,null,null,null,null,null,null,null,null,null,null,null,null,null,"","",null,null,null,null,{"$f":"IF(referentes!AB1868=\"\",\"\",referentes!AB1868)","v":""},{"$f":"CONCATENATE(IF(referentes!AC1868=\"\",\"\",referentes!AC1868),IF(referentes!AD1868=\"\",\"\",CONCATENATE(\" \",referentes!AD1868)))","v":""}]
[null,null,null,null,null,null,null,null,null,null,null,null,null,null,null,"","",null,null,null,null,{"$f":"IF(referentes!AB1869=\"\",\"\",referentes!AB1869)","v":""},{"$f":"CONCATENATE(IF(referentes!AC1869=\"\",\"\",referentes!AC1869),IF(referentes!AD1869=\"\",\"\",CONCATENATE(\" \",referentes!AD1869)))","v":""}]
[null,null,null,null,null,null,null,null,null,null,null,null,null,null,null,"","",null,null,null,null,{"$f":"IF(referentes!AB1870=\"\",\"\",referentes!AB1870)","v":""},{"$f":"CONCATENATE(IF(referentes!AC1870=\"\",\"\",referentes!AC1870),IF(referentes!AD1870=\"\",\"\",CONCATENATE(\" \",referentes!AD1870)))","v":""}]
[null,null,null,null,null,null,null,null,null,null,null,null,null,null,null,"","",null,null,null,null,{"$f":"IF(referentes!AB1871=\"\",\"\",referentes!AB1871)","v":""},{"$f":"CONCATENATE(IF(referentes!AC1871=\"\",\"\",referentes!AC1871),IF(referentes!AD1871=\"\",\"\",CONCATENATE(\" \",referentes!AD1871)))","v":""}]
[null,null,null,null,null,null,null,null,null,null,null,null,null,null,null,"","",null,null,null,null,{"$f":"IF(referentes!AB1872=\"\",\"\",referentes!AB1872)","v":""},{"$f":"CONCATENATE(IF(referentes!AC1872=\"\",\"\",referentes!AC1872),IF(referentes!AD1872=\"\",\"\",CONCATENATE(\" \",referentes!AD1872)))","v":""}]
[null,null,null,null,null,null,null,null,null,null,null,null,null,null,null,"","",null,null,null,null,{"$f":"IF(referentes!AB1873=\"\",\"\",referentes!AB1873)","v":""},{"$f":"CONCATENATE(IF(referentes!AC1873=\"\",\"\",referentes!AC1873),IF(referentes!AD1873=\"\",\"\",CONCATENATE(\" \",referentes!AD1873)))","v":""}]
[null,null,null,null,null,null,null,null,null,null,null,null,null,null,null,"","",null,null,null,null,{"$f":"IF(referentes!AB1874=\"\",\"\",referentes!AB1874)","v":""},{"$f":"CONCATENATE(IF(referentes!AC1874=\"\",\"\",referentes!AC1874),IF(referentes!AD1874=\"\",\"\",CONCATENATE(\" \",referentes!AD1874)))","v":""}]
[null,null,null,null,null,null,null,null,null,null,null,null,null,null,null,"","",null,null,null,null,{"$f":"IF(referentes!AB1875=\"\",\"\",referentes!AB1875)","v":""},{"$f":"CONCATENATE(IF(referentes!AC1875=\"\",\"\",referentes!AC1875),IF(referentes!AD1875=\"\",\"\",CONCATENATE(\" \",referentes!AD1875)))","v":""}]
[null,null,null,null,null,null,null,null,null,null,null,null,null,null,null,"","",null,null,null,null,{"$f":"IF(referentes!AB1876=\"\",\"\",referentes!AB1876)","v":""},{"$f":"CONCATENATE(IF(referentes!AC1876=\"\",\"\",referentes!AC1876),IF(referentes!AD1876=\"\",\"\",CONCATENATE(\" \",referentes!AD1876)))","v":""}]
[null,null,null,null,null,null,null,null,null,null,null,null,null,null,null,"","",null,null,null,null,{"$f":"IF(referentes!AB1877=\"\",\"\",referentes!AB1877)","v":""},{"$f":"CONCATENATE(IF(referentes!AC1877=\"\",\"\",referentes!AC1877),IF(referentes!AD1877=\"\",\"\",CONCATENATE(\" \",referentes!AD1877)))","v":""}]
[null,null,null,null,null,null,null,null,null,null,null,null,null,null,null,"","",null,null,null,null,{"$f":"IF(referentes!AB1878=\"\",\"\",referentes!AB1878)","v":""},{"$f":"CONCATENATE(IF(referentes!AC1878=\"\",\"\",referentes!AC1878),IF(referentes!AD1878=\"\",\"\",CONCATENATE(\" \",referentes!AD1878)))","v":""}]
[null,null,null,null,null,null,null,null,null,null,null,null,null,null,null,"","",null,null,null,null,{"$f":"IF(referentes!AB1879=\"\",\"\",referentes!AB1879)","v":""},{"$f":"CONCATENATE(IF(referentes!AC1879=\"\",\"\",referentes!AC1879),IF(referentes!AD1879=\"\",\"\",CONCATENATE(\" \",referentes!AD1879)))","v":""}]
[null,null,null,null,null,null,null,null,null,null,null,null,null,null,null,"","",null,null,null,null,{"$f":"IF(referentes!AB1880=\"\",\"\",referentes!AB1880)","v":""},{"$f":"CONCATENATE(IF(referentes!AC1880=\"\",\"\",referentes!AC1880),IF(referentes!AD1880=\"\",\"\",CONCATENATE(\" \",referentes!AD1880)))","v":""}]
[null,null,null,null,null,null,null,null,null,null,null,null,null,null,null,"","",null,null,null,null,{"$f":"IF(referentes!AB1881=\"\",\"\",referentes!AB1881)","v":""},{"$f":"CONCATENATE(IF(referentes!AC1881=\"\",\"\",referentes!AC1881),IF(referentes!AD1881=\"\",\"\",CONCATENATE(\" \",referentes!AD1881)))","v":""}]
[null,null,null,null,null,null,null,null,null,null,null,null,null,null,null,"","",null,null,null,null,{"$f":"IF(referentes!AB1882=\"\",\"\",referentes!AB1882)","v":""},{"$f":"CONCATENATE(IF(referentes!AC1882=\"\",\"\",referentes!AC1882),IF(referentes!AD1882=\"\",\"\",CONCATENATE(\" \",referentes!AD1882)))","v":""}]
[null,null,null,null,null,null,null,null,null,null,null,null,null,null,null,"","",null,null,null,null,{"$f":"IF(referentes!AB1883=\"\",\"\",referentes!AB1883)","v":""},{"$f":"CONCATENATE(IF(referentes!AC1883=\"\",\"\",referentes!AC1883),IF(referentes!AD1883=\"\",\"\",CONCATENATE(\" \",referentes!AD1883)))","v":""}]
[null,null,null,null,null,null,null,null,null,null,null,null,null,null,null,"","",null,null,null,null,{"$f":"IF(referentes!AB1884=\"\",\"\",referentes!AB1884)","v":""},{"$f":"CONCATENATE(IF(referentes!AC1884=\"\",\"\",referentes!AC1884),IF(referentes!AD1884=\"\",\"\",CONCATENATE(\" \",referentes!AD1884)))","v":""}]
[null,null,null,null,null,null,null,null,null,null,null,null,null,null,null,"","",null,null,null,null,{"$f":"IF(referentes!AB1885=\"\",\"\",referentes!AB1885)","v":""},{"$f":"CONCATENATE(IF(referentes!AC1885=\"\",\"\",referentes!AC1885),IF(referentes!AD1885=\"\",\"\",CONCATENATE(\" \",referentes!AD1885)))","v":""}]
[null,null,null,null,null,null,null,null,null,null,null,null,null,null,null,"","",null,null,null,null,{"$f":"IF(referentes!AB1886=\"\",\"\",referentes!AB1886)","v":""},{"$f":"CONCATENATE(IF(referentes!AC1886=\"\",\"\",referentes!AC1886),IF(referentes!AD1886=\"\",\"\",CONCATENATE(\" \",referentes!AD1886)))","v":""}]
[null,null,null,null,null,null,null,null,null,null,null,null,null,null,null,"","",null,null,null,null,{"$f":"IF(referentes!AB1887=\"\",\"\",referentes!AB1887)","v":""},{"$f":"CONCATENATE(IF(referentes!AC1887=\"\",\"\",referentes!AC1887),IF(referentes!AD1887=\"\",\"\",CONCATENATE(\" \",referentes!AD1887)))","v":""}]
[null,null,null,null,null,null,null,null,null,null,null,null,null,null,null,"","",null,null,null,null,{"$f":"IF(referentes!AB1888=\"\",\"\",referentes!AB1888)","v":""},{"$f":"CONCATENATE(IF(referentes!AC1888=\"\",\"\",referentes!AC1888),IF(referentes!AD1888=\"\",\"\",CONCATENATE(\" \",referentes!AD1888)))","v":""}]
[null,null,null,null,null,null,null,null,null,null,null,null,null,null,null,"","",null,null,null,null,{"$f":"IF(referentes!AB1889=\"\",\"\",referentes!AB1889)","v":""},{"$f":"CONCATENATE(IF(referentes!AC1889=\"\",\"\",referentes!AC1889),IF(referentes!AD1889=\"\",\"\",CONCATENATE(\" \",referentes!AD1889)))","v":""}]
[null,null,null,null,null,null,null,null,null,null,null,null,null,null,null,"","",null,null,null,null,{"$f":"IF(referentes!AB1890=\"\",\"\",referentes!AB1890)","v":""},{"$f":"CONCATENATE(IF(referentes!AC1890=\"\",\"\",referentes!AC1890),IF(referentes!AD1890=\"\",\"\",CONCATENATE(\" \",referentes!AD1890)))","v":""}]
[null,null,null,null,null,null,null,null,null,null,null,null,null,null,null,"","",null,null,null,null,{"$f":"IF(referentes!AB1891=\"\",\"\",referentes!AB1891)","v":""},{"$f":"CONCATENATE(IF(referentes!AC1891=\"\",\"\",referentes!AC1891),IF(referentes!AD1891=\"\",\"\",CONCATENATE(\" \",referentes!AD1891)))","v":""}]
[null,null,null,null,null,null,null,null,null,null,null,null,null,null,null,"","",null,null,null,null,{"$f":"IF(referentes!AB1892=\"\",\"\",referentes!AB1892)","v":""},{"$f":"CONCATENATE(IF(referentes!AC1892=\"\",\"\",referentes!AC1892),IF(referentes!AD1892=\"\",\"\",CONCATENATE(\" \",referentes!AD1892)))","v":""}]
[null,null,null,null,null,null,null,null,null,null,null,null,null,null,null,"","",null,null,null,null,{"$f":"IF(referentes!AB1893=\"\",\"\",referentes!AB1893)","v":""},{"$f":"CONCATENATE(IF(referentes!AC1893=\"\",\"\",referentes!AC1893),IF(referentes!AD1893=\"\",\"\",CONCATENATE(\" \",referentes!AD1893)))","v":""}]
[null,null,null,null,null,null,null,null,null,null,null,null,null,null,null,"","",null,null,null,null,{"$f":"IF(referentes!AB1894=\"\",\"\",referentes!AB1894)","v":""},{"$f":"CONCATENATE(IF(referentes!AC1894=\"\",\"\",referentes!AC1894),IF(referentes!AD1894=\"\",\"\",CONCATENATE(\" \",referentes!AD1894)))","v":""}]
[null,null,null,null,null,null,null,null,null,null,null,null,null,null,null,"","",null,null,null,null,{"$f":"IF(referentes!AB1895=\"\",\"\",referentes!AB1895)","v":""},{"$f":"CONCATENATE(IF(referentes!AC1895=\"\",\"\",referentes!AC1895),IF(referentes!AD1895=\"\",\"\",CONCATENATE(\" \",referentes!AD1895)))","v":""}]
[null,null,null,null,null,null,null,null,null,null,null,null,null,null,null,"","",null,null,null,null,{"$f":"IF(referentes!AB1896=\"\",\"\",referentes!AB1896)","v":""},{"$f":"CONCATENATE(IF(referentes!AC1896=\"\",\"\",referentes!AC1896),IF(referentes!AD1896=\"\",\"\",CONCATENATE(\" \",referentes!AD1896)))","v":""}]
[null,null,null,null,null,null,null,null,null,null,null,null,null,null,null,"","",null,null,null,null,{"$f":"IF(referentes!AB1897=\"\",\"\",referentes!AB1897)","v":""},{"$f":"CONCATENATE(IF(referentes!AC1897=\"\",\"\",referentes!AC1897),IF(referentes!AD1897=\"\",\"\",CONCATENATE(\" \",referentes!AD1897)))","v":""}]
[null,null,null,null,null,null,null,null,null,null,null,null,null,null,null,"","",null,null,null,null,{"$f":"IF(referentes!AB1898=\"\",\"\",referentes!AB1898)","v":""},{"$f":"CONCATENATE(IF(referentes!AC1898=\"\",\"\",referentes!AC1898),IF(referentes!AD1898=\"\",\"\",CONCATENATE(\" \",referentes!AD1898)))","v":""}]
[null,null,null,null,null,null,null,null,null,null,null,null,null,null,null,"","",null,null,null,null,{"$f":"IF(referentes!AB1899=\"\",\"\",referentes!AB1899)","v":""},{"$f":"CONCATENATE(IF(referentes!AC1899=\"\",\"\",referentes!AC1899),IF(referentes!AD1899=\"\",\"\",CONCATENATE(\" \",referentes!AD1899)))","v":""}]
[null,null,null,null,null,null,null,null,null,null,null,null,null,null,null,"","",null,null,null,null,{"$f":"IF(referentes!AB1900=\"\",\"\",referentes!AB1900)","v":""},{"$f":"CONCATENATE(IF(referentes!AC1900=\"\",\"\",referentes!AC1900),IF(referentes!AD1900=\"\",\"\",CONCATENATE(\" \",referentes!AD1900)))","v":""}]
[null,null,null,null,null,null,null,null,null,null,null,null,null,null,null,"","",null,null,null,null,{"$f":"IF(referentes!AB1901=\"\",\"\",referentes!AB1901)","v":""},{"$f":"CONCATENATE(IF(referentes!AC1901=\"\",\"\",referentes!AC1901),IF(referentes!AD1901=\"\",\"\",CONCATENATE(\" \",referentes!AD1901)))","v":""}]
[null,null,null,null,null,null,null,null,null,null,null,null,null,null,null,"","",null,null,null,null,{"$f":"IF(referentes!AB1902=\"\",\"\",referentes!AB1902)","v":""},{"$f":"CONCATENATE(IF(referentes!AC1902=\"\",\"\",referentes!AC1902),IF(referentes!AD1902=\"\",\"\",CONCATENATE(\" \",referentes!AD1902)))","v":""}]
[null,null,null,null,null,null,null,null,null,null,null,null,null,null,null,"","",null,null,null,null,{"$f":"IF(referentes!AB1903=\"\",\"\",referentes!AB1903)","v":""},{"$f":"CONCATENATE(IF(referentes!AC1903=\"\",\"\",referentes!AC1903),IF(referentes!AD1903=\"\",\"\",CONCATENATE(\" \",referentes!AD1903)))","v":""}]
[null,null,null,null,null,null,null,null,null,null,null,null,null,null,null,"","",null,null,null,null,{"$f":"IF(referentes!AB1904=\"\",\"\",referentes!AB1904)","v":""},{"$f":"CONCATENATE(IF(referentes!AC1904=\"\",\"\",referentes!AC1904),IF(referentes!AD1904=\"\",\"\",CONCATENATE(\" \",referentes!AD1904)))","v":""}]
[null,null,null,null,null,null,null,null,null,null,null,null,null,null,null,"","",null,null,null,null,{"$f":"IF(referentes!AB1905=\"\",\"\",referentes!AB1905)","v":""},{"$f":"CONCATENATE(IF(referentes!AC1905=\"\",\"\",referentes!AC1905),IF(referentes!AD1905=\"\",\"\",CONCATENATE(\" \",referentes!AD1905)))","v":""}]
[null,null,null,null,null,null,null,null,null,null,null,null,null,null,null,"","",null,null,null,null,{"$f":"IF(referentes!AB1906=\"\",\"\",referentes!AB1906)","v":""},{"$f":"CONCATENATE(IF(referentes!AC1906=\"\",\"\",referentes!AC1906),IF(referentes!AD1906=\"\",\"\",CONCATENATE(\" \",referentes!AD1906)))","v":""}]
[null,null,null,null,null,null,null,null,null,null,null,null,null,null,null,"","",null,null,null,null,{"$f":"IF(referentes!AB1907=\"\",\"\",referentes!AB1907)","v":""},{"$f":"CONCATENATE(IF(referentes!AC1907=\"\",\"\",referentes!AC1907),IF(referentes!AD1907=\"\",\"\",CONCATENATE(\" \",referentes!AD1907)))","v":""}]
[null,null,null,null,null,null,null,null,null,null,null,null,null,null,null,"","",null,null,null,null,{"$f":"IF(referentes!AB1908=\"\",\"\",referentes!AB1908)","v":""},{"$f":"CONCATENATE(IF(referentes!AC1908=\"\",\"\",referentes!AC1908),IF(referentes!AD1908=\"\",\"\",CONCATENATE(\" \",referentes!AD1908)))","v":""}]
[null,null,null,null,null,null,null,null,null,null,null,null,null,null,null,"","",null,null,null,null,{"$f":"IF(referentes!AB1909=\"\",\"\",referentes!AB1909)","v":""},{"$f":"CONCATENATE(IF(referentes!AC1909=\"\",\"\",referentes!AC1909),IF(referentes!AD1909=\"\",\"\",CONCATENATE(\" \",referentes!AD1909)))","v":""}]
[null,null,null,null,null,null,null,null,null,null,null,null,null,null,null,"","",null,null,null,null,{"$f":"IF(referentes!AB1910=\"\",\"\",referentes!AB1910)","v":""},{"$f":"CONCATENATE(IF(referentes!AC1910=\"\",\"\",referentes!AC1910),IF(referentes!AD1910=\"\",\"\",CONCATENATE(\" \",referentes!AD1910)))","v":""}]
[null,null,null,null,null,null,null,null,null,null,null,null,null,null,null,"","",null,null,null,null,{"$f":"IF(referentes!AB1911=\"\",\"\",referentes!AB1911)","v":""},{"$f":"CONCATENATE(IF(referentes!AC1911=\"\",\"\",referentes!AC1911),IF(referentes!AD1911=\"\",\"\",CONCATENATE(\" \",referentes!AD1911)))","v":""}]
[null,null,null,null,null,null,null,null,null,null,null,null,null,null,null,"","",null,null,null,null,{"$f":"IF(referentes!AB1912=\"\",\"\",referentes!AB1912)","v":""},{"$f":"CONCATENATE(IF(referentes!AC1912=\"\",\"\",referentes!AC1912),IF(referentes!AD1912=\"\",\"\",CONCATENATE(\" \",referentes!AD1912)))","v":""}]
[null,null,null,null,null,null,null,null,null,null,null,null,null,null,null,"","",null,null,null,null,{"$f":"IF(referentes!AB1913=\"\",\"\",referentes!AB1913)","v":""},{"$f":"CONCATENATE(IF(referentes!AC1913=\"\",\"\",referentes!AC1913),IF(referentes!AD1913=\"\",\"\",CONCATENATE(\" \",referentes!AD1913)))","v":""}]
[null,null,null,null,null,null,null,null,null,null,null,null,null,null,null,"","",null,null,null,null,{"$f":"IF(referentes!AB1914=\"\",\"\",referentes!AB1914)","v":""},{"$f":"CONCATENATE(IF(referentes!AC1914=\"\",\"\",referentes!AC1914),IF(referentes!AD1914=\"\",\"\",CONCATENATE(\" \",referentes!AD1914)))","v":""}]
[null,null,null,null,null,null,null,null,null,null,null,null,null,null,null,"","",null,null,null,null,{"$f":"IF(referentes!AB1915=\"\",\"\",referentes!AB1915)","v":""},{"$f":"CONCATENATE(IF(referentes!AC1915=\"\",\"\",referentes!AC1915),IF(referentes!AD1915=\"\",\"\",CONCATENATE(\" \",referentes!AD1915)))","v":""}]
[null,null,null,null,null,null,null,null,null,null,null,null,null,null,null,"","",null,null,null,null,{"$f":"IF(referentes!AB1916=\"\",\"\",referentes!AB1916)","v":""},{"$f":"CONCATENATE(IF(referentes!AC1916=\"\",\"\",referentes!AC1916),IF(referentes!AD1916=\"\",\"\",CONCATENATE(\" \",referentes!AD1916)))","v":""}]
[null,null,null,null,null,null,null,null,null,null,null,null,null,null,null,"","",null,null,null,null,{"$f":"IF(referentes!AB1917=\"\",\"\",referentes!AB1917)","v":""},{"$f":"CONCATENATE(IF(referentes!AC1917=\"\",\"\",referentes!AC1917),IF(referentes!AD1917=\"\",\"\",CONCATENATE(\" \",referentes!AD1917)))","v":""}]
[null,null,null,null,null,null,null,null,null,null,null,null,null,null,null,"","",null,null,null,null,{"$f":"IF(referentes!AB1918=\"\",\"\",referentes!AB1918)","v":""},{"$f":"CONCATENATE(IF(referentes!AC1918=\"\",\"\",referentes!AC1918),IF(referentes!AD1918=\"\",\"\",CONCATENATE(\" \",referentes!AD1918)))","v":""}]
[null,null,null,null,null,null,null,null,null,null,null,null,null,null,null,"","",null,null,null,null,{"$f":"IF(referentes!AB1919=\"\",\"\",referentes!AB1919)","v":""},{"$f":"CONCATENATE(IF(referentes!AC1919=\"\",\"\",referentes!AC1919),IF(referentes!AD1919=\"\",\"\",CONCATENATE(\" \",referentes!AD1919)))","v":""}]
[null,null,null,null,null,null,null,null,null,null,null,null,null,null,null,"","",null,null,null,null,{"$f":"IF(referentes!AB1920=\"\",\"\",referentes!AB1920)","v":""},{"$f":"CONCATENATE(IF(referentes!AC1920=\"\",\"\",referentes!AC1920),IF(referentes!AD1920=\"\",\"\",CONCATENATE(\" \",referentes!AD1920)))","v":""}]
[null,null,null,null,null,null,null,null,null,null,null,null,null,null,null,"","",null,null,null,null,{"$f":"IF(referentes!AB1921=\"\",\"\",referentes!AB1921)","v":""},{"$f":"CONCATENATE(IF(referentes!AC1921=\"\",\"\",referentes!AC1921),IF(referentes!AD1921=\"\",\"\",CONCATENATE(\" \",referentes!AD1921)))","v":""}]
[null,null,null,null,null,null,null,null,null,null,null,null,null,null,null,"","",null,null,null,null,{"$f":"IF(referentes!AB1922=\"\",\"\",referentes!AB1922)","v":""},{"$f":"CONCATENATE(IF(referentes!AC1922=\"\",\"\",referentes!AC1922),IF(referentes!AD1922=\"\",\"\",CONCATENATE(\" \",referentes!AD1922)))","v":""}]
[null,null,null,null,null,null,null,null,null,null,null,null,null,null,null,"","",null,null,null,null,{"$f":"IF(referentes!AB1923=\"\",\"\",referentes!AB1923)","v":""},{"$f":"CONCATENATE(IF(referentes!AC1923=\"\",\"\",referentes!AC1923),IF(referentes!AD1923=\"\",\"\",CONCATENATE(\" \",referentes!AD1923)))","v":""}]
[null,null,null,null,null,null,null,null,null,null,null,null,null,null,null,"","",null,null,null,null,{"$f":"IF(referentes!AB1924=\"\",\"\",referentes!AB1924)","v":""},{"$f":"CONCATENATE(IF(referentes!AC1924=\"\",\"\",referentes!AC1924),IF(referentes!AD1924=\"\",\"\",CONCATENATE(\" \",referentes!AD1924)))","v":""}]
[null,null,null,null,null,null,null,null,null,null,null,null,null,null,null,"","",null,null,null,null,{"$f":"IF(referentes!AB1925=\"\",\"\",referentes!AB1925)","v":""},{"$f":"CONCATENATE(IF(referentes!AC1925=\"\",\"\",referentes!AC1925),IF(referentes!AD1925=\"\",\"\",CONCATENATE(\" \",referentes!AD1925)))","v":""}]
[null,null,null,null,null,null,null,null,null,null,null,null,null,null,null,"","",null,null,null,null,{"$f":"IF(referentes!AB1926=\"\",\"\",referentes!AB1926)","v":""},{"$f":"CONCATENATE(IF(referentes!AC1926=\"\",\"\",referentes!AC1926),IF(referentes!AD1926=\"\",\"\",CONCATENATE(\" \",referentes!AD1926)))","v":""}]
[null,null,null,null,null,null,null,null,null,null,null,null,null,null,null,"","",null,null,null,null,{"$f":"IF(referentes!AB1927=\"\",\"\",referentes!AB1927)","v":""},{"$f":"CONCATENATE(IF(referentes!AC1927=\"\",\"\",referentes!AC1927),IF(referentes!AD1927=\"\",\"\",CONCATENATE(\" \",referentes!AD1927)))","v":""}]
[null,null,null,null,null,null,null,null,null,null,null,null,null,null,null,"","",null,null,null,null,{"$f":"IF(referentes!AB1928=\"\",\"\",referentes!AB1928)","v":""},{"$f":"CONCATENATE(IF(referentes!AC1928=\"\",\"\",referentes!AC1928),IF(referentes!AD1928=\"\",\"\",CONCATENATE(\" \",referentes!AD1928)))","v":""}]
[null,null,null,null,null,null,null,null,null,null,null,null,null,null,null,"","",null,null,null,null,{"$f":"IF(referentes!AB1929=\"\",\"\",referentes!AB1929)","v":""},{"$f":"CONCATENATE(IF(referentes!AC1929=\"\",\"\",referentes!AC1929),IF(referentes!AD1929=\"\",\"\",CONCATENATE(\" \",referentes!AD1929)))","v":""}]
[null,null,null,null,null,null,null,null,null,null,null,null,null,null,null,"","",null,null,null,null,{"$f":"IF(referentes!AB1930=\"\",\"\",referentes!AB1930)","v":""},{"$f":"CONCATENATE(IF(referentes!AC1930=\"\",\"\",referentes!AC1930),IF(referentes!AD1930=\"\",\"\",CONCATENATE(\" \",referentes!AD1930)))","v":""}]
[null,null,null,null,null,null,null,null,null,null,null,null,null,null,null,"","",null,null,null,null,{"$f":"IF(referentes!AB1931=\"\",\"\",referentes!AB1931)","v":""},{"$f":"CONCATENATE(IF(referentes!AC1931=\"\",\"\",referentes!AC1931),IF(referentes!AD1931=\"\",\"\",CONCATENATE(\" \",referentes!AD1931)))","v":""}]
[null,null,null,null,null,null,null,null,null,null,null,null,null,null,null,"","",null,null,null,null,{"$f":"IF(referentes!AB1932=\"\",\"\",referentes!AB1932)","v":""},{"$f":"CONCATENATE(IF(referentes!AC1932=\"\",\"\",referentes!AC1932),IF(referentes!AD1932=\"\",\"\",CONCATENATE(\" \",referentes!AD1932)))","v":""}]
[null,null,null,null,null,null,null,null,null,null,null,null,null,null,null,"","",null,null,null,null,{"$f":"IF(referentes!AB1933=\"\",\"\",referentes!AB1933)","v":""},{"$f":"CONCATENATE(IF(referentes!AC1933=\"\",\"\",referentes!AC1933),IF(referentes!AD1933=\"\",\"\",CONCATENATE(\" \",referentes!AD1933)))","v":""}]
[null,null,null,null,null,null,null,null,null,null,null,null,null,null,null,"","",null,null,null,null,{"$f":"IF(referentes!AB1934=\"\",\"\",referentes!AB1934)","v":""},{"$f":"CONCATENATE(IF(referentes!AC1934=\"\",\"\",referentes!AC1934),IF(referentes!AD1934=\"\",\"\",CONCATENATE(\" \",referentes!AD1934)))","v":""}]
[null,null,null,null,null,null,null,null,null,null,null,null,null,null,null,"","",null,null,null,null,{"$f":"IF(referentes!AB1935=\"\",\"\",referentes!AB1935)","v":""},{"$f":"CONCATENATE(IF(referentes!AC1935=\"\",\"\",referentes!AC1935),IF(referentes!AD1935=\"\",\"\",CONCATENATE(\" \",referentes!AD1935)))","v":""}]
[null,null,null,null,null,null,null,null,null,null,null,null,null,null,null,"","",null,null,null,null,{"$f":"IF(referentes!AB1936=\"\",\"\",referentes!AB1936)","v":""},{"$f":"CONCATENATE(IF(referentes!AC1936=\"\",\"\",referentes!AC1936),IF(referentes!AD1936=\"\",\"\",CONCATENATE(\" \",referentes!AD1936)))","v":""}]
[null,null,null,null,null,null,null,null,null,null,null,null,null,null,null,"","",null,null,null,null,{"$f":"IF(referentes!AB1937=\"\",\"\",referentes!AB1937)","v":""},{"$f":"CONCATENATE(IF(referentes!AC1937=\"\",\"\",referentes!AC1937),IF(referentes!AD1937=\"\",\"\",CONCATENATE(\" \",referentes!AD1937)))","v":""}]
[null,null,null,null,null,null,null,null,null,null,null,null,null,null,null,"","",null,null,null,null,{"$f":"IF(referentes!AB1938=\"\",\"\",referentes!AB1938)","v":""},{"$f":"CONCATENATE(IF(referentes!AC1938=\"\",\"\",referentes!AC1938),IF(referentes!AD1938=\"\",\"\",CONCATENATE(\" \",referentes!AD1938)))","v":""}]
[null,null,null,null,null,null,null,null,null,null,null,null,null,null,null,"","",null,null,null,null,{"$f":"IF(referentes!AB1939=\"\",\"\",referentes!AB1939)","v":""},{"$f":"CONCATENATE(IF(referentes!AC1939=\"\",\"\",referentes!AC1939),IF(referentes!AD1939=\"\",\"\",CONCATENATE(\" \",referentes!AD1939)))","v":""}]
[null,null,null,null,null,null,null,null,null,null,null,null,null,null,null,"","",null,null,null,null,{"$f":"IF(referentes!AB1940=\"\",\"\",referentes!AB1940)","v":""},{"$f":"CONCATENATE(IF(referentes!AC1940=\"\",\"\",referentes!AC1940),IF(referentes!AD1940=\"\",\"\",CONCATENATE(\" \",referentes!AD1940)))","v":""}]
[null,null,null,null,null,null,null,null,null,null,null,null,null,null,null,"","",null,null,null,null,{"$f":"IF(referentes!AB1941=\"\",\"\",referentes!AB1941)","v":""},{"$f":"CONCATENATE(IF(referentes!AC1941=\"\",\"\",referentes!AC1941),IF(referentes!AD1941=\"\",\"\",CONCATENATE(\" \",referentes!AD1941)))","v":""}]
[null,null,null,null,null,null,null,null,null,null,null,null,null,null,null,"","",null,null,null,null,{"$f":"IF(referentes!AB1942=\"\",\"\",referentes!AB1942)","v":""},{"$f":"CONCATENATE(IF(referentes!AC1942=\"\",\"\",referentes!AC1942),IF(referentes!AD1942=\"\",\"\",CONCATENATE(\" \",referentes!AD1942)))","v":""}]
[null,null,null,null,null,null,null,null,null,null,null,null,null,null,null,"","",null,null,null,null,{"$f":"IF(referentes!AB1943=\"\",\"\",referentes!AB1943)","v":""},{"$f":"CONCATENATE(IF(referentes!AC1943=\"\",\"\",referentes!AC1943),IF(referentes!AD1943=\"\",\"\",CONCATENATE(\" \",referentes!AD1943)))","v":""}]
[null,null,null,null,null,null,null,null,null,null,null,null,null,null,null,"","",null,null,null,null,{"$f":"IF(referentes!AB1944=\"\",\"\",referentes!AB1944)","v":""},{"$f":"CONCATENATE(IF(referentes!AC1944=\"\",\"\",referentes!AC1944),IF(referentes!AD1944=\"\",\"\",CONCATENATE(\" \",referentes!AD1944)))","v":""}]
[null,null,null,null,null,null,null,null,null,null,null,null,null,null,null,"","",null,null,null,null,{"$f":"IF(referentes!AB1945=\"\",\"\",referentes!AB1945)","v":""},{"$f":"CONCATENATE(IF(referentes!AC1945=\"\",\"\",referentes!AC1945),IF(referentes!AD1945=\"\",\"\",CONCATENATE(\" \",referentes!AD1945)))","v":""}]
[null,null,null,null,null,null,null,null,null,null,null,null,null,null,null,"","",null,null,null,null,{"$f":"IF(referentes!AB1946=\"\",\"\",referentes!AB1946)","v":""},{"$f":"CONCATENATE(IF(referentes!AC1946=\"\",\"\",referentes!AC1946),IF(referentes!AD1946=\"\",\"\",CONCATENATE(\" \",referentes!AD1946)))","v":""}]
[null,null,null,null,null,null,null,null,null,null,null,null,null,null,null,"","",null,null,null,null,{"$f":"IF(referentes!AB1947=\"\",\"\",referentes!AB1947)","v":""},{"$f":"CONCATENATE(IF(referentes!AC1947=\"\",\"\",referentes!AC1947),IF(referentes!AD1947=\"\",\"\",CONCATENATE(\" \",referentes!AD1947)))","v":""}]
[null,null,null,null,null,null,null,null,null,null,null,null,null,null,null,"","",null,null,null,null,{"$f":"IF(referentes!AB1948=\"\",\"\",referentes!AB1948)","v":""},{"$f":"CONCATENATE(IF(referentes!AC1948=\"\",\"\",referentes!AC1948),IF(referentes!AD1948=\"\",\"\",CONCATENATE(\" \",referentes!AD1948)))","v":""}]
[null,null,null,null,null,null,null,null,null,null,null,null,null,null,null,"","",null,null,null,null,{"$f":"IF(referentes!AB1949=\"\",\"\",referentes!AB1949)","v":""},{"$f":"CONCATENATE(IF(referentes!AC1949=\"\",\"\",referentes!AC1949),IF(referentes!AD1949=\"\",\"\",CONCATENATE(\" \",referentes!AD1949)))","v":""}]
[null,null,null,null,null,null,null,null,null,null,null,null,null,null,null,"","",null,null,null,null,{"$f":"IF(referentes!AB1950=\"\",\"\",referentes!AB1950)","v":""},{"$f":"CONCATENATE(IF(referentes!AC1950=\"\",\"\",referentes!AC1950),IF(referentes!AD1950=\"\",\"\",CONCATENATE(\" \",referentes!AD1950)))","v":""}]
[null,null,null,null,null,null,null,null,null,null,null,null,null,null,null,"","",null,null,null,null,{"$f":"IF(referentes!AB1951=\"\",\"\",referentes!AB1951)","v":""},{"$f":"CONCATENATE(IF(referentes!AC1951=\"\",\"\",referentes!AC1951),IF(referentes!AD1951=\"\",\"\",CONCATENATE(\" \",referentes!AD1951)))","v":""}]
[null,null,null,null,null,null,null,null,null,null,null,null,null,null,null,"","",null,null,null,null,{"$f":"IF(referentes!AB1952=\"\",\"\",referentes!AB1952)","v":""},{"$f":"CONCATENATE(IF(referentes!AC1952=\"\",\"\",referentes!AC1952),IF(referentes!AD1952=\"\",\"\",CONCATENATE(\" \",referentes!AD1952)))","v":""}]
[null,null,null,null,null,null,null,null,null,null,null,null,null,null,null,"","",null,null,null,null,{"$f":"IF(referentes!AB1953=\"\",\"\",referentes!AB1953)","v":""},{"$f":"CONCATENATE(IF(referentes!AC1953=\"\",\"\",referentes!AC1953),IF(referentes!AD1953=\"\",\"\",CONCATENATE(\" \",referentes!AD1953)))","v":""}]
[null,null,null,null,null,null,null,null,null,null,null,null,null,null,null,"","",null,null,null,null,{"$f":"IF(referentes!AB1954=\"\",\"\",referentes!AB1954)","v":""},{"$f":"CONCATENATE(IF(referentes!AC1954=\"\",\"\",referentes!AC1954),IF(referentes!AD1954=\"\",\"\",CONCATENATE(\" \",referentes!AD1954)))","v":""}]
[null,null,null,null,null,null,null,null,null,null,null,null,null,null,null,"","",null,null,null,null,{"$f":"IF(referentes!AB1955=\"\",\"\",referentes!AB1955)","v":""},{"$f":"CONCATENATE(IF(referentes!AC1955=\"\",\"\",referentes!AC1955),IF(referentes!AD1955=\"\",\"\",CONCATENATE(\" \",referentes!AD1955)))","v":""}]
[null,null,null,null,null,null,null,null,null,null,null,null,null,null,null,"","",null,null,null,null,{"$f":"IF(referentes!AB1956=\"\",\"\",referentes!AB1956)","v":""},{"$f":"CONCATENATE(IF(referentes!AC1956=\"\",\"\",referentes!AC1956),IF(referentes!AD1956=\"\",\"\",CONCATENATE(\" \",referentes!AD1956)))","v":""}]
[null,null,null,null,null,null,null,null,null,null,null,null,null,null,null,"","",null,null,null,null,{"$f":"IF(referentes!AB1957=\"\",\"\",referentes!AB1957)","v":""},{"$f":"CONCATENATE(IF(referentes!AC1957=\"\",\"\",referentes!AC1957),IF(referentes!AD1957=\"\",\"\",CONCATENATE(\" \",referentes!AD1957)))","v":""}]
[null,null,null,null,null,null,null,null,null,null,null,null,null,null,null,"","",null,null,null,null,{"$f":"IF(referentes!AB1958=\"\",\"\",referentes!AB1958)","v":""},{"$f":"CONCATENATE(IF(referentes!AC1958=\"\",\"\",referentes!AC1958),IF(referentes!AD1958=\"\",\"\",CONCATENATE(\" \",referentes!AD1958)))","v":""}]
[null,null,null,null,null,null,null,null,null,null,null,null,null,null,null,"","",null,null,null,null,{"$f":"IF(referentes!AB1959=\"\",\"\",referentes!AB1959)","v":""},{"$f":"CONCATENATE(IF(referentes!AC1959=\"\",\"\",referentes!AC1959),IF(referentes!AD1959=\"\",\"\",CONCATENATE(\" \",referentes!AD1959)))","v":""}]
[null,null,null,null,null,null,null,null,null,null,null,null,null,null,null,"","",null,null,null,null,{"$f":"IF(referentes!AB1960=\"\",\"\",referentes!AB1960)","v":""},{"$f":"CONCATENATE(IF(referentes!AC1960=\"\",\"\",referentes!AC1960),IF(referentes!AD1960=\"\",\"\",CONCATENATE(\" \",referentes!AD1960)))","v":""}]
[null,null,null,null,null,null,null,null,null,null,null,null,null,null,null,"","",null,null,null,null,{"$f":"IF(referentes!AB1961=\"\",\"\",referentes!AB1961)","v":""},{"$f":"CONCATENATE(IF(referentes!AC1961=\"\",\"\",referentes!AC1961),IF(referentes!AD1961=\"\",\"\",CONCATENATE(\" \",referentes!AD1961)))","v":""}]
[null,null,null,null,null,null,null,null,null,null,null,null,null,null,null,"","",null,null,null,null,{"$f":"IF(referentes!AB1962=\"\",\"\",referentes!AB1962)","v":""},{"$f":"CONCATENATE(IF(referentes!AC1962=\"\",\"\",referentes!AC1962),IF(referentes!AD1962=\"\",\"\",CONCATENATE(\" \",referentes!AD1962)))","v":""}]
[null,null,null,null,null,null,null,null,null,null,null,null,null,null,null,"","",null,null,null,null,{"$f":"IF(referentes!AB1963=\"\",\"\",referentes!AB1963)","v":""},{"$f":"CONCATENATE(IF(referentes!AC1963=\"\",\"\",referentes!AC1963),IF(referentes!AD1963=\"\",\"\",CONCATENATE(\" \",referentes!AD1963)))","v":""}]
[null,null,null,null,null,null,null,null,null,null,null,null,null,null,null,"","",null,null,null,null,{"$f":"IF(referentes!AB1964=\"\",\"\",referentes!AB1964)","v":""},{"$f":"CONCATENATE(IF(referentes!AC1964=\"\",\"\",referentes!AC1964),IF(referentes!AD1964=\"\",\"\",CONCATENATE(\" \",referentes!AD1964)))","v":""}]
[null,null,null,null,null,null,null,null,null,null,null,null,null,null,null,"","",null,null,null,null,{"$f":"IF(referentes!AB1965=\"\",\"\",referentes!AB1965)","v":""},{"$f":"CONCATENATE(IF(referentes!AC1965=\"\",\"\",referentes!AC1965),IF(referentes!AD1965=\"\",\"\",CONCATENATE(\" \",referentes!AD1965)))","v":""}]
[null,null,null,null,null,null,null,null,null,null,null,null,null,null,null,"","",null,null,null,null,{"$f":"IF(referentes!AB1966=\"\",\"\",referentes!AB1966)","v":""},{"$f":"CONCATENATE(IF(referentes!AC1966=\"\",\"\",referentes!AC1966),IF(referentes!AD1966=\"\",\"\",CONCATENATE(\" \",referentes!AD1966)))","v":""}]
[null,null,null,null,null,null,null,null,null,null,null,null,null,null,null,"","",null,null,null,null,{"$f":"IF(referentes!AB1967=\"\",\"\",referentes!AB1967)","v":""},{"$f":"CONCATENATE(IF(referentes!AC1967=\"\",\"\",referentes!AC1967),IF(referentes!AD1967=\"\",\"\",CONCATENATE(\" \",referentes!AD1967)))","v":""}]
[null,null,null,null,null,null,null,null,null,null,null,null,null,null,null,"","",null,null,null,null,{"$f":"IF(referentes!AB1968=\"\",\"\",referentes!AB1968)","v":""},{"$f":"CONCATENATE(IF(referentes!AC1968=\"\",\"\",referentes!AC1968),IF(referentes!AD1968=\"\",\"\",CONCATENATE(\" \",referentes!AD1968)))","v":""}]
[null,null,null,null,null,null,null,null,null,null,null,null,null,null,null,"","",null,null,null,null,{"$f":"IF(referentes!AB1969=\"\",\"\",referentes!AB1969)","v":""},{"$f":"CONCATENATE(IF(referentes!AC1969=\"\",\"\",referentes!AC1969),IF(referentes!AD1969=\"\",\"\",CONCATENATE(\" \",referentes!AD1969)))","v":""}]
[null,null,null,null,null,null,null,null,null,null,null,null,null,null,null,"","",null,null,null,null,{"$f":"IF(referentes!AB1970=\"\",\"\",referentes!AB1970)","v":""},{"$f":"CONCATENATE(IF(referentes!AC1970=\"\",\"\",referentes!AC1970),IF(referentes!AD1970=\"\",\"\",CONCATENATE(\" \",referentes!AD1970)))","v":""}]
[null,null,null,null,null,null,null,null,null,null,null,null,null,null,null,"","",null,null,null,null,{"$f":"IF(referentes!AB1971=\"\",\"\",referentes!AB1971)","v":""},{"$f":"CONCATENATE(IF(referentes!AC1971=\"\",\"\",referentes!AC1971),IF(referentes!AD1971=\"\",\"\",CONCATENATE(\" \",referentes!AD1971)))","v":""}]
[null,null,null,null,null,null,null,null,null,null,null,null,null,null,null,"","",null,null,null,null,{"$f":"IF(referentes!AB1972=\"\",\"\",referentes!AB1972)","v":""},{"$f":"CONCATENATE(IF(referentes!AC1972=\"\",\"\",referentes!AC1972),IF(referentes!AD1972=\"\",\"\",CONCATENATE(\" \",referentes!AD1972)))","v":""}]
[null,null,null,null,null,null,null,null,null,null,null,null,null,null,null,"","",null,null,null,null,{"$f":"IF(referentes!AB1973=\"\",\"\",referentes!AB1973)","v":""},{"$f":"CONCATENATE(IF(referentes!AC1973=\"\",\"\",referentes!AC1973),IF(referentes!AD1973=\"\",\"\",CONCATENATE(\" \",referentes!AD1973)))","v":""}]
[null,null,null,null,null,null,null,null,null,null,null,null,null,null,null,"","",null,null,null,null,{"$f":"IF(referentes!AB1974=\"\",\"\",referentes!AB1974)","v":""},{"$f":"CONCATENATE(IF(referentes!AC1974=\"\",\"\",referentes!AC1974),IF(referentes!AD1974=\"\",\"\",CONCATENATE(\" \",referentes!AD1974)))","v":""}]
[null,null,null,null,null,null,null,null,null,null,null,null,null,null,null,"","",null,null,null,null,{"$f":"IF(referentes!AB1975=\"\",\"\",referentes!AB1975)","v":""},{"$f":"CONCATENATE(IF(referentes!AC1975=\"\",\"\",referentes!AC1975),IF(referentes!AD1975=\"\",\"\",CONCATENATE(\" \",referentes!AD1975)))","v":""}]
[null,null,null,null,null,null,null,null,null,null,null,null,null,null,null,"","",null,null,null,null,{"$f":"IF(referentes!AB1976=\"\",\"\",referentes!AB1976)","v":""},{"$f":"CONCATENATE(IF(referentes!AC1976=\"\",\"\",referentes!AC1976),IF(referentes!AD1976=\"\",\"\",CONCATENATE(\" \",referentes!AD1976)))","v":""}]
[null,null,null,null,null,null,null,null,null,null,null,null,null,null,null,"","",null,null,null,null,{"$f":"IF(referentes!AB1977=\"\",\"\",referentes!AB1977)","v":""},{"$f":"CONCATENATE(IF(referentes!AC1977=\"\",\"\",referentes!AC1977),IF(referentes!AD1977=\"\",\"\",CONCATENATE(\" \",referentes!AD1977)))","v":""}]
[null,null,null,null,null,null,null,null,null,null,null,null,null,null,null,"","",null,null,null,null,{"$f":"IF(referentes!AB1978=\"\",\"\",referentes!AB1978)","v":""},{"$f":"CONCATENATE(IF(referentes!AC1978=\"\",\"\",referentes!AC1978),IF(referentes!AD1978=\"\",\"\",CONCATENATE(\" \",referentes!AD1978)))","v":""}]
[null,null,null,null,null,null,null,null,null,null,null,null,null,null,null,"","",null,null,null,null,{"$f":"IF(referentes!AB1979=\"\",\"\",referentes!AB1979)","v":""},{"$f":"CONCATENATE(IF(referentes!AC1979=\"\",\"\",referentes!AC1979),IF(referentes!AD1979=\"\",\"\",CONCATENATE(\" \",referentes!AD1979)))","v":""}]
[null,null,null,null,null,null,null,null,null,null,null,null,null,null,null,"","",null,null,null,null,{"$f":"IF(referentes!AB1980=\"\",\"\",referentes!AB1980)","v":""},{"$f":"CONCATENATE(IF(referentes!AC1980=\"\",\"\",referentes!AC1980),IF(referentes!AD1980=\"\",\"\",CONCATENATE(\" \",referentes!AD1980)))","v":""}]
[null,null,null,null,null,null,null,null,null,null,null,null,null,null,null,"","",null,null,null,null,{"$f":"IF(referentes!AB1981=\"\",\"\",referentes!AB1981)","v":""},{"$f":"CONCATENATE(IF(referentes!AC1981=\"\",\"\",referentes!AC1981),IF(referentes!AD1981=\"\",\"\",CONCATENATE(\" \",referentes!AD1981)))","v":""}]
[null,null,null,null,null,null,null,null,null,null,null,null,null,null,null,"","",null,null,null,null,{"$f":"IF(referentes!AB1982=\"\",\"\",referentes!AB1982)","v":""},{"$f":"CONCATENATE(IF(referentes!AC1982=\"\",\"\",referentes!AC1982),IF(referentes!AD1982=\"\",\"\",CONCATENATE(\" \",referentes!AD1982)))","v":""}]
[null,null,null,null,null,null,null,null,null,null,null,null,null,null,null,"","",null,null,null,null,{"$f":"IF(referentes!AB1983=\"\",\"\",referentes!AB1983)","v":""},{"$f":"CONCATENATE(IF(referentes!AC1983=\"\",\"\",referentes!AC1983),IF(referentes!AD1983=\"\",\"\",CONCATENATE(\" \",referentes!AD1983)))","v":""}]
[null,null,null,null,null,null,null,null,null,null,null,null,null,null,null,"","",null,null,null,null,{"$f":"IF(referentes!AB1984=\"\",\"\",referentes!AB1984)","v":""},{"$f":"CONCATENATE(IF(referentes!AC1984=\"\",\"\",referentes!AC1984),IF(referentes!AD1984=\"\",\"\",CONCATENATE(\" \",referentes!AD1984)))","v":""}]
[null,null,null,null,null,null,null,null,null,null,null,null,null,null,null,"","",null,null,null,null,{"$f":"IF(referentes!AB1985=\"\",\"\",referentes!AB1985)","v":""},{"$f":"CONCATENATE(IF(referentes!AC1985=\"\",\"\",referentes!AC1985),IF(referentes!AD1985=\"\",\"\",CONCATENATE(\" \",referentes!AD1985)))","v":""}]
[null,null,null,null,null,null,null,null,null,null,null,null,null,null,null,"","",null,null,null,null,{"$f":"IF(referentes!AB1986=\"\",\"\",referentes!AB1986)","v":""},{"$f":"CONCATENATE(IF(referentes!AC1986=\"\",\"\",referentes!AC1986),IF(referentes!AD1986=\"\",\"\",CONCATENATE(\" \",referentes!AD1986)))","v":""}]
[null,null,null,null,null,null,null,null,null,null,null,null,null,null,null,"","",null,null,null,null,{"$f":"IF(referentes!AB1987=\"\",\"\",referentes!AB1987)","v":""},{"$f":"CONCATENATE(IF(referentes!AC1987=\"\",\"\",referentes!AC1987),IF(referentes!AD1987=\"\",\"\",CONCATENATE(\" \",referentes!AD1987)))","v":""}]
[null,null,null,null,null,null,null,null,null,null,null,null,null,null,null,"","",null,null,null,null,{"$f":"IF(referentes!AB1988=\"\",\"\",referentes!AB1988)","v":""},{"$f":"CONCATENATE(IF(referentes!AC1988=\"\",\"\",referentes!AC1988),IF(referentes!AD1988=\"\",\"\",CONCATENATE(\" \",referentes!AD1988)))","v":""}]
[null,null,null,null,null,null,null,null,null,null,null,null,null,null,null,"","",null,null,null,null,{"$f":"IF(referentes!AB1989=\"\",\"\",referentes!AB1989)","v":""},{"$f":"CONCATENATE(IF(referentes!AC1989=\"\",\"\",referentes!AC1989),IF(referentes!AD1989=\"\",\"\",CONCATENATE(\" \",referentes!AD1989)))","v":""}]
[null,null,null,null,null,null,null,null,null,null,null,null,null,null,null,"","",null,null,null,null,{"$f":"IF(referentes!AB1990=\"\",\"\",referentes!AB1990)","v":""},{"$f":"CONCATENATE(IF(referentes!AC1990=\"\",\"\",referentes!AC1990),IF(referentes!AD1990=\"\",\"\",CONCATENATE(\" \",referentes!AD1990)))","v":""}]
[null,null,null,null,null,null,null,null,null,null,null,null,null,null,null,"","",null,null,null,null,{"$f":"IF(referentes!AB1991=\"\",\"\",referentes!AB1991)","v":""},{"$f":"CONCATENATE(IF(referentes!AC1991=\"\",\"\",referentes!AC1991),IF(referentes!AD1991=\"\",\"\",CONCATENATE(\" \",referentes!AD1991)))","v":""}]
[null,null,null,null,null,null,null,null,null,null,null,null,null,null,null,"","",null,null,null,null,{"$f":"IF(referentes!AB1992=\"\",\"\",referentes!AB1992)","v":""},{"$f":"CONCATENATE(IF(referentes!AC1992=\"\",\"\",referentes!AC1992),IF(referentes!AD1992=\"\",\"\",CONCATENATE(\" \",referentes!AD1992)))","v":""}]
[null,null,null,null,null,null,null,null,null,null,null,null,null,null,null,"","",null,null,null,null,{"$f":"IF(referentes!AB1993=\"\",\"\",referentes!AB1993)","v":""},{"$f":"CONCATENATE(IF(referentes!AC1993=\"\",\"\",referentes!AC1993),IF(referentes!AD1993=\"\",\"\",CONCATENATE(\" \",referentes!AD1993)))","v":""}]
[null,null,null,null,null,null,null,null,null,null,null,null,null,null,null,"","",null,null,null,null,{"$f":"IF(referentes!AB1994=\"\",\"\",referentes!AB1994)","v":""},{"$f":"CONCATENATE(IF(referentes!AC1994=\"\",\"\",referentes!AC1994),IF(referentes!AD1994=\"\",\"\",CONCATENATE(\" \",referentes!AD1994)))","v":""}]
[null,null,null,null,null,null,null,null,null,null,null,null,null,null,null,"","",null,null,null,null,{"$f":"IF(referentes!AB1995=\"\",\"\",referentes!AB1995)","v":""},{"$f":"CONCATENATE(IF(referentes!AC1995=\"\",\"\",referentes!AC1995),IF(referentes!AD1995=\"\",\"\",CONCATENATE(\" \",referentes!AD1995)))","v":""}]
[null,null,null,null,null,null,null,null,null,null,null,null,null,null,null,"","",null,null,null,null,{"$f":"IF(referentes!V1996=\"\",\"\",referentes!V1996)","v":""},{"$f":"CONCATENATE(IF(referentes!W1996=\"\",\"\",referentes!W1996),IF(referentes!X1996=\"\",\"\",CONCATENATE(\" \",referentes!X1996)))","v":""}]
[null,null,null,null,null,null,null,null,null,null,null,null,null,null,null,"",""]
[null,null,null,null,null,null,null,null,null,null,null,null,null,null,null,"",""]
[null,null,null,null,null,null,null,null,null,null,null,null,null,null,null,"",""]
[null,null,null,null,null,null,null,null,null,null,null,null,null,null,null,"",""]
[null,null,null,null,null,null,null,null,null,null,null,null,null,null,null,"",""]
[null,null,null,null,null,null,null,null,null,null,null,null,null,null,null,"",""]
[null,null,null,null,null,null,null,null,null,null,null,null,null,null,null,"",""]
[null,null,null,null,null,null,null,null,null,null,null,null,null,null,null,"",""]
[null,null,null,null,null,null,null,null,null,null,null,null,null,null,null,"",""]
[null,null,null,null,null,null,null,null,null,null,null,null,null,null,null,"",""]
[null,null,null,null,null,null,null,null,null,null,null,null,null,null,null,"",""]
[null,null,null,null,null,null,null,null,null,null,null,null,null,null,null,"",""]
[null,null,null,null,null,null,null,null,null,null,null,null,null,null,null,"",""]
[null,null,null,null,null,null,null,null,null,null,null,null,null,null,null,"",""]
[null,null,null,null,null,null,null,null,null,null,null,null,null,null,null,"",""]
[null,null,null,null,null,null,null,null,null,null,null,null,null,null,null,"",""]
[null,null,null,null,null,null,null,null,null,null,null,null,null,null,null,"",""]
[null,null,null,null,null,null,null,null,null,null,null,null,null,null,null,"",""]
[null,null,null,null,null,null,null,null,null,null,null,null,null,null,null,"",""]
[null,null,null,null,null,null,null,null,null,null,null,null,null,null,null,"",""]
[null,null,null,null,null,null,null,null,null,null,null,null,null,null,null,"",""]
[null,null,null,null,null,null,null,null,null,null,null,null,null,null,null,"",""]
[null,null,null,null,null,null,null,null,null,null,null,null,null,null,null,"",""]
[null,null,null,null,null,null,null,null,null,null,null,null,null,null,null,"",""]
[null,null,null,null,null,null,null,null,null,null,null,null,null,null,null,"",""]
[null,null,null,null,null,null,null,null,null,null,null,null,null,null,null,"",""]
[null,null,null,null,null,null,null,null,null,null,null,null,null,null,null,"",""]
[null,null,null,null,null,null,null,null,null,null,null,null,null,null,null,"",""]
[null,null,null,null,null,null,null,null,null,null,null,null,null,null,null,"",""]
[null,null,null,null,null,null,null,null,null,null,null,null,null,null,null,"",""]
[null,null,null,null,null,null,null,null,null,null,null,null,null,null,null,"",""]
[null,null,null,null,null,null,null,null,null,null,null,null,null,null,null,"",""]
[null,null,null,null,null,null,null,null,null,null,null,null,null,null,null,"",""]
[null,null,null,null,null,null,null,null,null,null,null,null,null,null,null,"",""]
[null,null,null,null,null,null,null,null,null,null,null,null,null,null,null,"",""]
[null,null,null,null,null,null,null,null,null,null,null,null,null,null,null,"",""]
[null,null,null,null,null,null,null,null,null,null,null,null,null,null,null,"",""]
[null,null,null,null,null,null,null,null,null,null,null,null,null,null,null,"",""]
[null,null,null,null,null,null,null,null,null,null,null,null,null,null,null,"",""]
[null,null,null,null,null,null,null,null,null,null,null,null,null,null,null,"",""]
[null,null,null,null,null,null,null,null,null,null,null,null,null,null,null,"",""]
[null,null,null,null,null,null,null,null,null,null,null,null,null,null,null,"",""]
[null,null,null,null,null,null,null,null,null,null,null,null,null,null,null,"",""]
[null,null,null,null,null,null,null,null,null,null,null,null,null,null,null,"",""]
[null,null,null,null,null,null,null,null,null,null,null,null,null,null,null,"",""]
[null,null,null,null,null,null,null,null,null,null,null,null,null,null,null,"",""]
[null,null,null,null,null,null,null,null,null,null,null,null,null,null,null,"",""]
[null,null,null,null,null,null,null,null,null,null,null,null,null,null,null,"",""]
[null,null,null,null,null,null,null,null,null,null,null,null,null,null,null,"",""]
[null,null,null,null,null,null,null,null,null,null,null,null,null,null,null,"",""]
[null,null,null,null,null,null,null,null,null,null,null,null,null,null,null,"",""]
[null,null,null,null,null,null,null,null,null,null,null,null,null,null,null,"",""]
[null,null,null,null,null,null,null,null,null,null,null,null,null,null,null,"",""]
[null,null,null,null,null,null,null,null,null,null,null,null,null,null,null,"",""]
[null,null,null,null,null,null,null,null,null,null,null,null,null,null,null,"",""]
[null,null,null,null,null,null,null,null,null,null,null,null,null,null,null,"",""]
[null,null,null,null,null,null,null,null,null,null,null,null,null,null,null,"",""]
[null,null,null,null,null,null,null,null,null,null,null,null,null,null,null,"",""]
[null,null,null,null,null,null,null,null,null,null,null,null,null,null,null,"",""]
[null,null,null,null,null,null,null,null,null,null,null,null,null,null,null,"",""]
[null,null,null,null,null,null,null,null,null,null,null,null,null,null,null,"",""]
[null,null,null,null,null,null,null,null,null,null,null,null,null,null,null,"",""]
[null,null,null,null,null,null,null,null,null,null,null,null,null,null,null,"",""]
[null,null,null,null,null,null,null,null,null,null,null,null,null,null,null,"",""]
[null,null,null,null,null,null,null,null,null,null,null,null,null,null,null,"",""]
[null,null,null,null,null,null,null,null,null,null,null,null,null,null,null,"",""]
[null,null,null,null,null,null,null,null,null,null,null,null,null,null,null,"",""]
[null,null,null,null,null,null,null,null,null,null,null,null,null,null,null,"",""]
[null,null,null,null,null,null,null,null,null,null,null,null,null,null,null,"",""]
[null,null,null,null,null,null,null,null,null,null,null,null,null,null,null,"",""]
[null,null,null,null,null,null,null,null,null,null,null,null,null,null,null,"",""]
[null,null,null,null,null,null,null,null,null,null,null,null,null,null,null,"",""]
[null,null,null,null,null,null,null,null,null,null,null,null,null,null,null,"",""]
[null,null,null,null,null,null,null,null,null,null,null,null,null,null,null,"",""]
[null,null,null,null,null,null,null,null,null,null,null,null,null,null,null,"",""]
[null,null,null,null,null,null,null,null,null,null,null,null,null,null,null,"",""]
[null,null,null,null,null,null,null,null,null,null,null,null,null,null,null,"",""]
[null,null,null,null,null,null,null,null,null,null,null,null,null,null,null,"",""]
[null,null,null,null,null,null,null,null,null,null,null,null,null,null,null,"",""]
[null,null,null,null,null,null,null,null,null,null,null,null,null,null,null,"",""]
[null,null,null,null,null,null,null,null,null,null,null,null,null,null,null,"",""]
[null,null,null,null,null,null,null,null,null,null,null,null,null,null,null,"",""]
[null,null,null,null,null,null,null,null,null,null,null,null,null,null,null,"",""]
[null,null,null,null,null,null,null,null,null,null,null,null,null,null,null,"",""]
[null,null,null,null,null,null,null,null,null,null,null,null,null,null,null,"",""]
[null,null,null,null,null,null,null,null,null,null,null,null,null,null,null,"",""]
[null,null,null,null,null,null,null,null,null,null,null,null,null,null,null,"",""]
[null,null,null,null,null,null,null,null,null,null,null,null,null,null,null,"",""]
[null,null,null,null,null,null,null,null,null,null,null,null,null,null,null,"",""]
[null,null,null,null,null,null,null,null,null,null,null,null,null,null,null,"",""]
[null,null,null,null,null,null,null,null,null,null,null,null,null,null,null,"",""]
[null,null,null,null,null,null,null,null,null,null,null,null,null,null,null,"",""]
[null,null,null,null,null,null,null,null,null,null,null,null,null,null,null,"",""]
[null,null,null,null,null,null,null,null,null,null,null,null,null,null,null,"",""]
[null,null,null,null,null,null,null,null,null,null,null,null,null,null,null,"",""]
[null,null,null,null,null,null,null,null,null,null,null,null,null,null,null,"",""]
[null,null,null,null,null,null,null,null,null,null,null,null,null,null,null,"",""]
[null,null,null,null,null,null,null,null,null,null,null,null,null,null,null,"",""]
[null,null,null,null,null,null,null,null,null,null,null,null,null,null,null,"",""]
[null,null,null,null,null,null,null,null,null,null,null,null,null,null,null,"",""]
[null,null,null,null,null,null,null,null,null,null,null,null,null,null,null,"",""]
[null,null,null,null,null,null,null,null,null,null,null,null,null,null,null,"",""]
[null,null,null,null,null,null,null,null,null,null,null,null,null,null,null,"",""]
[null,null,null,null,null,null,null,null,null,null,null,null,null,null,null,"",""]
[null,null,null,null,null,null,null,null,null,null,null,null,null,null,null,"",""]
[null,null,null,null,null,null,null,null,null,null,null,null,null,null,null,"",""]
[null,null,null,null,null,null,null,null,null,null,null,null,null,null,null,"",""]
[null,null,null,null,null,null,null,null,null,null,null,null,null,null,null,"",""]
[null,null,null,null,null,null,null,null,null,null,null,null,null,null,null,"",""]
[null,null,null,null,null,null,null,null,null,null,null,null,null,null,null,"",""]
[null,null,null,null,null,null,null,null,null,null,null,null,null,null,null,"",""]
[null,null,null,null,null,null,null,null,null,null,null,null,null,null,null,"",""]
[null,null,null,null,null,null,null,null,null,null,null,null,null,null,null,"",""]
[null,null,null,null,null,null,null,null,null,null,null,null,null,null,null,"",""]
[null,null,null,null,null,null,null,null,null,null,null,null,null,null,null,"",""]
[null,null,null,null,null,null,null,null,null,null,null,null,null,null,null,"",""]
[null,null,null,null,null,null,null,null,null,null,null,null,null,null,null,"",""]
[null,null,null,null,null,null,null,null,null,null,null,null,null,null,null,"",""]
[null,null,null,null,null,null,null,null,null,null,null,null,null,null,null,"",""]
[null,null,null,null,null,null,null,null,null,null,null,null,null,null,null,"",""]
[null,null,null,null,null,null,null,null,null,null,null,null,null,null,null,"",""]
[null,null,null,null,null,null,null,null,null,null,null,null,null,null,null,"",""]
[null,null,null,null,null,null,null,null,null,null,null,null,null,null,null,"",""]
[null,null,null,null,null,null,null,null,null,null,null,null,null,null,null,"",""]
[null,null,null,null,null,null,null,null,null,null,null,null,null,null,null,"",""]
[null,null,null,null,null,null,null,null,null,null,null,null,null,null,null,"",""]
[null,null,null,null,null,null,null,null,null,null,null,null,null,null,null,"",""]
[null,null,null,null,null,null,null,null,null,null,null,null,null,null,null,"",""]
[null,null,null,null,null,null,null,null,null,null,null,null,null,null,null,"",""]
[null,null,null,null,null,null,null,null,null,null,null,null,null,null,null,"",""]
[null,null,null,null,null,null,null,null,null,null,null,null,null,null,null,"",""]
[null,null,null,null,null,null,null,null,null,null,null,null,null,null,null,"",""]
[null,null,null,null,null,null,null,null,null,null,null,null,null,null,null,"",""]
[null,null,null,null,null,null,null,null,null,null,null,null,null,null,null,"",""]
[null,null,null,null,null,null,null,null,null,null,null,null,null,null,null,"",""]
[null,null,null,null,null,null,null,null,null,null,null,null,null,null,null,"",""]
[null,null,null,null,null,null,null,null,null,null,null,null,null,null,null,"",""]
[null,null,null,null,null,null,null,null,null,null,null,null,null,null,null,"",""]
[null,null,null,null,null,null,null,null,null,null,null,null,null,null,null,"",""]
[null,null,null,null,null,null,null,null,null,null,null,null,null,null,null,"",""]
[null,null,null,null,null,null,null,null,null,null,null,null,null,null,null,"",""]
[null,null,null,null,null,null,null,null,null,null,null,null,null,null,null,"",""]
[null,null,null,null,null,null,null,null,null,null,null,null,null,null,null,"",""]
[null,null,null,null,null,null,null,null,null,null,null,null,null,null,null,"",""]
[null,null,null,null,null,null,null,null,null,null,null,null,null,null,null,"",""]
[null,null,null,null,null,null,null,null,null,null,null,null,null,null,null,"",""]
[null,null,null,null,null,null,null,null,null,null,null,null,null,null,null,"",""]
[null,null,null,null,null,null,null,null,null,null,null,null,null,null,null,"",""]
[null,null,null,null,null,null,null,null,null,null,null,null,null,null,null,"",""]
[null,null,null,null,null,null,null,null,null,null,null,null,null,null,null,"",""]
[null,null,null,null,null,null,null,null,null,null,null,null,null,null,null,"",""]
[null,null,null,null,null,null,null,null,null,null,null,null,null,null,null,"",""]
[null,null,null,null,null,null,null,null,null,null,null,null,null,null,null,"",""]
[null,null,null,null,null,null,null,null,null,null,null,null,null,null,null,"",""]
[null,null,null,null,null,null,null,null,null,null,null,null,null,null,null,"",""]
[null,null,null,null,null,null,null,null,null,null,null,null,null,null,null,"",""]
[null,null,null,null,null,null,null,null,null,null,null,null,null,null,null,"",""]
[null,null,null,null,null,null,null,null,null,null,null,null,null,null,null,"",""]
[null,null,null,null,null,null,null,null,null,null,null,null,null,null,null,"",""]
[null,null,null,null,null,null,null,null,null,null,null,null,null,null,null,"",""]
[null,null,null,null,null,null,null,null,null,null,null,null,null,null,null,"",""]
[null,null,null,null,null,null,null,null,null,null,null,null,null,null,null,"",""]
[null,null,null,null,null,null,null,null,null,null,null,null,null,null,null,"",""]
[null,null,null,null,null,null,null,null,null,null,null,null,null,null,null,"",""]
[null,null,null,null,null,null,null,null,null,null,null,null,null,null,null,"",""]
[null,null,null,null,null,null,null,null,null,null,null,null,null,null,null,"",""]
[null,null,null,null,null,null,null,null,null,null,null,null,null,null,null,"",""]
[null,null,null,null,null,null,null,null,null,null,null,null,null,null,null,"",""]
[null,null,null,null,null,null,null,null,null,null,null,null,null,null,null,"",""]
[null,null,null,null,null,null,null,null,null,null,null,null,null,null,null,"",""]
[null,null,null,null,null,null,null,null,null,null,null,null,null,null,null,"",""]
[null,null,null,null,null,null,null,null,null,null,null,null,null,null,null,"",""]
[null,null,null,null,null,null,null,null,null,null,null,null,null,null,null,"",""]
[null,null,null,null,null,null,null,null,null,null,null,null,null,null,null,"",""]
[null,null,null,null,null,null,null,null,null,null,null,null,null,null,null,"",""]
[null,null,null,null,null,null,null,null,null,null,null,null,null,null,null,"",""]
[null,null,null,null,null,null,null,null,null,null,null,null,null,null,null,"",""]
[null,null,null,null,null,null,null,null,null,null,null,null,null,null,null,"",""]
[null,null,null,null,null,null,null,null,null,null,null,null,null,null,null,"",""]
[null,null,null,null,null,null,null,null,null,null,null,null,null,null,null,"",""]
[null,null,null,null,null,null,null,null,null,null,null,null,null,null,null,"",""]
[null,null,null,null,null,null,null,null,null,null,null,null,null,null,null,"",""]
[null,null,null,null,null,null,null,null,null,null,null,null,null,null,null,"",""]
[null,null,null,null,null,null,null,null,null,null,null,null,null,null,null,"",""]
[null,null,null,null,null,null,null,null,null,null,null,null,null,null,null,"",""]
[null,null,null,null,null,null,null,null,null,null,null,null,null,null,null,"",""]
[null,null,null,null,null,null,null,null,null,null,null,null,null,null,null,"",""]
[null,null,null,null,null,null,null,null,null,null,null,null,null,null,null,"",""]
[null,null,null,null,null,null,null,null,null,null,null,null,null,null,null,"",""]
[null,null,null,null,null,null,null,null,null,null,null,null,null,null,null,"",""]
[null,null,null,null,null,null,null,null,null,null,null,null,null,null,null,"",""]
[null,null,null,null,null,null,null,null,null,null,null,null,null,null,null,"",""]
[null,null,null,null,null,null,null,null,null,null,null,null,null,null,null,"",""]
[null,null,null,null,null,null,null,null,null,null,null,null,null,null,null,"",""]
[null,null,null,null,null,null,null,null,null,null,null,null,null,null,null,"",""]
[null,null,null,null,null,null,null,null,null,null,null,null,null,null,null,"",""]
[null,null,null,null,null,null,null,null,null,null,null,null,null,null,null,"",""]
[null,null,null,null,null,null,null,null,null,null,null,null,null,null,null,"",""]
[null,null,null,null,null,null,null,null,null,null,null,null,null,null,null,"",""]
[null,null,null,null,null,null,null,null,null,null,null,null,null,null,null,"",""]
[null,null,null,null,null,null,null,null,null,null,null,null,null,null,null,"",""]
[null,null,null,null,null,null,null,null,null,null,null,null,null,null,null,"",""]
[null,null,null,null,null,null,null,null,null,null,null,null,null,null,null,"",""]
[null,null,null,null,null,null,null,null,null,null,null,null,null,null,null,"",""]
[null,null,null,null,null,null,null,null,null,null,null,null,null,null,null,"",""]
[null,null,null,null,null,null,null,null,null,null,null,null,null,null,null,"",""]
[null,null,null,null,null,null,null,null,null,null,null,null,null,null,null,"",""]
[null,null,null,null,null,null,null,null,null,null,null,null,null,null,null,"",""]
[null,null,null,null,null,null,null,null,null,null,null,null,null,null,null,"",""]
[null,null,null,null,null,null,null,null,null,null,null,null,null,null,null,"",""]
[null,null,null,null,null,null,null,null,null,null,null,null,null,null,null,"",""]
[null,null,null,null,null,null,null,null,null,null,null,null,null,null,null,"",""]
[null,null,null,null,null,null,null,null,null,null,null,null,null,null,null,"",""]
[null,null,null,null,null,null,null,null,null,null,null,null,null,null,null,"",""]
[null,null,null,null,null,null,null,null,null,null,null,null,null,null,null,"",""]
[null,null,null,null,null,null,null,null,null,null,null,null,null,null,null,"",""]
[null,null,null,null,null,null,null,null,null,null,null,null,null,null,null,"",""]
[null,null,null,null,null,null,null,null,null,null,null,null,null,null,null,"",""]
[null,null,null,null,null,null,null,null,null,null,null,null,null,null,null,"",""]
[null,null,null,null,null,null,null,null,null,null,null,null,null,null,null,"",""]
[null,null,null,null,null,null,null,null,null,null,null,null,null,null,null,"",""]
[null,null,null,null,null,null,null,null,null,null,null,null,null,null,null,"",""]
[null,null,null,null,null,null,null,null,null,null,null,null,null,null,null,"",""]
[null,null,null,null,null,null,null,null,null,null,null,null,null,null,null,"",""]
[null,null,null,null,null,null,null,null,null,null,null,null,null,null,null,"",""]
[null,null,null,null,null,null,null,null,null,null,null,null,null,null,null,"",""]
[null,null,null,null,null,null,null,null,null,null,null,null,null,null,null,"",""]
[null,null,null,null,null,null,null,null,null,null,null,null,null,null,null,"",""]
[null,null,null,null,null,null,null,null,null,null,null,null,null,null,null,"",""]
[null,null,null,null,null,null,null,null,null,null,null,null,null,null,null,"",""]
[null,null,null,null,null,null,null,null,null,null,null,null,null,null,null,"",""]
[null,null,null,null,null,null,null,null,null,null,null,null,null,null,null,"",""]
[null,null,null,null,null,null,null,null,null,null,null,null,null,null,null,"",""]
[null,null,null,null,null,null,null,null,null,null,null,null,null,null,null,"",""]
[null,null,null,null,null,null,null,null,null,null,null,null,null,null,null,"",""]
[null,null,null,null,null,null,null,null,null,null,null,null,null,null,null,"",""]
[null,null,null,null,null,null,null,null,null,null,null,null,null,null,null,"",""]
[null,null,null,null,null,null,null,null,null,null,null,null,null,null,null,"",""]
[null,null,null,null,null,null,null,null,null,null,null,null,null,null,null,"",""]
[null,null,null,null,null,null,null,null,null,null,null,null,null,null,null,"",""]
[null,null,null,null,null,null,null,null,null,null,null,null,null,null,null,"",""]
[null,null,null,null,null,null,null,null,null,null,null,null,null,null,null,"",""]
[null,null,null,null,null,null,null,null,null,null,null,null,null,null,null,"",""]
[null,null,null,null,null,null,null,null,null,null,null,null,null,null,null,"",""]
[null,null,null,null,null,null,null,null,null,null,null,null,null,null,null,"",""]
[null,null,null,null,null,null,null,null,null,null,null,null,null,null,null,"",""]
[null,null,null,null,null,null,null,null,null,null,null,null,null,null,null,"",""]
[null,null,null,null,null,null,null,null,null,null,null,null,null,null,null,"",""]
[null,null,null,null,null,null,null,null,null,null,null,null,null,null,null,"",""]
[null,null,null,null,null,null,null,null,null,null,null,null,null,null,null,"",""]
[null,null,null,null,null,null,null,null,null,null,null,null,null,null,null,"",""]
[null,null,null,null,null,null,null,null,null,null,null,null,null,null,null,"",""]
[null,null,null,null,null,null,null,null,null,null,null,null,null,null,null,"",""]
[null,null,null,null,null,null,null,null,null,null,null,null,null,null,null,"",""]
[null,null,null,null,null,null,null,null,null,null,null,null,null,null,null,"",""]
[null,null,null,null,null,null,null,null,null,null,null,null,null,null,null,"",""]
[null,null,null,null,null,null,null,null,null,null,null,null,null,null,null,"",""]
[null,null,null,null,null,null,null,null,null,null,null,null,null,null,null,"",""]
[null,null,null,null,null,null,null,null,null,null,null,null,null,null,null,"",""]
[null,null,null,null,null,null,null,null,null,null,null,null,null,null,null,"",""]
[null,null,null,null,null,null,null,null,null,null,null,null,null,null,null,"",""]
[null,null,null,null,null,null,null,null,null,null,null,null,null,null,null,"",""]
[null,null,null,null,null,null,null,null,null,null,null,null,null,null,null,"",""]
[null,null,null,null,null,null,null,null,null,null,null,null,null,null,null,"",""]
[null,null,null,null,null,null,null,null,null,null,null,null,null,null,null,"",""]
[null,null,null,null,null,null,null,null,null,null,null,null,null,null,null,"",""]
[null,null,null,null,null,null,null,null,null,null,null,null,null,null,null,"",""]
[null,null,null,null,null,null,null,null,null,null,null,null,null,null,null,"",""]
[null,null,null,null,null,null,null,null,null,null,null,null,null,null,null,"",""]
[null,null,null,null,null,null,null,null,null,null,null,null,null,null,null,"",""]
[null,null,null,null,null,null,null,null,null,null,null,null,null,null,null,"",""]
[null,null,null,null,null,null,null,null,null,null,null,null,null,null,null,"",""]
[null,null,null,null,null,null,null,null,null,null,null,null,null,null,null,"",""]
[null,null,null,null,null,null,null,null,null,null,null,null,null,null,null,"",""]
[null,null,null,null,null,null,null,null,null,null,null,null,null,null,null,"",""]
[null,null,null,null,null,null,null,null,null,null,null,null,null,null,null,"",""]
[null,null,null,null,null,null,null,null,null,null,null,null,null,null,null,"",""]
[null,null,null,null,null,null,null,null,null,null,null,null,null,null,null,"",""]
[null,null,null,null,null,null,null,null,null,null,null,null,null,null,null,"",""]
[null,null,null,null,null,null,null,null,null,null,null,null,null,null,null,"",""]
[null,null,null,null,null,null,null,null,null,null,null,null,null,null,null,"",""]
[null,null,null,null,null,null,null,null,null,null,null,null,null,null,null,"",""]
[null,null,null,null,null,null,null,null,null,null,null,null,null,null,null,"",""]
[null,null,null,null,null,null,null,null,null,null,null,null,null,null,null,"",""]
[null,null,null,null,null,null,null,null,null,null,null,null,null,null,null,"",""]
[null,null,null,null,null,null,null,null,null,null,null,null,null,null,null,"",""]
[null,null,null,null,null,null,null,null,null,null,null,null,null,null,null,"",""]
[null,null,null,null,null,null,null,null,null,null,null,null,null,null,null,"",""]
[null,null,null,null,null,null,null,null,null,null,null,null,null,null,null,"",""]
[null,null,null,null,null,null,null,null,null,null,null,null,null,null,null,"",""]
[null,null,null,null,null,null,null,null,null,null,null,null,null,null,null,"",""]
[null,null,null,null,null,null,null,null,null,null,null,null,null,null,null,"",""]
[null,null,null,null,null,null,null,null,null,null,null,null,null,null,null,"",""]
[null,null,null,null,null,null,null,null,null,null,null,null,null,null,null,"",""]
[null,null,null,null,null,null,null,null,null,null,null,null,null,null,null,"",""]
[null,null,null,null,null,null,null,null,null,null,null,null,null,null,null,"",""]
[null,null,null,null,null,null,null,null,null,null,null,null,null,null,null,"",""]
[null,null,null,null,null,null,null,null,null,null,null,null,null,null,null,"",""]
[null,null,null,null,null,null,null,null,null,null,null,null,null,null,null,"",""]
[null,null,null,null,null,null,null,null,null,null,null,null,null,null,null,"",""]
[null,null,null,null,null,null,null,null,null,null,null,null,null,null,null,"",""]
[null,null,null,null,null,null,null,null,null,null,null,null,null,null,null,"",""]
[null,null,null,null,null,null,null,null,null,null,null,null,null,null,null,"",""]
[null,null,null,null,null,null,null,null,null,null,null,null,null,null,null,"",""]
[null,null,null,null,null,null,null,null,null,null,null,null,null,null,null,"",""]
[null,null,null,null,null,null,null,null,null,null,null,null,null,null,null,"",""]
[null,null,null,null,null,null,null,null,null,null,null,null,null,null,null,"",""]
[null,null,null,null,null,null,null,null,null,null,null,null,null,null,null,"",""]
[null,null,null,null,null,null,null,null,null,null,null,null,null,null,null,"",""]
[null,null,null,null,null,null,null,null,null,null,null,null,null,null,null,"",""]
[null,null,null,null,null,null,null,null,null,null,null,null,null,null,null,"",""]
[null,null,null,null,null,null,null,null,null,null,null,null,null,null,null,"",""]
[null,null,null,null,null,null,null,null,null,null,null,null,null,null,null,"",""]
[null,null,null,null,null,null,null,null,null,null,null,null,null,null,null,"",""]
[null,null,null,null,null,null,null,null,null,null,null,null,null,null,null,"",""]
[null,null,null,null,null,null,null,null,null,null,null,null,null,null,null,"",""]
[null,null,null,null,null,null,null,null,null,null,null,null,null,null,null,"",""]
[null,null,null,null,null,null,null,null,null,null,null,null,null,null,null,"",""]
[null,null,null,null,null,null,null,null,null,null,null,null,null,null,null,"",""]
[null,null,null,null,null,null,null,null,null,null,null,null,null,null,null,"",""]
[null,null,null,null,null,null,null,null,null,null,null,null,null,null,null,"",""]
[null,null,null,null,null,null,null,null,null,null,null,null,null,null,null,"",""]
[null,null,null,null,null,null,null,null,null,null,null,null,null,null,null,"",""]
[null,null,null,null,null,null,null,null,null,null,null,null,null,null,null,"",""]
[null,null,null,null,null,null,null,null,null,null,null,null,null,null,null,"",""]
[null,null,null,null,null,null,null,null,null,null,null,null,null,null,null,"",""]
[null,null,null,null,null,null,null,null,null,null,null,null,null,null,null,"",""]
[null,null,null,null,null,null,null,null,null,null,null,null,null,null,null,"",""]
[null,null,null,null,null,null,null,null,null,null,null,null,null,null,null,"",""]
[null,null,null,null,null,null,null,null,null,null,null,null,null,null,null,"",""]
[null,null,null,null,null,null,null,null,null,null,null,null,null,null,null,"",""]
[null,null,null,null,null,null,null,null,null,null,null,null,null,null,null,"",""]
[null,null,null,null,null,null,null,null,null,null,null,null,null,null,null,"",""]
[null,null,null,null,null,null,null,null,null,null,null,null,null,null,null,"",""]
[null,null,null,null,null,null,null,null,null,null,null,null,null,null,null,"",""]
[null,null,null,null,null,null,null,null,null,null,null,null,null,null,null,"",""]
[null,null,null,null,null,null,null,null,null,null,null,null,null,null,null,"",""]
[null,null,null,null,null,null,null,null,null,null,null,null,null,null,null,"",""]
[null,null,null,null,null,null,null,null,null,null,null,null,null,null,null,"",""]
[null,null,null,null,null,null,null,null,null,null,null,null,null,null,null,"",""]
[null,null,null,null,null,null,null,null,null,null,null,null,null,null,null,"",""]
[null,null,null,null,null,null,null,null,null,null,null,null,null,null,null,"",""]
[null,null,null,null,null,null,null,null,null,null,null,null,null,null,null,"",""]
[null,null,null,null,null,null,null,null,null,null,null,null,null,null,null,"",""]
[null,null,null,null,null,null,null,null,null,null,null,null,null,null,null,"",""]
[null,null,null,null,null,null,null,null,null,null,null,null,null,null,null,"",""]
[null,null,null,null,null,null,null,null,null,null,null,null,null,null,null,"",""]
[null,null,null,null,null,null,null,null,null,null,null,null,null,null,null,"",""]
[null,null,null,null,null,null,null,null,null,null,null,null,null,null,null,"",""]
[null,null,null,null,null,null,null,null,null,null,null,null,null,null,null,"",""]
[null,null,null,null,null,null,null,null,null,null,null,null,null,null,null,"",""]
[null,null,null,null,null,null,null,null,null,null,null,null,null,null,null,"",""]
[null,null,null,null,null,null,null,null,null,null,null,null,null,null,null,"",""]
[null,null,null,null,null,null,null,null,null,null,null,null,null,null,null,"",""]
[null,null,null,null,null,null,null,null,null,null,null,null,null,null,null,"",""]
[null,null,null,null,null,null,null,null,null,null,null,null,null,null,null,"",""]
[null,null,null,null,null,null,null,null,null,null,null,null,null,null,null,"",""]
[null,null,null,null,null,null,null,null,null,null,null,null,null,null,null,"",""]
[null,null,null,null,null,null,null,null,null,null,null,null,null,null,null,"",""]
[null,null,null,null,null,null,null,null,null,null,null,null,null,null,null,"",""]
[null,null,null,null,null,null,null,null,null,null,null,null,null,null,null,"",""]
[null,null,null,null,null,null,null,null,null,null,null,null,null,null,null,"",""]
[null,null,null,null,null,null,null,null,null,null,null,null,null,null,null,"",""]
[null,null,null,null,null,null,null,null,null,null,null,null,null,null,null,"",""]
[null,null,null,null,null,null,null,null,null,null,null,null,null,null,null,"",""]
[null,null,null,null,null,null,null,null,null,null,null,null,null,null,null,"",""]
[null,null,null,null,null,null,null,null,null,null,null,null,null,null,null,"",""]
[null,null,null,null,null,null,null,null,null,null,null,null,null,null,null,"",""]
[null,null,null,null,null,null,null,null,null,null,null,null,null,null,null,"",""]
[null,null,null,null,null,null,null,null,null,null,null,null,null,null,null,"",""]
[null,null,null,null,null,null,null,null,null,null,null,null,null,null,null,"",""]
[null,null,null,null,null,null,null,null,null,null,null,null,null,null,null,"",""]
[null,null,null,null,null,null,null,null,null,null,null,null,null,null,null,"",""]
[null,null,null,null,null,null,null,null,null,null,null,null,null,null,null,"",""]
[null,null,null,null,null,null,null,null,null,null,null,null,null,null,null,"",""]
[null,null,null,null,null,null,null,null,null,null,null,null,null,null,null,"",""]
[null,null,null,null,null,null,null,null,null,null,null,null,null,null,null,"",""]
[null,null,null,null,null,null,null,null,null,null,null,null,null,null,null,"",""]
[null,null,null,null,null,null,null,null,null,null,null,null,null,null,null,"",""]
[null,null,null,null,null,null,null,null,null,null,null,null,null,null,null,"",""]
[null,null,null,null,null,null,null,null,null,null,null,null,null,null,null,"",""]
[null,null,null,null,null,null,null,null,null,null,null,null,null,null,null,"",""]
[null,null,null,null,null,null,null,null,null,null,null,null,null,null,null,"",""]
[null,null,null,null,null,null,null,null,null,null,null,null,null,null,null,"",""]
[null,null,null,null,null,null,null,null,null,null,null,null,null,null,null,"",""]
[null,null,null,null,null,null,null,null,null,null,null,null,null,null,null,"",""]
[null,null,null,null,null,null,null,null,null,null,null,null,null,null,null,"",""]
[null,null,null,null,null,null,null,null,null,null,null,null,null,null,null,"",""]
[null,null,null,null,null,null,null,null,null,null,null,null,null,null,null,"",""]
[null,null,null,null,null,null,null,null,null,null,null,null,null,null,null,"",""]
[null,null,null,null,null,null,null,null,null,null,null,null,null,null,null,"",""]
[null,null,null,null,null,null,null,null,null,null,null,null,null,null,null,"",""]
[null,null,null,null,null,null,null,null,null,null,null,null,null,null,null,"",""]
[null,null,null,null,null,null,null,null,null,null,null,null,null,null,null,"",""]
[null,null,null,null,null,null,null,null,null,null,null,null,null,null,null,"",""]
[null,null,null,null,null,null,null,null,null,null,null,null,null,null,null,"",""]
[null,null,null,null,null,null,null,null,null,null,null,null,null,null,null,"",""]
[null,null,null,null,null,null,null,null,null,null,null,null,null,null,null,"",""]
[null,null,null,null,null,null,null,null,null,null,null,null,null,null,null,"",""]
[null,null,null,null,null,null,null,null,null,null,null,null,null,null,null,"",""]
[null,null,null,null,null,null,null,null,null,null,null,null,null,null,null,"",""]
[null,null,null,null,null,null,null,null,null,null,null,null,null,null,null,"",""]
[null,null,null,null,null,null,null,null,null,null,null,null,null,null,null,"",""]
[null,null,null,null,null,null,null,null,null,null,null,null,null,null,null,"",""]
[null,null,null,null,null,null,null,null,null,null,null,null,null,null,null,"",""]
[null,null,null,null,null,null,null,null,null,null,null,null,null,null,null,"",""]
[null,null,null,null,null,null,null,null,null,null,null,null,null,null,null,"",""]
[null,null,null,null,null,null,null,null,null,null,null,null,null,null,null,"",""]
[null,null,null,null,null,null,null,null,null,null,null,null,null,null,null,"",""]
[null,null,null,null,null,null,null,null,null,null,null,null,null,null,null,"",""]
[null,null,null,null,null,null,null,null,null,null,null,null,null,null,null,"",""]
[null,null,null,null,null,null,null,null,null,null,null,null,null,null,null,"",""]
[null,null,null,null,null,null,null,null,null,null,null,null,null,null,null,"",""]
[null,null,null,null,null,null,null,null,null,null,null,null,null,null,null,"",""]
[null,null,null,null,null,null,null,null,null,null,null,null,null,null,null,"",""]
[null,null,null,null,null,null,null,null,null,null,null,null,null,null,null,"",""]
[null,null,null,null,null,null,null,null,null,null,null,null,null,null,null,"",""]
[null,null,null,null,null,null,null,null,null,null,null,null,null,null,null,"",""]
[null,null,null,null,null,null,null,null,null,null,null,null,null,null,null,"",""]
[null,null,null,null,null,null,null,null,null,null,null,null,null,null,null,"",""]
[null,null,null,null,null,null,null,null,null,null,null,null,null,null,null,"",""]
[null,null,null,null,null,null,null,null,null,null,null,null,null,null,null,"",""]
[null,null,null,null,null,null,null,null,null,null,null,null,null,null,null,"",""]
[null,null,null,null,null,null,null,null,null,null,null,null,null,null,null,"",""]
[null,null,null,null,null,null,null,null,null,null,null,null,null,null,null,"",""]
[null,null,null,null,null,null,null,null,null,null,null,null,null,null,null,"",""]
[null,null,null,null,null,null,null,null,null,null,null,null,null,null,null,"",""]
[null,null,null,null,null,null,null,null,null,null,null,null,null,null,null,"",""]
[null,null,null,null,null,null,null,null,null,null,null,null,null,null,null,"",""]
[null,null,null,null,null,null,null,null,null,null,null,null,null,null,null,"",""]
[null,null,null,null,null,null,null,null,null,null,null,null,null,null,null,"",""]
[null,null,null,null,null,null,null,null,null,null,null,null,null,null,null,"",""]
[null,null,null,null,null,null,null,null,null,null,null,null,null,null,null,"",""]
[null,null,null,null,null,null,null,null,null,null,null,null,null,null,null,"",""]
[null,null,null,null,null,null,null,null,null,null,null,null,null,null,null,"",""]
[null,null,null,null,null,null,null,null,null,null,null,null,null,null,null,"",""]
[null,null,null,null,null,null,null,null,null,null,null,null,null,null,null,"",""]
[null,null,null,null,null,null,null,null,null,null,null,null,null,null,null,"",""]
[null,null,null,null,null,null,null,null,null,null,null,null,null,null,null,"",""]
[null,null,null,null,null,null,null,null,null,null,null,null,null,null,null,"",""]
[null,null,null,null,null,null,null,null,null,null,null,null,null,null,null,"",""]
[null,null,null,null,null,null,null,null,null,null,null,null,null,null,null,"",""]
[null,null,null,null,null,null,null,null,null,null,null,null,null,null,null,"",""]
[null,null,null,null,null,null,null,null,null,null,null,null,null,null,null,"",""]
[null,null,null,null,null,null,null,null,null,null,null,null,null,null,null,"",""]
[null,null,null,null,null,null,null,null,null,null,null,null,null,null,null,"",""]
[null,null,null,null,null,null,null,null,null,null,null,null,null,null,null,"",""]
[null,null,null,null,null,null,null,null,null,null,null,null,null,null,null,"",""]
[null,null,null,null,null,null,null,null,null,null,null,null,null,null,null,"",""]
[null,null,null,null,null,null,null,null,null,null,null,null,null,null,null,"",""]
[null,null,null,null,null,null,null,null,null,null,null,null,null,null,null,"",""]
[null,null,null,null,null,null,null,null,null,null,null,null,null,null,null,"",""]
[null,null,null,null,null,null,null,null,null,null,null,null,null,null,null,"",""]
[null,null,null,null,null,null,null,null,null,null,null,null,null,null,null,"",""]
[null,null,null,null,null,null,null,null,null,null,null,null,null,null,null,"",""]
[null,null,null,null,null,null,null,null,null,null,null,null,null,null,null,"",""]
[null,null,null,null,null,null,null,null,null,null,null,null,null,null,null,"",""]
[null,null,null,null,null,null,null,null,null,null,null,null,null,null,null,"",""]
[null,null,null,null,null,null,null,null,null,null,null,null,null,null,null,"",""]
[null,null,null,null,null,null,null,null,null,null,null,null,null,null,null,"",""]
[null,null,null,null,null,null,null,null,null,null,null,null,null,null,null,"",""]
[null,null,null,null,null,null,null,null,null,null,null,null,null,null,null,"",""]
[null,null,null,null,null,null,null,null,null,null,null,null,null,null,null,"",""]
[null,null,null,null,null,null,null,null,null,null,null,null,null,null,null,"",""]
[null,null,null,null,null,null,null,null,null,null,null,null,null,null,null,"",""]
[null,null,null,null,null,null,null,null,null,null,null,null,null,null,null,"",""]
[null,null,null,null,null,null,null,null,null,null,null,null,null,null,null,"",""]
[null,null,null,null,null,null,null,null,null,null,null,null,null,null,null,"",""]
[null,null,null,null,null,null,null,null,null,null,null,null,null,null,null,"",""]
[null,null,null,null,null,null,null,null,null,null,null,null,null,null,null,"",""]
[null,null,null,null,null,null,null,null,null,null,null,null,null,null,null,"",""]
[null,null,null,null,null,null,null,null,null,null,null,null,null,null,null,"",""]
[null,null,null,null,null,null,null,null,null,null,null,null,null,null,null,"",""]
[null,null,null,null,null,null,null,null,null,null,null,null,null,null,null,"",""]
[null,null,null,null,null,null,null,null,null,null,null,null,null,null,null,"",""]
[null,null,null,null,null,null,null,null,null,null,null,null,null,null,null,"",""]
[null,null,null,null,null,null,null,null,null,null,null,null,null,null,null,"",""]
[null,null,null,null,null,null,null,null,null,null,null,null,null,null,null,"",""]
[null,null,null,null,null,null,null,null,null,null,null,null,null,null,null,"",""]
[null,null,null,null,null,null,null,null,null,null,null,null,null,null,null,"",""]
[null,null,null,null,null,null,null,null,null,null,null,null,null,null,null,"",""]
[null,null,null,null,null,null,null,null,null,null,null,null,null,null,null,"",""]
[null,null,null,null,null,null,null,null,null,null,null,null,null,null,null,"",""]
[null,null,null,null,null,null,null,null,null,null,null,null,null,null,null,"",""]
[null,null,null,null,null,null,null,null,null,null,null,null,null,null,null,"",""]
[null,null,null,null,null,null,null,null,null,null,null,null,null,null,null,"",""]
[null,null,null,null,null,null,null,null,null,null,null,null,null,null,null,"",""]
[null,null,null,null,null,null,null,null,null,null,null,null,null,null,null,"",""]
[null,null,null,null,null,null,null,null,null,null,null,null,null,null,null,"",""]
[null,null,null,null,null,null,null,null,null,null,null,null,null,null,null,"",""]
[null,null,null,null,null,null,null,null,null,null,null,null,null,null,null,"",""]
[null,null,null,null,null,null,null,null,null,null,null,null,null,null,null,"",""]
[null,null,null,null,null,null,null,null,null,null,null,null,null,null,null,"",""]
[null,null,null,null,null,null,null,null,null,null,null,null,null,null,null,"",""]
[null,null,null,null,null,null,null,null,null,null,null,null,null,null,null,"",""]
[null,null,null,null,null,null,null,null,null,null,null,null,null,null,null,"",""]
[null,null,null,null,null,null,null,null,null,null,null,null,null,null,null,"",""]
[null,null,null,null,null,null,null,null,null,null,null,null,null,null,null,"",""]
[null,null,null,null,null,null,null,null,null,null,null,null,null,null,null,"",""]
[null,null,null,null,null,null,null,null,null,null,null,null,null,null,null,"",""]
[null,null,null,null,null,null,null,null,null,null,null,null,null,null,null,"",""]
[null,null,null,null,null,null,null,null,null,null,null,null,null,null,null,"",""]
[null,null,null,null,null,null,null,null,null,null,null,null,null,null,null,"",""]
[null,null,null,null,null,null,null,null,null,null,null,null,null,null,null,"",""]
[null,null,null,null,null,null,null,null,null,null,null,null,null,null,null,"",""]
[null,null,null,null,null,null,null,null,null,null,null,null,null,null,null,"",""]
[null,null,null,null,null,null,null,null,null,null,null,null,null,null,null,"",""]
[null,null,null,null,null,null,null,null,null,null,null,null,null,null,null,"",""]
[null,null,null,null,null,null,null,null,null,null,null,null,null,null,null,"",""]
[null,null,null,null,null,null,null,null,null,null,null,null,null,null,null,"",""]
[null,null,null,null,null,null,null,null,null,null,null,null,null,null,null,"",""]
[null,null,null,null,null,null,null,null,null,null,null,null,null,null,null,"",""]
[null,null,null,null,null,null,null,null,null,null,null,null,null,null,null,"",""]
[null,null,null,null,null,null,null,null,null,null,null,null,null,null,null,"",""]
[null,null,null,null,null,null,null,null,null,null,null,null,null,null,null,"",""]
[null,null,null,null,null,null,null,null,null,null,null,null,null,null,null,"",""]
[null,null,null,null,null,null,null,null,null,null,null,null,null,null,null,"",""]
[null,null,null,null,null,null,null,null,null,null,null,null,null,null,null,"",""]
[null,null,null,null,null,null,null,null,null,null,null,null,null,null,null,"",""]
[null,null,null,null,null,null,null,null,null,null,null,null,null,null,null,"",""]
[null,null,null,null,null,null,null,null,null,null,null,null,null,null,null,"",""]
[null,null,null,null,null,null,null,null,null,null,null,null,null,null,null,"",""]
[null,null,null,null,null,null,null,null,null,null,null,null,null,null,null,"",""]
[null,null,null,null,null,null,null,null,null,null,null,null,null,null,null,"",""]
[null,null,null,null,null,null,null,null,null,null,null,null,null,null,null,"",""]
[null,null,null,null,null,null,null,null,null,null,null,null,null,null,null,"",""]
[null,null,null,null,null,null,null,null,null,null,null,null,null,null,null,"",""]
[null,null,null,null,null,null,null,null,null,null,null,null,null,null,null,"",""]
[null,null,null,null,null,null,null,null,null,null,null,null,null,null,null,"",""]
[null,null,null,null,null,null,null,null,null,null,null,null,null,null,null,"",""]
[null,null,null,null,null,null,null,null,null,null,null,null,null,null,null,"",""]
[null,null,null,null,null,null,null,null,null,null,null,null,null,null,null,"",""]
[null,null,null,null,null,null,null,null,null,null,null,null,null,null,null,"",""]
[null,null,null,null,null,null,null,null,null,null,null,null,null,null,null,"",""]
[null,null,null,null,null,null,null,null,null,null,null,null,null,null,null,"",""]
[null,null,null,null,null,null,null,null,null,null,null,null,null,null,null,"",""]
[null,null,null,null,null,null,null,null,null,null,null,null,null,null,null,"",""]
[null,null,null,null,null,null,null,null,null,null,null,null,null,null,null,"",""]
[null,null,null,null,null,null,null,null,null,null,null,null,null,null,null,"",""]
[null,null,null,null,null,null,null,null,null,null,null,null,null,null,null,"",""]
[null,null,null,null,null,null,null,null,null,null,null,null,null,null,null,"",""]
[null,null,null,null,null,null,null,null,null,null,null,null,null,null,null,"",""]
[null,null,null,null,null,null,null,null,null,null,null,null,null,null,null,"",""]
[null,null,null,null,null,null,null,null,null,null,null,null,null,null,null,"",""]
[null,null,null,null,null,null,null,null,null,null,null,null,null,null,null,"",""]
[null,null,null,null,null,null,null,null,null,null,null,null,null,null,null,"",""]
[null,null,null,null,null,null,null,null,null,null,null,null,null,null,null,"",""]
[null,null,null,null,null,null,null,null,null,null,null,null,null,null,null,"",""]
[null,null,null,null,null,null,null,null,null,null,null,null,null,null,null,"",""]
[null,null,null,null,null,null,null,null,null,null,null,null,null,null,null,"",""]
[null,null,null,null,null,null,null,null,null,null,null,null,null,null,null,"",""]
[null,null,null,null,null,null,null,null,null,null,null,null,null,null,null,"",""]
[null,null,null,null,null,null,null,null,null,null,null,null,null,null,null,"",""]
[null,null,null,null,null,null,null,null,null,null,null,null,null,null,null,"",""]
[null,null,null,null,null,null,null,null,null,null,null,null,null,null,null,"",""]
[null,null,null,null,null,null,null,null,null,null,null,null,null,null,null,"",""]
[null,null,null,null,null,null,null,null,null,null,null,null,null,null,null,"",""]
[null,null,null,null,null,null,null,null,null,null,null,null,null,null,null,"",""]
[null,null,null,null,null,null,null,null,null,null,null,null,null,null,null,"",""]
[null,null,null,null,null,null,null,null,null,null,null,null,null,null,null,"",""]
[null,null,null,null,null,null,null,null,null,null,null,null,null,null,null,"",""]
[null,null,null,null,null,null,null,null,null,null,null,null,null,null,null,"",""]
[null,null,null,null,null,null,null,null,null,null,null,null,null,null,null,"",""]
[null,null,null,null,null,null,null,null,null,null,null,null,null,null,null,"",""]
[null,null,null,null,null,null,null,null,null,null,null,null,null,null,null,"",""]
[null,null,null,null,null,null,null,null,null,null,null,null,null,null,null,"",""]
[null,null,null,null,null,null,null,null,null,null,null,null,null,null,null,"",""]
[null,null,null,null,null,null,null,null,null,null,null,null,null,null,null,"",""]
[null,null,null,null,null,null,null,null,null,null,null,null,null,null,null,"",""]
[null,null,null,null,null,null,null,null,null,null,null,null,null,null,null,"",""]
[null,null,null,null,null,null,null,null,null,null,null,null,null,null,null,"",""]
[null,null,null,null,null,null,null,null,null,null,null,null,null,null,null,"",""]
[null,null,null,null,null,null,null,null,null,null,null,null,null,null,null,"",""]
[null,null,null,null,null,null,null,null,null,null,null,null,null,null,null,"",""]
[null,null,null,null,null,null,null,null,null,null,null,null,null,null,null,"",""]
[null,null,null,null,null,null,null,null,null,null,null,null,null,null,null,"",""]
[null,null,null,null,null,null,null,null,null,null,null,null,null,null,null,"",""]
[null,null,null,null,null,null,null,null,null,null,null,null,null,null,null,"",""]
[null,null,null,null,null,null,null,null,null,null,null,null,null,null,null,"",""]
[null,null,null,null,null,null,null,null,null,null,null,null,null,null,null,"",""]
[null,null,null,null,null,null,null,null,null,null,null,null,null,null,null,"",""]
[null,null,null,null,null,null,null,null,null,null,null,null,null,null,null,"",""]
[null,null,null,null,null,null,null,null,null,null,null,null,null,null,null,"",""]
[null,null,null,null,null,null,null,null,null,null,null,null,null,null,null,"",""]
[null,null,null,null,null,null,null,null,null,null,null,null,null,null,null,"",""]
[null,null,null,null,null,null,null,null,null,null,null,null,null,null,null,"",""]
[null,null,null,null,null,null,null,null,null,null,null,null,null,null,null,"",""]
[null,null,null,null,null,null,null,null,null,null,null,null,null,null,null,"",""]
[null,null,null,null,null,null,null,null,null,null,null,null,null,null,null,"",""]
[null,null,null,null,null,null,null,null,null,null,null,null,null,null,null,"",""]
[null,null,null,null,null,null,null,null,null,null,null,null,null,null,null,"",""]
[null,null,null,null,null,null,null,null,null,null,null,null,null,null,null,"",""]
[null,null,null,null,null,null,null,null,null,null,null,null,null,null,null,"",""]
[null,null,null,null,null,null,null,null,null,null,null,null,null,null,null,"",""]
[null,null,null,null,null,null,null,null,null,null,null,null,null,null,null,"",""]
[null,null,null,null,null,null,null,null,null,null,null,null,null,null,null,"",""]
[null,null,null,null,null,null,null,null,null,null,null,null,null,null,null,"",""]
[null,null,null,null,null,null,null,null,null,null,null,null,null,null,null,"",""]
[null,null,null,null,null,null,null,null,null,null,null,null,null,null,null,"",""]
[null,null,null,null,null,null,null,null,null,null,null,null,null,null,null,"",""]
[null,null,null,null,null,null,null,null,null,null,null,null,null,null,null,"",""]
[null,null,null,null,null,null,null,null,null,null,null,null,null,null,null,"",""]
[null,null,null,null,null,null,null,null,null,null,null,null,null,null,null,"",""]
[null,null,null,null,null,null,null,null,null,null,null,null,null,null,null,"",""]
[null,null,null,null,null,null,null,null,null,null,null,null,null,null,null,"",""]
[null,null,null,null,null,null,null,null,null,null,null,null,null,null,null,"",""]
[null,null,null,null,null,null,null,null,null,null,null,null,null,null,null,"",""]
[null,null,null,null,null,null,null,null,null,null,null,null,null,null,null,"",""]
[null,null,null,null,null,null,null,null,null,null,null,null,null,null,null,"",""]
[null,null,null,null,null,null,null,null,null,null,null,null,null,null,null,"",""]
[null,null,null,null,null,null,null,null,null,null,null,null,null,null,null,"",""]
[null,null,null,null,null,null,null,null,null,null,null,null,null,null,null,"",""]
[null,null,null,null,null,null,null,null,null,null,null,null,null,null,null,"",""]
[null,null,null,null,null,null,null,null,null,null,null,null,null,null,null,"",""]
[null,null,null,null,null,null,null,null,null,null,null,null,null,null,null,"",""]
[null,null,null,null,null,null,null,null,null,null,null,null,null,null,null,"",""]
[null,null,null,null,null,null,null,null,null,null,null,null,null,null,null,"",""]
[null,null,null,null,null,null,null,null,null,null,null,null,null,null,null,"",""]
[null,null,null,null,null,null,null,null,null,null,null,null,null,null,null,"",""]
[null,null,null,null,null,null,null,null,null,null,null,null,null,null,null,"",""]
[null,null,null,null,null,null,null,null,null,null,null,null,null,null,null,"",""]
[null,null,null,null,null,null,null,null,null,null,null,null,null,null,null,"",""]
[null,null,null,null,null,null,null,null,null,null,null,null,null,null,null,"",""]
[null,null,null,null,null,null,null,null,null,null,null,null,null,null,null,"",""]
[null,null,null,null,null,null,null,null,null,null,null,null,null,null,null,"",""]
[null,null,null,null,null,null,null,null,null,null,null,null,null,null,null,"",""]
[null,null,null,null,null,null,null,null,null,null,null,null,null,null,null,"",""]
[null,null,null,null,null,null,null,null,null,null,null,null,null,null,null,"",""]
[null,null,null,null,null,null,null,null,null,null,null,null,null,null,null,"",""]
[null,null,null,null,null,null,null,null,null,null,null,null,null,null,null,"",""]
[null,null,null,null,null,null,null,null,null,null,null,null,null,null,null,"",""]
[null,null,null,null,null,null,null,null,null,null,null,null,null,null,null,"",""]
[null,null,null,null,null,null,null,null,null,null,null,null,null,null,null,"",""]
[null,null,null,null,null,null,null,null,null,null,null,null,null,null,null,"",""]
[null,null,null,null,null,null,null,null,null,null,null,null,null,null,null,"",""]
[null,null,null,null,null,null,null,null,null,null,null,null,null,null,null,"",""]
[null,null,null,null,null,null,null,null,null,null,null,null,null,null,null,"",""]
[null,null,null,null,null,null,null,null,null,null,null,null,null,null,null,"",""]
[null,null,null,null,null,null,null,null,null,null,null,null,null,null,null,"",""]
[null,null,null,null,null,null,null,null,null,null,null,null,null,null,null,"",""]
[null,null,null,null,null,null,null,null,null,null,null,null,null,null,null,"",""]
[null,null,null,null,null,null,null,null,null,null,null,null,null,null,null,"",""]
[null,null,null,null,null,null,null,null,null,null,null,null,null,null,null,"",""]
[null,null,null,null,null,null,null,null,null,null,null,null,null,null,null,"",""]
[null,null,null,null,null,null,null,null,null,null,null,null,null,null,null,"",""]
[null,null,null,null,null,null,null,null,null,null,null,null,null,null,null,"",""]
[null,null,null,null,null,null,null,null,null,null,null,null,null,null,null,"",""]
[null,null,null,null,null,null,null,null,null,null,null,null,null,null,null,"",""]
[null,null,null,null,null,null,null,null,null,null,null,null,null,null,null,"",""]
[null,null,null,null,null,null,null,null,null,null,null,null,null,null,null,"",""]
[null,null,null,null,null,null,null,null,null,null,null,null,null,null,null,"",""]
[null,null,null,null,null,null,null,null,null,null,null,null,null,null,null,"",""]
[null,null,null,null,null,null,null,null,null,null,null,null,null,null,null,"",""]
[null,null,null,null,null,null,null,null,null,null,null,null,null,null,null,"",""]
[null,null,null,null,null,null,null,null,null,null,null,null,null,null,null,"",""]
[null,null,null,null,null,null,null,null,null,null,null,null,null,null,null,"",""]
[null,null,null,null,null,null,null,null,null,null,null,null,null,null,null,"",""]
[null,null,null,null,null,null,null,null,null,null,null,null,null,null,null,"",""]
[null,null,null,null,null,null,null,null,null,null,null,null,null,null,null,"",""]
[null,null,null,null,null,null,null,null,null,null,null,null,null,null,null,"",""]
[null,null,null,null,null,null,null,null,null,null,null,null,null,null,null,"",""]
[null,null,null,null,null,null,null,null,null,null,null,null,null,null,null,"",""]
[null,null,null,null,null,null,null,null,null,null,null,null,null,null,null,"",""]
[null,null,null,null,null,null,null,null,null,null,null,null,null,null,null,"",""]
[null,null,null,null,null,null,null,null,null,null,null,null,null,null,null,"",""]
[null,null,null,null,null,null,null,null,null,null,null,null,null,null,null,"",""]
[null,null,null,null,null,null,null,null,null,null,null,null,null,null,null,"",""]
[null,null,null,null,null,null,null,null,null,null,null,null,null,null,null,"",""]
[null,null,null,null,null,null,null,null,null,null,null,null,null,null,null,"",""]
[null,null,null,null,null,null,null,null,null,null,null,null,null,null,null,"",""]
[null,null,null,null,null,null,null,null,null,null,null,null,null,null,null,"",""]
[null,null,null,null,null,null,null,null,null,null,null,null,null,null,null,"",""]
[null,null,null,null,null,null,null,null,null,null,null,null,null,null,null,"",""]
[null,null,null,null,null,null,null,null,null,null,null,null,null,null,null,"",""]
[null,null,null,null,null,null,null,null,null,null,null,null,null,null,null,"",""]
[null,null,null,null,null,null,null,null,null,null,null,null,null,null,null,"",""]
[null,null,null,null,null,null,null,null,null,null,null,null,null,null,null,"",""]
[null,null,null,null,null,null,null,null,null,null,null,null,null,null,null,"",""]
[null,null,null,null,null,null,null,null,null,null,null,null,null,null,null,"",""]
[null,null,null,null,null,null,null,null,null,null,null,null,null,null,null,"",""]
[null,null,null,null,null,null,null,null,null,null,null,null,null,null,null,"",""]
[null,null,null,null,null,null,null,null,null,null,null,null,null,null,null,"",""]
[null,null,null,null,null,null,null,null,null,null,null,null,null,null,null,"",""]
[null,null,null,null,null,null,null,null,null,null,null,null,null,null,null,"",""]
[null,null,null,null,null,null,null,null,null,null,null,null,null,null,null,"",""]
[null,null,null,null,null,null,null,null,null,null,null,null,null,null,null,"",""]
[null,null,null,null,null,null,null,null,null,null,null,null,null,null,null,"",""]
[null,null,null,null,null,null,null,null,null,null,null,null,null,null,null,"",""]
[null,null,null,null,null,null,null,null,null,null,null,null,null,null,null,"",""]
[null,null,null,null,null,null,null,null,null,null,null,null,null,null,null,"",""]
[null,null,null,null,null,null,null,null,null,null,null,null,null,null,null,"",""]
[null,null,null,null,null,null,null,null,null,null,null,null,null,null,null,"",""]
[null,null,null,null,null,null,null,null,null,null,null,null,null,null,null,"",""]
[null,null,null,null,null,null,null,null,null,null,null,null,null,null,null,"",""]
[null,null,null,null,null,null,null,null,null,null,null,null,null,null,null,"",""]
[null,null,null,null,null,null,null,null,null,null,null,null,null,null,null,"",""]
[null,null,null,null,null,null,null,null,null,null,null,null,null,null,null,"",""]
[null,null,null,null,null,null,null,null,null,null,null,null,null,null,null,"",""]
[null,null,null,null,null,null,null,null,null,null,null,null,null,null,null,"",""]
[null,null,null,null,null,null,null,null,null,null,null,null,null,null,null,"",""]
[null,null,null,null,null,null,null,null,null,null,null,null,null,null,null,"",""]
[null,null,null,null,null,null,null,null,null,null,null,null,null,null,null,"",""]
[null,null,null,null,null,null,null,null,null,null,null,null,null,null,null,"",""]
[null,null,null,null,null,null,null,null,null,null,null,null,null,null,null,"",""]
[null,null,null,null,null,null,null,null,null,null,null,null,null,null,null,"",""]
[null,null,null,null,null,null,null,null,null,null,null,null,null,null,null,"",""]
[null,null,null,null,null,null,null,null,null,null,null,null,null,null,null,"",""]
[null,null,null,null,null,null,null,null,null,null,null,null,null,null,null,"",""]
[null,null,null,null,null,null,null,null,null,null,null,null,null,null,null,"",""]
[null,null,null,null,null,null,null,null,null,null,null,null,null,null,null,"",""]
[null,null,null,null,null,null,null,null,null,null,null,null,null,null,null,"",""]
[null,null,null,null,null,null,null,null,null,null,null,null,null,null,null,"",""]
[null,null,null,null,null,null,null,null,null,null,null,null,null,null,null,"",""]
[null,null,null,null,null,null,null,null,null,null,null,null,null,null,null,"",""]
[null,null,null,null,null,null,null,null,null,null,null,null,null,null,null,"",""]
[null,null,null,null,null,null,null,null,null,null,null,null,null,null,null,"",""]
[null,null,null,null,null,null,null,null,null,null,null,null,null,null,null,"",""]
[null,null,null,null,null,null,null,null,null,null,null,null,null,null,null,"",""]
[null,null,null,null,null,null,null,null,null,null,null,null,null,null,null,"",""]
[null,null,null,null,null,null,null,null,null,null,null,null,null,null,null,"",""]
[null,null,null,null,null,null,null,null,null,null,null,null,null,null,null,"",""]
[null,null,null,null,null,null,null,null,null,null,null,null,null,null,null,"",""]
[null,null,null,null,null,null,null,null,null,null,null,null,null,null,null,"",""]
[null,null,null,null,null,null,null,null,null,null,null,null,null,null,null,"",""]
[null,null,null,null,null,null,null,null,null,null,null,null,null,null,null,"",""]
[null,null,null,null,null,null,null,null,null,null,null,null,null,null,null,"",""]
[null,null,null,null,null,null,null,null,null,null,null,null,null,null,null,"",""]
[null,null,null,null,null,null,null,null,null,null,null,null,null,null,null,"",""]
[null,null,null,null,null,null,null,null,null,null,null,null,null,null,null,"",""]
[null,null,null,null,null,null,null,null,null,null,null,null,null,null,null,"",""]
[null,null,null,null,null,null,null,null,null,null,null,null,null,null,null,"",""]
[null,null,null,null,null,null,null,null,null,null,null,null,null,null,null,"",""]
[null,null,null,null,null,null,null,null,null,null,null,null,null,null,null,"",""]
[null,null,null,null,null,null,null,null,null,null,null,null,null,null,null,"",""]
[null,null,null,null,null,null,null,null,null,null,null,null,null,null,null,"",""]
[null,null,null,null,null,null,null,null,null,null,null,null,null,null,null,"",""]
[null,null,null,null,null,null,null,null,null,null,null,null,null,null,null,"",""]
[null,null,null,null,null,null,null,null,null,null,null,null,null,null,null,"",""]
[null,null,null,null,null,null,null,null,null,null,null,null,null,null,null,"",""]
[null,null,null,null,null,null,null,null,null,null,null,null,null,null,null,"",""]
[null,null,null,null,null,null,null,null,null,null,null,null,null,null,null,"",""]
[null,null,null,null,null,null,null,null,null,null,null,null,null,null,null,"",""]
[null,null,null,null,null,null,null,null,null,null,null,null,null,null,null,"",""]
[null,null,null,null,null,null,null,null,null,null,null,null,null,null,null,"",""]
[null,null,null,null,null,null,null,null,null,null,null,null,null,null,null,"",""]
[null,null,null,null,null,null,null,null,null,null,null,null,null,null,null,"",""]
[null,null,null,null,null,null,null,null,null,null,null,null,null,null,null,"",""]
[null,null,null,null,null,null,null,null,null,null,null,null,null,null,null,"",""]
[null,null,null,null,null,null,null,null,null,null,null,null,null,null,null,"",""]
[null,null,null,null,null,null,null,null,null,null,null,null,null,null,null,"",""]
[null,null,null,null,null,null,null,null,null,null,null,null,null,null,null,"",""]
[null,null,null,null,null,null,null,null,null,null,null,null,null,null,null,"",""]
[null,null,null,null,null,null,null,null,null,null,null,null,null,null,null,"",""]
[null,null,null,null,null,null,null,null,null,null,null,null,null,null,null,"",""]
[null,null,null,null,null,null,null,null,null,null,null,null,null,null,null,"",""]
[null,null,null,null,null,null,null,null,null,null,null,null,null,null,null,"",""]
[null,null,null,null,null,null,null,null,null,null,null,null,null,null,null,"",""]
[null,null,null,null,null,null,null,null,null,null,null,null,null,null,null,"",""]
[null,null,null,null,null,null,null,null,null,null,null,null,null,null,null,"",""]
[null,null,null,null,null,null,null,null,null,null,null,null,null,null,null,"",""]
[null,null,null,null,null,null,null,null,null,null,null,null,null,null,null,"",""]
[null,null,null,null,null,null,null,null,null,null,null,null,null,null,null,"",""]
[null,null,null,null,null,null,null,null,null,null,null,null,null,null,null,"",""]
[null,null,null,null,null,null,null,null,null,null,null,null,null,null,null,"",""]
[null,null,null,null,null,null,null,null,null,null,null,null,null,null,null,"",""]
[null,null,null,null,null,null,null,null,null,null,null,null,null,null,null,"",""]
[null,null,null,null,null,null,null,null,null,null,null,null,null,null,null,"",""]
[null,null,null,null,null,null,null,null,null,null,null,null,null,null,null,"",""]
[null,null,null,null,null,null,null,null,null,null,null,null,null,null,null,"",""]
[null,null,null,null,null,null,null,null,null,null,null,null,null,null,null,"",""]
[null,null,null,null,null,null,null,null,null,null,null,null,null,null,null,"",""]
[null,null,null,null,null,null,null,null,null,null,null,null,null,null,null,"",""]
[null,null,null,null,null,null,null,null,null,null,null,null,null,null,null,"",""]
[null,null,null,null,null,null,null,null,null,null,null,null,null,null,null,"",""]
[null,null,null,null,null,null,null,null,null,null,null,null,null,null,null,"",""]
[null,null,null,null,null,null,null,null,null,null,null,null,null,null,null,"",""]
[null,null,null,null,null,null,null,null,null,null,null,null,null,null,null,"",""]
[null,null,null,null,null,null,null,null,null,null,null,null,null,null,null,"",""]
[null,null,null,null,null,null,null,null,null,null,null,null,null,null,null,"",""]
[null,null,null,null,null,null,null,null,null,null,null,null,null,null,null,"",""]
[null,null,null,null,null,null,null,null,null,null,null,null,null,null,null,"",""]
[null,null,null,null,null,null,null,null,null,null,null,null,null,null,null,"",""]
[null,null,null,null,null,null,null,null,null,null,null,null,null,null,null,"",""]
[null,null,null,null,null,null,null,null,null,null,null,null,null,null,null,"",""]
[null,null,null,null,null,null,null,null,null,null,null,null,null,null,null,"",""]
[null,null,null,null,null,null,null,null,null,null,null,null,null,null,null,"",""]
[null,null,null,null,null,null,null,null,null,null,null,null,null,null,null,"",""]
[null,null,null,null,null,null,null,null,null,null,null,null,null,null,null,"",""]
[null,null,null,null,null,null,null,null,null,null,null,null,null,null,null,"",""]
[null,null,null,null,null,null,null,null,null,null,null,null,null,null,null,"",""]
[null,null,null,null,null,null,null,null,null,null,null,null,null,null,null,"",""]
[null,null,null,null,null,null,null,null,null,null,null,null,null,null,null,"",""]
[null,null,null,null,null,null,null,null,null,null,null,null,null,null,null,"",""]
[null,null,null,null,null,null,null,null,null,null,null,null,null,null,null,"",""]
[null,null,null,null,null,null,null,null,null,null,null,null,null,null,null,"",""]
[null,null,null,null,null,null,null,null,null,null,null,null,null,null,null,"",""]
[null,null,null,null,null,null,null,null,null,null,null,null,null,null,null,"",""]
[null,null,null,null,null,null,null,null,null,null,null,null,null,null,null,"",""]
[null,null,null,null,null,null,null,null,null,null,null,null,null,null,null,"",""]
[null,null,null,null,null,null,null,null,null,null,null,null,null,null,null,"",""]
[null,null,null,null,null,null,null,null,null,null,null,null,null,null,null,"",""]
[null,null,null,null,null,null,null,null,null,null,null,null,null,null,null,"",""]
[null,null,null,null,null,null,null,null,null,null,null,null,null,null,null,"",""]
[null,null,null,null,null,null,null,null,null,null,null,null,null,null,null,"",""]
[null,null,null,null,null,null,null,null,null,null,null,null,null,null,null,"",""]
[null,null,null,null,null,null,null,null,null,null,null,null,null,null,null,"",""]
[null,null,null,null,null,null,null,null,null,null,null,null,null,null,null,"",""]
[null,null,null,null,null,null,null,null,null,null,null,null,null,null,null,"",""]
[null,null,null,null,null,null,null,null,null,null,null,null,null,null,null,"",""]
[null,null,null,null,null,null,null,null,null,null,null,null,null,null,null,"",""]
[null,null,null,null,null,null,null,null,null,null,null,null,null,null,null,"",""]
[null,null,null,null,null,null,null,null,null,null,null,null,null,null,null,"",""]
[null,null,null,null,null,null,null,null,null,null,null,null,null,null,null,"",""]
[null,null,null,null,null,null,null,null,null,null,null,null,null,null,null,"",""]
[null,null,null,null,null,null,null,null,null,null,null,null,null,null,null,"",""]
[null,null,null,null,null,null,null,null,null,null,null,null,null,null,null,"",""]
[null,null,null,null,null,null,null,null,null,null,null,null,null,null,null,"",""]
[null,null,null,null,null,null,null,null,null,null,null,null,null,null,null,"",""]
[null,null,null,null,null,null,null,null,null,null,null,null,null,null,null,"",""]
[null,null,null,null,null,null,null,null,null,null,null,null,null,null,null,"",""]
[null,null,null,null,null,null,null,null,null,null,null,null,null,null,null,"",""]
[null,null,null,null,null,null,null,null,null,null,null,null,null,null,null,"",""]
[null,null,null,null,null,null,null,null,null,null,null,null,null,null,null,"",""]
[null,null,null,null,null,null,null,null,null,null,null,null,null,null,null,"",""]
[null,null,null,null,null,null,null,null,null,null,null,null,null,null,null,"",""]
[null,null,null,null,null,null,null,null,null,null,null,null,null,null,null,"",""]
[null,null,null,null,null,null,null,null,null,null,null,null,null,null,null,"",""]
[null,null,null,null,null,null,null,null,null,null,null,null,null,null,null,"",""]
[null,null,null,null,null,null,null,null,null,null,null,null,null,null,null,"",""]
[null,null,null,null,null,null,null,null,null,null,null,null,null,null,null,"",""]
[null,null,null,null,null,null,null,null,null,null,null,null,null,null,null,"",""]
[null,null,null,null,null,null,null,null,null,null,null,null,null,null,null,"",""]
[null,null,null,null,null,null,null,null,null,null,null,null,null,null,null,"",""]
[null,null,null,null,null,null,null,null,null,null,null,null,null,null,null,"",""]
[null,null,null,null,null,null,null,null,null,null,null,null,null,null,null,"",""]
[null,null,null,null,null,null,null,null,null,null,null,null,null,null,null,"",""]
[null,null,null,null,null,null,null,null,null,null,null,null,null,null,null,"",""]
[null,null,null,null,null,null,null,null,null,null,null,null,null,null,null,"",""]
[null,null,null,null,null,null,null,null,null,null,null,null,null,null,null,"",""]
[null,null,null,null,null,null,null,null,null,null,null,null,null,null,null,"",""]
[null,null,null,null,null,null,null,null,null,null,null,null,null,null,null,"",""]
[null,null,null,null,null,null,null,null,null,null,null,null,null,null,null,"",""]
[null,null,null,null,null,null,null,null,null,null,null,null,null,null,null,"",""]
[null,null,null,null,null,null,null,null,null,null,null,null,null,null,null,"",""]
[null,null,null,null,null,null,null,null,null,null,null,null,null,null,null,"",""]
[null,null,null,null,null,null,null,null,null,null,null,null,null,null,null,"",""]
[null,null,null,null,null,null,null,null,null,null,null,null,null,null,null,"",""]
[null,null,null,null,null,null,null,null,null,null,null,null,null,null,null,"",""]
[null,null,null,null,null,null,null,null,null,null,null,null,null,null,null,"",""]
[null,null,null,null,null,null,null,null,null,null,null,null,null,null,null,"",""]
[null,null,null,null,null,null,null,null,null,null,null,null,null,null,null,"",""]
[null,null,null,null,null,null,null,null,null,null,null,null,null,null,null,"",""]
[null,null,null,null,null,null,null,null,null,null,null,null,null,null,null,"",""]
[null,null,null,null,null,null,null,null,null,null,null,null,null,null,null,"",""]
[null,null,null,null,null,null,null,null,null,null,null,null,null,null,null,"",""]
[null,null,null,null,null,null,null,null,null,null,null,null,null,null,null,"",""]
[null,null,null,null,null,null,null,null,null,null,null,null,null,null,null,"",""]
[null,null,null,null,null,null,null,null,null,null,null,null,null,null,null,"",""]
[null,null,null,null,null,null,null,null,null,null,null,null,null,null,null,"",""]
[null,null,null,null,null,null,null,null,null,null,null,null,null,null,null,"",""]
[null,null,null,null,null,null,null,null,null,null,null,null,null,null,null,"",""]
[null,null,null,null,null,null,null,null,null,null,null,null,null,null,null,"",""]
[null,null,null,null,null,null,null,null,null,null,null,null,null,null,null,"",""]
[null,null,null,null,null,null,null,null,null,null,null,null,null,null,null,"",""]
[null,null,null,null,null,null,null,null,null,null,null,null,null,null,null,"",""]
[null,null,null,null,null,null,null,null,null,null,null,null,null,null,null,"",""]
[null,null,null,null,null,null,null,null,null,null,null,null,null,null,null,"",""]
[null,null,null,null,null,null,null,null,null,null,null,null,null,null,null,"",""]
[null,null,null,null,null,null,null,null,null,null,null,null,null,null,null,"",""]
[null,null,null,null,null,null,null,null,null,null,null,null,null,null,null,"",""]
[null,null,null,null,null,null,null,null,null,null,null,null,null,null,null,"",""]
[null,null,null,null,null,null,null,null,null,null,null,null,null,null,null,"",""]
[null,null,null,null,null,null,null,null,null,null,null,null,null,null,null,"",""]
[null,null,null,null,null,null,null,null,null,null,null,null,null,null,null,"",""]
[null,null,null,null,null,null,null,null,null,null,null,null,null,null,null,"",""]
[null,null,null,null,null,null,null,null,null,null,null,null,null,null,null,"",""]
[null,null,null,null,null,null,null,null,null,null,null,null,null,null,null,"",""]
[null,null,null,null,null,null,null,null,null,null,null,null,null,null,null,"",""]
[null,null,null,null,null,null,null,null,null,null,null,null,null,null,null,"",""]
[null,null,null,null,null,null,null,null,null,null,null,null,null,null,null,"",""]
[null,null,null,null,null,null,null,null,null,null,null,null,null,null,null,"",""]
[null,null,null,null,null,null,null,null,null,null,null,null,null,null,null,"",""]
[null,null,null,null,null,null,null,null,null,null,null,null,null,null,null,"",""]
[null,null,null,null,null,null,null,null,null,null,null,null,null,null,null,"",""]
[null,null,null,null,null,null,null,null,null,null,null,null,null,null,null,"",""]
[null,null,null,null,null,null,null,null,null,null,null,null,null,null,null,"",""]
[null,null,null,null,null,null,null,null,null,null,null,null,null,null,null,"",""]
[null,null,null,null,null,null,null,null,null,null,null,null,null,null,null,"",""]
[null,null,null,null,null,null,null,null,null,null,null,null,null,null,null,"",""]
[null,null,null,null,null,null,null,null,null,null,null,null,null,null,null,"",""]
[null,null,null,null,null,null,null,null,null,null,null,null,null,null,null,"",""]
[null,null,null,null,null,null,null,null,null,null,null,null,null,null,null,"",""]
[null,null,null,null,null,null,null,null,null,null,null,null,null,null,null,"",""]
[null,null,null,null,null,null,null,null,null,null,null,null,null,null,null,"",""]
[null,null,null,null,null,null,null,null,null,null,null,null,null,null,null,"",""]
[null,null,null,null,null,null,null,null,null,null,null,null,null,null,null,"",""]
[null,null,null,null,null,null,null,null,null,null,null,null,null,null,null,"",""]
[null,null,null,null,null,null,null,null,null,null,null,null,null,null,null,"",""]
[null,null,null,null,null,null,null,null,null,null,null,null,null,null,null,"",""]
[null,null,null,null,null,null,null,null,null,null,null,null,null,null,null,"",""]
[null,null,null,null,null,null,null,null,null,null,null,null,null,null,null,"",""]
[null,null,null,null,null,null,null,null,null,null,null,null,null,null,null,"",""]
[null,null,null,null,null,null,null,null,null,null,null,null,null,null,null,"",""]
[null,null,null,null,null,null,null,null,null,null,null,null,null,null,null,"",""]
[null,null,null,null,null,null,null,null,null,null,null,null,null,null,null,"",""]
[null,null,null,null,null,null,null,null,null,null,null,null,null,null,null,"",""]
[null,null,null,null,null,null,null,null,null,null,null,null,null,null,null,"",""]
[null,null,null,null,null,null,null,null,null,null,null,null,null,null,null,"",""]
[null,null,null,null,null,null,null,null,null,null,null,null,null,null,null,"",""]
[null,null,null,null,null,null,null,null,null,null,null,null,null,null,null,"",""]
[null,null,null,null,null,null,null,null,null,null,null,null,null,null,null,"",""]
[null,null,null,null,null,null,null,null,null,null,null,null,null,null,null,"",""]
[null,null,null,null,null,null,null,null,null,null,null,null,null,null,null,"",""]
[null,null,null,null,null,null,null,null,null,null,null,null,null,null,null,"",""]
[null,null,null,null,null,null,null,null,null,null,null,null,null,null,null,"",""]
[null,null,null,null,null,null,null,null,null,null,null,null,null,null,null,"",""]
[null,null,null,null,null,null,null,null,null,null,null,null,null,null,null,"",""]
[null,null,null,null,null,null,null,null,null,null,null,null,null,null,null,"",""]
[null,null,null,null,null,null,null,null,null,null,null,null,null,null,null,"",""]
[null,null,null,null,null,null,null,null,null,null,null,null,null,null,null,"",""]
[null,null,null,null,null,null,null,null,null,null,null,null,null,null,null,"",""]
[null,null,null,null,null,null,null,null,null,null,null,null,null,null,null,"",""]
[null,null,null,null,null,null,null,null,null,null,null,null,null,null,null,"",""]
[null,null,null,null,null,null,null,null,null,null,null,null,null,null,null,"",""]
[null,null,null,null,null,null,null,null,null,null,null,null,null,null,null,"",""]
[null,null,null,null,null,null,null,null,null,null,null,null,null,null,null,"",""]
[null,null,null,null,null,null,null,null,null,null,null,null,null,null,null,"",""]
[null,null,null,null,null,null,null,null,null,null,null,null,null,null,null,"",""]
[null,null,null,null,null,null,null,null,null,null,null,null,null,null,null,"",""]
[null,null,null,null,null,null,null,null,null,null,null,null,null,null,null,"",""]
[null,null,null,null,null,null,null,null,null,null,null,null,null,null,null,"",""]
[null,null,null,null,null,null,null,null,null,null,null,null,null,null,null,"",""]
[null,null,null,null,null,null,null,null,null,null,null,null,null,null,null,"",""]
[null,null,null,null,null,null,null,null,null,null,null,null,null,null,null,"",""]
[null,null,null,null,null,null,null,null,null,null,null,null,null,null,null,"",""]
[null,null,null,null,null,null,null,null,null,null,null,null,null,null,null,"",""]
[null,null,null,null,null,null,null,null,null,null,null,null,null,null,null,"",""]
[null,null,null,null,null,null,null,null,null,null,null,null,null,null,null,"",""]
[null,null,null,null,null,null,null,null,null,null,null,null,null,null,null,"",""]
[null,null,null,null,null,null,null,null,null,null,null,null,null,null,null,"",""]
[null,null,null,null,null,null,null,null,null,null,null,null,null,null,null,"",""]
[null,null,null,null,null,null,null,null,null,null,null,null,null,null,null,"",""]
[null,null,null,null,null,null,null,null,null,null,null,null,null,null,null,"",""]
[null,null,null,null,null,null,null,null,null,null,null,null,null,null,null,"",""]
[null,null,null,null,null,null,null,null,null,null,null,null,null,null,null,"",""]
[null,null,null,null,null,null,null,null,null,null,null,null,null,null,null,"",""]
[null,null,null,null,null,null,null,null,null,null,null,null,null,null,null,"",""]
[null,null,null,null,null,null,null,null,null,null,null,null,null,null,null,"",""]
[null,null,null,null,null,null,null,null,null,null,null,null,null,null,null,"",""]
[null,null,null,null,null,null,null,null,null,null,null,null,null,null,null,"",""]
[null,null,null,null,null,null,null,null,null,null,null,null,null,null,null,"",""]
[null,null,null,null,null,null,null,null,null,null,null,null,null,null,null,"",""]
[null,null,null,null,null,null,null,null,null,null,null,null,null,null,null,"",""]
[null,null,null,null,null,null,null,null,null,null,null,null,null,null,null,"",""]
[null,null,null,null,null,null,null,null,null,null,null,null,null,null,null,"",""]
[null,null,null,null,null,null,null,null,null,null,null,null,null,null,null,"",""]
[null,null,null,null,null,null,null,null,null,null,null,null,null,null,null,"",""]
[null,null,null,null,null,null,null,null,null,null,null,null,null,null,null,"",""]
[null,null,null,null,null,null,null,null,null,null,null,null,null,null,null,"",""]
[null,null,null,null,null,null,null,null,null,null,null,null,null,null,null,"",""]
[null,null,null,null,null,null,null,null,null,null,null,null,null,null,null,"",""]
[null,null,null,null,null,null,null,null,null,null,null,null,null,null,null,"",""]
[null,null,null,null,null,null,null,null,null,null,null,null,null,null,null,"",""]
[null,null,null,null,null,null,null,null,null,null,null,null,null,null,null,"",""]
[null,null,null,null,null,null,null,null,null,null,null,null,null,null,null,"",""]
[null,null,null,null,null,null,null,null,null,null,null,null,null,null,null,"",""]
[null,null,null,null,null,null,null,null,null,null,null,null,null,null,null,"",""]
[null,null,null,null,null,null,null,null,null,null,null,null,null,null,null,"",""]
[null,null,null,null,null,null,null,null,null,null,null,null,null,null,null,"",""]
[null,null,null,null,null,null,null,null,null,null,null,null,null,null,null,"",""]
[null,null,null,null,null,null,null,null,null,null,null,null,null,null,null,"",""]
[null,null,null,null,null,null,null,null,null,null,null,null,null,null,null,"",""]
[null,null,null,null,null,null,null,null,null,null,null,null,null,null,null,"",""]
[null,null,null,null,null,null,null,null,null,null,null,null,null,null,null,"",""]
[null,null,null,null,null,null,null,null,null,null,null,null,null,null,null,"",""]
[null,null,null,null,null,null,null,null,null,null,null,null,null,null,null,"",""]
[null,null,null,null,null,null,null,null,null,null,null,null,null,null,null,"",""]
[null,null,null,null,null,null,null,null,null,null,null,null,null,null,null,"",""]
[null,null,null,null,null,null,null,null,null,null,null,null,null,null,null,"",""]
[null,null,null,null,null,null,null,null,null,null,null,null,null,null,null,"",""]
[null,null,null,null,null,null,null,null,null,null,null,null,null,null,null,"",""]
[null,null,null,null,null,null,null,null,null,null,null,null,null,null,null,"",""]
[null,null,null,null,null,null,null,null,null,null,null,null,null,null,null,"",""]
[null,null,null,null,null,null,null,null,null,null,null,null,null,null,null,"",""]
[null,null,null,null,null,null,null,null,null,null,null,null,null,null,null,"",""]
[null,null,null,null,null,null,null,null,null,null,null,null,null,null,null,"",""]
[null,null,null,null,null,null,null,null,null,null,null,null,null,null,null,"",""]
[null,null,null,null,null,null,null,null,null,null,null,null,null,null,null,"",""]
[null,null,null,null,null,null,null,null,null,null,null,null,null,null,null,"",""]
[null,null,null,null,null,null,null,null,null,null,null,null,null,null,null,"",""]
[null,null,null,null,null,null,null,null,null,null,null,null,null,null,null,"",""]
[null,null,null,null,null,null,null,null,null,null,null,null,null,null,null,"",""]
[null,null,null,null,null,null,null,null,null,null,null,null,null,null,null,"",""]
[null,null,null,null,null,null,null,null,null,null,null,null,null,null,null,"",""]
[null,null,null,null,null,null,null,null,null,null,null,null,null,null,null,"",""]
[null,null,null,null,null,null,null,null,null,null,null,null,null,null,null,"",""]
[null,null,null,null,null,null,null,null,null,null,null,null,null,null,null,"",""]
[null,null,null,null,null,null,null,null,null,null,null,null,null,null,null,"",""]
[null,null,null,null,null,null,null,null,null,null,null,null,null,null,null,"",""]
[null,null,null,null,null,null,null,null,null,null,null,null,null,null,null,"",""]
[null,null,null,null,null,null,null,null,null,null,null,null,null,null,null,"",""]
[null,null,null,null,null,null,null,null,null,null,null,null,null,null,null,"",""]
[null,null,null,null,null,null,null,null,null,null,null,null,null,null,null,"",""]
[null,null,null,null,null,null,null,null,null,null,null,null,null,null,null,"",""]
[null,null,null,null,null,null,null,null,null,null,null,null,null,null,null,"",""]
[null,null,null,null,null,null,null,null,null,null,null,null,null,null,null,"",""]
[null,null,null,null,null,null,null,null,null,null,null,null,null,null,null,"",""]
[null,null,null,null,null,null,null,null,null,null,null,null,null,null,null,"",""]
[null,null,null,null,null,null,null,null,null,null,null,null,null,null,null,"",""]
[null,null,null,null,null,null,null,null,null,null,null,null,null,null,null,"",""]
[null,null,null,null,null,null,null,null,null,null,null,null,null,null,null,"",""]
[null,null,null,null,null,null,null,null,null,null,null,null,null,null,null,"",""]
[null,null,null,null,null,null,null,null,null,null,null,null,null,null,null,"",""]
[null,null,null,null,null,null,null,null,null,null,null,null,null,null,null,"",""]
[null,null,null,null,null,null,null,null,null,null,null,null,null,null,null,"",""]
[null,null,null,null,null,null,null,null,null,null,null,null,null,null,null,"",""]
[null,null,null,null,null,null,null,null,null,null,null,null,null,null,null,"",""]
[null,null,null,null,null,null,null,null,null,null,null,null,null,null,null,"",""]
[null,null,null,null,null,null,null,null,null,null,null,null,null,null,null,"",""]
[null,null,null,null,null,null,null,null,null,null,null,null,null,null,null,"",""]
[null,null,null,null,null,null,null,null,null,null,null,null,null,null,null,"",""]
[null,null,null,null,null,null,null,null,null,null,null,null,null,null,null,"",""]
[null,null,null,null,null,null,null,null,null,null,null,null,null,null,null,"",""]
[null,null,null,null,null,null,null,null,null,null,null,null,null,null,null,"",""]
[null,null,null,null,null,null,null,null,null,null,null,null,null,null,null,"",""]
[null,null,null,null,null,null,null,null,null,null,null,null,null,null,null,"",""]
[null,null,null,null,null,null,null,null,null,null,null,null,null,null,null,"",""]
[null,null,null,null,null,null,null,null,null,null,null,null,null,null,null,"",""]
[null,null,null,null,null,null,null,null,null,null,null,null,null,null,null,"",""]
[null,null,null,null,null,null,null,null,null,null,null,null,null,null,null,"",""]
[null,null,null,null,null,null,null,null,null,null,null,null,null,null,null,"",""]
[null,null,null,null,null,null,null,null,null,null,null,null,null,null,null,"",""]
[null,null,null,null,null,null,null,null,null,null,null,null,null,null,null,"",""]
[null,null,null,null,null,null,null,null,null,null,null,null,null,null,null,"",""]
[null,null,null,null,null,null,null,null,null,null,null,null,null,null,null,"",""]
[null,null,null,null,null,null,null,null,null,null,null,null,null,null,null,"",""]
[null,null,null,null,null,null,null,null,null,null,null,null,null,null,null,"",""]
[null,null,null,null,null,null,null,null,null,null,null,null,null,null,null,"",""]
[null,null,null,null,null,null,null,null,null,null,null,null,null,null,null,"",""]
[null,null,null,null,null,null,null,null,null,null,null,null,null,null,null,"",""]
[null,null,null,null,null,null,null,null,null,null,null,null,null,null,null,"",""]
[null,null,null,null,null,null,null,null,null,null,null,null,null,null,null,"",""]
[null,null,null,null,null,null,null,null,null,null,null,null,null,null,null,"",""]
[null,null,null,null,null,null,null,null,null,null,null,null,null,null,null,"",""]
[null,null,null,null,null,null,null,null,null,null,null,null,null,null,null,"",""]
[null,null,null,null,null,null,null,null,null,null,null,null,null,null,null,"",""]
[null,null,null,null,null,null,null,null,null,null,null,null,null,null,null,"",""]
[null,null,null,null,null,null,null,null,null,null,null,null,null,null,null,"",""]
[null,null,null,null,null,null,null,null,null,null,null,null,null,null,null,"",""]
[null,null,null,null,null,null,null,null,null,null,null,null,null,null,null,"",""]
[null,null,null,null,null,null,null,null,null,null,null,null,null,null,null,"",""]
[null,null,null,null,null,null,null,null,null,null,null,null,null,null,null,"",""]
[null,null,null,null,null,null,null,null,null,null,null,null,null,null,null,"",""]
[null,null,null,null,null,null,null,null,null,null,null,null,null,null,null,"",""]
[null,null,null,null,null,null,null,null,null,null,null,null,null,null,null,"",""]
[null,null,null,null,null,null,null,null,null,null,null,null,null,null,null,"",""]
[null,null,null,null,null,null,null,null,null,null,null,null,null,null,null,"",""]
[null,null,null,null,null,null,null,null,null,null,null,null,null,null,null,"",""]
[null,null,null,null,null,null,null,null,null,null,null,null,null,null,null,"",""]
[null,null,null,null,null,null,null,null,null,null,null,null,null,null,null,"",""]
[null,null,null,null,null,null,null,null,null,null,null,null,null,null,null,"",""]
[null,null,null,null,null,null,null,null,null,null,null,null,null,null,null,"",""]
[null,null,null,null,null,null,null,null,null,null,null,null,null,null,null,"",""]
[null,null,null,null,null,null,null,null,null,null,null,null,null,null,null,"",""]
[null,null,null,null,null,null,null,null,null,null,null,null,null,null,null,"",""]
[null,null,null,null,null,null,null,null,null,null,null,null,null,null,null,"",""]
[null,null,null,null,null,null,null,null,null,null,null,null,null,null,null,"",""]
[null,null,null,null,null,null,null,null,null,null,null,null,null,null,null,"",""]
[null,null,null,null,null,null,null,null,null,null,null,null,null,null,null,"",""]
[null,null,null,null,null,null,null,null,null,null,null,null,null,null,null,"",""]
[null,null,null,null,null,null,null,null,null,null,null,null,null,null,null,"",""]
[null,null,null,null,null,null,null,null,null,null,null,null,null,null,null,"",""]
[null,null,null,null,null,null,null,null,null,null,null,null,null,null,null,"",""]
[null,null,null,null,null,null,null,null,null,null,null,null,null,null,null,"",""]
[null,null,null,null,null,null,null,null,null,null,null,null,null,null,null,"",""]
[null,null,null,null,null,null,null,null,null,null,null,null,null,null,null,"",""]
[null,null,null,null,null,null,null,null,null,null,null,null,null,null,null,"",""]
[null,null,null,null,null,null,null,null,null,null,null,null,null,null,null,"",""]
[null,null,null,null,null,null,null,null,null,null,null,null,null,null,null,"",""]
[null,null,null,null,null,null,null,null,null,null,null,null,null,null,null,"",""]
[null,null,null,null,null,null,null,null,null,null,null,null,null,null,null,"",""]
[null,null,null,null,null,null,null,null,null,null,null,null,null,null,null,"",""]
[null,null,null,null,null,null,null,null,null,null,null,null,null,null,null,"",""]
[null,null,null,null,null,null,null,null,null,null,null,null,null,null,null,"",""]
[null,null,null,null,null,null,null,null,null,null,null,null,null,null,null,"",""]
[null,null,null,null,null,null,null,null,null,null,null,null,null,null,null,"",""]
[null,null,null,null,null,null,null,null,null,null,null,null,null,null,null,"",""]
[null,null,null,null,null,null,null,null,null,null,null,null,null,null,null,"",""]
[null,null,null,null,null,null,null,null,null,null,null,null,null,null,null,"",""]
[null,null,null,null,null,null,null,null,null,null,null,null,null,null,null,"",""]
[null,null,null,null,null,null,null,null,null,null,null,null,null,null,null,"",""]
[null,null,null,null,null,null,null,null,null,null,null,null,null,null,null,"",""]
[null,null,null,null,null,null,null,null,null,null,null,null,null,null,null,"",""]
[null,null,null,null,null,null,null,null,null,null,null,null,null,null,null,"",""]
[null,null,null,null,null,null,null,null,null,null,null,null,null,null,null,"",""]
[null,null,null,null,null,null,null,null,null,null,null,null,null,null,null,"",""]
[null,null,null,null,null,null,null,null,null,null,null,null,null,null,null,"",""]
[null,null,null,null,null,null,null,null,null,null,null,null,null,null,null,"",""]
[null,null,null,null,null,null,null,null,null,null,null,null,null,null,null,"",""]
[null,null,null,null,null,null,null,null,null,null,null,null,null,null,null,"",""]
[null,null,null,null,null,null,null,null,null,null,null,null,null,null,null,"",""]
[null,null,null,null,null,null,null,null,null,null,null,null,null,null,null,"",""]
[null,null,null,null,null,null,null,null,null,null,null,null,null,null,null,"",""]
[null,null,null,null,null,null,null,null,null,null,null,null,null,null,null,"",""]
[null,null,null,null,null,null,null,null,null,null,null,null,null,null,null,"",""]
[null,null,null,null,null,null,null,null,null,null,null,null,null,null,null,"",""]
[null,null,null,null,null,null,null,null,null,null,null,null,null,null,null,"",""]
[null,null,null,null,null,null,null,null,null,null,null,null,null,null,null,"",""]
[null,null,null,null,null,null,null,null,null,null,null,null,null,null,null,"",""]
[null,null,null,null,null,null,null,null,null,null,null,null,null,null,null,"",""]
[null,null,null,null,null,null,null,null,null,null,null,null,null,null,null,"",""]
[null,null,null,null,null,null,null,null,null,null,null,null,null,null,null,"",""]
[null,null,null,null,null,null,null,null,null,null,null,null,null,null,null,"",""]
[null,null,null,null,null,null,null,null,null,null,null,null,null,null,null,"",""]
[null,null,null,null,null,null,null,null,null,null,null,null,null,null,null,"",""]
[null,null,null,null,null,null,null,null,null,null,null,null,null,null,null,"",""]
[null,null,null,null,null,null,null,null,null,null,null,null,null,null,null,"",""]
[null,null,null,null,null,null,null,null,null,null,null,null,null,null,null,"",""]
[null,null,null,null,null,null,null,null,null,null,null,null,null,null,null,"",""]
[null,null,null,null,null,null,null,null,null,null,null,null,null,null,null,"",""]
[null,null,null,null,null,null,null,null,null,null,null,null,null,null,null,"",""]
[null,null,null,null,null,null,null,null,null,null,null,null,null,null,null,"",""]
[null,null,null,null,null,null,null,null,null,null,null,null,null,null,null,"",""]
[null,null,null,null,null,null,null,null,null,null,null,null,null,null,null,"",""]
[null,null,null,null,null,null,null,null,null,null,null,null,null,null,null,"",""]
[null,null,null,null,null,null,null,null,null,null,null,null,null,null,null,"",""]
[null,null,null,null,null,null,null,null,null,null,null,null,null,null,null,"",""]
[null,null,null,null,null,null,null,null,null,null,null,null,null,null,null,"",""]
[null,null,null,null,null,null,null,null,null,null,null,null,null,null,null,"",""]
[null,null,null,null,null,null,null,null,null,null,null,null,null,null,null,"",""]
[null,null,null,null,null,null,null,null,null,null,null,null,null,null,null,"",""]
[null,null,null,null,null,null,null,null,null,null,null,null,null,null,null,"",""]
[null,null,null,null,null,null,null,null,null,null,null,null,null,null,null,"",""]
[null,null,null,null,null,null,null,null,null,null,null,null,null,null,null,"",""]
[null,null,null,null,null,null,null,null,null,null,null,null,null,null,null,"",""]
[null,null,null,null,null,null,null,null,null,null,null,null,null,null,null,"",""]
[null,null,null,null,null,null,null,null,null,null,null,null,null,null,null,"",""]
[null,null,null,null,null,null,null,null,null,null,null,null,null,null,null,"",""]
[null,null,null,null,null,null,null,null,null,null,null,null,null,null,null,"",""]
[null,null,null,null,null,null,null,null,null,null,null,null,null,null,null,"",""]
[null,null,null,null,null,null,null,null,null,null,null,null,null,null,null,"",""]
[null,null,null,null,null,null,null,null,null,null,null,null,null,null,null,"",""]
[null,null,null,null,null,null,null,null,null,null,null,null,null,null,null,"",""]
[null,null,null,null,null,null,null,null,null,null,null,null,null,null,null,"",""]
[null,null,null,null,null,null,null,null,null,null,null,null,null,null,null,"",""]
[null,null,null,null,null,null,null,null,null,null,null,null,null,null,null,"",""]
[null,null,null,null,null,null,null,null,null,null,null,null,null,null,null,"",""]
[null,null,null,null,null,null,null,null,null,null,null,null,null,null,null,"",""]
[null,null,null,null,null,null,null,null,null,null,null,null,null,null,null,"",""]
[null,null,null,null,null,null,null,null,null,null,null,null,null,null,null,"",""]
[null,null,null,null,null,null,null,null,null,null,null,null,null,null,null,"",""]
[null,null,null,null,null,null,null,null,null,null,null,null,null,null,null,"",""]
[null,null,null,null,null,null,null,null,null,null,null,null,null,null,null,"",""]
[null,null,null,null,null,null,null,null,null,null,null,null,null,null,null,"",""]
[null,null,null,null,null,null,null,null,null,null,null,null,null,null,null,"",""]
[null,null,null,null,null,null,null,null,null,null,null,null,null,null,null,"",""]
[null,null,null,null,null,null,null,null,null,null,null,null,null,null,null,"",""]
[null,null,null,null,null,null,null,null,null,null,null,null,null,null,null,"",""]
[null,null,null,null,null,null,null,null,null,null,null,null,null,null,null,"",""]
[null,null,null,null,null,null,null,null,null,null,null,null,null,null,null,"",""]
[null,null,null,null,null,null,null,null,null,null,null,null,null,null,null,"",""]
[null,null,null,null,null,null,null,null,null,null,null,null,null,null,null,"",""]
[null,null,null,null,null,null,null,null,null,null,null,null,null,null,null,"",""]
[null,null,null,null,null,null,null,null,null,null,null,null,null,null,null,"",""]
[null,null,null,null,null,null,null,null,null,null,null,null,null,null,null,"",""]
[null,null,null,null,null,null,null,null,null,null,null,null,null,null,null,"",""]
[null,null,null,null,null,null,null,null,null,null,null,null,null,null,null,"",""]
[null,null,null,null,null,null,null,null,null,null,null,null,null,null,null,"",""]
[null,null,null,null,null,null,null,null,null,null,null,null,null,null,null,"",""]
[null,null,null,null,null,null,null,null,null,null,null,null,null,null,null,"",""]
[null,null,null,null,null,null,null,null,null,null,null,null,null,null,null,"",""]
[null,null,null,null,null,null,null,null,null,null,null,null,null,null,null,"",""]
[null,null,null,null,null,null,null,null,null,null,null,null,null,null,null,"",""]
[null,null,null,null,null,null,null,null,null,null,null,null,null,null,null,"",""]
[null,null,null,null,null,null,null,null,null,null,null,null,null,null,null,"",""]
[null,null,null,null,null,null,null,null,null,null,null,null,null,null,null,"",""]
[null,null,null,null,null,null,null,null,null,null,null,null,null,null,null,"",""]
[null,null,null,null,null,null,null,null,null,null,null,null,null,null,null,"",""]
[null,null,null,null,null,null,null,null,null,null,null,null,null,null,null,"",""]
[null,null,null,null,null,null,null,null,null,null,null,null,null,null,null,"",""]
[null,null,null,null,null,null,null,null,null,null,null,null,null,null,null,"",""]
[null,null,null,null,null,null,null,null,null,null,null,null,null,null,null,"",""]
[null,null,null,null,null,null,null,null,null,null,null,null,null,null,null,"",""]
[null,null,null,null,null,null,null,null,null,null,null,null,null,null,null,"",""]
[null,null,null,null,null,null,null,null,null,null,null,null,null,null,null,"",""]
[null,null,null,null,null,null,null,null,null,null,null,null,null,null,null,"",""]
[null,null,null,null,null,null,null,null,null,null,null,null,null,null,null,"",""]
[null,null,null,null,null,null,null,null,null,null,null,null,null,null,null,"",""]
[null,null,null,null,null,null,null,null,null,null,null,null,null,null,null,"",""]
[null,null,null,null,null,null,null,null,null,null,null,null,null,null,null,"",""]
[null,null,null,null,null,null,null,null,null,null,null,null,null,null,null,"",""]
[null,null,null,null,null,null,null,null,null,null,null,null,null,null,null,"",""]
[null,null,null,null,null,null,null,null,null,null,null,null,null,null,null,"",""]
[null,null,null,null,null,null,null,null,null,null,null,null,null,null,null,"",""]
[null,null,null,null,null,null,null,null,null,null,null,null,null,null,null,"",""]
[null,null,null,null,null,null,null,null,null,null,null,null,null,null,null,"",""]
[null,null,null,null,null,null,null,null,null,null,null,null,null,null,null,"",""]
[null,null,null,null,null,null,null,null,null,null,null,null,null,null,null,"",""]
[null,null,null,null,null,null,null,null,null,null,null,null,null,null,null,"",""]
[null,null,null,null,null,null,null,null,null,null,null,null,null,null,null,"",""]
[null,null,null,null,null,null,null,null,null,null,null,null,null,null,null,"",""]
[null,null,null,null,null,null,null,null,null,null,null,null,null,null,null,"",""]
[null,null,null,null,null,null,null,null,null,null,null,null,null,null,null,"",""]
[null,null,null,null,null,null,null,null,null,null,null,null,null,null,null,"",""]
[null,null,null,null,null,null,null,null,null,null,null,null,null,null,null,"",""]
[null,null,null,null,null,null,null,null,null,null,null,null,null,null,null,"",""]
[null,null,null,null,null,null,null,null,null,null,null,null,null,null,null,"",""]
[null,null,null,null,null,null,null,null,null,null,null,null,null,null,null,"",""]
[null,null,null,null,null,null,null,null,null,null,null,null,null,null,null,"",""]
[null,null,null,null,null,null,null,null,null,null,null,null,null,null,null,"",""]
[null,null,null,null,null,null,null,null,null,null,null,null,null,null,null,"",""]
[null,null,null,null,null,null,null,null,null,null,null,null,null,null,null,"",""]
[null,null,null,null,null,null,null,null,null,null,null,null,null,null,null,"",""]
[null,null,null,null,null,null,null,null,null,null,null,null,null,null,null,"",""]
[null,null,null,null,null,null,null,null,null,null,null,null,null,null,null,"",""]
[null,null,null,null,null,null,null,null,null,null,null,null,null,null,null,"",""]
[null,null,null,null,null,null,null,null,null,null,null,null,null,null,null,"",""]
[null,null,null,null,null,null,null,null,null,null,null,null,null,null,null,"",""]
[null,null,null,null,null,null,null,null,null,null,null,null,null,null,null,"",""]
[null,null,null,null,null,null,null,null,null,null,null,null,null,null,null,"",""]
[null,null,null,null,null,null,null,null,null,null,null,null,null,null,null,"",""]
[null,null,null,null,null,null,null,null,null,null,null,null,null,null,null,"",""]
[null,null,null,null,null,null,null,null,null,null,null,null,null,null,null,"",""]
[null,null,null,null,null,null,null,null,null,null,null,null,null,null,null,"",""]
[null,null,null,null,null,null,null,null,null,null,null,null,null,null,null,"",""]
[null,null,null,null,null,null,null,null,null,null,null,null,null,null,null,"",""]
[null,null,null,null,null,null,null,null,null,null,null,null,null,null,null,"",""]
[null,null,null,null,null,null,null,null,null,null,null,null,null,null,null,"",""]
[null,null,null,null,null,null,null,null,null,null,null,null,null,null,null,"",""]
[null,null,null,null,null,null,null,null,null,null,null,null,null,null,null,"",""]
[null,null,null,null,null,null,null,null,null,null,null,null,null,null,null,"",""]
[null,null,null,null,null,null,null,null,null,null,null,null,null,null,null,"",""]
[null,null,null,null,null,null,null,null,null,null,null,null,null,null,null,"",""]
[null,null,null,null,null,null,null,null,null,null,null,null,null,null,null,"",""]
[null,null,null,null,null,null,null,null,null,null,null,null,null,null,null,"",""]
[null,null,null,null,null,null,null,null,null,null,null,null,null,null,null,"",""]
[null,null,null,null,null,null,null,null,null,null,null,null,null,null,null,"",""]
[null,null,null,null,null,null,null,null,null,null,null,null,null,null,null,"",""]
[null,null,null,null,null,null,null,null,null,null,null,null,null,null,null,"",""]
[null,null,null,null,null,null,null,null,null,null,null,null,null,null,null,"",""]
[null,null,null,null,null,null,null,null,null,null,null,null,null,null,null,"",""]
[null,null,null,null,null,null,null,null,null,null,null,null,null,null,null,"",""]
[null,null,null,null,null,null,null,null,null,null,null,null,null,null,null,"",""]
[null,null,null,null,null,null,null,null,null,null,null,null,null,null,null,"",""]
[null,null,null,null,null,null,null,null,null,null,null,null,null,null,null,"",""]
[null,null,null,null,null,null,null,null,null,null,null,null,null,null,null,"",""]
[null,null,null,null,null,null,null,null,null,null,null,null,null,null,null,"",""]
[null,null,null,null,null,null,null,null,null,null,null,null,null,null,null,"",""]
[null,null,null,null,null,null,null,null,null,null,null,null,null,null,null,"",""]
[null,null,null,null,null,null,null,null,null,null,null,null,null,null,null,"",""]
[null,null,null,null,null,null,null,null,null,null,null,null,null,null,null,"",""]
[null,null,null,null,null,null,null,null,null,null,null,null,null,null,null,"",""]
[null,null,null,null,null,null,null,null,null,null,null,null,null,null,null,"",""]
[null,null,null,null,null,null,null,null,null,null,null,null,null,null,null,"",""]
[null,null,null,null,null,null,null,null,null,null,null,null,null,null,null,"",""]
[null,null,null,null,null,null,null,null,null,null,null,null,null,null,null,"",""]
[null,null,null,null,null,null,null,null,null,null,null,null,null,null,null,"",""]
[null,null,null,null,null,null,null,null,null,null,null,null,null,null,null,"",""]
[null,null,null,null,null,null,null,null,null,null,null,null,null,null,null,"",""]
[null,null,null,null,null,null,null,null,null,null,null,null,null,null,null,"",""]
[null,null,null,null,null,null,null,null,null,null,null,null,null,null,null,"",""]
[null,null,null,null,null,null,null,null,null,null,null,null,null,null,null,"",""]
[null,null,null,null,null,null,null,null,null,null,null,null,null,null,null,"",""]
[null,null,null,null,null,null,null,null,null,null,null,null,null,null,null,"",""]
[null,null,null,null,null,null,null,null,null,null,null,null,null,null,null,"",""]
[null,null,null,null,null,null,null,null,null,null,null,null,null,null,null,"",""]
[null,null,null,null,null,null,null,null,null,null,null,null,null,null,null,"",""]
[null,null,null,null,null,null,null,null,null,null,null,null,null,null,null,"",""]
[null,null,null,null,null,null,null,null,null,null,null,null,null,null,null,"",""]
[null,null,null,null,null,null,null,null,null,null,null,null,null,null,null,"",""]
[null,null,null,null,null,null,null,null,null,null,null,null,null,null,null,"",""]
[null,null,null,null,null,null,null,null,null,null,null,null,null,null,null,"",""]
[null,null,null,null,null,null,null,null,null,null,null,null,null,null,null,"",""]
[null,null,null,null,null,null,null,null,null,null,null,null,null,null,null,"",""]
[null,null,null,null,null,null,null,null,null,null,null,null,null,null,null,"",""]
[null,null,null,null,null,null,null,null,null,null,null,null,null,null,null,"",""]
[null,null,null,null,null,null,null,null,null,null,null,null,null,null,null,"",""]
[null,null,null,null,null,null,null,null,null,null,null,null,null,null,null,"",""]
[null,null,null,null,null,null,null,null,null,null,null,null,null,null,null,"",""]
[null,null,null,null,null,null,null,null,null,null,null,null,null,null,null,"",""]
[null,null,null,null,null,null,null,null,null,null,null,null,null,null,null,"",""]
[null,null,null,null,null,null,null,null,null,null,null,null,null,null,null,"",""]
[null,null,null,null,null,null,null,null,null,null,null,null,null,null,null,"",""]
[null,null,null,null,null,null,null,null,null,null,null,null,null,null,null,"",""]
[null,null,null,null,null,null,null,null,null,null,null,null,null,null,null,"",""]
[null,null,null,null,null,null,null,null,null,null,null,null,null,null,null,"",""]
[null,null,null,null,null,null,null,null,null,null,null,null,null,null,null,"",""]
[null,null,null,null,null,null,null,null,null,null,null,null,null,null,null,"",""]
[null,null,null,null,null,null,null,null,null,null,null,null,null,null,null,"",""]
[null,null,null,null,null,null,null,null,null,null,null,null,null,null,null,"",""]
[null,null,null,null,null,null,null,null,null,null,null,null,null,null,null,"",""]
[null,null,null,null,null,null,null,null,null,null,null,null,null,null,null,"",""]
[null,null,null,null,null,null,null,null,null,null,null,null,null,null,null,"",""]
[null,null,null,null,null,null,null,null,null,null,null,null,null,null,null,"",""]
[null,null,null,null,null,null,null,null,null,null,null,null,null,null,null,"",""]
[null,null,null,null,null,null,null,null,null,null,null,null,null,null,null,"",""]
[null,null,null,null,null,null,null,null,null,null,null,null,null,null,null,"",""]
[null,null,null,null,null,null,null,null,null,null,null,null,null,null,null,"",""]
[null,null,null,null,null,null,null,null,null,null,null,null,null,null,null,"",""]
[null,null,null,null,null,null,null,null,null,null,null,null,null,null,null,"",""]
[null,null,null,null,null,null,null,null,null,null,null,null,null,null,null,"",""]
[null,null,null,null,null,null,null,null,null,null,null,null,null,null,null,"",""]
[null,null,null,null,null,null,null,null,null,null,null,null,null,null,null,"",""]
[null,null,null,null,null,null,null,null,null,null,null,null,null,null,null,"",""]
[null,null,null,null,null,null,null,null,null,null,null,null,null,null,null,"",""]
[null,null,null,null,null,null,null,null,null,null,null,null,null,null,null,"",""]
[null,null,null,null,null,null,null,null,null,null,null,null,null,null,null,"",""]
[null,null,null,null,null,null,null,null,null,null,null,null,null,null,null,"",""]
[null,null,null,null,null,null,null,null,null,null,null,null,null,null,null,"",""]
[null,null,null,null,null,null,null,null,null,null,null,null,null,null,null,"",""]
[null,null,null,null,null,null,null,null,null,null,null,null,null,null,null,"",""]
[null,null,null,null,null,null,null,null,null,null,null,null,null,null,null,"",""]
[null,null,null,null,null,null,null,null,null,null,null,null,null,null,null,"",""]
[null,null,null,null,null,null,null,null,null,null,null,null,null,null,null,"",""]
[null,null,null,null,null,null,null,null,null,null,null,null,null,null,null,"",""]
[null,null,null,null,null,null,null,null,null,null,null,null,null,null,null,"",""]
[null,null,null,null,null,null,null,null,null,null,null,null,null,null,null,"",""]
[null,null,null,null,null,null,null,null,null,null,null,null,null,null,null,"",""]
[null,null,null,null,null,null,null,null,null,null,null,null,null,null,null,"",""]
[null,null,null,null,null,null,null,null,null,null,null,null,null,null,null,"",""]
[null,null,null,null,null,null,null,null,null,null,null,null,null,null,null,"",""]
[null,null,null,null,null,null,null,null,null,null,null,null,null,null,null,"",""]
[null,null,null,null,null,null,null,null,null,null,null,null,null,null,null,"",""]
[null,null,null,null,null,null,null,null,null,null,null,null,null,null,null,"",""]
[null,null,null,null,null,null,null,null,null,null,null,null,null,null,null,"",""]
[null,null,null,null,null,null,null,null,null,null,null,null,null,null,null,"",""]
[null,null,null,null,null,null,null,null,null,null,null,null,null,null,null,"",""]
[null,null,null,null,null,null,null,null,null,null,null,null,null,null,null,"",""]
[null,null,null,null,null,null,null,null,null,null,null,null,null,null,null,"",""]
[null,null,null,null,null,null,null,null,null,null,null,null,null,null,null,"",""]
[null,null,null,null,null,null,null,null,null,null,null,null,null,null,null,"",""]
[null,null,null,null,null,null,null,null,null,null,null,null,null,null,null,"",""]
[null,null,null,null,null,null,null,null,null,null,null,null,null,null,null,"",""]
[null,null,null,null,null,null,null,null,null,null,null,null,null,null,null,"",""]
[null,null,null,null,null,null,null,null,null,null,null,null,null,null,null,"",""]
[null,null,null,null,null,null,null,null,null,null,null,null,null,null,null,"",""]
[null,null,null,null,null,null,null,null,null,null,null,null,null,null,null,"",""]
[null,null,null,null,null,null,null,null,null,null,null,null,null,null,null,"",""]
[null,null,null,null,null,null,null,null,null,null,null,null,null,null,null,"",""]
[null,null,null,null,null,null,null,null,null,null,null,null,null,null,null,"",""]
[null,null,null,null,null,null,null,null,null,null,null,null,null,null,null,"",""]
[null,null,null,null,null,null,null,null,null,null,null,null,null,null,null,"",""]
[null,null,null,null,null,null,null,null,null,null,null,null,null,null,null,"",""]
[null,null,null,null,null,null,null,null,null,null,null,null,null,null,null,"",""]
[null,null,null,null,null,null,null,null,null,null,null,null,null,null,null,"",""]
[null,null,null,null,null,null,null,null,null,null,null,null,null,null,null,"",""]
[null,null,null,null,null,null,null,null,null,null,null,null,null,null,null,"",""]
[null,null,null,null,null,null,null,null,null,null,null,null,null,null,null,"",""]
[null,null,null,null,null,null,null,null,null,null,null,null,null,null,null,"",""]
[null,null,null,null,null,null,null,null,null,null,null,null,null,null,null,"",""]
[null,null,null,null,null,null,null,null,null,null,null,null,null,null,null,"",""]
[null,null,null,null,null,null,null,null,null,null,null,null,null,null,null,"",""]
[null,null,null,null,null,null,null,null,null,null,null,null,null,null,null,"",""]
[null,null,null,null,null,null,null,null,null,null,null,null,null,null,null,"",""]
[null,null,null,null,null,null,null,null,null,null,null,null,null,null,null,"",""]
[null,null,null,null,null,null,null,null,null,null,null,null,null,null,null,"",""]
[null,null,null,null,null,null,null,null,null,null,null,null,null,null,null,"",""]
[null,null,null,null,null,null,null,null,null,null,null,null,null,null,null,"",""]
[null,null,null,null,null,null,null,null,null,null,null,null,null,null,null,"",""]
[null,null,null,null,null,null,null,null,null,null,null,null,null,null,null,"",""]
[null,null,null,null,null,null,null,null,null,null,null,null,null,null,null,"",""]
[null,null,null,null,null,null,null,null,null,null,null,null,null,null,null,"",""]
[null,null,null,null,null,null,null,null,null,null,null,null,null,null,null,"",""]
[null,null,null,null,null,null,null,null,null,null,null,null,null,null,null,"",""]
[null,null,null,null,null,null,null,null,null,null,null,null,null,null,null,"",""]
[null,null,null,null,null,null,null,null,null,null,null,null,null,null,null,"",""]
[null,null,null,null,null,null,null,null,null,null,null,null,null,null,null,"",""]
[null,null,null,null,null,null,null,null,null,null,null,null,null,null,null,"",""]
[null,null,null,null,null,null,null,null,null,null,null,null,null,null,null,"",""]
[null,null,null,null,null,null,null,null,null,null,null,null,null,null,null,"",""]
[null,null,null,null,null,null,null,null,null,null,null,null,null,null,null,"",""]
[null,null,null,null,null,null,null,null,null,null,null,null,null,null,null,"",""]
[null,null,null,null,null,null,null,null,null,null,null,null,null,null,null,"",""]
[null,null,null,null,null,null,null,null,null,null,null,null,null,null,null,"",""]
[null,null,null,null,null,null,null,null,null,null,null,null,null,null,null,"",""]
[null,null,null,null,null,null,null,null,null,null,null,null,null,null,null,"",""]
[null,null,null,null,null,null,null,null,null,null,null,null,null,null,null,"",""]
[null,null,null,null,null,null,null,null,null,null,null,null,null,null,null,"",""]
[null,null,null,null,null,null,null,null,null,null,null,null,null,null,null,"",""]
[null,null,null,null,null,null,null,null,null,null,null,null,null,null,null,"",""]
[null,null,null,null,null,null,null,null,null,null,null,null,null,null,null,"",""]
[null,null,null,null,null,null,null,null,null,null,null,null,null,null,null,"",""]
[null,null,null,null,null,null,null,null,null,null,null,null,null,null,null,"",""]
[null,null,null,null,null,null,null,null,null,null,null,null,null,null,null,"",""]
[null,null,null,null,null,null,null,null,null,null,null,null,null,null,null,"",""]
[null,null,null,null,null,null,null,null,null,null,null,null,null,null,null,"",""]
[null,null,null,null,null,null,null,null,null,null,null,null,null,null,null,"",""]
[null,null,null,null,null,null,null,null,null,null,null,null,null,null,null,"",""]
[null,null,null,null,null,null,null,null,null,null,null,null,null,null,null,"",""]
[null,null,null,null,null,null,null,null,null,null,null,null,null,null,null,"",""]
[null,null,null,null,null,null,null,null,null,null,null,null,null,null,null,"",""]
[null,null,null,null,null,null,null,null,null,null,null,null,null,null,null,"",""]
[null,null,null,null,null,null,null,null,null,null,null,null,null,null,null,"",""]
[null,null,null,null,null,null,null,null,null,null,null,null,null,null,null,"",""]
[null,null,null,null,null,null,null,null,null,null,null,null,null,null,null,"",""]
[null,null,null,null,null,null,null,null,null,null,null,null,null,null,null,"",""]
[null,null,null,null,null,null,null,null,null,null,null,null,null,null,null,"",""]
[null,null,null,null,null,null,null,null,null,null,null,null,null,null,null,"",""]
[null,null,null,null,null,null,null,null,null,null,null,null,null,null,null,"",""]
[null,null,null,null,null,null,null,null,null,null,null,null,null,null,null,"",""]
[null,null,null,null,null,null,null,null,null,null,null,null,null,null,null,"",""]
[null,null,null,null,null,null,null,null,null,null,null,null,null,null,null,"",""]
[null,null,null,null,null,null,null,null,null,null,null,null,null,null,null,"",""]
[null,null,null,null,null,null,null,null,null,null,null,null,null,null,null,"",""]
[null,null,null,null,null,null,null,null,null,null,null,null,null,null,null,"",""]
[null,null,null,null,null,null,null,null,null,null,null,null,null,null,null,"",""]
[null,null,null,null,null,null,null,null,null,null,null,null,null,null,null,"",""]
[null,null,null,null,null,null,null,null,null,null,null,null,null,null,null,"",""]
[null,null,null,null,null,null,null,null,null,null,null,null,null,null,null,"",""]
[null,null,null,null,null,null,null,null,null,null,null,null,null,null,null,"",""]
[null,null,null,null,null,null,null,null,null,null,null,null,null,null,null,"",""]
[null,null,null,null,null,null,null,null,null,null,null,null,null,null,null,"",""]
[null,null,null,null,null,null,null,null,null,null,null,null,null,null,null,"",""]
[null,null,null,null,null,null,null,null,null,null,null,null,null,null,null,"",""]
[null,null,null,null,null,null,null,null,null,null,null,null,null,null,null,"",""]
[null,null,null,null,null,null,null,null,null,null,null,null,null,null,null,"",""]
[null,null,null,null,null,null,null,null,null,null,null,null,null,null,null,"",""]
[null,null,null,null,null,null,null,null,null,null,null,null,null,null,null,"",""]
[null,null,null,null,null,null,null,null,null,null,null,null,null,null,null,"",""]
[null,null,null,null,null,null,null,null,null,null,null,null,null,null,null,"",""]
[null,null,null,null,null,null,null,null,null,null,null,null,null,null,null,"",""]
[null,null,null,null,null,null,null,null,null,null,null,null,null,null,null,"",""]
[null,null,null,null,null,null,null,null,null,null,null,null,null,null,null,"",""]
[null,null,null,null,null,null,null,null,null,null,null,null,null,null,null,"",""]
[null,null,null,null,null,null,null,null,null,null,null,null,null,null,null,"",""]
[null,null,null,null,null,null,null,null,null,null,null,null,null,null,null,"",""]
[null,null,null,null,null,null,null,null,null,null,null,null,null,null,null,"",""]
[null,null,null,null,null,null,null,null,null,null,null,null,null,null,null,"",""]
[null,null,null,null,null,null,null,null,null,null,null,null,null,null,null,"",""]
[null,null,null,null,null,null,null,null,null,null,null,null,null,null,null,"",""]
[null,null,null,null,null,null,null,null,null,null,null,null,null,null,null,"",""]
[null,null,null,null,null,null,null,null,null,null,null,null,null,null,null,"",""]
[null,null,null,null,null,null,null,null,null,null,null,null,null,null,null,"",""]
[null,null,null,null,null,null,null,null,null,null,null,null,null,null,null,"",""]
[null,null,null,null,null,null,null,null,null,null,null,null,null,null,null,"",""]
[null,null,null,null,null,null,null,null,null,null,null,null,null,null,null,"",""]
[null,null,null,null,null,null,null,null,null,null,null,null,null,null,null,"",""]
[null,null,null,null,null,null,null,null,null,null,null,null,null,null,null,"",""]
[null,null,null,null,null,null,null,null,null,null,null,null,null,null,null,"",""]
[null,null,null,null,null,null,null,null,null,null,null,null,null,null,null,"",""]
[null,null,null,null,null,null,null,null,null,null,null,null,null,null,null,"",""]
[null,null,null,null,null,null,null,null,null,null,null,null,null,null,null,"",""]
[null,null,null,null,null,null,null,null,null,null,null,null,null,null,null,"",""]
[null,null,null,null,null,null,null,null,null,null,null,null,null,null,null,"",""]
[null,null,null,null,null,null,null,null,null,null,null,null,null,null,null,"",""]
[null,null,null,null,null,null,null,null,null,null,null,null,null,null,null,"",""]
[null,null,null,null,null,null,null,null,null,null,null,null,null,null,null,"",""]
[null,null,null,null,null,null,null,null,null,null,null,null,null,null,null,"",""]
[null,null,null,null,null,null,null,null,null,null,null,null,null,null,null,"",""]
[null,null,null,null,null,null,null,null,null,null,null,null,null,null,null,"",""]
[null,null,null,null,null,null,null,null,null,null,null,null,null,null,null,"",""]
[null,null,null,null,null,null,null,null,null,null,null,null,null,null,null,"",""]
[null,null,null,null,null,null,null,null,null,null,null,null,null,null,null,"",""]
[null,null,null,null,null,null,null,null,null,null,null,null,null,null,null,"",""]
[null,null,null,null,null,null,null,null,null,null,null,null,null,null,null,"",""]
[null,null,null,null,null,null,null,null,null,null,null,null,null,null,null,"",""]
[null,null,null,null,null,null,null,null,null,null,null,null,null,null,null,"",""]
[null,null,null,null,null,null,null,null,null,null,null,null,null,null,null,"",""]
[null,null,null,null,null,null,null,null,null,null,null,null,null,null,null,"",""]
[null,null,null,null,null,null,null,null,null,null,null,null,null,null,null,"",""]
[null,null,null,null,null,null,null,null,null,null,null,null,null,null,null,"",""]
[null,null,null,null,null,null,null,null,null,null,null,null,null,null,null,"",""]
[null,null,null,null,null,null,null,null,null,null,null,null,null,null,null,"",""]
[null,null,null,null,null,null,null,null,null,null,null,null,null,null,null,"",""]
[null,null,null,null,null,null,null,null,null,null,null,null,null,null,null,"",""]
[null,null,null,null,null,null,null,null,null,null,null,null,null,null,null,"",""]
[null,null,null,null,null,null,null,null,null,null,null,null,null,null,null,"",""]
[null,null,null,null,null,null,null,null,null,null,null,null,null,null,null,"",""]
[null,null,null,null,null,null,null,null,null,null,null,null,null,null,null,"",""]
[null,null,null,null,null,null,null,null,null,null,null,null,null,null,null,"",""]
[null,null,null,null,null,null,null,null,null,null,null,null,null,null,null,"",""]
[null,null,null,null,null,null,null,null,null,null,null,null,null,null,null,"",""]
[null,null,null,null,null,null,null,null,null,null,null,null,null,null,null,"",""]
[null,null,null,null,null,null,null,null,null,null,null,null,null,null,null,"",""]
[null,null,null,null,null,null,null,null,null,null,null,null,null,null,null,"",""]
[null,null,null,null,null,null,null,null,null,null,null,null,null,null,null,"",""]
[null,null,null,null,null,null,null,null,null,null,null,null,null,null,null,"",""]
[null,null,null,null,null,null,null,null,null,null,null,null,null,null,null,"",""]
[null,null,null,null,null,null,null,null,null,null,null,null,null,null,null,"",""]
[null,null,null,null,null,null,null,null,null,null,null,null,null,null,null,"",""]
[null,null,null,null,null,null,null,null,null,null,null,null,null,null,null,"",""]
[null,null,null,null,null,null,null,null,null,null,null,null,null,null,null,"",""]
[null,null,null,null,null,null,null,null,null,null,null,null,null,null,null,"",""]
[null,null,null,null,null,null,null,null,null,null,null,null,null,null,null,"",""]
[null,null,null,null,null,null,null,null,null,null,null,null,null,null,null,"",""]
[null,null,null,null,null,null,null,null,null,null,null,null,null,null,null,"",""]
[null,null,null,null,null,null,null,null,null,null,null,null,null,null,null,"",""]
[null,null,null,null,null,null,null,null,null,null,null,null,null,null,null,"",""]
[null,null,null,null,null,null,null,null,null,null,null,null,null,null,null,"",""]
[null,null,null,null,null,null,null,null,null,null,null,null,null,null,null,"",""]
[null,null,null,null,null,null,null,null,null,null,null,null,null,null,null,"",""]
[null,null,null,null,null,null,null,null,null,null,null,null,null,null,null,"",""]
[null,null,null,null,null,null,null,null,null,null,null,null,null,null,null,"",""]
[null,null,null,null,null,null,null,null,null,null,null,null,null,null,null,"",""]
[null,null,null,null,null,null,null,null,null,null,null,null,null,null,null,"",""]
[null,null,null,null,null,null,null,null,null,null,null,null,null,null,null,"",""]
[null,null,null,null,null,null,null,null,null,null,null,null,null,null,null,"",""]
[null,null,null,null,null,null,null,null,null,null,null,null,null,null,null,"",""]
[null,null,null,null,null,null,null,null,null,null,null,null,null,null,null,"",""]
[null,null,null,null,null,null,null,null,null,null,null,null,null,null,null,"",""]
[null,null,null,null,null,null,null,null,null,null,null,null,null,null,null,"",""]
[null,null,null,null,null,null,null,null,null,null,null,null,null,null,null,"",""]
[null,null,null,null,null,null,null,null,null,null,null,null,null,null,null,"",""]
[null,null,null,null,null,null,null,null,null,null,null,null,null,null,null,"",""]
[null,null,null,null,null,null,null,null,null,null,null,null,null,null,null,"",""]
[null,null,null,null,null,null,null,null,null,null,null,null,null,null,null,"",""]
[null,null,null,null,null,null,null,null,null,null,null,null,null,null,null,"",""]
[null,null,null,null,null,null,null,null,null,null,null,null,null,null,null,"",""]
[null,null,null,null,null,null,null,null,null,null,null,null,null,null,null,"",""]
[null,null,null,null,null,null,null,null,null,null,null,null,null,null,null,"",""]
[null,null,null,null,null,null,null,null,null,null,null,null,null,null,null,"",""]
[null,null,null,null,null,null,null,null,null,null,null,null,null,null,null,"",""]
[null,null,null,null,null,null,null,null,null,null,null,null,null,null,null,"",""]
[null,null,null,null,null,null,null,null,null,null,null,null,null,null,null,"",""]
[null,null,null,null,null,null,null,null,null,null,null,null,null,null,null,"",""]
[null,null,null,null,null,null,null,null,null,null,null,null,null,null,null,"",""]
[null,null,null,null,null,null,null,null,null,null,null,null,null,null,null,"",""]
[null,null,null,null,null,null,null,null,null,null,null,null,null,null,null,"",""]
[null,null,null,null,null,null,null,null,null,null,null,null,null,null,null,"",""]
[null,null,null,null,null,null,null,null,null,null,null,null,null,null,null,"",""]
[null,null,null,null,null,null,null,null,null,null,null,null,null,null,null,"",""]
[null,null,null,null,null,null,null,null,null,null,null,null,null,null,null,"",""]
[null,null,null,null,null,null,null,null,null,null,null,null,null,null,null,"",""]
[null,null,null,null,null,null,null,null,null,null,null,null,null,null,null,"",""]
[null,null,null,null,null,null,null,null,null,null,null,null,null,null,null,"",""]
[null,null,null,null,null,null,null,null,null,null,null,null,null,null,null,"",""]
[null,null,null,null,null,null,null,null,null,null,null,null,null,null,null,"",""]
[null,null,null,null,null,null,null,null,null,null,null,null,null,null,null,"",""]
[null,null,null,null,null,null,null,null,null,null,null,null,null,null,null,"",""]
[null,null,null,null,null,null,null,null,null,null,null,null,null,null,null,"",""]
[null,null,null,null,null,null,null,null,null,null,null,null,null,null,null,"",""]
[null,null,null,null,null,null,null,null,null,null,null,null,null,null,null,"",""]
[null,null,null,null,null,null,null,null,null,null,null,null,null,null,null,"",""]
[null,null,null,null,null,null,null,null,null,null,null,null,null,null,null,"",""]
[null,null,null,null,null,null,null,null,null,null,null,null,null,null,null,"",""]
[null,null,null,null,null,null,null,null,null,null,null,null,null,null,null,"",""]
[null,null,null,null,null,null,null,null,null,null,null,null,null,null,null,"",""]
[null,null,null,null,null,null,null,null,null,null,null,null,null,null,null,"",""]
[null,null,null,null,null,null,null,null,null,null,null,null,null,null,null,"",""]
[null,null,null,null,null,null,null,null,null,null,null,null,null,null,null,"",""]
[null,null,null,null,null,null,null,null,null,null,null,null,null,null,null,"",""]
[null,null,null,null,null,null,null,null,null,null,null,null,null,null,null,"",""]
[null,null,null,null,null,null,null,null,null,null,null,null,null,null,null,"",""]
[null,null,null,null,null,null,null,null,null,null,null,null,null,null,null,"",""]
[null,null,null,null,null,null,null,null,null,null,null,null,null,null,null,"",""]
[null,null,null,null,null,null,null,null,null,null,null,null,null,null,null,"",""]
[null,null,null,null,null,null,null,null,null,null,null,null,null,null,null,"",""]
[null,null,null,null,null,null,null,null,null,null,null,null,null,null,null,"",""]
[null,null,null,null,null,null,null,null,null,null,null,null,null,null,null,"",""]
[null,null,null,null,null,null,null,null,null,null,null,null,null,null,null,"",""]
[null,null,null,null,null,null,null,null,null,null,null,null,null,null,null,"",""]
[null,null,null,null,null,null,null,null,null,null,null,null,null,null,null,"",""]
[null,null,null,null,null,null,null,null,null,null,null,null,null,null,null,"",""]
[null,null,null,null,null,null,null,null,null,null,null,null,null,null,null,"",""]
[null,null,null,null,null,null,null,null,null,null,null,null,null,null,null,"",""]
[null,null,null,null,null,null,null,null,null,null,null,null,null,null,null,"",""]
[null,null,null,null,null,null,null,null,null,null,null,null,null,null,null,"",""]
[null,null,null,null,null,null,null,null,null,null,null,null,null,null,null,"",""]
[null,null,null,null,null,null,null,null,null,null,null,null,null,null,null,"",""]
[null,null,null,null,null,null,null,null,null,null,null,null,null,null,null,"",""]
[null,null,null,null,null,null,null,null,null,null,null,null,null,null,null,"",""]
[null,null,null,null,null,null,null,null,null,null,null,null,null,null,null,"",""]
[null,null,null,null,null,null,null,null,null,null,null,null,null,null,null,"",""]
[null,null,null,null,null,null,null,null,null,null,null,null,null,null,null,"",""]
[null,null,null,null,null,null,null,null,null,null,null,null,null,null,null,"",""]
[null,null,null,null,null,null,null,null,null,null,null,null,null,null,null,"",""]
[null,null,null,null,null,null,null,null,null,null,null,null,null,null,null,"",""]
[null,null,null,null,null,null,null,null,null,null,null,null,null,null,null,"",""]
[null,null,null,null,null,null,null,null,null,null,null,null,null,null,null,"",""]
[null,null,null,null,null,null,null,null,null,null,null,null,null,null,null,"",""]
[null,null,null,null,null,null,null,null,null,null,null,null,null,null,null,"",""]
[null,null,null,null,null,null,null,null,null,null,null,null,null,null,null,"",""]
[null,null,null,null,null,null,null,null,null,null,null,null,null,null,null,"",""]
[null,null,null,null,null,null,null,null,null,null,null,null,null,null,null,"",""]
[null,null,null,null,null,null,null,null,null,null,null,null,null,null,null,"",""]
[null,null,null,null,null,null,null,null,null,null,null,null,null,null,null,"",""]
[null,null,null,null,null,null,null,null,null,null,null,null,null,null,null,"",""]
[null,null,null,null,null,null,null,null,null,null,null,null,null,null,null,"",""]
[null,null,null,null,null,null,null,null,null,null,null,null,null,null,null,"",""]
[null,null,null,null,null,null,null,null,null,null,null,null,null,null,null,"",""]
[null,null,null,null,null,null,null,null,null,null,null,null,null,null,null,"",""]
[null,null,null,null,null,null,null,null,null,null,null,null,null,null,null,"",""]
[null,null,null,null,null,null,null,null,null,null,null,null,null,null,null,"",""]
[null,null,null,null,null,null,null,null,null,null,null,null,null,null,null,"",""]
[null,null,null,null,null,null,null,null,null,null,null,null,null,null,null,"",""]
[null,null,null,null,null,null,null,null,null,null,null,null,null,null,null,"",""]
[null,null,null,null,null,null,null,null,null,null,null,null,null,null,null,"",""]
[null,null,null,null,null,null,null,null,null,null,null,null,null,null,null,"",""]
[null,null,null,null,null,null,null,null,null,null,null,null,null,null,null,"",""]
[null,null,null,null,null,null,null,null,null,null,null,null,null,null,null,"",""]
[null,null,null,null,null,null,null,null,null,null,null,null,null,null,null,"",""]
[null,null,null,null,null,null,null,null,null,null,null,null,null,null,null,"",""]
[null,null,null,null,null,null,null,null,null,null,null,null,null,null,null,"",""]
[null,null,null,null,null,null,null,null,null,null,null,null,null,null,null,"",""]
[null,null,null,null,null,null,null,null,null,null,null,null,null,null,null,"",""]
[null,null,null,null,null,null,null,null,null,null,null,null,null,null,null,"",""]
[null,null,null,null,null,null,null,null,null,null,null,null,null,null,null,"",""]
[null,null,null,null,null,null,null,null,null,null,null,null,null,null,null,"",""]
[null,null,null,null,null,null,null,null,null,null,null,null,null,null,null,"",""]
[null,null,null,null,null,null,null,null,null,null,null,null,null,null,null,"",""]
[null,null,null,null,null,null,null,null,null,null,null,null,null,null,null,"",""]
[null,null,null,null,null,null,null,null,null,null,null,null,null,null,null,"",""]
[null,null,null,null,null,null,null,null,null,null,null,null,null,null,null,"",""]
[null,null,null,null,null,null,null,null,null,null,null,null,null,null,null,"",""]
[null,null,null,null,null,null,null,null,null,null,null,null,null,null,null,"",""]
[null,null,null,null,null,null,null,null,null,null,null,null,null,null,null,"",""]
[null,null,null,null,null,null,null,null,null,null,null,null,null,null,null,"",""]
[null,null,null,null,null,null,null,null,null,null,null,null,null,null,null,"",""]
[null,null,null,null,null,null,null,null,null,null,null,null,null,null,null,"",""]
[null,null,null,null,null,null,null,null,null,null,null,null,null,null,null,"",""]
[null,null,null,null,null,null,null,null,null,null,null,null,null,null,null,"",""]
[null,null,null,null,null,null,null,null,null,null,null,null,null,null,null,"",""]
[null,null,null,null,null,null,null,null,null,null,null,null,null,null,null,"",""]
[null,null,null,null,null,null,null,null,null,null,null,null,null,null,null,"",""]
[null,null,null,null,null,null,null,null,null,null,null,null,null,null,null,"",""]
[null,null,null,null,null,null,null,null,null,null,null,null,null,null,null,"",""]
[null,null,null,null,null,null,null,null,null,null,null,null,null,null,null,"",""]
[null,null,null,null,null,null,null,null,null,null,null,null,null,null,null,"",""]
[null,null,null,null,null,null,null,null,null,null,null,null,null,null,null,"",""]
[null,null,null,null,null,null,null,null,null,null,null,null,null,null,null,"",""]
[null,null,null,null,null,null,null,null,null,null,null,null,null,null,null,"",""]
[null,null,null,null,null,null,null,null,null,null,null,null,null,null,null,"",""]
[null,null,null,null,null,null,null,null,null,null,null,null,null,null,null,"",""]
[null,null,null,null,null,null,null,null,null,null,null,null,null,null,null,"",""]
[null,null,null,null,null,null,null,null,null,null,null,null,null,null,null,"",""]
[null,null,null,null,null,null,null,null,null,null,null,null,null,null,null,"",""]
[null,null,null,null,null,null,null,null,null,null,null,null,null,null,null,"",""]
[null,null,null,null,null,null,null,null,null,null,null,null,null,null,null,"",""]
[null,null,null,null,null,null,null,null,null,null,null,null,null,null,null,"",""]
[null,null,null,null,null,null,null,null,null,null,null,null,null,null,null,"",""]
[null,null,null,null,null,null,null,null,null,null,null,null,null,null,null,"",""]
[null,null,null,null,null,null,null,null,null,null,null,null,null,null,null,"",""]
[null,null,null,null,null,null,null,null,null,null,null,null,null,null,null,"",""]
[null,null,null,null,null,null,null,null,null,null,null,null,null,null,null,"",""]
[null,null,null,null,null,null,null,null,null,null,null,null,null,null,null,"",""]
[null,null,null,null,null,null,null,null,null,null,null,null,null,null,null,"",""]
[null,null,null,null,null,null,null,null,null,null,null,null,null,null,null,"",""]
[null,null,null,null,null,null,null,null,null,null,null,null,null,null,null,"",""]
[null,null,null,null,null,null,null,null,null,null,null,null,null,null,null,"",""]
[null,null,null,null,null,null,null,null,null,null,null,null,null,null,null,"",""]
[null,null,null,null,null,null,null,null,null,null,null,null,null,null,null,"",""]
[null,null,null,null,null,null,null,null,null,null,null,null,null,null,null,"",""]
[null,null,null,null,null,null,null,null,null,null,null,null,null,null,null,"",""]
[null,null,null,null,null,null,null,null,null,null,null,null,null,null,null,"",""]
[null,null,null,null,null,null,null,null,null,null,null,null,null,null,null,"",""]
[null,null,null,null,null,null,null,null,null,null,null,null,null,null,null,"",""]
[null,null,null,null,null,null,null,null,null,null,null,null,null,null,null,"",""]
[null,null,null,null,null,null,null,null,null,null,null,null,null,null,null,"",""]
[null,null,null,null,null,null,null,null,null,null,null,null,null,null,null,"",""]
[null,null,null,null,null,null,null,null,null,null,null,null,null,null,null,"",""]
[null,null,null,null,null,null,null,null,null,null,null,null,null,null,null,"",""]
[null,null,null,null,null,null,null,null,null,null,null,null,null,null,null,"",""]
[null,null,null,null,null,null,null,null,null,null,null,null,null,null,null,"",""]
[null,null,null,null,null,null,null,null,null,null,null,null,null,null,null,"",""]
[null,null,null,null,null,null,null,null,null,null,null,null,null,null,null,"",""]
[null,null,null,null,null,null,null,null,null,null,null,null,null,null,null,"",""]
[null,null,null,null,null,null,null,null,null,null,null,null,null,null,null,"",""]
[null,null,null,null,null,null,null,null,null,null,null,null,null,null,null,"",""]
[null,null,null,null,null,null,null,null,null,null,null,null,null,null,null,"",""]
[null,null,null,null,null,null,null,null,null,null,null,null,null,null,null,"",""]
[null,null,null,null,null,null,null,null,null,null,null,null,null,null,null,"",""]
[null,null,null,null,null,null,null,null,null,null,null,null,null,null,null,"",""]
[null,null,null,null,null,null,null,null,null,null,null,null,null,null,null,"",""]
[null,null,null,null,null,null,null,null,null,null,null,null,null,null,null,"",""]
[null,null,null,null,null,null,null,null,null,null,null,null,null,null,null,"",""]
[null,null,null,null,null,null,null,null,null,null,null,null,null,null,null,"",""]
[null,null,null,null,null,null,null,null,null,null,null,null,null,null,null,"",""]
[null,null,null,null,null,null,null,null,null,null,null,null,null,null,null,"",""]
[null,null,null,null,null,null,null,null,null,null,null,null,null,null,null,"",""]
[null,null,null,null,null,null,null,null,null,null,null,null,null,null,null,"",""]
[null,null,null,null,null,null,null,null,null,null,null,null,null,null,null,"",""]
[null,null,null,null,null,null,null,null,null,null,null,null,null,null,null,"",""]
[null,null,null,null,null,null,null,null,null,null,null,null,null,null,null,"",""]
[null,null,null,null,null,null,null,null,null,null,null,null,null,null,null,"",""]
[null,null,null,null,null,null,null,null,null,null,null,null,null,null,null,"",""]
[null,null,null,null,null,null,null,null,null,null,null,null,null,null,null,"",""]
[null,null,null,null,null,null,null,null,null,null,null,null,null,null,null,"",""]
[null,null,null,null,null,null,null,null,null,null,null,null,null,null,null,"",""]
[null,null,null,null,null,null,null,null,null,null,null,null,null,null,null,"",""]
[null,null,null,null,null,null,null,null,null,null,null,null,null,null,null,"",""]
[null,null,null,null,null,null,null,null,null,null,null,null,null,null,null,"",""]
[null,null,null,null,null,null,null,null,null,null,null,null,null,null,null,"",""]
[null,null,null,null,null,null,null,null,null,null,null,null,null,null,null,"",""]
[null,null,null,null,null,null,null,null,null,null,null,null,null,null,null,"",""]
[null,null,null,null,null,null,null,null,null,null,null,null,null,null,null,"",""]
[null,null,null,null,null,null,null,null,null,null,null,null,null,null,null,"",""]
[null,null,null,null,null,null,null,null,null,null,null,null,null,null,null,"",""]
[null,null,null,null,null,null,null,null,null,null,null,null,null,null,null,"",""]
[null,null,null,null,null,null,null,null,null,null,null,null,null,null,null,"",""]
[null,null,null,null,null,null,null,null,null,null,null,null,null,null,null,"",""]
[null,null,null,null,null,null,null,null,null,null,null,null,null,null,null,"",""]
[null,null,null,null,null,null,null,null,null,null,null,null,null,null,null,"",""]
[null,null,null,null,null,null,null,null,null,null,null,null,null,null,null,"",""]
[null,null,null,null,null,null,null,null,null,null,null,null,null,null,null,"",""]
[null,null,null,null,null,null,null,null,null,null,null,null,null,null,null,"",""]
[null,null,null,null,null,null,null,null,null,null,null,null,null,null,null,"",""]
[null,null,null,null,null,null,null,null,null,null,null,null,null,null,null,"",""]
[null,null,null,null,null,null,null,null,null,null,null,null,null,null,null,"",""]
[null,null,null,null,null,null,null,null,null,null,null,null,null,null,null,"",""]
[null,null,null,null,null,null,null,null,null,null,null,null,null,null,null,"",""]
[null,null,null,null,null,null,null,null,null,null,null,null,null,null,null,"",""]
[null,null,null,null,null,null,null,null,null,null,null,null,null,null,null,"",""]
[null,null,null,null,null,null,null,null,null,null,null,null,null,null,null,"",""]
[null,null,null,null,null,null,null,null,null,null,null,null,null,null,null,"",""]
[null,null,null,null,null,null,null,null,null,null,null,null,null,null,null,"",""]
[null,null,null,null,null,null,null,null,null,null,null,null,null,null,null,"",""]
[null,null,null,null,null,null,null,null,null,null,null,null,null,null,null,"",""]
[null,null,null,null,null,null,null,null,null,null,null,null,null,null,null,"",""]
[null,null,null,null,null,null,null,null,null,null,null,null,null,null,null,"",""]
[null,null,null,null,null,null,null,null,null,null,null,null,null,null,null,"",""]
[null,null,null,null,null,null,null,null,null,null,null,null,null,null,null,"",""]
[null,null,null,null,null,null,null,null,null,null,null,null,null,null,null,"",""]
[null,null,null,null,null,null,null,null,null,null,null,null,null,null,null,"",""]
[null,null,null,null,null,null,null,null,null,null,null,null,null,null,null,"",""]
[null,null,null,null,null,null,null,null,null,null,null,null,null,null,null,"",""]
[null,null,null,null,null,null,null,null,null,null,null,null,null,null,null,"",""]
[null,null,null,null,null,null,null,null,null,null,null,null,null,null,null,"",""]
[null,null,null,null,null,null,null,null,null,null,null,null,null,null,null,"",""]
[null,null,null,null,null,null,null,null,null,null,null,null,null,null,null,"",""]
[null,null,null,null,null,null,null,null,null,null,null,null,null,null,null,"",""]
[null,null,null,null,null,null,null,null,null,null,null,null,null,null,null,"",""]
[null,null,null,null,null,null,null,null,null,null,null,null,null,null,null,"",""]
[null,null,null,null,null,null,null,null,null,null,null,null,null,null,null,"",""]
[null,null,null,null,null,null,null,null,null,null,null,null,null,null,null,"",""]
[null,null,null,null,null,null,null,null,null,null,null,null,null,null,null,"",""]
[null,null,null,null,null,null,null,null,null,null,null,null,null,null,null,"",""]
[null,null,null,null,null,null,null,null,null,null,null,null,null,null,null,"",""]
[null,null,null,null,null,null,null,null,null,null,null,null,null,null,null,"",""]
[null,null,null,null,null,null,null,null,null,null,null,null,null,null,null,"",""]
[null,null,null,null,null,null,null,null,null,null,null,null,null,null,null,"",""]
[null,null,null,null,null,null,null,null,null,null,null,null,null,null,null,"",""]
[null,null,null,null,null,null,null,null,null,null,null,null,null,null,null,"",""]
[null,null,null,null,null,null,null,null,null,null,null,null,null,null,null,"",""]
[null,null,null,null,null,null,null,null,null,null,null,null,null,null,null,"",""]
[null,null,null,null,null,null,null,null,null,null,null,null,null,null,null,"",""]
[null,null,null,null,null,null,null,null,null,null,null,null,null,null,null,"",""]
[null,null,null,null,null,null,null,null,null,null,null,null,null,null,null,"",""]
[null,null,null,null,null,null,null,null,null,null,null,null,null,null,null,"",""]
[null,null,null,null,null,null,null,null,null,null,null,null,null,null,null,"",""]
[null,null,null,null,null,null,null,null,null,null,null,null,null,null,null,"",""]
[null,null,null,null,null,null,null,null,null,null,null,null,null,null,null,"",""]
[null,null,null,null,null,null,null,null,null,null,null,null,null,null,null,"",""]
[null,null,null,null,null,null,null,null,null,null,null,null,null,null,null,"",""]
[null,null,null,null,null,null,null,null,null,null,null,null,null,null,null,"",""]
[null,null,null,null,null,null,null,null,null,null,null,null,null,null,null,"",""]
[null,null,null,null,null,null,null,null,null,null,null,null,null,null,null,"",""]
[null,null,null,null,null,null,null,null,null,null,null,null,null,null,null,"",""]
[null,null,null,null,null,null,null,null,null,null,null,null,null,null,null,"",""]
[null,null,null,null,null,null,null,null,null,null,null,null,null,null,null,"",""]
[null,null,null,null,null,null,null,null,null,null,null,null,null,null,null,"",""]
[null,null,null,null,null,null,null,null,null,null,null,null,null,null,null,"",""]
[null,null,null,null,null,null,null,null,null,null,null,null,null,null,null,"",""]
[null,null,null,null,null,null,null,null,null,null,null,null,null,null,null,"",""]
[null,null,null,null,null,null,null,null,null,null,null,null,null,null,null,"",""]
[null,null,null,null,null,null,null,null,null,null,null,null,null,null,null,"",""]
[null,null,null,null,null,null,null,null,null,null,null,null,null,null,null,"",""]
[null,null,null,null,null,null,null,null,null,null,null,null,null,null,null,"",""]
[null,null,null,null,null,null,null,null,null,null,null,null,null,null,null,"",""]
[null,null,null,null,null,null,null,null,null,null,null,null,null,null,null,"",""]
[null,null,null,null,null,null,null,null,null,null,null,null,null,null,null,"",""]
[null,null,null,null,null,null,null,null,null,null,null,null,null,null,null,"",""]
[null,null,null,null,null,null,null,null,null,null,null,null,null,null,null,"",""]
[null,null,null,null,null,null,null,null,null,null,null,null,null,null,null,"",""]
[null,null,null,null,null,null,null,null,null,null,null,null,null,null,null,"",""]
[null,null,null,null,null,null,null,null,null,null,null,null,null,null,null,"",""]
[null,null,null,null,null,null,null,null,null,null,null,null,null,null,null,"",""]
[null,null,null,null,null,null,null,null,null,null,null,null,null,null,null,"",""]
[null,null,null,null,null,null,null,null,null,null,null,null,null,null,null,"",""]
[null,null,null,null,null,null,null,null,null,null,null,null,null,null,null,"",""]
[null,null,null,null,null,null,null,null,null,null,null,null,null,null,null,"",""]
[null,null,null,null,null,null,null,null,null,null,null,null,null,null,null,"",""]
[null,null,null,null,null,null,null,null,null,null,null,null,null,null,null,"",""]
[null,null,null,null,null,null,null,null,null,null,null,null,null,null,null,"",""]
[null,null,null,null,null,null,null,null,null,null,null,null,null,null,null,"",""]
[null,null,null,null,null,null,null,null,null,null,null,null,null,null,null,"",""]
[null,null,null,null,null,null,null,null,null,null,null,null,null,null,null,"",""]
[null,null,null,null,null,null,null,null,null,null,null,null,null,null,null,"",""]
[null,null,null,null,null,null,null,null,null,null,null,null,null,null,null,"",""]
[null,null,null,null,null,null,null,null,null,null,null,null,null,null,null,"",""]
[null,null,null,null,null,null,null,null,null,null,null,null,null,null,null,"",""]
[null,null,null,null,null,null,null,null,null,null,null,null,null,null,null,"",""]
[null,null,null,null,null,null,null,null,null,null,null,null,null,null,null,"",""]
[null,null,null,null,null,null,null,null,null,null,null,null,null,null,null,"",""]
[null,null,null,null,null,null,null,null,null,null,null,null,null,null,null,"",""]
[null,null,null,null,null,null,null,null,null,null,null,null,null,null,null,"",""]
[null,null,null,null,null,null,null,null,null,null,null,null,null,null,null,"",""]
[null,null,null,null,null,null,null,null,null,null,null,null,null,null,null,"",""]
[null,null,null,null,null,null,null,null,null,null,null,null,null,null,null,"",""]
[null,null,null,null,null,null,null,null,null,null,null,null,null,null,null,"",""]
[null,null,null,null,null,null,null,null,null,null,null,null,null,null,null,"",""]
[null,null,null,null,null,null,null,null,null,null,null,null,null,null,null,"",""]
[null,null,null,null,null,null,null,null,null,null,null,null,null,null,null,"",""]
[null,null,null,null,null,null,null,null,null,null,null,null,null,null,null,"",""]
[null,null,null,null,null,null,null,null,null,null,null,null,null,null,null,"",""]
[null,null,null,null,null,null,null,null,null,null,null,null,null,null,null,"",""]
[null,null,null,null,null,null,null,null,null,null,null,null,null,null,null,"",""]
[null,null,null,null,null,null,null,null,null,null,null,null,null,null,null,"",""]
[null,null,null,null,null,null,null,null,null,null,null,null,null,null,null,"",""]
[null,null,null,null,null,null,null,null,null,null,null,null,null,null,null,"",""]
[null,null,null,null,null,null,null,null,null,null,null,null,null,null,null,"",""]
[null,null,null,null,null,null,null,null,null,null,null,null,null,null,null,"",""]
[null,null,null,null,null,null,null,null,null,null,null,null,null,null,null,"",""]
[null,null,null,null,null,null,null,null,null,null,null,null,null,null,null,"",""]
[null,null,null,null,null,null,null,null,null,null,null,null,null,null,null,"",""]
[null,null,null,null,null,null,null,null,null,null,null,null,null,null,null,"",""]
[null,null,null,null,null,null,null,null,null,null,null,null,null,null,null,"",""]
[null,null,null,null,null,null,null,null,null,null,null,null,null,null,null,"",""]
[null,null,null,null,null,null,null,null,null,null,null,null,null,null,null,"",""]
[null,null,null,null,null,null,null,null,null,null,null,null,null,null,null,"",""]
[null,null,null,null,null,null,null,null,null,null,null,null,null,null,null,"",""]
[null,null,null,null,null,null,null,null,null,null,null,null,null,null,null,"",""]
[null,null,null,null,null,null,null,null,null,null,null,null,null,null,null,"",""]
[null,null,null,null,null,null,null,null,null,null,null,null,null,null,null,"",""]
[null,null,null,null,null,null,null,null,null,null,null,null,null,null,null,"",""]
[null,null,null,null,null,null,null,null,null,null,null,null,null,null,null,"",""]
[null,null,null,null,null,null,null,null,null,null,null,null,null,null,null,"",""]
[null,null,null,null,null,null,null,null,null,null,null,null,null,null,null,"",""]
[null,null,null,null,null,null,null,null,null,null,null,null,null,null,null,"",""]
[null,null,null,null,null,null,null,null,null,null,null,null,null,null,null,"",""]
[null,null,null,null,null,null,null,null,null,null,null,null,null,null,null,"",""]
[null,null,null,null,null,null,null,null,null,null,null,null,null,null,null,"",""]
[null,null,null,null,null,null,null,null,null,null,null,null,null,null,null,"",""]
[null,null,null,null,null,null,null,null,null,null,null,null,null,null,null,"",""]
[null,null,null,null,null,null,null,null,null,null,null,null,null,null,null,"",""]
[null,null,null,null,null,null,null,null,null,null,null,null,null,null,null,"",""]
[null,null,null,null,null,null,null,null,null,null,null,null,null,null,null,"",""]
[null,null,null,null,null,null,null,null,null,null,null,null,null,null,null,"",""]
[null,null,null,null,null,null,null,null,null,null,null,null,null,null,null,"",""]
[null,null,null,null,null,null,null,null,null,null,null,null,null,null,null,"",""]
[null,null,null,null,null,null,null,null,null,null,null,null,null,null,null,"",""]
[null,null,null,null,null,null,null,null,null,null,null,null,null,null,null,"",""]
[null,null,null,null,null,null,null,null,null,null,null,null,null,null,null,"",""]
[null,null,null,null,null,null,null,null,null,null,null,null,null,null,null,"",""]
[null,null,null,null,null,null,null,null,null,null,null,null,null,null,null,"",""]
[null,null,null,null,null,null,null,null,null,null,null,null,null,null,null,"",""]
[null,null,null,null,null,null,null,null,null,null,null,null,null,null,null,"",""]
[null,null,null,null,null,null,null,null,null,null,null,null,null,null,null,"",""]
[null,null,null,null,null,null,null,null,null,null,null,null,null,null,null,"",""]
[null,null,null,null,null,null,null,null,null,null,null,null,null,null,null,"",""]
[null,null,null,null,null,null,null,null,null,null,null,null,null,null,null,"",""]
[null,null,null,null,null,null,null,null,null,null,null,null,null,null,null,"",""]
[null,null,null,null,null,null,null,null,null,null,null,null,null,null,null,"",""]
[null,null,null,null,null,null,null,null,null,null,null,null,null,null,null,"",""]
[null,null,null,null,null,null,null,null,null,null,null,null,null,null,null,"",""]
[null,null,null,null,null,null,null,null,null,null,null,null,null,null,null,"",""]
[null,null,null,null,null,null,null,null,null,null,null,null,null,null,null,"",""]
[null,null,null,null,null,null,null,null,null,null,null,null,null,null,null,"",""]
[null,null,null,null,null,null,null,null,null,null,null,null,null,null,null,"",""]
[null,null,null,null,null,null,null,null,null,null,null,null,null,null,null,"",""]
[null,null,null,null,null,null,null,null,null,null,null,null,null,null,null,"",""]
[null,null,null,null,null,null,null,null,null,null,null,null,null,null,null,"",""]
[null,null,null,null,null,null,null,null,null,null,null,null,null,null,null,"",""]
[null,null,null,null,null,null,null,null,null,null,null,null,null,null,null,"",""]
[null,null,null,null,null,null,null,null,null,null,null,null,null,null,null,"",""]
[null,null,null,null,null,null,null,null,null,null,null,null,null,null,null,"",""]
[null,null,null,null,null,null,null,null,null,null,null,null,null,null,null,"",""]
[null,null,null,null,null,null,null,null,null,null,null,null,null,null,null,"",""]
[null,null,null,null,null,null,null,null,null,null,null,null,null,null,null,"",""]
[null,null,null,null,null,null,null,null,null,null,null,null,null,null,null,"",""]
[null,null,null,null,null,null,null,null,null,null,null,null,null,null,null,"",""]
[null,null,null,null,null,null,null,null,null,null,null,null,null,null,null,"",""]
[null,null,null,null,null,null,null,null,null,null,null,null,null,null,null,"",""]
[null,null,null,null,null,null,null,null,null,null,null,null,null,null,null,"",""]
[null,null,null,null,null,null,null,null,null,null,null,null,null,null,null,"",""]
[null,null,null,null,null,null,null,null,null,null,null,null,null,null,null,"",""]
[null,null,null,null,null,null,null,null,null,null,null,null,null,null,null,"",""]
[null,null,null,null,null,null,null,null,null,null,null,null,null,null,null,"",""]
[null,null,null,null,null,null,null,null,null,null,null,null,null,null,null,"",""]
[null,null,null,null,null,null,null,null,null,null,null,null,null,null,null,"",""]
[null,null,null,null,null,null,null,null,null,null,null,null,null,null,null,"",""]
[null,null,null,null,null,null,null,null,null,null,null,null,null,null,null,"",""]
[null,null,null,null,null,null,null,null,null,null,null,null,null,null,null,"",""]
[null,null,null,null,null,null,null,null,null,null,null,null,null,null,null,"",""]
[null,null,null,null,null,null,null,null,null,null,null,null,null,null,null,"",""]
[null,null,null,null,null,null,null,null,null,null,null,null,null,null,null,"",""]
[null,null,null,null,null,null,null,null,null,null,null,null,null,null,null,"",""]
[null,null,null,null,null,null,null,null,null,null,null,null,null,null,null,"",""]
[null,null,null,null,null,null,null,null,null,null,null,null,null,null,null,"",""]
[null,null,null,null,null,null,null,null,null,null,null,null,null,null,null,"",""]
[null,null,null,null,null,null,null,null,null,null,null,null,null,null,null,"",""]
[null,null,null,null,null,null,null,null,null,null,null,null,null,null,null,"",""]
[null,null,null,null,null,null,null,null,null,null,null,null,null,null,null,"",""]
[null,null,null,null,null,null,null,null,null,null,null,null,null,null,null,"",""]
[null,null,null,null,null,null,null,null,null,null,null,null,null,null,null,"",""]
[null,null,null,null,null,null,null,null,null,null,null,null,null,null,null,"",""]
[null,null,null,null,null,null,null,null,null,null,null,null,null,null,null,"",""]
[null,null,null,null,null,null,null,null,null,null,null,null,null,null,null,"",""]
[null,null,null,null,null,null,null,null,null,null,null,null,null,null,null,"",""]
[null,null,null,null,null,null,null,null,null,null,null,null,null,null,null,"",""]
[null,null,null,null,null,null,null,null,null,null,null,null,null,null,null,"",""]
[null,null,null,null,null,null,null,null,null,null,null,null,null,null,null,"",""]
[null,null,null,null,null,null,null,null,null,null,null,null,null,null,null,"",""]
[null,null,null,null,null,null,null,null,null,null,null,null,null,null,null,"",""]
[null,null,null,null,null,null,null,null,null,null,null,null,null,null,null,"",""]
[null,null,null,null,null,null,null,null,null,null,null,null,null,null,null,"",""]
[null,null,null,null,null,null,null,null,null,null,null,null,null,null,null,"",""]
[null,null,null,null,null,null,null,null,null,null,null,null,null,null,null,"",""]
[null,null,null,null,null,null,null,null,null,null,null,null,null,null,null,"",""]
[null,null,null,null,null,null,null,null,null,null,null,null,null,null,null,"",""]
[null,null,null,null,null,null,null,null,null,null,null,null,null,null,null,"",""]
[null,null,null,null,null,null,null,null,null,null,null,null,null,null,null,"",""]
[null,null,null,null,null,null,null,null,null,null,null,null,null,null,null,"",""]
[null,null,null,null,null,null,null,null,null,null,null,null,null,null,null,"",""]
[null,null,null,null,null,null,null,null,null,null,null,null,null,null,null,"",""]
[null,null,null,null,null,null,null,null,null,null,null,null,null,null,null,"",""]
[null,null,null,null,null,null,null,null,null,null,null,null,null,null,null,"",""]
[null,null,null,null,null,null,null,null,null,null,null,null,null,null,null,"",""]
[null,null,null,null,null,null,null,null,null,null,null,null,null,null,null,"",""]
[null,null,null,null,null,null,null,null,null,null,null,null,null,null,null,"",""]
[null,null,null,null,null,null,null,null,null,null,null,null,null,null,null,"",""]
[null,null,null,null,null,null,null,null,null,null,null,null,null,null,null,"",""]
[null,null,null,null,null,null,null,null,null,null,null,null,null,null,null,"",""]
[null,null,null,null,null,null,null,null,null,null,null,null,null,null,null,"",""]
[null,null,null,null,null,null,null,null,null,null,null,null,null,null,null,"",""]
[null,null,null,null,null,null,null,null,null,null,null,null,null,null,null,"",""]
[null,null,null,null,null,null,null,null,null,null,null,null,null,null,null,"",""]
[null,null,null,null,null,null,null,null,null,null,null,null,null,null,null,"",""]
[null,null,null,null,null,null,null,null,null,null,null,null,null,null,null,"",""]
[null,null,null,null,null,null,null,null,null,null,null,null,null,null,null,"",""]
[null,null,null,null,null,null,null,null,null,null,null,null,null,null,null,"",""]
[null,null,null,null,null,null,null,null,null,null,null,null,null,null,null,"",""]
[null,null,null,null,null,null,null,null,null,null,null,null,null,null,null,"",""]
[null,null,null,null,null,null,null,null,null,null,null,null,null,null,null,"",""]
[null,null,null,null,null,null,null,null,null,null,null,null,null,null,null,"",""]
[null,null,null,null,null,null,null,null,null,null,null,null,null,null,null,"",""]
[null,null,null,null,null,null,null,null,null,null,null,null,null,null,null,"",""]
[null,null,null,null,null,null,null,null,null,null,null,null,null,null,null,"",""]
[null,null,null,null,null,null,null,null,null,null,null,null,null,null,null,"",""]
[null,null,null,null,null,null,null,null,null,null,null,null,null,null,null,"",""]
[null,null,null,null,null,null,null,null,null,null,null,null,null,null,null,"",""]
[null,null,null,null,null,null,null,null,null,null,null,null,null,null,null,"",""]
[null,null,null,null,null,null,null,null,null,null,null,null,null,null,null,"",""]
[null,null,null,null,null,null,null,null,null,null,null,null,null,null,null,"",""]
[null,null,null,null,null,null,null,null,null,null,null,null,null,null,null,"",""]
[null,null,null,null,null,null,null,null,null,null,null,null,null,null,null,"",""]
[null,null,null,null,null,null,null,null,null,null,null,null,null,null,null,"",""]
[null,null,null,null,null,null,null,null,null,null,null,null,null,null,null,"",""]
[null,null,null,null,null,null,null,null,null,null,null,null,null,null,null,"",""]
[null,null,null,null,null,null,null,null,null,null,null,null,null,null,null,"",""]
[null,null,null,null,null,null,null,null,null,null,null,null,null,null,null,"",""]
[null,null,null,null,null,null,null,null,null,null,null,null,null,null,null,"",""]
[null,null,null,null,null,null,null,null,null,null,null,null,null,null,null,"",""]
[null,null,null,null,null,null,null,null,null,null,null,null,null,null,null,"",""]
[null,null,null,null,null,null,null,null,null,null,null,null,null,null,null,"",""]
[null,null,null,null,null,null,null,null,null,null,null,null,null,null,null,"",""]
[null,null,null,null,null,null,null,null,null,null,null,null,null,null,null,"",""]
[null,null,null,null,null,null,null,null,null,null,null,null,null,null,null,"",""]
[null,null,null,null,null,null,null,null,null,null,null,null,null,null,null,"",""]
[null,null,null,null,null,null,null,null,null,null,null,null,null,null,null,"",""]
[null,null,null,null,null,null,null,null,null,null,null,null,null,null,null,"",""]
[null,null,null,null,null,null,null,null,null,null,null,null,null,null,null,"",""]
[null,null,null,null,null,null,null,null,null,null,null,null,null,null,null,"",""]
[null,null,null,null,null,null,null,null,null,null,null,null,null,null,null,"",""]
[null,null,null,null,null,null,null,null,null,null,null,null,null,null,null,"",""]
[null,null,null,null,null,null,null,null,null,null,null,null,null,null,null,"",""]
[null,null,null,null,null,null,null,null,null,null,null,null,null,null,null,"",""]
[null,null,null,null,null,null,null,null,null,null,null,null,null,null,null,"",""]
[null,null,null,null,null,null,null,null,null,null,null,null,null,null,null,"",""]
[null,null,null,null,null,null,null,null,null,null,null,null,null,null,null,"",""]
[null,null,null,null,null,null,null,null,null,null,null,null,null,null,null,"",""]
[null,null,null,null,null,null,null,null,null,null,null,null,null,null,null,"",""]
[null,null,null,null,null,null,null,null,null,null,null,null,null,null,null,"",""]
[null,null,null,null,null,null,null,null,null,null,null,null,null,null,null,"",""]
[null,null,null,null,null,null,null,null,null,null,null,null,null,null,null,"",""]
[null,null,null,null,null,null,null,null,null,null,null,null,null,null,null,"",""]
[null,null,null,null,null,null,null,null,null,null,null,null,null,null,null,"",""]
[null,null,null,null,null,null,null,null,null,null,null,null,null,null,null,"",""]
[null,null,null,null,null,null,null,null,null,null,null,null,null,null,null,"",""]
[null,null,null,null,null,null,null,null,null,null,null,null,null,null,null,"",""]
[null,null,null,null,null,null,null,null,null,null,null,null,null,null,null,"",""]
[null,null,null,null,null,null,null,null,null,null,null,null,null,null,null,"",""]
[null,null,null,null,null,null,null,null,null,null,null,null,null,null,null,"",""]
[null,null,null,null,null,null,null,null,null,null,null,null,null,null,null,"",""]
[null,null,null,null,null,null,null,null,null,null,null,null,null,null,null,"",""]
[null,null,null,null,null,null,null,null,null,null,null,null,null,null,null,"",""]
[null,null,null,null,null,null,null,null,null,null,null,null,null,null,null,"",""]
[null,null,null,null,null,null,null,null,null,null,null,null,null,null,null,"",""]
[null,null,null,null,null,null,null,null,null,null,null,null,null,null,null,"",""]
[null,null,null,null,null,null,null,null,null,null,null,null,null,null,null,"",""]
[null,null,null,null,null,null,null,null,null,null,null,null,null,null,null,"",""]
[null,null,null,null,null,null,null,null,null,null,null,null,null,null,null,"",""]
[null,null,null,null,null,null,null,null,null,null,null,null,null,null,null,"",""]
[null,null,null,null,null,null,null,null,null,null,null,null,null,null,null,"",""]
[null,null,null,null,null,null,null,null,null,null,null,null,null,null,null,"",""]
[null,null,null,null,null,null,null,null,null,null,null,null,null,null,null,"",""]
[null,null,null,null,null,null,null,null,null,null,null,null,null,null,null,"",""]
[null,null,null,null,null,null,null,null,null,null,null,null,null,null,null,"",""]
[null,null,null,null,null,null,null,null,null,null,null,null,null,null,null,"",""]
[null,null,null,null,null,null,null,null,null,null,null,null,null,null,null,"",""]
[null,null,null,null,null,null,null,null,null,null,null,null,null,null,null,"",""]
[null,null,null,null,null,null,null,null,null,null,null,null,null,null,null,"",""]
[null,null,null,null,null,null,null,null,null,null,null,null,null,null,null,"",""]
[null,null,null,null,null,null,null,null,null,null,null,null,null,null,null,"",""]
[null,null,null,null,null,null,null,null,null,null,null,null,null,null,null,"",""]
[null,null,null,null,null,null,null,null,null,null,null,null,null,null,null,"",""]
[null,null,null,null,null,null,null,null,null,null,null,null,null,null,null,"",""]
[null,null,null,null,null,null,null,null,null,null,null,null,null,null,null,"",""]
[null,null,null,null,null,null,null,null,null,null,null,null,null,null,null,"",""]
[null,null,null,null,null,null,null,null,null,null,null,null,null,null,null,"",""]
[null,null,null,null,null,null,null,null,null,null,null,null,null,null,null,"",""]
[null,null,null,null,null,null,null,null,null,null,null,null,null,null,null,"",""]
[null,null,null,null,null,null,null,null,null,null,null,null,null,null,null,"",""]
[null,null,null,null,null,null,null,null,null,null,null,null,null,null,null,"",""]
[null,null,null,null,null,null,null,null,null,null,null,null,null,null,null,"",""]
[null,null,null,null,null,null,null,null,null,null,null,null,null,null,null,"",""]
[null,null,null,null,null,null,null,null,null,null,null,null,null,null,null,"",""]
[null,null,null,null,null,null,null,null,null,null,null,null,null,null,null,"",""]
[null,null,null,null,null,null,null,null,null,null,null,null,null,null,null,"",""]
[null,null,null,null,null,null,null,null,null,null,null,null,null,null,null,"",""]
[null,null,null,null,null,null,null,null,null,null,null,null,null,null,null,"",""]
[null,null,null,null,null,null,null,null,null,null,null,null,null,null,null,"",""]
[null,null,null,null,null,null,null,null,null,null,null,null,null,null,null,"",""]
[null,null,null,null,null,null,null,null,null,null,null,null,null,null,null,"",""]
[null,null,null,null,null,null,null,null,null,null,null,null,null,null,null,"",""]
[null,null,null,null,null,null,null,null,null,null,null,null,null,null,null,"",""]
[null,null,null,null,null,null,null,null,null,null,null,null,null,null,null,"",""]
[null,null,null,null,null,null,null,null,null,null,null,null,null,null,null,"",""]
[null,null,null,null,null,null,null,null,null,null,null,null,null,null,null,"",""]
[null,null,null,null,null,null,null,null,null,null,null,null,null,null,null,"",""]
[null,null,null,null,null,null,null,null,null,null,null,null,null,null,null,"",""]
[null,null,null,null,null,null,null,null,null,null,null,null,null,null,null,"",""]
[null,null,null,null,null,null,null,null,null,null,null,null,null,null,null,"",""]
[null,null,null,null,null,null,null,null,null,null,null,null,null,null,null,"",""]
[null,null,null,null,null,null,null,null,null,null,null,null,null,null,null,"",""]
[null,null,null,null,null,null,null,null,null,null,null,null,null,null,null,"",""]
[null,null,null,null,null,null,null,null,null,null,null,null,null,null,null,"",""]
[null,null,null,null,null,null,null,null,null,null,null,null,null,null,null,"",""]
[null,null,null,null,null,null,null,null,null,null,null,null,null,null,null,"",""]
[null,null,null,null,null,null,null,null,null,null,null,null,null,null,null,"",""]
[null,null,null,null,null,null,null,null,null,null,null,null,null,null,null,"",""]
[null,null,null,null,null,null,null,null,null,null,null,null,null,null,null,"",""]
[null,null,null,null,null,null,null,null,null,null,null,null,null,null,null,"",""]
[null,null,null,null,null,null,null,null,null,null,null,null,null,null,null,"",""]
[null,null,null,null,null,null,null,null,null,null,null,null,null,null,null,"",""]
[null,null,null,null,null,null,null,null,null,null,null,null,null,null,null,"",""]
[null,null,null,null,null,null,null,null,null,null,null,null,null,null,null,"",""]
[null,null,null,null,null,null,null,null,null,null,null,null,null,null,null,"",""]
[null,null,null,null,null,null,null,null,null,null,null,null,null,null,null,"",""]
[null,null,null,null,null,null,null,null,null,null,null,null,null,null,null,"",""]
[null,null,null,null,null,null,null,null,null,null,null,null,null,null,null,"",""]
[null,null,null,null,null,null,null,null,null,null,null,null,null,null,null,"",""]
[null,null,null,null,null,null,null,null,null,null,null,null,null,null,null,"",""]
[null,null,null,null,null,null,null,null,null,null,null,null,null,null,null,"",""]
[null,null,null,null,null,null,null,null,null,null,null,null,null,null,null,"",""]
[null,null,null,null,null,null,null,null,null,null,null,null,null,null,null,"",""]
[null,null,null,null,null,null,null,null,null,null,null,null,null,null,null,"",""]
[null,null,null,null,null,null,null,null,null,null,null,null,null,null,null,"",""]
[null,null,null,null,null,null,null,null,null,null,null,null,null,null,null,"",""]
[null,null,null,null,null,null,null,null,null,null,null,null,null,null,null,"",""]
[null,null,null,null,null,null,null,null,null,null,null,null,null,null,null,"",""]
[null,null,null,null,null,null,null,null,null,null,null,null,null,null,null,"",""]
[null,null,null,null,null,null,null,null,null,null,null,null,null,null,null,"",""]
[null,null,null,null,null,null,null,null,null,null,null,null,null,null,null,"",""]
[null,null,null,null,null,null,null,null,null,null,null,null,null,null,null,"",""]
[null,null,null,null,null,null,null,null,null,null,null,null,null,null,null,"",""]
[null,null,null,null,null,null,null,null,null,null,null,null,null,null,null,"",""]
[null,null,null,null,null,null,null,null,null,null,null,null,null,null,null,"",""]
[null,null,null,null,null,null,null,null,null,null,null,null,null,null,null,"",""]
[null,null,null,null,null,null,null,null,null,null,null,null,null,null,null,"",""]
[null,null,null,null,null,null,null,null,null,null,null,null,null,null,null,"",""]
[null,null,null,null,null,null,null,null,null,null,null,null,null,null,null,"",""]
[null,null,null,null,null,null,null,null,null,null,null,null,null,null,null,"",""]
[null,null,null,null,null,null,null,null,null,null,null,null,null,null,null,"",""]
[null,null,null,null,null,null,null,null,null,null,null,null,null,null,null,"",""]
[null,null,null,null,null,null,null,null,null,null,null,null,null,null,null,"",""]
[null,null,null,null,null,null,null,null,null,null,null,null,null,null,null,"",""]
[null,null,null,null,null,null,null,null,null,null,null,null,null,null,null,"",""]
[null,null,null,null,null,null,null,null,null,null,null,null,null,null,null,"",""]
[null,null,null,null,null,null,null,null,null,null,null,null,null,null,null,"",""]
[null,null,null,null,null,null,null,null,null,null,null,null,null,null,null,"",""]
[null,null,null,null,null,null,null,null,null,null,null,null,null,null,null,"",""]
[null,null,null,null,null,null,null,null,null,null,null,null,null,null,null,"",""]
[null,null,null,null,null,null,null,null,null,null,null,null,null,null,null,"",""]
[null,null,null,null,null,null,null,null,null,null,null,null,null,null,null,"",""]
[null,null,null,null,null,null,null,null,null,null,null,null,null,null,null,"",""]
[null,null,null,null,null,null,null,null,null,null,null,null,null,null,null,"",""]
[null,null,null,null,null,null,null,null,null,null,null,null,null,null,null,"",""]
[null,null,null,null,null,null,null,null,null,null,null,null,null,null,null,"",""]
[null,null,null,null,null,null,null,null,null,null,null,null,null,null,null,"",""]
[null,null,null,null,null,null,null,null,null,null,null,null,null,null,null,"",""]
[null,null,null,null,null,null,null,null,null,null,null,null,null,null,null,"",""]
[null,null,null,null,null,null,null,null,null,null,null,null,null,null,null,"",""]
[null,null,null,null,null,null,null,null,null,null,null,null,null,null,null,"",""]
[null,null,null,null,null,null,null,null,null,null,null,null,null,null,null,"",""]
[null,null,null,null,null,null,null,null,null,null,null,null,null,null,null,"",""]
[null,null,null,null,null,null,null,null,null,null,null,null,null,null,null,"",""]
[null,null,null,null,null,null,null,null,null,null,null,null,null,null,null,"",""]
[null,null,null,null,null,null,null,null,null,null,null,null,null,null,null,"",""]
[null,null,null,null,null,null,null,null,null,null,null,null,null,null,null,"",""]
[null,null,null,null,null,null,null,null,null,null,null,null,null,null,null,"",""]
[null,null,null,null,null,null,null,null,null,null,null,null,null,null,null,"",""]
[null,null,null,null,null,null,null,null,null,null,null,null,null,null,null,"",""]
[null,null,null,null,null,null,null,null,null,null,null,null,null,null,null,"",""]
[null,null,null,null,null,null,null,null,null,null,null,null,null,null,null,"",""]
[null,null,null,null,null,null,null,null,null,null,null,null,null,null,null,"",""]
[null,null,null,null,null,null,null,null,null,null,null,null,null,null,null,"",""]
[null,null,null,null,null,null,null,null,null,null,null,null,null,null,null,"",""]
[null,null,null,null,null,null,null,null,null,null,null,null,null,null,null,"",""]
[null,null,null,null,null,null,null,null,null,null,null,null,null,null,null,"",""]
[null,null,null,null,null,null,null,null,null,null,null,null,null,null,null,"",""]
[null,null,null,null,null,null,null,null,null,null,null,null,null,null,null,"",""]
[null,null,null,null,null,null,null,null,null,null,null,null,null,null,null,"",""]
[null,null,null,null,null,null,null,null,null,null,null,null,null,null,null,"",""]
[null,null,null,null,null,null,null,null,null,null,null,null,null,null,null,"",""]
[null,null,null,null,null,null,null,null,null,null,null,null,null,null,null,"",""]
[null,null,null,null,null,null,null,null,null,null,null,null,null,null,null,"",""]
[null,null,null,null,null,null,null,null,null,null,null,null,null,null,null,"",""]
[null,null,null,null,null,null,null,null,null,null,null,null,null,null,null,"",""]
[null,null,null,null,null,null,null,null,null,null,null,null,null,null,null,"",""]
[null,null,null,null,null,null,null,null,null,null,null,null,null,null,null,"",""]
[null,null,null,null,null,null,null,null,null,null,null,null,null,null,null,"",""]
[null,null,null,null,null,null,null,null,null,null,null,null,null,null,null,"",""]
[null,null,null,null,null,null,null,null,null,null,null,null,null,null,null,"",""]
[null,null,null,null,null,null,null,null,null,null,null,null,null,null,null,"",""]
[null,null,null,null,null,null,null,null,null,null,null,null,null,null,null,"",""]
[null,null,null,null,null,null,null,null,null,null,null,null,null,null,null,"",""]
[null,null,null,null,null,null,null,null,null,null,null,null,null,null,null,"",""]
[null,null,null,null,null,null,null,null,null,null,null,null,null,null,null,"",""]
[null,null,null,null,null,null,null,null,null,null,null,null,null,null,null,"",""]
[null,null,null,null,null,null,null,null,null,null,null,null,null,null,null,"",""]
[null,null,null,null,null,null,null,null,null,null,null,null,null,null,null,"",""]
[null,null,null,null,null,null,null,null,null,null,null,null,null,null,null,"",""]
[null,null,null,null,null,null,null,null,null,null,null,null,null,null,null,"",""]
[null,null,null,null,null,null,null,null,null,null,null,null,null,null,null,"",""]
[null,null,null,null,null,null,null,null,null,null,null,null,null,null,null,"",""]
[null,null,null,null,null,null,null,null,null,null,null,null,null,null,null,"",""]
[null,null,null,null,null,null,null,null,null,null,null,null,null,null,null,"",""]
[null,null,null,null,null,null,null,null,null,null,null,null,null,null,null,"",""]
[null,null,null,null,null,null,null,null,null,null,null,null,null,null,null,"",""]
[null,null,null,null,null,null,null,null,null,null,null,null,null,null,null,"",""]
[null,null,null,null,null,null,null,null,null,null,null,null,null,null,null,"",""]
[null,null,null,null,null,null,null,null,null,null,null,null,null,null,null,"",""]
[null,null,null,null,null,null,null,null,null,null,null,null,null,null,null,"",""]
[null,null,null,null,null,null,null,null,null,null,null,null,null,null,null,"",""]
[null,null,null,null,null,null,null,null,null,null,null,null,null,null,null,"",""]
[null,null,null,null,null,null,null,null,null,null,null,null,null,null,null,"",""]
[null,null,null,null,null,null,null,null,null,null,null,null,null,null,null,"",""]
[null,null,null,null,null,null,null,null,null,null,null,null,null,null,null,"",""]
[null,null,null,null,null,null,null,null,null,null,null,null,null,null,null,"",""]
[null,null,null,null,null,null,null,null,null,null,null,null,null,null,null,"",""]
[null,null,null,null,null,null,null,null,null,null,null,null,null,null,null,"",""]
[null,null,null,null,null,null,null,null,null,null,null,null,null,null,null,"",""]
[null,null,null,null,null,null,null,null,null,null,null,null,null,null,null,"",""]
[null,null,null,null,null,null,null,null,null,null,null,null,null,null,null,"",""]
[null,null,null,null,null,null,null,null,null,null,null,null,null,null,null,"",""]
[null,null,null,null,null,null,null,null,null,null,null,null,null,null,null,"",""]
[null,null,null,null,null,null,null,null,null,null,null,null,null,null,null,"",""]
[null,null,null,null,null,null,null,null,null,null,null,null,null,null,null,"",""]
[null,null,null,null,null,null,null,null,null,null,null,null,null,null,null,"",""]
[null,null,null,null,null,null,null,null,null,null,null,null,null,null,null,"",""]
[null,null,null,null,null,null,null,null,null,null,null,null,null,null,null,"",""]
[null,null,null,null,null,null,null,null,null,null,null,null,null,null,null,"",""]
[null,null,null,null,null,null,null,null,null,null,null,null,null,null,null,"",""]
[null,null,null,null,null,null,null,null,null,null,null,null,null,null,null,"",""]
[null,null,null,null,null,null,null,null,null,null,null,null,null,null,null,"",""]
[null,null,null,null,null,null,null,null,null,null,null,null,null,null,null,"",""]
[null,null,null,null,null,null,null,null,null,null,null,null,null,null,null,"",""]
[null,null,null,null,null,null,null,null,null,null,null,null,null,null,null,"",""]
[null,null,null,null,null,null,null,null,null,null,null,null,null,null,null,"",""]
[null,null,null,null,null,null,null,null,null,null,null,null,null,null,null,"",""]
[null,null,null,null,null,null,null,null,null,null,null,null,null,null,null,"",""]
[null,null,null,null,null,null,null,null,null,null,null,null,null,null,null,"",""]
[null,null,null,null,null,null,null,null,null,null,null,null,null,null,null,"",""]
[null,null,null,null,null,null,null,null,null,null,null,null,null,null,null,"",""]
[null,null,null,null,null,null,null,null,null,null,null,null,null,null,null,"",""]
[null,null,null,null,null,null,null,null,null,null,null,null,null,null,null,"",""]
[null,null,null,null,null,null,null,null,null,null,null,null,null,null,null,"",""]
[null,null,null,null,null,null,null,null,null,null,null,null,null,null,null,"",""]
[null,null,null,null,null,null,null,null,null,null,null,null,null,null,null,"",""]
[null,null,null,null,null,null,null,null,null,null,null,null,null,null,null,"",""]
[null,null,null,null,null,null,null,null,null,null,null,null,null,null,null,"",""]
[null,null,null,null,null,null,null,null,null,null,null,null,null,null,null,"",""]
[null,null,null,null,null,null,null,null,null,null,null,null,null,null,null,"",""]
[null,null,null,null,null,null,null,null,null,null,null,null,null,null,null,"",""]
[null,null,null,null,null,null,null,null,null,null,null,null,null,null,null,"",""]
[null,null,null,null,null,null,null,null,null,null,null,null,null,null,null,"",""]
[null,null,null,null,null,null,null,null,null,null,null,null,null,null,null,"",""]
[null,null,null,null,null,null,null,null,null,null,null,null,null,null,null,"",""]
[null,null,null,null,null,null,null,null,null,null,null,null,null,null,null,"",""]
[null,null,null,null,null,null,null,null,null,null,null,null,null,null,null,"",""]
[null,null,null,null,null,null,null,null,null,null,null,null,null,null,null,"",""]
[null,null,null,null,null,null,null,null,null,null,null,null,null,null,null,"",""]
[null,null,null,null,null,null,null,null,null,null,null,null,null,null,null,"",""]
[null,null,null,null,null,null,null,null,null,null,null,null,null,null,null,"",""]
[null,null,null,null,null,null,null,null,null,null,null,null,null,null,null,"",""]
[null,null,null,null,null,null,null,null,null,null,null,null,null,null,null,"",""]
[null,null,null,null,null,null,null,null,null,null,null,null,null,null,null,"",""]
[null,null,null,null,null,null,null,null,null,null,null,null,null,null,null,"",""]
[null,null,null,null,null,null,null,null,null,null,null,null,null,null,null,"",""]
[null,null,null,null,null,null,null,null,null,null,null,null,null,null,null,"",""]
[null,null,null,null,null,null,null,null,null,null,null,null,null,null,null,"",""]
[null,null,null,null,null,null,null,null,null,null,null,null,null,null,null,"",""]
[null,null,null,null,null,null,null,null,null,null,null,null,null,null,null,"",""]
[null,null,null,null,null,null,null,null,null,null,null,null,null,null,null,"",""]
[null,null,null,null,null,null,null,null,null,null,null,null,null,null,null,"",""]
[null,null,null,null,null,null,null,null,null,null,null,null,null,null,null,"",""]
[null,null,null,null,null,null,null,null,null,null,null,null,null,null,null,"",""]
[null,null,null,null,null,null,null,null,null,null,null,null,null,null,null,"",""]
[null,null,null,null,null,null,null,null,null,null,null,null,null,null,null,"",""]
[null,null,null,null,null,null,null,null,null,null,null,null,null,null,null,"",""]
[null,null,null,null,null,null,null,null,null,null,null,null,null,null,null,"",""]
[null,null,null,null,null,null,null,null,null,null,null,null,null,null,null,"",""]
[null,null,null,null,null,null,null,null,null,null,null,null,null,null,null,"",""]
[null,null,null,null,null,null,null,null,null,null,null,null,null,null,null,"",""]
[null,null,null,null,null,null,null,null,null,null,null,null,null,null,null,"",""]
[null,null,null,null,null,null,null,null,null,null,null,null,null,null,null,"",""]
[null,null,null,null,null,null,null,null,null,null,null,null,null,null,null,"",""]
[null,null,null,null,null,null,null,null,null,null,null,null,null,null,null,"",""]
[null,null,null,null,null,null,null,null,null,null,null,null,null,null,null,"",""]
[null,null,null,null,null,null,null,null,null,null,null,null,null,null,null,"",""]
[null,null,null,null,null,null,null,null,null,null,null,null,null,null,null,"",""]
[null,null,null,null,null,null,null,null,null,null,null,null,null,null,null,"",""]
[null,null,null,null,null,null,null,null,null,null,null,null,null,null,null,"",""]
[null,null,null,null,null,null,null,null,null,null,null,null,null,null,null,"",""]
[null,null,null,null,null,null,null,null,null,null,null,null,null,null,null,"",""]
[null,null,null,null,null,null,null,null,null,null,null,null,null,null,null,"",""]
[null,null,null,null,null,null,null,null,null,null,null,null,null,null,null,"",""]
[null,null,null,null,null,null,null,null,null,null,null,null,null,null,null,"",""]
[null,null,null,null,null,null,null,null,null,null,null,null,null,null,null,"",""]
[null,null,null,null,null,null,null,null,null,null,null,null,null,null,null,"",""]
[null,null,null,null,null,null,null,null,null,null,null,null,null,null,null,"",""]
[null,null,null,null,null,null,null,null,null,null,null,null,null,null,null,"",""]
[null,null,null,null,null,null,null,null,null,null,null,null,null,null,null,"",""]
[null,null,null,null,null,null,null,null,null,null,null,null,null,null,null,"",""]
[null,null,null,null,null,null,null,null,null,null,null,null,null,null,null,"",""]
[null,null,null,null,null,null,null,null,null,null,null,null,null,null,null,"",""]
[null,null,null,null,null,null,null,null,null,null,null,null,null,null,null,"",""]
[null,null,null,null,null,null,null,null,null,null,null,null,null,null,null,"",""]
[null,null,null,null,null,null,null,null,null,null,null,null,null,null,null,"",""]
[null,null,null,null,null,null,null,null,null,null,null,null,null,null,null,"",""]
[null,null,null,null,null,null,null,null,null,null,null,null,null,null,null,"",""]
[null,null,null,null,null,null,null,null,null,null,null,null,null,null,null,"",""]
[null,null,null,null,null,null,null,null,null,null,null,null,null,null,null,"",""]
[null,null,null,null,null,null,null,null,null,null,null,null,null,null,null,"",""]
[null,null,null,null,null,null,null,null,null,null,null,null,null,null,null,"",""]
[null,null,null,null,null,null,null,null,null,null,null,null,null,null,null,"",""]
[null,null,null,null,null,null,null,null,null,null,null,null,null,null,null,"",""]
[null,null,null,null,null,null,null,null,null,null,null,null,null,null,null,"",""]
[null,null,null,null,null,null,null,null,null,null,null,null,null,null,null,"",""]
[null,null,null,null,null,null,null,null,null,null,null,null,null,null,null,"",""]
[null,null,null,null,null,null,null,null,null,null,null,null,null,null,null,"",""]
[null,null,null,null,null,null,null,null,null,null,null,null,null,null,null,"",""]
[null,null,null,null,null,null,null,null,null,null,null,null,null,null,null,"",""]
[null,null,null,null,null,null,null,null,null,null,null,null,null,null,null,"",""]
[null,null,null,null,null,null,null,null,null,null,null,null,null,null,null,"",""]
[null,null,null,null,null,null,null,null,null,null,null,null,null,null,null,"",""]
[null,null,null,null,null,null,null,null,null,null,null,null,null,null,null,"",""]
[null,null,null,null,null,null,null,null,null,null,null,null,null,null,null,"",""]
[null,null,null,null,null,null,null,null,null,null,null,null,null,null,null,"",""]
[null,null,null,null,null,null,null,null,null,null,null,null,null,null,null,"",""]
[null,null,null,null,null,null,null,null,null,null,null,null,null,null,null,"",""]
[null,null,null,null,null,null,null,null,null,null,null,null,null,null,null,"",""]
[null,null,null,null,null,null,null,null,null,null,null,null,null,null,null,"",""]
[null,null,null,null,null,null,null,null,null,null,null,null,null,null,null,"",""]
[null,null,null,null,null,null,null,null,null,null,null,null,null,null,null,"",""]
[null,null,null,null,null,null,null,null,null,null,null,null,null,null,null,"",""]
[null,null,null,null,null,null,null,null,null,null,null,null,null,null,null,"",""]
[null,null,null,null,null,null,null,null,null,null,null,null,null,null,null,"",""]
[null,null,null,null,null,null,null,null,null,null,null,null,null,null,null,"",""]
[null,null,null,null,null,null,null,null,null,null,null,null,null,null,null,"",""]
[null,null,null,null,null,null,null,null,null,null,null,null,null,null,null,"",""]
[null,null,null,null,null,null,null,null,null,null,null,null,null,null,null,"",""]
[null,null,null,null,null,null,null,null,null,null,null,null,null,null,null,"",""]
[null,null,null,null,null,null,null,null,null,null,null,null,null,null,null,"",""]
[null,null,null,null,null,null,null,null,null,null,null,null,null,null,null,"",""]
[null,null,null,null,null,null,null,null,null,null,null,null,null,null,null,"",""]
[null,null,null,null,null,null,null,null,null,null,null,null,null,null,null,"",""]
[null,null,null,null,null,null,null,null,null,null,null,null,null,null,null,"",""]
[null,null,null,null,null,null,null,null,null,null,null,null,null,null,null,"",""]
[null,null,null,null,null,null,null,null,null,null,null,null,null,null,null,"",""]
[null,null,null,null,null,null,null,null,null,null,null,null,null,null,null,"",""]
[null,null,null,null,null,null,null,null,null,null,null,null,null,null,null,"",""]
[null,null,null,null,null,null,null,null,null,null,null,null,null,null,null,"",""]
[null,null,null,null,null,null,null,null,null,null,null,null,null,null,null,"",""]
[null,null,null,null,null,null,null,null,null,null,null,null,null,null,null,"",""]
[null,null,null,null,null,null,null,null,null,null,null,null,null,null,null,"",""]
[null,null,null,null,null,null,null,null,null,null,null,null,null,null,null,"",""]
[null,null,null,null,null,null,null,null,null,null,null,null,null,null,null,"",""]
[null,null,null,null,null,null,null,null,null,null,null,null,null,null,null,"",""]
[null,null,null,null,null,null,null,null,null,null,null,null,null,null,null,"",""]
[null,null,null,null,null,null,null,null,null,null,null,null,null,null,null,"",""]
[null,null,null,null,null,null,null,null,null,null,null,null,null,null,null,"",""]
[null,null,null,null,null,null,null,null,null,null,null,null,null,null,null,"",""]
[null,null,null,null,null,null,null,null,null,null,null,null,null,null,null,"",""]
[null,null,null,null,null,null,null,null,null,null,null,null,null,null,null,"",""]
[null,null,null,null,null,null,null,null,null,null,null,null,null,null,null,"",""]
[null,null,null,null,null,null,null,null,null,null,null,null,null,null,null,"",""]
[null,null,null,null,null,null,null,null,null,null,null,null,null,null,null,"",""]
[null,null,null,null,null,null,null,null,null,null,null,null,null,null,null,"",""]
[null,null,null,null,null,null,null,null,null,null,null,null,null,null,null,"",""]
[null,null,null,null,null,null,null,null,null,null,null,null,null,null,null,"",""]
[null,null,null,null,null,null,null,null,null,null,null,null,null,null,null,"",""]
[null,null,null,null,null,null,null,null,null,null,null,null,null,null,null,"",""]
[null,null,null,null,null,null,null,null,null,null,null,null,null,null,null,"",""]
[null,null,null,null,null,null,null,null,null,null,null,null,null,null,null,"",""]
[null,null,null,null,null,null,null,null,null,null,null,null,null,null,null,"",""]
[null,null,null,null,null,null,null,null,null,null,null,null,null,null,null,"",""]
[null,null,null,null,null,null,null,null,null,null,null,null,null,null,null,"",""]
[null,null,null,null,null,null,null,null,null,null,null,null,null,null,null,"",""]
[null,null,null,null,null,null,null,null,null,null,null,null,null,null,null,"",""]
[null,null,null,null,null,null,null,null,null,null,null,null,null,null,null,"",""]
[null,null,null,null,null,null,null,null,null,null,null,null,null,null,null,"",""]
[null,null,null,null,null,null,null,null,null,null,null,null,null,null,null,"",""]
[null,null,null,null,null,null,null,null,null,null,null,null,null,null,null,"",""]
[null,null,null,null,null,null,null,null,null,null,null,null,null,null,null,"",""]
[null,null,null,null,null,null,null,null,null,null,null,null,null,null,null,"",""]
[null,null,null,null,null,null,null,null,null,null,null,null,null,null,null,"",""]
[null,null,null,null,null,null,null,null,null,null,null,null,null,null,null,"",""]
[null,null,null,null,null,null,null,null,null,null,null,null,null,null,null,"",""]
[null,null,null,null,null,null,null,null,null,null,null,null,null,null,null,"",""]
[null,null,null,null,null,null,null,null,null,null,null,null,null,null,null,"",""]
[null,null,null,null,null,null,null,null,null,null,null,null,null,null,null,"",""]
[null,null,null,null,null,null,null,null,null,null,null,null,null,null,null,"",""]
[null,null,null,null,null,null,null,null,null,null,null,null,null,null,null,"",""]
[null,null,null,null,null,null,null,null,null,null,null,null,null,null,null,"",""]
[null,null,null,null,null,null,null,null,null,null,null,null,null,null,null,"",""]
[null,null,null,null,null,null,null,null,null,null,null,null,null,null,null,"",""]
[null,null,null,null,null,null,null,null,null,null,null,null,null,null,null,"",""]
[null,null,null,null,null,null,null,null,null,null,null,null,null,null,null,"",""]
[null,null,null,null,null,null,null,null,null,null,null,null,null,null,null,"",""]
[null,null,null,null,null,null,null,null,null,null,null,null,null,null,null,"",""]
[null,null,null,null,null,null,null,null,null,null,null,null,null,null,null,"",""]
[null,null,null,null,null,null,null,null,null,null,null,null,null,null,null,"",""]
[null,null,null,null,null,null,null,null,null,null,null,null,null,null,null,"",""]
[null,null,null,null,null,null,null,null,null,null,null,null,null,null,null,"",""]
[null,null,null,null,null,null,null,null,null,null,null,null,null,null,null,"",""]
[null,null,null,null,null,null,null,null,null,null,null,null,null,null,null,"",""]
[null,null,null,null,null,null,null,null,null,null,null,null,null,null,null,"",""]
[null,null,null,null,null,null,null,null,null,null,null,null,null,null,null,"",""]
[null,null,null,null,null,null,null,null,null,null,null,null,null,null,null,"",""]
[null,null,null,null,null,null,null,null,null,null,null,null,null,null,null,"",""]
[null,null,null,null,null,null,null,null,null,null,null,null,null,null,null,"",""]
[null,null,null,null,null,null,null,null,null,null,null,null,null,null,null,"",""]
[null,null,null,null,null,null,null,null,null,null,null,null,null,null,null,"",""]
[null,null,null,null,null,null,null,null,null,null,null,null,null,null,null,"",""]
[null,null,null,null,null,null,null,null,null,null,null,null,null,null,null,"",""]
[null,null,null,null,null,null,null,null,null,null,null,null,null,null,null,"",""]
[null,null,null,null,null,null,null,null,null,null,null,null,null,null,null,"",""]
[null,null,null,null,null,null,null,null,null,null,null,null,null,null,null,"",""]
[null,null,null,null,null,null,null,null,null,null,null,null,null,null,null,"",""]
[null,null,null,null,null,null,null,null,null,null,null,null,null,null,null,"",""]
[null,null,null,null,null,null,null,null,null,null,null,null,null,null,null,"",""]
[null,null,null,null,null,null,null,null,null,null,null,null,null,null,null,"",""]
[null,null,null,null,null,null,null,null,null,null,null,null,null,null,null,"",""]
[null,null,null,null,null,null,null,null,null,null,null,null,null,null,null,"",""]
[null,null,null,null,null,null,null,null,null,null,null,null,null,null,null,"",""]
[null,null,null,null,null,null,null,null,null,null,null,null,null,null,null,"",""]
[null,null,null,null,null,null,null,null,null,null,null,null,null,null,null,"",""]
[null,null,null,null,null,null,null,null,null,null,null,null,null,null,null,"",""]
[null,null,null,null,null,null,null,null,null,null,null,null,null,null,null,"",""]
[null,null,null,null,null,null,null,null,null,null,null,null,null,null,null,"",""]
[null,null,null,null,null,null,null,null,null,null,null,null,null,null,null,"",""]
[null,null,null,null,null,null,null,null,null,null,null,null,null,null,null,"",""]
[null,null,null,null,null,null,null,null,null,null,null,null,null,null,null,"",""]
[null,null,null,null,null,null,null,null,null,null,null,null,null,null,null,"",""]
[null,null,null,null,null,null,null,null,null,null,null,null,null,null,null,"",""]
[null,null,null,null,null,null,null,null,null,null,null,null,null,null,null,"",""]
[null,null,null,null,null,null,null,null,null,null,null,null,null,null,null,"",""]
[null,null,null,null,null,null,null,null,null,null,null,null,null,null,null,"",""]
[null,null,null,null,null,null,null,null,null,null,null,null,null,null,null,"",""]
[null,null,null,null,null,null,null,null,null,null,null,null,null,null,null,"",""]
[null,null,null,null,null,null,null,null,null,null,null,null,null,null,null,"",""]
[null,null,null,null,null,null,null,null,null,null,null,null,null,null,null,"",""]
[null,null,null,null,null,null,null,null,null,null,null,null,null,null,null,"",""]
[null,null,null,null,null,null,null,null,null,null,null,null,null,null,null,"",""]
[null,null,null,null,null,null,null,null,null,null,null,null,null,null,null,"",""]
[null,null,null,null,null,null,null,null,null,null,null,null,null,null,null,"",""]
[null,null,null,null,null,null,null,null,null,null,null,null,null,null,null,"",""]
[null,null,null,null,null,null,null,null,null,null,null,null,null,null,null,"",""]
[null,null,null,null,null,null,null,null,null,null,null,null,null,null,null,"",""]
[null,null,null,null,null,null,null,null,null,null,null,null,null,null,null,"",""]
[null,null,null,null,null,null,null,null,null,null,null,null,null,null,null,"",""]
[null,null,null,null,null,null,null,null,null,null,null,null,null,null,null,"",""]
[null,null,null,null,null,null,null,null,null,null,null,null,null,null,null,"",""]
[null,null,null,null,null,null,null,null,null,null,null,null,null,null,null,"",""]
[null,null,null,null,null,null,null,null,null,null,null,null,null,null,null,"",""]
[null,null,null,null,null,null,null,null,null,null,null,null,null,null,null,"",""]
[null,null,null,null,null,null,null,null,null,null,null,null,null,null,null,"",""]
[null,null,null,null,null,null,null,null,null,null,null,null,null,null,null,"",""]
[null,null,null,null,null,null,null,null,null,null,null,null,null,null,null,"",""]
[null,null,null,null,null,null,null,null,null,null,null,null,null,null,null,"",""]
[null,null,null,null,null,null,null,null,null,null,null,null,null,null,null,"",""]
[null,null,null,null,null,null,null,null,null,null,null,null,null,null,null,"",""]
[null,null,null,null,null,null,null,null,null,null,null,null,null,null,null,"",""]
[null,null,null,null,null,null,null,null,null,null,null,null,null,null,null,"",""]
[null,null,null,null,null,null,null,null,null,null,null,null,null,null,null,"",""]
[null,null,null,null,null,null,null,null,null,null,null,null,null,null,null,"",""]
[null,null,null,null,null,null,null,null,null,null,null,null,null,null,null,"",""]
[null,null,null,null,null,null,null,null,null,null,null,null,null,null,null,"",""]
[null,null,null,null,null,null,null,null,null,null,null,null,null,null,null,"",""]
[null,null,null,null,null,null,null,null,null,null,null,null,null,null,null,"",""]
[null,null,null,null,null,null,null,null,null,null,null,null,null,null,null,"",""]
[null,null,null,null,null,null,null,null,null,null,null,null,null,null,null,"",""]
[null,null,null,null,null,null,null,null,null,null,null,null,null,null,null,"",""]
[null,null,null,null,null,null,null,null,null,null,null,null,null,null,null,"",""]
[null,null,null,null,null,null,null,null,null,null,null,null,null,null,null,"",""]
[null,null,null,null,null,null,null,null,null,null,null,null,null,null,null,"",""]
[null,null,null,null,null,null,null,null,null,null,null,null,null,null,null,"",""]
[null,null,null,null,null,null,null,null,null,null,null,null,null,null,null,"",""]
[null,null,null,null,null,null,null,null,null,null,null,null,null,null,null,"",""]
[null,null,null,null,null,null,null,null,null,null,null,null,null,null,null,"",""]
[null,null,null,null,null,null,null,null,null,null,null,null,null,null,null,"",""]
[null,null,null,null,null,null,null,null,null,null,null,null,null,null,null,"",""]
[null,null,null,null,null,null,null,null,null,null,null,null,null,null,null,"",""]
[null,null,null,null,null,null,null,null,null,null,null,null,null,null,null,"",""]
[null,null,null,null,null,null,null,null,null,null,null,null,null,null,null,"",""]
[null,null,null,null,null,null,null,null,null,null,null,null,null,null,null,"",""]
[null,null,null,null,null,null,null,null,null,null,null,null,null,null,null,"",""]
[null,null,null,null,null,null,null,null,null,null,null,null,null,null,null,"",""]
[null,null,null,null,null,null,null,null,null,null,null,null,null,null,null,"",""]
[null,null,null,null,null,null,null,null,null,null,null,null,null,null,null,"",""]
[null,null,null,null,null,null,null,null,null,null,null,null,null,null,null,"",""]
[null,null,null,null,null,null,null,null,null,null,null,null,null,null,null,"",""]
[null,null,null,null,null,null,null,null,null,null,null,null,null,null,null,"",""]
[null,null,null,null,null,null,null,null,null,null,null,null,null,null,null,"",""]
[null,null,null,null,null,null,null,null,null,null,null,null,null,null,null,"",""]
[null,null,null,null,null,null,null,null,null,null,null,null,null,null,null,"",""]
[null,null,null,null,null,null,null,null,null,null,null,null,null,null,null,"",""]
[null,null,null,null,null,null,null,null,null,null,null,null,null,null,null,"",""]
[null,null,null,null,null,null,null,null,null,null,null,null,null,null,null,"",""]
[null,null,null,null,null,null,null,null,null,null,null,null,null,null,null,"",""]
[null,null,null,null,null,null,null,null,null,null,null,null,null,null,null,"",""]
[null,null,null,null,null,null,null,null,null,null,null,null,null,null,null,"",""]
[null,null,null,null,null,null,null,null,null,null,null,null,null,null,null,"",""]
[null,null,null,null,null,null,null,null,null,null,null,null,null,null,null,"",""]
[null,null,null,null,null,null,null,null,null,null,null,null,null,null,null,"",""]
[null,null,null,null,null,null,null,null,null,null,null,null,null,null,null,"",""]
[null,null,null,null,null,null,null,null,null,null,null,null,null,null,null,"",""]
[null,null,null,null,null,null,null,null,null,null,null,null,null,null,null,"",""]
[null,null,null,null,null,null,null,null,null,null,null,null,null,null,null,"",""]
[null,null,null,null,null,null,null,null,null,null,null,null,null,null,null,"",""]
[null,null,null,null,null,null,null,null,null,null,null,null,null,null,null,"",""]
[null,null,null,null,null,null,null,null,null,null,null,null,null,null,null,"",""]
[null,null,null,null,null,null,null,null,null,null,null,null,null,null,null,"",""]
[null,null,null,null,null,null,null,null,null,null,null,null,null,null,null,"",""]
[null,null,null,null,null,null,null,null,null,null,null,null,null,null,null,"",""]
[null,null,null,null,null,null,null,null,null,null,null,null,null,null,null,"",""]
[null,null,null,null,null,null,null,null,null,null,null,null,null,null,null,"",""]
[null,null,null,null,null,null,null,null,null,null,null,null,null,null,null,"",""]
[null,null,null,null,null,null,null,null,null,null,null,null,null,null,null,"",""]
[null,null,null,null,null,null,null,null,null,null,null,null,null,null,null,"",""]
[null,null,null,null,null,null,null,null,null,null,null,null,null,null,null,"",""]
[null,null,null,null,null,null,null,null,null,null,null,null,null,null,null,"",""]
[null,null,null,null,null,null,null,null,null,null,null,null,null,null,null,"",""]
[null,null,null,null,null,null,null,null,null,null,null,null,null,null,null,"",""]
[null,null,null,null,null,null,null,null,null,null,null,null,null,null,null,"",""]
[null,null,null,null,null,null,null,null,null,null,null,null,null,null,null,"",""]
[null,null,null,null,null,null,null,null,null,null,null,null,null,null,null,"",""]
[null,null,null,null,null,null,null,null,null,null,null,null,null,null,null,"",""]
[null,null,null,null,null,null,null,null,null,null,null,null,null,null,null,"",""]
[null,null,null,null,null,null,null,null,null,null,null,null,null,null,null,"",""]
[null,null,null,null,null,null,null,null,null,null,null,null,null,null,null,"",""]
[null,null,null,null,null,null,null,null,null,null,null,null,null,null,null,"",""]
[null,null,null,null,null,null,null,null,null,null,null,null,null,null,null,"",""]
[null,null,null,null,null,null,null,null,null,null,null,null,null,null,null,"",""]
[null,null,null,null,null,null,null,null,null,null,null,null,null,null,null,"",""]
[null,null,null,null,null,null,null,null,null,null,null,null,null,null,null,"",""]
[null,null,null,null,null,null,null,null,null,null,null,null,null,null,null,"",""]
[null,null,null,null,null,null,null,null,null,null,null,null,null,null,null,"",""]
[null,null,null,null,null,null,null,null,null,null,null,null,null,null,null,"",""]
[null,null,null,null,null,null,null,null,null,null,null,null,null,null,null,"",""]
[null,null,null,null,null,null,null,null,null,null,null,null,null,null,null,"",""]
[null,null,null,null,null,null,null,null,null,null,null,null,null,null,null,"",""]
[null,null,null,null,null,null,null,null,null,null,null,null,null,null,null,"",""]
[null,null,null,null,null,null,null,null,null,null,null,null,null,null,null,"",""]
[null,null,null,null,null,null,null,null,null,null,null,null,null,null,null,"",""]
[null,null,null,null,null,null,null,null,null,null,null,null,null,null,null,"",""]
[null,null,null,null,null,null,null,null,null,null,null,null,null,null,null,"",""]
[null,null,null,null,null,null,null,null,null,null,null,null,null,null,null,"",""]
[null,null,null,null,null,null,null,null,null,null,null,null,null,null,null,"",""]
[null,null,null,null,null,null,null,null,null,null,null,null,null,null,null,"",""]
[null,null,null,null,null,null,null,null,null,null,null,null,null,null,null,"",""]
[null,null,null,null,null,null,null,null,null,null,null,null,null,null,null,"",""]
[null,null,null,null,null,null,null,null,null,null,null,null,null,null,null,"",""]
[null,null,null,null,null,null,null,null,null,null,null,null,null,null,null,"",""]
[null,null,null,null,null,null,null,null,null,null,null,null,null,null,null,"",""]
[null,null,null,null,null,null,null,null,null,null,null,null,null,null,null,"",""]
[null,null,null,null,null,null,null,null,null,null,null,null,null,null,null,"",""]
[null,null,null,null,null,null,null,null,null,null,null,null,null,null,null,"",""]
[null,null,null,null,null,null,null,null,null,null,null,null,null,null,null,"",""]
[null,null,null,null,null,null,null,null,null,null,null,null,null,null,null,"",""]
[null,null,null,null,null,null,null,null,null,null,null,null,null,null,null,"",""]
[null,null,null,null,null,null,null,null,null,null,null,null,null,null,null,"",""]
[null,null,null,null,null,null,null,null,null,null,null,null,null,null,null,"",""]
[null,null,null,null,null,null,null,null,null,null,null,null,null,null,null,"",""]
[null,null,null,null,null,null,null,null,null,null,null,null,null,null,null,"",""]
[null,null,null,null,null,null,null,null,null,null,null,null,null,null,null,"",""]
[null,null,null,null,null,null,null,null,null,null,null,null,null,null,null,"",""]
[null,null,null,null,null,null,null,null,null,null,null,null,null,null,null,"",""]
[null,null,null,null,null,null,null,null,null,null,null,null,null,null,null,"",""]
[null,null,null,null,null,null,null,null,null,null,null,null,null,null,null,"",""]
[null,null,null,null,null,null,null,null,null,null,null,null,null,null,null,"",""]
[null,null,null,null,null,null,null,null,null,null,null,null,null,null,null,"",""]
[null,null,null,null,null,null,null,null,null,null,null,null,null,null,null,"",""]
[null,null,null,null,null,null,null,null,null,null,null,null,null,null,null,"",""]
[null,null,null,null,null,null,null,null,null,null,null,null,null,null,null,"",""]
[null,null,null,null,null,null,null,null,null,null,null,null,null,null,null,"",""]
[null,null,null,null,null,null,null,null,null,null,null,null,null,null,null,"",""]
[null,null,null,null,null,null,null,null,null,null,null,null,null,null,null,"",""]
[null,null,null,null,null,null,null,null,null,null,null,null,null,null,null,"",""]

{"sheet":"ESTACIONES_VARIABLES","index":6,"n_rows":7,"n_cols":2,"rows_kept":7,"cut":false,"hidden":true,"merged":[]}
[]
[]
[]
[0]
[1,"Muy angular(Muy angular  Alta )"]
[2,"Angular(Angular  Baja )"]
[6,"Bien redondeada(Bien redondeada  Media  )"]

{"sheet":"MUESTRAS_VARIABLES","index":7,"n_rows":0,"n_cols":0,"rows_kept":0,"cut":false,"hidden":true,"merged":[]}

{"sheet":"AGD_MUESTREOS","index":8,"n_rows":0,"n_cols":0,"rows_kept":0,"cut":false,"hidden":true,"merged":[]}

{"sheet":"AGD_PARAMETRO","index":9,"n_rows":0,"n_cols":0,"rows_kept":0,"cut":false,"hidden":true,"merged":[]}

{"sheet":"AGD_MUESTRAS","index":10,"n_rows":0,"n_cols":0,"rows_kept":0,"cut":false,"hidden":true,"merged":[]}

{"sheet":"AGD_MUESTRAS_VARIABLES","index":11,"n_rows":0,"n_cols":0,"rows_kept":0,"cut":false,"hidden":true,"merged":[]}

{"sheet":"AGD_AUTORIAS","index":12,"n_rows":0,"n_cols":0,"rows_kept":0,"cut":false,"hidden":true,"merged":[]}