{"text_format":"1","workbook":"xlsx","n_sheets":13,"sheets":["Registro de cambios","configuracion","DIGITADOR","DATOS","referentes","Otras referencias","MUESTRAS_VARIABLES","ESTACIONES_VARIABLES","AGD_MUESTREOS","AGD_PARAMETRO","AGD_MUESTRAS","AGD_MUESTRAS_VARIABLES","AGD_AUTORIAS"],"not_rendered":{"charts":0,"images":0,"macros":1,"external_links":0,"defined_names":1,"comments":1,"pivot_tables":0},"unopened":[],"bounds":{"document_bytes":16777216,"sheet_cells":100000,"rows_first":2000,"rows_last":500,"rows_between":2000,"halvings":0,"cell_chars":16384,"cell_head_chars":4096},"cells_cut":0,"cells_raw":0,"read":"whole","date_system":"1900"}

{"sheet":"Registro de cambios","index":0,"n_rows":6,"n_cols":7,"rows_kept":6,"cut":false,"hidden":true,"merged":[[2,3,2,6]]}
[]
[]
[null,null,null,"REGISTRO DE CAMBIOS"]
[null,null,null,"VERSIÓN No.","CAMBIO REALIZADO","AUTOR","VIGENTE DESDE\n(DD/MM/AAAA)"]
[null,null,null,"20240812i","Actualización del código de la macro.\n\nSe eliminó la URL de la antigua API de portete:\n       http://portete.invemar.org.co:7003/ArgosWebServices-RESTWebService-context-root/rest/1.0\n\nFue reemplazada por la URL de la API de ARGOS:\n       https://argos.invemar.org.co/api/\n\nLa API contiene End Points que permiten tener mayor control, facilitan la descarga de referentes (listas de usuarios, estaciones, especies, etc.) que corresponden a criterios específicos como el proyecto usado en la plantilla para evitar descargar data innecesaria.\n\nDel mismo modo, también permite la carga de información a la BDD del INVEMAR.\n\nLa macro toma los Endpoints desde la hoja configuracion de una tabla llamada \"Configuración referentes\", a la que se le puede modificar las rutas de la API o agregar nuevas. cabe resaltar que se puede \"quemar\" directamente en la macro los Endpoints que lo requieran.","Kevin Moreno","2024-12-08"]
[null,null,null,1,"Definición de las columnas en la hoja DATOS y programación de la plantilla.",null,"2019-02-09"]

{"sheet":"configuracion","index":1,"n_rows":83,"n_cols":41,"rows_kept":83,"cut":false,"hidden":true,"merged":[[61,0,61,2],[28,0,35,0],[37,0,42,0],[45,0,45,1],[0,0,2,0],[3,0,5,0],[7,0,8,0],[9,0,15,0],[17,0,21,0],[23,0,26,0]]}
["general","urlServicio","https://argos.invemar.org.co/api/"]
[null,"fila de inicio",6]
[null,"fila de fin",306]
["metodologias","Metodologias",98]
[null,"Referentes",8000]
[null,"Cantidad maxima de referentes ",8000]
["estaciones/investigadores","proyectos",{"$f":"DIGITADOR!B9","v":3389}]
["Lista especies","metodologias"]
[null,"proyectos"]
["MUESTREOS","ID_MUESTREO","DATOS,BR"]
[null,"ID_ESTACION","DATOS,I"]
[null,"ID_PROYECTO","DIGITADOR,B,9"]
[null,"ID_METODOLOGIA",98]
[null,"ID_TEMATICAS",239]
[null,"FECHA","DATOS,F"]
[null,"NOTAS","DATOS,R"]
[null,"cantidad",{"$f":"$C$3","v":306}]
["parametro muestreo","ID_MUESTREO","DATOS,BR","DATOS,BR","DATOS,BR","DATOS,BR","DATOS,BR","DATOS,BR","DATOS,BR","DATOS,BR","DATOS,BR"]
[null,"ID_PARAMETRO",1077,1072,1074,1055,288,1075,576,1076,1170]
[null,"ID_METODOLOGIA",98,98,98,98,98,98,98,98,98]
[null,"ID_UNIDAD_MEDIDA",100,100,100,100,10,126,11,100,100]
[null,"VALOR","DATOS,BV","DATOS,BS","DATOS,BT","DIGITADOR,B,5","DATOS,N","DATOS,O","DATOS,M","DATOS,BU","DIGITADOR,B,11"]
[null,"cantidad",{"$f":"$C$3","v":306},{"$f":"$C$3","v":306},306,306,306,306,306,306,306]
["muestra","ID_MUESTRA","DATOS,BQ"]
[null,"ID_MUESTREO","DATOS,C"]
[null,"NOTAS","DATOS,BM"]
[null,"ES_REPLICA",1]
[null,"cantidad",207]
["muestra variable","ID_PARAMETRO",1071,1078,1079,553,552,551,550,549,393,392,391,390,389,388,1145,470,1089,1090,1091,1092,1093,1094,1095,1096,1097,397,398,399,1098,1084,1140,459,461,1142,465,460,462,1141,466]
[null,"ID_METODOLOGIA",98,98,98,98,98,98,98,98,98,98,98,98,98,98,98,98,98,98,98,98,98,98,98,98,98,98,98,98,98,98,98,98,98,98,98,98,98,98,98]
[null,"ID_UNIDAD_MEDIDA",100,100,100,{"$f":"IF(DIGITADOR!$A$16=\"\",\"\",INDEX('Otras referencias'!$J:$K,MATCH(DIGITADOR!$A$16,'Otras referencias'!$K:$K,0),1))","v":69},{"$f":"IF(DIGITADOR!$A$16=\"\",\"\",INDEX('Otras referencias'!$J:$K,MATCH(DIGITADOR!$A$16,'Otras referencias'!$K:$K,0),1))","v":69},{"$f":"IF(DIGITADOR!$A$16=\"\",\"\",INDEX('Otras referencias'!$J:$K,MATCH(DIGITADOR!$A$16,'Otras referencias'!$K:$K,0),1))","v":69},{"$f":"IF(DIGITADOR!$A$16=\"\",\"\",INDEX('Otras referencias'!$J:$K,MATCH(DIGITADOR!$A$16,'Otras referencias'!$K:$K,0),1))","v":69},{"$f":"IF(DIGITADOR!$A$16=\"\",\"\",INDEX('Otras referencias'!$J:$K,MATCH(DIGITADOR!$A$16,'Otras referencias'!$K:$K,0),1))","v":69},{"$f":"IF(DIGITADOR!$A$16=\"\",\"\",INDEX('Otras referencias'!$J:$K,MATCH(DIGITADOR!$A$16,'Otras referencias'!$K:$K,0),1))","v":69},{"$f":"IF(DIGITADOR!$A$16=\"\",\"\",INDEX('Otras referencias'!$J:$K,MATCH(DIGITADOR!$A$16,'Otras referencias'!$K:$K,0),1))","v":69},{"$f":"IF(DIGITADOR!$A$16=\"\",\"\",INDEX('Otras referencias'!$J:$K,MATCH(DIGITADOR!$A$16,'Otras referencias'!$K:$K,0),1))","v":69},{"$f":"IF(DIGITADOR!$A$16=\"\",\"\",INDEX('Otras referencias'!$J:$K,MATCH(DIGITADOR!$A$16,'Otras referencias'!$K:$K,0),1))","v":69},{"$f":"IF(DIGITADOR!$A$16=\"\",\"\",INDEX('Otras referencias'!$J:$K,MATCH(DIGITADOR!$A$16,'Otras referencias'!$K:$K,0),1))","v":69},{"$f":"IF(DIGITADOR!$A$16=\"\",\"\",INDEX('Otras referencias'!$J:$K,MATCH(DIGITADOR!$A$16,'Otras referencias'!$K:$K,0),1))","v":69},{"$f":"IF(DIGITADOR!$A$16=\"\",\"\",INDEX('Otras referencias'!$J:$K,MATCH(DIGITADOR!$A$16,'Otras referencias'!$K:$K,0),1))","v":69},{"$f":"IF(DIGITADOR!$A$16=\"\",\"\",INDEX('Otras referencias'!$J:$K,MATCH(DIGITADOR!$A$16,'Otras referencias'!$K:$K,0),1))","v":69},{"$f":"IF(DIGITADOR!$A$16=\"\",\"\",INDEX('Otras referencias'!$J:$K,MATCH(DIGITADOR!$A$16,'Otras referencias'!$K:$K,0),1))","v":69},{"$f":"IF(DIGITADOR!$A$16=\"\",\"\",INDEX('Otras referencias'!$J:$K,MATCH(DIGITADOR!$A$16,'Otras referencias'!$K:$K,0),1))","v":69},{"$f":"IF(DIGITADOR!$A$16=\"\",\"\",INDEX('Otras referencias'!$J:$K,MATCH(DIGITADOR!$A$16,'Otras referencias'!$K:$K,0),1))","v":69},{"$f":"IF(DIGITADOR!$A$16=\"\",\"\",INDEX('Otras referencias'!$J:$K,MATCH(DIGITADOR!$A$16,'Otras referencias'!$K:$K,0),1))","v":69},{"$f":"IF(DIGITADOR!$A$16=\"\",\"\",INDEX('Otras referencias'!$J:$K,MATCH(DIGITADOR!$A$16,'Otras referencias'!$K:$K,0),1))","v":69},{"$f":"IF(DIGITADOR!$A$16=\"\",\"\",INDEX('Otras referencias'!$J:$K,MATCH(DIGITADOR!$A$16,'Otras referencias'!$K:$K,0),1))","v":69},{"$f":"IF(DIGITADOR!$A$16=\"\",\"\",INDEX('Otras referencias'!$J:$K,MATCH(DIGITADOR!$A$16,'Otras referencias'!$K:$K,0),1))","v":69},{"$f":"IF(DIGITADOR!$A$16=\"\",\"\",INDEX('Otras referencias'!$J:$K,MATCH(DIGITADOR!$A$16,'Otras referencias'!$K:$K,0),1))","v":69},{"$f":"IF(DIGITADOR!$A$16=\"\",\"\",INDEX('Otras referencias'!$J:$K,MATCH(DIGITADOR!$A$16,'Otras referencias'!$K:$K,0),1))","v":69},4,4,4,100,100,100,100,100,100,100,100,100,100,100]
[null,"ID_MUESTRA","DATOS,BQ","DATOS,BQ","DATOS,BQ","DATOS,BQ","DATOS,BQ","DATOS,BQ","DATOS,BQ","DATOS,BQ","DATOS,BQ","DATOS,BQ","DATOS,BQ","DATOS,BQ","DATOS,BQ","DATOS,BQ","DATOS,BQ","DATOS,BQ","DATOS,BQ","DATOS,BQ","DATOS,BQ","DATOS,BQ","DATOS,BQ","DATOS,BQ","DATOS,BQ","DATOS,BQ","DATOS,BQ","DATOS,BQ","DATOS,BQ","DATOS,BQ","DATOS,BQ","DATOS,BQ","DATOS,BQ","DATOS,BQ","DATOS,BQ","DATOS,BQ","DATOS,BQ","DATOS,BQ","DATOS,BQ","DATOS,BQ","DATOS,BQ"]
[null,"ID_METODO",null,null,null,"DATOS,CF","DATOS,CF","DATOS,CF","DATOS,CF","DATOS,CF","DATOS,CF","DATOS,CF","DATOS,CF","DATOS,CF","DATOS,CF","DATOS,CF","DATOS,CF","DATOS,CF","DATOS,CF","DATOS,CF","DATOS,CF","DATOS,CF","DATOS,CF","DATOS,CF","DATOS,CF","DATOS,CF","DATOS,CF"]
[null,"VALOR","DATOS,S","DATOS,T","DATOS,U","DATOS,W","DATOS,X","DATOS,Y","DATOS,Z","DATOS,AA","DATOS,AB","DATOS,AC","DATOS,AD","DATOS,AE","DATOS,AF","DATOS,AG","DATOS,AH","DATOS,AI","DATOS,AJ","DATOS,AK","DATOS,AL","DATOS,AM","DATOS,AN","DATOS,AO","DATOS,AP","DATOS,AQ","DATOS,AR","DATOS,AU","DATOS,AV","DATOS,AW","DATOS,BY","DATOS,BX","DATOS,CD","DATOS,AZ","DATOS,BA","DATOS,BB","DATOS,BC","DATOS,BZ","DATOS,CA","DATOS,CB","DATOS,CC"]
[null,"QUALITY_FLAG","DATOS,CE","DATOS,CE","DATOS,CE","DATOS,CE","DATOS,CE","DATOS,CE","DATOS,CE","DATOS,CE","DATOS,CE","DATOS,CE","DATOS,CE","DATOS,CE","DATOS,CE","DATOS,CE","DATOS,CE","DATOS,CE","DATOS,CE","DATOS,CE","DATOS,CE","DATOS,CE","DATOS,CE","DATOS,CE","DATOS,CE","DATOS,CE","DATOS,CE","DATOS,CE","DATOS,CE","DATOS,CE","DATOS,CE","DATOS,CE","DATOS,CE","DATOS,CE","DATOS,CE","DATOS,CE","DATOS,CE","DATOS,CE","DATOS,CE","DATOS,CE","DATOS,CE"]
[null,"PRECISION"]
[null,"cantidad",{"$f":"$C$3","v":306},{"$f":"$C$3","v":306},306,306,306,306,306,306,306,306,306,306,306,306,306,306,306,306,306,306,306,306,306,306,306,306,306,306,306,306,306,306,306,306,306,306,306,306,306]
["autoria","ID_FUNCIONARIO","DIGITADOR,B,2","DATOS,G"]
[null,"ID_TAREA",5,10]
[null,"ORDEN",1,2]
[null,"FECHA","DIGITADOR,B,7","DATOS,F"]
[null,"ID_MUESTREO","DATOS,BR","DATOS,BR"]
[null,"ENTIDAD","INVEMAR","INVEMAR"]
[null,"cantidad",{"$f":"$C$3","v":306},{"$f":"$C$3","v":306}]
[]
["REGISTROS GENERADOS",null,null,null,null,null,null,null,"ID PARAMETRO","ID UNIDAD MEDIDA","NOMBRE COLUMNA"]
["MUESTREOS",null,null,null,null,null,null,null,597,100,"LATITUD_DECIMAL"]
["parametro muestreo",null,null,null,null,null,null,null,598,100,"LONGITUD_DECIMAL"]
["muestra",null,null,null,null,null,null,null,897,100,"PUNTO"]
["muestra variable",null,null,null,null,null,null,null,1074,100,"METODO_COLECTA"]
["autoria",null,null,null,null,null,null,null,576,11,"PROFUNDIDAD"]
["registros correctos",null,null,null,null,null,null,null,1075,126,"VOLUMEN_DRAGA"]
["Fecha de carga",null,null,null,null,null,null,null,288,10,"LONGITUD_NUCLEO"]
["json error",null,null,null,null,null,null,null,1076,100,"ZONA_FISIOGRAFICA"]
["error",null,null,null,null,null,null,null,1077,100,"METODO_ALMACENA"]
[null,null,null,null,null,null,null,null,1098,100,"NOMENCLATURA"]
[null,null,null,null,null,null,null,null,1140,100,"GRUPO_TEXTURAL"]
["Atributo","Descripción","Código",null,null,null,null,null,1072,100,"LAB_ANALISIS"]
["Tipo Nodo","Estaciones",{"$f":"VLOOKUP(B59,'Otras referencias'!A17:C27,2,FALSE)","v":40},null,null,null,null,null,1084,100,"SECCION_ESTACION"]
[null,null,null,null,null,null,null,null,460,100,"MEDIA_DESC"]
[null,null,null,null,null,null,null,null,462,100,"SELECCION_DESC"]
["CONFIGURACION REFERENTES",null,null,null,null,null,null,null,1141,100,"SIMETRIA_DESC"]
["Ruta de la API","Endpoint","Descripción",null,null,null,null,null,466,100,"CURTOSIS_DESC"]
["URL - AGM Campo",{"$f":"CONCATENATE(\"parametros/agmcampo/\",$C$4,\"\")","v":"parametros/agmcampo/98"},"Listado de referentes AGM_CAMPO",null,null,null,null,null,1732,100,"TAMANO_GRANO"]
["URL - Especies",{"$f":"IF($C$8=\"\",\"\",CONCATENATE(\"especies/filt/\",$C$9,\",\",$C$8,\"/\"))","v":""},"Especies por proyecto\n(No todos los proyectos tienen asociados una lista de especies)",null,null,null,null,null,823,45,"VALOR"]
["URL - Estaciones",{"$f":"CONCATENATE(\"estaciones/\", $C$59, \"/\",$C$7,\"\")","v":"estaciones/40/3389"},"Estaciones/parcelas por proyecto, cambia dependiendo del Tipo de Nodo, cuyo estado sea VIGENTE.",null,null,null,null,null,397,4,"PRC_GRAVA"]
["URL - Usuarios",{"$f":"CONCATENATE(\"parametros/usersByProject/\",$C$7,\"\")","v":"parametros/usersByProject/3389"},"Usuarios por proyecto.",null,null,null,null,null,398,4,"PRC_ARENA"]
["URL - Entidades","estaciones/get-entidades","Listado de entidades.",null,null,null,null,null,399,4,"PRC_LODO"]
["Atributos de la API","codigo_in","nombre_in",null,null,null,null,null,1159,4,"PRC_LIMO"]
["Rango de atributos de la API","B70:C71","nombre_in",null,null,null,null,null,1158,4,"PRC_ARCILLA"]
["URL - Plantillas","plantillas/","Endpoint para la carga de datos al sistema.",null,null,null,null,null,459,100,"MEDIA"]
[null,null,null,null,null,null,null,null,461,100,"SELECCION"]
[null,null,null,null,null,null,null,null,1142,100,"SIMETRIA"]
[null,null,null,null,null,null,null,null,465,100,"CURTOSIS"]
[null,null,null,null,null,null,null,null,1734,4,"D10"]
[null,null,null,null,null,null,null,null,1736,4,"D50"]
[null,null,null,null,null,null,null,null,1738,4,"D90"]
[null,null,null,null,null,null,null,null,1170,100,"ARCHIVO_FUENTE"]
[null,null,null,null,null,null,null,null,1055,100,"VERSION_PLANTILLA"]
[null,null,null,null,null,null,null,null,1071,100,"NUM_MUESTRA"]
[null,null,null,null,null,null,null,null,1079,100,"COD_MUESTRA_PROYECTO"]
[null,null,null,null,null,null,null,null,1078,100,"COD_MUESTRA_COLECC"]
[null,null,null,null,null,null,null,null,1169,100,"URL_METADATO"]

{"sheet":"DIGITADOR","index":2,"n_rows":28,"n_cols":4,"rows_kept":28,"cut":false,"hidden":false,"merged":[[14,0,14,1],[15,0,15,1],[18,0,18,1],[14,3,16,9],[0,0,0,1],[0,3,5,9],[5,0,6,0],[12,3,13,9],[6,3,11,9]]}
["Recolección de Datos Monitoreo\nGranulometría ",null,null,"Recomendaciones generales: \n¡Precaución! No inserte Filas o Columnas.\nEn los casos en que falte un valor a ingresar que provenga de la hoja de referencias, informe para que el administrador del sistema haga las adiciones necesarias.\nEsta es una plantilla programada. Las columnas de color oscuro se llenan automaticamente, principalmente a partir de los contenidos de la hoja de referencias. \nNO UTILICE PUNTO Y COMA (;) en ningun campo, por ser el separador de variables (columnas). Tampoco escriba las unidades de medida, no son necesarias.\nPara el correcto funcionamiento de la hoja debe estar activa la opcion de Excel de ejecutar macros (al abrir la hoja acepte la opcion habilitar macros, mensaje de Excel que aparece en la parte superior de la hoja en un recuadro amarillo). La extensión del archivo debe ser .xlsm\nSe recomienda renombrar el archivo de la siguiente manera: ANH_NombreEstacion_AAAAMMDD.xlsm"]
["Código Digitador",{"$f":"IF(B3=\"\",\"\",INDEX(referentes!AU:AV,MATCH(B3,referentes!$AV:$AV,0),1))","v":""}]
["Nombre del responsable"]
["Entidad","INVEMAR"]
["Versión de la plantilla",{"$f":"'Registro de cambios'!$D$5","v":"20240812i"}]
["Fecha en la que ingresa los datos en esta hoja","DD/MM/AAAA"]
[null,"3000-12-12",null,"Previamente a iniciar el llenado de la plantilla, debe seleccionar el proyecto al que pertenecen los datos que va a diligenciar y luego presionar el botón \"Descargar referentes\" para que los referentes de ésta plantilla sean actualizados. \nLuego de llenar completamente la plantilla, haga clic sobre el botón \"Generar tablas\" para que los datos sean organizados antes de cargarlos al Sistema de Información.\nAntes de presionar el botón \"Generar tablas\" verifique que:\na. No haya celdas con valores como \"#N/A\" o \"#¡REF!\"\nb. No se esten aplicando filtros en la hoja de datos \nPara finalizar, presione el botón \"Cargar datos\"."]
[]
["Código del proyecto",{"$f":"IF(B10=\"\",\"\",INDEX('Otras referencias'!M7:N28,MATCH(B10,'Otras referencias'!M7:M25,0),2))","v":3389}]
["Proyecto Convenio","INVEMAR ANH COL 3"]
["Nombre del archivo",{"$f":"MID(CELL(\"FILENAME\",N61),FIND(\"[\",CELL(\"FILENAME\",N61))+1,   FIND(\"]\",CELL(\"FILENAME\",N61))-FIND(\"[\",CELL(\"FILENAME\",N61))-1)","v":"ANH_granulometria_20240812i.xlsm"}]
["Fuente Plantilla","http://cinto.invemar.org.co/download/Plantillas_ARGOS_Plus/"]
[null,null,null,"Si requiere ayuda contacte a:\nKevin S. Moreno (kevin.moreno@invemar.org.co)  - Apoyo técnico software"]
[]
["UNIDAD DE MEDIDA A REPORTAR LOS TAMAÑOS DE GRANOS",null,null,"El custodio de los datos es el único autorizado para distribuir este conjunto de datos. El observador y el digitador se comprometen a tomar las medidas necesarias para salvaguardar este conjunto de datos de modo que copia de los mismos no sean obtenidas y/o usadas por terceros no relacionados con el propósito para la cual se recolectó."]
["PESO TAMAÑO DE GRANO (g)"]
[]
[]
["REGISTROS GENERADOS",null,"CARGADOS"]
["MUESTREOS",{"$f":"IF(configuracion!B47=\"\",\"\",configuracion!B47)","v":""},{"$f":"IF(configuracion!C47=\"\",\"\",configuracion!C47)","v":""}]
["parametro muestreo",{"$f":"IF(configuracion!B48=\"\",\"\",configuracion!B48)","v":""},{"$f":"IF(configuracion!C48=\"\",\"\",configuracion!C48)","v":""}]
["muestra",{"$f":"IF(configuracion!B49=\"\",\"\",configuracion!B49)","v":""},{"$f":"IF(configuracion!C49=\"\",\"\",configuracion!C49)","v":""}]
["muestra variable",{"$f":"IF(configuracion!B50=\"\",\"\",configuracion!B50)","v":""},{"$f":"IF(configuracion!C50=\"\",\"\",configuracion!C50)","v":""}]
["autoria",{"$f":"IF(configuracion!B51=\"\",\"\",configuracion!B51)","v":""},{"$f":"IF(configuracion!C51=\"\",\"\",configuracion!C51)","v":""}]
["registros correctos",{"$f":"IF(configuracion!B52=\"\",\"\",configuracion!B52)","v":""},{"$f":"IF(configuracion!C52=\"\",\"\",configuracion!C52)","v":""}]
["Fecha de carga",{"$f":"IF(configuracion!B53=\"\",\"\",configuracion!B53)","v":""},{"$f":"IF(configuracion!C53=\"\",\"\",configuracion!C53)","v":""}]
["json error",{"$f":"IF(configuracion!B54=\"\",\"\",configuracion!B54)","v":""},{"$f":"IF(configuracion!C54=\"\",\"\",configuracion!C54)","v":""}]
["error",{"$f":"IF(configuracion!B55=\"\",\"\",configuracion!B55)","v":""},{"$f":"IF(configuracion!C55=\"\",\"\",configuracion!C55)","v":""}]

{"sheet":"DATOS","index":3,"n_rows":306,"n_cols":84,"rows_kept":306,"cut":false,"hidden":false,"merged":[[3,76,4,76],[3,75,4,75],[2,37,4,37],[2,38,4,38],[3,49,4,49],[3,74,4,74],[3,73,4,73],[3,72,4,72],[3,68,4,68],[3,69,4,69],[3,70,4,70],[3,71,4,71],[3,66,4,66],[3,67,4,67],[3,53,4,53],[3,50,4,50],[3,10,4,10],[3,12,4,12],[3,18,4,18],[3,6,4,7],[2,39,4,39],[3,8,4,9],[3,21,4,21],[3,17,4,17],[3,11,4,11],[3,19,4,19],[3,20,4,20],[2,22,4,22],[2,23,4,23],[2,24,4,24],[3,13,4,13],[3,14,4,14],[3,1,4,1],[3,2,4,2],[3,3,4,3],[3,4,4,4],[3,5,4,5],[3,16,4,16],[3,15,4,15],[1,22,1,43],[2,40,4,40],[2,41,4,41],[2,42,4,42],[2,25,4,25],[2,26,4,26],[2,28,4,28],[2,27,4,27],[1,46,1,48],[2,29,4,29],[2,30,4,30],[2,31,4,31],[2,32,4,32],[2,35,4,35],[2,36,4,36],[2,43,4,43],[2,46,4,46],[2,47,4,47],[2,48,4,48],[2,34,4,34],[2,44,4,44],[2,45,4,45],[2,33,4,33],[3,83,4,83],[3,56,4,56],[3,57,4,57],[3,58,4,58],[3,65,4,65],[3,82,4,82],[3,81,4,81],[3,63,4,63],[3,59,4,59],[3,60,4,60],[3,61,4,61],[3,62,4,62],[3,77,4,77],[3,78,4,78],[3,79,4,79],[3,80,4,80],[3,54,4,54],[3,51,4,51],[3,52,4,52],[3,55,4,55],[3,64,4,64]]}
[1,2,3,4,5,6,7,8,9,10,11,12,13,14,15,16,17,18,19,20,21,22,23,24,25,26,27,null,28,29,30,31,32,null,null,33,34,35,36,37,38,39,40,41,null,null,42,43,44,45,46,47,48,49,50,51,52,53,54,55,56,57,58,59,60,61,62,63,65,66,67,68,69,70,71,72,73,74,75,76,77,78]
[null,null,null,null,null,null,null,null,null,null,null,null,null,null,null,null,null,null,null,null,null,null,"TAMAÑO DE GRANO RETENIDO EN EL TAMIZ",null,null,null,null,null,null,null,null,null,null,null,null,null,null,null,null,null,null,null,null,null,null,null,"PORCENTAJE GRUPO TEXTURAL (%) "]
[{"$f":"TEXT(DIGITADOR!B7,\"yyyymmdd\")","v":"30001212"},null,null,null,null,null,null,null,null,null,null,null,null,null,null,null,null,null,null,null,null,null,"< 0,004 mm","0,004 - 0,008 mm","0,008 - 0,016 mm","0,016 -0,032 mm","0,032- 0,063 mm","< 0,063 mm","0,063 - 0,125  mm","0,125 - 0,25  mm"," 0,25 - 0,5 mm"," 0,5 - 1 mm","1 - 2 mm","0,063 - 2 mm","> 2 mm","2 - 4mm","4 - 6 mm","6 - 8 mm","8 - 16 mm","16 - 32 mm","32 -64 mm","64 - 128 mm","128 - 256 mm","> 256mm","UNIDAD DE MEDIDA","TOTAL","GRAVA","ARENA","LODO"]
[{"$f":"DIGITADOR!$B$2","v":""},"CODIGO","CODMUESTREO","FECHA MUESTREO   (DD/MM/AAAA)","HORA        (HH:MM)","FECHA+HORA","INVESTIGADOR",null,"ESTACION",null,"LABORATORIO RESPONSABLE","METODO COLECTA","PROFUNDIDAD(m)","LONG MECANISMO NUCLEO(cm)","VOLUMEN    DRAGA(cm3)","ZONA FISIOGRAFICA","METODO ALMACENAMIENTO","OBSERVACIONES MUESTREO","NUM MUESTRA","COD MUESTRA COLECCIÓN","COD MUESTRA PROYECTO ","SECCION",null,null,null,null,null,null,null,null,null,null,null,null,null,null,null,null,null,null,null,null,null,null,null,null,null,null,null,"PORCENTAJE TOTAL","GRUPO TEXTURAL","MEDIA","SELECCIÓN","SIMETRIA","CURTOSIS","DESCRIPCION MEDIA ","DESCRIPCION SELECCIÓN","DESCRIPCION SIMETRIA","DESCRIPCION CURTOSIS","METODO APLICADO",null,null,null,"NOMENCLATURA APLICADA","OBSERVACIONES MUESTRA","QUALITY_FLAG",null,null,"ID_MUESTRA","ID_MUESTREO (AGD_MUESTREOS)","COD LAB_ANALISIS","COD METODO_COLECTA","COD ZONA_GEOGRAFICA","COD METODO_ALMACENA","UNIKE_KEY","COD SECCION","COD NOMENCLATURA_A","COD MEDIA_DESC ","COD SELECCIÓN_DESC","COD SIMETRIA_DESC","COD CURTOSIS_DESC","COD GRUP_TEXTURAL","COD QUALITY_FLAG","COD METODO_APLICADO"]
[]
[null,{"$f":"IF(BW6=BW3,B3,B3+1)","v":0},{"$f":"IF(E6<>\"\",CONCATENATE($A$3,D6,B6),\"\")","v":""},null,null,{"$f":"IF(D6<>\"\",D6+E6,\"\")","v":""},{"$f":"IF(H6=\"\",\"\",INDEX(referentes!AU:AV,MATCH(H6,referentes!$AV:$AV,0),1))","v":""},null,{"$f":"IF(J6=\"\",\"\",INDEX('Otras referencias'!$V:$W,MATCH(J6,'Otras referencias'!$W:$W,0),1))","v":""},null,null,null,null,null,null,null,null,null,1,null,null,null,null,null,null,null,null,null,null,null,null,null,null,null,null,null,null,null,null,null,null,null,null,null,null,{"$f":"SUM(W6:AR6)","v":0},null,null,null,{"$f":"SUM(AU6:AW6)","v":0},null,null,null,null,null,null,null,null,null,null,null,null,null,null,null,null,null,null,{"$f":"IF(D6=\"\",\"\",CONCATENATE(C6,S6))","v":""},{"$f":"IF(C6=\"\",\"\",IF(COUNTIF($C$6:C6, C6)>1, \"\", C6))","v":""},{"$f":"IF(K6=\"\",\"\",INDEX(referentes!P:Q,MATCH(K6,referentes!$Q:$Q,0),1))","v":""},{"$f":"IF(L6=\"\",\"\",INDEX(referentes!$A:$B,MATCH(L6,referentes!$B:$B,0),1))","v":""},{"$f":"IF(P6=\"\",\"\",INDEX(referentes!D:E,MATCH(P6,referentes!$E:$E,0),1))","v":""},{"$f":"IF(Q6=\"\",\"\",INDEX(referentes!G:H,MATCH(Q6,referentes!$H:$H,0),1))","v":""},{"$f":"CONCATENATE(G6,I6,BS6,BT6,BU6,BV6,M6,N6,O6)","v":""},{"$f":"IF(V6=\"\",\"\",INDEX(referentes!S:T,MATCH(V6,referentes!$T:$T,0),1))","v":""},{"$f":"IF(BL6=\"\",\"\",INDEX(referentes!J:K,MATCH(BL6,referentes!$K:$K,0),1))","v":""},{"$f":"IF(BD6=\"\",\"\",INDEX(referentes!V:W,MATCH(BD6,referentes!$W:$W,0),1))","v":""},{"$f":"IF(BE6=\"\",\"\",INDEX(referentes!Y:Z,MATCH(BE6,referentes!$Z:$Z,0),1))","v":""},{"$f":"IF(BF6=\"\",\"\",INDEX(referentes!AB:AC,MATCH(BF6,referentes!$AC:$AC,0),1))","v":""},{"$f":"IF(BG6=\"\",\"\",INDEX(referentes!AE:AF,MATCH(BG6,referentes!$AF:$AF,0),1))","v":""},{"$f":"IF(AY6=\"\",\"\",INDEX(referentes!M:N,MATCH(AY6,referentes!$N:$N,0),1))","v":""},{"$f":"IF(BN6=\"\",\"\",INDEX('Otras referencias'!S:T,MATCH(BN6,'Otras referencias'!$T:$T,0),1))","v":""},{"$f":"IF(BH6=\"\",\"\",INDEX('Otras referencias'!A:B,MATCH(BH6,'Otras referencias'!$B:$B,0),1))","v":""}]
[null,{"$f":"IF(BW7=BW6,B6,B6+1)","v":0},{"$f":"IF(E7<>\"\",CONCATENATE($A$3,D7,B7),\"\")","v":""},null,null,{"$f":"IF(D7<>\"\",D7+E7,\"\")","v":""},{"$f":"IF(H7=\"\",\"\",INDEX(referentes!AU:AV,MATCH(H7,referentes!$AV:$AV,0),1))","v":""},null,{"$f":"IF(J7=\"\",\"\",INDEX('Otras referencias'!$V:$W,MATCH(J7,'Otras referencias'!$W:$W,0),1))","v":""},null,null,null,null,null,null,null,null,null,2,null,null,null,null,null,null,null,null,null,null,null,null,null,null,null,null,null,null,null,null,null,null,null,null,null,null,{"$f":"SUM(W7:AR7)","v":0},null,null,null,0,null,null,null,null,null,null,null,null,null,null,null,null,null,null,null,null,null,null,"",{"$f":"IF(C7=\"\",\"\",IF(COUNTIF($C$6:C7, C7)>1, \"\", C7))","v":""},{"$f":"IF(K7=\"\",\"\",INDEX(referentes!P:Q,MATCH(K7,referentes!$Q:$Q,0),1))","v":""},{"$f":"IF(L7=\"\",\"\",INDEX(referentes!$A:$B,MATCH(L7,referentes!$B:$B,0),1))","v":""},{"$f":"IF(P7=\"\",\"\",INDEX(referentes!D:E,MATCH(P7,referentes!$E:$E,0),1))","v":""},{"$f":"IF(Q7=\"\",\"\",INDEX(referentes!G:H,MATCH(Q7,referentes!$H:$H,0),1))","v":""},{"$f":"CONCATENATE(G7,I7,BS7,BT7,BU7,BV7,M7,N7,O7)","v":""},{"$f":"IF(V7=\"\",\"\",INDEX(referentes!S:T,MATCH(V7,referentes!$T:$T,0),1))","v":""},{"$f":"IF(BL7=\"\",\"\",INDEX(referentes!J:K,MATCH(BL7,referentes!$K:$K,0),1))","v":""},{"$f":"IF(BD7=\"\",\"\",INDEX(referentes!V:W,MATCH(BD7,referentes!$W:$W,0),1))","v":""},{"$f":"IF(BE7=\"\",\"\",INDEX(referentes!Y:Z,MATCH(BE7,referentes!$Z:$Z,0),1))","v":""},{"$f":"IF(BF7=\"\",\"\",INDEX(referentes!AB:AC,MATCH(BF7,referentes!$AC:$AC,0),1))","v":""},{"$f":"IF(BG7=\"\",\"\",INDEX(referentes!AE:AF,MATCH(BG7,referentes!$AF:$AF,0),1))","v":""},{"$f":"IF(AY7=\"\",\"\",INDEX(referentes!M:N,MATCH(AY7,referentes!$N:$N,0),1))","v":""},{"$f":"IF(BN7=\"\",\"\",INDEX('Otras referencias'!S:T,MATCH(BN7,'Otras referencias'!$T:$T,0),1))","v":""},{"$f":"IF(BH7=\"\",\"\",INDEX('Otras referencias'!A:B,MATCH(BH7,'Otras referencias'!$B:$B,0),1))","v":""}]
[null,0,"",null,null,"",{"$f":"IF(H8=\"\",\"\",INDEX(referentes!AU:AV,MATCH(H8,referentes!$AV:$AV,0),1))","v":""},null,{"$f":"IF(J8=\"\",\"\",INDEX('Otras referencias'!$V:$W,MATCH(J8,'Otras referencias'!$W:$W,0),1))","v":""},null,null,null,null,null,null,null,null,null,3,null,null,null,null,null,null,null,null,null,null,null,null,null,null,null,null,null,null,null,null,null,null,null,null,null,null,0,null,null,null,0,null,null,null,null,null,null,null,null,null,null,null,null,null,null,null,null,null,null,"",{"$f":"IF(C8=\"\",\"\",IF(COUNTIF($C$6:C8, C8)>1, \"\", C8))","v":""},{"$f":"IF(K8=\"\",\"\",INDEX(referentes!P:Q,MATCH(K8,referentes!$Q:$Q,0),1))","v":""},{"$f":"IF(L8=\"\",\"\",INDEX(referentes!$A:$B,MATCH(L8,referentes!$B:$B,0),1))","v":""},{"$f":"IF(P8=\"\",\"\",INDEX(referentes!D:E,MATCH(P8,referentes!$E:$E,0),1))","v":""},{"$f":"IF(Q8=\"\",\"\",INDEX(referentes!G:H,MATCH(Q8,referentes!$H:$H,0),1))","v":""},"",{"$f":"IF(V8=\"\",\"\",INDEX(referentes!S:T,MATCH(V8,referentes!$T:$T,0),1))","v":""},{"$f":"IF(BL8=\"\",\"\",INDEX(referentes!J:K,MATCH(BL8,referentes!$K:$K,0),1))","v":""},{"$f":"IF(BD8=\"\",\"\",INDEX(referentes!V:W,MATCH(BD8,referentes!$W:$W,0),1))","v":""},{"$f":"IF(BE8=\"\",\"\",INDEX(referentes!Y:Z,MATCH(BE8,referentes!$Z:$Z,0),1))","v":""},{"$f":"IF(BF8=\"\",\"\",INDEX(referentes!AB:AC,MATCH(BF8,referentes!$AC:$AC,0),1))","v":""},{"$f":"IF(BG8=\"\",\"\",INDEX(referentes!AE:AF,MATCH(BG8,referentes!$AF:$AF,0),1))","v":""},{"$f":"IF(AY8=\"\",\"\",INDEX(referentes!M:N,MATCH(AY8,referentes!$N:$N,0),1))","v":""},{"$f":"IF(BN8=\"\",\"\",INDEX('Otras referencias'!S:T,MATCH(BN8,'Otras referencias'!$T:$T,0),1))","v":""},{"$f":"IF(BH8=\"\",\"\",INDEX('Otras referencias'!A:B,MATCH(BH8,'Otras referencias'!$B:$B,0),1))","v":""}]
[null,0,"",null,null,"",{"$f":"IF(H9=\"\",\"\",INDEX(referentes!AU:AV,MATCH(H9,referentes!$AV:$AV,0),1))","v":""},null,{"$f":"IF(J9=\"\",\"\",INDEX('Otras referencias'!$V:$W,MATCH(J9,'Otras referencias'!$W:$W,0),1))","v":""},null,null,null,null,null,null,null,null,null,4,null,null,null,null,null,null,null,null,null,null,null,null,null,null,null,null,null,null,null,null,null,null,null,null,null,null,0,null,null,null,0,null,null,null,null,null,null,null,null,null,null,null,null,null,null,null,null,null,null,"",{"$f":"IF(C9=\"\",\"\",IF(COUNTIF($C$6:C9, C9)>1, \"\", C9))","v":""},{"$f":"IF(K9=\"\",\"\",INDEX(referentes!P:Q,MATCH(K9,referentes!$Q:$Q,0),1))","v":""},{"$f":"IF(L9=\"\",\"\",INDEX(referentes!$A:$B,MATCH(L9,referentes!$B:$B,0),1))","v":""},{"$f":"IF(P9=\"\",\"\",INDEX(referentes!D:E,MATCH(P9,referentes!$E:$E,0),1))","v":""},{"$f":"IF(Q9=\"\",\"\",INDEX(referentes!G:H,MATCH(Q9,referentes!$H:$H,0),1))","v":""},"",{"$f":"IF(V9=\"\",\"\",INDEX(referentes!S:T,MATCH(V9,referentes!$T:$T,0),1))","v":""},{"$f":"IF(BL9=\"\",\"\",INDEX(referentes!J:K,MATCH(BL9,referentes!$K:$K,0),1))","v":""},{"$f":"IF(BD9=\"\",\"\",INDEX(referentes!V:W,MATCH(BD9,referentes!$W:$W,0),1))","v":""},{"$f":"IF(BE9=\"\",\"\",INDEX(referentes!Y:Z,MATCH(BE9,referentes!$Z:$Z,0),1))","v":""},{"$f":"IF(BF9=\"\",\"\",INDEX(referentes!AB:AC,MATCH(BF9,referentes!$AC:$AC,0),1))","v":""},{"$f":"IF(BG9=\"\",\"\",INDEX(referentes!AE:AF,MATCH(BG9,referentes!$AF:$AF,0),1))","v":""},{"$f":"IF(AY9=\"\",\"\",INDEX(referentes!M:N,MATCH(AY9,referentes!$N:$N,0),1))","v":""},{"$f":"IF(BN9=\"\",\"\",INDEX('Otras referencias'!S:T,MATCH(BN9,'Otras referencias'!$T:$T,0),1))","v":""},{"$f":"IF(BH9=\"\",\"\",INDEX('Otras referencias'!A:B,MATCH(BH9,'Otras referencias'!$B:$B,0),1))","v":""}]
[null,0,"",null,null,"",{"$f":"IF(H10=\"\",\"\",INDEX(referentes!AU:AV,MATCH(H10,referentes!$AV:$AV,0),1))","v":""},null,{"$f":"IF(J10=\"\",\"\",INDEX('Otras referencias'!$V:$W,MATCH(J10,'Otras referencias'!$W:$W,0),1))","v":""},null,null,null,null,null,null,null,null,null,5,null,null,null,null,null,null,null,null,null,null,null,null,null,null,null,null,null,null,null,null,null,null,null,null,null,null,0,null,null,null,0,null,null,null,null,null,null,null,null,null,null,null,null,null,null,null,null,null,null,"",{"$f":"IF(C10=\"\",\"\",IF(COUNTIF($C$6:C10, C10)>1, \"\", C10))","v":""},{"$f":"IF(K10=\"\",\"\",INDEX(referentes!P:Q,MATCH(K10,referentes!$Q:$Q,0),1))","v":""},{"$f":"IF(L10=\"\",\"\",INDEX(referentes!$A:$B,MATCH(L10,referentes!$B:$B,0),1))","v":""},{"$f":"IF(P10=\"\",\"\",INDEX(referentes!D:E,MATCH(P10,referentes!$E:$E,0),1))","v":""},{"$f":"IF(Q10=\"\",\"\",INDEX(referentes!G:H,MATCH(Q10,referentes!$H:$H,0),1))","v":""},"",{"$f":"IF(V10=\"\",\"\",INDEX(referentes!S:T,MATCH(V10,referentes!$T:$T,0),1))","v":""},{"$f":"IF(BL10=\"\",\"\",INDEX(referentes!J:K,MATCH(BL10,referentes!$K:$K,0),1))","v":""},{"$f":"IF(BD10=\"\",\"\",INDEX(referentes!V:W,MATCH(BD10,referentes!$W:$W,0),1))","v":""},{"$f":"IF(BE10=\"\",\"\",INDEX(referentes!Y:Z,MATCH(BE10,referentes!$Z:$Z,0),1))","v":""},{"$f":"IF(BF10=\"\",\"\",INDEX(referentes!AB:AC,MATCH(BF10,referentes!$AC:$AC,0),1))","v":""},{"$f":"IF(BG10=\"\",\"\",INDEX(referentes!AE:AF,MATCH(BG10,referentes!$AF:$AF,0),1))","v":""},{"$f":"IF(AY10=\"\",\"\",INDEX(referentes!M:N,MATCH(AY10,referentes!$N:$N,0),1))","v":""},{"$f":"IF(BN10=\"\",\"\",INDEX('Otras referencias'!S:T,MATCH(BN10,'Otras referencias'!$T:$T,0),1))","v":""},{"$f":"IF(BH10=\"\",\"\",INDEX('Otras referencias'!A:B,MATCH(BH10,'Otras referencias'!$B:$B,0),1))","v":""}]
[null,0,"",null,null,"",{"$f":"IF(H11=\"\",\"\",INDEX(referentes!AU:AV,MATCH(H11,referentes!$AV:$AV,0),1))","v":""},null,{"$f":"IF(J11=\"\",\"\",INDEX('Otras referencias'!$V:$W,MATCH(J11,'Otras referencias'!$W:$W,0),1))","v":""},null,null,null,null,null,null,null,null,null,6,null,null,null,null,null,null,null,null,null,null,null,null,null,null,null,null,null,null,null,null,null,null,null,null,null,null,0,null,null,null,0,null,null,null,null,null,null,null,null,null,null,null,null,null,null,null,null,null,null,"",{"$f":"IF(C11=\"\",\"\",IF(COUNTIF($C$6:C11, C11)>1, \"\", C11))","v":""},{"$f":"IF(K11=\"\",\"\",INDEX(referentes!P:Q,MATCH(K11,referentes!$Q:$Q,0),1))","v":""},{"$f":"IF(L11=\"\",\"\",INDEX(referentes!$A:$B,MATCH(L11,referentes!$B:$B,0),1))","v":""},{"$f":"IF(P11=\"\",\"\",INDEX(referentes!D:E,MATCH(P11,referentes!$E:$E,0),1))","v":""},{"$f":"IF(Q11=\"\",\"\",INDEX(referentes!G:H,MATCH(Q11,referentes!$H:$H,0),1))","v":""},"",{"$f":"IF(V11=\"\",\"\",INDEX(referentes!S:T,MATCH(V11,referentes!$T:$T,0),1))","v":""},{"$f":"IF(BL11=\"\",\"\",INDEX(referentes!J:K,MATCH(BL11,referentes!$K:$K,0),1))","v":""},{"$f":"IF(BD11=\"\",\"\",INDEX(referentes!V:W,MATCH(BD11,referentes!$W:$W,0),1))","v":""},{"$f":"IF(BE11=\"\",\"\",INDEX(referentes!Y:Z,MATCH(BE11,referentes!$Z:$Z,0),1))","v":""},{"$f":"IF(BF11=\"\",\"\",INDEX(referentes!AB:AC,MATCH(BF11,referentes!$AC:$AC,0),1))","v":""},{"$f":"IF(BG11=\"\",\"\",INDEX(referentes!AE:AF,MATCH(BG11,referentes!$AF:$AF,0),1))","v":""},{"$f":"IF(AY11=\"\",\"\",INDEX(referentes!M:N,MATCH(AY11,referentes!$N:$N,0),1))","v":""},{"$f":"IF(BN11=\"\",\"\",INDEX('Otras referencias'!S:T,MATCH(BN11,'Otras referencias'!$T:$T,0),1))","v":""},{"$f":"IF(BH11=\"\",\"\",INDEX('Otras referencias'!A:B,MATCH(BH11,'Otras referencias'!$B:$B,0),1))","v":""}]
[null,0,"",null,null,"",{"$f":"IF(H12=\"\",\"\",INDEX(referentes!AU:AV,MATCH(H12,referentes!$AV:$AV,0),1))","v":""},null,{"$f":"IF(J12=\"\",\"\",INDEX('Otras referencias'!$V:$W,MATCH(J12,'Otras referencias'!$W:$W,0),1))","v":""},null,null,null,null,null,null,null,null,null,7,null,null,null,null,null,null,null,null,null,null,null,null,null,null,null,null,null,null,null,null,null,null,null,null,null,null,0,null,null,null,0,null,null,null,null,null,null,null,null,null,null,null,null,null,null,null,null,null,null,"",{"$f":"IF(C12=\"\",\"\",IF(COUNTIF($C$6:C12, C12)>1, \"\", C12))","v":""},{"$f":"IF(K12=\"\",\"\",INDEX(referentes!P:Q,MATCH(K12,referentes!$Q:$Q,0),1))","v":""},{"$f":"IF(L12=\"\",\"\",INDEX(referentes!$A:$B,MATCH(L12,referentes!$B:$B,0),1))","v":""},{"$f":"IF(P12=\"\",\"\",INDEX(referentes!D:E,MATCH(P12,referentes!$E:$E,0),1))","v":""},{"$f":"IF(Q12=\"\",\"\",INDEX(referentes!G:H,MATCH(Q12,referentes!$H:$H,0),1))","v":""},"",{"$f":"IF(V12=\"\",\"\",INDEX(referentes!S:T,MATCH(V12,referentes!$T:$T,0),1))","v":""},{"$f":"IF(BL12=\"\",\"\",INDEX(referentes!J:K,MATCH(BL12,referentes!$K:$K,0),1))","v":""},{"$f":"IF(BD12=\"\",\"\",INDEX(referentes!V:W,MATCH(BD12,referentes!$W:$W,0),1))","v":""},{"$f":"IF(BE12=\"\",\"\",INDEX(referentes!Y:Z,MATCH(BE12,referentes!$Z:$Z,0),1))","v":""},{"$f":"IF(BF12=\"\",\"\",INDEX(referentes!AB:AC,MATCH(BF12,referentes!$AC:$AC,0),1))","v":""},{"$f":"IF(BG12=\"\",\"\",INDEX(referentes!AE:AF,MATCH(BG12,referentes!$AF:$AF,0),1))","v":""},{"$f":"IF(AY12=\"\",\"\",INDEX(referentes!M:N,MATCH(AY12,referentes!$N:$N,0),1))","v":""},{"$f":"IF(BN12=\"\",\"\",INDEX('Otras referencias'!S:T,MATCH(BN12,'Otras referencias'!$T:$T,0),1))","v":""},{"$f":"IF(BH12=\"\",\"\",INDEX('Otras referencias'!A:B,MATCH(BH12,'Otras referencias'!$B:$B,0),1))","v":""}]
[null,0,"",null,null,"",{"$f":"IF(H13=\"\",\"\",INDEX(referentes!AU:AV,MATCH(H13,referentes!$AV:$AV,0),1))","v":""},null,{"$f":"IF(J13=\"\",\"\",INDEX('Otras referencias'!$V:$W,MATCH(J13,'Otras referencias'!$W:$W,0),1))","v":""},null,null,null,null,null,null,null,null,null,8,null,null,null,null,null,null,null,null,null,null,null,null,null,null,null,null,null,null,null,null,null,null,null,null,null,null,0,null,null,null,0,null,null,null,null,null,null,null,null,null,null,null,null,null,null,null,null,null,null,"",{"$f":"IF(C13=\"\",\"\",IF(COUNTIF($C$6:C13, C13)>1, \"\", C13))","v":""},{"$f":"IF(K13=\"\",\"\",INDEX(referentes!P:Q,MATCH(K13,referentes!$Q:$Q,0),1))","v":""},{"$f":"IF(L13=\"\",\"\",INDEX(referentes!$A:$B,MATCH(L13,referentes!$B:$B,0),1))","v":""},{"$f":"IF(P13=\"\",\"\",INDEX(referentes!D:E,MATCH(P13,referentes!$E:$E,0),1))","v":""},{"$f":"IF(Q13=\"\",\"\",INDEX(referentes!G:H,MATCH(Q13,referentes!$H:$H,0),1))","v":""},"",{"$f":"IF(V13=\"\",\"\",INDEX(referentes!S:T,MATCH(V13,referentes!$T:$T,0),1))","v":""},{"$f":"IF(BL13=\"\",\"\",INDEX(referentes!J:K,MATCH(BL13,referentes!$K:$K,0),1))","v":""},{"$f":"IF(BD13=\"\",\"\",INDEX(referentes!V:W,MATCH(BD13,referentes!$W:$W,0),1))","v":""},{"$f":"IF(BE13=\"\",\"\",INDEX(referentes!Y:Z,MATCH(BE13,referentes!$Z:$Z,0),1))","v":""},{"$f":"IF(BF13=\"\",\"\",INDEX(referentes!AB:AC,MATCH(BF13,referentes!$AC:$AC,0),1))","v":""},{"$f":"IF(BG13=\"\",\"\",INDEX(referentes!AE:AF,MATCH(BG13,referentes!$AF:$AF,0),1))","v":""},{"$f":"IF(AY13=\"\",\"\",INDEX(referentes!M:N,MATCH(AY13,referentes!$N:$N,0),1))","v":""},{"$f":"IF(BN13=\"\",\"\",INDEX('Otras referencias'!S:T,MATCH(BN13,'Otras referencias'!$T:$T,0),1))","v":""},{"$f":"IF(BH13=\"\",\"\",INDEX('Otras referencias'!A:B,MATCH(BH13,'Otras referencias'!$B:$B,0),1))","v":""}]
[null,0,"",null,null,"",{"$f":"IF(H14=\"\",\"\",INDEX(referentes!AU:AV,MATCH(H14,referentes!$AV:$AV,0),1))","v":""},null,{"$f":"IF(J14=\"\",\"\",INDEX('Otras referencias'!$V:$W,MATCH(J14,'Otras referencias'!$W:$W,0),1))","v":""},null,null,null,null,null,null,null,null,null,9,null,null,null,null,null,null,null,null,null,null,null,null,null,null,null,null,null,null,null,null,null,null,null,null,null,null,0,null,null,null,0,null,null,null,null,null,null,null,null,null,null,null,null,null,null,null,null,null,null,"",{"$f":"IF(C14=\"\",\"\",IF(COUNTIF($C$6:C14, C14)>1, \"\", C14))","v":""},{"$f":"IF(K14=\"\",\"\",INDEX(referentes!P:Q,MATCH(K14,referentes!$Q:$Q,0),1))","v":""},{"$f":"IF(L14=\"\",\"\",INDEX(referentes!$A:$B,MATCH(L14,referentes!$B:$B,0),1))","v":""},{"$f":"IF(P14=\"\",\"\",INDEX(referentes!D:E,MATCH(P14,referentes!$E:$E,0),1))","v":""},{"$f":"IF(Q14=\"\",\"\",INDEX(referentes!G:H,MATCH(Q14,referentes!$H:$H,0),1))","v":""},"",{"$f":"IF(V14=\"\",\"\",INDEX(referentes!S:T,MATCH(V14,referentes!$T:$T,0),1))","v":""},{"$f":"IF(BL14=\"\",\"\",INDEX(referentes!J:K,MATCH(BL14,referentes!$K:$K,0),1))","v":""},{"$f":"IF(BD14=\"\",\"\",INDEX(referentes!V:W,MATCH(BD14,referentes!$W:$W,0),1))","v":""},{"$f":"IF(BE14=\"\",\"\",INDEX(referentes!Y:Z,MATCH(BE14,referentes!$Z:$Z,0),1))","v":""},{"$f":"IF(BF14=\"\",\"\",INDEX(referentes!AB:AC,MATCH(BF14,referentes!$AC:$AC,0),1))","v":""},{"$f":"IF(BG14=\"\",\"\",INDEX(referentes!AE:AF,MATCH(BG14,referentes!$AF:$AF,0),1))","v":""},{"$f":"IF(AY14=\"\",\"\",INDEX(referentes!M:N,MATCH(AY14,referentes!$N:$N,0),1))","v":""},{"$f":"IF(BN14=\"\",\"\",INDEX('Otras referencias'!S:T,MATCH(BN14,'Otras referencias'!$T:$T,0),1))","v":""},{"$f":"IF(BH14=\"\",\"\",INDEX('Otras referencias'!A:B,MATCH(BH14,'Otras referencias'!$B:$B,0),1))","v":""}]
[null,0,"",null,null,"",{"$f":"IF(H15=\"\",\"\",INDEX(referentes!AU:AV,MATCH(H15,referentes!$AV:$AV,0),1))","v":""},null,{"$f":"IF(J15=\"\",\"\",INDEX('Otras referencias'!$V:$W,MATCH(J15,'Otras referencias'!$W:$W,0),1))","v":""},null,null,null,null,null,null,null,null,null,10,null,null,null,null,null,null,null,null,null,null,null,null,null,null,null,null,null,null,null,null,null,null,null,null,null,null,0,null,null,null,0,null,null,null,null,null,null,null,null,null,null,null,null,null,null,null,null,null,null,"",{"$f":"IF(C15=\"\",\"\",IF(COUNTIF($C$6:C15, C15)>1, \"\", C15))","v":""},{"$f":"IF(K15=\"\",\"\",INDEX(referentes!P:Q,MATCH(K15,referentes!$Q:$Q,0),1))","v":""},{"$f":"IF(L15=\"\",\"\",INDEX(referentes!$A:$B,MATCH(L15,referentes!$B:$B,0),1))","v":""},{"$f":"IF(P15=\"\",\"\",INDEX(referentes!D:E,MATCH(P15,referentes!$E:$E,0),1))","v":""},{"$f":"IF(Q15=\"\",\"\",INDEX(referentes!G:H,MATCH(Q15,referentes!$H:$H,0),1))","v":""},"",{"$f":"IF(V15=\"\",\"\",INDEX(referentes!S:T,MATCH(V15,referentes!$T:$T,0),1))","v":""},{"$f":"IF(BL15=\"\",\"\",INDEX(referentes!J:K,MATCH(BL15,referentes!$K:$K,0),1))","v":""},{"$f":"IF(BD15=\"\",\"\",INDEX(referentes!V:W,MATCH(BD15,referentes!$W:$W,0),1))","v":""},{"$f":"IF(BE15=\"\",\"\",INDEX(referentes!Y:Z,MATCH(BE15,referentes!$Z:$Z,0),1))","v":""},{"$f":"IF(BF15=\"\",\"\",INDEX(referentes!AB:AC,MATCH(BF15,referentes!$AC:$AC,0),1))","v":""},{"$f":"IF(BG15=\"\",\"\",INDEX(referentes!AE:AF,MATCH(BG15,referentes!$AF:$AF,0),1))","v":""},{"$f":"IF(AY15=\"\",\"\",INDEX(referentes!M:N,MATCH(AY15,referentes!$N:$N,0),1))","v":""},{"$f":"IF(BN15=\"\",\"\",INDEX('Otras referencias'!S:T,MATCH(BN15,'Otras referencias'!$T:$T,0),1))","v":""},{"$f":"IF(BH15=\"\",\"\",INDEX('Otras referencias'!A:B,MATCH(BH15,'Otras referencias'!$B:$B,0),1))","v":""}]
[null,0,"",null,null,"",{"$f":"IF(H16=\"\",\"\",INDEX(referentes!AU:AV,MATCH(H16,referentes!$AV:$AV,0),1))","v":""},null,{"$f":"IF(J16=\"\",\"\",INDEX('Otras referencias'!$V:$W,MATCH(J16,'Otras referencias'!$W:$W,0),1))","v":""},null,null,null,null,null,null,null,null,null,11,null,null,null,null,null,null,null,null,null,null,null,null,null,null,null,null,null,null,null,null,null,null,null,null,null,null,0,null,null,null,0,null,null,null,null,null,null,null,null,null,null,null,null,null,null,null,null,null,null,"",{"$f":"IF(C16=\"\",\"\",IF(COUNTIF($C$6:C16, C16)>1, \"\", C16))","v":""},{"$f":"IF(K16=\"\",\"\",INDEX(referentes!P:Q,MATCH(K16,referentes!$Q:$Q,0),1))","v":""},{"$f":"IF(L16=\"\",\"\",INDEX(referentes!$A:$B,MATCH(L16,referentes!$B:$B,0),1))","v":""},{"$f":"IF(P16=\"\",\"\",INDEX(referentes!D:E,MATCH(P16,referentes!$E:$E,0),1))","v":""},{"$f":"IF(Q16=\"\",\"\",INDEX(referentes!G:H,MATCH(Q16,referentes!$H:$H,0),1))","v":""},"",{"$f":"IF(V16=\"\",\"\",INDEX(referentes!S:T,MATCH(V16,referentes!$T:$T,0),1))","v":""},{"$f":"IF(BL16=\"\",\"\",INDEX(referentes!J:K,MATCH(BL16,referentes!$K:$K,0),1))","v":""},{"$f":"IF(BD16=\"\",\"\",INDEX(referentes!V:W,MATCH(BD16,referentes!$W:$W,0),1))","v":""},{"$f":"IF(BE16=\"\",\"\",INDEX(referentes!Y:Z,MATCH(BE16,referentes!$Z:$Z,0),1))","v":""},{"$f":"IF(BF16=\"\",\"\",INDEX(referentes!AB:AC,MATCH(BF16,referentes!$AC:$AC,0),1))","v":""},{"$f":"IF(BG16=\"\",\"\",INDEX(referentes!AE:AF,MATCH(BG16,referentes!$AF:$AF,0),1))","v":""},{"$f":"IF(AY16=\"\",\"\",INDEX(referentes!M:N,MATCH(AY16,referentes!$N:$N,0),1))","v":""},{"$f":"IF(BN16=\"\",\"\",INDEX('Otras referencias'!S:T,MATCH(BN16,'Otras referencias'!$T:$T,0),1))","v":""},{"$f":"IF(BH16=\"\",\"\",INDEX('Otras referencias'!A:B,MATCH(BH16,'Otras referencias'!$B:$B,0),1))","v":""}]
[null,0,"",null,null,"",{"$f":"IF(H17=\"\",\"\",INDEX(referentes!AU:AV,MATCH(H17,referentes!$AV:$AV,0),1))","v":""},null,{"$f":"IF(J17=\"\",\"\",INDEX('Otras referencias'!$V:$W,MATCH(J17,'Otras referencias'!$W:$W,0),1))","v":""},null,null,null,null,null,null,null,null,null,12,null,null,null,null,null,null,null,null,null,null,null,null,null,null,null,null,null,null,null,null,null,null,null,null,null,null,0,null,null,null,0,null,null,null,null,null,null,null,null,null,null,null,null,null,null,null,null,null,null,"",{"$f":"IF(C17=\"\",\"\",IF(COUNTIF($C$6:C17, C17)>1, \"\", C17))","v":""},{"$f":"IF(K17=\"\",\"\",INDEX(referentes!P:Q,MATCH(K17,referentes!$Q:$Q,0),1))","v":""},{"$f":"IF(L17=\"\",\"\",INDEX(referentes!$A:$B,MATCH(L17,referentes!$B:$B,0),1))","v":""},{"$f":"IF(P17=\"\",\"\",INDEX(referentes!D:E,MATCH(P17,referentes!$E:$E,0),1))","v":""},{"$f":"IF(Q17=\"\",\"\",INDEX(referentes!G:H,MATCH(Q17,referentes!$H:$H,0),1))","v":""},"",{"$f":"IF(V17=\"\",\"\",INDEX(referentes!S:T,MATCH(V17,referentes!$T:$T,0),1))","v":""},{"$f":"IF(BL17=\"\",\"\",INDEX(referentes!J:K,MATCH(BL17,referentes!$K:$K,0),1))","v":""},{"$f":"IF(BD17=\"\",\"\",INDEX(referentes!V:W,MATCH(BD17,referentes!$W:$W,0),1))","v":""},{"$f":"IF(BE17=\"\",\"\",INDEX(referentes!Y:Z,MATCH(BE17,referentes!$Z:$Z,0),1))","v":""},{"$f":"IF(BF17=\"\",\"\",INDEX(referentes!AB:AC,MATCH(BF17,referentes!$AC:$AC,0),1))","v":""},{"$f":"IF(BG17=\"\",\"\",INDEX(referentes!AE:AF,MATCH(BG17,referentes!$AF:$AF,0),1))","v":""},{"$f":"IF(AY17=\"\",\"\",INDEX(referentes!M:N,MATCH(AY17,referentes!$N:$N,0),1))","v":""},{"$f":"IF(BN17=\"\",\"\",INDEX('Otras referencias'!S:T,MATCH(BN17,'Otras referencias'!$T:$T,0),1))","v":""},{"$f":"IF(BH17=\"\",\"\",INDEX('Otras referencias'!A:B,MATCH(BH17,'Otras referencias'!$B:$B,0),1))","v":""}]
[null,0,"",null,null,"",{"$f":"IF(H18=\"\",\"\",INDEX(referentes!AU:AV,MATCH(H18,referentes!$AV:$AV,0),1))","v":""},null,{"$f":"IF(J18=\"\",\"\",INDEX('Otras referencias'!$V:$W,MATCH(J18,'Otras referencias'!$W:$W,0),1))","v":""},null,null,null,null,null,null,null,null,null,13,null,null,null,null,null,null,null,null,null,null,null,null,null,null,null,null,null,null,null,null,null,null,null,null,null,null,0,null,null,null,0,null,null,null,null,null,null,null,null,null,null,null,null,null,null,null,null,null,null,"",{"$f":"IF(C18=\"\",\"\",IF(COUNTIF($C$6:C18, C18)>1, \"\", C18))","v":""},{"$f":"IF(K18=\"\",\"\",INDEX(referentes!P:Q,MATCH(K18,referentes!$Q:$Q,0),1))","v":""},{"$f":"IF(L18=\"\",\"\",INDEX(referentes!$A:$B,MATCH(L18,referentes!$B:$B,0),1))","v":""},{"$f":"IF(P18=\"\",\"\",INDEX(referentes!D:E,MATCH(P18,referentes!$E:$E,0),1))","v":""},{"$f":"IF(Q18=\"\",\"\",INDEX(referentes!G:H,MATCH(Q18,referentes!$H:$H,0),1))","v":""},"",{"$f":"IF(V18=\"\",\"\",INDEX(referentes!S:T,MATCH(V18,referentes!$T:$T,0),1))","v":""},{"$f":"IF(BL18=\"\",\"\",INDEX(referentes!J:K,MATCH(BL18,referentes!$K:$K,0),1))","v":""},{"$f":"IF(BD18=\"\",\"\",INDEX(referentes!V:W,MATCH(BD18,referentes!$W:$W,0),1))","v":""},{"$f":"IF(BE18=\"\",\"\",INDEX(referentes!Y:Z,MATCH(BE18,referentes!$Z:$Z,0),1))","v":""},{"$f":"IF(BF18=\"\",\"\",INDEX(referentes!AB:AC,MATCH(BF18,referentes!$AC:$AC,0),1))","v":""},{"$f":"IF(BG18=\"\",\"\",INDEX(referentes!AE:AF,MATCH(BG18,referentes!$AF:$AF,0),1))","v":""},{"$f":"IF(AY18=\"\",\"\",INDEX(referentes!M:N,MATCH(AY18,referentes!$N:$N,0),1))","v":""},{"$f":"IF(BN18=\"\",\"\",INDEX('Otras referencias'!S:T,MATCH(BN18,'Otras referencias'!$T:$T,0),1))","v":""},{"$f":"IF(BH18=\"\",\"\",INDEX('Otras referencias'!A:B,MATCH(BH18,'Otras referencias'!$B:$B,0),1))","v":""}]
[null,0,"",null,null,"",{"$f":"IF(H19=\"\",\"\",INDEX(referentes!AU:AV,MATCH(H19,referentes!$AV:$AV,0),1))","v":""},null,{"$f":"IF(J19=\"\",\"\",INDEX('Otras referencias'!$V:$W,MATCH(J19,'Otras referencias'!$W:$W,0),1))","v":""},null,null,null,null,null,null,null,null,null,14,null,null,null,null,null,null,null,null,null,null,null,null,null,null,null,null,null,null,null,null,null,null,null,null,null,null,0,null,null,null,0,null,null,null,null,null,null,null,null,null,null,null,null,null,null,null,null,null,null,"",{"$f":"IF(C19=\"\",\"\",IF(COUNTIF($C$6:C19, C19)>1, \"\", C19))","v":""},{"$f":"IF(K19=\"\",\"\",INDEX(referentes!P:Q,MATCH(K19,referentes!$Q:$Q,0),1))","v":""},{"$f":"IF(L19=\"\",\"\",INDEX(referentes!$A:$B,MATCH(L19,referentes!$B:$B,0),1))","v":""},{"$f":"IF(P19=\"\",\"\",INDEX(referentes!D:E,MATCH(P19,referentes!$E:$E,0),1))","v":""},{"$f":"IF(Q19=\"\",\"\",INDEX(referentes!G:H,MATCH(Q19,referentes!$H:$H,0),1))","v":""},"",{"$f":"IF(V19=\"\",\"\",INDEX(referentes!S:T,MATCH(V19,referentes!$T:$T,0),1))","v":""},{"$f":"IF(BL19=\"\",\"\",INDEX(referentes!J:K,MATCH(BL19,referentes!$K:$K,0),1))","v":""},{"$f":"IF(BD19=\"\",\"\",INDEX(referentes!V:W,MATCH(BD19,referentes!$W:$W,0),1))","v":""},{"$f":"IF(BE19=\"\",\"\",INDEX(referentes!Y:Z,MATCH(BE19,referentes!$Z:$Z,0),1))","v":""},{"$f":"IF(BF19=\"\",\"\",INDEX(referentes!AB:AC,MATCH(BF19,referentes!$AC:$AC,0),1))","v":""},{"$f":"IF(BG19=\"\",\"\",INDEX(referentes!AE:AF,MATCH(BG19,referentes!$AF:$AF,0),1))","v":""},{"$f":"IF(AY19=\"\",\"\",INDEX(referentes!M:N,MATCH(AY19,referentes!$N:$N,0),1))","v":""},{"$f":"IF(BN19=\"\",\"\",INDEX('Otras referencias'!S:T,MATCH(BN19,'Otras referencias'!$T:$T,0),1))","v":""},{"$f":"IF(BH19=\"\",\"\",INDEX('Otras referencias'!A:B,MATCH(BH19,'Otras referencias'!$B:$B,0),1))","v":""}]
[null,0,"",null,null,"",{"$f":"IF(H20=\"\",\"\",INDEX(referentes!AU:AV,MATCH(H20,referentes!$AV:$AV,0),1))","v":""},null,{"$f":"IF(J20=\"\",\"\",INDEX('Otras referencias'!$V:$W,MATCH(J20,'Otras referencias'!$W:$W,0),1))","v":""},null,null,null,null,null,null,null,null,null,15,null,null,null,null,null,null,null,null,null,null,null,null,null,null,null,null,null,null,null,null,null,null,null,null,null,null,0,null,null,null,0,null,null,null,null,null,null,null,null,null,null,null,null,null,null,null,null,null,null,"",{"$f":"IF(C20=\"\",\"\",IF(COUNTIF($C$6:C20, C20)>1, \"\", C20))","v":""},{"$f":"IF(K20=\"\",\"\",INDEX(referentes!P:Q,MATCH(K20,referentes!$Q:$Q,0),1))","v":""},{"$f":"IF(L20=\"\",\"\",INDEX(referentes!$A:$B,MATCH(L20,referentes!$B:$B,0),1))","v":""},{"$f":"IF(P20=\"\",\"\",INDEX(referentes!D:E,MATCH(P20,referentes!$E:$E,0),1))","v":""},{"$f":"IF(Q20=\"\",\"\",INDEX(referentes!G:H,MATCH(Q20,referentes!$H:$H,0),1))","v":""},"",{"$f":"IF(V20=\"\",\"\",INDEX(referentes!S:T,MATCH(V20,referentes!$T:$T,0),1))","v":""},{"$f":"IF(BL20=\"\",\"\",INDEX(referentes!J:K,MATCH(BL20,referentes!$K:$K,0),1))","v":""},{"$f":"IF(BD20=\"\",\"\",INDEX(referentes!V:W,MATCH(BD20,referentes!$W:$W,0),1))","v":""},{"$f":"IF(BE20=\"\",\"\",INDEX(referentes!Y:Z,MATCH(BE20,referentes!$Z:$Z,0),1))","v":""},{"$f":"IF(BF20=\"\",\"\",INDEX(referentes!AB:AC,MATCH(BF20,referentes!$AC:$AC,0),1))","v":""},{"$f":"IF(BG20=\"\",\"\",INDEX(referentes!AE:AF,MATCH(BG20,referentes!$AF:$AF,0),1))","v":""},{"$f":"IF(AY20=\"\",\"\",INDEX(referentes!M:N,MATCH(AY20,referentes!$N:$N,0),1))","v":""},{"$f":"IF(BN20=\"\",\"\",INDEX('Otras referencias'!S:T,MATCH(BN20,'Otras referencias'!$T:$T,0),1))","v":""},{"$f":"IF(BH20=\"\",\"\",INDEX('Otras referencias'!A:B,MATCH(BH20,'Otras referencias'!$B:$B,0),1))","v":""}]
[null,0,"",null,null,"",{"$f":"IF(H21=\"\",\"\",INDEX(referentes!AU:AV,MATCH(H21,referentes!$AV:$AV,0),1))","v":""},null,{"$f":"IF(J21=\"\",\"\",INDEX('Otras referencias'!$V:$W,MATCH(J21,'Otras referencias'!$W:$W,0),1))","v":""},null,null,null,null,null,null,null,null,null,16,null,null,null,null,null,null,null,null,null,null,null,null,null,null,null,null,null,null,null,null,null,null,null,null,null,null,0,null,null,null,0,null,null,null,null,null,null,null,null,null,null,null,null,null,null,null,null,null,null,"",{"$f":"IF(C21=\"\",\"\",IF(COUNTIF($C$6:C21, C21)>1, \"\", C21))","v":""},{"$f":"IF(K21=\"\",\"\",INDEX(referentes!P:Q,MATCH(K21,referentes!$Q:$Q,0),1))","v":""},{"$f":"IF(L21=\"\",\"\",INDEX(referentes!$A:$B,MATCH(L21,referentes!$B:$B,0),1))","v":""},{"$f":"IF(P21=\"\",\"\",INDEX(referentes!D:E,MATCH(P21,referentes!$E:$E,0),1))","v":""},{"$f":"IF(Q21=\"\",\"\",INDEX(referentes!G:H,MATCH(Q21,referentes!$H:$H,0),1))","v":""},"",{"$f":"IF(V21=\"\",\"\",INDEX(referentes!S:T,MATCH(V21,referentes!$T:$T,0),1))","v":""},{"$f":"IF(BL21=\"\",\"\",INDEX(referentes!J:K,MATCH(BL21,referentes!$K:$K,0),1))","v":""},{"$f":"IF(BD21=\"\",\"\",INDEX(referentes!V:W,MATCH(BD21,referentes!$W:$W,0),1))","v":""},{"$f":"IF(BE21=\"\",\"\",INDEX(referentes!Y:Z,MATCH(BE21,referentes!$Z:$Z,0),1))","v":""},{"$f":"IF(BF21=\"\",\"\",INDEX(referentes!AB:AC,MATCH(BF21,referentes!$AC:$AC,0),1))","v":""},{"$f":"IF(BG21=\"\",\"\",INDEX(referentes!AE:AF,MATCH(BG21,referentes!$AF:$AF,0),1))","v":""},{"$f":"IF(AY21=\"\",\"\",INDEX(referentes!M:N,MATCH(AY21,referentes!$N:$N,0),1))","v":""},{"$f":"IF(BN21=\"\",\"\",INDEX('Otras referencias'!S:T,MATCH(BN21,'Otras referencias'!$T:$T,0),1))","v":""},{"$f":"IF(BH21=\"\",\"\",INDEX('Otras referencias'!A:B,MATCH(BH21,'Otras referencias'!$B:$B,0),1))","v":""}]
[null,0,"",null,null,"",{"$f":"IF(H22=\"\",\"\",INDEX(referentes!AU:AV,MATCH(H22,referentes!$AV:$AV,0),1))","v":""},null,{"$f":"IF(J22=\"\",\"\",INDEX('Otras referencias'!$V:$W,MATCH(J22,'Otras referencias'!$W:$W,0),1))","v":""},null,null,null,null,null,null,null,null,null,17,null,null,null,null,null,null,null,null,null,null,null,null,null,null,null,null,null,null,null,null,null,null,null,null,null,null,0,null,null,null,0,null,null,null,null,null,null,null,null,null,null,null,null,null,null,null,null,null,null,"",{"$f":"IF(C22=\"\",\"\",IF(COUNTIF($C$6:C22, C22)>1, \"\", C22))","v":""},{"$f":"IF(K22=\"\",\"\",INDEX(referentes!P:Q,MATCH(K22,referentes!$Q:$Q,0),1))","v":""},{"$f":"IF(L22=\"\",\"\",INDEX(referentes!$A:$B,MATCH(L22,referentes!$B:$B,0),1))","v":""},{"$f":"IF(P22=\"\",\"\",INDEX(referentes!D:E,MATCH(P22,referentes!$E:$E,0),1))","v":""},{"$f":"IF(Q22=\"\",\"\",INDEX(referentes!G:H,MATCH(Q22,referentes!$H:$H,0),1))","v":""},"",{"$f":"IF(V22=\"\",\"\",INDEX(referentes!S:T,MATCH(V22,referentes!$T:$T,0),1))","v":""},{"$f":"IF(BL22=\"\",\"\",INDEX(referentes!J:K,MATCH(BL22,referentes!$K:$K,0),1))","v":""},{"$f":"IF(BD22=\"\",\"\",INDEX(referentes!V:W,MATCH(BD22,referentes!$W:$W,0),1))","v":""},{"$f":"IF(BE22=\"\",\"\",INDEX(referentes!Y:Z,MATCH(BE22,referentes!$Z:$Z,0),1))","v":""},{"$f":"IF(BF22=\"\",\"\",INDEX(referentes!AB:AC,MATCH(BF22,referentes!$AC:$AC,0),1))","v":""},{"$f":"IF(BG22=\"\",\"\",INDEX(referentes!AE:AF,MATCH(BG22,referentes!$AF:$AF,0),1))","v":""},{"$f":"IF(AY22=\"\",\"\",INDEX(referentes!M:N,MATCH(AY22,referentes!$N:$N,0),1))","v":""},{"$f":"IF(BN22=\"\",\"\",INDEX('Otras referencias'!S:T,MATCH(BN22,'Otras referencias'!$T:$T,0),1))","v":""},{"$f":"IF(BH22=\"\",\"\",INDEX('Otras referencias'!A:B,MATCH(BH22,'Otras referencias'!$B:$B,0),1))","v":""}]
[null,0,"",null,null,"",{"$f":"IF(H23=\"\",\"\",INDEX(referentes!AU:AV,MATCH(H23,referentes!$AV:$AV,0),1))","v":""},null,{"$f":"IF(J23=\"\",\"\",INDEX('Otras referencias'!$V:$W,MATCH(J23,'Otras referencias'!$W:$W,0),1))","v":""},null,null,null,null,null,null,null,null,null,18,null,null,null,null,null,null,null,null,null,null,null,null,null,null,null,null,null,null,null,null,null,null,null,null,null,null,0,null,null,null,0,null,null,null,null,null,null,null,null,null,null,null,null,null,null,null,null,null,null,"",{"$f":"IF(C23=\"\",\"\",IF(COUNTIF($C$6:C23, C23)>1, \"\", C23))","v":""},{"$f":"IF(K23=\"\",\"\",INDEX(referentes!P:Q,MATCH(K23,referentes!$Q:$Q,0),1))","v":""},{"$f":"IF(L23=\"\",\"\",INDEX(referentes!$A:$B,MATCH(L23,referentes!$B:$B,0),1))","v":""},{"$f":"IF(P23=\"\",\"\",INDEX(referentes!D:E,MATCH(P23,referentes!$E:$E,0),1))","v":""},{"$f":"IF(Q23=\"\",\"\",INDEX(referentes!G:H,MATCH(Q23,referentes!$H:$H,0),1))","v":""},"",{"$f":"IF(V23=\"\",\"\",INDEX(referentes!S:T,MATCH(V23,referentes!$T:$T,0),1))","v":""},{"$f":"IF(BL23=\"\",\"\",INDEX(referentes!J:K,MATCH(BL23,referentes!$K:$K,0),1))","v":""},{"$f":"IF(BD23=\"\",\"\",INDEX(referentes!V:W,MATCH(BD23,referentes!$W:$W,0),1))","v":""},{"$f":"IF(BE23=\"\",\"\",INDEX(referentes!Y:Z,MATCH(BE23,referentes!$Z:$Z,0),1))","v":""},{"$f":"IF(BF23=\"\",\"\",INDEX(referentes!AB:AC,MATCH(BF23,referentes!$AC:$AC,0),1))","v":""},{"$f":"IF(BG23=\"\",\"\",INDEX(referentes!AE:AF,MATCH(BG23,referentes!$AF:$AF,0),1))","v":""},{"$f":"IF(AY23=\"\",\"\",INDEX(referentes!M:N,MATCH(AY23,referentes!$N:$N,0),1))","v":""},{"$f":"IF(BN23=\"\",\"\",INDEX('Otras referencias'!S:T,MATCH(BN23,'Otras referencias'!$T:$T,0),1))","v":""},{"$f":"IF(BH23=\"\",\"\",INDEX('Otras referencias'!A:B,MATCH(BH23,'Otras referencias'!$B:$B,0),1))","v":""}]
[null,0,"",null,null,"",{"$f":"IF(H24=\"\",\"\",INDEX(referentes!AU:AV,MATCH(H24,referentes!$AV:$AV,0),1))","v":""},null,{"$f":"IF(J24=\"\",\"\",INDEX('Otras referencias'!$V:$W,MATCH(J24,'Otras referencias'!$W:$W,0),1))","v":""},null,null,null,null,null,null,null,null,null,19,null,null,null,null,null,null,null,null,null,null,null,null,null,null,null,null,null,null,null,null,null,null,null,null,null,null,0,null,null,null,0,null,null,null,null,null,null,null,null,null,null,null,null,null,null,null,null,null,null,"",{"$f":"IF(C24=\"\",\"\",IF(COUNTIF($C$6:C24, C24)>1, \"\", C24))","v":""},{"$f":"IF(K24=\"\",\"\",INDEX(referentes!P:Q,MATCH(K24,referentes!$Q:$Q,0),1))","v":""},{"$f":"IF(L24=\"\",\"\",INDEX(referentes!$A:$B,MATCH(L24,referentes!$B:$B,0),1))","v":""},{"$f":"IF(P24=\"\",\"\",INDEX(referentes!D:E,MATCH(P24,referentes!$E:$E,0),1))","v":""},{"$f":"IF(Q24=\"\",\"\",INDEX(referentes!G:H,MATCH(Q24,referentes!$H:$H,0),1))","v":""},"",{"$f":"IF(V24=\"\",\"\",INDEX(referentes!S:T,MATCH(V24,referentes!$T:$T,0),1))","v":""},{"$f":"IF(BL24=\"\",\"\",INDEX(referentes!J:K,MATCH(BL24,referentes!$K:$K,0),1))","v":""},{"$f":"IF(BD24=\"\",\"\",INDEX(referentes!V:W,MATCH(BD24,referentes!$W:$W,0),1))","v":""},{"$f":"IF(BE24=\"\",\"\",INDEX(referentes!Y:Z,MATCH(BE24,referentes!$Z:$Z,0),1))","v":""},{"$f":"IF(BF24=\"\",\"\",INDEX(referentes!AB:AC,MATCH(BF24,referentes!$AC:$AC,0),1))","v":""},{"$f":"IF(BG24=\"\",\"\",INDEX(referentes!AE:AF,MATCH(BG24,referentes!$AF:$AF,0),1))","v":""},{"$f":"IF(AY24=\"\",\"\",INDEX(referentes!M:N,MATCH(AY24,referentes!$N:$N,0),1))","v":""},{"$f":"IF(BN24=\"\",\"\",INDEX('Otras referencias'!S:T,MATCH(BN24,'Otras referencias'!$T:$T,0),1))","v":""},{"$f":"IF(BH24=\"\",\"\",INDEX('Otras referencias'!A:B,MATCH(BH24,'Otras referencias'!$B:$B,0),1))","v":""}]
[null,0,"",null,null,"",{"$f":"IF(H25=\"\",\"\",INDEX(referentes!AU:AV,MATCH(H25,referentes!$AV:$AV,0),1))","v":""},null,{"$f":"IF(J25=\"\",\"\",INDEX('Otras referencias'!$V:$W,MATCH(J25,'Otras referencias'!$W:$W,0),1))","v":""},null,null,null,null,null,null,null,null,null,20,null,null,null,null,null,null,null,null,null,null,null,null,null,null,null,null,null,null,null,null,null,null,null,null,null,null,0,null,null,null,0,null,null,null,null,null,null,null,null,null,null,null,null,null,null,null,null,null,null,"",{"$f":"IF(C25=\"\",\"\",IF(COUNTIF($C$6:C25, C25)>1, \"\", C25))","v":""},{"$f":"IF(K25=\"\",\"\",INDEX(referentes!P:Q,MATCH(K25,referentes!$Q:$Q,0),1))","v":""},{"$f":"IF(L25=\"\",\"\",INDEX(referentes!$A:$B,MATCH(L25,referentes!$B:$B,0),1))","v":""},{"$f":"IF(P25=\"\",\"\",INDEX(referentes!D:E,MATCH(P25,referentes!$E:$E,0),1))","v":""},{"$f":"IF(Q25=\"\",\"\",INDEX(referentes!G:H,MATCH(Q25,referentes!$H:$H,0),1))","v":""},"",{"$f":"IF(V25=\"\",\"\",INDEX(referentes!S:T,MATCH(V25,referentes!$T:$T,0),1))","v":""},{"$f":"IF(BL25=\"\",\"\",INDEX(referentes!J:K,MATCH(BL25,referentes!$K:$K,0),1))","v":""},{"$f":"IF(BD25=\"\",\"\",INDEX(referentes!V:W,MATCH(BD25,referentes!$W:$W,0),1))","v":""},{"$f":"IF(BE25=\"\",\"\",INDEX(referentes!Y:Z,MATCH(BE25,referentes!$Z:$Z,0),1))","v":""},{"$f":"IF(BF25=\"\",\"\",INDEX(referentes!AB:AC,MATCH(BF25,referentes!$AC:$AC,0),1))","v":""},{"$f":"IF(BG25=\"\",\"\",INDEX(referentes!AE:AF,MATCH(BG25,referentes!$AF:$AF,0),1))","v":""},{"$f":"IF(AY25=\"\",\"\",INDEX(referentes!M:N,MATCH(AY25,referentes!$N:$N,0),1))","v":""},{"$f":"IF(BN25=\"\",\"\",INDEX('Otras referencias'!S:T,MATCH(BN25,'Otras referencias'!$T:$T,0),1))","v":""},{"$f":"IF(BH25=\"\",\"\",INDEX('Otras referencias'!A:B,MATCH(BH25,'Otras referencias'!$B:$B,0),1))","v":""}]
[null,0,"",null,null,"",{"$f":"IF(H26=\"\",\"\",INDEX(referentes!AU:AV,MATCH(H26,referentes!$AV:$AV,0),1))","v":""},null,{"$f":"IF(J26=\"\",\"\",INDEX('Otras referencias'!$V:$W,MATCH(J26,'Otras referencias'!$W:$W,0),1))","v":""},null,null,null,null,null,null,null,null,null,21,null,null,null,null,null,null,null,null,null,null,null,null,null,null,null,null,null,null,null,null,null,null,null,null,null,null,0,null,null,null,0,null,null,null,null,null,null,null,null,null,null,null,null,null,null,null,null,null,null,"",{"$f":"IF(C26=\"\",\"\",IF(COUNTIF($C$6:C26, C26)>1, \"\", C26))","v":""},{"$f":"IF(K26=\"\",\"\",INDEX(referentes!P:Q,MATCH(K26,referentes!$Q:$Q,0),1))","v":""},{"$f":"IF(L26=\"\",\"\",INDEX(referentes!$A:$B,MATCH(L26,referentes!$B:$B,0),1))","v":""},{"$f":"IF(P26=\"\",\"\",INDEX(referentes!D:E,MATCH(P26,referentes!$E:$E,0),1))","v":""},{"$f":"IF(Q26=\"\",\"\",INDEX(referentes!G:H,MATCH(Q26,referentes!$H:$H,0),1))","v":""},"",{"$f":"IF(V26=\"\",\"\",INDEX(referentes!S:T,MATCH(V26,referentes!$T:$T,0),1))","v":""},{"$f":"IF(BL26=\"\",\"\",INDEX(referentes!J:K,MATCH(BL26,referentes!$K:$K,0),1))","v":""},{"$f":"IF(BD26=\"\",\"\",INDEX(referentes!V:W,MATCH(BD26,referentes!$W:$W,0),1))","v":""},{"$f":"IF(BE26=\"\",\"\",INDEX(referentes!Y:Z,MATCH(BE26,referentes!$Z:$Z,0),1))","v":""},{"$f":"IF(BF26=\"\",\"\",INDEX(referentes!AB:AC,MATCH(BF26,referentes!$AC:$AC,0),1))","v":""},{"$f":"IF(BG26=\"\",\"\",INDEX(referentes!AE:AF,MATCH(BG26,referentes!$AF:$AF,0),1))","v":""},{"$f":"IF(AY26=\"\",\"\",INDEX(referentes!M:N,MATCH(AY26,referentes!$N:$N,0),1))","v":""},{"$f":"IF(BN26=\"\",\"\",INDEX('Otras referencias'!S:T,MATCH(BN26,'Otras referencias'!$T:$T,0),1))","v":""},{"$f":"IF(BH26=\"\",\"\",INDEX('Otras referencias'!A:B,MATCH(BH26,'Otras referencias'!$B:$B,0),1))","v":""}]
[null,0,"",null,null,"",{"$f":"IF(H27=\"\",\"\",INDEX(referentes!AU:AV,MATCH(H27,referentes!$AV:$AV,0),1))","v":""},null,{"$f":"IF(J27=\"\",\"\",INDEX('Otras referencias'!$V:$W,MATCH(J27,'Otras referencias'!$W:$W,0),1))","v":""},null,null,null,null,null,null,null,null,null,22,null,null,null,null,null,null,null,null,null,null,null,null,null,null,null,null,null,null,null,null,null,null,null,null,null,null,0,null,null,null,0,null,null,null,null,null,null,null,null,null,null,null,null,null,null,null,null,null,null,"",{"$f":"IF(C27=\"\",\"\",IF(COUNTIF($C$6:C27, C27)>1, \"\", C27))","v":""},{"$f":"IF(K27=\"\",\"\",INDEX(referentes!P:Q,MATCH(K27,referentes!$Q:$Q,0),1))","v":""},{"$f":"IF(L27=\"\",\"\",INDEX(referentes!$A:$B,MATCH(L27,referentes!$B:$B,0),1))","v":""},{"$f":"IF(P27=\"\",\"\",INDEX(referentes!D:E,MATCH(P27,referentes!$E:$E,0),1))","v":""},{"$f":"IF(Q27=\"\",\"\",INDEX(referentes!G:H,MATCH(Q27,referentes!$H:$H,0),1))","v":""},"",{"$f":"IF(V27=\"\",\"\",INDEX(referentes!S:T,MATCH(V27,referentes!$T:$T,0),1))","v":""},{"$f":"IF(BL27=\"\",\"\",INDEX(referentes!J:K,MATCH(BL27,referentes!$K:$K,0),1))","v":""},{"$f":"IF(BD27=\"\",\"\",INDEX(referentes!V:W,MATCH(BD27,referentes!$W:$W,0),1))","v":""},{"$f":"IF(BE27=\"\",\"\",INDEX(referentes!Y:Z,MATCH(BE27,referentes!$Z:$Z,0),1))","v":""},{"$f":"IF(BF27=\"\",\"\",INDEX(referentes!AB:AC,MATCH(BF27,referentes!$AC:$AC,0),1))","v":""},{"$f":"IF(BG27=\"\",\"\",INDEX(referentes!AE:AF,MATCH(BG27,referentes!$AF:$AF,0),1))","v":""},{"$f":"IF(AY27=\"\",\"\",INDEX(referentes!M:N,MATCH(AY27,referentes!$N:$N,0),1))","v":""},{"$f":"IF(BN27=\"\",\"\",INDEX('Otras referencias'!S:T,MATCH(BN27,'Otras referencias'!$T:$T,0),1))","v":""},{"$f":"IF(BH27=\"\",\"\",INDEX('Otras referencias'!A:B,MATCH(BH27,'Otras referencias'!$B:$B,0),1))","v":""}]
[null,0,"",null,null,"",{"$f":"IF(H28=\"\",\"\",INDEX(referentes!AU:AV,MATCH(H28,referentes!$AV:$AV,0),1))","v":""},null,{"$f":"IF(J28=\"\",\"\",INDEX('Otras referencias'!$V:$W,MATCH(J28,'Otras referencias'!$W:$W,0),1))","v":""},null,null,null,null,null,null,null,null,null,23,null,null,null,null,null,null,null,null,null,null,null,null,null,null,null,null,null,null,null,null,null,null,null,null,null,null,0,null,null,null,0,null,null,null,null,null,null,null,null,null,null,null,null,null,null,null,null,null,null,"",{"$f":"IF(C28=\"\",\"\",IF(COUNTIF($C$6:C28, C28)>1, \"\", C28))","v":""},{"$f":"IF(K28=\"\",\"\",INDEX(referentes!P:Q,MATCH(K28,referentes!$Q:$Q,0),1))","v":""},{"$f":"IF(L28=\"\",\"\",INDEX(referentes!$A:$B,MATCH(L28,referentes!$B:$B,0),1))","v":""},{"$f":"IF(P28=\"\",\"\",INDEX(referentes!D:E,MATCH(P28,referentes!$E:$E,0),1))","v":""},{"$f":"IF(Q28=\"\",\"\",INDEX(referentes!G:H,MATCH(Q28,referentes!$H:$H,0),1))","v":""},"",{"$f":"IF(V28=\"\",\"\",INDEX(referentes!S:T,MATCH(V28,referentes!$T:$T,0),1))","v":""},{"$f":"IF(BL28=\"\",\"\",INDEX(referentes!J:K,MATCH(BL28,referentes!$K:$K,0),1))","v":""},{"$f":"IF(BD28=\"\",\"\",INDEX(referentes!V:W,MATCH(BD28,referentes!$W:$W,0),1))","v":""},{"$f":"IF(BE28=\"\",\"\",INDEX(referentes!Y:Z,MATCH(BE28,referentes!$Z:$Z,0),1))","v":""},{"$f":"IF(BF28=\"\",\"\",INDEX(referentes!AB:AC,MATCH(BF28,referentes!$AC:$AC,0),1))","v":""},{"$f":"IF(BG28=\"\",\"\",INDEX(referentes!AE:AF,MATCH(BG28,referentes!$AF:$AF,0),1))","v":""},{"$f":"IF(AY28=\"\",\"\",INDEX(referentes!M:N,MATCH(AY28,referentes!$N:$N,0),1))","v":""},{"$f":"IF(BN28=\"\",\"\",INDEX('Otras referencias'!S:T,MATCH(BN28,'Otras referencias'!$T:$T,0),1))","v":""},{"$f":"IF(BH28=\"\",\"\",INDEX('Otras referencias'!A:B,MATCH(BH28,'Otras referencias'!$B:$B,0),1))","v":""}]
[null,0,"",null,null,"",{"$f":"IF(H29=\"\",\"\",INDEX(referentes!AU:AV,MATCH(H29,referentes!$AV:$AV,0),1))","v":""},null,{"$f":"IF(J29=\"\",\"\",INDEX('Otras referencias'!$V:$W,MATCH(J29,'Otras referencias'!$W:$W,0),1))","v":""},null,null,null,null,null,null,null,null,null,24,null,null,null,null,null,null,null,null,null,null,null,null,null,null,null,null,null,null,null,null,null,null,null,null,null,null,0,null,null,null,0,null,null,null,null,null,null,null,null,null,null,null,null,null,null,null,null,null,null,"",{"$f":"IF(C29=\"\",\"\",IF(COUNTIF($C$6:C29, C29)>1, \"\", C29))","v":""},{"$f":"IF(K29=\"\",\"\",INDEX(referentes!P:Q,MATCH(K29,referentes!$Q:$Q,0),1))","v":""},{"$f":"IF(L29=\"\",\"\",INDEX(referentes!$A:$B,MATCH(L29,referentes!$B:$B,0),1))","v":""},{"$f":"IF(P29=\"\",\"\",INDEX(referentes!D:E,MATCH(P29,referentes!$E:$E,0),1))","v":""},{"$f":"IF(Q29=\"\",\"\",INDEX(referentes!G:H,MATCH(Q29,referentes!$H:$H,0),1))","v":""},"",{"$f":"IF(V29=\"\",\"\",INDEX(referentes!S:T,MATCH(V29,referentes!$T:$T,0),1))","v":""},{"$f":"IF(BL29=\"\",\"\",INDEX(referentes!J:K,MATCH(BL29,referentes!$K:$K,0),1))","v":""},{"$f":"IF(BD29=\"\",\"\",INDEX(referentes!V:W,MATCH(BD29,referentes!$W:$W,0),1))","v":""},{"$f":"IF(BE29=\"\",\"\",INDEX(referentes!Y:Z,MATCH(BE29,referentes!$Z:$Z,0),1))","v":""},{"$f":"IF(BF29=\"\",\"\",INDEX(referentes!AB:AC,MATCH(BF29,referentes!$AC:$AC,0),1))","v":""},{"$f":"IF(BG29=\"\",\"\",INDEX(referentes!AE:AF,MATCH(BG29,referentes!$AF:$AF,0),1))","v":""},{"$f":"IF(AY29=\"\",\"\",INDEX(referentes!M:N,MATCH(AY29,referentes!$N:$N,0),1))","v":""},{"$f":"IF(BN29=\"\",\"\",INDEX('Otras referencias'!S:T,MATCH(BN29,'Otras referencias'!$T:$T,0),1))","v":""},{"$f":"IF(BH29=\"\",\"\",INDEX('Otras referencias'!A:B,MATCH(BH29,'Otras referencias'!$B:$B,0),1))","v":""}]
[null,0,"",null,null,"",{"$f":"IF(H30=\"\",\"\",INDEX(referentes!AU:AV,MATCH(H30,referentes!$AV:$AV,0),1))","v":""},null,{"$f":"IF(J30=\"\",\"\",INDEX('Otras referencias'!$V:$W,MATCH(J30,'Otras referencias'!$W:$W,0),1))","v":""},null,null,null,null,null,null,null,null,null,25,null,null,null,null,null,null,null,null,null,null,null,null,null,null,null,null,null,null,null,null,null,null,null,null,null,null,0,null,null,null,0,null,null,null,null,null,null,null,null,null,null,null,null,null,null,null,null,null,null,"",{"$f":"IF(C30=\"\",\"\",IF(COUNTIF($C$6:C30, C30)>1, \"\", C30))","v":""},{"$f":"IF(K30=\"\",\"\",INDEX(referentes!P:Q,MATCH(K30,referentes!$Q:$Q,0),1))","v":""},{"$f":"IF(L30=\"\",\"\",INDEX(referentes!$A:$B,MATCH(L30,referentes!$B:$B,0),1))","v":""},{"$f":"IF(P30=\"\",\"\",INDEX(referentes!D:E,MATCH(P30,referentes!$E:$E,0),1))","v":""},{"$f":"IF(Q30=\"\",\"\",INDEX(referentes!G:H,MATCH(Q30,referentes!$H:$H,0),1))","v":""},"",{"$f":"IF(V30=\"\",\"\",INDEX(referentes!S:T,MATCH(V30,referentes!$T:$T,0),1))","v":""},{"$f":"IF(BL30=\"\",\"\",INDEX(referentes!J:K,MATCH(BL30,referentes!$K:$K,0),1))","v":""},{"$f":"IF(BD30=\"\",\"\",INDEX(referentes!V:W,MATCH(BD30,referentes!$W:$W,0),1))","v":""},{"$f":"IF(BE30=\"\",\"\",INDEX(referentes!Y:Z,MATCH(BE30,referentes!$Z:$Z,0),1))","v":""},{"$f":"IF(BF30=\"\",\"\",INDEX(referentes!AB:AC,MATCH(BF30,referentes!$AC:$AC,0),1))","v":""},{"$f":"IF(BG30=\"\",\"\",INDEX(referentes!AE:AF,MATCH(BG30,referentes!$AF:$AF,0),1))","v":""},{"$f":"IF(AY30=\"\",\"\",INDEX(referentes!M:N,MATCH(AY30,referentes!$N:$N,0),1))","v":""},{"$f":"IF(BN30=\"\",\"\",INDEX('Otras referencias'!S:T,MATCH(BN30,'Otras referencias'!$T:$T,0),1))","v":""},{"$f":"IF(BH30=\"\",\"\",INDEX('Otras referencias'!A:B,MATCH(BH30,'Otras referencias'!$B:$B,0),1))","v":""}]
[null,0,"",null,null,"",{"$f":"IF(H31=\"\",\"\",INDEX(referentes!AU:AV,MATCH(H31,referentes!$AV:$AV,0),1))","v":""},null,{"$f":"IF(J31=\"\",\"\",INDEX('Otras referencias'!$V:$W,MATCH(J31,'Otras referencias'!$W:$W,0),1))","v":""},null,null,null,null,null,null,null,null,null,26,null,null,null,null,null,null,null,null,null,null,null,null,null,null,null,null,null,null,null,null,null,null,null,null,null,null,0,null,null,null,0,null,null,null,null,null,null,null,null,null,null,null,null,null,null,null,null,null,null,"",{"$f":"IF(C31=\"\",\"\",IF(COUNTIF($C$6:C31, C31)>1, \"\", C31))","v":""},{"$f":"IF(K31=\"\",\"\",INDEX(referentes!P:Q,MATCH(K31,referentes!$Q:$Q,0),1))","v":""},{"$f":"IF(L31=\"\",\"\",INDEX(referentes!$A:$B,MATCH(L31,referentes!$B:$B,0),1))","v":""},{"$f":"IF(P31=\"\",\"\",INDEX(referentes!D:E,MATCH(P31,referentes!$E:$E,0),1))","v":""},{"$f":"IF(Q31=\"\",\"\",INDEX(referentes!G:H,MATCH(Q31,referentes!$H:$H,0),1))","v":""},"",{"$f":"IF(V31=\"\",\"\",INDEX(referentes!S:T,MATCH(V31,referentes!$T:$T,0),1))","v":""},{"$f":"IF(BL31=\"\",\"\",INDEX(referentes!J:K,MATCH(BL31,referentes!$K:$K,0),1))","v":""},{"$f":"IF(BD31=\"\",\"\",INDEX(referentes!V:W,MATCH(BD31,referentes!$W:$W,0),1))","v":""},{"$f":"IF(BE31=\"\",\"\",INDEX(referentes!Y:Z,MATCH(BE31,referentes!$Z:$Z,0),1))","v":""},{"$f":"IF(BF31=\"\",\"\",INDEX(referentes!AB:AC,MATCH(BF31,referentes!$AC:$AC,0),1))","v":""},{"$f":"IF(BG31=\"\",\"\",INDEX(referentes!AE:AF,MATCH(BG31,referentes!$AF:$AF,0),1))","v":""},{"$f":"IF(AY31=\"\",\"\",INDEX(referentes!M:N,MATCH(AY31,referentes!$N:$N,0),1))","v":""},{"$f":"IF(BN31=\"\",\"\",INDEX('Otras referencias'!S:T,MATCH(BN31,'Otras referencias'!$T:$T,0),1))","v":""},{"$f":"IF(BH31=\"\",\"\",INDEX('Otras referencias'!A:B,MATCH(BH31,'Otras referencias'!$B:$B,0),1))","v":""}]
[null,0,"",null,null,"",{"$f":"IF(H32=\"\",\"\",INDEX(referentes!AU:AV,MATCH(H32,referentes!$AV:$AV,0),1))","v":""},null,{"$f":"IF(J32=\"\",\"\",INDEX('Otras referencias'!$V:$W,MATCH(J32,'Otras referencias'!$W:$W,0),1))","v":""},null,null,null,null,null,null,null,null,null,27,null,null,null,null,null,null,null,null,null,null,null,null,null,null,null,null,null,null,null,null,null,null,null,null,null,null,0,null,null,null,0,null,null,null,null,null,null,null,null,null,null,null,null,null,null,null,null,null,null,"",{"$f":"IF(C32=\"\",\"\",IF(COUNTIF($C$6:C32, C32)>1, \"\", C32))","v":""},{"$f":"IF(K32=\"\",\"\",INDEX(referentes!P:Q,MATCH(K32,referentes!$Q:$Q,0),1))","v":""},{"$f":"IF(L32=\"\",\"\",INDEX(referentes!$A:$B,MATCH(L32,referentes!$B:$B,0),1))","v":""},{"$f":"IF(P32=\"\",\"\",INDEX(referentes!D:E,MATCH(P32,referentes!$E:$E,0),1))","v":""},{"$f":"IF(Q32=\"\",\"\",INDEX(referentes!G:H,MATCH(Q32,referentes!$H:$H,0),1))","v":""},"",{"$f":"IF(V32=\"\",\"\",INDEX(referentes!S:T,MATCH(V32,referentes!$T:$T,0),1))","v":""},{"$f":"IF(BL32=\"\",\"\",INDEX(referentes!J:K,MATCH(BL32,referentes!$K:$K,0),1))","v":""},{"$f":"IF(BD32=\"\",\"\",INDEX(referentes!V:W,MATCH(BD32,referentes!$W:$W,0),1))","v":""},{"$f":"IF(BE32=\"\",\"\",INDEX(referentes!Y:Z,MATCH(BE32,referentes!$Z:$Z,0),1))","v":""},{"$f":"IF(BF32=\"\",\"\",INDEX(referentes!AB:AC,MATCH(BF32,referentes!$AC:$AC,0),1))","v":""},{"$f":"IF(BG32=\"\",\"\",INDEX(referentes!AE:AF,MATCH(BG32,referentes!$AF:$AF,0),1))","v":""},{"$f":"IF(AY32=\"\",\"\",INDEX(referentes!M:N,MATCH(AY32,referentes!$N:$N,0),1))","v":""},{"$f":"IF(BN32=\"\",\"\",INDEX('Otras referencias'!S:T,MATCH(BN32,'Otras referencias'!$T:$T,0),1))","v":""},{"$f":"IF(BH32=\"\",\"\",INDEX('Otras referencias'!A:B,MATCH(BH32,'Otras referencias'!$B:$B,0),1))","v":""}]
[null,0,"",null,null,"",{"$f":"IF(H33=\"\",\"\",INDEX(referentes!AU:AV,MATCH(H33,referentes!$AV:$AV,0),1))","v":""},null,{"$f":"IF(J33=\"\",\"\",INDEX('Otras referencias'!$V:$W,MATCH(J33,'Otras referencias'!$W:$W,0),1))","v":""},null,null,null,null,null,null,null,null,null,28,null,null,null,null,null,null,null,null,null,null,null,null,null,null,null,null,null,null,null,null,null,null,null,null,null,null,0,null,null,null,0,null,null,null,null,null,null,null,null,null,null,null,null,null,null,null,null,null,null,"",{"$f":"IF(C33=\"\",\"\",IF(COUNTIF($C$6:C33, C33)>1, \"\", C33))","v":""},{"$f":"IF(K33=\"\",\"\",INDEX(referentes!P:Q,MATCH(K33,referentes!$Q:$Q,0),1))","v":""},{"$f":"IF(L33=\"\",\"\",INDEX(referentes!$A:$B,MATCH(L33,referentes!$B:$B,0),1))","v":""},{"$f":"IF(P33=\"\",\"\",INDEX(referentes!D:E,MATCH(P33,referentes!$E:$E,0),1))","v":""},{"$f":"IF(Q33=\"\",\"\",INDEX(referentes!G:H,MATCH(Q33,referentes!$H:$H,0),1))","v":""},"",{"$f":"IF(V33=\"\",\"\",INDEX(referentes!S:T,MATCH(V33,referentes!$T:$T,0),1))","v":""},{"$f":"IF(BL33=\"\",\"\",INDEX(referentes!J:K,MATCH(BL33,referentes!$K:$K,0),1))","v":""},{"$f":"IF(BD33=\"\",\"\",INDEX(referentes!V:W,MATCH(BD33,referentes!$W:$W,0),1))","v":""},{"$f":"IF(BE33=\"\",\"\",INDEX(referentes!Y:Z,MATCH(BE33,referentes!$Z:$Z,0),1))","v":""},{"$f":"IF(BF33=\"\",\"\",INDEX(referentes!AB:AC,MATCH(BF33,referentes!$AC:$AC,0),1))","v":""},{"$f":"IF(BG33=\"\",\"\",INDEX(referentes!AE:AF,MATCH(BG33,referentes!$AF:$AF,0),1))","v":""},{"$f":"IF(AY33=\"\",\"\",INDEX(referentes!M:N,MATCH(AY33,referentes!$N:$N,0),1))","v":""},{"$f":"IF(BN33=\"\",\"\",INDEX('Otras referencias'!S:T,MATCH(BN33,'Otras referencias'!$T:$T,0),1))","v":""},{"$f":"IF(BH33=\"\",\"\",INDEX('Otras referencias'!A:B,MATCH(BH33,'Otras referencias'!$B:$B,0),1))","v":""}]
[null,0,"",null,null,"",{"$f":"IF(H34=\"\",\"\",INDEX(referentes!AU:AV,MATCH(H34,referentes!$AV:$AV,0),1))","v":""},null,{"$f":"IF(J34=\"\",\"\",INDEX('Otras referencias'!$V:$W,MATCH(J34,'Otras referencias'!$W:$W,0),1))","v":""},null,null,null,null,null,null,null,null,null,29,null,null,null,null,null,null,null,null,null,null,null,null,null,null,null,null,null,null,null,null,null,null,null,null,null,null,0,null,null,null,0,null,null,null,null,null,null,null,null,null,null,null,null,null,null,null,null,null,null,"",{"$f":"IF(C34=\"\",\"\",IF(COUNTIF($C$6:C34, C34)>1, \"\", C34))","v":""},{"$f":"IF(K34=\"\",\"\",INDEX(referentes!P:Q,MATCH(K34,referentes!$Q:$Q,0),1))","v":""},{"$f":"IF(L34=\"\",\"\",INDEX(referentes!$A:$B,MATCH(L34,referentes!$B:$B,0),1))","v":""},{"$f":"IF(P34=\"\",\"\",INDEX(referentes!D:E,MATCH(P34,referentes!$E:$E,0),1))","v":""},{"$f":"IF(Q34=\"\",\"\",INDEX(referentes!G:H,MATCH(Q34,referentes!$H:$H,0),1))","v":""},"",{"$f":"IF(V34=\"\",\"\",INDEX(referentes!S:T,MATCH(V34,referentes!$T:$T,0),1))","v":""},{"$f":"IF(BL34=\"\",\"\",INDEX(referentes!J:K,MATCH(BL34,referentes!$K:$K,0),1))","v":""},{"$f":"IF(BD34=\"\",\"\",INDEX(referentes!V:W,MATCH(BD34,referentes!$W:$W,0),1))","v":""},{"$f":"IF(BE34=\"\",\"\",INDEX(referentes!Y:Z,MATCH(BE34,referentes!$Z:$Z,0),1))","v":""},{"$f":"IF(BF34=\"\",\"\",INDEX(referentes!AB:AC,MATCH(BF34,referentes!$AC:$AC,0),1))","v":""},{"$f":"IF(BG34=\"\",\"\",INDEX(referentes!AE:AF,MATCH(BG34,referentes!$AF:$AF,0),1))","v":""},{"$f":"IF(AY34=\"\",\"\",INDEX(referentes!M:N,MATCH(AY34,referentes!$N:$N,0),1))","v":""},{"$f":"IF(BN34=\"\",\"\",INDEX('Otras referencias'!S:T,MATCH(BN34,'Otras referencias'!$T:$T,0),1))","v":""},{"$f":"IF(BH34=\"\",\"\",INDEX('Otras referencias'!A:B,MATCH(BH34,'Otras referencias'!$B:$B,0),1))","v":""}]
[null,0,"",null,null,"",{"$f":"IF(H35=\"\",\"\",INDEX(referentes!AU:AV,MATCH(H35,referentes!$AV:$AV,0),1))","v":""},null,{"$f":"IF(J35=\"\",\"\",INDEX('Otras referencias'!$V:$W,MATCH(J35,'Otras referencias'!$W:$W,0),1))","v":""},null,null,null,null,null,null,null,null,null,30,null,null,null,null,null,null,null,null,null,null,null,null,null,null,null,null,null,null,null,null,null,null,null,null,null,null,0,null,null,null,0,null,null,null,null,null,null,null,null,null,null,null,null,null,null,null,null,null,null,"",{"$f":"IF(C35=\"\",\"\",IF(COUNTIF($C$6:C35, C35)>1, \"\", C35))","v":""},{"$f":"IF(K35=\"\",\"\",INDEX(referentes!P:Q,MATCH(K35,referentes!$Q:$Q,0),1))","v":""},{"$f":"IF(L35=\"\",\"\",INDEX(referentes!$A:$B,MATCH(L35,referentes!$B:$B,0),1))","v":""},{"$f":"IF(P35=\"\",\"\",INDEX(referentes!D:E,MATCH(P35,referentes!$E:$E,0),1))","v":""},{"$f":"IF(Q35=\"\",\"\",INDEX(referentes!G:H,MATCH(Q35,referentes!$H:$H,0),1))","v":""},"",{"$f":"IF(V35=\"\",\"\",INDEX(referentes!S:T,MATCH(V35,referentes!$T:$T,0),1))","v":""},{"$f":"IF(BL35=\"\",\"\",INDEX(referentes!J:K,MATCH(BL35,referentes!$K:$K,0),1))","v":""},{"$f":"IF(BD35=\"\",\"\",INDEX(referentes!V:W,MATCH(BD35,referentes!$W:$W,0),1))","v":""},{"$f":"IF(BE35=\"\",\"\",INDEX(referentes!Y:Z,MATCH(BE35,referentes!$Z:$Z,0),1))","v":""},{"$f":"IF(BF35=\"\",\"\",INDEX(referentes!AB:AC,MATCH(BF35,referentes!$AC:$AC,0),1))","v":""},{"$f":"IF(BG35=\"\",\"\",INDEX(referentes!AE:AF,MATCH(BG35,referentes!$AF:$AF,0),1))","v":""},{"$f":"IF(AY35=\"\",\"\",INDEX(referentes!M:N,MATCH(AY35,referentes!$N:$N,0),1))","v":""},{"$f":"IF(BN35=\"\",\"\",INDEX('Otras referencias'!S:T,MATCH(BN35,'Otras referencias'!$T:$T,0),1))","v":""},{"$f":"IF(BH35=\"\",\"\",INDEX('Otras referencias'!A:B,MATCH(BH35,'Otras referencias'!$B:$B,0),1))","v":""}]
[null,0,"",null,null,"",{"$f":"IF(H36=\"\",\"\",INDEX(referentes!AU:AV,MATCH(H36,referentes!$AV:$AV,0),1))","v":""},null,{"$f":"IF(J36=\"\",\"\",INDEX('Otras referencias'!$V:$W,MATCH(J36,'Otras referencias'!$W:$W,0),1))","v":""},null,null,null,null,null,null,null,null,null,31,null,null,null,null,null,null,null,null,null,null,null,null,null,null,null,null,null,null,null,null,null,null,null,null,null,null,0,null,null,null,0,null,null,null,null,null,null,null,null,null,null,null,null,null,null,null,null,null,null,"",{"$f":"IF(C36=\"\",\"\",IF(COUNTIF($C$6:C36, C36)>1, \"\", C36))","v":""},{"$f":"IF(K36=\"\",\"\",INDEX(referentes!P:Q,MATCH(K36,referentes!$Q:$Q,0),1))","v":""},{"$f":"IF(L36=\"\",\"\",INDEX(referentes!$A:$B,MATCH(L36,referentes!$B:$B,0),1))","v":""},{"$f":"IF(P36=\"\",\"\",INDEX(referentes!D:E,MATCH(P36,referentes!$E:$E,0),1))","v":""},{"$f":"IF(Q36=\"\",\"\",INDEX(referentes!G:H,MATCH(Q36,referentes!$H:$H,0),1))","v":""},"",{"$f":"IF(V36=\"\",\"\",INDEX(referentes!S:T,MATCH(V36,referentes!$T:$T,0),1))","v":""},{"$f":"IF(BL36=\"\",\"\",INDEX(referentes!J:K,MATCH(BL36,referentes!$K:$K,0),1))","v":""},{"$f":"IF(BD36=\"\",\"\",INDEX(referentes!V:W,MATCH(BD36,referentes!$W:$W,0),1))","v":""},{"$f":"IF(BE36=\"\",\"\",INDEX(referentes!Y:Z,MATCH(BE36,referentes!$Z:$Z,0),1))","v":""},{"$f":"IF(BF36=\"\",\"\",INDEX(referentes!AB:AC,MATCH(BF36,referentes!$AC:$AC,0),1))","v":""},{"$f":"IF(BG36=\"\",\"\",INDEX(referentes!AE:AF,MATCH(BG36,referentes!$AF:$AF,0),1))","v":""},{"$f":"IF(AY36=\"\",\"\",INDEX(referentes!M:N,MATCH(AY36,referentes!$N:$N,0),1))","v":""},{"$f":"IF(BN36=\"\",\"\",INDEX('Otras referencias'!S:T,MATCH(BN36,'Otras referencias'!$T:$T,0),1))","v":""},{"$f":"IF(BH36=\"\",\"\",INDEX('Otras referencias'!A:B,MATCH(BH36,'Otras referencias'!$B:$B,0),1))","v":""}]
[null,0,"",null,null,"",{"$f":"IF(H37=\"\",\"\",INDEX(referentes!AU:AV,MATCH(H37,referentes!$AV:$AV,0),1))","v":""},null,{"$f":"IF(J37=\"\",\"\",INDEX('Otras referencias'!$V:$W,MATCH(J37,'Otras referencias'!$W:$W,0),1))","v":""},null,null,null,null,null,null,null,null,null,32,null,null,null,null,null,null,null,null,null,null,null,null,null,null,null,null,null,null,null,null,null,null,null,null,null,null,0,null,null,null,0,null,null,null,null,null,null,null,null,null,null,null,null,null,null,null,null,null,null,"",{"$f":"IF(C37=\"\",\"\",IF(COUNTIF($C$6:C37, C37)>1, \"\", C37))","v":""},{"$f":"IF(K37=\"\",\"\",INDEX(referentes!P:Q,MATCH(K37,referentes!$Q:$Q,0),1))","v":""},{"$f":"IF(L37=\"\",\"\",INDEX(referentes!$A:$B,MATCH(L37,referentes!$B:$B,0),1))","v":""},{"$f":"IF(P37=\"\",\"\",INDEX(referentes!D:E,MATCH(P37,referentes!$E:$E,0),1))","v":""},{"$f":"IF(Q37=\"\",\"\",INDEX(referentes!G:H,MATCH(Q37,referentes!$H:$H,0),1))","v":""},"",{"$f":"IF(V37=\"\",\"\",INDEX(referentes!S:T,MATCH(V37,referentes!$T:$T,0),1))","v":""},{"$f":"IF(BL37=\"\",\"\",INDEX(referentes!J:K,MATCH(BL37,referentes!$K:$K,0),1))","v":""},{"$f":"IF(BD37=\"\",\"\",INDEX(referentes!V:W,MATCH(BD37,referentes!$W:$W,0),1))","v":""},{"$f":"IF(BE37=\"\",\"\",INDEX(referentes!Y:Z,MATCH(BE37,referentes!$Z:$Z,0),1))","v":""},{"$f":"IF(BF37=\"\",\"\",INDEX(referentes!AB:AC,MATCH(BF37,referentes!$AC:$AC,0),1))","v":""},{"$f":"IF(BG37=\"\",\"\",INDEX(referentes!AE:AF,MATCH(BG37,referentes!$AF:$AF,0),1))","v":""},{"$f":"IF(AY37=\"\",\"\",INDEX(referentes!M:N,MATCH(AY37,referentes!$N:$N,0),1))","v":""},{"$f":"IF(BN37=\"\",\"\",INDEX('Otras referencias'!S:T,MATCH(BN37,'Otras referencias'!$T:$T,0),1))","v":""},{"$f":"IF(BH37=\"\",\"\",INDEX('Otras referencias'!A:B,MATCH(BH37,'Otras referencias'!$B:$B,0),1))","v":""}]
[null,0,"",null,null,"",{"$f":"IF(H38=\"\",\"\",INDEX(referentes!AU:AV,MATCH(H38,referentes!$AV:$AV,0),1))","v":""},null,{"$f":"IF(J38=\"\",\"\",INDEX('Otras referencias'!$V:$W,MATCH(J38,'Otras referencias'!$W:$W,0),1))","v":""},null,null,null,null,null,null,null,null,null,33,null,null,null,null,null,null,null,null,null,null,null,null,null,null,null,null,null,null,null,null,null,null,null,null,null,null,0,null,null,null,0,null,null,null,null,null,null,null,null,null,null,null,null,null,null,null,null,null,null,"",{"$f":"IF(C38=\"\",\"\",IF(COUNTIF($C$6:C38, C38)>1, \"\", C38))","v":""},{"$f":"IF(K38=\"\",\"\",INDEX(referentes!P:Q,MATCH(K38,referentes!$Q:$Q,0),1))","v":""},{"$f":"IF(L38=\"\",\"\",INDEX(referentes!$A:$B,MATCH(L38,referentes!$B:$B,0),1))","v":""},{"$f":"IF(P38=\"\",\"\",INDEX(referentes!D:E,MATCH(P38,referentes!$E:$E,0),1))","v":""},{"$f":"IF(Q38=\"\",\"\",INDEX(referentes!G:H,MATCH(Q38,referentes!$H:$H,0),1))","v":""},"",{"$f":"IF(V38=\"\",\"\",INDEX(referentes!S:T,MATCH(V38,referentes!$T:$T,0),1))","v":""},{"$f":"IF(BL38=\"\",\"\",INDEX(referentes!J:K,MATCH(BL38,referentes!$K:$K,0),1))","v":""},{"$f":"IF(BD38=\"\",\"\",INDEX(referentes!V:W,MATCH(BD38,referentes!$W:$W,0),1))","v":""},{"$f":"IF(BE38=\"\",\"\",INDEX(referentes!Y:Z,MATCH(BE38,referentes!$Z:$Z,0),1))","v":""},{"$f":"IF(BF38=\"\",\"\",INDEX(referentes!AB:AC,MATCH(BF38,referentes!$AC:$AC,0),1))","v":""},{"$f":"IF(BG38=\"\",\"\",INDEX(referentes!AE:AF,MATCH(BG38,referentes!$AF:$AF,0),1))","v":""},{"$f":"IF(AY38=\"\",\"\",INDEX(referentes!M:N,MATCH(AY38,referentes!$N:$N,0),1))","v":""},{"$f":"IF(BN38=\"\",\"\",INDEX('Otras referencias'!S:T,MATCH(BN38,'Otras referencias'!$T:$T,0),1))","v":""},{"$f":"IF(BH38=\"\",\"\",INDEX('Otras referencias'!A:B,MATCH(BH38,'Otras referencias'!$B:$B,0),1))","v":""}]
[null,{"$f":"IF(BW39=BW38,B38,B38+1)","v":0},"",null,null,"",{"$f":"IF(H39=\"\",\"\",INDEX(referentes!AU:AV,MATCH(H39,referentes!$AV:$AV,0),1))","v":""},null,{"$f":"IF(J39=\"\",\"\",INDEX('Otras referencias'!$V:$W,MATCH(J39,'Otras referencias'!$W:$W,0),1))","v":""},null,null,null,null,null,null,null,null,null,34,null,null,null,null,null,null,null,null,null,null,null,null,null,null,null,null,null,null,null,null,null,null,null,null,null,null,0,null,null,null,0,null,null,null,null,null,null,null,null,null,null,null,null,null,null,null,null,null,null,"",{"$f":"IF(C39=\"\",\"\",IF(COUNTIF($C$6:C39, C39)>1, \"\", C39))","v":""},{"$f":"IF(K39=\"\",\"\",INDEX(referentes!P:Q,MATCH(K39,referentes!$Q:$Q,0),1))","v":""},{"$f":"IF(L39=\"\",\"\",INDEX(referentes!$A:$B,MATCH(L39,referentes!$B:$B,0),1))","v":""},{"$f":"IF(P39=\"\",\"\",INDEX(referentes!D:E,MATCH(P39,referentes!$E:$E,0),1))","v":""},{"$f":"IF(Q39=\"\",\"\",INDEX(referentes!G:H,MATCH(Q39,referentes!$H:$H,0),1))","v":""},"",{"$f":"IF(V39=\"\",\"\",INDEX(referentes!S:T,MATCH(V39,referentes!$T:$T,0),1))","v":""},{"$f":"IF(BL39=\"\",\"\",INDEX(referentes!J:K,MATCH(BL39,referentes!$K:$K,0),1))","v":""},{"$f":"IF(BD39=\"\",\"\",INDEX(referentes!V:W,MATCH(BD39,referentes!$W:$W,0),1))","v":""},{"$f":"IF(BE39=\"\",\"\",INDEX(referentes!Y:Z,MATCH(BE39,referentes!$Z:$Z,0),1))","v":""},{"$f":"IF(BF39=\"\",\"\",INDEX(referentes!AB:AC,MATCH(BF39,referentes!$AC:$AC,0),1))","v":""},{"$f":"IF(BG39=\"\",\"\",INDEX(referentes!AE:AF,MATCH(BG39,referentes!$AF:$AF,0),1))","v":""},{"$f":"IF(AY39=\"\",\"\",INDEX(referentes!M:N,MATCH(AY39,referentes!$N:$N,0),1))","v":""},{"$f":"IF(BN39=\"\",\"\",INDEX('Otras referencias'!S:T,MATCH(BN39,'Otras referencias'!$T:$T,0),1))","v":""},{"$f":"IF(BH39=\"\",\"\",INDEX('Otras referencias'!A:B,MATCH(BH39,'Otras referencias'!$B:$B,0),1))","v":""}]
[null,0,"",null,null,"",{"$f":"IF(H40=\"\",\"\",INDEX(referentes!AU:AV,MATCH(H40,referentes!$AV:$AV,0),1))","v":""},null,{"$f":"IF(J40=\"\",\"\",INDEX('Otras referencias'!$V:$W,MATCH(J40,'Otras referencias'!$W:$W,0),1))","v":""},null,null,null,null,null,null,null,null,null,35,null,null,null,null,null,null,null,null,null,null,null,null,null,null,null,null,null,null,null,null,null,null,null,null,null,null,0,null,null,null,0,null,null,null,null,null,null,null,null,null,null,null,null,null,null,null,null,null,null,"",{"$f":"IF(C40=\"\",\"\",IF(COUNTIF($C$6:C40, C40)>1, \"\", C40))","v":""},{"$f":"IF(K40=\"\",\"\",INDEX(referentes!P:Q,MATCH(K40,referentes!$Q:$Q,0),1))","v":""},{"$f":"IF(L40=\"\",\"\",INDEX(referentes!$A:$B,MATCH(L40,referentes!$B:$B,0),1))","v":""},{"$f":"IF(P40=\"\",\"\",INDEX(referentes!D:E,MATCH(P40,referentes!$E:$E,0),1))","v":""},{"$f":"IF(Q40=\"\",\"\",INDEX(referentes!G:H,MATCH(Q40,referentes!$H:$H,0),1))","v":""},"",{"$f":"IF(V40=\"\",\"\",INDEX(referentes!S:T,MATCH(V40,referentes!$T:$T,0),1))","v":""},{"$f":"IF(BL40=\"\",\"\",INDEX(referentes!J:K,MATCH(BL40,referentes!$K:$K,0),1))","v":""},{"$f":"IF(BD40=\"\",\"\",INDEX(referentes!V:W,MATCH(BD40,referentes!$W:$W,0),1))","v":""},{"$f":"IF(BE40=\"\",\"\",INDEX(referentes!Y:Z,MATCH(BE40,referentes!$Z:$Z,0),1))","v":""},{"$f":"IF(BF40=\"\",\"\",INDEX(referentes!AB:AC,MATCH(BF40,referentes!$AC:$AC,0),1))","v":""},{"$f":"IF(BG40=\"\",\"\",INDEX(referentes!AE:AF,MATCH(BG40,referentes!$AF:$AF,0),1))","v":""},{"$f":"IF(AY40=\"\",\"\",INDEX(referentes!M:N,MATCH(AY40,referentes!$N:$N,0),1))","v":""},{"$f":"IF(BN40=\"\",\"\",INDEX('Otras referencias'!S:T,MATCH(BN40,'Otras referencias'!$T:$T,0),1))","v":""},{"$f":"IF(BH40=\"\",\"\",INDEX('Otras referencias'!A:B,MATCH(BH40,'Otras referencias'!$B:$B,0),1))","v":""}]
[null,0,"",null,null,"",{"$f":"IF(H41=\"\",\"\",INDEX(referentes!AU:AV,MATCH(H41,referentes!$AV:$AV,0),1))","v":""},null,{"$f":"IF(J41=\"\",\"\",INDEX('Otras referencias'!$V:$W,MATCH(J41,'Otras referencias'!$W:$W,0),1))","v":""},null,null,null,null,null,null,null,null,null,36,null,null,null,null,null,null,null,null,null,null,null,null,null,null,null,null,null,null,null,null,null,null,null,null,null,null,0,null,null,null,0,null,null,null,null,null,null,null,null,null,null,null,null,null,null,null,null,null,null,"",{"$f":"IF(C41=\"\",\"\",IF(COUNTIF($C$6:C41, C41)>1, \"\", C41))","v":""},{"$f":"IF(K41=\"\",\"\",INDEX(referentes!P:Q,MATCH(K41,referentes!$Q:$Q,0),1))","v":""},{"$f":"IF(L41=\"\",\"\",INDEX(referentes!$A:$B,MATCH(L41,referentes!$B:$B,0),1))","v":""},{"$f":"IF(P41=\"\",\"\",INDEX(referentes!D:E,MATCH(P41,referentes!$E:$E,0),1))","v":""},{"$f":"IF(Q41=\"\",\"\",INDEX(referentes!G:H,MATCH(Q41,referentes!$H:$H,0),1))","v":""},"",{"$f":"IF(V41=\"\",\"\",INDEX(referentes!S:T,MATCH(V41,referentes!$T:$T,0),1))","v":""},{"$f":"IF(BL41=\"\",\"\",INDEX(referentes!J:K,MATCH(BL41,referentes!$K:$K,0),1))","v":""},{"$f":"IF(BD41=\"\",\"\",INDEX(referentes!V:W,MATCH(BD41,referentes!$W:$W,0),1))","v":""},{"$f":"IF(BE41=\"\",\"\",INDEX(referentes!Y:Z,MATCH(BE41,referentes!$Z:$Z,0),1))","v":""},{"$f":"IF(BF41=\"\",\"\",INDEX(referentes!AB:AC,MATCH(BF41,referentes!$AC:$AC,0),1))","v":""},{"$f":"IF(BG41=\"\",\"\",INDEX(referentes!AE:AF,MATCH(BG41,referentes!$AF:$AF,0),1))","v":""},{"$f":"IF(AY41=\"\",\"\",INDEX(referentes!M:N,MATCH(AY41,referentes!$N:$N,0),1))","v":""},{"$f":"IF(BN41=\"\",\"\",INDEX('Otras referencias'!S:T,MATCH(BN41,'Otras referencias'!$T:$T,0),1))","v":""},{"$f":"IF(BH41=\"\",\"\",INDEX('Otras referencias'!A:B,MATCH(BH41,'Otras referencias'!$B:$B,0),1))","v":""}]
[null,0,"",null,null,"",{"$f":"IF(H42=\"\",\"\",INDEX(referentes!AU:AV,MATCH(H42,referentes!$AV:$AV,0),1))","v":""},null,{"$f":"IF(J42=\"\",\"\",INDEX('Otras referencias'!$V:$W,MATCH(J42,'Otras referencias'!$W:$W,0),1))","v":""},null,null,null,null,null,null,null,null,null,37,null,null,null,null,null,null,null,null,null,null,null,null,null,null,null,null,null,null,null,null,null,null,null,null,null,null,0,null,null,null,0,null,null,null,null,null,null,null,null,null,null,null,null,null,null,null,null,null,null,"",{"$f":"IF(C42=\"\",\"\",IF(COUNTIF($C$6:C42, C42)>1, \"\", C42))","v":""},{"$f":"IF(K42=\"\",\"\",INDEX(referentes!P:Q,MATCH(K42,referentes!$Q:$Q,0),1))","v":""},{"$f":"IF(L42=\"\",\"\",INDEX(referentes!$A:$B,MATCH(L42,referentes!$B:$B,0),1))","v":""},{"$f":"IF(P42=\"\",\"\",INDEX(referentes!D:E,MATCH(P42,referentes!$E:$E,0),1))","v":""},{"$f":"IF(Q42=\"\",\"\",INDEX(referentes!G:H,MATCH(Q42,referentes!$H:$H,0),1))","v":""},"",{"$f":"IF(V42=\"\",\"\",INDEX(referentes!S:T,MATCH(V42,referentes!$T:$T,0),1))","v":""},{"$f":"IF(BL42=\"\",\"\",INDEX(referentes!J:K,MATCH(BL42,referentes!$K:$K,0),1))","v":""},{"$f":"IF(BD42=\"\",\"\",INDEX(referentes!V:W,MATCH(BD42,referentes!$W:$W,0),1))","v":""},{"$f":"IF(BE42=\"\",\"\",INDEX(referentes!Y:Z,MATCH(BE42,referentes!$Z:$Z,0),1))","v":""},{"$f":"IF(BF42=\"\",\"\",INDEX(referentes!AB:AC,MATCH(BF42,referentes!$AC:$AC,0),1))","v":""},{"$f":"IF(BG42=\"\",\"\",INDEX(referentes!AE:AF,MATCH(BG42,referentes!$AF:$AF,0),1))","v":""},{"$f":"IF(AY42=\"\",\"\",INDEX(referentes!M:N,MATCH(AY42,referentes!$N:$N,0),1))","v":""},{"$f":"IF(BN42=\"\",\"\",INDEX('Otras referencias'!S:T,MATCH(BN42,'Otras referencias'!$T:$T,0),1))","v":""},{"$f":"IF(BH42=\"\",\"\",INDEX('Otras referencias'!A:B,MATCH(BH42,'Otras referencias'!$B:$B,0),1))","v":""}]
[null,0,"",null,null,"",{"$f":"IF(H43=\"\",\"\",INDEX(referentes!AU:AV,MATCH(H43,referentes!$AV:$AV,0),1))","v":""},null,{"$f":"IF(J43=\"\",\"\",INDEX('Otras referencias'!$V:$W,MATCH(J43,'Otras referencias'!$W:$W,0),1))","v":""},null,null,null,null,null,null,null,null,null,38,null,null,null,null,null,null,null,null,null,null,null,null,null,null,null,null,null,null,null,null,null,null,null,null,null,null,0,null,null,null,0,null,null,null,null,null,null,null,null,null,null,null,null,null,null,null,null,null,null,"",{"$f":"IF(C43=\"\",\"\",IF(COUNTIF($C$6:C43, C43)>1, \"\", C43))","v":""},{"$f":"IF(K43=\"\",\"\",INDEX(referentes!P:Q,MATCH(K43,referentes!$Q:$Q,0),1))","v":""},{"$f":"IF(L43=\"\",\"\",INDEX(referentes!$A:$B,MATCH(L43,referentes!$B:$B,0),1))","v":""},{"$f":"IF(P43=\"\",\"\",INDEX(referentes!D:E,MATCH(P43,referentes!$E:$E,0),1))","v":""},{"$f":"IF(Q43=\"\",\"\",INDEX(referentes!G:H,MATCH(Q43,referentes!$H:$H,0),1))","v":""},"",{"$f":"IF(V43=\"\",\"\",INDEX(referentes!S:T,MATCH(V43,referentes!$T:$T,0),1))","v":""},{"$f":"IF(BL43=\"\",\"\",INDEX(referentes!J:K,MATCH(BL43,referentes!$K:$K,0),1))","v":""},{"$f":"IF(BD43=\"\",\"\",INDEX(referentes!V:W,MATCH(BD43,referentes!$W:$W,0),1))","v":""},{"$f":"IF(BE43=\"\",\"\",INDEX(referentes!Y:Z,MATCH(BE43,referentes!$Z:$Z,0),1))","v":""},{"$f":"IF(BF43=\"\",\"\",INDEX(referentes!AB:AC,MATCH(BF43,referentes!$AC:$AC,0),1))","v":""},{"$f":"IF(BG43=\"\",\"\",INDEX(referentes!AE:AF,MATCH(BG43,referentes!$AF:$AF,0),1))","v":""},{"$f":"IF(AY43=\"\",\"\",INDEX(referentes!M:N,MATCH(AY43,referentes!$N:$N,0),1))","v":""},{"$f":"IF(BN43=\"\",\"\",INDEX('Otras referencias'!S:T,MATCH(BN43,'Otras referencias'!$T:$T,0),1))","v":""},{"$f":"IF(BH43=\"\",\"\",INDEX('Otras referencias'!A:B,MATCH(BH43,'Otras referencias'!$B:$B,0),1))","v":""}]
[null,0,"",null,null,"",{"$f":"IF(H44=\"\",\"\",INDEX(referentes!AU:AV,MATCH(H44,referentes!$AV:$AV,0),1))","v":""},null,{"$f":"IF(J44=\"\",\"\",INDEX('Otras referencias'!$V:$W,MATCH(J44,'Otras referencias'!$W:$W,0),1))","v":""},null,null,null,null,null,null,null,null,null,39,null,null,null,null,null,null,null,null,null,null,null,null,null,null,null,null,null,null,null,null,null,null,null,null,null,null,0,null,null,null,0,null,null,null,null,null,null,null,null,null,null,null,null,null,null,null,null,null,null,"",{"$f":"IF(C44=\"\",\"\",IF(COUNTIF($C$6:C44, C44)>1, \"\", C44))","v":""},{"$f":"IF(K44=\"\",\"\",INDEX(referentes!P:Q,MATCH(K44,referentes!$Q:$Q,0),1))","v":""},{"$f":"IF(L44=\"\",\"\",INDEX(referentes!$A:$B,MATCH(L44,referentes!$B:$B,0),1))","v":""},{"$f":"IF(P44=\"\",\"\",INDEX(referentes!D:E,MATCH(P44,referentes!$E:$E,0),1))","v":""},{"$f":"IF(Q44=\"\",\"\",INDEX(referentes!G:H,MATCH(Q44,referentes!$H:$H,0),1))","v":""},"",{"$f":"IF(V44=\"\",\"\",INDEX(referentes!S:T,MATCH(V44,referentes!$T:$T,0),1))","v":""},{"$f":"IF(BL44=\"\",\"\",INDEX(referentes!J:K,MATCH(BL44,referentes!$K:$K,0),1))","v":""},{"$f":"IF(BD44=\"\",\"\",INDEX(referentes!V:W,MATCH(BD44,referentes!$W:$W,0),1))","v":""},{"$f":"IF(BE44=\"\",\"\",INDEX(referentes!Y:Z,MATCH(BE44,referentes!$Z:$Z,0),1))","v":""},{"$f":"IF(BF44=\"\",\"\",INDEX(referentes!AB:AC,MATCH(BF44,referentes!$AC:$AC,0),1))","v":""},{"$f":"IF(BG44=\"\",\"\",INDEX(referentes!AE:AF,MATCH(BG44,referentes!$AF:$AF,0),1))","v":""},{"$f":"IF(AY44=\"\",\"\",INDEX(referentes!M:N,MATCH(AY44,referentes!$N:$N,0),1))","v":""},{"$f":"IF(BN44=\"\",\"\",INDEX('Otras referencias'!S:T,MATCH(BN44,'Otras referencias'!$T:$T,0),1))","v":""},{"$f":"IF(BH44=\"\",\"\",INDEX('Otras referencias'!A:B,MATCH(BH44,'Otras referencias'!$B:$B,0),1))","v":""}]
[null,0,"",null,null,"",{"$f":"IF(H45=\"\",\"\",INDEX(referentes!AU:AV,MATCH(H45,referentes!$AV:$AV,0),1))","v":""},null,{"$f":"IF(J45=\"\",\"\",INDEX('Otras referencias'!$V:$W,MATCH(J45,'Otras referencias'!$W:$W,0),1))","v":""},null,null,null,null,null,null,null,null,null,40,null,null,null,null,null,null,null,null,null,null,null,null,null,null,null,null,null,null,null,null,null,null,null,null,null,null,0,null,null,null,0,null,null,null,null,null,null,null,null,null,null,null,null,null,null,null,null,null,null,"",{"$f":"IF(C45=\"\",\"\",IF(COUNTIF($C$6:C45, C45)>1, \"\", C45))","v":""},{"$f":"IF(K45=\"\",\"\",INDEX(referentes!P:Q,MATCH(K45,referentes!$Q:$Q,0),1))","v":""},{"$f":"IF(L45=\"\",\"\",INDEX(referentes!$A:$B,MATCH(L45,referentes!$B:$B,0),1))","v":""},{"$f":"IF(P45=\"\",\"\",INDEX(referentes!D:E,MATCH(P45,referentes!$E:$E,0),1))","v":""},{"$f":"IF(Q45=\"\",\"\",INDEX(referentes!G:H,MATCH(Q45,referentes!$H:$H,0),1))","v":""},"",{"$f":"IF(V45=\"\",\"\",INDEX(referentes!S:T,MATCH(V45,referentes!$T:$T,0),1))","v":""},{"$f":"IF(BL45=\"\",\"\",INDEX(referentes!J:K,MATCH(BL45,referentes!$K:$K,0),1))","v":""},{"$f":"IF(BD45=\"\",\"\",INDEX(referentes!V:W,MATCH(BD45,referentes!$W:$W,0),1))","v":""},{"$f":"IF(BE45=\"\",\"\",INDEX(referentes!Y:Z,MATCH(BE45,referentes!$Z:$Z,0),1))","v":""},{"$f":"IF(BF45=\"\",\"\",INDEX(referentes!AB:AC,MATCH(BF45,referentes!$AC:$AC,0),1))","v":""},{"$f":"IF(BG45=\"\",\"\",INDEX(referentes!AE:AF,MATCH(BG45,referentes!$AF:$AF,0),1))","v":""},{"$f":"IF(AY45=\"\",\"\",INDEX(referentes!M:N,MATCH(AY45,referentes!$N:$N,0),1))","v":""},{"$f":"IF(BN45=\"\",\"\",INDEX('Otras referencias'!S:T,MATCH(BN45,'Otras referencias'!$T:$T,0),1))","v":""},{"$f":"IF(BH45=\"\",\"\",INDEX('Otras referencias'!A:B,MATCH(BH45,'Otras referencias'!$B:$B,0),1))","v":""}]
[null,0,"",null,null,"",{"$f":"IF(H46=\"\",\"\",INDEX(referentes!AU:AV,MATCH(H46,referentes!$AV:$AV,0),1))","v":""},null,{"$f":"IF(J46=\"\",\"\",INDEX('Otras referencias'!$V:$W,MATCH(J46,'Otras referencias'!$W:$W,0),1))","v":""},null,null,null,null,null,null,null,null,null,41,null,null,null,null,null,null,null,null,null,null,null,null,null,null,null,null,null,null,null,null,null,null,null,null,null,null,0,null,null,null,0,null,null,null,null,null,null,null,null,null,null,null,null,null,null,null,null,null,null,"",{"$f":"IF(C46=\"\",\"\",IF(COUNTIF($C$6:C46, C46)>1, \"\", C46))","v":""},{"$f":"IF(K46=\"\",\"\",INDEX(referentes!P:Q,MATCH(K46,referentes!$Q:$Q,0),1))","v":""},{"$f":"IF(L46=\"\",\"\",INDEX(referentes!$A:$B,MATCH(L46,referentes!$B:$B,0),1))","v":""},{"$f":"IF(P46=\"\",\"\",INDEX(referentes!D:E,MATCH(P46,referentes!$E:$E,0),1))","v":""},{"$f":"IF(Q46=\"\",\"\",INDEX(referentes!G:H,MATCH(Q46,referentes!$H:$H,0),1))","v":""},"",{"$f":"IF(V46=\"\",\"\",INDEX(referentes!S:T,MATCH(V46,referentes!$T:$T,0),1))","v":""},{"$f":"IF(BL46=\"\",\"\",INDEX(referentes!J:K,MATCH(BL46,referentes!$K:$K,0),1))","v":""},{"$f":"IF(BD46=\"\",\"\",INDEX(referentes!V:W,MATCH(BD46,referentes!$W:$W,0),1))","v":""},{"$f":"IF(BE46=\"\",\"\",INDEX(referentes!Y:Z,MATCH(BE46,referentes!$Z:$Z,0),1))","v":""},{"$f":"IF(BF46=\"\",\"\",INDEX(referentes!AB:AC,MATCH(BF46,referentes!$AC:$AC,0),1))","v":""},{"$f":"IF(BG46=\"\",\"\",INDEX(referentes!AE:AF,MATCH(BG46,referentes!$AF:$AF,0),1))","v":""},{"$f":"IF(AY46=\"\",\"\",INDEX(referentes!M:N,MATCH(AY46,referentes!$N:$N,0),1))","v":""},{"$f":"IF(BN46=\"\",\"\",INDEX('Otras referencias'!S:T,MATCH(BN46,'Otras referencias'!$T:$T,0),1))","v":""},{"$f":"IF(BH46=\"\",\"\",INDEX('Otras referencias'!A:B,MATCH(BH46,'Otras referencias'!$B:$B,0),1))","v":""}]
[null,0,"",null,null,"",{"$f":"IF(H47=\"\",\"\",INDEX(referentes!AU:AV,MATCH(H47,referentes!$AV:$AV,0),1))","v":""},null,{"$f":"IF(J47=\"\",\"\",INDEX('Otras referencias'!$V:$W,MATCH(J47,'Otras referencias'!$W:$W,0),1))","v":""},null,null,null,null,null,null,null,null,null,42,null,null,null,null,null,null,null,null,null,null,null,null,null,null,null,null,null,null,null,null,null,null,null,null,null,null,0,null,null,null,0,null,null,null,null,null,null,null,null,null,null,null,null,null,null,null,null,null,null,"",{"$f":"IF(C47=\"\",\"\",IF(COUNTIF($C$6:C47, C47)>1, \"\", C47))","v":""},{"$f":"IF(K47=\"\",\"\",INDEX(referentes!P:Q,MATCH(K47,referentes!$Q:$Q,0),1))","v":""},{"$f":"IF(L47=\"\",\"\",INDEX(referentes!$A:$B,MATCH(L47,referentes!$B:$B,0),1))","v":""},{"$f":"IF(P47=\"\",\"\",INDEX(referentes!D:E,MATCH(P47,referentes!$E:$E,0),1))","v":""},{"$f":"IF(Q47=\"\",\"\",INDEX(referentes!G:H,MATCH(Q47,referentes!$H:$H,0),1))","v":""},"",{"$f":"IF(V47=\"\",\"\",INDEX(referentes!S:T,MATCH(V47,referentes!$T:$T,0),1))","v":""},{"$f":"IF(BL47=\"\",\"\",INDEX(referentes!J:K,MATCH(BL47,referentes!$K:$K,0),1))","v":""},{"$f":"IF(BD47=\"\",\"\",INDEX(referentes!V:W,MATCH(BD47,referentes!$W:$W,0),1))","v":""},{"$f":"IF(BE47=\"\",\"\",INDEX(referentes!Y:Z,MATCH(BE47,referentes!$Z:$Z,0),1))","v":""},{"$f":"IF(BF47=\"\",\"\",INDEX(referentes!AB:AC,MATCH(BF47,referentes!$AC:$AC,0),1))","v":""},{"$f":"IF(BG47=\"\",\"\",INDEX(referentes!AE:AF,MATCH(BG47,referentes!$AF:$AF,0),1))","v":""},{"$f":"IF(AY47=\"\",\"\",INDEX(referentes!M:N,MATCH(AY47,referentes!$N:$N,0),1))","v":""},{"$f":"IF(BN47=\"\",\"\",INDEX('Otras referencias'!S:T,MATCH(BN47,'Otras referencias'!$T:$T,0),1))","v":""},{"$f":"IF(BH47=\"\",\"\",INDEX('Otras referencias'!A:B,MATCH(BH47,'Otras referencias'!$B:$B,0),1))","v":""}]
[null,0,"",null,null,"",{"$f":"IF(H48=\"\",\"\",INDEX(referentes!AU:AV,MATCH(H48,referentes!$AV:$AV,0),1))","v":""},null,{"$f":"IF(J48=\"\",\"\",INDEX('Otras referencias'!$V:$W,MATCH(J48,'Otras referencias'!$W:$W,0),1))","v":""},null,null,null,null,null,null,null,null,null,43,null,null,null,null,null,null,null,null,null,null,null,null,null,null,null,null,null,null,null,null,null,null,null,null,null,null,0,null,null,null,0,null,null,null,null,null,null,null,null,null,null,null,null,null,null,null,null,null,null,"",{"$f":"IF(C48=\"\",\"\",IF(COUNTIF($C$6:C48, C48)>1, \"\", C48))","v":""},{"$f":"IF(K48=\"\",\"\",INDEX(referentes!P:Q,MATCH(K48,referentes!$Q:$Q,0),1))","v":""},{"$f":"IF(L48=\"\",\"\",INDEX(referentes!$A:$B,MATCH(L48,referentes!$B:$B,0),1))","v":""},{"$f":"IF(P48=\"\",\"\",INDEX(referentes!D:E,MATCH(P48,referentes!$E:$E,0),1))","v":""},{"$f":"IF(Q48=\"\",\"\",INDEX(referentes!G:H,MATCH(Q48,referentes!$H:$H,0),1))","v":""},"",{"$f":"IF(V48=\"\",\"\",INDEX(referentes!S:T,MATCH(V48,referentes!$T:$T,0),1))","v":""},{"$f":"IF(BL48=\"\",\"\",INDEX(referentes!J:K,MATCH(BL48,referentes!$K:$K,0),1))","v":""},{"$f":"IF(BD48=\"\",\"\",INDEX(referentes!V:W,MATCH(BD48,referentes!$W:$W,0),1))","v":""},{"$f":"IF(BE48=\"\",\"\",INDEX(referentes!Y:Z,MATCH(BE48,referentes!$Z:$Z,0),1))","v":""},{"$f":"IF(BF48=\"\",\"\",INDEX(referentes!AB:AC,MATCH(BF48,referentes!$AC:$AC,0),1))","v":""},{"$f":"IF(BG48=\"\",\"\",INDEX(referentes!AE:AF,MATCH(BG48,referentes!$AF:$AF,0),1))","v":""},{"$f":"IF(AY48=\"\",\"\",INDEX(referentes!M:N,MATCH(AY48,referentes!$N:$N,0),1))","v":""},{"$f":"IF(BN48=\"\",\"\",INDEX('Otras referencias'!S:T,MATCH(BN48,'Otras referencias'!$T:$T,0),1))","v":""},{"$f":"IF(BH48=\"\",\"\",INDEX('Otras referencias'!A:B,MATCH(BH48,'Otras referencias'!$B:$B,0),1))","v":""}]
[null,0,"",null,null,"",{"$f":"IF(H49=\"\",\"\",INDEX(referentes!AU:AV,MATCH(H49,referentes!$AV:$AV,0),1))","v":""},null,{"$f":"IF(J49=\"\",\"\",INDEX('Otras referencias'!$V:$W,MATCH(J49,'Otras referencias'!$W:$W,0),1))","v":""},null,null,null,null,null,null,null,null,null,44,null,null,null,null,null,null,null,null,null,null,null,null,null,null,null,null,null,null,null,null,null,null,null,null,null,null,0,null,null,null,0,null,null,null,null,null,null,null,null,null,null,null,null,null,null,null,null,null,null,"",{"$f":"IF(C49=\"\",\"\",IF(COUNTIF($C$6:C49, C49)>1, \"\", C49))","v":""},{"$f":"IF(K49=\"\",\"\",INDEX(referentes!P:Q,MATCH(K49,referentes!$Q:$Q,0),1))","v":""},{"$f":"IF(L49=\"\",\"\",INDEX(referentes!$A:$B,MATCH(L49,referentes!$B:$B,0),1))","v":""},{"$f":"IF(P49=\"\",\"\",INDEX(referentes!D:E,MATCH(P49,referentes!$E:$E,0),1))","v":""},{"$f":"IF(Q49=\"\",\"\",INDEX(referentes!G:H,MATCH(Q49,referentes!$H:$H,0),1))","v":""},"",{"$f":"IF(V49=\"\",\"\",INDEX(referentes!S:T,MATCH(V49,referentes!$T:$T,0),1))","v":""},{"$f":"IF(BL49=\"\",\"\",INDEX(referentes!J:K,MATCH(BL49,referentes!$K:$K,0),1))","v":""},{"$f":"IF(BD49=\"\",\"\",INDEX(referentes!V:W,MATCH(BD49,referentes!$W:$W,0),1))","v":""},{"$f":"IF(BE49=\"\",\"\",INDEX(referentes!Y:Z,MATCH(BE49,referentes!$Z:$Z,0),1))","v":""},{"$f":"IF(BF49=\"\",\"\",INDEX(referentes!AB:AC,MATCH(BF49,referentes!$AC:$AC,0),1))","v":""},{"$f":"IF(BG49=\"\",\"\",INDEX(referentes!AE:AF,MATCH(BG49,referentes!$AF:$AF,0),1))","v":""},{"$f":"IF(AY49=\"\",\"\",INDEX(referentes!M:N,MATCH(AY49,referentes!$N:$N,0),1))","v":""},{"$f":"IF(BN49=\"\",\"\",INDEX('Otras referencias'!S:T,MATCH(BN49,'Otras referencias'!$T:$T,0),1))","v":""},{"$f":"IF(BH49=\"\",\"\",INDEX('Otras referencias'!A:B,MATCH(BH49,'Otras referencias'!$B:$B,0),1))","v":""}]
[null,0,"",null,null,"",{"$f":"IF(H50=\"\",\"\",INDEX(referentes!AU:AV,MATCH(H50,referentes!$AV:$AV,0),1))","v":""},null,{"$f":"IF(J50=\"\",\"\",INDEX('Otras referencias'!$V:$W,MATCH(J50,'Otras referencias'!$W:$W,0),1))","v":""},null,null,null,null,null,null,null,null,null,45,null,null,null,null,null,null,null,null,null,null,null,null,null,null,null,null,null,null,null,null,null,null,null,null,null,null,0,null,null,null,0,null,null,null,null,null,null,null,null,null,null,null,null,null,null,null,null,null,null,"",{"$f":"IF(C50=\"\",\"\",IF(COUNTIF($C$6:C50, C50)>1, \"\", C50))","v":""},{"$f":"IF(K50=\"\",\"\",INDEX(referentes!P:Q,MATCH(K50,referentes!$Q:$Q,0),1))","v":""},{"$f":"IF(L50=\"\",\"\",INDEX(referentes!$A:$B,MATCH(L50,referentes!$B:$B,0),1))","v":""},{"$f":"IF(P50=\"\",\"\",INDEX(referentes!D:E,MATCH(P50,referentes!$E:$E,0),1))","v":""},{"$f":"IF(Q50=\"\",\"\",INDEX(referentes!G:H,MATCH(Q50,referentes!$H:$H,0),1))","v":""},"",{"$f":"IF(V50=\"\",\"\",INDEX(referentes!S:T,MATCH(V50,referentes!$T:$T,0),1))","v":""},{"$f":"IF(BL50=\"\",\"\",INDEX(referentes!J:K,MATCH(BL50,referentes!$K:$K,0),1))","v":""},{"$f":"IF(BD50=\"\",\"\",INDEX(referentes!V:W,MATCH(BD50,referentes!$W:$W,0),1))","v":""},{"$f":"IF(BE50=\"\",\"\",INDEX(referentes!Y:Z,MATCH(BE50,referentes!$Z:$Z,0),1))","v":""},{"$f":"IF(BF50=\"\",\"\",INDEX(referentes!AB:AC,MATCH(BF50,referentes!$AC:$AC,0),1))","v":""},{"$f":"IF(BG50=\"\",\"\",INDEX(referentes!AE:AF,MATCH(BG50,referentes!$AF:$AF,0),1))","v":""},{"$f":"IF(AY50=\"\",\"\",INDEX(referentes!M:N,MATCH(AY50,referentes!$N:$N,0),1))","v":""},{"$f":"IF(BN50=\"\",\"\",INDEX('Otras referencias'!S:T,MATCH(BN50,'Otras referencias'!$T:$T,0),1))","v":""},{"$f":"IF(BH50=\"\",\"\",INDEX('Otras referencias'!A:B,MATCH(BH50,'Otras referencias'!$B:$B,0),1))","v":""}]
[null,0,"",null,null,"",{"$f":"IF(H51=\"\",\"\",INDEX(referentes!AU:AV,MATCH(H51,referentes!$AV:$AV,0),1))","v":""},null,{"$f":"IF(J51=\"\",\"\",INDEX('Otras referencias'!$V:$W,MATCH(J51,'Otras referencias'!$W:$W,0),1))","v":""},null,null,null,null,null,null,null,null,null,46,null,null,null,null,null,null,null,null,null,null,null,null,null,null,null,null,null,null,null,null,null,null,null,null,null,null,0,null,null,null,0,null,null,null,null,null,null,null,null,null,null,null,null,null,null,null,null,null,null,"",{"$f":"IF(C51=\"\",\"\",IF(COUNTIF($C$6:C51, C51)>1, \"\", C51))","v":""},{"$f":"IF(K51=\"\",\"\",INDEX(referentes!P:Q,MATCH(K51,referentes!$Q:$Q,0),1))","v":""},{"$f":"IF(L51=\"\",\"\",INDEX(referentes!$A:$B,MATCH(L51,referentes!$B:$B,0),1))","v":""},{"$f":"IF(P51=\"\",\"\",INDEX(referentes!D:E,MATCH(P51,referentes!$E:$E,0),1))","v":""},{"$f":"IF(Q51=\"\",\"\",INDEX(referentes!G:H,MATCH(Q51,referentes!$H:$H,0),1))","v":""},"",{"$f":"IF(V51=\"\",\"\",INDEX(referentes!S:T,MATCH(V51,referentes!$T:$T,0),1))","v":""},{"$f":"IF(BL51=\"\",\"\",INDEX(referentes!J:K,MATCH(BL51,referentes!$K:$K,0),1))","v":""},{"$f":"IF(BD51=\"\",\"\",INDEX(referentes!V:W,MATCH(BD51,referentes!$W:$W,0),1))","v":""},{"$f":"IF(BE51=\"\",\"\",INDEX(referentes!Y:Z,MATCH(BE51,referentes!$Z:$Z,0),1))","v":""},{"$f":"IF(BF51=\"\",\"\",INDEX(referentes!AB:AC,MATCH(BF51,referentes!$AC:$AC,0),1))","v":""},{"$f":"IF(BG51=\"\",\"\",INDEX(referentes!AE:AF,MATCH(BG51,referentes!$AF:$AF,0),1))","v":""},{"$f":"IF(AY51=\"\",\"\",INDEX(referentes!M:N,MATCH(AY51,referentes!$N:$N,0),1))","v":""},{"$f":"IF(BN51=\"\",\"\",INDEX('Otras referencias'!S:T,MATCH(BN51,'Otras referencias'!$T:$T,0),1))","v":""},{"$f":"IF(BH51=\"\",\"\",INDEX('Otras referencias'!A:B,MATCH(BH51,'Otras referencias'!$B:$B,0),1))","v":""}]
[null,0,"",null,null,"",{"$f":"IF(H52=\"\",\"\",INDEX(referentes!AU:AV,MATCH(H52,referentes!$AV:$AV,0),1))","v":""},null,{"$f":"IF(J52=\"\",\"\",INDEX('Otras referencias'!$V:$W,MATCH(J52,'Otras referencias'!$W:$W,0),1))","v":""},null,null,null,null,null,null,null,null,null,47,null,null,null,null,null,null,null,null,null,null,null,null,null,null,null,null,null,null,null,null,null,null,null,null,null,null,0,null,null,null,0,null,null,null,null,null,null,null,null,null,null,null,null,null,null,null,null,null,null,"",{"$f":"IF(C52=\"\",\"\",IF(COUNTIF($C$6:C52, C52)>1, \"\", C52))","v":""},{"$f":"IF(K52=\"\",\"\",INDEX(referentes!P:Q,MATCH(K52,referentes!$Q:$Q,0),1))","v":""},{"$f":"IF(L52=\"\",\"\",INDEX(referentes!$A:$B,MATCH(L52,referentes!$B:$B,0),1))","v":""},{"$f":"IF(P52=\"\",\"\",INDEX(referentes!D:E,MATCH(P52,referentes!$E:$E,0),1))","v":""},{"$f":"IF(Q52=\"\",\"\",INDEX(referentes!G:H,MATCH(Q52,referentes!$H:$H,0),1))","v":""},"",{"$f":"IF(V52=\"\",\"\",INDEX(referentes!S:T,MATCH(V52,referentes!$T:$T,0),1))","v":""},{"$f":"IF(BL52=\"\",\"\",INDEX(referentes!J:K,MATCH(BL52,referentes!$K:$K,0),1))","v":""},{"$f":"IF(BD52=\"\",\"\",INDEX(referentes!V:W,MATCH(BD52,referentes!$W:$W,0),1))","v":""},{"$f":"IF(BE52=\"\",\"\",INDEX(referentes!Y:Z,MATCH(BE52,referentes!$Z:$Z,0),1))","v":""},{"$f":"IF(BF52=\"\",\"\",INDEX(referentes!AB:AC,MATCH(BF52,referentes!$AC:$AC,0),1))","v":""},{"$f":"IF(BG52=\"\",\"\",INDEX(referentes!AE:AF,MATCH(BG52,referentes!$AF:$AF,0),1))","v":""},{"$f":"IF(AY52=\"\",\"\",INDEX(referentes!M:N,MATCH(AY52,referentes!$N:$N,0),1))","v":""},{"$f":"IF(BN52=\"\",\"\",INDEX('Otras referencias'!S:T,MATCH(BN52,'Otras referencias'!$T:$T,0),1))","v":""},{"$f":"IF(BH52=\"\",\"\",INDEX('Otras referencias'!A:B,MATCH(BH52,'Otras referencias'!$B:$B,0),1))","v":""}]
[null,0,"",null,null,"",{"$f":"IF(H53=\"\",\"\",INDEX(referentes!AU:AV,MATCH(H53,referentes!$AV:$AV,0),1))","v":""},null,{"$f":"IF(J53=\"\",\"\",INDEX('Otras referencias'!$V:$W,MATCH(J53,'Otras referencias'!$W:$W,0),1))","v":""},null,null,null,null,null,null,null,null,null,48,null,null,null,null,null,null,null,null,null,null,null,null,null,null,null,null,null,null,null,null,null,null,null,null,null,null,0,null,null,null,0,null,null,null,null,null,null,null,null,null,null,null,null,null,null,null,null,null,null,"",{"$f":"IF(C53=\"\",\"\",IF(COUNTIF($C$6:C53, C53)>1, \"\", C53))","v":""},{"$f":"IF(K53=\"\",\"\",INDEX(referentes!P:Q,MATCH(K53,referentes!$Q:$Q,0),1))","v":""},{"$f":"IF(L53=\"\",\"\",INDEX(referentes!$A:$B,MATCH(L53,referentes!$B:$B,0),1))","v":""},{"$f":"IF(P53=\"\",\"\",INDEX(referentes!D:E,MATCH(P53,referentes!$E:$E,0),1))","v":""},{"$f":"IF(Q53=\"\",\"\",INDEX(referentes!G:H,MATCH(Q53,referentes!$H:$H,0),1))","v":""},"",{"$f":"IF(V53=\"\",\"\",INDEX(referentes!S:T,MATCH(V53,referentes!$T:$T,0),1))","v":""},{"$f":"IF(BL53=\"\",\"\",INDEX(referentes!J:K,MATCH(BL53,referentes!$K:$K,0),1))","v":""},{"$f":"IF(BD53=\"\",\"\",INDEX(referentes!V:W,MATCH(BD53,referentes!$W:$W,0),1))","v":""},{"$f":"IF(BE53=\"\",\"\",INDEX(referentes!Y:Z,MATCH(BE53,referentes!$Z:$Z,0),1))","v":""},{"$f":"IF(BF53=\"\",\"\",INDEX(referentes!AB:AC,MATCH(BF53,referentes!$AC:$AC,0),1))","v":""},{"$f":"IF(BG53=\"\",\"\",INDEX(referentes!AE:AF,MATCH(BG53,referentes!$AF:$AF,0),1))","v":""},{"$f":"IF(AY53=\"\",\"\",INDEX(referentes!M:N,MATCH(AY53,referentes!$N:$N,0),1))","v":""},{"$f":"IF(BN53=\"\",\"\",INDEX('Otras referencias'!S:T,MATCH(BN53,'Otras referencias'!$T:$T,0),1))","v":""},{"$f":"IF(BH53=\"\",\"\",INDEX('Otras referencias'!A:B,MATCH(BH53,'Otras referencias'!$B:$B,0),1))","v":""}]
[null,0,"",null,null,"",{"$f":"IF(H54=\"\",\"\",INDEX(referentes!AU:AV,MATCH(H54,referentes!$AV:$AV,0),1))","v":""},null,{"$f":"IF(J54=\"\",\"\",INDEX('Otras referencias'!$V:$W,MATCH(J54,'Otras referencias'!$W:$W,0),1))","v":""},null,null,null,null,null,null,null,null,null,49,null,null,null,null,null,null,null,null,null,null,null,null,null,null,null,null,null,null,null,null,null,null,null,null,null,null,0,null,null,null,0,null,null,null,null,null,null,null,null,null,null,null,null,null,null,null,null,null,null,"",{"$f":"IF(C54=\"\",\"\",IF(COUNTIF($C$6:C54, C54)>1, \"\", C54))","v":""},{"$f":"IF(K54=\"\",\"\",INDEX(referentes!P:Q,MATCH(K54,referentes!$Q:$Q,0),1))","v":""},{"$f":"IF(L54=\"\",\"\",INDEX(referentes!$A:$B,MATCH(L54,referentes!$B:$B,0),1))","v":""},{"$f":"IF(P54=\"\",\"\",INDEX(referentes!D:E,MATCH(P54,referentes!$E:$E,0),1))","v":""},{"$f":"IF(Q54=\"\",\"\",INDEX(referentes!G:H,MATCH(Q54,referentes!$H:$H,0),1))","v":""},"",{"$f":"IF(V54=\"\",\"\",INDEX(referentes!S:T,MATCH(V54,referentes!$T:$T,0),1))","v":""},{"$f":"IF(BL54=\"\",\"\",INDEX(referentes!J:K,MATCH(BL54,referentes!$K:$K,0),1))","v":""},{"$f":"IF(BD54=\"\",\"\",INDEX(referentes!V:W,MATCH(BD54,referentes!$W:$W,0),1))","v":""},{"$f":"IF(BE54=\"\",\"\",INDEX(referentes!Y:Z,MATCH(BE54,referentes!$Z:$Z,0),1))","v":""},{"$f":"IF(BF54=\"\",\"\",INDEX(referentes!AB:AC,MATCH(BF54,referentes!$AC:$AC,0),1))","v":""},{"$f":"IF(BG54=\"\",\"\",INDEX(referentes!AE:AF,MATCH(BG54,referentes!$AF:$AF,0),1))","v":""},{"$f":"IF(AY54=\"\",\"\",INDEX(referentes!M:N,MATCH(AY54,referentes!$N:$N,0),1))","v":""},{"$f":"IF(BN54=\"\",\"\",INDEX('Otras referencias'!S:T,MATCH(BN54,'Otras referencias'!$T:$T,0),1))","v":""},{"$f":"IF(BH54=\"\",\"\",INDEX('Otras referencias'!A:B,MATCH(BH54,'Otras referencias'!$B:$B,0),1))","v":""}]
[null,0,"",null,null,"",{"$f":"IF(H55=\"\",\"\",INDEX(referentes!AU:AV,MATCH(H55,referentes!$AV:$AV,0),1))","v":""},null,{"$f":"IF(J55=\"\",\"\",INDEX('Otras referencias'!$V:$W,MATCH(J55,'Otras referencias'!$W:$W,0),1))","v":""},null,null,null,null,null,null,null,null,null,50,null,null,null,null,null,null,null,null,null,null,null,null,null,null,null,null,null,null,null,null,null,null,null,null,null,null,0,null,null,null,0,null,null,null,null,null,null,null,null,null,null,null,null,null,null,null,null,null,null,"",{"$f":"IF(C55=\"\",\"\",IF(COUNTIF($C$6:C55, C55)>1, \"\", C55))","v":""},{"$f":"IF(K55=\"\",\"\",INDEX(referentes!P:Q,MATCH(K55,referentes!$Q:$Q,0),1))","v":""},{"$f":"IF(L55=\"\",\"\",INDEX(referentes!$A:$B,MATCH(L55,referentes!$B:$B,0),1))","v":""},{"$f":"IF(P55=\"\",\"\",INDEX(referentes!D:E,MATCH(P55,referentes!$E:$E,0),1))","v":""},{"$f":"IF(Q55=\"\",\"\",INDEX(referentes!G:H,MATCH(Q55,referentes!$H:$H,0),1))","v":""},"",{"$f":"IF(V55=\"\",\"\",INDEX(referentes!S:T,MATCH(V55,referentes!$T:$T,0),1))","v":""},{"$f":"IF(BL55=\"\",\"\",INDEX(referentes!J:K,MATCH(BL55,referentes!$K:$K,0),1))","v":""},{"$f":"IF(BD55=\"\",\"\",INDEX(referentes!V:W,MATCH(BD55,referentes!$W:$W,0),1))","v":""},{"$f":"IF(BE55=\"\",\"\",INDEX(referentes!Y:Z,MATCH(BE55,referentes!$Z:$Z,0),1))","v":""},{"$f":"IF(BF55=\"\",\"\",INDEX(referentes!AB:AC,MATCH(BF55,referentes!$AC:$AC,0),1))","v":""},{"$f":"IF(BG55=\"\",\"\",INDEX(referentes!AE:AF,MATCH(BG55,referentes!$AF:$AF,0),1))","v":""},{"$f":"IF(AY55=\"\",\"\",INDEX(referentes!M:N,MATCH(AY55,referentes!$N:$N,0),1))","v":""},{"$f":"IF(BN55=\"\",\"\",INDEX('Otras referencias'!S:T,MATCH(BN55,'Otras referencias'!$T:$T,0),1))","v":""},{"$f":"IF(BH55=\"\",\"\",INDEX('Otras referencias'!A:B,MATCH(BH55,'Otras referencias'!$B:$B,0),1))","v":""}]
[null,0,"",null,null,"",{"$f":"IF(H56=\"\",\"\",INDEX(referentes!AU:AV,MATCH(H56,referentes!$AV:$AV,0),1))","v":""},null,{"$f":"IF(J56=\"\",\"\",INDEX('Otras referencias'!$V:$W,MATCH(J56,'Otras referencias'!$W:$W,0),1))","v":""},null,null,null,null,null,null,null,null,null,51,null,null,null,null,null,null,null,null,null,null,null,null,null,null,null,null,null,null,null,null,null,null,null,null,null,null,0,null,null,null,0,null,null,null,null,null,null,null,null,null,null,null,null,null,null,null,null,null,null,"",{"$f":"IF(C56=\"\",\"\",IF(COUNTIF($C$6:C56, C56)>1, \"\", C56))","v":""},{"$f":"IF(K56=\"\",\"\",INDEX(referentes!P:Q,MATCH(K56,referentes!$Q:$Q,0),1))","v":""},{"$f":"IF(L56=\"\",\"\",INDEX(referentes!$A:$B,MATCH(L56,referentes!$B:$B,0),1))","v":""},{"$f":"IF(P56=\"\",\"\",INDEX(referentes!D:E,MATCH(P56,referentes!$E:$E,0),1))","v":""},{"$f":"IF(Q56=\"\",\"\",INDEX(referentes!G:H,MATCH(Q56,referentes!$H:$H,0),1))","v":""},"",{"$f":"IF(V56=\"\",\"\",INDEX(referentes!S:T,MATCH(V56,referentes!$T:$T,0),1))","v":""},{"$f":"IF(BL56=\"\",\"\",INDEX(referentes!J:K,MATCH(BL56,referentes!$K:$K,0),1))","v":""},{"$f":"IF(BD56=\"\",\"\",INDEX(referentes!V:W,MATCH(BD56,referentes!$W:$W,0),1))","v":""},{"$f":"IF(BE56=\"\",\"\",INDEX(referentes!Y:Z,MATCH(BE56,referentes!$Z:$Z,0),1))","v":""},{"$f":"IF(BF56=\"\",\"\",INDEX(referentes!AB:AC,MATCH(BF56,referentes!$AC:$AC,0),1))","v":""},{"$f":"IF(BG56=\"\",\"\",INDEX(referentes!AE:AF,MATCH(BG56,referentes!$AF:$AF,0),1))","v":""},{"$f":"IF(AY56=\"\",\"\",INDEX(referentes!M:N,MATCH(AY56,referentes!$N:$N,0),1))","v":""},{"$f":"IF(BN56=\"\",\"\",INDEX('Otras referencias'!S:T,MATCH(BN56,'Otras referencias'!$T:$T,0),1))","v":""},{"$f":"IF(BH56=\"\",\"\",INDEX('Otras referencias'!A:B,MATCH(BH56,'Otras referencias'!$B:$B,0),1))","v":""}]
[null,0,"",null,null,"",{"$f":"IF(H57=\"\",\"\",INDEX(referentes!AU:AV,MATCH(H57,referentes!$AV:$AV,0),1))","v":""},null,{"$f":"IF(J57=\"\",\"\",INDEX('Otras referencias'!$V:$W,MATCH(J57,'Otras referencias'!$W:$W,0),1))","v":""},null,null,null,null,null,null,null,null,null,52,null,null,null,null,null,null,null,null,null,null,null,null,null,null,null,null,null,null,null,null,null,null,null,null,null,null,0,null,null,null,0,null,null,null,null,null,null,null,null,null,null,null,null,null,null,null,null,null,null,"",{"$f":"IF(C57=\"\",\"\",IF(COUNTIF($C$6:C57, C57)>1, \"\", C57))","v":""},{"$f":"IF(K57=\"\",\"\",INDEX(referentes!P:Q,MATCH(K57,referentes!$Q:$Q,0),1))","v":""},{"$f":"IF(L57=\"\",\"\",INDEX(referentes!$A:$B,MATCH(L57,referentes!$B:$B,0),1))","v":""},{"$f":"IF(P57=\"\",\"\",INDEX(referentes!D:E,MATCH(P57,referentes!$E:$E,0),1))","v":""},{"$f":"IF(Q57=\"\",\"\",INDEX(referentes!G:H,MATCH(Q57,referentes!$H:$H,0),1))","v":""},"",{"$f":"IF(V57=\"\",\"\",INDEX(referentes!S:T,MATCH(V57,referentes!$T:$T,0),1))","v":""},{"$f":"IF(BL57=\"\",\"\",INDEX(referentes!J:K,MATCH(BL57,referentes!$K:$K,0),1))","v":""},{"$f":"IF(BD57=\"\",\"\",INDEX(referentes!V:W,MATCH(BD57,referentes!$W:$W,0),1))","v":""},{"$f":"IF(BE57=\"\",\"\",INDEX(referentes!Y:Z,MATCH(BE57,referentes!$Z:$Z,0),1))","v":""},{"$f":"IF(BF57=\"\",\"\",INDEX(referentes!AB:AC,MATCH(BF57,referentes!$AC:$AC,0),1))","v":""},{"$f":"IF(BG57=\"\",\"\",INDEX(referentes!AE:AF,MATCH(BG57,referentes!$AF:$AF,0),1))","v":""},{"$f":"IF(AY57=\"\",\"\",INDEX(referentes!M:N,MATCH(AY57,referentes!$N:$N,0),1))","v":""},{"$f":"IF(BN57=\"\",\"\",INDEX('Otras referencias'!S:T,MATCH(BN57,'Otras referencias'!$T:$T,0),1))","v":""},{"$f":"IF(BH57=\"\",\"\",INDEX('Otras referencias'!A:B,MATCH(BH57,'Otras referencias'!$B:$B,0),1))","v":""}]
[null,0,"",null,null,"",{"$f":"IF(H58=\"\",\"\",INDEX(referentes!AU:AV,MATCH(H58,referentes!$AV:$AV,0),1))","v":""},null,{"$f":"IF(J58=\"\",\"\",INDEX('Otras referencias'!$V:$W,MATCH(J58,'Otras referencias'!$W:$W,0),1))","v":""},null,null,null,null,null,null,null,null,null,53,null,null,null,null,null,null,null,null,null,null,null,null,null,null,null,null,null,null,null,null,null,null,null,null,null,null,0,null,null,null,0,null,null,null,null,null,null,null,null,null,null,null,null,null,null,null,null,null,null,"",{"$f":"IF(C58=\"\",\"\",IF(COUNTIF($C$6:C58, C58)>1, \"\", C58))","v":""},{"$f":"IF(K58=\"\",\"\",INDEX(referentes!P:Q,MATCH(K58,referentes!$Q:$Q,0),1))","v":""},{"$f":"IF(L58=\"\",\"\",INDEX(referentes!$A:$B,MATCH(L58,referentes!$B:$B,0),1))","v":""},{"$f":"IF(P58=\"\",\"\",INDEX(referentes!D:E,MATCH(P58,referentes!$E:$E,0),1))","v":""},{"$f":"IF(Q58=\"\",\"\",INDEX(referentes!G:H,MATCH(Q58,referentes!$H:$H,0),1))","v":""},"",{"$f":"IF(V58=\"\",\"\",INDEX(referentes!S:T,MATCH(V58,referentes!$T:$T,0),1))","v":""},{"$f":"IF(BL58=\"\",\"\",INDEX(referentes!J:K,MATCH(BL58,referentes!$K:$K,0),1))","v":""},{"$f":"IF(BD58=\"\",\"\",INDEX(referentes!V:W,MATCH(BD58,referentes!$W:$W,0),1))","v":""},{"$f":"IF(BE58=\"\",\"\",INDEX(referentes!Y:Z,MATCH(BE58,referentes!$Z:$Z,0),1))","v":""},{"$f":"IF(BF58=\"\",\"\",INDEX(referentes!AB:AC,MATCH(BF58,referentes!$AC:$AC,0),1))","v":""},{"$f":"IF(BG58=\"\",\"\",INDEX(referentes!AE:AF,MATCH(BG58,referentes!$AF:$AF,0),1))","v":""},{"$f":"IF(AY58=\"\",\"\",INDEX(referentes!M:N,MATCH(AY58,referentes!$N:$N,0),1))","v":""},{"$f":"IF(BN58=\"\",\"\",INDEX('Otras referencias'!S:T,MATCH(BN58,'Otras referencias'!$T:$T,0),1))","v":""},{"$f":"IF(BH58=\"\",\"\",INDEX('Otras referencias'!A:B,MATCH(BH58,'Otras referencias'!$B:$B,0),1))","v":""}]
[null,0,"",null,null,"",{"$f":"IF(H59=\"\",\"\",INDEX(referentes!AU:AV,MATCH(H59,referentes!$AV:$AV,0),1))","v":""},null,{"$f":"IF(J59=\"\",\"\",INDEX('Otras referencias'!$V:$W,MATCH(J59,'Otras referencias'!$W:$W,0),1))","v":""},null,null,null,null,null,null,null,null,null,54,null,null,null,null,null,null,null,null,null,null,null,null,null,null,null,null,null,null,null,null,null,null,null,null,null,null,0,null,null,null,0,null,null,null,null,null,null,null,null,null,null,null,null,null,null,null,null,null,null,"",{"$f":"IF(C59=\"\",\"\",IF(COUNTIF($C$6:C59, C59)>1, \"\", C59))","v":""},{"$f":"IF(K59=\"\",\"\",INDEX(referentes!P:Q,MATCH(K59,referentes!$Q:$Q,0),1))","v":""},{"$f":"IF(L59=\"\",\"\",INDEX(referentes!$A:$B,MATCH(L59,referentes!$B:$B,0),1))","v":""},{"$f":"IF(P59=\"\",\"\",INDEX(referentes!D:E,MATCH(P59,referentes!$E:$E,0),1))","v":""},{"$f":"IF(Q59=\"\",\"\",INDEX(referentes!G:H,MATCH(Q59,referentes!$H:$H,0),1))","v":""},"",{"$f":"IF(V59=\"\",\"\",INDEX(referentes!S:T,MATCH(V59,referentes!$T:$T,0),1))","v":""},{"$f":"IF(BL59=\"\",\"\",INDEX(referentes!J:K,MATCH(BL59,referentes!$K:$K,0),1))","v":""},{"$f":"IF(BD59=\"\",\"\",INDEX(referentes!V:W,MATCH(BD59,referentes!$W:$W,0),1))","v":""},{"$f":"IF(BE59=\"\",\"\",INDEX(referentes!Y:Z,MATCH(BE59,referentes!$Z:$Z,0),1))","v":""},{"$f":"IF(BF59=\"\",\"\",INDEX(referentes!AB:AC,MATCH(BF59,referentes!$AC:$AC,0),1))","v":""},{"$f":"IF(BG59=\"\",\"\",INDEX(referentes!AE:AF,MATCH(BG59,referentes!$AF:$AF,0),1))","v":""},{"$f":"IF(AY59=\"\",\"\",INDEX(referentes!M:N,MATCH(AY59,referentes!$N:$N,0),1))","v":""},{"$f":"IF(BN59=\"\",\"\",INDEX('Otras referencias'!S:T,MATCH(BN59,'Otras referencias'!$T:$T,0),1))","v":""},{"$f":"IF(BH59=\"\",\"\",INDEX('Otras referencias'!A:B,MATCH(BH59,'Otras referencias'!$B:$B,0),1))","v":""}]
[null,0,"",null,null,"",{"$f":"IF(H60=\"\",\"\",INDEX(referentes!AU:AV,MATCH(H60,referentes!$AV:$AV,0),1))","v":""},null,{"$f":"IF(J60=\"\",\"\",INDEX('Otras referencias'!$V:$W,MATCH(J60,'Otras referencias'!$W:$W,0),1))","v":""},null,null,null,null,null,null,null,null,null,55,null,null,null,null,null,null,null,null,null,null,null,null,null,null,null,null,null,null,null,null,null,null,null,null,null,null,0,null,null,null,0,null,null,null,null,null,null,null,null,null,null,null,null,null,null,null,null,null,null,"",{"$f":"IF(C60=\"\",\"\",IF(COUNTIF($C$6:C60, C60)>1, \"\", C60))","v":""},{"$f":"IF(K60=\"\",\"\",INDEX(referentes!P:Q,MATCH(K60,referentes!$Q:$Q,0),1))","v":""},{"$f":"IF(L60=\"\",\"\",INDEX(referentes!$A:$B,MATCH(L60,referentes!$B:$B,0),1))","v":""},{"$f":"IF(P60=\"\",\"\",INDEX(referentes!D:E,MATCH(P60,referentes!$E:$E,0),1))","v":""},{"$f":"IF(Q60=\"\",\"\",INDEX(referentes!G:H,MATCH(Q60,referentes!$H:$H,0),1))","v":""},"",{"$f":"IF(V60=\"\",\"\",INDEX(referentes!S:T,MATCH(V60,referentes!$T:$T,0),1))","v":""},{"$f":"IF(BL60=\"\",\"\",INDEX(referentes!J:K,MATCH(BL60,referentes!$K:$K,0),1))","v":""},{"$f":"IF(BD60=\"\",\"\",INDEX(referentes!V:W,MATCH(BD60,referentes!$W:$W,0),1))","v":""},{"$f":"IF(BE60=\"\",\"\",INDEX(referentes!Y:Z,MATCH(BE60,referentes!$Z:$Z,0),1))","v":""},{"$f":"IF(BF60=\"\",\"\",INDEX(referentes!AB:AC,MATCH(BF60,referentes!$AC:$AC,0),1))","v":""},{"$f":"IF(BG60=\"\",\"\",INDEX(referentes!AE:AF,MATCH(BG60,referentes!$AF:$AF,0),1))","v":""},{"$f":"IF(AY60=\"\",\"\",INDEX(referentes!M:N,MATCH(AY60,referentes!$N:$N,0),1))","v":""},{"$f":"IF(BN60=\"\",\"\",INDEX('Otras referencias'!S:T,MATCH(BN60,'Otras referencias'!$T:$T,0),1))","v":""},{"$f":"IF(BH60=\"\",\"\",INDEX('Otras referencias'!A:B,MATCH(BH60,'Otras referencias'!$B:$B,0),1))","v":""}]
[null,0,"",null,null,"",{"$f":"IF(H61=\"\",\"\",INDEX(referentes!AU:AV,MATCH(H61,referentes!$AV:$AV,0),1))","v":""},null,{"$f":"IF(J61=\"\",\"\",INDEX('Otras referencias'!$V:$W,MATCH(J61,'Otras referencias'!$W:$W,0),1))","v":""},null,null,null,null,null,null,null,null,null,56,null,null,null,null,null,null,null,null,null,null,null,null,null,null,null,null,null,null,null,null,null,null,null,null,null,null,0,null,null,null,0,null,null,null,null,null,null,null,null,null,null,null,null,null,null,null,null,null,null,"",{"$f":"IF(C61=\"\",\"\",IF(COUNTIF($C$6:C61, C61)>1, \"\", C61))","v":""},{"$f":"IF(K61=\"\",\"\",INDEX(referentes!P:Q,MATCH(K61,referentes!$Q:$Q,0),1))","v":""},{"$f":"IF(L61=\"\",\"\",INDEX(referentes!$A:$B,MATCH(L61,referentes!$B:$B,0),1))","v":""},{"$f":"IF(P61=\"\",\"\",INDEX(referentes!D:E,MATCH(P61,referentes!$E:$E,0),1))","v":""},{"$f":"IF(Q61=\"\",\"\",INDEX(referentes!G:H,MATCH(Q61,referentes!$H:$H,0),1))","v":""},"",{"$f":"IF(V61=\"\",\"\",INDEX(referentes!S:T,MATCH(V61,referentes!$T:$T,0),1))","v":""},{"$f":"IF(BL61=\"\",\"\",INDEX(referentes!J:K,MATCH(BL61,referentes!$K:$K,0),1))","v":""},{"$f":"IF(BD61=\"\",\"\",INDEX(referentes!V:W,MATCH(BD61,referentes!$W:$W,0),1))","v":""},{"$f":"IF(BE61=\"\",\"\",INDEX(referentes!Y:Z,MATCH(BE61,referentes!$Z:$Z,0),1))","v":""},{"$f":"IF(BF61=\"\",\"\",INDEX(referentes!AB:AC,MATCH(BF61,referentes!$AC:$AC,0),1))","v":""},{"$f":"IF(BG61=\"\",\"\",INDEX(referentes!AE:AF,MATCH(BG61,referentes!$AF:$AF,0),1))","v":""},{"$f":"IF(AY61=\"\",\"\",INDEX(referentes!M:N,MATCH(AY61,referentes!$N:$N,0),1))","v":""},{"$f":"IF(BN61=\"\",\"\",INDEX('Otras referencias'!S:T,MATCH(BN61,'Otras referencias'!$T:$T,0),1))","v":""},{"$f":"IF(BH61=\"\",\"\",INDEX('Otras referencias'!A:B,MATCH(BH61,'Otras referencias'!$B:$B,0),1))","v":""}]
[null,0,"",null,null,"",{"$f":"IF(H62=\"\",\"\",INDEX(referentes!AU:AV,MATCH(H62,referentes!$AV:$AV,0),1))","v":""},null,{"$f":"IF(J62=\"\",\"\",INDEX('Otras referencias'!$V:$W,MATCH(J62,'Otras referencias'!$W:$W,0),1))","v":""},null,null,null,null,null,null,null,null,null,57,null,null,null,null,null,null,null,null,null,null,null,null,null,null,null,null,null,null,null,null,null,null,null,null,null,null,0,null,null,null,0,null,null,null,null,null,null,null,null,null,null,null,null,null,null,null,null,null,null,"",{"$f":"IF(C62=\"\",\"\",IF(COUNTIF($C$6:C62, C62)>1, \"\", C62))","v":""},{"$f":"IF(K62=\"\",\"\",INDEX(referentes!P:Q,MATCH(K62,referentes!$Q:$Q,0),1))","v":""},{"$f":"IF(L62=\"\",\"\",INDEX(referentes!$A:$B,MATCH(L62,referentes!$B:$B,0),1))","v":""},{"$f":"IF(P62=\"\",\"\",INDEX(referentes!D:E,MATCH(P62,referentes!$E:$E,0),1))","v":""},{"$f":"IF(Q62=\"\",\"\",INDEX(referentes!G:H,MATCH(Q62,referentes!$H:$H,0),1))","v":""},"",{"$f":"IF(V62=\"\",\"\",INDEX(referentes!S:T,MATCH(V62,referentes!$T:$T,0),1))","v":""},{"$f":"IF(BL62=\"\",\"\",INDEX(referentes!J:K,MATCH(BL62,referentes!$K:$K,0),1))","v":""},{"$f":"IF(BD62=\"\",\"\",INDEX(referentes!V:W,MATCH(BD62,referentes!$W:$W,0),1))","v":""},{"$f":"IF(BE62=\"\",\"\",INDEX(referentes!Y:Z,MATCH(BE62,referentes!$Z:$Z,0),1))","v":""},{"$f":"IF(BF62=\"\",\"\",INDEX(referentes!AB:AC,MATCH(BF62,referentes!$AC:$AC,0),1))","v":""},{"$f":"IF(BG62=\"\",\"\",INDEX(referentes!AE:AF,MATCH(BG62,referentes!$AF:$AF,0),1))","v":""},{"$f":"IF(AY62=\"\",\"\",INDEX(referentes!M:N,MATCH(AY62,referentes!$N:$N,0),1))","v":""},{"$f":"IF(BN62=\"\",\"\",INDEX('Otras referencias'!S:T,MATCH(BN62,'Otras referencias'!$T:$T,0),1))","v":""},{"$f":"IF(BH62=\"\",\"\",INDEX('Otras referencias'!A:B,MATCH(BH62,'Otras referencias'!$B:$B,0),1))","v":""}]
[null,0,"",null,null,"",{"$f":"IF(H63=\"\",\"\",INDEX(referentes!AU:AV,MATCH(H63,referentes!$AV:$AV,0),1))","v":""},null,{"$f":"IF(J63=\"\",\"\",INDEX('Otras referencias'!$V:$W,MATCH(J63,'Otras referencias'!$W:$W,0),1))","v":""},null,null,null,null,null,null,null,null,null,58,null,null,null,null,null,null,null,null,null,null,null,null,null,null,null,null,null,null,null,null,null,null,null,null,null,null,0,null,null,null,0,null,null,null,null,null,null,null,null,null,null,null,null,null,null,null,null,null,null,"",{"$f":"IF(C63=\"\",\"\",IF(COUNTIF($C$6:C63, C63)>1, \"\", C63))","v":""},{"$f":"IF(K63=\"\",\"\",INDEX(referentes!P:Q,MATCH(K63,referentes!$Q:$Q,0),1))","v":""},{"$f":"IF(L63=\"\",\"\",INDEX(referentes!$A:$B,MATCH(L63,referentes!$B:$B,0),1))","v":""},{"$f":"IF(P63=\"\",\"\",INDEX(referentes!D:E,MATCH(P63,referentes!$E:$E,0),1))","v":""},{"$f":"IF(Q63=\"\",\"\",INDEX(referentes!G:H,MATCH(Q63,referentes!$H:$H,0),1))","v":""},"",{"$f":"IF(V63=\"\",\"\",INDEX(referentes!S:T,MATCH(V63,referentes!$T:$T,0),1))","v":""},{"$f":"IF(BL63=\"\",\"\",INDEX(referentes!J:K,MATCH(BL63,referentes!$K:$K,0),1))","v":""},{"$f":"IF(BD63=\"\",\"\",INDEX(referentes!V:W,MATCH(BD63,referentes!$W:$W,0),1))","v":""},{"$f":"IF(BE63=\"\",\"\",INDEX(referentes!Y:Z,MATCH(BE63,referentes!$Z:$Z,0),1))","v":""},{"$f":"IF(BF63=\"\",\"\",INDEX(referentes!AB:AC,MATCH(BF63,referentes!$AC:$AC,0),1))","v":""},{"$f":"IF(BG63=\"\",\"\",INDEX(referentes!AE:AF,MATCH(BG63,referentes!$AF:$AF,0),1))","v":""},{"$f":"IF(AY63=\"\",\"\",INDEX(referentes!M:N,MATCH(AY63,referentes!$N:$N,0),1))","v":""},{"$f":"IF(BN63=\"\",\"\",INDEX('Otras referencias'!S:T,MATCH(BN63,'Otras referencias'!$T:$T,0),1))","v":""},{"$f":"IF(BH63=\"\",\"\",INDEX('Otras referencias'!A:B,MATCH(BH63,'Otras referencias'!$B:$B,0),1))","v":""}]
[null,0,"",null,null,"",{"$f":"IF(H64=\"\",\"\",INDEX(referentes!AU:AV,MATCH(H64,referentes!$AV:$AV,0),1))","v":""},null,{"$f":"IF(J64=\"\",\"\",INDEX('Otras referencias'!$V:$W,MATCH(J64,'Otras referencias'!$W:$W,0),1))","v":""},null,null,null,null,null,null,null,null,null,59,null,null,null,null,null,null,null,null,null,null,null,null,null,null,null,null,null,null,null,null,null,null,null,null,null,null,0,null,null,null,0,null,null,null,null,null,null,null,null,null,null,null,null,null,null,null,null,null,null,"",{"$f":"IF(C64=\"\",\"\",IF(COUNTIF($C$6:C64, C64)>1, \"\", C64))","v":""},{"$f":"IF(K64=\"\",\"\",INDEX(referentes!P:Q,MATCH(K64,referentes!$Q:$Q,0),1))","v":""},{"$f":"IF(L64=\"\",\"\",INDEX(referentes!$A:$B,MATCH(L64,referentes!$B:$B,0),1))","v":""},{"$f":"IF(P64=\"\",\"\",INDEX(referentes!D:E,MATCH(P64,referentes!$E:$E,0),1))","v":""},{"$f":"IF(Q64=\"\",\"\",INDEX(referentes!G:H,MATCH(Q64,referentes!$H:$H,0),1))","v":""},"",{"$f":"IF(V64=\"\",\"\",INDEX(referentes!S:T,MATCH(V64,referentes!$T:$T,0),1))","v":""},{"$f":"IF(BL64=\"\",\"\",INDEX(referentes!J:K,MATCH(BL64,referentes!$K:$K,0),1))","v":""},{"$f":"IF(BD64=\"\",\"\",INDEX(referentes!V:W,MATCH(BD64,referentes!$W:$W,0),1))","v":""},{"$f":"IF(BE64=\"\",\"\",INDEX(referentes!Y:Z,MATCH(BE64,referentes!$Z:$Z,0),1))","v":""},{"$f":"IF(BF64=\"\",\"\",INDEX(referentes!AB:AC,MATCH(BF64,referentes!$AC:$AC,0),1))","v":""},{"$f":"IF(BG64=\"\",\"\",INDEX(referentes!AE:AF,MATCH(BG64,referentes!$AF:$AF,0),1))","v":""},{"$f":"IF(AY64=\"\",\"\",INDEX(referentes!M:N,MATCH(AY64,referentes!$N:$N,0),1))","v":""},{"$f":"IF(BN64=\"\",\"\",INDEX('Otras referencias'!S:T,MATCH(BN64,'Otras referencias'!$T:$T,0),1))","v":""},{"$f":"IF(BH64=\"\",\"\",INDEX('Otras referencias'!A:B,MATCH(BH64,'Otras referencias'!$B:$B,0),1))","v":""}]
[null,0,"",null,null,"",{"$f":"IF(H65=\"\",\"\",INDEX(referentes!AU:AV,MATCH(H65,referentes!$AV:$AV,0),1))","v":""},null,{"$f":"IF(J65=\"\",\"\",INDEX('Otras referencias'!$V:$W,MATCH(J65,'Otras referencias'!$W:$W,0),1))","v":""},null,null,null,null,null,null,null,null,null,60,null,null,null,null,null,null,null,null,null,null,null,null,null,null,null,null,null,null,null,null,null,null,null,null,null,null,0,null,null,null,0,null,null,null,null,null,null,null,null,null,null,null,null,null,null,null,null,null,null,"",{"$f":"IF(C65=\"\",\"\",IF(COUNTIF($C$6:C65, C65)>1, \"\", C65))","v":""},{"$f":"IF(K65=\"\",\"\",INDEX(referentes!P:Q,MATCH(K65,referentes!$Q:$Q,0),1))","v":""},{"$f":"IF(L65=\"\",\"\",INDEX(referentes!$A:$B,MATCH(L65,referentes!$B:$B,0),1))","v":""},{"$f":"IF(P65=\"\",\"\",INDEX(referentes!D:E,MATCH(P65,referentes!$E:$E,0),1))","v":""},{"$f":"IF(Q65=\"\",\"\",INDEX(referentes!G:H,MATCH(Q65,referentes!$H:$H,0),1))","v":""},"",{"$f":"IF(V65=\"\",\"\",INDEX(referentes!S:T,MATCH(V65,referentes!$T:$T,0),1))","v":""},{"$f":"IF(BL65=\"\",\"\",INDEX(referentes!J:K,MATCH(BL65,referentes!$K:$K,0),1))","v":""},{"$f":"IF(BD65=\"\",\"\",INDEX(referentes!V:W,MATCH(BD65,referentes!$W:$W,0),1))","v":""},{"$f":"IF(BE65=\"\",\"\",INDEX(referentes!Y:Z,MATCH(BE65,referentes!$Z:$Z,0),1))","v":""},{"$f":"IF(BF65=\"\",\"\",INDEX(referentes!AB:AC,MATCH(BF65,referentes!$AC:$AC,0),1))","v":""},{"$f":"IF(BG65=\"\",\"\",INDEX(referentes!AE:AF,MATCH(BG65,referentes!$AF:$AF,0),1))","v":""},{"$f":"IF(AY65=\"\",\"\",INDEX(referentes!M:N,MATCH(AY65,referentes!$N:$N,0),1))","v":""},{"$f":"IF(BN65=\"\",\"\",INDEX('Otras referencias'!S:T,MATCH(BN65,'Otras referencias'!$T:$T,0),1))","v":""},{"$f":"IF(BH65=\"\",\"\",INDEX('Otras referencias'!A:B,MATCH(BH65,'Otras referencias'!$B:$B,0),1))","v":""}]
[null,0,"",null,null,"",{"$f":"IF(H66=\"\",\"\",INDEX(referentes!AU:AV,MATCH(H66,referentes!$AV:$AV,0),1))","v":""},null,{"$f":"IF(J66=\"\",\"\",INDEX('Otras referencias'!$V:$W,MATCH(J66,'Otras referencias'!$W:$W,0),1))","v":""},null,null,null,null,null,null,null,null,null,61,null,null,null,null,null,null,null,null,null,null,null,null,null,null,null,null,null,null,null,null,null,null,null,null,null,null,0,null,null,null,0,null,null,null,null,null,null,null,null,null,null,null,null,null,null,null,null,null,null,"",{"$f":"IF(C66=\"\",\"\",IF(COUNTIF($C$6:C66, C66)>1, \"\", C66))","v":""},{"$f":"IF(K66=\"\",\"\",INDEX(referentes!P:Q,MATCH(K66,referentes!$Q:$Q,0),1))","v":""},{"$f":"IF(L66=\"\",\"\",INDEX(referentes!$A:$B,MATCH(L66,referentes!$B:$B,0),1))","v":""},{"$f":"IF(P66=\"\",\"\",INDEX(referentes!D:E,MATCH(P66,referentes!$E:$E,0),1))","v":""},{"$f":"IF(Q66=\"\",\"\",INDEX(referentes!G:H,MATCH(Q66,referentes!$H:$H,0),1))","v":""},"",{"$f":"IF(V66=\"\",\"\",INDEX(referentes!S:T,MATCH(V66,referentes!$T:$T,0),1))","v":""},{"$f":"IF(BL66=\"\",\"\",INDEX(referentes!J:K,MATCH(BL66,referentes!$K:$K,0),1))","v":""},{"$f":"IF(BD66=\"\",\"\",INDEX(referentes!V:W,MATCH(BD66,referentes!$W:$W,0),1))","v":""},{"$f":"IF(BE66=\"\",\"\",INDEX(referentes!Y:Z,MATCH(BE66,referentes!$Z:$Z,0),1))","v":""},{"$f":"IF(BF66=\"\",\"\",INDEX(referentes!AB:AC,MATCH(BF66,referentes!$AC:$AC,0),1))","v":""},{"$f":"IF(BG66=\"\",\"\",INDEX(referentes!AE:AF,MATCH(BG66,referentes!$AF:$AF,0),1))","v":""},{"$f":"IF(AY66=\"\",\"\",INDEX(referentes!M:N,MATCH(AY66,referentes!$N:$N,0),1))","v":""},{"$f":"IF(BN66=\"\",\"\",INDEX('Otras referencias'!S:T,MATCH(BN66,'Otras referencias'!$T:$T,0),1))","v":""},{"$f":"IF(BH66=\"\",\"\",INDEX('Otras referencias'!A:B,MATCH(BH66,'Otras referencias'!$B:$B,0),1))","v":""}]
[null,0,"",null,null,"",{"$f":"IF(H67=\"\",\"\",INDEX(referentes!AU:AV,MATCH(H67,referentes!$AV:$AV,0),1))","v":""},null,{"$f":"IF(J67=\"\",\"\",INDEX('Otras referencias'!$V:$W,MATCH(J67,'Otras referencias'!$W:$W,0),1))","v":""},null,null,null,null,null,null,null,null,null,62,null,null,null,null,null,null,null,null,null,null,null,null,null,null,null,null,null,null,null,null,null,null,null,null,null,null,0,null,null,null,0,null,null,null,null,null,null,null,null,null,null,null,null,null,null,null,null,null,null,"",{"$f":"IF(C67=\"\",\"\",IF(COUNTIF($C$6:C67, C67)>1, \"\", C67))","v":""},{"$f":"IF(K67=\"\",\"\",INDEX(referentes!P:Q,MATCH(K67,referentes!$Q:$Q,0),1))","v":""},{"$f":"IF(L67=\"\",\"\",INDEX(referentes!$A:$B,MATCH(L67,referentes!$B:$B,0),1))","v":""},{"$f":"IF(P67=\"\",\"\",INDEX(referentes!D:E,MATCH(P67,referentes!$E:$E,0),1))","v":""},{"$f":"IF(Q67=\"\",\"\",INDEX(referentes!G:H,MATCH(Q67,referentes!$H:$H,0),1))","v":""},"",{"$f":"IF(V67=\"\",\"\",INDEX(referentes!S:T,MATCH(V67,referentes!$T:$T,0),1))","v":""},{"$f":"IF(BL67=\"\",\"\",INDEX(referentes!J:K,MATCH(BL67,referentes!$K:$K,0),1))","v":""},{"$f":"IF(BD67=\"\",\"\",INDEX(referentes!V:W,MATCH(BD67,referentes!$W:$W,0),1))","v":""},{"$f":"IF(BE67=\"\",\"\",INDEX(referentes!Y:Z,MATCH(BE67,referentes!$Z:$Z,0),1))","v":""},{"$f":"IF(BF67=\"\",\"\",INDEX(referentes!AB:AC,MATCH(BF67,referentes!$AC:$AC,0),1))","v":""},{"$f":"IF(BG67=\"\",\"\",INDEX(referentes!AE:AF,MATCH(BG67,referentes!$AF:$AF,0),1))","v":""},{"$f":"IF(AY67=\"\",\"\",INDEX(referentes!M:N,MATCH(AY67,referentes!$N:$N,0),1))","v":""},{"$f":"IF(BN67=\"\",\"\",INDEX('Otras referencias'!S:T,MATCH(BN67,'Otras referencias'!$T:$T,0),1))","v":""},{"$f":"IF(BH67=\"\",\"\",INDEX('Otras referencias'!A:B,MATCH(BH67,'Otras referencias'!$B:$B,0),1))","v":""}]
[null,0,"",null,null,"",{"$f":"IF(H68=\"\",\"\",INDEX(referentes!AU:AV,MATCH(H68,referentes!$AV:$AV,0),1))","v":""},null,{"$f":"IF(J68=\"\",\"\",INDEX('Otras referencias'!$V:$W,MATCH(J68,'Otras referencias'!$W:$W,0),1))","v":""},null,null,null,null,null,null,null,null,null,63,null,null,null,null,null,null,null,null,null,null,null,null,null,null,null,null,null,null,null,null,null,null,null,null,null,null,0,null,null,null,0,null,null,null,null,null,null,null,null,null,null,null,null,null,null,null,null,null,null,"",{"$f":"IF(C68=\"\",\"\",IF(COUNTIF($C$6:C68, C68)>1, \"\", C68))","v":""},{"$f":"IF(K68=\"\",\"\",INDEX(referentes!P:Q,MATCH(K68,referentes!$Q:$Q,0),1))","v":""},{"$f":"IF(L68=\"\",\"\",INDEX(referentes!$A:$B,MATCH(L68,referentes!$B:$B,0),1))","v":""},{"$f":"IF(P68=\"\",\"\",INDEX(referentes!D:E,MATCH(P68,referentes!$E:$E,0),1))","v":""},{"$f":"IF(Q68=\"\",\"\",INDEX(referentes!G:H,MATCH(Q68,referentes!$H:$H,0),1))","v":""},"",{"$f":"IF(V68=\"\",\"\",INDEX(referentes!S:T,MATCH(V68,referentes!$T:$T,0),1))","v":""},{"$f":"IF(BL68=\"\",\"\",INDEX(referentes!J:K,MATCH(BL68,referentes!$K:$K,0),1))","v":""},{"$f":"IF(BD68=\"\",\"\",INDEX(referentes!V:W,MATCH(BD68,referentes!$W:$W,0),1))","v":""},{"$f":"IF(BE68=\"\",\"\",INDEX(referentes!Y:Z,MATCH(BE68,referentes!$Z:$Z,0),1))","v":""},{"$f":"IF(BF68=\"\",\"\",INDEX(referentes!AB:AC,MATCH(BF68,referentes!$AC:$AC,0),1))","v":""},{"$f":"IF(BG68=\"\",\"\",INDEX(referentes!AE:AF,MATCH(BG68,referentes!$AF:$AF,0),1))","v":""},{"$f":"IF(AY68=\"\",\"\",INDEX(referentes!M:N,MATCH(AY68,referentes!$N:$N,0),1))","v":""},{"$f":"IF(BN68=\"\",\"\",INDEX('Otras referencias'!S:T,MATCH(BN68,'Otras referencias'!$T:$T,0),1))","v":""},{"$f":"IF(BH68=\"\",\"\",INDEX('Otras referencias'!A:B,MATCH(BH68,'Otras referencias'!$B:$B,0),1))","v":""}]
[null,0,"",null,null,"",{"$f":"IF(H69=\"\",\"\",INDEX(referentes!AU:AV,MATCH(H69,referentes!$AV:$AV,0),1))","v":""},null,{"$f":"IF(J69=\"\",\"\",INDEX('Otras referencias'!$V:$W,MATCH(J69,'Otras referencias'!$W:$W,0),1))","v":""},null,null,null,null,null,null,null,null,null,64,null,null,null,null,null,null,null,null,null,null,null,null,null,null,null,null,null,null,null,null,null,null,null,null,null,null,0,null,null,null,0,null,null,null,null,null,null,null,null,null,null,null,null,null,null,null,null,null,null,"",{"$f":"IF(C69=\"\",\"\",IF(COUNTIF($C$6:C69, C69)>1, \"\", C69))","v":""},{"$f":"IF(K69=\"\",\"\",INDEX(referentes!P:Q,MATCH(K69,referentes!$Q:$Q,0),1))","v":""},{"$f":"IF(L69=\"\",\"\",INDEX(referentes!$A:$B,MATCH(L69,referentes!$B:$B,0),1))","v":""},{"$f":"IF(P69=\"\",\"\",INDEX(referentes!D:E,MATCH(P69,referentes!$E:$E,0),1))","v":""},{"$f":"IF(Q69=\"\",\"\",INDEX(referentes!G:H,MATCH(Q69,referentes!$H:$H,0),1))","v":""},"",{"$f":"IF(V69=\"\",\"\",INDEX(referentes!S:T,MATCH(V69,referentes!$T:$T,0),1))","v":""},{"$f":"IF(BL69=\"\",\"\",INDEX(referentes!J:K,MATCH(BL69,referentes!$K:$K,0),1))","v":""},{"$f":"IF(BD69=\"\",\"\",INDEX(referentes!V:W,MATCH(BD69,referentes!$W:$W,0),1))","v":""},{"$f":"IF(BE69=\"\",\"\",INDEX(referentes!Y:Z,MATCH(BE69,referentes!$Z:$Z,0),1))","v":""},{"$f":"IF(BF69=\"\",\"\",INDEX(referentes!AB:AC,MATCH(BF69,referentes!$AC:$AC,0),1))","v":""},{"$f":"IF(BG69=\"\",\"\",INDEX(referentes!AE:AF,MATCH(BG69,referentes!$AF:$AF,0),1))","v":""},{"$f":"IF(AY69=\"\",\"\",INDEX(referentes!M:N,MATCH(AY69,referentes!$N:$N,0),1))","v":""},{"$f":"IF(BN69=\"\",\"\",INDEX('Otras referencias'!S:T,MATCH(BN69,'Otras referencias'!$T:$T,0),1))","v":""},{"$f":"IF(BH69=\"\",\"\",INDEX('Otras referencias'!A:B,MATCH(BH69,'Otras referencias'!$B:$B,0),1))","v":""}]
[null,0,"",null,null,"",{"$f":"IF(H70=\"\",\"\",INDEX(referentes!AU:AV,MATCH(H70,referentes!$AV:$AV,0),1))","v":""},null,{"$f":"IF(J70=\"\",\"\",INDEX('Otras referencias'!$V:$W,MATCH(J70,'Otras referencias'!$W:$W,0),1))","v":""},null,null,null,null,null,null,null,null,null,65,null,null,null,null,null,null,null,null,null,null,null,null,null,null,null,null,null,null,null,null,null,null,null,null,null,null,0,null,null,null,{"$f":"SUM(AU70:AW70)","v":0},null,null,null,null,null,null,null,null,null,null,null,null,null,null,null,null,null,null,{"$f":"IF(D70=\"\",\"\",CONCATENATE(C70,S70))","v":""},{"$f":"IF(C70=\"\",\"\",IF(COUNTIF($C$6:C70, C70)>1, \"\", C70))","v":""},{"$f":"IF(K70=\"\",\"\",INDEX(referentes!P:Q,MATCH(K70,referentes!$Q:$Q,0),1))","v":""},{"$f":"IF(L70=\"\",\"\",INDEX(referentes!$A:$B,MATCH(L70,referentes!$B:$B,0),1))","v":""},{"$f":"IF(P70=\"\",\"\",INDEX(referentes!D:E,MATCH(P70,referentes!$E:$E,0),1))","v":""},{"$f":"IF(Q70=\"\",\"\",INDEX(referentes!G:H,MATCH(Q70,referentes!$H:$H,0),1))","v":""},"",{"$f":"IF(V70=\"\",\"\",INDEX(referentes!S:T,MATCH(V70,referentes!$T:$T,0),1))","v":""},{"$f":"IF(BL70=\"\",\"\",INDEX(referentes!J:K,MATCH(BL70,referentes!$K:$K,0),1))","v":""},{"$f":"IF(BD70=\"\",\"\",INDEX(referentes!V:W,MATCH(BD70,referentes!$W:$W,0),1))","v":""},{"$f":"IF(BE70=\"\",\"\",INDEX(referentes!Y:Z,MATCH(BE70,referentes!$Z:$Z,0),1))","v":""},{"$f":"IF(BF70=\"\",\"\",INDEX(referentes!AB:AC,MATCH(BF70,referentes!$AC:$AC,0),1))","v":""},{"$f":"IF(BG70=\"\",\"\",INDEX(referentes!AE:AF,MATCH(BG70,referentes!$AF:$AF,0),1))","v":""},{"$f":"IF(AY70=\"\",\"\",INDEX(referentes!M:N,MATCH(AY70,referentes!$N:$N,0),1))","v":""},{"$f":"IF(BN70=\"\",\"\",INDEX('Otras referencias'!S:T,MATCH(BN70,'Otras referencias'!$T:$T,0),1))","v":""},{"$f":"IF(BH70=\"\",\"\",INDEX('Otras referencias'!A:B,MATCH(BH70,'Otras referencias'!$B:$B,0),1))","v":""}]
[null,{"$f":"IF(BW71=BW70,B70,B70+1)","v":0},{"$f":"IF(E71<>\"\",CONCATENATE($A$3,D71,B71),\"\")","v":""},null,null,{"$f":"IF(D71<>\"\",D71+E71,\"\")","v":""},{"$f":"IF(H71=\"\",\"\",INDEX(referentes!AU:AV,MATCH(H71,referentes!$AV:$AV,0),1))","v":""},null,{"$f":"IF(J71=\"\",\"\",INDEX('Otras referencias'!$V:$W,MATCH(J71,'Otras referencias'!$W:$W,0),1))","v":""},null,null,null,null,null,null,null,null,null,66,null,null,null,null,null,null,null,null,null,null,null,null,null,null,null,null,null,null,null,null,null,null,null,null,null,null,{"$f":"SUM(W71:AR71)","v":0},null,null,null,0,null,null,null,null,null,null,null,null,null,null,null,null,null,null,null,null,null,null,"",{"$f":"IF(C71=\"\",\"\",IF(COUNTIF($C$6:C71, C71)>1, \"\", C71))","v":""},{"$f":"IF(K71=\"\",\"\",INDEX(referentes!P:Q,MATCH(K71,referentes!$Q:$Q,0),1))","v":""},{"$f":"IF(L71=\"\",\"\",INDEX(referentes!$A:$B,MATCH(L71,referentes!$B:$B,0),1))","v":""},{"$f":"IF(P71=\"\",\"\",INDEX(referentes!D:E,MATCH(P71,referentes!$E:$E,0),1))","v":""},{"$f":"IF(Q71=\"\",\"\",INDEX(referentes!G:H,MATCH(Q71,referentes!$H:$H,0),1))","v":""},{"$f":"CONCATENATE(G71,I71,BS71,BT71,BU71,BV71,M71,N71,O71)","v":""},{"$f":"IF(V71=\"\",\"\",INDEX(referentes!S:T,MATCH(V71,referentes!$T:$T,0),1))","v":""},{"$f":"IF(BL71=\"\",\"\",INDEX(referentes!J:K,MATCH(BL71,referentes!$K:$K,0),1))","v":""},{"$f":"IF(BD71=\"\",\"\",INDEX(referentes!V:W,MATCH(BD71,referentes!$W:$W,0),1))","v":""},{"$f":"IF(BE71=\"\",\"\",INDEX(referentes!Y:Z,MATCH(BE71,referentes!$Z:$Z,0),1))","v":""},{"$f":"IF(BF71=\"\",\"\",INDEX(referentes!AB:AC,MATCH(BF71,referentes!$AC:$AC,0),1))","v":""},{"$f":"IF(BG71=\"\",\"\",INDEX(referentes!AE:AF,MATCH(BG71,referentes!$AF:$AF,0),1))","v":""},{"$f":"IF(AY71=\"\",\"\",INDEX(referentes!M:N,MATCH(AY71,referentes!$N:$N,0),1))","v":""},{"$f":"IF(BN71=\"\",\"\",INDEX('Otras referencias'!S:T,MATCH(BN71,'Otras referencias'!$T:$T,0),1))","v":""},{"$f":"IF(BH71=\"\",\"\",INDEX('Otras referencias'!A:B,MATCH(BH71,'Otras referencias'!$B:$B,0),1))","v":""}]
[null,0,"",null,null,"",{"$f":"IF(H72=\"\",\"\",INDEX(referentes!AU:AV,MATCH(H72,referentes!$AV:$AV,0),1))","v":""},null,{"$f":"IF(J72=\"\",\"\",INDEX('Otras referencias'!$V:$W,MATCH(J72,'Otras referencias'!$W:$W,0),1))","v":""},null,null,null,null,null,null,null,null,null,67,null,null,null,null,null,null,null,null,null,null,null,null,null,null,null,null,null,null,null,null,null,null,null,null,null,null,0,null,null,null,0,null,null,null,null,null,null,null,null,null,null,null,null,null,null,null,null,null,null,"",{"$f":"IF(C72=\"\",\"\",IF(COUNTIF($C$6:C72, C72)>1, \"\", C72))","v":""},{"$f":"IF(K72=\"\",\"\",INDEX(referentes!P:Q,MATCH(K72,referentes!$Q:$Q,0),1))","v":""},{"$f":"IF(L72=\"\",\"\",INDEX(referentes!$A:$B,MATCH(L72,referentes!$B:$B,0),1))","v":""},{"$f":"IF(P72=\"\",\"\",INDEX(referentes!D:E,MATCH(P72,referentes!$E:$E,0),1))","v":""},{"$f":"IF(Q72=\"\",\"\",INDEX(referentes!G:H,MATCH(Q72,referentes!$H:$H,0),1))","v":""},"",{"$f":"IF(V72=\"\",\"\",INDEX(referentes!S:T,MATCH(V72,referentes!$T:$T,0),1))","v":""},{"$f":"IF(BL72=\"\",\"\",INDEX(referentes!J:K,MATCH(BL72,referentes!$K:$K,0),1))","v":""},{"$f":"IF(BD72=\"\",\"\",INDEX(referentes!V:W,MATCH(BD72,referentes!$W:$W,0),1))","v":""},{"$f":"IF(BE72=\"\",\"\",INDEX(referentes!Y:Z,MATCH(BE72,referentes!$Z:$Z,0),1))","v":""},{"$f":"IF(BF72=\"\",\"\",INDEX(referentes!AB:AC,MATCH(BF72,referentes!$AC:$AC,0),1))","v":""},{"$f":"IF(BG72=\"\",\"\",INDEX(referentes!AE:AF,MATCH(BG72,referentes!$AF:$AF,0),1))","v":""},{"$f":"IF(AY72=\"\",\"\",INDEX(referentes!M:N,MATCH(AY72,referentes!$N:$N,0),1))","v":""},{"$f":"IF(BN72=\"\",\"\",INDEX('Otras referencias'!S:T,MATCH(BN72,'Otras referencias'!$T:$T,0),1))","v":""},{"$f":"IF(BH72=\"\",\"\",INDEX('Otras referencias'!A:B,MATCH(BH72,'Otras referencias'!$B:$B,0),1))","v":""}]
[null,0,"",null,null,"",{"$f":"IF(H73=\"\",\"\",INDEX(referentes!AU:AV,MATCH(H73,referentes!$AV:$AV,0),1))","v":""},null,{"$f":"IF(J73=\"\",\"\",INDEX('Otras referencias'!$V:$W,MATCH(J73,'Otras referencias'!$W:$W,0),1))","v":""},null,null,null,null,null,null,null,null,null,68,null,null,null,null,null,null,null,null,null,null,null,null,null,null,null,null,null,null,null,null,null,null,null,null,null,null,0,null,null,null,0,null,null,null,null,null,null,null,null,null,null,null,null,null,null,null,null,null,null,"",{"$f":"IF(C73=\"\",\"\",IF(COUNTIF($C$6:C73, C73)>1, \"\", C73))","v":""},{"$f":"IF(K73=\"\",\"\",INDEX(referentes!P:Q,MATCH(K73,referentes!$Q:$Q,0),1))","v":""},{"$f":"IF(L73=\"\",\"\",INDEX(referentes!$A:$B,MATCH(L73,referentes!$B:$B,0),1))","v":""},{"$f":"IF(P73=\"\",\"\",INDEX(referentes!D:E,MATCH(P73,referentes!$E:$E,0),1))","v":""},{"$f":"IF(Q73=\"\",\"\",INDEX(referentes!G:H,MATCH(Q73,referentes!$H:$H,0),1))","v":""},"",{"$f":"IF(V73=\"\",\"\",INDEX(referentes!S:T,MATCH(V73,referentes!$T:$T,0),1))","v":""},{"$f":"IF(BL73=\"\",\"\",INDEX(referentes!J:K,MATCH(BL73,referentes!$K:$K,0),1))","v":""},{"$f":"IF(BD73=\"\",\"\",INDEX(referentes!V:W,MATCH(BD73,referentes!$W:$W,0),1))","v":""},{"$f":"IF(BE73=\"\",\"\",INDEX(referentes!Y:Z,MATCH(BE73,referentes!$Z:$Z,0),1))","v":""},{"$f":"IF(BF73=\"\",\"\",INDEX(referentes!AB:AC,MATCH(BF73,referentes!$AC:$AC,0),1))","v":""},{"$f":"IF(BG73=\"\",\"\",INDEX(referentes!AE:AF,MATCH(BG73,referentes!$AF:$AF,0),1))","v":""},{"$f":"IF(AY73=\"\",\"\",INDEX(referentes!M:N,MATCH(AY73,referentes!$N:$N,0),1))","v":""},{"$f":"IF(BN73=\"\",\"\",INDEX('Otras referencias'!S:T,MATCH(BN73,'Otras referencias'!$T:$T,0),1))","v":""},{"$f":"IF(BH73=\"\",\"\",INDEX('Otras referencias'!A:B,MATCH(BH73,'Otras referencias'!$B:$B,0),1))","v":""}]
[null,0,"",null,null,"",{"$f":"IF(H74=\"\",\"\",INDEX(referentes!AU:AV,MATCH(H74,referentes!$AV:$AV,0),1))","v":""},null,{"$f":"IF(J74=\"\",\"\",INDEX('Otras referencias'!$V:$W,MATCH(J74,'Otras referencias'!$W:$W,0),1))","v":""},null,null,null,null,null,null,null,null,null,69,null,null,null,null,null,null,null,null,null,null,null,null,null,null,null,null,null,null,null,null,null,null,null,null,null,null,0,null,null,null,0,null,null,null,null,null,null,null,null,null,null,null,null,null,null,null,null,null,null,"",{"$f":"IF(C74=\"\",\"\",IF(COUNTIF($C$6:C74, C74)>1, \"\", C74))","v":""},{"$f":"IF(K74=\"\",\"\",INDEX(referentes!P:Q,MATCH(K74,referentes!$Q:$Q,0),1))","v":""},{"$f":"IF(L74=\"\",\"\",INDEX(referentes!$A:$B,MATCH(L74,referentes!$B:$B,0),1))","v":""},{"$f":"IF(P74=\"\",\"\",INDEX(referentes!D:E,MATCH(P74,referentes!$E:$E,0),1))","v":""},{"$f":"IF(Q74=\"\",\"\",INDEX(referentes!G:H,MATCH(Q74,referentes!$H:$H,0),1))","v":""},"",{"$f":"IF(V74=\"\",\"\",INDEX(referentes!S:T,MATCH(V74,referentes!$T:$T,0),1))","v":""},{"$f":"IF(BL74=\"\",\"\",INDEX(referentes!J:K,MATCH(BL74,referentes!$K:$K,0),1))","v":""},{"$f":"IF(BD74=\"\",\"\",INDEX(referentes!V:W,MATCH(BD74,referentes!$W:$W,0),1))","v":""},{"$f":"IF(BE74=\"\",\"\",INDEX(referentes!Y:Z,MATCH(BE74,referentes!$Z:$Z,0),1))","v":""},{"$f":"IF(BF74=\"\",\"\",INDEX(referentes!AB:AC,MATCH(BF74,referentes!$AC:$AC,0),1))","v":""},{"$f":"IF(BG74=\"\",\"\",INDEX(referentes!AE:AF,MATCH(BG74,referentes!$AF:$AF,0),1))","v":""},{"$f":"IF(AY74=\"\",\"\",INDEX(referentes!M:N,MATCH(AY74,referentes!$N:$N,0),1))","v":""},{"$f":"IF(BN74=\"\",\"\",INDEX('Otras referencias'!S:T,MATCH(BN74,'Otras referencias'!$T:$T,0),1))","v":""},{"$f":"IF(BH74=\"\",\"\",INDEX('Otras referencias'!A:B,MATCH(BH74,'Otras referencias'!$B:$B,0),1))","v":""}]
[null,0,"",null,null,"",{"$f":"IF(H75=\"\",\"\",INDEX(referentes!AU:AV,MATCH(H75,referentes!$AV:$AV,0),1))","v":""},null,{"$f":"IF(J75=\"\",\"\",INDEX('Otras referencias'!$V:$W,MATCH(J75,'Otras referencias'!$W:$W,0),1))","v":""},null,null,null,null,null,null,null,null,null,70,null,null,null,null,null,null,null,null,null,null,null,null,null,null,null,null,null,null,null,null,null,null,null,null,null,null,0,null,null,null,0,null,null,null,null,null,null,null,null,null,null,null,null,null,null,null,null,null,null,"",{"$f":"IF(C75=\"\",\"\",IF(COUNTIF($C$6:C75, C75)>1, \"\", C75))","v":""},{"$f":"IF(K75=\"\",\"\",INDEX(referentes!P:Q,MATCH(K75,referentes!$Q:$Q,0),1))","v":""},{"$f":"IF(L75=\"\",\"\",INDEX(referentes!$A:$B,MATCH(L75,referentes!$B:$B,0),1))","v":""},{"$f":"IF(P75=\"\",\"\",INDEX(referentes!D:E,MATCH(P75,referentes!$E:$E,0),1))","v":""},{"$f":"IF(Q75=\"\",\"\",INDEX(referentes!G:H,MATCH(Q75,referentes!$H:$H,0),1))","v":""},"",{"$f":"IF(V75=\"\",\"\",INDEX(referentes!S:T,MATCH(V75,referentes!$T:$T,0),1))","v":""},{"$f":"IF(BL75=\"\",\"\",INDEX(referentes!J:K,MATCH(BL75,referentes!$K:$K,0),1))","v":""},{"$f":"IF(BD75=\"\",\"\",INDEX(referentes!V:W,MATCH(BD75,referentes!$W:$W,0),1))","v":""},{"$f":"IF(BE75=\"\",\"\",INDEX(referentes!Y:Z,MATCH(BE75,referentes!$Z:$Z,0),1))","v":""},{"$f":"IF(BF75=\"\",\"\",INDEX(referentes!AB:AC,MATCH(BF75,referentes!$AC:$AC,0),1))","v":""},{"$f":"IF(BG75=\"\",\"\",INDEX(referentes!AE:AF,MATCH(BG75,referentes!$AF:$AF,0),1))","v":""},{"$f":"IF(AY75=\"\",\"\",INDEX(referentes!M:N,MATCH(AY75,referentes!$N:$N,0),1))","v":""},{"$f":"IF(BN75=\"\",\"\",INDEX('Otras referencias'!S:T,MATCH(BN75,'Otras referencias'!$T:$T,0),1))","v":""},{"$f":"IF(BH75=\"\",\"\",INDEX('Otras referencias'!A:B,MATCH(BH75,'Otras referencias'!$B:$B,0),1))","v":""}]
[null,0,"",null,null,"",{"$f":"IF(H76=\"\",\"\",INDEX(referentes!AU:AV,MATCH(H76,referentes!$AV:$AV,0),1))","v":""},null,{"$f":"IF(J76=\"\",\"\",INDEX('Otras referencias'!$V:$W,MATCH(J76,'Otras referencias'!$W:$W,0),1))","v":""},null,null,null,null,null,null,null,null,null,71,null,null,null,null,null,null,null,null,null,null,null,null,null,null,null,null,null,null,null,null,null,null,null,null,null,null,0,null,null,null,0,null,null,null,null,null,null,null,null,null,null,null,null,null,null,null,null,null,null,"",{"$f":"IF(C76=\"\",\"\",IF(COUNTIF($C$6:C76, C76)>1, \"\", C76))","v":""},{"$f":"IF(K76=\"\",\"\",INDEX(referentes!P:Q,MATCH(K76,referentes!$Q:$Q,0),1))","v":""},{"$f":"IF(L76=\"\",\"\",INDEX(referentes!$A:$B,MATCH(L76,referentes!$B:$B,0),1))","v":""},{"$f":"IF(P76=\"\",\"\",INDEX(referentes!D:E,MATCH(P76,referentes!$E:$E,0),1))","v":""},{"$f":"IF(Q76=\"\",\"\",INDEX(referentes!G:H,MATCH(Q76,referentes!$H:$H,0),1))","v":""},"",{"$f":"IF(V76=\"\",\"\",INDEX(referentes!S:T,MATCH(V76,referentes!$T:$T,0),1))","v":""},{"$f":"IF(BL76=\"\",\"\",INDEX(referentes!J:K,MATCH(BL76,referentes!$K:$K,0),1))","v":""},{"$f":"IF(BD76=\"\",\"\",INDEX(referentes!V:W,MATCH(BD76,referentes!$W:$W,0),1))","v":""},{"$f":"IF(BE76=\"\",\"\",INDEX(referentes!Y:Z,MATCH(BE76,referentes!$Z:$Z,0),1))","v":""},{"$f":"IF(BF76=\"\",\"\",INDEX(referentes!AB:AC,MATCH(BF76,referentes!$AC:$AC,0),1))","v":""},{"$f":"IF(BG76=\"\",\"\",INDEX(referentes!AE:AF,MATCH(BG76,referentes!$AF:$AF,0),1))","v":""},{"$f":"IF(AY76=\"\",\"\",INDEX(referentes!M:N,MATCH(AY76,referentes!$N:$N,0),1))","v":""},{"$f":"IF(BN76=\"\",\"\",INDEX('Otras referencias'!S:T,MATCH(BN76,'Otras referencias'!$T:$T,0),1))","v":""},{"$f":"IF(BH76=\"\",\"\",INDEX('Otras referencias'!A:B,MATCH(BH76,'Otras referencias'!$B:$B,0),1))","v":""}]
[null,0,"",null,null,"",{"$f":"IF(H77=\"\",\"\",INDEX(referentes!AU:AV,MATCH(H77,referentes!$AV:$AV,0),1))","v":""},null,{"$f":"IF(J77=\"\",\"\",INDEX('Otras referencias'!$V:$W,MATCH(J77,'Otras referencias'!$W:$W,0),1))","v":""},null,null,null,null,null,null,null,null,null,72,null,null,null,null,null,null,null,null,null,null,null,null,null,null,null,null,null,null,null,null,null,null,null,null,null,null,0,null,null,null,0,null,null,null,null,null,null,null,null,null,null,null,null,null,null,null,null,null,null,"",{"$f":"IF(C77=\"\",\"\",IF(COUNTIF($C$6:C77, C77)>1, \"\", C77))","v":""},{"$f":"IF(K77=\"\",\"\",INDEX(referentes!P:Q,MATCH(K77,referentes!$Q:$Q,0),1))","v":""},{"$f":"IF(L77=\"\",\"\",INDEX(referentes!$A:$B,MATCH(L77,referentes!$B:$B,0),1))","v":""},{"$f":"IF(P77=\"\",\"\",INDEX(referentes!D:E,MATCH(P77,referentes!$E:$E,0),1))","v":""},{"$f":"IF(Q77=\"\",\"\",INDEX(referentes!G:H,MATCH(Q77,referentes!$H:$H,0),1))","v":""},"",{"$f":"IF(V77=\"\",\"\",INDEX(referentes!S:T,MATCH(V77,referentes!$T:$T,0),1))","v":""},{"$f":"IF(BL77=\"\",\"\",INDEX(referentes!J:K,MATCH(BL77,referentes!$K:$K,0),1))","v":""},{"$f":"IF(BD77=\"\",\"\",INDEX(referentes!V:W,MATCH(BD77,referentes!$W:$W,0),1))","v":""},{"$f":"IF(BE77=\"\",\"\",INDEX(referentes!Y:Z,MATCH(BE77,referentes!$Z:$Z,0),1))","v":""},{"$f":"IF(BF77=\"\",\"\",INDEX(referentes!AB:AC,MATCH(BF77,referentes!$AC:$AC,0),1))","v":""},{"$f":"IF(BG77=\"\",\"\",INDEX(referentes!AE:AF,MATCH(BG77,referentes!$AF:$AF,0),1))","v":""},{"$f":"IF(AY77=\"\",\"\",INDEX(referentes!M:N,MATCH(AY77,referentes!$N:$N,0),1))","v":""},{"$f":"IF(BN77=\"\",\"\",INDEX('Otras referencias'!S:T,MATCH(BN77,'Otras referencias'!$T:$T,0),1))","v":""},{"$f":"IF(BH77=\"\",\"\",INDEX('Otras referencias'!A:B,MATCH(BH77,'Otras referencias'!$B:$B,0),1))","v":""}]
[null,0,"",null,null,"",{"$f":"IF(H78=\"\",\"\",INDEX(referentes!AU:AV,MATCH(H78,referentes!$AV:$AV,0),1))","v":""},null,{"$f":"IF(J78=\"\",\"\",INDEX('Otras referencias'!$V:$W,MATCH(J78,'Otras referencias'!$W:$W,0),1))","v":""},null,null,null,null,null,null,null,null,null,73,null,null,null,null,null,null,null,null,null,null,null,null,null,null,null,null,null,null,null,null,null,null,null,null,null,null,0,null,null,null,0,null,null,null,null,null,null,null,null,null,null,null,null,null,null,null,null,null,null,"",{"$f":"IF(C78=\"\",\"\",IF(COUNTIF($C$6:C78, C78)>1, \"\", C78))","v":""},{"$f":"IF(K78=\"\",\"\",INDEX(referentes!P:Q,MATCH(K78,referentes!$Q:$Q,0),1))","v":""},{"$f":"IF(L78=\"\",\"\",INDEX(referentes!$A:$B,MATCH(L78,referentes!$B:$B,0),1))","v":""},{"$f":"IF(P78=\"\",\"\",INDEX(referentes!D:E,MATCH(P78,referentes!$E:$E,0),1))","v":""},{"$f":"IF(Q78=\"\",\"\",INDEX(referentes!G:H,MATCH(Q78,referentes!$H:$H,0),1))","v":""},"",{"$f":"IF(V78=\"\",\"\",INDEX(referentes!S:T,MATCH(V78,referentes!$T:$T,0),1))","v":""},{"$f":"IF(BL78=\"\",\"\",INDEX(referentes!J:K,MATCH(BL78,referentes!$K:$K,0),1))","v":""},{"$f":"IF(BD78=\"\",\"\",INDEX(referentes!V:W,MATCH(BD78,referentes!$W:$W,0),1))","v":""},{"$f":"IF(BE78=\"\",\"\",INDEX(referentes!Y:Z,MATCH(BE78,referentes!$Z:$Z,0),1))","v":""},{"$f":"IF(BF78=\"\",\"\",INDEX(referentes!AB:AC,MATCH(BF78,referentes!$AC:$AC,0),1))","v":""},{"$f":"IF(BG78=\"\",\"\",INDEX(referentes!AE:AF,MATCH(BG78,referentes!$AF:$AF,0),1))","v":""},{"$f":"IF(AY78=\"\",\"\",INDEX(referentes!M:N,MATCH(AY78,referentes!$N:$N,0),1))","v":""},{"$f":"IF(BN78=\"\",\"\",INDEX('Otras referencias'!S:T,MATCH(BN78,'Otras referencias'!$T:$T,0),1))","v":""},{"$f":"IF(BH78=\"\",\"\",INDEX('Otras referencias'!A:B,MATCH(BH78,'Otras referencias'!$B:$B,0),1))","v":""}]
[null,0,"",null,null,"",{"$f":"IF(H79=\"\",\"\",INDEX(referentes!AU:AV,MATCH(H79,referentes!$AV:$AV,0),1))","v":""},null,{"$f":"IF(J79=\"\",\"\",INDEX('Otras referencias'!$V:$W,MATCH(J79,'Otras referencias'!$W:$W,0),1))","v":""},null,null,null,null,null,null,null,null,null,74,null,null,null,null,null,null,null,null,null,null,null,null,null,null,null,null,null,null,null,null,null,null,null,null,null,null,0,null,null,null,0,null,null,null,null,null,null,null,null,null,null,null,null,null,null,null,null,null,null,"",{"$f":"IF(C79=\"\",\"\",IF(COUNTIF($C$6:C79, C79)>1, \"\", C79))","v":""},{"$f":"IF(K79=\"\",\"\",INDEX(referentes!P:Q,MATCH(K79,referentes!$Q:$Q,0),1))","v":""},{"$f":"IF(L79=\"\",\"\",INDEX(referentes!$A:$B,MATCH(L79,referentes!$B:$B,0),1))","v":""},{"$f":"IF(P79=\"\",\"\",INDEX(referentes!D:E,MATCH(P79,referentes!$E:$E,0),1))","v":""},{"$f":"IF(Q79=\"\",\"\",INDEX(referentes!G:H,MATCH(Q79,referentes!$H:$H,0),1))","v":""},"",{"$f":"IF(V79=\"\",\"\",INDEX(referentes!S:T,MATCH(V79,referentes!$T:$T,0),1))","v":""},{"$f":"IF(BL79=\"\",\"\",INDEX(referentes!J:K,MATCH(BL79,referentes!$K:$K,0),1))","v":""},{"$f":"IF(BD79=\"\",\"\",INDEX(referentes!V:W,MATCH(BD79,referentes!$W:$W,0),1))","v":""},{"$f":"IF(BE79=\"\",\"\",INDEX(referentes!Y:Z,MATCH(BE79,referentes!$Z:$Z,0),1))","v":""},{"$f":"IF(BF79=\"\",\"\",INDEX(referentes!AB:AC,MATCH(BF79,referentes!$AC:$AC,0),1))","v":""},{"$f":"IF(BG79=\"\",\"\",INDEX(referentes!AE:AF,MATCH(BG79,referentes!$AF:$AF,0),1))","v":""},{"$f":"IF(AY79=\"\",\"\",INDEX(referentes!M:N,MATCH(AY79,referentes!$N:$N,0),1))","v":""},{"$f":"IF(BN79=\"\",\"\",INDEX('Otras referencias'!S:T,MATCH(BN79,'Otras referencias'!$T:$T,0),1))","v":""},{"$f":"IF(BH79=\"\",\"\",INDEX('Otras referencias'!A:B,MATCH(BH79,'Otras referencias'!$B:$B,0),1))","v":""}]
[null,0,"",null,null,"",{"$f":"IF(H80=\"\",\"\",INDEX(referentes!AU:AV,MATCH(H80,referentes!$AV:$AV,0),1))","v":""},null,{"$f":"IF(J80=\"\",\"\",INDEX('Otras referencias'!$V:$W,MATCH(J80,'Otras referencias'!$W:$W,0),1))","v":""},null,null,null,null,null,null,null,null,null,75,null,null,null,null,null,null,null,null,null,null,null,null,null,null,null,null,null,null,null,null,null,null,null,null,null,null,0,null,null,null,0,null,null,null,null,null,null,null,null,null,null,null,null,null,null,null,null,null,null,"",{"$f":"IF(C80=\"\",\"\",IF(COUNTIF($C$6:C80, C80)>1, \"\", C80))","v":""},{"$f":"IF(K80=\"\",\"\",INDEX(referentes!P:Q,MATCH(K80,referentes!$Q:$Q,0),1))","v":""},{"$f":"IF(L80=\"\",\"\",INDEX(referentes!$A:$B,MATCH(L80,referentes!$B:$B,0),1))","v":""},{"$f":"IF(P80=\"\",\"\",INDEX(referentes!D:E,MATCH(P80,referentes!$E:$E,0),1))","v":""},{"$f":"IF(Q80=\"\",\"\",INDEX(referentes!G:H,MATCH(Q80,referentes!$H:$H,0),1))","v":""},"",{"$f":"IF(V80=\"\",\"\",INDEX(referentes!S:T,MATCH(V80,referentes!$T:$T,0),1))","v":""},{"$f":"IF(BL80=\"\",\"\",INDEX(referentes!J:K,MATCH(BL80,referentes!$K:$K,0),1))","v":""},{"$f":"IF(BD80=\"\",\"\",INDEX(referentes!V:W,MATCH(BD80,referentes!$W:$W,0),1))","v":""},{"$f":"IF(BE80=\"\",\"\",INDEX(referentes!Y:Z,MATCH(BE80,referentes!$Z:$Z,0),1))","v":""},{"$f":"IF(BF80=\"\",\"\",INDEX(referentes!AB:AC,MATCH(BF80,referentes!$AC:$AC,0),1))","v":""},{"$f":"IF(BG80=\"\",\"\",INDEX(referentes!AE:AF,MATCH(BG80,referentes!$AF:$AF,0),1))","v":""},{"$f":"IF(AY80=\"\",\"\",INDEX(referentes!M:N,MATCH(AY80,referentes!$N:$N,0),1))","v":""},{"$f":"IF(BN80=\"\",\"\",INDEX('Otras referencias'!S:T,MATCH(BN80,'Otras referencias'!$T:$T,0),1))","v":""},{"$f":"IF(BH80=\"\",\"\",INDEX('Otras referencias'!A:B,MATCH(BH80,'Otras referencias'!$B:$B,0),1))","v":""}]
[null,0,"",null,null,"",{"$f":"IF(H81=\"\",\"\",INDEX(referentes!AU:AV,MATCH(H81,referentes!$AV:$AV,0),1))","v":""},null,{"$f":"IF(J81=\"\",\"\",INDEX('Otras referencias'!$V:$W,MATCH(J81,'Otras referencias'!$W:$W,0),1))","v":""},null,null,null,null,null,null,null,null,null,76,null,null,null,null,null,null,null,null,null,null,null,null,null,null,null,null,null,null,null,null,null,null,null,null,null,null,0,null,null,null,0,null,null,null,null,null,null,null,null,null,null,null,null,null,null,null,null,null,null,"",{"$f":"IF(C81=\"\",\"\",IF(COUNTIF($C$6:C81, C81)>1, \"\", C81))","v":""},{"$f":"IF(K81=\"\",\"\",INDEX(referentes!P:Q,MATCH(K81,referentes!$Q:$Q,0),1))","v":""},{"$f":"IF(L81=\"\",\"\",INDEX(referentes!$A:$B,MATCH(L81,referentes!$B:$B,0),1))","v":""},{"$f":"IF(P81=\"\",\"\",INDEX(referentes!D:E,MATCH(P81,referentes!$E:$E,0),1))","v":""},{"$f":"IF(Q81=\"\",\"\",INDEX(referentes!G:H,MATCH(Q81,referentes!$H:$H,0),1))","v":""},"",{"$f":"IF(V81=\"\",\"\",INDEX(referentes!S:T,MATCH(V81,referentes!$T:$T,0),1))","v":""},{"$f":"IF(BL81=\"\",\"\",INDEX(referentes!J:K,MATCH(BL81,referentes!$K:$K,0),1))","v":""},{"$f":"IF(BD81=\"\",\"\",INDEX(referentes!V:W,MATCH(BD81,referentes!$W:$W,0),1))","v":""},{"$f":"IF(BE81=\"\",\"\",INDEX(referentes!Y:Z,MATCH(BE81,referentes!$Z:$Z,0),1))","v":""},{"$f":"IF(BF81=\"\",\"\",INDEX(referentes!AB:AC,MATCH(BF81,referentes!$AC:$AC,0),1))","v":""},{"$f":"IF(BG81=\"\",\"\",INDEX(referentes!AE:AF,MATCH(BG81,referentes!$AF:$AF,0),1))","v":""},{"$f":"IF(AY81=\"\",\"\",INDEX(referentes!M:N,MATCH(AY81,referentes!$N:$N,0),1))","v":""},{"$f":"IF(BN81=\"\",\"\",INDEX('Otras referencias'!S:T,MATCH(BN81,'Otras referencias'!$T:$T,0),1))","v":""},{"$f":"IF(BH81=\"\",\"\",INDEX('Otras referencias'!A:B,MATCH(BH81,'Otras referencias'!$B:$B,0),1))","v":""}]
[null,0,"",null,null,"",{"$f":"IF(H82=\"\",\"\",INDEX(referentes!AU:AV,MATCH(H82,referentes!$AV:$AV,0),1))","v":""},null,{"$f":"IF(J82=\"\",\"\",INDEX('Otras referencias'!$V:$W,MATCH(J82,'Otras referencias'!$W:$W,0),1))","v":""},null,null,null,null,null,null,null,null,null,77,null,null,null,null,null,null,null,null,null,null,null,null,null,null,null,null,null,null,null,null,null,null,null,null,null,null,0,null,null,null,0,null,null,null,null,null,null,null,null,null,null,null,null,null,null,null,null,null,null,"",{"$f":"IF(C82=\"\",\"\",IF(COUNTIF($C$6:C82, C82)>1, \"\", C82))","v":""},{"$f":"IF(K82=\"\",\"\",INDEX(referentes!P:Q,MATCH(K82,referentes!$Q:$Q,0),1))","v":""},{"$f":"IF(L82=\"\",\"\",INDEX(referentes!$A:$B,MATCH(L82,referentes!$B:$B,0),1))","v":""},{"$f":"IF(P82=\"\",\"\",INDEX(referentes!D:E,MATCH(P82,referentes!$E:$E,0),1))","v":""},{"$f":"IF(Q82=\"\",\"\",INDEX(referentes!G:H,MATCH(Q82,referentes!$H:$H,0),1))","v":""},"",{"$f":"IF(V82=\"\",\"\",INDEX(referentes!S:T,MATCH(V82,referentes!$T:$T,0),1))","v":""},{"$f":"IF(BL82=\"\",\"\",INDEX(referentes!J:K,MATCH(BL82,referentes!$K:$K,0),1))","v":""},{"$f":"IF(BD82=\"\",\"\",INDEX(referentes!V:W,MATCH(BD82,referentes!$W:$W,0),1))","v":""},{"$f":"IF(BE82=\"\",\"\",INDEX(referentes!Y:Z,MATCH(BE82,referentes!$Z:$Z,0),1))","v":""},{"$f":"IF(BF82=\"\",\"\",INDEX(referentes!AB:AC,MATCH(BF82,referentes!$AC:$AC,0),1))","v":""},{"$f":"IF(BG82=\"\",\"\",INDEX(referentes!AE:AF,MATCH(BG82,referentes!$AF:$AF,0),1))","v":""},{"$f":"IF(AY82=\"\",\"\",INDEX(referentes!M:N,MATCH(AY82,referentes!$N:$N,0),1))","v":""},{"$f":"IF(BN82=\"\",\"\",INDEX('Otras referencias'!S:T,MATCH(BN82,'Otras referencias'!$T:$T,0),1))","v":""},{"$f":"IF(BH82=\"\",\"\",INDEX('Otras referencias'!A:B,MATCH(BH82,'Otras referencias'!$B:$B,0),1))","v":""}]
[null,0,"",null,null,"",{"$f":"IF(H83=\"\",\"\",INDEX(referentes!AU:AV,MATCH(H83,referentes!$AV:$AV,0),1))","v":""},null,{"$f":"IF(J83=\"\",\"\",INDEX('Otras referencias'!$V:$W,MATCH(J83,'Otras referencias'!$W:$W,0),1))","v":""},null,null,null,null,null,null,null,null,null,78,null,null,null,null,null,null,null,null,null,null,null,null,null,null,null,null,null,null,null,null,null,null,null,null,null,null,0,null,null,null,0,null,null,null,null,null,null,null,null,null,null,null,null,null,null,null,null,null,null,"",{"$f":"IF(C83=\"\",\"\",IF(COUNTIF($C$6:C83, C83)>1, \"\", C83))","v":""},{"$f":"IF(K83=\"\",\"\",INDEX(referentes!P:Q,MATCH(K83,referentes!$Q:$Q,0),1))","v":""},{"$f":"IF(L83=\"\",\"\",INDEX(referentes!$A:$B,MATCH(L83,referentes!$B:$B,0),1))","v":""},{"$f":"IF(P83=\"\",\"\",INDEX(referentes!D:E,MATCH(P83,referentes!$E:$E,0),1))","v":""},{"$f":"IF(Q83=\"\",\"\",INDEX(referentes!G:H,MATCH(Q83,referentes!$H:$H,0),1))","v":""},"",{"$f":"IF(V83=\"\",\"\",INDEX(referentes!S:T,MATCH(V83,referentes!$T:$T,0),1))","v":""},{"$f":"IF(BL83=\"\",\"\",INDEX(referentes!J:K,MATCH(BL83,referentes!$K:$K,0),1))","v":""},{"$f":"IF(BD83=\"\",\"\",INDEX(referentes!V:W,MATCH(BD83,referentes!$W:$W,0),1))","v":""},{"$f":"IF(BE83=\"\",\"\",INDEX(referentes!Y:Z,MATCH(BE83,referentes!$Z:$Z,0),1))","v":""},{"$f":"IF(BF83=\"\",\"\",INDEX(referentes!AB:AC,MATCH(BF83,referentes!$AC:$AC,0),1))","v":""},{"$f":"IF(BG83=\"\",\"\",INDEX(referentes!AE:AF,MATCH(BG83,referentes!$AF:$AF,0),1))","v":""},{"$f":"IF(AY83=\"\",\"\",INDEX(referentes!M:N,MATCH(AY83,referentes!$N:$N,0),1))","v":""},{"$f":"IF(BN83=\"\",\"\",INDEX('Otras referencias'!S:T,MATCH(BN83,'Otras referencias'!$T:$T,0),1))","v":""},{"$f":"IF(BH83=\"\",\"\",INDEX('Otras referencias'!A:B,MATCH(BH83,'Otras referencias'!$B:$B,0),1))","v":""}]
[null,0,"",null,null,"",{"$f":"IF(H84=\"\",\"\",INDEX(referentes!AU:AV,MATCH(H84,referentes!$AV:$AV,0),1))","v":""},null,{"$f":"IF(J84=\"\",\"\",INDEX('Otras referencias'!$V:$W,MATCH(J84,'Otras referencias'!$W:$W,0),1))","v":""},null,null,null,null,null,null,null,null,null,79,null,null,null,null,null,null,null,null,null,null,null,null,null,null,null,null,null,null,null,null,null,null,null,null,null,null,0,null,null,null,0,null,null,null,null,null,null,null,null,null,null,null,null,null,null,null,null,null,null,"",{"$f":"IF(C84=\"\",\"\",IF(COUNTIF($C$6:C84, C84)>1, \"\", C84))","v":""},{"$f":"IF(K84=\"\",\"\",INDEX(referentes!P:Q,MATCH(K84,referentes!$Q:$Q,0),1))","v":""},{"$f":"IF(L84=\"\",\"\",INDEX(referentes!$A:$B,MATCH(L84,referentes!$B:$B,0),1))","v":""},{"$f":"IF(P84=\"\",\"\",INDEX(referentes!D:E,MATCH(P84,referentes!$E:$E,0),1))","v":""},{"$f":"IF(Q84=\"\",\"\",INDEX(referentes!G:H,MATCH(Q84,referentes!$H:$H,0),1))","v":""},"",{"$f":"IF(V84=\"\",\"\",INDEX(referentes!S:T,MATCH(V84,referentes!$T:$T,0),1))","v":""},{"$f":"IF(BL84=\"\",\"\",INDEX(referentes!J:K,MATCH(BL84,referentes!$K:$K,0),1))","v":""},{"$f":"IF(BD84=\"\",\"\",INDEX(referentes!V:W,MATCH(BD84,referentes!$W:$W,0),1))","v":""},{"$f":"IF(BE84=\"\",\"\",INDEX(referentes!Y:Z,MATCH(BE84,referentes!$Z:$Z,0),1))","v":""},{"$f":"IF(BF84=\"\",\"\",INDEX(referentes!AB:AC,MATCH(BF84,referentes!$AC:$AC,0),1))","v":""},{"$f":"IF(BG84=\"\",\"\",INDEX(referentes!AE:AF,MATCH(BG84,referentes!$AF:$AF,0),1))","v":""},{"$f":"IF(AY84=\"\",\"\",INDEX(referentes!M:N,MATCH(AY84,referentes!$N:$N,0),1))","v":""},{"$f":"IF(BN84=\"\",\"\",INDEX('Otras referencias'!S:T,MATCH(BN84,'Otras referencias'!$T:$T,0),1))","v":""},{"$f":"IF(BH84=\"\",\"\",INDEX('Otras referencias'!A:B,MATCH(BH84,'Otras referencias'!$B:$B,0),1))","v":""}]
[null,0,"",null,null,"",{"$f":"IF(H85=\"\",\"\",INDEX(referentes!AU:AV,MATCH(H85,referentes!$AV:$AV,0),1))","v":""},null,{"$f":"IF(J85=\"\",\"\",INDEX('Otras referencias'!$V:$W,MATCH(J85,'Otras referencias'!$W:$W,0),1))","v":""},null,null,null,null,null,null,null,null,null,80,null,null,null,null,null,null,null,null,null,null,null,null,null,null,null,null,null,null,null,null,null,null,null,null,null,null,0,null,null,null,0,null,null,null,null,null,null,null,null,null,null,null,null,null,null,null,null,null,null,"",{"$f":"IF(C85=\"\",\"\",IF(COUNTIF($C$6:C85, C85)>1, \"\", C85))","v":""},{"$f":"IF(K85=\"\",\"\",INDEX(referentes!P:Q,MATCH(K85,referentes!$Q:$Q,0),1))","v":""},{"$f":"IF(L85=\"\",\"\",INDEX(referentes!$A:$B,MATCH(L85,referentes!$B:$B,0),1))","v":""},{"$f":"IF(P85=\"\",\"\",INDEX(referentes!D:E,MATCH(P85,referentes!$E:$E,0),1))","v":""},{"$f":"IF(Q85=\"\",\"\",INDEX(referentes!G:H,MATCH(Q85,referentes!$H:$H,0),1))","v":""},"",{"$f":"IF(V85=\"\",\"\",INDEX(referentes!S:T,MATCH(V85,referentes!$T:$T,0),1))","v":""},{"$f":"IF(BL85=\"\",\"\",INDEX(referentes!J:K,MATCH(BL85,referentes!$K:$K,0),1))","v":""},{"$f":"IF(BD85=\"\",\"\",INDEX(referentes!V:W,MATCH(BD85,referentes!$W:$W,0),1))","v":""},{"$f":"IF(BE85=\"\",\"\",INDEX(referentes!Y:Z,MATCH(BE85,referentes!$Z:$Z,0),1))","v":""},{"$f":"IF(BF85=\"\",\"\",INDEX(referentes!AB:AC,MATCH(BF85,referentes!$AC:$AC,0),1))","v":""},{"$f":"IF(BG85=\"\",\"\",INDEX(referentes!AE:AF,MATCH(BG85,referentes!$AF:$AF,0),1))","v":""},{"$f":"IF(AY85=\"\",\"\",INDEX(referentes!M:N,MATCH(AY85,referentes!$N:$N,0),1))","v":""},{"$f":"IF(BN85=\"\",\"\",INDEX('Otras referencias'!S:T,MATCH(BN85,'Otras referencias'!$T:$T,0),1))","v":""},{"$f":"IF(BH85=\"\",\"\",INDEX('Otras referencias'!A:B,MATCH(BH85,'Otras referencias'!$B:$B,0),1))","v":""}]
[null,0,"",null,null,"",{"$f":"IF(H86=\"\",\"\",INDEX(referentes!AU:AV,MATCH(H86,referentes!$AV:$AV,0),1))","v":""},null,{"$f":"IF(J86=\"\",\"\",INDEX('Otras referencias'!$V:$W,MATCH(J86,'Otras referencias'!$W:$W,0),1))","v":""},null,null,null,null,null,null,null,null,null,81,null,null,null,null,null,null,null,null,null,null,null,null,null,null,null,null,null,null,null,null,null,null,null,null,null,null,0,null,null,null,0,null,null,null,null,null,null,null,null,null,null,null,null,null,null,null,null,null,null,"",{"$f":"IF(C86=\"\",\"\",IF(COUNTIF($C$6:C86, C86)>1, \"\", C86))","v":""},{"$f":"IF(K86=\"\",\"\",INDEX(referentes!P:Q,MATCH(K86,referentes!$Q:$Q,0),1))","v":""},{"$f":"IF(L86=\"\",\"\",INDEX(referentes!$A:$B,MATCH(L86,referentes!$B:$B,0),1))","v":""},{"$f":"IF(P86=\"\",\"\",INDEX(referentes!D:E,MATCH(P86,referentes!$E:$E,0),1))","v":""},{"$f":"IF(Q86=\"\",\"\",INDEX(referentes!G:H,MATCH(Q86,referentes!$H:$H,0),1))","v":""},"",{"$f":"IF(V86=\"\",\"\",INDEX(referentes!S:T,MATCH(V86,referentes!$T:$T,0),1))","v":""},{"$f":"IF(BL86=\"\",\"\",INDEX(referentes!J:K,MATCH(BL86,referentes!$K:$K,0),1))","v":""},{"$f":"IF(BD86=\"\",\"\",INDEX(referentes!V:W,MATCH(BD86,referentes!$W:$W,0),1))","v":""},{"$f":"IF(BE86=\"\",\"\",INDEX(referentes!Y:Z,MATCH(BE86,referentes!$Z:$Z,0),1))","v":""},{"$f":"IF(BF86=\"\",\"\",INDEX(referentes!AB:AC,MATCH(BF86,referentes!$AC:$AC,0),1))","v":""},{"$f":"IF(BG86=\"\",\"\",INDEX(referentes!AE:AF,MATCH(BG86,referentes!$AF:$AF,0),1))","v":""},{"$f":"IF(AY86=\"\",\"\",INDEX(referentes!M:N,MATCH(AY86,referentes!$N:$N,0),1))","v":""},{"$f":"IF(BN86=\"\",\"\",INDEX('Otras referencias'!S:T,MATCH(BN86,'Otras referencias'!$T:$T,0),1))","v":""},{"$f":"IF(BH86=\"\",\"\",INDEX('Otras referencias'!A:B,MATCH(BH86,'Otras referencias'!$B:$B,0),1))","v":""}]
[null,0,"",null,null,"",{"$f":"IF(H87=\"\",\"\",INDEX(referentes!AU:AV,MATCH(H87,referentes!$AV:$AV,0),1))","v":""},null,{"$f":"IF(J87=\"\",\"\",INDEX('Otras referencias'!$V:$W,MATCH(J87,'Otras referencias'!$W:$W,0),1))","v":""},null,null,null,null,null,null,null,null,null,82,null,null,null,null,null,null,null,null,null,null,null,null,null,null,null,null,null,null,null,null,null,null,null,null,null,null,0,null,null,null,0,null,null,null,null,null,null,null,null,null,null,null,null,null,null,null,null,null,null,"",{"$f":"IF(C87=\"\",\"\",IF(COUNTIF($C$6:C87, C87)>1, \"\", C87))","v":""},{"$f":"IF(K87=\"\",\"\",INDEX(referentes!P:Q,MATCH(K87,referentes!$Q:$Q,0),1))","v":""},{"$f":"IF(L87=\"\",\"\",INDEX(referentes!$A:$B,MATCH(L87,referentes!$B:$B,0),1))","v":""},{"$f":"IF(P87=\"\",\"\",INDEX(referentes!D:E,MATCH(P87,referentes!$E:$E,0),1))","v":""},{"$f":"IF(Q87=\"\",\"\",INDEX(referentes!G:H,MATCH(Q87,referentes!$H:$H,0),1))","v":""},"",{"$f":"IF(V87=\"\",\"\",INDEX(referentes!S:T,MATCH(V87,referentes!$T:$T,0),1))","v":""},{"$f":"IF(BL87=\"\",\"\",INDEX(referentes!J:K,MATCH(BL87,referentes!$K:$K,0),1))","v":""},{"$f":"IF(BD87=\"\",\"\",INDEX(referentes!V:W,MATCH(BD87,referentes!$W:$W,0),1))","v":""},{"$f":"IF(BE87=\"\",\"\",INDEX(referentes!Y:Z,MATCH(BE87,referentes!$Z:$Z,0),1))","v":""},{"$f":"IF(BF87=\"\",\"\",INDEX(referentes!AB:AC,MATCH(BF87,referentes!$AC:$AC,0),1))","v":""},{"$f":"IF(BG87=\"\",\"\",INDEX(referentes!AE:AF,MATCH(BG87,referentes!$AF:$AF,0),1))","v":""},{"$f":"IF(AY87=\"\",\"\",INDEX(referentes!M:N,MATCH(AY87,referentes!$N:$N,0),1))","v":""},{"$f":"IF(BN87=\"\",\"\",INDEX('Otras referencias'!S:T,MATCH(BN87,'Otras referencias'!$T:$T,0),1))","v":""},{"$f":"IF(BH87=\"\",\"\",INDEX('Otras referencias'!A:B,MATCH(BH87,'Otras referencias'!$B:$B,0),1))","v":""}]
[null,0,"",null,null,"",{"$f":"IF(H88=\"\",\"\",INDEX(referentes!AU:AV,MATCH(H88,referentes!$AV:$AV,0),1))","v":""},null,{"$f":"IF(J88=\"\",\"\",INDEX('Otras referencias'!$V:$W,MATCH(J88,'Otras referencias'!$W:$W,0),1))","v":""},null,null,null,null,null,null,null,null,null,83,null,null,null,null,null,null,null,null,null,null,null,null,null,null,null,null,null,null,null,null,null,null,null,null,null,null,0,null,null,null,0,null,null,null,null,null,null,null,null,null,null,null,null,null,null,null,null,null,null,"",{"$f":"IF(C88=\"\",\"\",IF(COUNTIF($C$6:C88, C88)>1, \"\", C88))","v":""},{"$f":"IF(K88=\"\",\"\",INDEX(referentes!P:Q,MATCH(K88,referentes!$Q:$Q,0),1))","v":""},{"$f":"IF(L88=\"\",\"\",INDEX(referentes!$A:$B,MATCH(L88,referentes!$B:$B,0),1))","v":""},{"$f":"IF(P88=\"\",\"\",INDEX(referentes!D:E,MATCH(P88,referentes!$E:$E,0),1))","v":""},{"$f":"IF(Q88=\"\",\"\",INDEX(referentes!G:H,MATCH(Q88,referentes!$H:$H,0),1))","v":""},"",{"$f":"IF(V88=\"\",\"\",INDEX(referentes!S:T,MATCH(V88,referentes!$T:$T,0),1))","v":""},{"$f":"IF(BL88=\"\",\"\",INDEX(referentes!J:K,MATCH(BL88,referentes!$K:$K,0),1))","v":""},{"$f":"IF(BD88=\"\",\"\",INDEX(referentes!V:W,MATCH(BD88,referentes!$W:$W,0),1))","v":""},{"$f":"IF(BE88=\"\",\"\",INDEX(referentes!Y:Z,MATCH(BE88,referentes!$Z:$Z,0),1))","v":""},{"$f":"IF(BF88=\"\",\"\",INDEX(referentes!AB:AC,MATCH(BF88,referentes!$AC:$AC,0),1))","v":""},{"$f":"IF(BG88=\"\",\"\",INDEX(referentes!AE:AF,MATCH(BG88,referentes!$AF:$AF,0),1))","v":""},{"$f":"IF(AY88=\"\",\"\",INDEX(referentes!M:N,MATCH(AY88,referentes!$N:$N,0),1))","v":""},{"$f":"IF(BN88=\"\",\"\",INDEX('Otras referencias'!S:T,MATCH(BN88,'Otras referencias'!$T:$T,0),1))","v":""},{"$f":"IF(BH88=\"\",\"\",INDEX('Otras referencias'!A:B,MATCH(BH88,'Otras referencias'!$B:$B,0),1))","v":""}]
[null,0,"",null,null,"",{"$f":"IF(H89=\"\",\"\",INDEX(referentes!AU:AV,MATCH(H89,referentes!$AV:$AV,0),1))","v":""},null,{"$f":"IF(J89=\"\",\"\",INDEX('Otras referencias'!$V:$W,MATCH(J89,'Otras referencias'!$W:$W,0),1))","v":""},null,null,null,null,null,null,null,null,null,84,null,null,null,null,null,null,null,null,null,null,null,null,null,null,null,null,null,null,null,null,null,null,null,null,null,null,0,null,null,null,0,null,null,null,null,null,null,null,null,null,null,null,null,null,null,null,null,null,null,"",{"$f":"IF(C89=\"\",\"\",IF(COUNTIF($C$6:C89, C89)>1, \"\", C89))","v":""},{"$f":"IF(K89=\"\",\"\",INDEX(referentes!P:Q,MATCH(K89,referentes!$Q:$Q,0),1))","v":""},{"$f":"IF(L89=\"\",\"\",INDEX(referentes!$A:$B,MATCH(L89,referentes!$B:$B,0),1))","v":""},{"$f":"IF(P89=\"\",\"\",INDEX(referentes!D:E,MATCH(P89,referentes!$E:$E,0),1))","v":""},{"$f":"IF(Q89=\"\",\"\",INDEX(referentes!G:H,MATCH(Q89,referentes!$H:$H,0),1))","v":""},"",{"$f":"IF(V89=\"\",\"\",INDEX(referentes!S:T,MATCH(V89,referentes!$T:$T,0),1))","v":""},{"$f":"IF(BL89=\"\",\"\",INDEX(referentes!J:K,MATCH(BL89,referentes!$K:$K,0),1))","v":""},{"$f":"IF(BD89=\"\",\"\",INDEX(referentes!V:W,MATCH(BD89,referentes!$W:$W,0),1))","v":""},{"$f":"IF(BE89=\"\",\"\",INDEX(referentes!Y:Z,MATCH(BE89,referentes!$Z:$Z,0),1))","v":""},{"$f":"IF(BF89=\"\",\"\",INDEX(referentes!AB:AC,MATCH(BF89,referentes!$AC:$AC,0),1))","v":""},{"$f":"IF(BG89=\"\",\"\",INDEX(referentes!AE:AF,MATCH(BG89,referentes!$AF:$AF,0),1))","v":""},{"$f":"IF(AY89=\"\",\"\",INDEX(referentes!M:N,MATCH(AY89,referentes!$N:$N,0),1))","v":""},{"$f":"IF(BN89=\"\",\"\",INDEX('Otras referencias'!S:T,MATCH(BN89,'Otras referencias'!$T:$T,0),1))","v":""},{"$f":"IF(BH89=\"\",\"\",INDEX('Otras referencias'!A:B,MATCH(BH89,'Otras referencias'!$B:$B,0),1))","v":""}]
[null,0,"",null,null,"",{"$f":"IF(H90=\"\",\"\",INDEX(referentes!AU:AV,MATCH(H90,referentes!$AV:$AV,0),1))","v":""},null,{"$f":"IF(J90=\"\",\"\",INDEX('Otras referencias'!$V:$W,MATCH(J90,'Otras referencias'!$W:$W,0),1))","v":""},null,null,null,null,null,null,null,null,null,85,null,null,null,null,null,null,null,null,null,null,null,null,null,null,null,null,null,null,null,null,null,null,null,null,null,null,0,null,null,null,0,null,null,null,null,null,null,null,null,null,null,null,null,null,null,null,null,null,null,"",{"$f":"IF(C90=\"\",\"\",IF(COUNTIF($C$6:C90, C90)>1, \"\", C90))","v":""},{"$f":"IF(K90=\"\",\"\",INDEX(referentes!P:Q,MATCH(K90,referentes!$Q:$Q,0),1))","v":""},{"$f":"IF(L90=\"\",\"\",INDEX(referentes!$A:$B,MATCH(L90,referentes!$B:$B,0),1))","v":""},{"$f":"IF(P90=\"\",\"\",INDEX(referentes!D:E,MATCH(P90,referentes!$E:$E,0),1))","v":""},{"$f":"IF(Q90=\"\",\"\",INDEX(referentes!G:H,MATCH(Q90,referentes!$H:$H,0),1))","v":""},"",{"$f":"IF(V90=\"\",\"\",INDEX(referentes!S:T,MATCH(V90,referentes!$T:$T,0),1))","v":""},{"$f":"IF(BL90=\"\",\"\",INDEX(referentes!J:K,MATCH(BL90,referentes!$K:$K,0),1))","v":""},{"$f":"IF(BD90=\"\",\"\",INDEX(referentes!V:W,MATCH(BD90,referentes!$W:$W,0),1))","v":""},{"$f":"IF(BE90=\"\",\"\",INDEX(referentes!Y:Z,MATCH(BE90,referentes!$Z:$Z,0),1))","v":""},{"$f":"IF(BF90=\"\",\"\",INDEX(referentes!AB:AC,MATCH(BF90,referentes!$AC:$AC,0),1))","v":""},{"$f":"IF(BG90=\"\",\"\",INDEX(referentes!AE:AF,MATCH(BG90,referentes!$AF:$AF,0),1))","v":""},{"$f":"IF(AY90=\"\",\"\",INDEX(referentes!M:N,MATCH(AY90,referentes!$N:$N,0),1))","v":""},{"$f":"IF(BN90=\"\",\"\",INDEX('Otras referencias'!S:T,MATCH(BN90,'Otras referencias'!$T:$T,0),1))","v":""},{"$f":"IF(BH90=\"\",\"\",INDEX('Otras referencias'!A:B,MATCH(BH90,'Otras referencias'!$B:$B,0),1))","v":""}]
[null,0,"",null,null,"",{"$f":"IF(H91=\"\",\"\",INDEX(referentes!AU:AV,MATCH(H91,referentes!$AV:$AV,0),1))","v":""},null,{"$f":"IF(J91=\"\",\"\",INDEX('Otras referencias'!$V:$W,MATCH(J91,'Otras referencias'!$W:$W,0),1))","v":""},null,null,null,null,null,null,null,null,null,86,null,null,null,null,null,null,null,null,null,null,null,null,null,null,null,null,null,null,null,null,null,null,null,null,null,null,0,null,null,null,0,null,null,null,null,null,null,null,null,null,null,null,null,null,null,null,null,null,null,"",{"$f":"IF(C91=\"\",\"\",IF(COUNTIF($C$6:C91, C91)>1, \"\", C91))","v":""},{"$f":"IF(K91=\"\",\"\",INDEX(referentes!P:Q,MATCH(K91,referentes!$Q:$Q,0),1))","v":""},{"$f":"IF(L91=\"\",\"\",INDEX(referentes!$A:$B,MATCH(L91,referentes!$B:$B,0),1))","v":""},{"$f":"IF(P91=\"\",\"\",INDEX(referentes!D:E,MATCH(P91,referentes!$E:$E,0),1))","v":""},{"$f":"IF(Q91=\"\",\"\",INDEX(referentes!G:H,MATCH(Q91,referentes!$H:$H,0),1))","v":""},"",{"$f":"IF(V91=\"\",\"\",INDEX(referentes!S:T,MATCH(V91,referentes!$T:$T,0),1))","v":""},{"$f":"IF(BL91=\"\",\"\",INDEX(referentes!J:K,MATCH(BL91,referentes!$K:$K,0),1))","v":""},{"$f":"IF(BD91=\"\",\"\",INDEX(referentes!V:W,MATCH(BD91,referentes!$W:$W,0),1))","v":""},{"$f":"IF(BE91=\"\",\"\",INDEX(referentes!Y:Z,MATCH(BE91,referentes!$Z:$Z,0),1))","v":""},{"$f":"IF(BF91=\"\",\"\",INDEX(referentes!AB:AC,MATCH(BF91,referentes!$AC:$AC,0),1))","v":""},{"$f":"IF(BG91=\"\",\"\",INDEX(referentes!AE:AF,MATCH(BG91,referentes!$AF:$AF,0),1))","v":""},{"$f":"IF(AY91=\"\",\"\",INDEX(referentes!M:N,MATCH(AY91,referentes!$N:$N,0),1))","v":""},{"$f":"IF(BN91=\"\",\"\",INDEX('Otras referencias'!S:T,MATCH(BN91,'Otras referencias'!$T:$T,0),1))","v":""},{"$f":"IF(BH91=\"\",\"\",INDEX('Otras referencias'!A:B,MATCH(BH91,'Otras referencias'!$B:$B,0),1))","v":""}]
[null,0,"",null,null,"",{"$f":"IF(H92=\"\",\"\",INDEX(referentes!AU:AV,MATCH(H92,referentes!$AV:$AV,0),1))","v":""},null,{"$f":"IF(J92=\"\",\"\",INDEX('Otras referencias'!$V:$W,MATCH(J92,'Otras referencias'!$W:$W,0),1))","v":""},null,null,null,null,null,null,null,null,null,87,null,null,null,null,null,null,null,null,null,null,null,null,null,null,null,null,null,null,null,null,null,null,null,null,null,null,0,null,null,null,0,null,null,null,null,null,null,null,null,null,null,null,null,null,null,null,null,null,null,"",{"$f":"IF(C92=\"\",\"\",IF(COUNTIF($C$6:C92, C92)>1, \"\", C92))","v":""},{"$f":"IF(K92=\"\",\"\",INDEX(referentes!P:Q,MATCH(K92,referentes!$Q:$Q,0),1))","v":""},{"$f":"IF(L92=\"\",\"\",INDEX(referentes!$A:$B,MATCH(L92,referentes!$B:$B,0),1))","v":""},{"$f":"IF(P92=\"\",\"\",INDEX(referentes!D:E,MATCH(P92,referentes!$E:$E,0),1))","v":""},{"$f":"IF(Q92=\"\",\"\",INDEX(referentes!G:H,MATCH(Q92,referentes!$H:$H,0),1))","v":""},"",{"$f":"IF(V92=\"\",\"\",INDEX(referentes!S:T,MATCH(V92,referentes!$T:$T,0),1))","v":""},{"$f":"IF(BL92=\"\",\"\",INDEX(referentes!J:K,MATCH(BL92,referentes!$K:$K,0),1))","v":""},{"$f":"IF(BD92=\"\",\"\",INDEX(referentes!V:W,MATCH(BD92,referentes!$W:$W,0),1))","v":""},{"$f":"IF(BE92=\"\",\"\",INDEX(referentes!Y:Z,MATCH(BE92,referentes!$Z:$Z,0),1))","v":""},{"$f":"IF(BF92=\"\",\"\",INDEX(referentes!AB:AC,MATCH(BF92,referentes!$AC:$AC,0),1))","v":""},{"$f":"IF(BG92=\"\",\"\",INDEX(referentes!AE:AF,MATCH(BG92,referentes!$AF:$AF,0),1))","v":""},{"$f":"IF(AY92=\"\",\"\",INDEX(referentes!M:N,MATCH(AY92,referentes!$N:$N,0),1))","v":""},{"$f":"IF(BN92=\"\",\"\",INDEX('Otras referencias'!S:T,MATCH(BN92,'Otras referencias'!$T:$T,0),1))","v":""},{"$f":"IF(BH92=\"\",\"\",INDEX('Otras referencias'!A:B,MATCH(BH92,'Otras referencias'!$B:$B,0),1))","v":""}]
[null,0,"",null,null,"",{"$f":"IF(H93=\"\",\"\",INDEX(referentes!AU:AV,MATCH(H93,referentes!$AV:$AV,0),1))","v":""},null,{"$f":"IF(J93=\"\",\"\",INDEX('Otras referencias'!$V:$W,MATCH(J93,'Otras referencias'!$W:$W,0),1))","v":""},null,null,null,null,null,null,null,null,null,88,null,null,null,null,null,null,null,null,null,null,null,null,null,null,null,null,null,null,null,null,null,null,null,null,null,null,0,null,null,null,0,null,null,null,null,null,null,null,null,null,null,null,null,null,null,null,null,null,null,"",{"$f":"IF(C93=\"\",\"\",IF(COUNTIF($C$6:C93, C93)>1, \"\", C93))","v":""},{"$f":"IF(K93=\"\",\"\",INDEX(referentes!P:Q,MATCH(K93,referentes!$Q:$Q,0),1))","v":""},{"$f":"IF(L93=\"\",\"\",INDEX(referentes!$A:$B,MATCH(L93,referentes!$B:$B,0),1))","v":""},{"$f":"IF(P93=\"\",\"\",INDEX(referentes!D:E,MATCH(P93,referentes!$E:$E,0),1))","v":""},{"$f":"IF(Q93=\"\",\"\",INDEX(referentes!G:H,MATCH(Q93,referentes!$H:$H,0),1))","v":""},"",{"$f":"IF(V93=\"\",\"\",INDEX(referentes!S:T,MATCH(V93,referentes!$T:$T,0),1))","v":""},{"$f":"IF(BL93=\"\",\"\",INDEX(referentes!J:K,MATCH(BL93,referentes!$K:$K,0),1))","v":""},{"$f":"IF(BD93=\"\",\"\",INDEX(referentes!V:W,MATCH(BD93,referentes!$W:$W,0),1))","v":""},{"$f":"IF(BE93=\"\",\"\",INDEX(referentes!Y:Z,MATCH(BE93,referentes!$Z:$Z,0),1))","v":""},{"$f":"IF(BF93=\"\",\"\",INDEX(referentes!AB:AC,MATCH(BF93,referentes!$AC:$AC,0),1))","v":""},{"$f":"IF(BG93=\"\",\"\",INDEX(referentes!AE:AF,MATCH(BG93,referentes!$AF:$AF,0),1))","v":""},{"$f":"IF(AY93=\"\",\"\",INDEX(referentes!M:N,MATCH(AY93,referentes!$N:$N,0),1))","v":""},{"$f":"IF(BN93=\"\",\"\",INDEX('Otras referencias'!S:T,MATCH(BN93,'Otras referencias'!$T:$T,0),1))","v":""},{"$f":"IF(BH93=\"\",\"\",INDEX('Otras referencias'!A:B,MATCH(BH93,'Otras referencias'!$B:$B,0),1))","v":""}]
[null,0,"",null,null,"",{"$f":"IF(H94=\"\",\"\",INDEX(referentes!AU:AV,MATCH(H94,referentes!$AV:$AV,0),1))","v":""},null,{"$f":"IF(J94=\"\",\"\",INDEX('Otras referencias'!$V:$W,MATCH(J94,'Otras referencias'!$W:$W,0),1))","v":""},null,null,null,null,null,null,null,null,null,89,null,null,null,null,null,null,null,null,null,null,null,null,null,null,null,null,null,null,null,null,null,null,null,null,null,null,0,null,null,null,0,null,null,null,null,null,null,null,null,null,null,null,null,null,null,null,null,null,null,"",{"$f":"IF(C94=\"\",\"\",IF(COUNTIF($C$6:C94, C94)>1, \"\", C94))","v":""},{"$f":"IF(K94=\"\",\"\",INDEX(referentes!P:Q,MATCH(K94,referentes!$Q:$Q,0),1))","v":""},{"$f":"IF(L94=\"\",\"\",INDEX(referentes!$A:$B,MATCH(L94,referentes!$B:$B,0),1))","v":""},{"$f":"IF(P94=\"\",\"\",INDEX(referentes!D:E,MATCH(P94,referentes!$E:$E,0),1))","v":""},{"$f":"IF(Q94=\"\",\"\",INDEX(referentes!G:H,MATCH(Q94,referentes!$H:$H,0),1))","v":""},"",{"$f":"IF(V94=\"\",\"\",INDEX(referentes!S:T,MATCH(V94,referentes!$T:$T,0),1))","v":""},{"$f":"IF(BL94=\"\",\"\",INDEX(referentes!J:K,MATCH(BL94,referentes!$K:$K,0),1))","v":""},{"$f":"IF(BD94=\"\",\"\",INDEX(referentes!V:W,MATCH(BD94,referentes!$W:$W,0),1))","v":""},{"$f":"IF(BE94=\"\",\"\",INDEX(referentes!Y:Z,MATCH(BE94,referentes!$Z:$Z,0),1))","v":""},{"$f":"IF(BF94=\"\",\"\",INDEX(referentes!AB:AC,MATCH(BF94,referentes!$AC:$AC,0),1))","v":""},{"$f":"IF(BG94=\"\",\"\",INDEX(referentes!AE:AF,MATCH(BG94,referentes!$AF:$AF,0),1))","v":""},{"$f":"IF(AY94=\"\",\"\",INDEX(referentes!M:N,MATCH(AY94,referentes!$N:$N,0),1))","v":""},{"$f":"IF(BN94=\"\",\"\",INDEX('Otras referencias'!S:T,MATCH(BN94,'Otras referencias'!$T:$T,0),1))","v":""},{"$f":"IF(BH94=\"\",\"\",INDEX('Otras referencias'!A:B,MATCH(BH94,'Otras referencias'!$B:$B,0),1))","v":""}]
[null,0,"",null,null,"",{"$f":"IF(H95=\"\",\"\",INDEX(referentes!AU:AV,MATCH(H95,referentes!$AV:$AV,0),1))","v":""},null,{"$f":"IF(J95=\"\",\"\",INDEX('Otras referencias'!$V:$W,MATCH(J95,'Otras referencias'!$W:$W,0),1))","v":""},null,null,null,null,null,null,null,null,null,90,null,null,null,null,null,null,null,null,null,null,null,null,null,null,null,null,null,null,null,null,null,null,null,null,null,null,0,null,null,null,0,null,null,null,null,null,null,null,null,null,null,null,null,null,null,null,null,null,null,"",{"$f":"IF(C95=\"\",\"\",IF(COUNTIF($C$6:C95, C95)>1, \"\", C95))","v":""},{"$f":"IF(K95=\"\",\"\",INDEX(referentes!P:Q,MATCH(K95,referentes!$Q:$Q,0),1))","v":""},{"$f":"IF(L95=\"\",\"\",INDEX(referentes!$A:$B,MATCH(L95,referentes!$B:$B,0),1))","v":""},{"$f":"IF(P95=\"\",\"\",INDEX(referentes!D:E,MATCH(P95,referentes!$E:$E,0),1))","v":""},{"$f":"IF(Q95=\"\",\"\",INDEX(referentes!G:H,MATCH(Q95,referentes!$H:$H,0),1))","v":""},"",{"$f":"IF(V95=\"\",\"\",INDEX(referentes!S:T,MATCH(V95,referentes!$T:$T,0),1))","v":""},{"$f":"IF(BL95=\"\",\"\",INDEX(referentes!J:K,MATCH(BL95,referentes!$K:$K,0),1))","v":""},{"$f":"IF(BD95=\"\",\"\",INDEX(referentes!V:W,MATCH(BD95,referentes!$W:$W,0),1))","v":""},{"$f":"IF(BE95=\"\",\"\",INDEX(referentes!Y:Z,MATCH(BE95,referentes!$Z:$Z,0),1))","v":""},{"$f":"IF(BF95=\"\",\"\",INDEX(referentes!AB:AC,MATCH(BF95,referentes!$AC:$AC,0),1))","v":""},{"$f":"IF(BG95=\"\",\"\",INDEX(referentes!AE:AF,MATCH(BG95,referentes!$AF:$AF,0),1))","v":""},{"$f":"IF(AY95=\"\",\"\",INDEX(referentes!M:N,MATCH(AY95,referentes!$N:$N,0),1))","v":""},{"$f":"IF(BN95=\"\",\"\",INDEX('Otras referencias'!S:T,MATCH(BN95,'Otras referencias'!$T:$T,0),1))","v":""},{"$f":"IF(BH95=\"\",\"\",INDEX('Otras referencias'!A:B,MATCH(BH95,'Otras referencias'!$B:$B,0),1))","v":""}]
[null,0,"",null,null,"",{"$f":"IF(H96=\"\",\"\",INDEX(referentes!AU:AV,MATCH(H96,referentes!$AV:$AV,0),1))","v":""},null,{"$f":"IF(J96=\"\",\"\",INDEX('Otras referencias'!$V:$W,MATCH(J96,'Otras referencias'!$W:$W,0),1))","v":""},null,null,null,null,null,null,null,null,null,91,null,null,null,null,null,null,null,null,null,null,null,null,null,null,null,null,null,null,null,null,null,null,null,null,null,null,0,null,null,null,0,null,null,null,null,null,null,null,null,null,null,null,null,null,null,null,null,null,null,"",{"$f":"IF(C96=\"\",\"\",IF(COUNTIF($C$6:C96, C96)>1, \"\", C96))","v":""},{"$f":"IF(K96=\"\",\"\",INDEX(referentes!P:Q,MATCH(K96,referentes!$Q:$Q,0),1))","v":""},{"$f":"IF(L96=\"\",\"\",INDEX(referentes!$A:$B,MATCH(L96,referentes!$B:$B,0),1))","v":""},{"$f":"IF(P96=\"\",\"\",INDEX(referentes!D:E,MATCH(P96,referentes!$E:$E,0),1))","v":""},{"$f":"IF(Q96=\"\",\"\",INDEX(referentes!G:H,MATCH(Q96,referentes!$H:$H,0),1))","v":""},"",{"$f":"IF(V96=\"\",\"\",INDEX(referentes!S:T,MATCH(V96,referentes!$T:$T,0),1))","v":""},{"$f":"IF(BL96=\"\",\"\",INDEX(referentes!J:K,MATCH(BL96,referentes!$K:$K,0),1))","v":""},{"$f":"IF(BD96=\"\",\"\",INDEX(referentes!V:W,MATCH(BD96,referentes!$W:$W,0),1))","v":""},{"$f":"IF(BE96=\"\",\"\",INDEX(referentes!Y:Z,MATCH(BE96,referentes!$Z:$Z,0),1))","v":""},{"$f":"IF(BF96=\"\",\"\",INDEX(referentes!AB:AC,MATCH(BF96,referentes!$AC:$AC,0),1))","v":""},{"$f":"IF(BG96=\"\",\"\",INDEX(referentes!AE:AF,MATCH(BG96,referentes!$AF:$AF,0),1))","v":""},{"$f":"IF(AY96=\"\",\"\",INDEX(referentes!M:N,MATCH(AY96,referentes!$N:$N,0),1))","v":""},{"$f":"IF(BN96=\"\",\"\",INDEX('Otras referencias'!S:T,MATCH(BN96,'Otras referencias'!$T:$T,0),1))","v":""},{"$f":"IF(BH96=\"\",\"\",INDEX('Otras referencias'!A:B,MATCH(BH96,'Otras referencias'!$B:$B,0),1))","v":""}]
[null,0,"",null,null,"",{"$f":"IF(H97=\"\",\"\",INDEX(referentes!AU:AV,MATCH(H97,referentes!$AV:$AV,0),1))","v":""},null,{"$f":"IF(J97=\"\",\"\",INDEX('Otras referencias'!$V:$W,MATCH(J97,'Otras referencias'!$W:$W,0),1))","v":""},null,null,null,null,null,null,null,null,null,92,null,null,null,null,null,null,null,null,null,null,null,null,null,null,null,null,null,null,null,null,null,null,null,null,null,null,0,null,null,null,0,null,null,null,null,null,null,null,null,null,null,null,null,null,null,null,null,null,null,"",{"$f":"IF(C97=\"\",\"\",IF(COUNTIF($C$6:C97, C97)>1, \"\", C97))","v":""},{"$f":"IF(K97=\"\",\"\",INDEX(referentes!P:Q,MATCH(K97,referentes!$Q:$Q,0),1))","v":""},{"$f":"IF(L97=\"\",\"\",INDEX(referentes!$A:$B,MATCH(L97,referentes!$B:$B,0),1))","v":""},{"$f":"IF(P97=\"\",\"\",INDEX(referentes!D:E,MATCH(P97,referentes!$E:$E,0),1))","v":""},{"$f":"IF(Q97=\"\",\"\",INDEX(referentes!G:H,MATCH(Q97,referentes!$H:$H,0),1))","v":""},"",{"$f":"IF(V97=\"\",\"\",INDEX(referentes!S:T,MATCH(V97,referentes!$T:$T,0),1))","v":""},{"$f":"IF(BL97=\"\",\"\",INDEX(referentes!J:K,MATCH(BL97,referentes!$K:$K,0),1))","v":""},{"$f":"IF(BD97=\"\",\"\",INDEX(referentes!V:W,MATCH(BD97,referentes!$W:$W,0),1))","v":""},{"$f":"IF(BE97=\"\",\"\",INDEX(referentes!Y:Z,MATCH(BE97,referentes!$Z:$Z,0),1))","v":""},{"$f":"IF(BF97=\"\",\"\",INDEX(referentes!AB:AC,MATCH(BF97,referentes!$AC:$AC,0),1))","v":""},{"$f":"IF(BG97=\"\",\"\",INDEX(referentes!AE:AF,MATCH(BG97,referentes!$AF:$AF,0),1))","v":""},{"$f":"IF(AY97=\"\",\"\",INDEX(referentes!M:N,MATCH(AY97,referentes!$N:$N,0),1))","v":""},{"$f":"IF(BN97=\"\",\"\",INDEX('Otras referencias'!S:T,MATCH(BN97,'Otras referencias'!$T:$T,0),1))","v":""},{"$f":"IF(BH97=\"\",\"\",INDEX('Otras referencias'!A:B,MATCH(BH97,'Otras referencias'!$B:$B,0),1))","v":""}]
[null,0,"",null,null,"",{"$f":"IF(H98=\"\",\"\",INDEX(referentes!AU:AV,MATCH(H98,referentes!$AV:$AV,0),1))","v":""},null,{"$f":"IF(J98=\"\",\"\",INDEX('Otras referencias'!$V:$W,MATCH(J98,'Otras referencias'!$W:$W,0),1))","v":""},null,null,null,null,null,null,null,null,null,93,null,null,null,null,null,null,null,null,null,null,null,null,null,null,null,null,null,null,null,null,null,null,null,null,null,null,0,null,null,null,0,null,null,null,null,null,null,null,null,null,null,null,null,null,null,null,null,null,null,"",{"$f":"IF(C98=\"\",\"\",IF(COUNTIF($C$6:C98, C98)>1, \"\", C98))","v":""},{"$f":"IF(K98=\"\",\"\",INDEX(referentes!P:Q,MATCH(K98,referentes!$Q:$Q,0),1))","v":""},{"$f":"IF(L98=\"\",\"\",INDEX(referentes!$A:$B,MATCH(L98,referentes!$B:$B,0),1))","v":""},{"$f":"IF(P98=\"\",\"\",INDEX(referentes!D:E,MATCH(P98,referentes!$E:$E,0),1))","v":""},{"$f":"IF(Q98=\"\",\"\",INDEX(referentes!G:H,MATCH(Q98,referentes!$H:$H,0),1))","v":""},"",{"$f":"IF(V98=\"\",\"\",INDEX(referentes!S:T,MATCH(V98,referentes!$T:$T,0),1))","v":""},{"$f":"IF(BL98=\"\",\"\",INDEX(referentes!J:K,MATCH(BL98,referentes!$K:$K,0),1))","v":""},{"$f":"IF(BD98=\"\",\"\",INDEX(referentes!V:W,MATCH(BD98,referentes!$W:$W,0),1))","v":""},{"$f":"IF(BE98=\"\",\"\",INDEX(referentes!Y:Z,MATCH(BE98,referentes!$Z:$Z,0),1))","v":""},{"$f":"IF(BF98=\"\",\"\",INDEX(referentes!AB:AC,MATCH(BF98,referentes!$AC:$AC,0),1))","v":""},{"$f":"IF(BG98=\"\",\"\",INDEX(referentes!AE:AF,MATCH(BG98,referentes!$AF:$AF,0),1))","v":""},{"$f":"IF(AY98=\"\",\"\",INDEX(referentes!M:N,MATCH(AY98,referentes!$N:$N,0),1))","v":""},{"$f":"IF(BN98=\"\",\"\",INDEX('Otras referencias'!S:T,MATCH(BN98,'Otras referencias'!$T:$T,0),1))","v":""},{"$f":"IF(BH98=\"\",\"\",INDEX('Otras referencias'!A:B,MATCH(BH98,'Otras referencias'!$B:$B,0),1))","v":""}]
[null,0,"",null,null,"",{"$f":"IF(H99=\"\",\"\",INDEX(referentes!AU:AV,MATCH(H99,referentes!$AV:$AV,0),1))","v":""},null,{"$f":"IF(J99=\"\",\"\",INDEX('Otras referencias'!$V:$W,MATCH(J99,'Otras referencias'!$W:$W,0),1))","v":""},null,null,null,null,null,null,null,null,null,94,null,null,null,null,null,null,null,null,null,null,null,null,null,null,null,null,null,null,null,null,null,null,null,null,null,null,0,null,null,null,0,null,null,null,null,null,null,null,null,null,null,null,null,null,null,null,null,null,null,"",{"$f":"IF(C99=\"\",\"\",IF(COUNTIF($C$6:C99, C99)>1, \"\", C99))","v":""},{"$f":"IF(K99=\"\",\"\",INDEX(referentes!P:Q,MATCH(K99,referentes!$Q:$Q,0),1))","v":""},{"$f":"IF(L99=\"\",\"\",INDEX(referentes!$A:$B,MATCH(L99,referentes!$B:$B,0),1))","v":""},{"$f":"IF(P99=\"\",\"\",INDEX(referentes!D:E,MATCH(P99,referentes!$E:$E,0),1))","v":""},{"$f":"IF(Q99=\"\",\"\",INDEX(referentes!G:H,MATCH(Q99,referentes!$H:$H,0),1))","v":""},"",{"$f":"IF(V99=\"\",\"\",INDEX(referentes!S:T,MATCH(V99,referentes!$T:$T,0),1))","v":""},{"$f":"IF(BL99=\"\",\"\",INDEX(referentes!J:K,MATCH(BL99,referentes!$K:$K,0),1))","v":""},{"$f":"IF(BD99=\"\",\"\",INDEX(referentes!V:W,MATCH(BD99,referentes!$W:$W,0),1))","v":""},{"$f":"IF(BE99=\"\",\"\",INDEX(referentes!Y:Z,MATCH(BE99,referentes!$Z:$Z,0),1))","v":""},{"$f":"IF(BF99=\"\",\"\",INDEX(referentes!AB:AC,MATCH(BF99,referentes!$AC:$AC,0),1))","v":""},{"$f":"IF(BG99=\"\",\"\",INDEX(referentes!AE:AF,MATCH(BG99,referentes!$AF:$AF,0),1))","v":""},{"$f":"IF(AY99=\"\",\"\",INDEX(referentes!M:N,MATCH(AY99,referentes!$N:$N,0),1))","v":""},{"$f":"IF(BN99=\"\",\"\",INDEX('Otras referencias'!S:T,MATCH(BN99,'Otras referencias'!$T:$T,0),1))","v":""},{"$f":"IF(BH99=\"\",\"\",INDEX('Otras referencias'!A:B,MATCH(BH99,'Otras referencias'!$B:$B,0),1))","v":""}]
[null,0,"",null,null,"",{"$f":"IF(H100=\"\",\"\",INDEX(referentes!AU:AV,MATCH(H100,referentes!$AV:$AV,0),1))","v":""},null,{"$f":"IF(J100=\"\",\"\",INDEX('Otras referencias'!$V:$W,MATCH(J100,'Otras referencias'!$W:$W,0),1))","v":""},null,null,null,null,null,null,null,null,null,95,null,null,null,null,null,null,null,null,null,null,null,null,null,null,null,null,null,null,null,null,null,null,null,null,null,null,0,null,null,null,0,null,null,null,null,null,null,null,null,null,null,null,null,null,null,null,null,null,null,"",{"$f":"IF(C100=\"\",\"\",IF(COUNTIF($C$6:C100, C100)>1, \"\", C100))","v":""},{"$f":"IF(K100=\"\",\"\",INDEX(referentes!P:Q,MATCH(K100,referentes!$Q:$Q,0),1))","v":""},{"$f":"IF(L100=\"\",\"\",INDEX(referentes!$A:$B,MATCH(L100,referentes!$B:$B,0),1))","v":""},{"$f":"IF(P100=\"\",\"\",INDEX(referentes!D:E,MATCH(P100,referentes!$E:$E,0),1))","v":""},{"$f":"IF(Q100=\"\",\"\",INDEX(referentes!G:H,MATCH(Q100,referentes!$H:$H,0),1))","v":""},"",{"$f":"IF(V100=\"\",\"\",INDEX(referentes!S:T,MATCH(V100,referentes!$T:$T,0),1))","v":""},{"$f":"IF(BL100=\"\",\"\",INDEX(referentes!J:K,MATCH(BL100,referentes!$K:$K,0),1))","v":""},{"$f":"IF(BD100=\"\",\"\",INDEX(referentes!V:W,MATCH(BD100,referentes!$W:$W,0),1))","v":""},{"$f":"IF(BE100=\"\",\"\",INDEX(referentes!Y:Z,MATCH(BE100,referentes!$Z:$Z,0),1))","v":""},{"$f":"IF(BF100=\"\",\"\",INDEX(referentes!AB:AC,MATCH(BF100,referentes!$AC:$AC,0),1))","v":""},{"$f":"IF(BG100=\"\",\"\",INDEX(referentes!AE:AF,MATCH(BG100,referentes!$AF:$AF,0),1))","v":""},{"$f":"IF(AY100=\"\",\"\",INDEX(referentes!M:N,MATCH(AY100,referentes!$N:$N,0),1))","v":""},{"$f":"IF(BN100=\"\",\"\",INDEX('Otras referencias'!S:T,MATCH(BN100,'Otras referencias'!$T:$T,0),1))","v":""},{"$f":"IF(BH100=\"\",\"\",INDEX('Otras referencias'!A:B,MATCH(BH100,'Otras referencias'!$B:$B,0),1))","v":""}]
[null,0,"",null,null,"",{"$f":"IF(H101=\"\",\"\",INDEX(referentes!AU:AV,MATCH(H101,referentes!$AV:$AV,0),1))","v":""},null,{"$f":"IF(J101=\"\",\"\",INDEX('Otras referencias'!$V:$W,MATCH(J101,'Otras referencias'!$W:$W,0),1))","v":""},null,null,null,null,null,null,null,null,null,96,null,null,null,null,null,null,null,null,null,null,null,null,null,null,null,null,null,null,null,null,null,null,null,null,null,null,0,null,null,null,0,null,null,null,null,null,null,null,null,null,null,null,null,null,null,null,null,null,null,"",{"$f":"IF(C101=\"\",\"\",IF(COUNTIF($C$6:C101, C101)>1, \"\", C101))","v":""},{"$f":"IF(K101=\"\",\"\",INDEX(referentes!P:Q,MATCH(K101,referentes!$Q:$Q,0),1))","v":""},{"$f":"IF(L101=\"\",\"\",INDEX(referentes!$A:$B,MATCH(L101,referentes!$B:$B,0),1))","v":""},{"$f":"IF(P101=\"\",\"\",INDEX(referentes!D:E,MATCH(P101,referentes!$E:$E,0),1))","v":""},{"$f":"IF(Q101=\"\",\"\",INDEX(referentes!G:H,MATCH(Q101,referentes!$H:$H,0),1))","v":""},"",{"$f":"IF(V101=\"\",\"\",INDEX(referentes!S:T,MATCH(V101,referentes!$T:$T,0),1))","v":""},{"$f":"IF(BL101=\"\",\"\",INDEX(referentes!J:K,MATCH(BL101,referentes!$K:$K,0),1))","v":""},{"$f":"IF(BD101=\"\",\"\",INDEX(referentes!V:W,MATCH(BD101,referentes!$W:$W,0),1))","v":""},{"$f":"IF(BE101=\"\",\"\",INDEX(referentes!Y:Z,MATCH(BE101,referentes!$Z:$Z,0),1))","v":""},{"$f":"IF(BF101=\"\",\"\",INDEX(referentes!AB:AC,MATCH(BF101,referentes!$AC:$AC,0),1))","v":""},{"$f":"IF(BG101=\"\",\"\",INDEX(referentes!AE:AF,MATCH(BG101,referentes!$AF:$AF,0),1))","v":""},{"$f":"IF(AY101=\"\",\"\",INDEX(referentes!M:N,MATCH(AY101,referentes!$N:$N,0),1))","v":""},{"$f":"IF(BN101=\"\",\"\",INDEX('Otras referencias'!S:T,MATCH(BN101,'Otras referencias'!$T:$T,0),1))","v":""},{"$f":"IF(BH101=\"\",\"\",INDEX('Otras referencias'!A:B,MATCH(BH101,'Otras referencias'!$B:$B,0),1))","v":""}]
[null,0,"",null,null,"",{"$f":"IF(H102=\"\",\"\",INDEX(referentes!AU:AV,MATCH(H102,referentes!$AV:$AV,0),1))","v":""},null,{"$f":"IF(J102=\"\",\"\",INDEX('Otras referencias'!$V:$W,MATCH(J102,'Otras referencias'!$W:$W,0),1))","v":""},null,null,null,null,null,null,null,null,null,97,null,null,null,null,null,null,null,null,null,null,null,null,null,null,null,null,null,null,null,null,null,null,null,null,null,null,0,null,null,null,0,null,null,null,null,null,null,null,null,null,null,null,null,null,null,null,null,null,null,"",{"$f":"IF(C102=\"\",\"\",IF(COUNTIF($C$6:C102, C102)>1, \"\", C102))","v":""},{"$f":"IF(K102=\"\",\"\",INDEX(referentes!P:Q,MATCH(K102,referentes!$Q:$Q,0),1))","v":""},{"$f":"IF(L102=\"\",\"\",INDEX(referentes!$A:$B,MATCH(L102,referentes!$B:$B,0),1))","v":""},{"$f":"IF(P102=\"\",\"\",INDEX(referentes!D:E,MATCH(P102,referentes!$E:$E,0),1))","v":""},{"$f":"IF(Q102=\"\",\"\",INDEX(referentes!G:H,MATCH(Q102,referentes!$H:$H,0),1))","v":""},"",{"$f":"IF(V102=\"\",\"\",INDEX(referentes!S:T,MATCH(V102,referentes!$T:$T,0),1))","v":""},{"$f":"IF(BL102=\"\",\"\",INDEX(referentes!J:K,MATCH(BL102,referentes!$K:$K,0),1))","v":""},{"$f":"IF(BD102=\"\",\"\",INDEX(referentes!V:W,MATCH(BD102,referentes!$W:$W,0),1))","v":""},{"$f":"IF(BE102=\"\",\"\",INDEX(referentes!Y:Z,MATCH(BE102,referentes!$Z:$Z,0),1))","v":""},{"$f":"IF(BF102=\"\",\"\",INDEX(referentes!AB:AC,MATCH(BF102,referentes!$AC:$AC,0),1))","v":""},{"$f":"IF(BG102=\"\",\"\",INDEX(referentes!AE:AF,MATCH(BG102,referentes!$AF:$AF,0),1))","v":""},{"$f":"IF(AY102=\"\",\"\",INDEX(referentes!M:N,MATCH(AY102,referentes!$N:$N,0),1))","v":""},{"$f":"IF(BN102=\"\",\"\",INDEX('Otras referencias'!S:T,MATCH(BN102,'Otras referencias'!$T:$T,0),1))","v":""},{"$f":"IF(BH102=\"\",\"\",INDEX('Otras referencias'!A:B,MATCH(BH102,'Otras referencias'!$B:$B,0),1))","v":""}]
[null,{"$f":"IF(BW103=BW102,B102,B102+1)","v":0},"",null,null,"",{"$f":"IF(H103=\"\",\"\",INDEX(referentes!AU:AV,MATCH(H103,referentes!$AV:$AV,0),1))","v":""},null,{"$f":"IF(J103=\"\",\"\",INDEX('Otras referencias'!$V:$W,MATCH(J103,'Otras referencias'!$W:$W,0),1))","v":""},null,null,null,null,null,null,null,null,null,98,null,null,null,null,null,null,null,null,null,null,null,null,null,null,null,null,null,null,null,null,null,null,null,null,null,null,0,null,null,null,0,null,null,null,null,null,null,null,null,null,null,null,null,null,null,null,null,null,null,"",{"$f":"IF(C103=\"\",\"\",IF(COUNTIF($C$6:C103, C103)>1, \"\", C103))","v":""},{"$f":"IF(K103=\"\",\"\",INDEX(referentes!P:Q,MATCH(K103,referentes!$Q:$Q,0),1))","v":""},{"$f":"IF(L103=\"\",\"\",INDEX(referentes!$A:$B,MATCH(L103,referentes!$B:$B,0),1))","v":""},{"$f":"IF(P103=\"\",\"\",INDEX(referentes!D:E,MATCH(P103,referentes!$E:$E,0),1))","v":""},{"$f":"IF(Q103=\"\",\"\",INDEX(referentes!G:H,MATCH(Q103,referentes!$H:$H,0),1))","v":""},"",{"$f":"IF(V103=\"\",\"\",INDEX(referentes!S:T,MATCH(V103,referentes!$T:$T,0),1))","v":""},{"$f":"IF(BL103=\"\",\"\",INDEX(referentes!J:K,MATCH(BL103,referentes!$K:$K,0),1))","v":""},{"$f":"IF(BD103=\"\",\"\",INDEX(referentes!V:W,MATCH(BD103,referentes!$W:$W,0),1))","v":""},{"$f":"IF(BE103=\"\",\"\",INDEX(referentes!Y:Z,MATCH(BE103,referentes!$Z:$Z,0),1))","v":""},{"$f":"IF(BF103=\"\",\"\",INDEX(referentes!AB:AC,MATCH(BF103,referentes!$AC:$AC,0),1))","v":""},{"$f":"IF(BG103=\"\",\"\",INDEX(referentes!AE:AF,MATCH(BG103,referentes!$AF:$AF,0),1))","v":""},{"$f":"IF(AY103=\"\",\"\",INDEX(referentes!M:N,MATCH(AY103,referentes!$N:$N,0),1))","v":""},{"$f":"IF(BN103=\"\",\"\",INDEX('Otras referencias'!S:T,MATCH(BN103,'Otras referencias'!$T:$T,0),1))","v":""},{"$f":"IF(BH103=\"\",\"\",INDEX('Otras referencias'!A:B,MATCH(BH103,'Otras referencias'!$B:$B,0),1))","v":""}]
[null,0,"",null,null,"",{"$f":"IF(H104=\"\",\"\",INDEX(referentes!AU:AV,MATCH(H104,referentes!$AV:$AV,0),1))","v":""},null,{"$f":"IF(J104=\"\",\"\",INDEX('Otras referencias'!$V:$W,MATCH(J104,'Otras referencias'!$W:$W,0),1))","v":""},null,null,null,null,null,null,null,null,null,99,null,null,null,null,null,null,null,null,null,null,null,null,null,null,null,null,null,null,null,null,null,null,null,null,null,null,0,null,null,null,0,null,null,null,null,null,null,null,null,null,null,null,null,null,null,null,null,null,null,"",{"$f":"IF(C104=\"\",\"\",IF(COUNTIF($C$6:C104, C104)>1, \"\", C104))","v":""},{"$f":"IF(K104=\"\",\"\",INDEX(referentes!P:Q,MATCH(K104,referentes!$Q:$Q,0),1))","v":""},{"$f":"IF(L104=\"\",\"\",INDEX(referentes!$A:$B,MATCH(L104,referentes!$B:$B,0),1))","v":""},{"$f":"IF(P104=\"\",\"\",INDEX(referentes!D:E,MATCH(P104,referentes!$E:$E,0),1))","v":""},{"$f":"IF(Q104=\"\",\"\",INDEX(referentes!G:H,MATCH(Q104,referentes!$H:$H,0),1))","v":""},"",{"$f":"IF(V104=\"\",\"\",INDEX(referentes!S:T,MATCH(V104,referentes!$T:$T,0),1))","v":""},{"$f":"IF(BL104=\"\",\"\",INDEX(referentes!J:K,MATCH(BL104,referentes!$K:$K,0),1))","v":""},{"$f":"IF(BD104=\"\",\"\",INDEX(referentes!V:W,MATCH(BD104,referentes!$W:$W,0),1))","v":""},{"$f":"IF(BE104=\"\",\"\",INDEX(referentes!Y:Z,MATCH(BE104,referentes!$Z:$Z,0),1))","v":""},{"$f":"IF(BF104=\"\",\"\",INDEX(referentes!AB:AC,MATCH(BF104,referentes!$AC:$AC,0),1))","v":""},{"$f":"IF(BG104=\"\",\"\",INDEX(referentes!AE:AF,MATCH(BG104,referentes!$AF:$AF,0),1))","v":""},{"$f":"IF(AY104=\"\",\"\",INDEX(referentes!M:N,MATCH(AY104,referentes!$N:$N,0),1))","v":""},{"$f":"IF(BN104=\"\",\"\",INDEX('Otras referencias'!S:T,MATCH(BN104,'Otras referencias'!$T:$T,0),1))","v":""},{"$f":"IF(BH104=\"\",\"\",INDEX('Otras referencias'!A:B,MATCH(BH104,'Otras referencias'!$B:$B,0),1))","v":""}]
[null,0,"",null,null,"",{"$f":"IF(H105=\"\",\"\",INDEX(referentes!AU:AV,MATCH(H105,referentes!$AV:$AV,0),1))","v":""},null,{"$f":"IF(J105=\"\",\"\",INDEX('Otras referencias'!$V:$W,MATCH(J105,'Otras referencias'!$W:$W,0),1))","v":""},null,null,null,null,null,null,null,null,null,100,null,null,null,null,null,null,null,null,null,null,null,null,null,null,null,null,null,null,null,null,null,null,null,null,null,null,0,null,null,null,0,null,null,null,null,null,null,null,null,null,null,null,null,null,null,null,null,null,null,"",{"$f":"IF(C105=\"\",\"\",IF(COUNTIF($C$6:C105, C105)>1, \"\", C105))","v":""},{"$f":"IF(K105=\"\",\"\",INDEX(referentes!P:Q,MATCH(K105,referentes!$Q:$Q,0),1))","v":""},{"$f":"IF(L105=\"\",\"\",INDEX(referentes!$A:$B,MATCH(L105,referentes!$B:$B,0),1))","v":""},{"$f":"IF(P105=\"\",\"\",INDEX(referentes!D:E,MATCH(P105,referentes!$E:$E,0),1))","v":""},{"$f":"IF(Q105=\"\",\"\",INDEX(referentes!G:H,MATCH(Q105,referentes!$H:$H,0),1))","v":""},"",{"$f":"IF(V105=\"\",\"\",INDEX(referentes!S:T,MATCH(V105,referentes!$T:$T,0),1))","v":""},{"$f":"IF(BL105=\"\",\"\",INDEX(referentes!J:K,MATCH(BL105,referentes!$K:$K,0),1))","v":""},{"$f":"IF(BD105=\"\",\"\",INDEX(referentes!V:W,MATCH(BD105,referentes!$W:$W,0),1))","v":""},{"$f":"IF(BE105=\"\",\"\",INDEX(referentes!Y:Z,MATCH(BE105,referentes!$Z:$Z,0),1))","v":""},{"$f":"IF(BF105=\"\",\"\",INDEX(referentes!AB:AC,MATCH(BF105,referentes!$AC:$AC,0),1))","v":""},{"$f":"IF(BG105=\"\",\"\",INDEX(referentes!AE:AF,MATCH(BG105,referentes!$AF:$AF,0),1))","v":""},{"$f":"IF(AY105=\"\",\"\",INDEX(referentes!M:N,MATCH(AY105,referentes!$N:$N,0),1))","v":""},{"$f":"IF(BN105=\"\",\"\",INDEX('Otras referencias'!S:T,MATCH(BN105,'Otras referencias'!$T:$T,0),1))","v":""},{"$f":"IF(BH105=\"\",\"\",INDEX('Otras referencias'!A:B,MATCH(BH105,'Otras referencias'!$B:$B,0),1))","v":""}]
[null,0,"",null,null,"",{"$f":"IF(H106=\"\",\"\",INDEX(referentes!AU:AV,MATCH(H106,referentes!$AV:$AV,0),1))","v":""},null,{"$f":"IF(J106=\"\",\"\",INDEX('Otras referencias'!$V:$W,MATCH(J106,'Otras referencias'!$W:$W,0),1))","v":""},null,null,null,null,null,null,null,null,null,101,null,null,null,null,null,null,null,null,null,null,null,null,null,null,null,null,null,null,null,null,null,null,null,null,null,null,0,null,null,null,0,null,null,null,null,null,null,null,null,null,null,null,null,null,null,null,null,null,null,"",{"$f":"IF(C106=\"\",\"\",IF(COUNTIF($C$6:C106, C106)>1, \"\", C106))","v":""},{"$f":"IF(K106=\"\",\"\",INDEX(referentes!P:Q,MATCH(K106,referentes!$Q:$Q,0),1))","v":""},{"$f":"IF(L106=\"\",\"\",INDEX(referentes!$A:$B,MATCH(L106,referentes!$B:$B,0),1))","v":""},{"$f":"IF(P106=\"\",\"\",INDEX(referentes!D:E,MATCH(P106,referentes!$E:$E,0),1))","v":""},{"$f":"IF(Q106=\"\",\"\",INDEX(referentes!G:H,MATCH(Q106,referentes!$H:$H,0),1))","v":""},"",{"$f":"IF(V106=\"\",\"\",INDEX(referentes!S:T,MATCH(V106,referentes!$T:$T,0),1))","v":""},{"$f":"IF(BL106=\"\",\"\",INDEX(referentes!J:K,MATCH(BL106,referentes!$K:$K,0),1))","v":""},{"$f":"IF(BD106=\"\",\"\",INDEX(referentes!V:W,MATCH(BD106,referentes!$W:$W,0),1))","v":""},{"$f":"IF(BE106=\"\",\"\",INDEX(referentes!Y:Z,MATCH(BE106,referentes!$Z:$Z,0),1))","v":""},{"$f":"IF(BF106=\"\",\"\",INDEX(referentes!AB:AC,MATCH(BF106,referentes!$AC:$AC,0),1))","v":""},{"$f":"IF(BG106=\"\",\"\",INDEX(referentes!AE:AF,MATCH(BG106,referentes!$AF:$AF,0),1))","v":""},{"$f":"IF(AY106=\"\",\"\",INDEX(referentes!M:N,MATCH(AY106,referentes!$N:$N,0),1))","v":""},{"$f":"IF(BN106=\"\",\"\",INDEX('Otras referencias'!S:T,MATCH(BN106,'Otras referencias'!$T:$T,0),1))","v":""},{"$f":"IF(BH106=\"\",\"\",INDEX('Otras referencias'!A:B,MATCH(BH106,'Otras referencias'!$B:$B,0),1))","v":""}]
[null,0,"",null,null,"",{"$f":"IF(H107=\"\",\"\",INDEX(referentes!AU:AV,MATCH(H107,referentes!$AV:$AV,0),1))","v":""},null,{"$f":"IF(J107=\"\",\"\",INDEX('Otras referencias'!$V:$W,MATCH(J107,'Otras referencias'!$W:$W,0),1))","v":""},null,null,null,null,null,null,null,null,null,102,null,null,null,null,null,null,null,null,null,null,null,null,null,null,null,null,null,null,null,null,null,null,null,null,null,null,0,null,null,null,0,null,null,null,null,null,null,null,null,null,null,null,null,null,null,null,null,null,null,"",{"$f":"IF(C107=\"\",\"\",IF(COUNTIF($C$6:C107, C107)>1, \"\", C107))","v":""},{"$f":"IF(K107=\"\",\"\",INDEX(referentes!P:Q,MATCH(K107,referentes!$Q:$Q,0),1))","v":""},{"$f":"IF(L107=\"\",\"\",INDEX(referentes!$A:$B,MATCH(L107,referentes!$B:$B,0),1))","v":""},{"$f":"IF(P107=\"\",\"\",INDEX(referentes!D:E,MATCH(P107,referentes!$E:$E,0),1))","v":""},{"$f":"IF(Q107=\"\",\"\",INDEX(referentes!G:H,MATCH(Q107,referentes!$H:$H,0),1))","v":""},"",{"$f":"IF(V107=\"\",\"\",INDEX(referentes!S:T,MATCH(V107,referentes!$T:$T,0),1))","v":""},{"$f":"IF(BL107=\"\",\"\",INDEX(referentes!J:K,MATCH(BL107,referentes!$K:$K,0),1))","v":""},{"$f":"IF(BD107=\"\",\"\",INDEX(referentes!V:W,MATCH(BD107,referentes!$W:$W,0),1))","v":""},{"$f":"IF(BE107=\"\",\"\",INDEX(referentes!Y:Z,MATCH(BE107,referentes!$Z:$Z,0),1))","v":""},{"$f":"IF(BF107=\"\",\"\",INDEX(referentes!AB:AC,MATCH(BF107,referentes!$AC:$AC,0),1))","v":""},{"$f":"IF(BG107=\"\",\"\",INDEX(referentes!AE:AF,MATCH(BG107,referentes!$AF:$AF,0),1))","v":""},{"$f":"IF(AY107=\"\",\"\",INDEX(referentes!M:N,MATCH(AY107,referentes!$N:$N,0),1))","v":""},{"$f":"IF(BN107=\"\",\"\",INDEX('Otras referencias'!S:T,MATCH(BN107,'Otras referencias'!$T:$T,0),1))","v":""},{"$f":"IF(BH107=\"\",\"\",INDEX('Otras referencias'!A:B,MATCH(BH107,'Otras referencias'!$B:$B,0),1))","v":""}]
[null,0,"",null,null,"",{"$f":"IF(H108=\"\",\"\",INDEX(referentes!AU:AV,MATCH(H108,referentes!$AV:$AV,0),1))","v":""},null,{"$f":"IF(J108=\"\",\"\",INDEX('Otras referencias'!$V:$W,MATCH(J108,'Otras referencias'!$W:$W,0),1))","v":""},null,null,null,null,null,null,null,null,null,103,null,null,null,null,null,null,null,null,null,null,null,null,null,null,null,null,null,null,null,null,null,null,null,null,null,null,0,null,null,null,0,null,null,null,null,null,null,null,null,null,null,null,null,null,null,null,null,null,null,"",{"$f":"IF(C108=\"\",\"\",IF(COUNTIF($C$6:C108, C108)>1, \"\", C108))","v":""},{"$f":"IF(K108=\"\",\"\",INDEX(referentes!P:Q,MATCH(K108,referentes!$Q:$Q,0),1))","v":""},{"$f":"IF(L108=\"\",\"\",INDEX(referentes!$A:$B,MATCH(L108,referentes!$B:$B,0),1))","v":""},{"$f":"IF(P108=\"\",\"\",INDEX(referentes!D:E,MATCH(P108,referentes!$E:$E,0),1))","v":""},{"$f":"IF(Q108=\"\",\"\",INDEX(referentes!G:H,MATCH(Q108,referentes!$H:$H,0),1))","v":""},"",{"$f":"IF(V108=\"\",\"\",INDEX(referentes!S:T,MATCH(V108,referentes!$T:$T,0),1))","v":""},{"$f":"IF(BL108=\"\",\"\",INDEX(referentes!J:K,MATCH(BL108,referentes!$K:$K,0),1))","v":""},{"$f":"IF(BD108=\"\",\"\",INDEX(referentes!V:W,MATCH(BD108,referentes!$W:$W,0),1))","v":""},{"$f":"IF(BE108=\"\",\"\",INDEX(referentes!Y:Z,MATCH(BE108,referentes!$Z:$Z,0),1))","v":""},{"$f":"IF(BF108=\"\",\"\",INDEX(referentes!AB:AC,MATCH(BF108,referentes!$AC:$AC,0),1))","v":""},{"$f":"IF(BG108=\"\",\"\",INDEX(referentes!AE:AF,MATCH(BG108,referentes!$AF:$AF,0),1))","v":""},{"$f":"IF(AY108=\"\",\"\",INDEX(referentes!M:N,MATCH(AY108,referentes!$N:$N,0),1))","v":""},{"$f":"IF(BN108=\"\",\"\",INDEX('Otras referencias'!S:T,MATCH(BN108,'Otras referencias'!$T:$T,0),1))","v":""},{"$f":"IF(BH108=\"\",\"\",INDEX('Otras referencias'!A:B,MATCH(BH108,'Otras referencias'!$B:$B,0),1))","v":""}]
[null,0,"",null,null,"",{"$f":"IF(H109=\"\",\"\",INDEX(referentes!AU:AV,MATCH(H109,referentes!$AV:$AV,0),1))","v":""},null,{"$f":"IF(J109=\"\",\"\",INDEX('Otras referencias'!$V:$W,MATCH(J109,'Otras referencias'!$W:$W,0),1))","v":""},null,null,null,null,null,null,null,null,null,104,null,null,null,null,null,null,null,null,null,null,null,null,null,null,null,null,null,null,null,null,null,null,null,null,null,null,0,null,null,null,0,null,null,null,null,null,null,null,null,null,null,null,null,null,null,null,null,null,null,"",{"$f":"IF(C109=\"\",\"\",IF(COUNTIF($C$6:C109, C109)>1, \"\", C109))","v":""},{"$f":"IF(K109=\"\",\"\",INDEX(referentes!P:Q,MATCH(K109,referentes!$Q:$Q,0),1))","v":""},{"$f":"IF(L109=\"\",\"\",INDEX(referentes!$A:$B,MATCH(L109,referentes!$B:$B,0),1))","v":""},{"$f":"IF(P109=\"\",\"\",INDEX(referentes!D:E,MATCH(P109,referentes!$E:$E,0),1))","v":""},{"$f":"IF(Q109=\"\",\"\",INDEX(referentes!G:H,MATCH(Q109,referentes!$H:$H,0),1))","v":""},"",{"$f":"IF(V109=\"\",\"\",INDEX(referentes!S:T,MATCH(V109,referentes!$T:$T,0),1))","v":""},{"$f":"IF(BL109=\"\",\"\",INDEX(referentes!J:K,MATCH(BL109,referentes!$K:$K,0),1))","v":""},{"$f":"IF(BD109=\"\",\"\",INDEX(referentes!V:W,MATCH(BD109,referentes!$W:$W,0),1))","v":""},{"$f":"IF(BE109=\"\",\"\",INDEX(referentes!Y:Z,MATCH(BE109,referentes!$Z:$Z,0),1))","v":""},{"$f":"IF(BF109=\"\",\"\",INDEX(referentes!AB:AC,MATCH(BF109,referentes!$AC:$AC,0),1))","v":""},{"$f":"IF(BG109=\"\",\"\",INDEX(referentes!AE:AF,MATCH(BG109,referentes!$AF:$AF,0),1))","v":""},{"$f":"IF(AY109=\"\",\"\",INDEX(referentes!M:N,MATCH(AY109,referentes!$N:$N,0),1))","v":""},{"$f":"IF(BN109=\"\",\"\",INDEX('Otras referencias'!S:T,MATCH(BN109,'Otras referencias'!$T:$T,0),1))","v":""},{"$f":"IF(BH109=\"\",\"\",INDEX('Otras referencias'!A:B,MATCH(BH109,'Otras referencias'!$B:$B,0),1))","v":""}]
[null,0,"",null,null,"",{"$f":"IF(H110=\"\",\"\",INDEX(referentes!AU:AV,MATCH(H110,referentes!$AV:$AV,0),1))","v":""},null,{"$f":"IF(J110=\"\",\"\",INDEX('Otras referencias'!$V:$W,MATCH(J110,'Otras referencias'!$W:$W,0),1))","v":""},null,null,null,null,null,null,null,null,null,105,null,null,null,null,null,null,null,null,null,null,null,null,null,null,null,null,null,null,null,null,null,null,null,null,null,null,0,null,null,null,0,null,null,null,null,null,null,null,null,null,null,null,null,null,null,null,null,null,null,"",{"$f":"IF(C110=\"\",\"\",IF(COUNTIF($C$6:C110, C110)>1, \"\", C110))","v":""},{"$f":"IF(K110=\"\",\"\",INDEX(referentes!P:Q,MATCH(K110,referentes!$Q:$Q,0),1))","v":""},{"$f":"IF(L110=\"\",\"\",INDEX(referentes!$A:$B,MATCH(L110,referentes!$B:$B,0),1))","v":""},{"$f":"IF(P110=\"\",\"\",INDEX(referentes!D:E,MATCH(P110,referentes!$E:$E,0),1))","v":""},{"$f":"IF(Q110=\"\",\"\",INDEX(referentes!G:H,MATCH(Q110,referentes!$H:$H,0),1))","v":""},"",{"$f":"IF(V110=\"\",\"\",INDEX(referentes!S:T,MATCH(V110,referentes!$T:$T,0),1))","v":""},{"$f":"IF(BL110=\"\",\"\",INDEX(referentes!J:K,MATCH(BL110,referentes!$K:$K,0),1))","v":""},{"$f":"IF(BD110=\"\",\"\",INDEX(referentes!V:W,MATCH(BD110,referentes!$W:$W,0),1))","v":""},{"$f":"IF(BE110=\"\",\"\",INDEX(referentes!Y:Z,MATCH(BE110,referentes!$Z:$Z,0),1))","v":""},{"$f":"IF(BF110=\"\",\"\",INDEX(referentes!AB:AC,MATCH(BF110,referentes!$AC:$AC,0),1))","v":""},{"$f":"IF(BG110=\"\",\"\",INDEX(referentes!AE:AF,MATCH(BG110,referentes!$AF:$AF,0),1))","v":""},{"$f":"IF(AY110=\"\",\"\",INDEX(referentes!M:N,MATCH(AY110,referentes!$N:$N,0),1))","v":""},{"$f":"IF(BN110=\"\",\"\",INDEX('Otras referencias'!S:T,MATCH(BN110,'Otras referencias'!$T:$T,0),1))","v":""},{"$f":"IF(BH110=\"\",\"\",INDEX('Otras referencias'!A:B,MATCH(BH110,'Otras referencias'!$B:$B,0),1))","v":""}]
[null,0,"",null,null,"",{"$f":"IF(H111=\"\",\"\",INDEX(referentes!AU:AV,MATCH(H111,referentes!$AV:$AV,0),1))","v":""},null,{"$f":"IF(J111=\"\",\"\",INDEX('Otras referencias'!$V:$W,MATCH(J111,'Otras referencias'!$W:$W,0),1))","v":""},null,null,null,null,null,null,null,null,null,106,null,null,null,null,null,null,null,null,null,null,null,null,null,null,null,null,null,null,null,null,null,null,null,null,null,null,0,null,null,null,0,null,null,null,null,null,null,null,null,null,null,null,null,null,null,null,null,null,null,"",{"$f":"IF(C111=\"\",\"\",IF(COUNTIF($C$6:C111, C111)>1, \"\", C111))","v":""},{"$f":"IF(K111=\"\",\"\",INDEX(referentes!P:Q,MATCH(K111,referentes!$Q:$Q,0),1))","v":""},{"$f":"IF(L111=\"\",\"\",INDEX(referentes!$A:$B,MATCH(L111,referentes!$B:$B,0),1))","v":""},{"$f":"IF(P111=\"\",\"\",INDEX(referentes!D:E,MATCH(P111,referentes!$E:$E,0),1))","v":""},{"$f":"IF(Q111=\"\",\"\",INDEX(referentes!G:H,MATCH(Q111,referentes!$H:$H,0),1))","v":""},"",{"$f":"IF(V111=\"\",\"\",INDEX(referentes!S:T,MATCH(V111,referentes!$T:$T,0),1))","v":""},{"$f":"IF(BL111=\"\",\"\",INDEX(referentes!J:K,MATCH(BL111,referentes!$K:$K,0),1))","v":""},{"$f":"IF(BD111=\"\",\"\",INDEX(referentes!V:W,MATCH(BD111,referentes!$W:$W,0),1))","v":""},{"$f":"IF(BE111=\"\",\"\",INDEX(referentes!Y:Z,MATCH(BE111,referentes!$Z:$Z,0),1))","v":""},{"$f":"IF(BF111=\"\",\"\",INDEX(referentes!AB:AC,MATCH(BF111,referentes!$AC:$AC,0),1))","v":""},{"$f":"IF(BG111=\"\",\"\",INDEX(referentes!AE:AF,MATCH(BG111,referentes!$AF:$AF,0),1))","v":""},{"$f":"IF(AY111=\"\",\"\",INDEX(referentes!M:N,MATCH(AY111,referentes!$N:$N,0),1))","v":""},{"$f":"IF(BN111=\"\",\"\",INDEX('Otras referencias'!S:T,MATCH(BN111,'Otras referencias'!$T:$T,0),1))","v":""},{"$f":"IF(BH111=\"\",\"\",INDEX('Otras referencias'!A:B,MATCH(BH111,'Otras referencias'!$B:$B,0),1))","v":""}]
[null,0,"",null,null,"",{"$f":"IF(H112=\"\",\"\",INDEX(referentes!AU:AV,MATCH(H112,referentes!$AV:$AV,0),1))","v":""},null,{"$f":"IF(J112=\"\",\"\",INDEX('Otras referencias'!$V:$W,MATCH(J112,'Otras referencias'!$W:$W,0),1))","v":""},null,null,null,null,null,null,null,null,null,107,null,null,null,null,null,null,null,null,null,null,null,null,null,null,null,null,null,null,null,null,null,null,null,null,null,null,0,null,null,null,0,null,null,null,null,null,null,null,null,null,null,null,null,null,null,null,null,null,null,"",{"$f":"IF(C112=\"\",\"\",IF(COUNTIF($C$6:C112, C112)>1, \"\", C112))","v":""},{"$f":"IF(K112=\"\",\"\",INDEX(referentes!P:Q,MATCH(K112,referentes!$Q:$Q,0),1))","v":""},{"$f":"IF(L112=\"\",\"\",INDEX(referentes!$A:$B,MATCH(L112,referentes!$B:$B,0),1))","v":""},{"$f":"IF(P112=\"\",\"\",INDEX(referentes!D:E,MATCH(P112,referentes!$E:$E,0),1))","v":""},{"$f":"IF(Q112=\"\",\"\",INDEX(referentes!G:H,MATCH(Q112,referentes!$H:$H,0),1))","v":""},"",{"$f":"IF(V112=\"\",\"\",INDEX(referentes!S:T,MATCH(V112,referentes!$T:$T,0),1))","v":""},{"$f":"IF(BL112=\"\",\"\",INDEX(referentes!J:K,MATCH(BL112,referentes!$K:$K,0),1))","v":""},{"$f":"IF(BD112=\"\",\"\",INDEX(referentes!V:W,MATCH(BD112,referentes!$W:$W,0),1))","v":""},{"$f":"IF(BE112=\"\",\"\",INDEX(referentes!Y:Z,MATCH(BE112,referentes!$Z:$Z,0),1))","v":""},{"$f":"IF(BF112=\"\",\"\",INDEX(referentes!AB:AC,MATCH(BF112,referentes!$AC:$AC,0),1))","v":""},{"$f":"IF(BG112=\"\",\"\",INDEX(referentes!AE:AF,MATCH(BG112,referentes!$AF:$AF,0),1))","v":""},{"$f":"IF(AY112=\"\",\"\",INDEX(referentes!M:N,MATCH(AY112,referentes!$N:$N,0),1))","v":""},{"$f":"IF(BN112=\"\",\"\",INDEX('Otras referencias'!S:T,MATCH(BN112,'Otras referencias'!$T:$T,0),1))","v":""},{"$f":"IF(BH112=\"\",\"\",INDEX('Otras referencias'!A:B,MATCH(BH112,'Otras referencias'!$B:$B,0),1))","v":""}]
[null,0,"",null,null,"",{"$f":"IF(H113=\"\",\"\",INDEX(referentes!AU:AV,MATCH(H113,referentes!$AV:$AV,0),1))","v":""},null,{"$f":"IF(J113=\"\",\"\",INDEX('Otras referencias'!$V:$W,MATCH(J113,'Otras referencias'!$W:$W,0),1))","v":""},null,null,null,null,null,null,null,null,null,108,null,null,null,null,null,null,null,null,null,null,null,null,null,null,null,null,null,null,null,null,null,null,null,null,null,null,0,null,null,null,0,null,null,null,null,null,null,null,null,null,null,null,null,null,null,null,null,null,null,"",{"$f":"IF(C113=\"\",\"\",IF(COUNTIF($C$6:C113, C113)>1, \"\", C113))","v":""},{"$f":"IF(K113=\"\",\"\",INDEX(referentes!P:Q,MATCH(K113,referentes!$Q:$Q,0),1))","v":""},{"$f":"IF(L113=\"\",\"\",INDEX(referentes!$A:$B,MATCH(L113,referentes!$B:$B,0),1))","v":""},{"$f":"IF(P113=\"\",\"\",INDEX(referentes!D:E,MATCH(P113,referentes!$E:$E,0),1))","v":""},{"$f":"IF(Q113=\"\",\"\",INDEX(referentes!G:H,MATCH(Q113,referentes!$H:$H,0),1))","v":""},"",{"$f":"IF(V113=\"\",\"\",INDEX(referentes!S:T,MATCH(V113,referentes!$T:$T,0),1))","v":""},{"$f":"IF(BL113=\"\",\"\",INDEX(referentes!J:K,MATCH(BL113,referentes!$K:$K,0),1))","v":""},{"$f":"IF(BD113=\"\",\"\",INDEX(referentes!V:W,MATCH(BD113,referentes!$W:$W,0),1))","v":""},{"$f":"IF(BE113=\"\",\"\",INDEX(referentes!Y:Z,MATCH(BE113,referentes!$Z:$Z,0),1))","v":""},{"$f":"IF(BF113=\"\",\"\",INDEX(referentes!AB:AC,MATCH(BF113,referentes!$AC:$AC,0),1))","v":""},{"$f":"IF(BG113=\"\",\"\",INDEX(referentes!AE:AF,MATCH(BG113,referentes!$AF:$AF,0),1))","v":""},{"$f":"IF(AY113=\"\",\"\",INDEX(referentes!M:N,MATCH(AY113,referentes!$N:$N,0),1))","v":""},{"$f":"IF(BN113=\"\",\"\",INDEX('Otras referencias'!S:T,MATCH(BN113,'Otras referencias'!$T:$T,0),1))","v":""},{"$f":"IF(BH113=\"\",\"\",INDEX('Otras referencias'!A:B,MATCH(BH113,'Otras referencias'!$B:$B,0),1))","v":""}]
[null,0,"",null,null,"",{"$f":"IF(H114=\"\",\"\",INDEX(referentes!AU:AV,MATCH(H114,referentes!$AV:$AV,0),1))","v":""},null,{"$f":"IF(J114=\"\",\"\",INDEX('Otras referencias'!$V:$W,MATCH(J114,'Otras referencias'!$W:$W,0),1))","v":""},null,null,null,null,null,null,null,null,null,109,null,null,null,null,null,null,null,null,null,null,null,null,null,null,null,null,null,null,null,null,null,null,null,null,null,null,0,null,null,null,0,null,null,null,null,null,null,null,null,null,null,null,null,null,null,null,null,null,null,"",{"$f":"IF(C114=\"\",\"\",IF(COUNTIF($C$6:C114, C114)>1, \"\", C114))","v":""},{"$f":"IF(K114=\"\",\"\",INDEX(referentes!P:Q,MATCH(K114,referentes!$Q:$Q,0),1))","v":""},{"$f":"IF(L114=\"\",\"\",INDEX(referentes!$A:$B,MATCH(L114,referentes!$B:$B,0),1))","v":""},{"$f":"IF(P114=\"\",\"\",INDEX(referentes!D:E,MATCH(P114,referentes!$E:$E,0),1))","v":""},{"$f":"IF(Q114=\"\",\"\",INDEX(referentes!G:H,MATCH(Q114,referentes!$H:$H,0),1))","v":""},"",{"$f":"IF(V114=\"\",\"\",INDEX(referentes!S:T,MATCH(V114,referentes!$T:$T,0),1))","v":""},{"$f":"IF(BL114=\"\",\"\",INDEX(referentes!J:K,MATCH(BL114,referentes!$K:$K,0),1))","v":""},{"$f":"IF(BD114=\"\",\"\",INDEX(referentes!V:W,MATCH(BD114,referentes!$W:$W,0),1))","v":""},{"$f":"IF(BE114=\"\",\"\",INDEX(referentes!Y:Z,MATCH(BE114,referentes!$Z:$Z,0),1))","v":""},{"$f":"IF(BF114=\"\",\"\",INDEX(referentes!AB:AC,MATCH(BF114,referentes!$AC:$AC,0),1))","v":""},{"$f":"IF(BG114=\"\",\"\",INDEX(referentes!AE:AF,MATCH(BG114,referentes!$AF:$AF,0),1))","v":""},{"$f":"IF(AY114=\"\",\"\",INDEX(referentes!M:N,MATCH(AY114,referentes!$N:$N,0),1))","v":""},{"$f":"IF(BN114=\"\",\"\",INDEX('Otras referencias'!S:T,MATCH(BN114,'Otras referencias'!$T:$T,0),1))","v":""},{"$f":"IF(BH114=\"\",\"\",INDEX('Otras referencias'!A:B,MATCH(BH114,'Otras referencias'!$B:$B,0),1))","v":""}]
[null,0,"",null,null,"",{"$f":"IF(H115=\"\",\"\",INDEX(referentes!AU:AV,MATCH(H115,referentes!$AV:$AV,0),1))","v":""},null,{"$f":"IF(J115=\"\",\"\",INDEX('Otras referencias'!$V:$W,MATCH(J115,'Otras referencias'!$W:$W,0),1))","v":""},null,null,null,null,null,null,null,null,null,110,null,null,null,null,null,null,null,null,null,null,null,null,null,null,null,null,null,null,null,null,null,null,null,null,null,null,0,null,null,null,0,null,null,null,null,null,null,null,null,null,null,null,null,null,null,null,null,null,null,"",{"$f":"IF(C115=\"\",\"\",IF(COUNTIF($C$6:C115, C115)>1, \"\", C115))","v":""},{"$f":"IF(K115=\"\",\"\",INDEX(referentes!P:Q,MATCH(K115,referentes!$Q:$Q,0),1))","v":""},{"$f":"IF(L115=\"\",\"\",INDEX(referentes!$A:$B,MATCH(L115,referentes!$B:$B,0),1))","v":""},{"$f":"IF(P115=\"\",\"\",INDEX(referentes!D:E,MATCH(P115,referentes!$E:$E,0),1))","v":""},{"$f":"IF(Q115=\"\",\"\",INDEX(referentes!G:H,MATCH(Q115,referentes!$H:$H,0),1))","v":""},"",{"$f":"IF(V115=\"\",\"\",INDEX(referentes!S:T,MATCH(V115,referentes!$T:$T,0),1))","v":""},{"$f":"IF(BL115=\"\",\"\",INDEX(referentes!J:K,MATCH(BL115,referentes!$K:$K,0),1))","v":""},{"$f":"IF(BD115=\"\",\"\",INDEX(referentes!V:W,MATCH(BD115,referentes!$W:$W,0),1))","v":""},{"$f":"IF(BE115=\"\",\"\",INDEX(referentes!Y:Z,MATCH(BE115,referentes!$Z:$Z,0),1))","v":""},{"$f":"IF(BF115=\"\",\"\",INDEX(referentes!AB:AC,MATCH(BF115,referentes!$AC:$AC,0),1))","v":""},{"$f":"IF(BG115=\"\",\"\",INDEX(referentes!AE:AF,MATCH(BG115,referentes!$AF:$AF,0),1))","v":""},{"$f":"IF(AY115=\"\",\"\",INDEX(referentes!M:N,MATCH(AY115,referentes!$N:$N,0),1))","v":""},{"$f":"IF(BN115=\"\",\"\",INDEX('Otras referencias'!S:T,MATCH(BN115,'Otras referencias'!$T:$T,0),1))","v":""},{"$f":"IF(BH115=\"\",\"\",INDEX('Otras referencias'!A:B,MATCH(BH115,'Otras referencias'!$B:$B,0),1))","v":""}]
[null,0,"",null,null,"",{"$f":"IF(H116=\"\",\"\",INDEX(referentes!AU:AV,MATCH(H116,referentes!$AV:$AV,0),1))","v":""},null,{"$f":"IF(J116=\"\",\"\",INDEX('Otras referencias'!$V:$W,MATCH(J116,'Otras referencias'!$W:$W,0),1))","v":""},null,null,null,null,null,null,null,null,null,111,null,null,null,null,null,null,null,null,null,null,null,null,null,null,null,null,null,null,null,null,null,null,null,null,null,null,0,null,null,null,0,null,null,null,null,null,null,null,null,null,null,null,null,null,null,null,null,null,null,"",{"$f":"IF(C116=\"\",\"\",IF(COUNTIF($C$6:C116, C116)>1, \"\", C116))","v":""},{"$f":"IF(K116=\"\",\"\",INDEX(referentes!P:Q,MATCH(K116,referentes!$Q:$Q,0),1))","v":""},{"$f":"IF(L116=\"\",\"\",INDEX(referentes!$A:$B,MATCH(L116,referentes!$B:$B,0),1))","v":""},{"$f":"IF(P116=\"\",\"\",INDEX(referentes!D:E,MATCH(P116,referentes!$E:$E,0),1))","v":""},{"$f":"IF(Q116=\"\",\"\",INDEX(referentes!G:H,MATCH(Q116,referentes!$H:$H,0),1))","v":""},"",{"$f":"IF(V116=\"\",\"\",INDEX(referentes!S:T,MATCH(V116,referentes!$T:$T,0),1))","v":""},{"$f":"IF(BL116=\"\",\"\",INDEX(referentes!J:K,MATCH(BL116,referentes!$K:$K,0),1))","v":""},{"$f":"IF(BD116=\"\",\"\",INDEX(referentes!V:W,MATCH(BD116,referentes!$W:$W,0),1))","v":""},{"$f":"IF(BE116=\"\",\"\",INDEX(referentes!Y:Z,MATCH(BE116,referentes!$Z:$Z,0),1))","v":""},{"$f":"IF(BF116=\"\",\"\",INDEX(referentes!AB:AC,MATCH(BF116,referentes!$AC:$AC,0),1))","v":""},{"$f":"IF(BG116=\"\",\"\",INDEX(referentes!AE:AF,MATCH(BG116,referentes!$AF:$AF,0),1))","v":""},{"$f":"IF(AY116=\"\",\"\",INDEX(referentes!M:N,MATCH(AY116,referentes!$N:$N,0),1))","v":""},{"$f":"IF(BN116=\"\",\"\",INDEX('Otras referencias'!S:T,MATCH(BN116,'Otras referencias'!$T:$T,0),1))","v":""},{"$f":"IF(BH116=\"\",\"\",INDEX('Otras referencias'!A:B,MATCH(BH116,'Otras referencias'!$B:$B,0),1))","v":""}]
[null,0,"",null,null,"",{"$f":"IF(H117=\"\",\"\",INDEX(referentes!AU:AV,MATCH(H117,referentes!$AV:$AV,0),1))","v":""},null,{"$f":"IF(J117=\"\",\"\",INDEX('Otras referencias'!$V:$W,MATCH(J117,'Otras referencias'!$W:$W,0),1))","v":""},null,null,null,null,null,null,null,null,null,112,null,null,null,null,null,null,null,null,null,null,null,null,null,null,null,null,null,null,null,null,null,null,null,null,null,null,0,null,null,null,0,null,null,null,null,null,null,null,null,null,null,null,null,null,null,null,null,null,null,"",{"$f":"IF(C117=\"\",\"\",IF(COUNTIF($C$6:C117, C117)>1, \"\", C117))","v":""},{"$f":"IF(K117=\"\",\"\",INDEX(referentes!P:Q,MATCH(K117,referentes!$Q:$Q,0),1))","v":""},{"$f":"IF(L117=\"\",\"\",INDEX(referentes!$A:$B,MATCH(L117,referentes!$B:$B,0),1))","v":""},{"$f":"IF(P117=\"\",\"\",INDEX(referentes!D:E,MATCH(P117,referentes!$E:$E,0),1))","v":""},{"$f":"IF(Q117=\"\",\"\",INDEX(referentes!G:H,MATCH(Q117,referentes!$H:$H,0),1))","v":""},"",{"$f":"IF(V117=\"\",\"\",INDEX(referentes!S:T,MATCH(V117,referentes!$T:$T,0),1))","v":""},{"$f":"IF(BL117=\"\",\"\",INDEX(referentes!J:K,MATCH(BL117,referentes!$K:$K,0),1))","v":""},{"$f":"IF(BD117=\"\",\"\",INDEX(referentes!V:W,MATCH(BD117,referentes!$W:$W,0),1))","v":""},{"$f":"IF(BE117=\"\",\"\",INDEX(referentes!Y:Z,MATCH(BE117,referentes!$Z:$Z,0),1))","v":""},{"$f":"IF(BF117=\"\",\"\",INDEX(referentes!AB:AC,MATCH(BF117,referentes!$AC:$AC,0),1))","v":""},{"$f":"IF(BG117=\"\",\"\",INDEX(referentes!AE:AF,MATCH(BG117,referentes!$AF:$AF,0),1))","v":""},{"$f":"IF(AY117=\"\",\"\",INDEX(referentes!M:N,MATCH(AY117,referentes!$N:$N,0),1))","v":""},{"$f":"IF(BN117=\"\",\"\",INDEX('Otras referencias'!S:T,MATCH(BN117,'Otras referencias'!$T:$T,0),1))","v":""},{"$f":"IF(BH117=\"\",\"\",INDEX('Otras referencias'!A:B,MATCH(BH117,'Otras referencias'!$B:$B,0),1))","v":""}]
[null,0,"",null,null,"",{"$f":"IF(H118=\"\",\"\",INDEX(referentes!AU:AV,MATCH(H118,referentes!$AV:$AV,0),1))","v":""},null,{"$f":"IF(J118=\"\",\"\",INDEX('Otras referencias'!$V:$W,MATCH(J118,'Otras referencias'!$W:$W,0),1))","v":""},null,null,null,null,null,null,null,null,null,113,null,null,null,null,null,null,null,null,null,null,null,null,null,null,null,null,null,null,null,null,null,null,null,null,null,null,0,null,null,null,0,null,null,null,null,null,null,null,null,null,null,null,null,null,null,null,null,null,null,"",{"$f":"IF(C118=\"\",\"\",IF(COUNTIF($C$6:C118, C118)>1, \"\", C118))","v":""},{"$f":"IF(K118=\"\",\"\",INDEX(referentes!P:Q,MATCH(K118,referentes!$Q:$Q,0),1))","v":""},{"$f":"IF(L118=\"\",\"\",INDEX(referentes!$A:$B,MATCH(L118,referentes!$B:$B,0),1))","v":""},{"$f":"IF(P118=\"\",\"\",INDEX(referentes!D:E,MATCH(P118,referentes!$E:$E,0),1))","v":""},{"$f":"IF(Q118=\"\",\"\",INDEX(referentes!G:H,MATCH(Q118,referentes!$H:$H,0),1))","v":""},"",{"$f":"IF(V118=\"\",\"\",INDEX(referentes!S:T,MATCH(V118,referentes!$T:$T,0),1))","v":""},{"$f":"IF(BL118=\"\",\"\",INDEX(referentes!J:K,MATCH(BL118,referentes!$K:$K,0),1))","v":""},{"$f":"IF(BD118=\"\",\"\",INDEX(referentes!V:W,MATCH(BD118,referentes!$W:$W,0),1))","v":""},{"$f":"IF(BE118=\"\",\"\",INDEX(referentes!Y:Z,MATCH(BE118,referentes!$Z:$Z,0),1))","v":""},{"$f":"IF(BF118=\"\",\"\",INDEX(referentes!AB:AC,MATCH(BF118,referentes!$AC:$AC,0),1))","v":""},{"$f":"IF(BG118=\"\",\"\",INDEX(referentes!AE:AF,MATCH(BG118,referentes!$AF:$AF,0),1))","v":""},{"$f":"IF(AY118=\"\",\"\",INDEX(referentes!M:N,MATCH(AY118,referentes!$N:$N,0),1))","v":""},{"$f":"IF(BN118=\"\",\"\",INDEX('Otras referencias'!S:T,MATCH(BN118,'Otras referencias'!$T:$T,0),1))","v":""},{"$f":"IF(BH118=\"\",\"\",INDEX('Otras referencias'!A:B,MATCH(BH118,'Otras referencias'!$B:$B,0),1))","v":""}]
[null,0,"",null,null,"",{"$f":"IF(H119=\"\",\"\",INDEX(referentes!AU:AV,MATCH(H119,referentes!$AV:$AV,0),1))","v":""},null,{"$f":"IF(J119=\"\",\"\",INDEX('Otras referencias'!$V:$W,MATCH(J119,'Otras referencias'!$W:$W,0),1))","v":""},null,null,null,null,null,null,null,null,null,114,null,null,null,null,null,null,null,null,null,null,null,null,null,null,null,null,null,null,null,null,null,null,null,null,null,null,0,null,null,null,0,null,null,null,null,null,null,null,null,null,null,null,null,null,null,null,null,null,null,"",{"$f":"IF(C119=\"\",\"\",IF(COUNTIF($C$6:C119, C119)>1, \"\", C119))","v":""},{"$f":"IF(K119=\"\",\"\",INDEX(referentes!P:Q,MATCH(K119,referentes!$Q:$Q,0),1))","v":""},{"$f":"IF(L119=\"\",\"\",INDEX(referentes!$A:$B,MATCH(L119,referentes!$B:$B,0),1))","v":""},{"$f":"IF(P119=\"\",\"\",INDEX(referentes!D:E,MATCH(P119,referentes!$E:$E,0),1))","v":""},{"$f":"IF(Q119=\"\",\"\",INDEX(referentes!G:H,MATCH(Q119,referentes!$H:$H,0),1))","v":""},"",{"$f":"IF(V119=\"\",\"\",INDEX(referentes!S:T,MATCH(V119,referentes!$T:$T,0),1))","v":""},{"$f":"IF(BL119=\"\",\"\",INDEX(referentes!J:K,MATCH(BL119,referentes!$K:$K,0),1))","v":""},{"$f":"IF(BD119=\"\",\"\",INDEX(referentes!V:W,MATCH(BD119,referentes!$W:$W,0),1))","v":""},{"$f":"IF(BE119=\"\",\"\",INDEX(referentes!Y:Z,MATCH(BE119,referentes!$Z:$Z,0),1))","v":""},{"$f":"IF(BF119=\"\",\"\",INDEX(referentes!AB:AC,MATCH(BF119,referentes!$AC:$AC,0),1))","v":""},{"$f":"IF(BG119=\"\",\"\",INDEX(referentes!AE:AF,MATCH(BG119,referentes!$AF:$AF,0),1))","v":""},{"$f":"IF(AY119=\"\",\"\",INDEX(referentes!M:N,MATCH(AY119,referentes!$N:$N,0),1))","v":""},{"$f":"IF(BN119=\"\",\"\",INDEX('Otras referencias'!S:T,MATCH(BN119,'Otras referencias'!$T:$T,0),1))","v":""},{"$f":"IF(BH119=\"\",\"\",INDEX('Otras referencias'!A:B,MATCH(BH119,'Otras referencias'!$B:$B,0),1))","v":""}]
[null,0,"",null,null,"",{"$f":"IF(H120=\"\",\"\",INDEX(referentes!AU:AV,MATCH(H120,referentes!$AV:$AV,0),1))","v":""},null,{"$f":"IF(J120=\"\",\"\",INDEX('Otras referencias'!$V:$W,MATCH(J120,'Otras referencias'!$W:$W,0),1))","v":""},null,null,null,null,null,null,null,null,null,115,null,null,null,null,null,null,null,null,null,null,null,null,null,null,null,null,null,null,null,null,null,null,null,null,null,null,0,null,null,null,0,null,null,null,null,null,null,null,null,null,null,null,null,null,null,null,null,null,null,"",{"$f":"IF(C120=\"\",\"\",IF(COUNTIF($C$6:C120, C120)>1, \"\", C120))","v":""},{"$f":"IF(K120=\"\",\"\",INDEX(referentes!P:Q,MATCH(K120,referentes!$Q:$Q,0),1))","v":""},{"$f":"IF(L120=\"\",\"\",INDEX(referentes!$A:$B,MATCH(L120,referentes!$B:$B,0),1))","v":""},{"$f":"IF(P120=\"\",\"\",INDEX(referentes!D:E,MATCH(P120,referentes!$E:$E,0),1))","v":""},{"$f":"IF(Q120=\"\",\"\",INDEX(referentes!G:H,MATCH(Q120,referentes!$H:$H,0),1))","v":""},"",{"$f":"IF(V120=\"\",\"\",INDEX(referentes!S:T,MATCH(V120,referentes!$T:$T,0),1))","v":""},{"$f":"IF(BL120=\"\",\"\",INDEX(referentes!J:K,MATCH(BL120,referentes!$K:$K,0),1))","v":""},{"$f":"IF(BD120=\"\",\"\",INDEX(referentes!V:W,MATCH(BD120,referentes!$W:$W,0),1))","v":""},{"$f":"IF(BE120=\"\",\"\",INDEX(referentes!Y:Z,MATCH(BE120,referentes!$Z:$Z,0),1))","v":""},{"$f":"IF(BF120=\"\",\"\",INDEX(referentes!AB:AC,MATCH(BF120,referentes!$AC:$AC,0),1))","v":""},{"$f":"IF(BG120=\"\",\"\",INDEX(referentes!AE:AF,MATCH(BG120,referentes!$AF:$AF,0),1))","v":""},{"$f":"IF(AY120=\"\",\"\",INDEX(referentes!M:N,MATCH(AY120,referentes!$N:$N,0),1))","v":""},{"$f":"IF(BN120=\"\",\"\",INDEX('Otras referencias'!S:T,MATCH(BN120,'Otras referencias'!$T:$T,0),1))","v":""},{"$f":"IF(BH120=\"\",\"\",INDEX('Otras referencias'!A:B,MATCH(BH120,'Otras referencias'!$B:$B,0),1))","v":""}]
[null,0,"",null,null,"",{"$f":"IF(H121=\"\",\"\",INDEX(referentes!AU:AV,MATCH(H121,referentes!$AV:$AV,0),1))","v":""},null,{"$f":"IF(J121=\"\",\"\",INDEX('Otras referencias'!$V:$W,MATCH(J121,'Otras referencias'!$W:$W,0),1))","v":""},null,null,null,null,null,null,null,null,null,116,null,null,null,null,null,null,null,null,null,null,null,null,null,null,null,null,null,null,null,null,null,null,null,null,null,null,0,null,null,null,0,null,null,null,null,null,null,null,null,null,null,null,null,null,null,null,null,null,null,"",{"$f":"IF(C121=\"\",\"\",IF(COUNTIF($C$6:C121, C121)>1, \"\", C121))","v":""},{"$f":"IF(K121=\"\",\"\",INDEX(referentes!P:Q,MATCH(K121,referentes!$Q:$Q,0),1))","v":""},{"$f":"IF(L121=\"\",\"\",INDEX(referentes!$A:$B,MATCH(L121,referentes!$B:$B,0),1))","v":""},{"$f":"IF(P121=\"\",\"\",INDEX(referentes!D:E,MATCH(P121,referentes!$E:$E,0),1))","v":""},{"$f":"IF(Q121=\"\",\"\",INDEX(referentes!G:H,MATCH(Q121,referentes!$H:$H,0),1))","v":""},"",{"$f":"IF(V121=\"\",\"\",INDEX(referentes!S:T,MATCH(V121,referentes!$T:$T,0),1))","v":""},{"$f":"IF(BL121=\"\",\"\",INDEX(referentes!J:K,MATCH(BL121,referentes!$K:$K,0),1))","v":""},{"$f":"IF(BD121=\"\",\"\",INDEX(referentes!V:W,MATCH(BD121,referentes!$W:$W,0),1))","v":""},{"$f":"IF(BE121=\"\",\"\",INDEX(referentes!Y:Z,MATCH(BE121,referentes!$Z:$Z,0),1))","v":""},{"$f":"IF(BF121=\"\",\"\",INDEX(referentes!AB:AC,MATCH(BF121,referentes!$AC:$AC,0),1))","v":""},{"$f":"IF(BG121=\"\",\"\",INDEX(referentes!AE:AF,MATCH(BG121,referentes!$AF:$AF,0),1))","v":""},{"$f":"IF(AY121=\"\",\"\",INDEX(referentes!M:N,MATCH(AY121,referentes!$N:$N,0),1))","v":""},{"$f":"IF(BN121=\"\",\"\",INDEX('Otras referencias'!S:T,MATCH(BN121,'Otras referencias'!$T:$T,0),1))","v":""},{"$f":"IF(BH121=\"\",\"\",INDEX('Otras referencias'!A:B,MATCH(BH121,'Otras referencias'!$B:$B,0),1))","v":""}]
[null,0,"",null,null,"",{"$f":"IF(H122=\"\",\"\",INDEX(referentes!AU:AV,MATCH(H122,referentes!$AV:$AV,0),1))","v":""},null,{"$f":"IF(J122=\"\",\"\",INDEX('Otras referencias'!$V:$W,MATCH(J122,'Otras referencias'!$W:$W,0),1))","v":""},null,null,null,null,null,null,null,null,null,117,null,null,null,null,null,null,null,null,null,null,null,null,null,null,null,null,null,null,null,null,null,null,null,null,null,null,0,null,null,null,0,null,null,null,null,null,null,null,null,null,null,null,null,null,null,null,null,null,null,"",{"$f":"IF(C122=\"\",\"\",IF(COUNTIF($C$6:C122, C122)>1, \"\", C122))","v":""},{"$f":"IF(K122=\"\",\"\",INDEX(referentes!P:Q,MATCH(K122,referentes!$Q:$Q,0),1))","v":""},{"$f":"IF(L122=\"\",\"\",INDEX(referentes!$A:$B,MATCH(L122,referentes!$B:$B,0),1))","v":""},{"$f":"IF(P122=\"\",\"\",INDEX(referentes!D:E,MATCH(P122,referentes!$E:$E,0),1))","v":""},{"$f":"IF(Q122=\"\",\"\",INDEX(referentes!G:H,MATCH(Q122,referentes!$H:$H,0),1))","v":""},"",{"$f":"IF(V122=\"\",\"\",INDEX(referentes!S:T,MATCH(V122,referentes!$T:$T,0),1))","v":""},{"$f":"IF(BL122=\"\",\"\",INDEX(referentes!J:K,MATCH(BL122,referentes!$K:$K,0),1))","v":""},{"$f":"IF(BD122=\"\",\"\",INDEX(referentes!V:W,MATCH(BD122,referentes!$W:$W,0),1))","v":""},{"$f":"IF(BE122=\"\",\"\",INDEX(referentes!Y:Z,MATCH(BE122,referentes!$Z:$Z,0),1))","v":""},{"$f":"IF(BF122=\"\",\"\",INDEX(referentes!AB:AC,MATCH(BF122,referentes!$AC:$AC,0),1))","v":""},{"$f":"IF(BG122=\"\",\"\",INDEX(referentes!AE:AF,MATCH(BG122,referentes!$AF:$AF,0),1))","v":""},{"$f":"IF(AY122=\"\",\"\",INDEX(referentes!M:N,MATCH(AY122,referentes!$N:$N,0),1))","v":""},{"$f":"IF(BN122=\"\",\"\",INDEX('Otras referencias'!S:T,MATCH(BN122,'Otras referencias'!$T:$T,0),1))","v":""},{"$f":"IF(BH122=\"\",\"\",INDEX('Otras referencias'!A:B,MATCH(BH122,'Otras referencias'!$B:$B,0),1))","v":""}]
[null,0,"",null,null,"",{"$f":"IF(H123=\"\",\"\",INDEX(referentes!AU:AV,MATCH(H123,referentes!$AV:$AV,0),1))","v":""},null,{"$f":"IF(J123=\"\",\"\",INDEX('Otras referencias'!$V:$W,MATCH(J123,'Otras referencias'!$W:$W,0),1))","v":""},null,null,null,null,null,null,null,null,null,118,null,null,null,null,null,null,null,null,null,null,null,null,null,null,null,null,null,null,null,null,null,null,null,null,null,null,0,null,null,null,0,null,null,null,null,null,null,null,null,null,null,null,null,null,null,null,null,null,null,"",{"$f":"IF(C123=\"\",\"\",IF(COUNTIF($C$6:C123, C123)>1, \"\", C123))","v":""},{"$f":"IF(K123=\"\",\"\",INDEX(referentes!P:Q,MATCH(K123,referentes!$Q:$Q,0),1))","v":""},{"$f":"IF(L123=\"\",\"\",INDEX(referentes!$A:$B,MATCH(L123,referentes!$B:$B,0),1))","v":""},{"$f":"IF(P123=\"\",\"\",INDEX(referentes!D:E,MATCH(P123,referentes!$E:$E,0),1))","v":""},{"$f":"IF(Q123=\"\",\"\",INDEX(referentes!G:H,MATCH(Q123,referentes!$H:$H,0),1))","v":""},"",{"$f":"IF(V123=\"\",\"\",INDEX(referentes!S:T,MATCH(V123,referentes!$T:$T,0),1))","v":""},{"$f":"IF(BL123=\"\",\"\",INDEX(referentes!J:K,MATCH(BL123,referentes!$K:$K,0),1))","v":""},{"$f":"IF(BD123=\"\",\"\",INDEX(referentes!V:W,MATCH(BD123,referentes!$W:$W,0),1))","v":""},{"$f":"IF(BE123=\"\",\"\",INDEX(referentes!Y:Z,MATCH(BE123,referentes!$Z:$Z,0),1))","v":""},{"$f":"IF(BF123=\"\",\"\",INDEX(referentes!AB:AC,MATCH(BF123,referentes!$AC:$AC,0),1))","v":""},{"$f":"IF(BG123=\"\",\"\",INDEX(referentes!AE:AF,MATCH(BG123,referentes!$AF:$AF,0),1))","v":""},{"$f":"IF(AY123=\"\",\"\",INDEX(referentes!M:N,MATCH(AY123,referentes!$N:$N,0),1))","v":""},{"$f":"IF(BN123=\"\",\"\",INDEX('Otras referencias'!S:T,MATCH(BN123,'Otras referencias'!$T:$T,0),1))","v":""},{"$f":"IF(BH123=\"\",\"\",INDEX('Otras referencias'!A:B,MATCH(BH123,'Otras referencias'!$B:$B,0),1))","v":""}]
[null,0,"",null,null,"",{"$f":"IF(H124=\"\",\"\",INDEX(referentes!AU:AV,MATCH(H124,referentes!$AV:$AV,0),1))","v":""},null,{"$f":"IF(J124=\"\",\"\",INDEX('Otras referencias'!$V:$W,MATCH(J124,'Otras referencias'!$W:$W,0),1))","v":""},null,null,null,null,null,null,null,null,null,119,null,null,null,null,null,null,null,null,null,null,null,null,null,null,null,null,null,null,null,null,null,null,null,null,null,null,0,null,null,null,0,null,null,null,null,null,null,null,null,null,null,null,null,null,null,null,null,null,null,"",{"$f":"IF(C124=\"\",\"\",IF(COUNTIF($C$6:C124, C124)>1, \"\", C124))","v":""},{"$f":"IF(K124=\"\",\"\",INDEX(referentes!P:Q,MATCH(K124,referentes!$Q:$Q,0),1))","v":""},{"$f":"IF(L124=\"\",\"\",INDEX(referentes!$A:$B,MATCH(L124,referentes!$B:$B,0),1))","v":""},{"$f":"IF(P124=\"\",\"\",INDEX(referentes!D:E,MATCH(P124,referentes!$E:$E,0),1))","v":""},{"$f":"IF(Q124=\"\",\"\",INDEX(referentes!G:H,MATCH(Q124,referentes!$H:$H,0),1))","v":""},"",{"$f":"IF(V124=\"\",\"\",INDEX(referentes!S:T,MATCH(V124,referentes!$T:$T,0),1))","v":""},{"$f":"IF(BL124=\"\",\"\",INDEX(referentes!J:K,MATCH(BL124,referentes!$K:$K,0),1))","v":""},{"$f":"IF(BD124=\"\",\"\",INDEX(referentes!V:W,MATCH(BD124,referentes!$W:$W,0),1))","v":""},{"$f":"IF(BE124=\"\",\"\",INDEX(referentes!Y:Z,MATCH(BE124,referentes!$Z:$Z,0),1))","v":""},{"$f":"IF(BF124=\"\",\"\",INDEX(referentes!AB:AC,MATCH(BF124,referentes!$AC:$AC,0),1))","v":""},{"$f":"IF(BG124=\"\",\"\",INDEX(referentes!AE:AF,MATCH(BG124,referentes!$AF:$AF,0),1))","v":""},{"$f":"IF(AY124=\"\",\"\",INDEX(referentes!M:N,MATCH(AY124,referentes!$N:$N,0),1))","v":""},{"$f":"IF(BN124=\"\",\"\",INDEX('Otras referencias'!S:T,MATCH(BN124,'Otras referencias'!$T:$T,0),1))","v":""},{"$f":"IF(BH124=\"\",\"\",INDEX('Otras referencias'!A:B,MATCH(BH124,'Otras referencias'!$B:$B,0),1))","v":""}]
[null,0,"",null,null,"",{"$f":"IF(H125=\"\",\"\",INDEX(referentes!AU:AV,MATCH(H125,referentes!$AV:$AV,0),1))","v":""},null,{"$f":"IF(J125=\"\",\"\",INDEX('Otras referencias'!$V:$W,MATCH(J125,'Otras referencias'!$W:$W,0),1))","v":""},null,null,null,null,null,null,null,null,null,120,null,null,null,null,null,null,null,null,null,null,null,null,null,null,null,null,null,null,null,null,null,null,null,null,null,null,0,null,null,null,0,null,null,null,null,null,null,null,null,null,null,null,null,null,null,null,null,null,null,"",{"$f":"IF(C125=\"\",\"\",IF(COUNTIF($C$6:C125, C125)>1, \"\", C125))","v":""},{"$f":"IF(K125=\"\",\"\",INDEX(referentes!P:Q,MATCH(K125,referentes!$Q:$Q,0),1))","v":""},{"$f":"IF(L125=\"\",\"\",INDEX(referentes!$A:$B,MATCH(L125,referentes!$B:$B,0),1))","v":""},{"$f":"IF(P125=\"\",\"\",INDEX(referentes!D:E,MATCH(P125,referentes!$E:$E,0),1))","v":""},{"$f":"IF(Q125=\"\",\"\",INDEX(referentes!G:H,MATCH(Q125,referentes!$H:$H,0),1))","v":""},"",{"$f":"IF(V125=\"\",\"\",INDEX(referentes!S:T,MATCH(V125,referentes!$T:$T,0),1))","v":""},{"$f":"IF(BL125=\"\",\"\",INDEX(referentes!J:K,MATCH(BL125,referentes!$K:$K,0),1))","v":""},{"$f":"IF(BD125=\"\",\"\",INDEX(referentes!V:W,MATCH(BD125,referentes!$W:$W,0),1))","v":""},{"$f":"IF(BE125=\"\",\"\",INDEX(referentes!Y:Z,MATCH(BE125,referentes!$Z:$Z,0),1))","v":""},{"$f":"IF(BF125=\"\",\"\",INDEX(referentes!AB:AC,MATCH(BF125,referentes!$AC:$AC,0),1))","v":""},{"$f":"IF(BG125=\"\",\"\",INDEX(referentes!AE:AF,MATCH(BG125,referentes!$AF:$AF,0),1))","v":""},{"$f":"IF(AY125=\"\",\"\",INDEX(referentes!M:N,MATCH(AY125,referentes!$N:$N,0),1))","v":""},{"$f":"IF(BN125=\"\",\"\",INDEX('Otras referencias'!S:T,MATCH(BN125,'Otras referencias'!$T:$T,0),1))","v":""},{"$f":"IF(BH125=\"\",\"\",INDEX('Otras referencias'!A:B,MATCH(BH125,'Otras referencias'!$B:$B,0),1))","v":""}]
[null,0,"",null,null,"",{"$f":"IF(H126=\"\",\"\",INDEX(referentes!AU:AV,MATCH(H126,referentes!$AV:$AV,0),1))","v":""},null,{"$f":"IF(J126=\"\",\"\",INDEX('Otras referencias'!$V:$W,MATCH(J126,'Otras referencias'!$W:$W,0),1))","v":""},null,null,null,null,null,null,null,null,null,121,null,null,null,null,null,null,null,null,null,null,null,null,null,null,null,null,null,null,null,null,null,null,null,null,null,null,0,null,null,null,0,null,null,null,null,null,null,null,null,null,null,null,null,null,null,null,null,null,null,"",{"$f":"IF(C126=\"\",\"\",IF(COUNTIF($C$6:C126, C126)>1, \"\", C126))","v":""},{"$f":"IF(K126=\"\",\"\",INDEX(referentes!P:Q,MATCH(K126,referentes!$Q:$Q,0),1))","v":""},{"$f":"IF(L126=\"\",\"\",INDEX(referentes!$A:$B,MATCH(L126,referentes!$B:$B,0),1))","v":""},{"$f":"IF(P126=\"\",\"\",INDEX(referentes!D:E,MATCH(P126,referentes!$E:$E,0),1))","v":""},{"$f":"IF(Q126=\"\",\"\",INDEX(referentes!G:H,MATCH(Q126,referentes!$H:$H,0),1))","v":""},"",{"$f":"IF(V126=\"\",\"\",INDEX(referentes!S:T,MATCH(V126,referentes!$T:$T,0),1))","v":""},{"$f":"IF(BL126=\"\",\"\",INDEX(referentes!J:K,MATCH(BL126,referentes!$K:$K,0),1))","v":""},{"$f":"IF(BD126=\"\",\"\",INDEX(referentes!V:W,MATCH(BD126,referentes!$W:$W,0),1))","v":""},{"$f":"IF(BE126=\"\",\"\",INDEX(referentes!Y:Z,MATCH(BE126,referentes!$Z:$Z,0),1))","v":""},{"$f":"IF(BF126=\"\",\"\",INDEX(referentes!AB:AC,MATCH(BF126,referentes!$AC:$AC,0),1))","v":""},{"$f":"IF(BG126=\"\",\"\",INDEX(referentes!AE:AF,MATCH(BG126,referentes!$AF:$AF,0),1))","v":""},{"$f":"IF(AY126=\"\",\"\",INDEX(referentes!M:N,MATCH(AY126,referentes!$N:$N,0),1))","v":""},{"$f":"IF(BN126=\"\",\"\",INDEX('Otras referencias'!S:T,MATCH(BN126,'Otras referencias'!$T:$T,0),1))","v":""},{"$f":"IF(BH126=\"\",\"\",INDEX('Otras referencias'!A:B,MATCH(BH126,'Otras referencias'!$B:$B,0),1))","v":""}]
[null,0,"",null,null,"",{"$f":"IF(H127=\"\",\"\",INDEX(referentes!AU:AV,MATCH(H127,referentes!$AV:$AV,0),1))","v":""},null,{"$f":"IF(J127=\"\",\"\",INDEX('Otras referencias'!$V:$W,MATCH(J127,'Otras referencias'!$W:$W,0),1))","v":""},null,null,null,null,null,null,null,null,null,122,null,null,null,null,null,null,null,null,null,null,null,null,null,null,null,null,null,null,null,null,null,null,null,null,null,null,0,null,null,null,0,null,null,null,null,null,null,null,null,null,null,null,null,null,null,null,null,null,null,"",{"$f":"IF(C127=\"\",\"\",IF(COUNTIF($C$6:C127, C127)>1, \"\", C127))","v":""},{"$f":"IF(K127=\"\",\"\",INDEX(referentes!P:Q,MATCH(K127,referentes!$Q:$Q,0),1))","v":""},{"$f":"IF(L127=\"\",\"\",INDEX(referentes!$A:$B,MATCH(L127,referentes!$B:$B,0),1))","v":""},{"$f":"IF(P127=\"\",\"\",INDEX(referentes!D:E,MATCH(P127,referentes!$E:$E,0),1))","v":""},{"$f":"IF(Q127=\"\",\"\",INDEX(referentes!G:H,MATCH(Q127,referentes!$H:$H,0),1))","v":""},"",{"$f":"IF(V127=\"\",\"\",INDEX(referentes!S:T,MATCH(V127,referentes!$T:$T,0),1))","v":""},{"$f":"IF(BL127=\"\",\"\",INDEX(referentes!J:K,MATCH(BL127,referentes!$K:$K,0),1))","v":""},{"$f":"IF(BD127=\"\",\"\",INDEX(referentes!V:W,MATCH(BD127,referentes!$W:$W,0),1))","v":""},{"$f":"IF(BE127=\"\",\"\",INDEX(referentes!Y:Z,MATCH(BE127,referentes!$Z:$Z,0),1))","v":""},{"$f":"IF(BF127=\"\",\"\",INDEX(referentes!AB:AC,MATCH(BF127,referentes!$AC:$AC,0),1))","v":""},{"$f":"IF(BG127=\"\",\"\",INDEX(referentes!AE:AF,MATCH(BG127,referentes!$AF:$AF,0),1))","v":""},{"$f":"IF(AY127=\"\",\"\",INDEX(referentes!M:N,MATCH(AY127,referentes!$N:$N,0),1))","v":""},{"$f":"IF(BN127=\"\",\"\",INDEX('Otras referencias'!S:T,MATCH(BN127,'Otras referencias'!$T:$T,0),1))","v":""},{"$f":"IF(BH127=\"\",\"\",INDEX('Otras referencias'!A:B,MATCH(BH127,'Otras referencias'!$B:$B,0),1))","v":""}]
[null,0,"",null,null,"",{"$f":"IF(H128=\"\",\"\",INDEX(referentes!AU:AV,MATCH(H128,referentes!$AV:$AV,0),1))","v":""},null,{"$f":"IF(J128=\"\",\"\",INDEX('Otras referencias'!$V:$W,MATCH(J128,'Otras referencias'!$W:$W,0),1))","v":""},null,null,null,null,null,null,null,null,null,123,null,null,null,null,null,null,null,null,null,null,null,null,null,null,null,null,null,null,null,null,null,null,null,null,null,null,0,null,null,null,0,null,null,null,null,null,null,null,null,null,null,null,null,null,null,null,null,null,null,"",{"$f":"IF(C128=\"\",\"\",IF(COUNTIF($C$6:C128, C128)>1, \"\", C128))","v":""},{"$f":"IF(K128=\"\",\"\",INDEX(referentes!P:Q,MATCH(K128,referentes!$Q:$Q,0),1))","v":""},{"$f":"IF(L128=\"\",\"\",INDEX(referentes!$A:$B,MATCH(L128,referentes!$B:$B,0),1))","v":""},{"$f":"IF(P128=\"\",\"\",INDEX(referentes!D:E,MATCH(P128,referentes!$E:$E,0),1))","v":""},{"$f":"IF(Q128=\"\",\"\",INDEX(referentes!G:H,MATCH(Q128,referentes!$H:$H,0),1))","v":""},"",{"$f":"IF(V128=\"\",\"\",INDEX(referentes!S:T,MATCH(V128,referentes!$T:$T,0),1))","v":""},{"$f":"IF(BL128=\"\",\"\",INDEX(referentes!J:K,MATCH(BL128,referentes!$K:$K,0),1))","v":""},{"$f":"IF(BD128=\"\",\"\",INDEX(referentes!V:W,MATCH(BD128,referentes!$W:$W,0),1))","v":""},{"$f":"IF(BE128=\"\",\"\",INDEX(referentes!Y:Z,MATCH(BE128,referentes!$Z:$Z,0),1))","v":""},{"$f":"IF(BF128=\"\",\"\",INDEX(referentes!AB:AC,MATCH(BF128,referentes!$AC:$AC,0),1))","v":""},{"$f":"IF(BG128=\"\",\"\",INDEX(referentes!AE:AF,MATCH(BG128,referentes!$AF:$AF,0),1))","v":""},{"$f":"IF(AY128=\"\",\"\",INDEX(referentes!M:N,MATCH(AY128,referentes!$N:$N,0),1))","v":""},{"$f":"IF(BN128=\"\",\"\",INDEX('Otras referencias'!S:T,MATCH(BN128,'Otras referencias'!$T:$T,0),1))","v":""},{"$f":"IF(BH128=\"\",\"\",INDEX('Otras referencias'!A:B,MATCH(BH128,'Otras referencias'!$B:$B,0),1))","v":""}]
[null,0,"",null,null,"",{"$f":"IF(H129=\"\",\"\",INDEX(referentes!AU:AV,MATCH(H129,referentes!$AV:$AV,0),1))","v":""},null,{"$f":"IF(J129=\"\",\"\",INDEX('Otras referencias'!$V:$W,MATCH(J129,'Otras referencias'!$W:$W,0),1))","v":""},null,null,null,null,null,null,null,null,null,124,null,null,null,null,null,null,null,null,null,null,null,null,null,null,null,null,null,null,null,null,null,null,null,null,null,null,0,null,null,null,0,null,null,null,null,null,null,null,null,null,null,null,null,null,null,null,null,null,null,"",{"$f":"IF(C129=\"\",\"\",IF(COUNTIF($C$6:C129, C129)>1, \"\", C129))","v":""},{"$f":"IF(K129=\"\",\"\",INDEX(referentes!P:Q,MATCH(K129,referentes!$Q:$Q,0),1))","v":""},{"$f":"IF(L129=\"\",\"\",INDEX(referentes!$A:$B,MATCH(L129,referentes!$B:$B,0),1))","v":""},{"$f":"IF(P129=\"\",\"\",INDEX(referentes!D:E,MATCH(P129,referentes!$E:$E,0),1))","v":""},{"$f":"IF(Q129=\"\",\"\",INDEX(referentes!G:H,MATCH(Q129,referentes!$H:$H,0),1))","v":""},"",{"$f":"IF(V129=\"\",\"\",INDEX(referentes!S:T,MATCH(V129,referentes!$T:$T,0),1))","v":""},{"$f":"IF(BL129=\"\",\"\",INDEX(referentes!J:K,MATCH(BL129,referentes!$K:$K,0),1))","v":""},{"$f":"IF(BD129=\"\",\"\",INDEX(referentes!V:W,MATCH(BD129,referentes!$W:$W,0),1))","v":""},{"$f":"IF(BE129=\"\",\"\",INDEX(referentes!Y:Z,MATCH(BE129,referentes!$Z:$Z,0),1))","v":""},{"$f":"IF(BF129=\"\",\"\",INDEX(referentes!AB:AC,MATCH(BF129,referentes!$AC:$AC,0),1))","v":""},{"$f":"IF(BG129=\"\",\"\",INDEX(referentes!AE:AF,MATCH(BG129,referentes!$AF:$AF,0),1))","v":""},{"$f":"IF(AY129=\"\",\"\",INDEX(referentes!M:N,MATCH(AY129,referentes!$N:$N,0),1))","v":""},{"$f":"IF(BN129=\"\",\"\",INDEX('Otras referencias'!S:T,MATCH(BN129,'Otras referencias'!$T:$T,0),1))","v":""},{"$f":"IF(BH129=\"\",\"\",INDEX('Otras referencias'!A:B,MATCH(BH129,'Otras referencias'!$B:$B,0),1))","v":""}]
[null,0,"",null,null,"",{"$f":"IF(H130=\"\",\"\",INDEX(referentes!AU:AV,MATCH(H130,referentes!$AV:$AV,0),1))","v":""},null,{"$f":"IF(J130=\"\",\"\",INDEX('Otras referencias'!$V:$W,MATCH(J130,'Otras referencias'!$W:$W,0),1))","v":""},null,null,null,null,null,null,null,null,null,125,null,null,null,null,null,null,null,null,null,null,null,null,null,null,null,null,null,null,null,null,null,null,null,null,null,null,0,null,null,null,0,null,null,null,null,null,null,null,null,null,null,null,null,null,null,null,null,null,null,"",{"$f":"IF(C130=\"\",\"\",IF(COUNTIF($C$6:C130, C130)>1, \"\", C130))","v":""},{"$f":"IF(K130=\"\",\"\",INDEX(referentes!P:Q,MATCH(K130,referentes!$Q:$Q,0),1))","v":""},{"$f":"IF(L130=\"\",\"\",INDEX(referentes!$A:$B,MATCH(L130,referentes!$B:$B,0),1))","v":""},{"$f":"IF(P130=\"\",\"\",INDEX(referentes!D:E,MATCH(P130,referentes!$E:$E,0),1))","v":""},{"$f":"IF(Q130=\"\",\"\",INDEX(referentes!G:H,MATCH(Q130,referentes!$H:$H,0),1))","v":""},"",{"$f":"IF(V130=\"\",\"\",INDEX(referentes!S:T,MATCH(V130,referentes!$T:$T,0),1))","v":""},{"$f":"IF(BL130=\"\",\"\",INDEX(referentes!J:K,MATCH(BL130,referentes!$K:$K,0),1))","v":""},{"$f":"IF(BD130=\"\",\"\",INDEX(referentes!V:W,MATCH(BD130,referentes!$W:$W,0),1))","v":""},{"$f":"IF(BE130=\"\",\"\",INDEX(referentes!Y:Z,MATCH(BE130,referentes!$Z:$Z,0),1))","v":""},{"$f":"IF(BF130=\"\",\"\",INDEX(referentes!AB:AC,MATCH(BF130,referentes!$AC:$AC,0),1))","v":""},{"$f":"IF(BG130=\"\",\"\",INDEX(referentes!AE:AF,MATCH(BG130,referentes!$AF:$AF,0),1))","v":""},{"$f":"IF(AY130=\"\",\"\",INDEX(referentes!M:N,MATCH(AY130,referentes!$N:$N,0),1))","v":""},{"$f":"IF(BN130=\"\",\"\",INDEX('Otras referencias'!S:T,MATCH(BN130,'Otras referencias'!$T:$T,0),1))","v":""},{"$f":"IF(BH130=\"\",\"\",INDEX('Otras referencias'!A:B,MATCH(BH130,'Otras referencias'!$B:$B,0),1))","v":""}]
[null,0,"",null,null,"",{"$f":"IF(H131=\"\",\"\",INDEX(referentes!AU:AV,MATCH(H131,referentes!$AV:$AV,0),1))","v":""},null,{"$f":"IF(J131=\"\",\"\",INDEX('Otras referencias'!$V:$W,MATCH(J131,'Otras referencias'!$W:$W,0),1))","v":""},null,null,null,null,null,null,null,null,null,126,null,null,null,null,null,null,null,null,null,null,null,null,null,null,null,null,null,null,null,null,null,null,null,null,null,null,0,null,null,null,0,null,null,null,null,null,null,null,null,null,null,null,null,null,null,null,null,null,null,"",{"$f":"IF(C131=\"\",\"\",IF(COUNTIF($C$6:C131, C131)>1, \"\", C131))","v":""},{"$f":"IF(K131=\"\",\"\",INDEX(referentes!P:Q,MATCH(K131,referentes!$Q:$Q,0),1))","v":""},{"$f":"IF(L131=\"\",\"\",INDEX(referentes!$A:$B,MATCH(L131,referentes!$B:$B,0),1))","v":""},{"$f":"IF(P131=\"\",\"\",INDEX(referentes!D:E,MATCH(P131,referentes!$E:$E,0),1))","v":""},{"$f":"IF(Q131=\"\",\"\",INDEX(referentes!G:H,MATCH(Q131,referentes!$H:$H,0),1))","v":""},"",{"$f":"IF(V131=\"\",\"\",INDEX(referentes!S:T,MATCH(V131,referentes!$T:$T,0),1))","v":""},{"$f":"IF(BL131=\"\",\"\",INDEX(referentes!J:K,MATCH(BL131,referentes!$K:$K,0),1))","v":""},{"$f":"IF(BD131=\"\",\"\",INDEX(referentes!V:W,MATCH(BD131,referentes!$W:$W,0),1))","v":""},{"$f":"IF(BE131=\"\",\"\",INDEX(referentes!Y:Z,MATCH(BE131,referentes!$Z:$Z,0),1))","v":""},{"$f":"IF(BF131=\"\",\"\",INDEX(referentes!AB:AC,MATCH(BF131,referentes!$AC:$AC,0),1))","v":""},{"$f":"IF(BG131=\"\",\"\",INDEX(referentes!AE:AF,MATCH(BG131,referentes!$AF:$AF,0),1))","v":""},{"$f":"IF(AY131=\"\",\"\",INDEX(referentes!M:N,MATCH(AY131,referentes!$N:$N,0),1))","v":""},{"$f":"IF(BN131=\"\",\"\",INDEX('Otras referencias'!S:T,MATCH(BN131,'Otras referencias'!$T:$T,0),1))","v":""},{"$f":"IF(BH131=\"\",\"\",INDEX('Otras referencias'!A:B,MATCH(BH131,'Otras referencias'!$B:$B,0),1))","v":""}]
[null,0,"",null,null,"",{"$f":"IF(H132=\"\",\"\",INDEX(referentes!AU:AV,MATCH(H132,referentes!$AV:$AV,0),1))","v":""},null,{"$f":"IF(J132=\"\",\"\",INDEX('Otras referencias'!$V:$W,MATCH(J132,'Otras referencias'!$W:$W,0),1))","v":""},null,null,null,null,null,null,null,null,null,127,null,null,null,null,null,null,null,null,null,null,null,null,null,null,null,null,null,null,null,null,null,null,null,null,null,null,0,null,null,null,0,null,null,null,null,null,null,null,null,null,null,null,null,null,null,null,null,null,null,"",{"$f":"IF(C132=\"\",\"\",IF(COUNTIF($C$6:C132, C132)>1, \"\", C132))","v":""},{"$f":"IF(K132=\"\",\"\",INDEX(referentes!P:Q,MATCH(K132,referentes!$Q:$Q,0),1))","v":""},{"$f":"IF(L132=\"\",\"\",INDEX(referentes!$A:$B,MATCH(L132,referentes!$B:$B,0),1))","v":""},{"$f":"IF(P132=\"\",\"\",INDEX(referentes!D:E,MATCH(P132,referentes!$E:$E,0),1))","v":""},{"$f":"IF(Q132=\"\",\"\",INDEX(referentes!G:H,MATCH(Q132,referentes!$H:$H,0),1))","v":""},"",{"$f":"IF(V132=\"\",\"\",INDEX(referentes!S:T,MATCH(V132,referentes!$T:$T,0),1))","v":""},{"$f":"IF(BL132=\"\",\"\",INDEX(referentes!J:K,MATCH(BL132,referentes!$K:$K,0),1))","v":""},{"$f":"IF(BD132=\"\",\"\",INDEX(referentes!V:W,MATCH(BD132,referentes!$W:$W,0),1))","v":""},{"$f":"IF(BE132=\"\",\"\",INDEX(referentes!Y:Z,MATCH(BE132,referentes!$Z:$Z,0),1))","v":""},{"$f":"IF(BF132=\"\",\"\",INDEX(referentes!AB:AC,MATCH(BF132,referentes!$AC:$AC,0),1))","v":""},{"$f":"IF(BG132=\"\",\"\",INDEX(referentes!AE:AF,MATCH(BG132,referentes!$AF:$AF,0),1))","v":""},{"$f":"IF(AY132=\"\",\"\",INDEX(referentes!M:N,MATCH(AY132,referentes!$N:$N,0),1))","v":""},{"$f":"IF(BN132=\"\",\"\",INDEX('Otras referencias'!S:T,MATCH(BN132,'Otras referencias'!$T:$T,0),1))","v":""},{"$f":"IF(BH132=\"\",\"\",INDEX('Otras referencias'!A:B,MATCH(BH132,'Otras referencias'!$B:$B,0),1))","v":""}]
[null,0,"",null,null,"",{"$f":"IF(H133=\"\",\"\",INDEX(referentes!AU:AV,MATCH(H133,referentes!$AV:$AV,0),1))","v":""},null,{"$f":"IF(J133=\"\",\"\",INDEX('Otras referencias'!$V:$W,MATCH(J133,'Otras referencias'!$W:$W,0),1))","v":""},null,null,null,null,null,null,null,null,null,128,null,null,null,null,null,null,null,null,null,null,null,null,null,null,null,null,null,null,null,null,null,null,null,null,null,null,0,null,null,null,0,null,null,null,null,null,null,null,null,null,null,null,null,null,null,null,null,null,null,"",{"$f":"IF(C133=\"\",\"\",IF(COUNTIF($C$6:C133, C133)>1, \"\", C133))","v":""},{"$f":"IF(K133=\"\",\"\",INDEX(referentes!P:Q,MATCH(K133,referentes!$Q:$Q,0),1))","v":""},{"$f":"IF(L133=\"\",\"\",INDEX(referentes!$A:$B,MATCH(L133,referentes!$B:$B,0),1))","v":""},{"$f":"IF(P133=\"\",\"\",INDEX(referentes!D:E,MATCH(P133,referentes!$E:$E,0),1))","v":""},{"$f":"IF(Q133=\"\",\"\",INDEX(referentes!G:H,MATCH(Q133,referentes!$H:$H,0),1))","v":""},"",{"$f":"IF(V133=\"\",\"\",INDEX(referentes!S:T,MATCH(V133,referentes!$T:$T,0),1))","v":""},{"$f":"IF(BL133=\"\",\"\",INDEX(referentes!J:K,MATCH(BL133,referentes!$K:$K,0),1))","v":""},{"$f":"IF(BD133=\"\",\"\",INDEX(referentes!V:W,MATCH(BD133,referentes!$W:$W,0),1))","v":""},{"$f":"IF(BE133=\"\",\"\",INDEX(referentes!Y:Z,MATCH(BE133,referentes!$Z:$Z,0),1))","v":""},{"$f":"IF(BF133=\"\",\"\",INDEX(referentes!AB:AC,MATCH(BF133,referentes!$AC:$AC,0),1))","v":""},{"$f":"IF(BG133=\"\",\"\",INDEX(referentes!AE:AF,MATCH(BG133,referentes!$AF:$AF,0),1))","v":""},{"$f":"IF(AY133=\"\",\"\",INDEX(referentes!M:N,MATCH(AY133,referentes!$N:$N,0),1))","v":""},{"$f":"IF(BN133=\"\",\"\",INDEX('Otras referencias'!S:T,MATCH(BN133,'Otras referencias'!$T:$T,0),1))","v":""},{"$f":"IF(BH133=\"\",\"\",INDEX('Otras referencias'!A:B,MATCH(BH133,'Otras referencias'!$B:$B,0),1))","v":""}]
[null,0,"",null,null,"",{"$f":"IF(H134=\"\",\"\",INDEX(referentes!AU:AV,MATCH(H134,referentes!$AV:$AV,0),1))","v":""},null,{"$f":"IF(J134=\"\",\"\",INDEX('Otras referencias'!$V:$W,MATCH(J134,'Otras referencias'!$W:$W,0),1))","v":""},null,null,null,null,null,null,null,null,null,129,null,null,null,null,null,null,null,null,null,null,null,null,null,null,null,null,null,null,null,null,null,null,null,null,null,null,0,null,null,null,{"$f":"SUM(AU134:AW134)","v":0},null,null,null,null,null,null,null,null,null,null,null,null,null,null,null,null,null,null,{"$f":"IF(D134=\"\",\"\",CONCATENATE(C134,S134))","v":""},{"$f":"IF(C134=\"\",\"\",IF(COUNTIF($C$6:C134, C134)>1, \"\", C134))","v":""},{"$f":"IF(K134=\"\",\"\",INDEX(referentes!P:Q,MATCH(K134,referentes!$Q:$Q,0),1))","v":""},{"$f":"IF(L134=\"\",\"\",INDEX(referentes!$A:$B,MATCH(L134,referentes!$B:$B,0),1))","v":""},{"$f":"IF(P134=\"\",\"\",INDEX(referentes!D:E,MATCH(P134,referentes!$E:$E,0),1))","v":""},{"$f":"IF(Q134=\"\",\"\",INDEX(referentes!G:H,MATCH(Q134,referentes!$H:$H,0),1))","v":""},"",{"$f":"IF(V134=\"\",\"\",INDEX(referentes!S:T,MATCH(V134,referentes!$T:$T,0),1))","v":""},{"$f":"IF(BL134=\"\",\"\",INDEX(referentes!J:K,MATCH(BL134,referentes!$K:$K,0),1))","v":""},{"$f":"IF(BD134=\"\",\"\",INDEX(referentes!V:W,MATCH(BD134,referentes!$W:$W,0),1))","v":""},{"$f":"IF(BE134=\"\",\"\",INDEX(referentes!Y:Z,MATCH(BE134,referentes!$Z:$Z,0),1))","v":""},{"$f":"IF(BF134=\"\",\"\",INDEX(referentes!AB:AC,MATCH(BF134,referentes!$AC:$AC,0),1))","v":""},{"$f":"IF(BG134=\"\",\"\",INDEX(referentes!AE:AF,MATCH(BG134,referentes!$AF:$AF,0),1))","v":""},{"$f":"IF(AY134=\"\",\"\",INDEX(referentes!M:N,MATCH(AY134,referentes!$N:$N,0),1))","v":""},{"$f":"IF(BN134=\"\",\"\",INDEX('Otras referencias'!S:T,MATCH(BN134,'Otras referencias'!$T:$T,0),1))","v":""},{"$f":"IF(BH134=\"\",\"\",INDEX('Otras referencias'!A:B,MATCH(BH134,'Otras referencias'!$B:$B,0),1))","v":""}]
[null,{"$f":"IF(BW135=BW134,B134,B134+1)","v":0},{"$f":"IF(E135<>\"\",CONCATENATE($A$3,D135,B135),\"\")","v":""},null,null,{"$f":"IF(D135<>\"\",D135+E135,\"\")","v":""},{"$f":"IF(H135=\"\",\"\",INDEX(referentes!AU:AV,MATCH(H135,referentes!$AV:$AV,0),1))","v":""},null,{"$f":"IF(J135=\"\",\"\",INDEX('Otras referencias'!$V:$W,MATCH(J135,'Otras referencias'!$W:$W,0),1))","v":""},null,null,null,null,null,null,null,null,null,130,null,null,null,null,null,null,null,null,null,null,null,null,null,null,null,null,null,null,null,null,null,null,null,null,null,null,{"$f":"SUM(W135:AR135)","v":0},null,null,null,0,null,null,null,null,null,null,null,null,null,null,null,null,null,null,null,null,null,null,"",{"$f":"IF(C135=\"\",\"\",IF(COUNTIF($C$6:C135, C135)>1, \"\", C135))","v":""},{"$f":"IF(K135=\"\",\"\",INDEX(referentes!P:Q,MATCH(K135,referentes!$Q:$Q,0),1))","v":""},{"$f":"IF(L135=\"\",\"\",INDEX(referentes!$A:$B,MATCH(L135,referentes!$B:$B,0),1))","v":""},{"$f":"IF(P135=\"\",\"\",INDEX(referentes!D:E,MATCH(P135,referentes!$E:$E,0),1))","v":""},{"$f":"IF(Q135=\"\",\"\",INDEX(referentes!G:H,MATCH(Q135,referentes!$H:$H,0),1))","v":""},{"$f":"CONCATENATE(G135,I135,BS135,BT135,BU135,BV135,M135,N135,O135)","v":""},{"$f":"IF(V135=\"\",\"\",INDEX(referentes!S:T,MATCH(V135,referentes!$T:$T,0),1))","v":""},{"$f":"IF(BL135=\"\",\"\",INDEX(referentes!J:K,MATCH(BL135,referentes!$K:$K,0),1))","v":""},{"$f":"IF(BD135=\"\",\"\",INDEX(referentes!V:W,MATCH(BD135,referentes!$W:$W,0),1))","v":""},{"$f":"IF(BE135=\"\",\"\",INDEX(referentes!Y:Z,MATCH(BE135,referentes!$Z:$Z,0),1))","v":""},{"$f":"IF(BF135=\"\",\"\",INDEX(referentes!AB:AC,MATCH(BF135,referentes!$AC:$AC,0),1))","v":""},{"$f":"IF(BG135=\"\",\"\",INDEX(referentes!AE:AF,MATCH(BG135,referentes!$AF:$AF,0),1))","v":""},{"$f":"IF(AY135=\"\",\"\",INDEX(referentes!M:N,MATCH(AY135,referentes!$N:$N,0),1))","v":""},{"$f":"IF(BN135=\"\",\"\",INDEX('Otras referencias'!S:T,MATCH(BN135,'Otras referencias'!$T:$T,0),1))","v":""},{"$f":"IF(BH135=\"\",\"\",INDEX('Otras referencias'!A:B,MATCH(BH135,'Otras referencias'!$B:$B,0),1))","v":""}]
[null,0,"",null,null,"",{"$f":"IF(H136=\"\",\"\",INDEX(referentes!AU:AV,MATCH(H136,referentes!$AV:$AV,0),1))","v":""},null,{"$f":"IF(J136=\"\",\"\",INDEX('Otras referencias'!$V:$W,MATCH(J136,'Otras referencias'!$W:$W,0),1))","v":""},null,null,null,null,null,null,null,null,null,131,null,null,null,null,null,null,null,null,null,null,null,null,null,null,null,null,null,null,null,null,null,null,null,null,null,null,0,null,null,null,0,null,null,null,null,null,null,null,null,null,null,null,null,null,null,null,null,null,null,"",{"$f":"IF(C136=\"\",\"\",IF(COUNTIF($C$6:C136, C136)>1, \"\", C136))","v":""},{"$f":"IF(K136=\"\",\"\",INDEX(referentes!P:Q,MATCH(K136,referentes!$Q:$Q,0),1))","v":""},{"$f":"IF(L136=\"\",\"\",INDEX(referentes!$A:$B,MATCH(L136,referentes!$B:$B,0),1))","v":""},{"$f":"IF(P136=\"\",\"\",INDEX(referentes!D:E,MATCH(P136,referentes!$E:$E,0),1))","v":""},{"$f":"IF(Q136=\"\",\"\",INDEX(referentes!G:H,MATCH(Q136,referentes!$H:$H,0),1))","v":""},"",{"$f":"IF(V136=\"\",\"\",INDEX(referentes!S:T,MATCH(V136,referentes!$T:$T,0),1))","v":""},{"$f":"IF(BL136=\"\",\"\",INDEX(referentes!J:K,MATCH(BL136,referentes!$K:$K,0),1))","v":""},{"$f":"IF(BD136=\"\",\"\",INDEX(referentes!V:W,MATCH(BD136,referentes!$W:$W,0),1))","v":""},{"$f":"IF(BE136=\"\",\"\",INDEX(referentes!Y:Z,MATCH(BE136,referentes!$Z:$Z,0),1))","v":""},{"$f":"IF(BF136=\"\",\"\",INDEX(referentes!AB:AC,MATCH(BF136,referentes!$AC:$AC,0),1))","v":""},{"$f":"IF(BG136=\"\",\"\",INDEX(referentes!AE:AF,MATCH(BG136,referentes!$AF:$AF,0),1))","v":""},{"$f":"IF(AY136=\"\",\"\",INDEX(referentes!M:N,MATCH(AY136,referentes!$N:$N,0),1))","v":""},{"$f":"IF(BN136=\"\",\"\",INDEX('Otras referencias'!S:T,MATCH(BN136,'Otras referencias'!$T:$T,0),1))","v":""},{"$f":"IF(BH136=\"\",\"\",INDEX('Otras referencias'!A:B,MATCH(BH136,'Otras referencias'!$B:$B,0),1))","v":""}]
[null,0,"",null,null,"",{"$f":"IF(H137=\"\",\"\",INDEX(referentes!AU:AV,MATCH(H137,referentes!$AV:$AV,0),1))","v":""},null,{"$f":"IF(J137=\"\",\"\",INDEX('Otras referencias'!$V:$W,MATCH(J137,'Otras referencias'!$W:$W,0),1))","v":""},null,null,null,null,null,null,null,null,null,132,null,null,null,null,null,null,null,null,null,null,null,null,null,null,null,null,null,null,null,null,null,null,null,null,null,null,0,null,null,null,0,null,null,null,null,null,null,null,null,null,null,null,null,null,null,null,null,null,null,"",{"$f":"IF(C137=\"\",\"\",IF(COUNTIF($C$6:C137, C137)>1, \"\", C137))","v":""},{"$f":"IF(K137=\"\",\"\",INDEX(referentes!P:Q,MATCH(K137,referentes!$Q:$Q,0),1))","v":""},{"$f":"IF(L137=\"\",\"\",INDEX(referentes!$A:$B,MATCH(L137,referentes!$B:$B,0),1))","v":""},{"$f":"IF(P137=\"\",\"\",INDEX(referentes!D:E,MATCH(P137,referentes!$E:$E,0),1))","v":""},{"$f":"IF(Q137=\"\",\"\",INDEX(referentes!G:H,MATCH(Q137,referentes!$H:$H,0),1))","v":""},"",{"$f":"IF(V137=\"\",\"\",INDEX(referentes!S:T,MATCH(V137,referentes!$T:$T,0),1))","v":""},{"$f":"IF(BL137=\"\",\"\",INDEX(referentes!J:K,MATCH(BL137,referentes!$K:$K,0),1))","v":""},{"$f":"IF(BD137=\"\",\"\",INDEX(referentes!V:W,MATCH(BD137,referentes!$W:$W,0),1))","v":""},{"$f":"IF(BE137=\"\",\"\",INDEX(referentes!Y:Z,MATCH(BE137,referentes!$Z:$Z,0),1))","v":""},{"$f":"IF(BF137=\"\",\"\",INDEX(referentes!AB:AC,MATCH(BF137,referentes!$AC:$AC,0),1))","v":""},{"$f":"IF(BG137=\"\",\"\",INDEX(referentes!AE:AF,MATCH(BG137,referentes!$AF:$AF,0),1))","v":""},{"$f":"IF(AY137=\"\",\"\",INDEX(referentes!M:N,MATCH(AY137,referentes!$N:$N,0),1))","v":""},{"$f":"IF(BN137=\"\",\"\",INDEX('Otras referencias'!S:T,MATCH(BN137,'Otras referencias'!$T:$T,0),1))","v":""},{"$f":"IF(BH137=\"\",\"\",INDEX('Otras referencias'!A:B,MATCH(BH137,'Otras referencias'!$B:$B,0),1))","v":""}]
[null,0,"",null,null,"",{"$f":"IF(H138=\"\",\"\",INDEX(referentes!AU:AV,MATCH(H138,referentes!$AV:$AV,0),1))","v":""},null,{"$f":"IF(J138=\"\",\"\",INDEX('Otras referencias'!$V:$W,MATCH(J138,'Otras referencias'!$W:$W,0),1))","v":""},null,null,null,null,null,null,null,null,null,133,null,null,null,null,null,null,null,null,null,null,null,null,null,null,null,null,null,null,null,null,null,null,null,null,null,null,0,null,null,null,0,null,null,null,null,null,null,null,null,null,null,null,null,null,null,null,null,null,null,"",{"$f":"IF(C138=\"\",\"\",IF(COUNTIF($C$6:C138, C138)>1, \"\", C138))","v":""},{"$f":"IF(K138=\"\",\"\",INDEX(referentes!P:Q,MATCH(K138,referentes!$Q:$Q,0),1))","v":""},{"$f":"IF(L138=\"\",\"\",INDEX(referentes!$A:$B,MATCH(L138,referentes!$B:$B,0),1))","v":""},{"$f":"IF(P138=\"\",\"\",INDEX(referentes!D:E,MATCH(P138,referentes!$E:$E,0),1))","v":""},{"$f":"IF(Q138=\"\",\"\",INDEX(referentes!G:H,MATCH(Q138,referentes!$H:$H,0),1))","v":""},"",{"$f":"IF(V138=\"\",\"\",INDEX(referentes!S:T,MATCH(V138,referentes!$T:$T,0),1))","v":""},{"$f":"IF(BL138=\"\",\"\",INDEX(referentes!J:K,MATCH(BL138,referentes!$K:$K,0),1))","v":""},{"$f":"IF(BD138=\"\",\"\",INDEX(referentes!V:W,MATCH(BD138,referentes!$W:$W,0),1))","v":""},{"$f":"IF(BE138=\"\",\"\",INDEX(referentes!Y:Z,MATCH(BE138,referentes!$Z:$Z,0),1))","v":""},{"$f":"IF(BF138=\"\",\"\",INDEX(referentes!AB:AC,MATCH(BF138,referentes!$AC:$AC,0),1))","v":""},{"$f":"IF(BG138=\"\",\"\",INDEX(referentes!AE:AF,MATCH(BG138,referentes!$AF:$AF,0),1))","v":""},{"$f":"IF(AY138=\"\",\"\",INDEX(referentes!M:N,MATCH(AY138,referentes!$N:$N,0),1))","v":""},{"$f":"IF(BN138=\"\",\"\",INDEX('Otras referencias'!S:T,MATCH(BN138,'Otras referencias'!$T:$T,0),1))","v":""},{"$f":"IF(BH138=\"\",\"\",INDEX('Otras referencias'!A:B,MATCH(BH138,'Otras referencias'!$B:$B,0),1))","v":""}]
[null,0,"",null,null,"",{"$f":"IF(H139=\"\",\"\",INDEX(referentes!AU:AV,MATCH(H139,referentes!$AV:$AV,0),1))","v":""},null,{"$f":"IF(J139=\"\",\"\",INDEX('Otras referencias'!$V:$W,MATCH(J139,'Otras referencias'!$W:$W,0),1))","v":""},null,null,null,null,null,null,null,null,null,134,null,null,null,null,null,null,null,null,null,null,null,null,null,null,null,null,null,null,null,null,null,null,null,null,null,null,0,null,null,null,0,null,null,null,null,null,null,null,null,null,null,null,null,null,null,null,null,null,null,"",{"$f":"IF(C139=\"\",\"\",IF(COUNTIF($C$6:C139, C139)>1, \"\", C139))","v":""},{"$f":"IF(K139=\"\",\"\",INDEX(referentes!P:Q,MATCH(K139,referentes!$Q:$Q,0),1))","v":""},{"$f":"IF(L139=\"\",\"\",INDEX(referentes!$A:$B,MATCH(L139,referentes!$B:$B,0),1))","v":""},{"$f":"IF(P139=\"\",\"\",INDEX(referentes!D:E,MATCH(P139,referentes!$E:$E,0),1))","v":""},{"$f":"IF(Q139=\"\",\"\",INDEX(referentes!G:H,MATCH(Q139,referentes!$H:$H,0),1))","v":""},"",{"$f":"IF(V139=\"\",\"\",INDEX(referentes!S:T,MATCH(V139,referentes!$T:$T,0),1))","v":""},{"$f":"IF(BL139=\"\",\"\",INDEX(referentes!J:K,MATCH(BL139,referentes!$K:$K,0),1))","v":""},{"$f":"IF(BD139=\"\",\"\",INDEX(referentes!V:W,MATCH(BD139,referentes!$W:$W,0),1))","v":""},{"$f":"IF(BE139=\"\",\"\",INDEX(referentes!Y:Z,MATCH(BE139,referentes!$Z:$Z,0),1))","v":""},{"$f":"IF(BF139=\"\",\"\",INDEX(referentes!AB:AC,MATCH(BF139,referentes!$AC:$AC,0),1))","v":""},{"$f":"IF(BG139=\"\",\"\",INDEX(referentes!AE:AF,MATCH(BG139,referentes!$AF:$AF,0),1))","v":""},{"$f":"IF(AY139=\"\",\"\",INDEX(referentes!M:N,MATCH(AY139,referentes!$N:$N,0),1))","v":""},{"$f":"IF(BN139=\"\",\"\",INDEX('Otras referencias'!S:T,MATCH(BN139,'Otras referencias'!$T:$T,0),1))","v":""},{"$f":"IF(BH139=\"\",\"\",INDEX('Otras referencias'!A:B,MATCH(BH139,'Otras referencias'!$B:$B,0),1))","v":""}]
[null,0,"",null,null,"",{"$f":"IF(H140=\"\",\"\",INDEX(referentes!AU:AV,MATCH(H140,referentes!$AV:$AV,0),1))","v":""},null,{"$f":"IF(J140=\"\",\"\",INDEX('Otras referencias'!$V:$W,MATCH(J140,'Otras referencias'!$W:$W,0),1))","v":""},null,null,null,null,null,null,null,null,null,135,null,null,null,null,null,null,null,null,null,null,null,null,null,null,null,null,null,null,null,null,null,null,null,null,null,null,0,null,null,null,0,null,null,null,null,null,null,null,null,null,null,null,null,null,null,null,null,null,null,"",{"$f":"IF(C140=\"\",\"\",IF(COUNTIF($C$6:C140, C140)>1, \"\", C140))","v":""},{"$f":"IF(K140=\"\",\"\",INDEX(referentes!P:Q,MATCH(K140,referentes!$Q:$Q,0),1))","v":""},{"$f":"IF(L140=\"\",\"\",INDEX(referentes!$A:$B,MATCH(L140,referentes!$B:$B,0),1))","v":""},{"$f":"IF(P140=\"\",\"\",INDEX(referentes!D:E,MATCH(P140,referentes!$E:$E,0),1))","v":""},{"$f":"IF(Q140=\"\",\"\",INDEX(referentes!G:H,MATCH(Q140,referentes!$H:$H,0),1))","v":""},"",{"$f":"IF(V140=\"\",\"\",INDEX(referentes!S:T,MATCH(V140,referentes!$T:$T,0),1))","v":""},{"$f":"IF(BL140=\"\",\"\",INDEX(referentes!J:K,MATCH(BL140,referentes!$K:$K,0),1))","v":""},{"$f":"IF(BD140=\"\",\"\",INDEX(referentes!V:W,MATCH(BD140,referentes!$W:$W,0),1))","v":""},{"$f":"IF(BE140=\"\",\"\",INDEX(referentes!Y:Z,MATCH(BE140,referentes!$Z:$Z,0),1))","v":""},{"$f":"IF(BF140=\"\",\"\",INDEX(referentes!AB:AC,MATCH(BF140,referentes!$AC:$AC,0),1))","v":""},{"$f":"IF(BG140=\"\",\"\",INDEX(referentes!AE:AF,MATCH(BG140,referentes!$AF:$AF,0),1))","v":""},{"$f":"IF(AY140=\"\",\"\",INDEX(referentes!M:N,MATCH(AY140,referentes!$N:$N,0),1))","v":""},{"$f":"IF(BN140=\"\",\"\",INDEX('Otras referencias'!S:T,MATCH(BN140,'Otras referencias'!$T:$T,0),1))","v":""},{"$f":"IF(BH140=\"\",\"\",INDEX('Otras referencias'!A:B,MATCH(BH140,'Otras referencias'!$B:$B,0),1))","v":""}]
[null,0,"",null,null,"",{"$f":"IF(H141=\"\",\"\",INDEX(referentes!AU:AV,MATCH(H141,referentes!$AV:$AV,0),1))","v":""},null,{"$f":"IF(J141=\"\",\"\",INDEX('Otras referencias'!$V:$W,MATCH(J141,'Otras referencias'!$W:$W,0),1))","v":""},null,null,null,null,null,null,null,null,null,136,null,null,null,null,null,null,null,null,null,null,null,null,null,null,null,null,null,null,null,null,null,null,null,null,null,null,0,null,null,null,0,null,null,null,null,null,null,null,null,null,null,null,null,null,null,null,null,null,null,"",{"$f":"IF(C141=\"\",\"\",IF(COUNTIF($C$6:C141, C141)>1, \"\", C141))","v":""},{"$f":"IF(K141=\"\",\"\",INDEX(referentes!P:Q,MATCH(K141,referentes!$Q:$Q,0),1))","v":""},{"$f":"IF(L141=\"\",\"\",INDEX(referentes!$A:$B,MATCH(L141,referentes!$B:$B,0),1))","v":""},{"$f":"IF(P141=\"\",\"\",INDEX(referentes!D:E,MATCH(P141,referentes!$E:$E,0),1))","v":""},{"$f":"IF(Q141=\"\",\"\",INDEX(referentes!G:H,MATCH(Q141,referentes!$H:$H,0),1))","v":""},"",{"$f":"IF(V141=\"\",\"\",INDEX(referentes!S:T,MATCH(V141,referentes!$T:$T,0),1))","v":""},{"$f":"IF(BL141=\"\",\"\",INDEX(referentes!J:K,MATCH(BL141,referentes!$K:$K,0),1))","v":""},{"$f":"IF(BD141=\"\",\"\",INDEX(referentes!V:W,MATCH(BD141,referentes!$W:$W,0),1))","v":""},{"$f":"IF(BE141=\"\",\"\",INDEX(referentes!Y:Z,MATCH(BE141,referentes!$Z:$Z,0),1))","v":""},{"$f":"IF(BF141=\"\",\"\",INDEX(referentes!AB:AC,MATCH(BF141,referentes!$AC:$AC,0),1))","v":""},{"$f":"IF(BG141=\"\",\"\",INDEX(referentes!AE:AF,MATCH(BG141,referentes!$AF:$AF,0),1))","v":""},{"$f":"IF(AY141=\"\",\"\",INDEX(referentes!M:N,MATCH(AY141,referentes!$N:$N,0),1))","v":""},{"$f":"IF(BN141=\"\",\"\",INDEX('Otras referencias'!S:T,MATCH(BN141,'Otras referencias'!$T:$T,0),1))","v":""},{"$f":"IF(BH141=\"\",\"\",INDEX('Otras referencias'!A:B,MATCH(BH141,'Otras referencias'!$B:$B,0),1))","v":""}]
[null,0,"",null,null,"",{"$f":"IF(H142=\"\",\"\",INDEX(referentes!AU:AV,MATCH(H142,referentes!$AV:$AV,0),1))","v":""},null,{"$f":"IF(J142=\"\",\"\",INDEX('Otras referencias'!$V:$W,MATCH(J142,'Otras referencias'!$W:$W,0),1))","v":""},null,null,null,null,null,null,null,null,null,137,null,null,null,null,null,null,null,null,null,null,null,null,null,null,null,null,null,null,null,null,null,null,null,null,null,null,0,null,null,null,0,null,null,null,null,null,null,null,null,null,null,null,null,null,null,null,null,null,null,"",{"$f":"IF(C142=\"\",\"\",IF(COUNTIF($C$6:C142, C142)>1, \"\", C142))","v":""},{"$f":"IF(K142=\"\",\"\",INDEX(referentes!P:Q,MATCH(K142,referentes!$Q:$Q,0),1))","v":""},{"$f":"IF(L142=\"\",\"\",INDEX(referentes!$A:$B,MATCH(L142,referentes!$B:$B,0),1))","v":""},{"$f":"IF(P142=\"\",\"\",INDEX(referentes!D:E,MATCH(P142,referentes!$E:$E,0),1))","v":""},{"$f":"IF(Q142=\"\",\"\",INDEX(referentes!G:H,MATCH(Q142,referentes!$H:$H,0),1))","v":""},"",{"$f":"IF(V142=\"\",\"\",INDEX(referentes!S:T,MATCH(V142,referentes!$T:$T,0),1))","v":""},{"$f":"IF(BL142=\"\",\"\",INDEX(referentes!J:K,MATCH(BL142,referentes!$K:$K,0),1))","v":""},{"$f":"IF(BD142=\"\",\"\",INDEX(referentes!V:W,MATCH(BD142,referentes!$W:$W,0),1))","v":""},{"$f":"IF(BE142=\"\",\"\",INDEX(referentes!Y:Z,MATCH(BE142,referentes!$Z:$Z,0),1))","v":""},{"$f":"IF(BF142=\"\",\"\",INDEX(referentes!AB:AC,MATCH(BF142,referentes!$AC:$AC,0),1))","v":""},{"$f":"IF(BG142=\"\",\"\",INDEX(referentes!AE:AF,MATCH(BG142,referentes!$AF:$AF,0),1))","v":""},{"$f":"IF(AY142=\"\",\"\",INDEX(referentes!M:N,MATCH(AY142,referentes!$N:$N,0),1))","v":""},{"$f":"IF(BN142=\"\",\"\",INDEX('Otras referencias'!S:T,MATCH(BN142,'Otras referencias'!$T:$T,0),1))","v":""},{"$f":"IF(BH142=\"\",\"\",INDEX('Otras referencias'!A:B,MATCH(BH142,'Otras referencias'!$B:$B,0),1))","v":""}]
[null,0,"",null,null,"",{"$f":"IF(H143=\"\",\"\",INDEX(referentes!AU:AV,MATCH(H143,referentes!$AV:$AV,0),1))","v":""},null,{"$f":"IF(J143=\"\",\"\",INDEX('Otras referencias'!$V:$W,MATCH(J143,'Otras referencias'!$W:$W,0),1))","v":""},null,null,null,null,null,null,null,null,null,138,null,null,null,null,null,null,null,null,null,null,null,null,null,null,null,null,null,null,null,null,null,null,null,null,null,null,0,null,null,null,0,null,null,null,null,null,null,null,null,null,null,null,null,null,null,null,null,null,null,"",{"$f":"IF(C143=\"\",\"\",IF(COUNTIF($C$6:C143, C143)>1, \"\", C143))","v":""},{"$f":"IF(K143=\"\",\"\",INDEX(referentes!P:Q,MATCH(K143,referentes!$Q:$Q,0),1))","v":""},{"$f":"IF(L143=\"\",\"\",INDEX(referentes!$A:$B,MATCH(L143,referentes!$B:$B,0),1))","v":""},{"$f":"IF(P143=\"\",\"\",INDEX(referentes!D:E,MATCH(P143,referentes!$E:$E,0),1))","v":""},{"$f":"IF(Q143=\"\",\"\",INDEX(referentes!G:H,MATCH(Q143,referentes!$H:$H,0),1))","v":""},"",{"$f":"IF(V143=\"\",\"\",INDEX(referentes!S:T,MATCH(V143,referentes!$T:$T,0),1))","v":""},{"$f":"IF(BL143=\"\",\"\",INDEX(referentes!J:K,MATCH(BL143,referentes!$K:$K,0),1))","v":""},{"$f":"IF(BD143=\"\",\"\",INDEX(referentes!V:W,MATCH(BD143,referentes!$W:$W,0),1))","v":""},{"$f":"IF(BE143=\"\",\"\",INDEX(referentes!Y:Z,MATCH(BE143,referentes!$Z:$Z,0),1))","v":""},{"$f":"IF(BF143=\"\",\"\",INDEX(referentes!AB:AC,MATCH(BF143,referentes!$AC:$AC,0),1))","v":""},{"$f":"IF(BG143=\"\",\"\",INDEX(referentes!AE:AF,MATCH(BG143,referentes!$AF:$AF,0),1))","v":""},{"$f":"IF(AY143=\"\",\"\",INDEX(referentes!M:N,MATCH(AY143,referentes!$N:$N,0),1))","v":""},{"$f":"IF(BN143=\"\",\"\",INDEX('Otras referencias'!S:T,MATCH(BN143,'Otras referencias'!$T:$T,0),1))","v":""},{"$f":"IF(BH143=\"\",\"\",INDEX('Otras referencias'!A:B,MATCH(BH143,'Otras referencias'!$B:$B,0),1))","v":""}]
[null,0,"",null,null,"",{"$f":"IF(H144=\"\",\"\",INDEX(referentes!AU:AV,MATCH(H144,referentes!$AV:$AV,0),1))","v":""},null,{"$f":"IF(J144=\"\",\"\",INDEX('Otras referencias'!$V:$W,MATCH(J144,'Otras referencias'!$W:$W,0),1))","v":""},null,null,null,null,null,null,null,null,null,139,null,null,null,null,null,null,null,null,null,null,null,null,null,null,null,null,null,null,null,null,null,null,null,null,null,null,0,null,null,null,0,null,null,null,null,null,null,null,null,null,null,null,null,null,null,null,null,null,null,"",{"$f":"IF(C144=\"\",\"\",IF(COUNTIF($C$6:C144, C144)>1, \"\", C144))","v":""},{"$f":"IF(K144=\"\",\"\",INDEX(referentes!P:Q,MATCH(K144,referentes!$Q:$Q,0),1))","v":""},{"$f":"IF(L144=\"\",\"\",INDEX(referentes!$A:$B,MATCH(L144,referentes!$B:$B,0),1))","v":""},{"$f":"IF(P144=\"\",\"\",INDEX(referentes!D:E,MATCH(P144,referentes!$E:$E,0),1))","v":""},{"$f":"IF(Q144=\"\",\"\",INDEX(referentes!G:H,MATCH(Q144,referentes!$H:$H,0),1))","v":""},"",{"$f":"IF(V144=\"\",\"\",INDEX(referentes!S:T,MATCH(V144,referentes!$T:$T,0),1))","v":""},{"$f":"IF(BL144=\"\",\"\",INDEX(referentes!J:K,MATCH(BL144,referentes!$K:$K,0),1))","v":""},{"$f":"IF(BD144=\"\",\"\",INDEX(referentes!V:W,MATCH(BD144,referentes!$W:$W,0),1))","v":""},{"$f":"IF(BE144=\"\",\"\",INDEX(referentes!Y:Z,MATCH(BE144,referentes!$Z:$Z,0),1))","v":""},{"$f":"IF(BF144=\"\",\"\",INDEX(referentes!AB:AC,MATCH(BF144,referentes!$AC:$AC,0),1))","v":""},{"$f":"IF(BG144=\"\",\"\",INDEX(referentes!AE:AF,MATCH(BG144,referentes!$AF:$AF,0),1))","v":""},{"$f":"IF(AY144=\"\",\"\",INDEX(referentes!M:N,MATCH(AY144,referentes!$N:$N,0),1))","v":""},{"$f":"IF(BN144=\"\",\"\",INDEX('Otras referencias'!S:T,MATCH(BN144,'Otras referencias'!$T:$T,0),1))","v":""},{"$f":"IF(BH144=\"\",\"\",INDEX('Otras referencias'!A:B,MATCH(BH144,'Otras referencias'!$B:$B,0),1))","v":""}]
[null,0,"",null,null,"",{"$f":"IF(H145=\"\",\"\",INDEX(referentes!AU:AV,MATCH(H145,referentes!$AV:$AV,0),1))","v":""},null,{"$f":"IF(J145=\"\",\"\",INDEX('Otras referencias'!$V:$W,MATCH(J145,'Otras referencias'!$W:$W,0),1))","v":""},null,null,null,null,null,null,null,null,null,140,null,null,null,null,null,null,null,null,null,null,null,null,null,null,null,null,null,null,null,null,null,null,null,null,null,null,0,null,null,null,0,null,null,null,null,null,null,null,null,null,null,null,null,null,null,null,null,null,null,"",{"$f":"IF(C145=\"\",\"\",IF(COUNTIF($C$6:C145, C145)>1, \"\", C145))","v":""},{"$f":"IF(K145=\"\",\"\",INDEX(referentes!P:Q,MATCH(K145,referentes!$Q:$Q,0),1))","v":""},{"$f":"IF(L145=\"\",\"\",INDEX(referentes!$A:$B,MATCH(L145,referentes!$B:$B,0),1))","v":""},{"$f":"IF(P145=\"\",\"\",INDEX(referentes!D:E,MATCH(P145,referentes!$E:$E,0),1))","v":""},{"$f":"IF(Q145=\"\",\"\",INDEX(referentes!G:H,MATCH(Q145,referentes!$H:$H,0),1))","v":""},"",{"$f":"IF(V145=\"\",\"\",INDEX(referentes!S:T,MATCH(V145,referentes!$T:$T,0),1))","v":""},{"$f":"IF(BL145=\"\",\"\",INDEX(referentes!J:K,MATCH(BL145,referentes!$K:$K,0),1))","v":""},{"$f":"IF(BD145=\"\",\"\",INDEX(referentes!V:W,MATCH(BD145,referentes!$W:$W,0),1))","v":""},{"$f":"IF(BE145=\"\",\"\",INDEX(referentes!Y:Z,MATCH(BE145,referentes!$Z:$Z,0),1))","v":""},{"$f":"IF(BF145=\"\",\"\",INDEX(referentes!AB:AC,MATCH(BF145,referentes!$AC:$AC,0),1))","v":""},{"$f":"IF(BG145=\"\",\"\",INDEX(referentes!AE:AF,MATCH(BG145,referentes!$AF:$AF,0),1))","v":""},{"$f":"IF(AY145=\"\",\"\",INDEX(referentes!M:N,MATCH(AY145,referentes!$N:$N,0),1))","v":""},{"$f":"IF(BN145=\"\",\"\",INDEX('Otras referencias'!S:T,MATCH(BN145,'Otras referencias'!$T:$T,0),1))","v":""},{"$f":"IF(BH145=\"\",\"\",INDEX('Otras referencias'!A:B,MATCH(BH145,'Otras referencias'!$B:$B,0),1))","v":""}]
[null,0,"",null,null,"",{"$f":"IF(H146=\"\",\"\",INDEX(referentes!AU:AV,MATCH(H146,referentes!$AV:$AV,0),1))","v":""},null,{"$f":"IF(J146=\"\",\"\",INDEX('Otras referencias'!$V:$W,MATCH(J146,'Otras referencias'!$W:$W,0),1))","v":""},null,null,null,null,null,null,null,null,null,141,null,null,null,null,null,null,null,null,null,null,null,null,null,null,null,null,null,null,null,null,null,null,null,null,null,null,0,null,null,null,0,null,null,null,null,null,null,null,null,null,null,null,null,null,null,null,null,null,null,"",{"$f":"IF(C146=\"\",\"\",IF(COUNTIF($C$6:C146, C146)>1, \"\", C146))","v":""},{"$f":"IF(K146=\"\",\"\",INDEX(referentes!P:Q,MATCH(K146,referentes!$Q:$Q,0),1))","v":""},{"$f":"IF(L146=\"\",\"\",INDEX(referentes!$A:$B,MATCH(L146,referentes!$B:$B,0),1))","v":""},{"$f":"IF(P146=\"\",\"\",INDEX(referentes!D:E,MATCH(P146,referentes!$E:$E,0),1))","v":""},{"$f":"IF(Q146=\"\",\"\",INDEX(referentes!G:H,MATCH(Q146,referentes!$H:$H,0),1))","v":""},"",{"$f":"IF(V146=\"\",\"\",INDEX(referentes!S:T,MATCH(V146,referentes!$T:$T,0),1))","v":""},{"$f":"IF(BL146=\"\",\"\",INDEX(referentes!J:K,MATCH(BL146,referentes!$K:$K,0),1))","v":""},{"$f":"IF(BD146=\"\",\"\",INDEX(referentes!V:W,MATCH(BD146,referentes!$W:$W,0),1))","v":""},{"$f":"IF(BE146=\"\",\"\",INDEX(referentes!Y:Z,MATCH(BE146,referentes!$Z:$Z,0),1))","v":""},{"$f":"IF(BF146=\"\",\"\",INDEX(referentes!AB:AC,MATCH(BF146,referentes!$AC:$AC,0),1))","v":""},{"$f":"IF(BG146=\"\",\"\",INDEX(referentes!AE:AF,MATCH(BG146,referentes!$AF:$AF,0),1))","v":""},{"$f":"IF(AY146=\"\",\"\",INDEX(referentes!M:N,MATCH(AY146,referentes!$N:$N,0),1))","v":""},{"$f":"IF(BN146=\"\",\"\",INDEX('Otras referencias'!S:T,MATCH(BN146,'Otras referencias'!$T:$T,0),1))","v":""},{"$f":"IF(BH146=\"\",\"\",INDEX('Otras referencias'!A:B,MATCH(BH146,'Otras referencias'!$B:$B,0),1))","v":""}]
[null,0,"",null,null,"",{"$f":"IF(H147=\"\",\"\",INDEX(referentes!AU:AV,MATCH(H147,referentes!$AV:$AV,0),1))","v":""},null,{"$f":"IF(J147=\"\",\"\",INDEX('Otras referencias'!$V:$W,MATCH(J147,'Otras referencias'!$W:$W,0),1))","v":""},null,null,null,null,null,null,null,null,null,142,null,null,null,null,null,null,null,null,null,null,null,null,null,null,null,null,null,null,null,null,null,null,null,null,null,null,0,null,null,null,0,null,null,null,null,null,null,null,null,null,null,null,null,null,null,null,null,null,null,"",{"$f":"IF(C147=\"\",\"\",IF(COUNTIF($C$6:C147, C147)>1, \"\", C147))","v":""},{"$f":"IF(K147=\"\",\"\",INDEX(referentes!P:Q,MATCH(K147,referentes!$Q:$Q,0),1))","v":""},{"$f":"IF(L147=\"\",\"\",INDEX(referentes!$A:$B,MATCH(L147,referentes!$B:$B,0),1))","v":""},{"$f":"IF(P147=\"\",\"\",INDEX(referentes!D:E,MATCH(P147,referentes!$E:$E,0),1))","v":""},{"$f":"IF(Q147=\"\",\"\",INDEX(referentes!G:H,MATCH(Q147,referentes!$H:$H,0),1))","v":""},"",{"$f":"IF(V147=\"\",\"\",INDEX(referentes!S:T,MATCH(V147,referentes!$T:$T,0),1))","v":""},{"$f":"IF(BL147=\"\",\"\",INDEX(referentes!J:K,MATCH(BL147,referentes!$K:$K,0),1))","v":""},{"$f":"IF(BD147=\"\",\"\",INDEX(referentes!V:W,MATCH(BD147,referentes!$W:$W,0),1))","v":""},{"$f":"IF(BE147=\"\",\"\",INDEX(referentes!Y:Z,MATCH(BE147,referentes!$Z:$Z,0),1))","v":""},{"$f":"IF(BF147=\"\",\"\",INDEX(referentes!AB:AC,MATCH(BF147,referentes!$AC:$AC,0),1))","v":""},{"$f":"IF(BG147=\"\",\"\",INDEX(referentes!AE:AF,MATCH(BG147,referentes!$AF:$AF,0),1))","v":""},{"$f":"IF(AY147=\"\",\"\",INDEX(referentes!M:N,MATCH(AY147,referentes!$N:$N,0),1))","v":""},{"$f":"IF(BN147=\"\",\"\",INDEX('Otras referencias'!S:T,MATCH(BN147,'Otras referencias'!$T:$T,0),1))","v":""},{"$f":"IF(BH147=\"\",\"\",INDEX('Otras referencias'!A:B,MATCH(BH147,'Otras referencias'!$B:$B,0),1))","v":""}]
[null,0,"",null,null,"",{"$f":"IF(H148=\"\",\"\",INDEX(referentes!AU:AV,MATCH(H148,referentes!$AV:$AV,0),1))","v":""},null,{"$f":"IF(J148=\"\",\"\",INDEX('Otras referencias'!$V:$W,MATCH(J148,'Otras referencias'!$W:$W,0),1))","v":""},null,null,null,null,null,null,null,null,null,143,null,null,null,null,null,null,null,null,null,null,null,null,null,null,null,null,null,null,null,null,null,null,null,null,null,null,0,null,null,null,0,null,null,null,null,null,null,null,null,null,null,null,null,null,null,null,null,null,null,"",{"$f":"IF(C148=\"\",\"\",IF(COUNTIF($C$6:C148, C148)>1, \"\", C148))","v":""},{"$f":"IF(K148=\"\",\"\",INDEX(referentes!P:Q,MATCH(K148,referentes!$Q:$Q,0),1))","v":""},{"$f":"IF(L148=\"\",\"\",INDEX(referentes!$A:$B,MATCH(L148,referentes!$B:$B,0),1))","v":""},{"$f":"IF(P148=\"\",\"\",INDEX(referentes!D:E,MATCH(P148,referentes!$E:$E,0),1))","v":""},{"$f":"IF(Q148=\"\",\"\",INDEX(referentes!G:H,MATCH(Q148,referentes!$H:$H,0),1))","v":""},"",{"$f":"IF(V148=\"\",\"\",INDEX(referentes!S:T,MATCH(V148,referentes!$T:$T,0),1))","v":""},{"$f":"IF(BL148=\"\",\"\",INDEX(referentes!J:K,MATCH(BL148,referentes!$K:$K,0),1))","v":""},{"$f":"IF(BD148=\"\",\"\",INDEX(referentes!V:W,MATCH(BD148,referentes!$W:$W,0),1))","v":""},{"$f":"IF(BE148=\"\",\"\",INDEX(referentes!Y:Z,MATCH(BE148,referentes!$Z:$Z,0),1))","v":""},{"$f":"IF(BF148=\"\",\"\",INDEX(referentes!AB:AC,MATCH(BF148,referentes!$AC:$AC,0),1))","v":""},{"$f":"IF(BG148=\"\",\"\",INDEX(referentes!AE:AF,MATCH(BG148,referentes!$AF:$AF,0),1))","v":""},{"$f":"IF(AY148=\"\",\"\",INDEX(referentes!M:N,MATCH(AY148,referentes!$N:$N,0),1))","v":""},{"$f":"IF(BN148=\"\",\"\",INDEX('Otras referencias'!S:T,MATCH(BN148,'Otras referencias'!$T:$T,0),1))","v":""},{"$f":"IF(BH148=\"\",\"\",INDEX('Otras referencias'!A:B,MATCH(BH148,'Otras referencias'!$B:$B,0),1))","v":""}]
[null,0,"",null,null,"",{"$f":"IF(H149=\"\",\"\",INDEX(referentes!AU:AV,MATCH(H149,referentes!$AV:$AV,0),1))","v":""},null,{"$f":"IF(J149=\"\",\"\",INDEX('Otras referencias'!$V:$W,MATCH(J149,'Otras referencias'!$W:$W,0),1))","v":""},null,null,null,null,null,null,null,null,null,144,null,null,null,null,null,null,null,null,null,null,null,null,null,null,null,null,null,null,null,null,null,null,null,null,null,null,0,null,null,null,0,null,null,null,null,null,null,null,null,null,null,null,null,null,null,null,null,null,null,"",{"$f":"IF(C149=\"\",\"\",IF(COUNTIF($C$6:C149, C149)>1, \"\", C149))","v":""},{"$f":"IF(K149=\"\",\"\",INDEX(referentes!P:Q,MATCH(K149,referentes!$Q:$Q,0),1))","v":""},{"$f":"IF(L149=\"\",\"\",INDEX(referentes!$A:$B,MATCH(L149,referentes!$B:$B,0),1))","v":""},{"$f":"IF(P149=\"\",\"\",INDEX(referentes!D:E,MATCH(P149,referentes!$E:$E,0),1))","v":""},{"$f":"IF(Q149=\"\",\"\",INDEX(referentes!G:H,MATCH(Q149,referentes!$H:$H,0),1))","v":""},"",{"$f":"IF(V149=\"\",\"\",INDEX(referentes!S:T,MATCH(V149,referentes!$T:$T,0),1))","v":""},{"$f":"IF(BL149=\"\",\"\",INDEX(referentes!J:K,MATCH(BL149,referentes!$K:$K,0),1))","v":""},{"$f":"IF(BD149=\"\",\"\",INDEX(referentes!V:W,MATCH(BD149,referentes!$W:$W,0),1))","v":""},{"$f":"IF(BE149=\"\",\"\",INDEX(referentes!Y:Z,MATCH(BE149,referentes!$Z:$Z,0),1))","v":""},{"$f":"IF(BF149=\"\",\"\",INDEX(referentes!AB:AC,MATCH(BF149,referentes!$AC:$AC,0),1))","v":""},{"$f":"IF(BG149=\"\",\"\",INDEX(referentes!AE:AF,MATCH(BG149,referentes!$AF:$AF,0),1))","v":""},{"$f":"IF(AY149=\"\",\"\",INDEX(referentes!M:N,MATCH(AY149,referentes!$N:$N,0),1))","v":""},{"$f":"IF(BN149=\"\",\"\",INDEX('Otras referencias'!S:T,MATCH(BN149,'Otras referencias'!$T:$T,0),1))","v":""},{"$f":"IF(BH149=\"\",\"\",INDEX('Otras referencias'!A:B,MATCH(BH149,'Otras referencias'!$B:$B,0),1))","v":""}]
[null,0,"",null,null,"",{"$f":"IF(H150=\"\",\"\",INDEX(referentes!AU:AV,MATCH(H150,referentes!$AV:$AV,0),1))","v":""},null,{"$f":"IF(J150=\"\",\"\",INDEX('Otras referencias'!$V:$W,MATCH(J150,'Otras referencias'!$W:$W,0),1))","v":""},null,null,null,null,null,null,null,null,null,145,null,null,null,null,null,null,null,null,null,null,null,null,null,null,null,null,null,null,null,null,null,null,null,null,null,null,0,null,null,null,0,null,null,null,null,null,null,null,null,null,null,null,null,null,null,null,null,null,null,"",{"$f":"IF(C150=\"\",\"\",IF(COUNTIF($C$6:C150, C150)>1, \"\", C150))","v":""},{"$f":"IF(K150=\"\",\"\",INDEX(referentes!P:Q,MATCH(K150,referentes!$Q:$Q,0),1))","v":""},{"$f":"IF(L150=\"\",\"\",INDEX(referentes!$A:$B,MATCH(L150,referentes!$B:$B,0),1))","v":""},{"$f":"IF(P150=\"\",\"\",INDEX(referentes!D:E,MATCH(P150,referentes!$E:$E,0),1))","v":""},{"$f":"IF(Q150=\"\",\"\",INDEX(referentes!G:H,MATCH(Q150,referentes!$H:$H,0),1))","v":""},"",{"$f":"IF(V150=\"\",\"\",INDEX(referentes!S:T,MATCH(V150,referentes!$T:$T,0),1))","v":""},{"$f":"IF(BL150=\"\",\"\",INDEX(referentes!J:K,MATCH(BL150,referentes!$K:$K,0),1))","v":""},{"$f":"IF(BD150=\"\",\"\",INDEX(referentes!V:W,MATCH(BD150,referentes!$W:$W,0),1))","v":""},{"$f":"IF(BE150=\"\",\"\",INDEX(referentes!Y:Z,MATCH(BE150,referentes!$Z:$Z,0),1))","v":""},{"$f":"IF(BF150=\"\",\"\",INDEX(referentes!AB:AC,MATCH(BF150,referentes!$AC:$AC,0),1))","v":""},{"$f":"IF(BG150=\"\",\"\",INDEX(referentes!AE:AF,MATCH(BG150,referentes!$AF:$AF,0),1))","v":""},{"$f":"IF(AY150=\"\",\"\",INDEX(referentes!M:N,MATCH(AY150,referentes!$N:$N,0),1))","v":""},{"$f":"IF(BN150=\"\",\"\",INDEX('Otras referencias'!S:T,MATCH(BN150,'Otras referencias'!$T:$T,0),1))","v":""},{"$f":"IF(BH150=\"\",\"\",INDEX('Otras referencias'!A:B,MATCH(BH150,'Otras referencias'!$B:$B,0),1))","v":""}]
[null,0,"",null,null,"",{"$f":"IF(H151=\"\",\"\",INDEX(referentes!AU:AV,MATCH(H151,referentes!$AV:$AV,0),1))","v":""},null,{"$f":"IF(J151=\"\",\"\",INDEX('Otras referencias'!$V:$W,MATCH(J151,'Otras referencias'!$W:$W,0),1))","v":""},null,null,null,null,null,null,null,null,null,146,null,null,null,null,null,null,null,null,null,null,null,null,null,null,null,null,null,null,null,null,null,null,null,null,null,null,0,null,null,null,0,null,null,null,null,null,null,null,null,null,null,null,null,null,null,null,null,null,null,"",{"$f":"IF(C151=\"\",\"\",IF(COUNTIF($C$6:C151, C151)>1, \"\", C151))","v":""},{"$f":"IF(K151=\"\",\"\",INDEX(referentes!P:Q,MATCH(K151,referentes!$Q:$Q,0),1))","v":""},{"$f":"IF(L151=\"\",\"\",INDEX(referentes!$A:$B,MATCH(L151,referentes!$B:$B,0),1))","v":""},{"$f":"IF(P151=\"\",\"\",INDEX(referentes!D:E,MATCH(P151,referentes!$E:$E,0),1))","v":""},{"$f":"IF(Q151=\"\",\"\",INDEX(referentes!G:H,MATCH(Q151,referentes!$H:$H,0),1))","v":""},"",{"$f":"IF(V151=\"\",\"\",INDEX(referentes!S:T,MATCH(V151,referentes!$T:$T,0),1))","v":""},{"$f":"IF(BL151=\"\",\"\",INDEX(referentes!J:K,MATCH(BL151,referentes!$K:$K,0),1))","v":""},{"$f":"IF(BD151=\"\",\"\",INDEX(referentes!V:W,MATCH(BD151,referentes!$W:$W,0),1))","v":""},{"$f":"IF(BE151=\"\",\"\",INDEX(referentes!Y:Z,MATCH(BE151,referentes!$Z:$Z,0),1))","v":""},{"$f":"IF(BF151=\"\",\"\",INDEX(referentes!AB:AC,MATCH(BF151,referentes!$AC:$AC,0),1))","v":""},{"$f":"IF(BG151=\"\",\"\",INDEX(referentes!AE:AF,MATCH(BG151,referentes!$AF:$AF,0),1))","v":""},{"$f":"IF(AY151=\"\",\"\",INDEX(referentes!M:N,MATCH(AY151,referentes!$N:$N,0),1))","v":""},{"$f":"IF(BN151=\"\",\"\",INDEX('Otras referencias'!S:T,MATCH(BN151,'Otras referencias'!$T:$T,0),1))","v":""},{"$f":"IF(BH151=\"\",\"\",INDEX('Otras referencias'!A:B,MATCH(BH151,'Otras referencias'!$B:$B,0),1))","v":""}]
[null,0,"",null,null,"",{"$f":"IF(H152=\"\",\"\",INDEX(referentes!AU:AV,MATCH(H152,referentes!$AV:$AV,0),1))","v":""},null,{"$f":"IF(J152=\"\",\"\",INDEX('Otras referencias'!$V:$W,MATCH(J152,'Otras referencias'!$W:$W,0),1))","v":""},null,null,null,null,null,null,null,null,null,147,null,null,null,null,null,null,null,null,null,null,null,null,null,null,null,null,null,null,null,null,null,null,null,null,null,null,0,null,null,null,0,null,null,null,null,null,null,null,null,null,null,null,null,null,null,null,null,null,null,"",{"$f":"IF(C152=\"\",\"\",IF(COUNTIF($C$6:C152, C152)>1, \"\", C152))","v":""},{"$f":"IF(K152=\"\",\"\",INDEX(referentes!P:Q,MATCH(K152,referentes!$Q:$Q,0),1))","v":""},{"$f":"IF(L152=\"\",\"\",INDEX(referentes!$A:$B,MATCH(L152,referentes!$B:$B,0),1))","v":""},{"$f":"IF(P152=\"\",\"\",INDEX(referentes!D:E,MATCH(P152,referentes!$E:$E,0),1))","v":""},{"$f":"IF(Q152=\"\",\"\",INDEX(referentes!G:H,MATCH(Q152,referentes!$H:$H,0),1))","v":""},"",{"$f":"IF(V152=\"\",\"\",INDEX(referentes!S:T,MATCH(V152,referentes!$T:$T,0),1))","v":""},{"$f":"IF(BL152=\"\",\"\",INDEX(referentes!J:K,MATCH(BL152,referentes!$K:$K,0),1))","v":""},{"$f":"IF(BD152=\"\",\"\",INDEX(referentes!V:W,MATCH(BD152,referentes!$W:$W,0),1))","v":""},{"$f":"IF(BE152=\"\",\"\",INDEX(referentes!Y:Z,MATCH(BE152,referentes!$Z:$Z,0),1))","v":""},{"$f":"IF(BF152=\"\",\"\",INDEX(referentes!AB:AC,MATCH(BF152,referentes!$AC:$AC,0),1))","v":""},{"$f":"IF(BG152=\"\",\"\",INDEX(referentes!AE:AF,MATCH(BG152,referentes!$AF:$AF,0),1))","v":""},{"$f":"IF(AY152=\"\",\"\",INDEX(referentes!M:N,MATCH(AY152,referentes!$N:$N,0),1))","v":""},{"$f":"IF(BN152=\"\",\"\",INDEX('Otras referencias'!S:T,MATCH(BN152,'Otras referencias'!$T:$T,0),1))","v":""},{"$f":"IF(BH152=\"\",\"\",INDEX('Otras referencias'!A:B,MATCH(BH152,'Otras referencias'!$B:$B,0),1))","v":""}]
[null,0,"",null,null,"",{"$f":"IF(H153=\"\",\"\",INDEX(referentes!AU:AV,MATCH(H153,referentes!$AV:$AV,0),1))","v":""},null,{"$f":"IF(J153=\"\",\"\",INDEX('Otras referencias'!$V:$W,MATCH(J153,'Otras referencias'!$W:$W,0),1))","v":""},null,null,null,null,null,null,null,null,null,148,null,null,null,null,null,null,null,null,null,null,null,null,null,null,null,null,null,null,null,null,null,null,null,null,null,null,0,null,null,null,0,null,null,null,null,null,null,null,null,null,null,null,null,null,null,null,null,null,null,"",{"$f":"IF(C153=\"\",\"\",IF(COUNTIF($C$6:C153, C153)>1, \"\", C153))","v":""},{"$f":"IF(K153=\"\",\"\",INDEX(referentes!P:Q,MATCH(K153,referentes!$Q:$Q,0),1))","v":""},{"$f":"IF(L153=\"\",\"\",INDEX(referentes!$A:$B,MATCH(L153,referentes!$B:$B,0),1))","v":""},{"$f":"IF(P153=\"\",\"\",INDEX(referentes!D:E,MATCH(P153,referentes!$E:$E,0),1))","v":""},{"$f":"IF(Q153=\"\",\"\",INDEX(referentes!G:H,MATCH(Q153,referentes!$H:$H,0),1))","v":""},"",{"$f":"IF(V153=\"\",\"\",INDEX(referentes!S:T,MATCH(V153,referentes!$T:$T,0),1))","v":""},{"$f":"IF(BL153=\"\",\"\",INDEX(referentes!J:K,MATCH(BL153,referentes!$K:$K,0),1))","v":""},{"$f":"IF(BD153=\"\",\"\",INDEX(referentes!V:W,MATCH(BD153,referentes!$W:$W,0),1))","v":""},{"$f":"IF(BE153=\"\",\"\",INDEX(referentes!Y:Z,MATCH(BE153,referentes!$Z:$Z,0),1))","v":""},{"$f":"IF(BF153=\"\",\"\",INDEX(referentes!AB:AC,MATCH(BF153,referentes!$AC:$AC,0),1))","v":""},{"$f":"IF(BG153=\"\",\"\",INDEX(referentes!AE:AF,MATCH(BG153,referentes!$AF:$AF,0),1))","v":""},{"$f":"IF(AY153=\"\",\"\",INDEX(referentes!M:N,MATCH(AY153,referentes!$N:$N,0),1))","v":""},{"$f":"IF(BN153=\"\",\"\",INDEX('Otras referencias'!S:T,MATCH(BN153,'Otras referencias'!$T:$T,0),1))","v":""},{"$f":"IF(BH153=\"\",\"\",INDEX('Otras referencias'!A:B,MATCH(BH153,'Otras referencias'!$B:$B,0),1))","v":""}]
[null,0,"",null,null,"",{"$f":"IF(H154=\"\",\"\",INDEX(referentes!AU:AV,MATCH(H154,referentes!$AV:$AV,0),1))","v":""},null,{"$f":"IF(J154=\"\",\"\",INDEX('Otras referencias'!$V:$W,MATCH(J154,'Otras referencias'!$W:$W,0),1))","v":""},null,null,null,null,null,null,null,null,null,149,null,null,null,null,null,null,null,null,null,null,null,null,null,null,null,null,null,null,null,null,null,null,null,null,null,null,0,null,null,null,0,null,null,null,null,null,null,null,null,null,null,null,null,null,null,null,null,null,null,"",{"$f":"IF(C154=\"\",\"\",IF(COUNTIF($C$6:C154, C154)>1, \"\", C154))","v":""},{"$f":"IF(K154=\"\",\"\",INDEX(referentes!P:Q,MATCH(K154,referentes!$Q:$Q,0),1))","v":""},{"$f":"IF(L154=\"\",\"\",INDEX(referentes!$A:$B,MATCH(L154,referentes!$B:$B,0),1))","v":""},{"$f":"IF(P154=\"\",\"\",INDEX(referentes!D:E,MATCH(P154,referentes!$E:$E,0),1))","v":""},{"$f":"IF(Q154=\"\",\"\",INDEX(referentes!G:H,MATCH(Q154,referentes!$H:$H,0),1))","v":""},"",{"$f":"IF(V154=\"\",\"\",INDEX(referentes!S:T,MATCH(V154,referentes!$T:$T,0),1))","v":""},{"$f":"IF(BL154=\"\",\"\",INDEX(referentes!J:K,MATCH(BL154,referentes!$K:$K,0),1))","v":""},{"$f":"IF(BD154=\"\",\"\",INDEX(referentes!V:W,MATCH(BD154,referentes!$W:$W,0),1))","v":""},{"$f":"IF(BE154=\"\",\"\",INDEX(referentes!Y:Z,MATCH(BE154,referentes!$Z:$Z,0),1))","v":""},{"$f":"IF(BF154=\"\",\"\",INDEX(referentes!AB:AC,MATCH(BF154,referentes!$AC:$AC,0),1))","v":""},{"$f":"IF(BG154=\"\",\"\",INDEX(referentes!AE:AF,MATCH(BG154,referentes!$AF:$AF,0),1))","v":""},{"$f":"IF(AY154=\"\",\"\",INDEX(referentes!M:N,MATCH(AY154,referentes!$N:$N,0),1))","v":""},{"$f":"IF(BN154=\"\",\"\",INDEX('Otras referencias'!S:T,MATCH(BN154,'Otras referencias'!$T:$T,0),1))","v":""},{"$f":"IF(BH154=\"\",\"\",INDEX('Otras referencias'!A:B,MATCH(BH154,'Otras referencias'!$B:$B,0),1))","v":""}]
[null,0,"",null,null,"",{"$f":"IF(H155=\"\",\"\",INDEX(referentes!AU:AV,MATCH(H155,referentes!$AV:$AV,0),1))","v":""},null,{"$f":"IF(J155=\"\",\"\",INDEX('Otras referencias'!$V:$W,MATCH(J155,'Otras referencias'!$W:$W,0),1))","v":""},null,null,null,null,null,null,null,null,null,150,null,null,null,null,null,null,null,null,null,null,null,null,null,null,null,null,null,null,null,null,null,null,null,null,null,null,0,null,null,null,0,null,null,null,null,null,null,null,null,null,null,null,null,null,null,null,null,null,null,"",{"$f":"IF(C155=\"\",\"\",IF(COUNTIF($C$6:C155, C155)>1, \"\", C155))","v":""},{"$f":"IF(K155=\"\",\"\",INDEX(referentes!P:Q,MATCH(K155,referentes!$Q:$Q,0),1))","v":""},{"$f":"IF(L155=\"\",\"\",INDEX(referentes!$A:$B,MATCH(L155,referentes!$B:$B,0),1))","v":""},{"$f":"IF(P155=\"\",\"\",INDEX(referentes!D:E,MATCH(P155,referentes!$E:$E,0),1))","v":""},{"$f":"IF(Q155=\"\",\"\",INDEX(referentes!G:H,MATCH(Q155,referentes!$H:$H,0),1))","v":""},"",{"$f":"IF(V155=\"\",\"\",INDEX(referentes!S:T,MATCH(V155,referentes!$T:$T,0),1))","v":""},{"$f":"IF(BL155=\"\",\"\",INDEX(referentes!J:K,MATCH(BL155,referentes!$K:$K,0),1))","v":""},{"$f":"IF(BD155=\"\",\"\",INDEX(referentes!V:W,MATCH(BD155,referentes!$W:$W,0),1))","v":""},{"$f":"IF(BE155=\"\",\"\",INDEX(referentes!Y:Z,MATCH(BE155,referentes!$Z:$Z,0),1))","v":""},{"$f":"IF(BF155=\"\",\"\",INDEX(referentes!AB:AC,MATCH(BF155,referentes!$AC:$AC,0),1))","v":""},{"$f":"IF(BG155=\"\",\"\",INDEX(referentes!AE:AF,MATCH(BG155,referentes!$AF:$AF,0),1))","v":""},{"$f":"IF(AY155=\"\",\"\",INDEX(referentes!M:N,MATCH(AY155,referentes!$N:$N,0),1))","v":""},{"$f":"IF(BN155=\"\",\"\",INDEX('Otras referencias'!S:T,MATCH(BN155,'Otras referencias'!$T:$T,0),1))","v":""},{"$f":"IF(BH155=\"\",\"\",INDEX('Otras referencias'!A:B,MATCH(BH155,'Otras referencias'!$B:$B,0),1))","v":""}]
[null,0,"",null,null,"",{"$f":"IF(H156=\"\",\"\",INDEX(referentes!AU:AV,MATCH(H156,referentes!$AV:$AV,0),1))","v":""},null,{"$f":"IF(J156=\"\",\"\",INDEX('Otras referencias'!$V:$W,MATCH(J156,'Otras referencias'!$W:$W,0),1))","v":""},null,null,null,null,null,null,null,null,null,151,null,null,null,null,null,null,null,null,null,null,null,null,null,null,null,null,null,null,null,null,null,null,null,null,null,null,0,null,null,null,0,null,null,null,null,null,null,null,null,null,null,null,null,null,null,null,null,null,null,"",{"$f":"IF(C156=\"\",\"\",IF(COUNTIF($C$6:C156, C156)>1, \"\", C156))","v":""},{"$f":"IF(K156=\"\",\"\",INDEX(referentes!P:Q,MATCH(K156,referentes!$Q:$Q,0),1))","v":""},{"$f":"IF(L156=\"\",\"\",INDEX(referentes!$A:$B,MATCH(L156,referentes!$B:$B,0),1))","v":""},{"$f":"IF(P156=\"\",\"\",INDEX(referentes!D:E,MATCH(P156,referentes!$E:$E,0),1))","v":""},{"$f":"IF(Q156=\"\",\"\",INDEX(referentes!G:H,MATCH(Q156,referentes!$H:$H,0),1))","v":""},"",{"$f":"IF(V156=\"\",\"\",INDEX(referentes!S:T,MATCH(V156,referentes!$T:$T,0),1))","v":""},{"$f":"IF(BL156=\"\",\"\",INDEX(referentes!J:K,MATCH(BL156,referentes!$K:$K,0),1))","v":""},{"$f":"IF(BD156=\"\",\"\",INDEX(referentes!V:W,MATCH(BD156,referentes!$W:$W,0),1))","v":""},{"$f":"IF(BE156=\"\",\"\",INDEX(referentes!Y:Z,MATCH(BE156,referentes!$Z:$Z,0),1))","v":""},{"$f":"IF(BF156=\"\",\"\",INDEX(referentes!AB:AC,MATCH(BF156,referentes!$AC:$AC,0),1))","v":""},{"$f":"IF(BG156=\"\",\"\",INDEX(referentes!AE:AF,MATCH(BG156,referentes!$AF:$AF,0),1))","v":""},{"$f":"IF(AY156=\"\",\"\",INDEX(referentes!M:N,MATCH(AY156,referentes!$N:$N,0),1))","v":""},{"$f":"IF(BN156=\"\",\"\",INDEX('Otras referencias'!S:T,MATCH(BN156,'Otras referencias'!$T:$T,0),1))","v":""},{"$f":"IF(BH156=\"\",\"\",INDEX('Otras referencias'!A:B,MATCH(BH156,'Otras referencias'!$B:$B,0),1))","v":""}]
[null,0,"",null,null,"",{"$f":"IF(H157=\"\",\"\",INDEX(referentes!AU:AV,MATCH(H157,referentes!$AV:$AV,0),1))","v":""},null,{"$f":"IF(J157=\"\",\"\",INDEX('Otras referencias'!$V:$W,MATCH(J157,'Otras referencias'!$W:$W,0),1))","v":""},null,null,null,null,null,null,null,null,null,152,null,null,null,null,null,null,null,null,null,null,null,null,null,null,null,null,null,null,null,null,null,null,null,null,null,null,0,null,null,null,0,null,null,null,null,null,null,null,null,null,null,null,null,null,null,null,null,null,null,"",{"$f":"IF(C157=\"\",\"\",IF(COUNTIF($C$6:C157, C157)>1, \"\", C157))","v":""},{"$f":"IF(K157=\"\",\"\",INDEX(referentes!P:Q,MATCH(K157,referentes!$Q:$Q,0),1))","v":""},{"$f":"IF(L157=\"\",\"\",INDEX(referentes!$A:$B,MATCH(L157,referentes!$B:$B,0),1))","v":""},{"$f":"IF(P157=\"\",\"\",INDEX(referentes!D:E,MATCH(P157,referentes!$E:$E,0),1))","v":""},{"$f":"IF(Q157=\"\",\"\",INDEX(referentes!G:H,MATCH(Q157,referentes!$H:$H,0),1))","v":""},"",{"$f":"IF(V157=\"\",\"\",INDEX(referentes!S:T,MATCH(V157,referentes!$T:$T,0),1))","v":""},{"$f":"IF(BL157=\"\",\"\",INDEX(referentes!J:K,MATCH(BL157,referentes!$K:$K,0),1))","v":""},{"$f":"IF(BD157=\"\",\"\",INDEX(referentes!V:W,MATCH(BD157,referentes!$W:$W,0),1))","v":""},{"$f":"IF(BE157=\"\",\"\",INDEX(referentes!Y:Z,MATCH(BE157,referentes!$Z:$Z,0),1))","v":""},{"$f":"IF(BF157=\"\",\"\",INDEX(referentes!AB:AC,MATCH(BF157,referentes!$AC:$AC,0),1))","v":""},{"$f":"IF(BG157=\"\",\"\",INDEX(referentes!AE:AF,MATCH(BG157,referentes!$AF:$AF,0),1))","v":""},{"$f":"IF(AY157=\"\",\"\",INDEX(referentes!M:N,MATCH(AY157,referentes!$N:$N,0),1))","v":""},{"$f":"IF(BN157=\"\",\"\",INDEX('Otras referencias'!S:T,MATCH(BN157,'Otras referencias'!$T:$T,0),1))","v":""},{"$f":"IF(BH157=\"\",\"\",INDEX('Otras referencias'!A:B,MATCH(BH157,'Otras referencias'!$B:$B,0),1))","v":""}]
[null,0,"",null,null,"",{"$f":"IF(H158=\"\",\"\",INDEX(referentes!AU:AV,MATCH(H158,referentes!$AV:$AV,0),1))","v":""},null,{"$f":"IF(J158=\"\",\"\",INDEX('Otras referencias'!$V:$W,MATCH(J158,'Otras referencias'!$W:$W,0),1))","v":""},null,null,null,null,null,null,null,null,null,153,null,null,null,null,null,null,null,null,null,null,null,null,null,null,null,null,null,null,null,null,null,null,null,null,null,null,0,null,null,null,0,null,null,null,null,null,null,null,null,null,null,null,null,null,null,null,null,null,null,"",{"$f":"IF(C158=\"\",\"\",IF(COUNTIF($C$6:C158, C158)>1, \"\", C158))","v":""},{"$f":"IF(K158=\"\",\"\",INDEX(referentes!P:Q,MATCH(K158,referentes!$Q:$Q,0),1))","v":""},{"$f":"IF(L158=\"\",\"\",INDEX(referentes!$A:$B,MATCH(L158,referentes!$B:$B,0),1))","v":""},{"$f":"IF(P158=\"\",\"\",INDEX(referentes!D:E,MATCH(P158,referentes!$E:$E,0),1))","v":""},{"$f":"IF(Q158=\"\",\"\",INDEX(referentes!G:H,MATCH(Q158,referentes!$H:$H,0),1))","v":""},"",{"$f":"IF(V158=\"\",\"\",INDEX(referentes!S:T,MATCH(V158,referentes!$T:$T,0),1))","v":""},{"$f":"IF(BL158=\"\",\"\",INDEX(referentes!J:K,MATCH(BL158,referentes!$K:$K,0),1))","v":""},{"$f":"IF(BD158=\"\",\"\",INDEX(referentes!V:W,MATCH(BD158,referentes!$W:$W,0),1))","v":""},{"$f":"IF(BE158=\"\",\"\",INDEX(referentes!Y:Z,MATCH(BE158,referentes!$Z:$Z,0),1))","v":""},{"$f":"IF(BF158=\"\",\"\",INDEX(referentes!AB:AC,MATCH(BF158,referentes!$AC:$AC,0),1))","v":""},{"$f":"IF(BG158=\"\",\"\",INDEX(referentes!AE:AF,MATCH(BG158,referentes!$AF:$AF,0),1))","v":""},{"$f":"IF(AY158=\"\",\"\",INDEX(referentes!M:N,MATCH(AY158,referentes!$N:$N,0),1))","v":""},{"$f":"IF(BN158=\"\",\"\",INDEX('Otras referencias'!S:T,MATCH(BN158,'Otras referencias'!$T:$T,0),1))","v":""},{"$f":"IF(BH158=\"\",\"\",INDEX('Otras referencias'!A:B,MATCH(BH158,'Otras referencias'!$B:$B,0),1))","v":""}]
[null,0,"",null,null,"",{"$f":"IF(H159=\"\",\"\",INDEX(referentes!AU:AV,MATCH(H159,referentes!$AV:$AV,0),1))","v":""},null,{"$f":"IF(J159=\"\",\"\",INDEX('Otras referencias'!$V:$W,MATCH(J159,'Otras referencias'!$W:$W,0),1))","v":""},null,null,null,null,null,null,null,null,null,154,null,null,null,null,null,null,null,null,null,null,null,null,null,null,null,null,null,null,null,null,null,null,null,null,null,null,0,null,null,null,0,null,null,null,null,null,null,null,null,null,null,null,null,null,null,null,null,null,null,"",{"$f":"IF(C159=\"\",\"\",IF(COUNTIF($C$6:C159, C159)>1, \"\", C159))","v":""},{"$f":"IF(K159=\"\",\"\",INDEX(referentes!P:Q,MATCH(K159,referentes!$Q:$Q,0),1))","v":""},{"$f":"IF(L159=\"\",\"\",INDEX(referentes!$A:$B,MATCH(L159,referentes!$B:$B,0),1))","v":""},{"$f":"IF(P159=\"\",\"\",INDEX(referentes!D:E,MATCH(P159,referentes!$E:$E,0),1))","v":""},{"$f":"IF(Q159=\"\",\"\",INDEX(referentes!G:H,MATCH(Q159,referentes!$H:$H,0),1))","v":""},"",{"$f":"IF(V159=\"\",\"\",INDEX(referentes!S:T,MATCH(V159,referentes!$T:$T,0),1))","v":""},{"$f":"IF(BL159=\"\",\"\",INDEX(referentes!J:K,MATCH(BL159,referentes!$K:$K,0),1))","v":""},{"$f":"IF(BD159=\"\",\"\",INDEX(referentes!V:W,MATCH(BD159,referentes!$W:$W,0),1))","v":""},{"$f":"IF(BE159=\"\",\"\",INDEX(referentes!Y:Z,MATCH(BE159,referentes!$Z:$Z,0),1))","v":""},{"$f":"IF(BF159=\"\",\"\",INDEX(referentes!AB:AC,MATCH(BF159,referentes!$AC:$AC,0),1))","v":""},{"$f":"IF(BG159=\"\",\"\",INDEX(referentes!AE:AF,MATCH(BG159,referentes!$AF:$AF,0),1))","v":""},{"$f":"IF(AY159=\"\",\"\",INDEX(referentes!M:N,MATCH(AY159,referentes!$N:$N,0),1))","v":""},{"$f":"IF(BN159=\"\",\"\",INDEX('Otras referencias'!S:T,MATCH(BN159,'Otras referencias'!$T:$T,0),1))","v":""},{"$f":"IF(BH159=\"\",\"\",INDEX('Otras referencias'!A:B,MATCH(BH159,'Otras referencias'!$B:$B,0),1))","v":""}]
[null,0,"",null,null,"",{"$f":"IF(H160=\"\",\"\",INDEX(referentes!AU:AV,MATCH(H160,referentes!$AV:$AV,0),1))","v":""},null,{"$f":"IF(J160=\"\",\"\",INDEX('Otras referencias'!$V:$W,MATCH(J160,'Otras referencias'!$W:$W,0),1))","v":""},null,null,null,null,null,null,null,null,null,155,null,null,null,null,null,null,null,null,null,null,null,null,null,null,null,null,null,null,null,null,null,null,null,null,null,null,0,null,null,null,0,null,null,null,null,null,null,null,null,null,null,null,null,null,null,null,null,null,null,"",{"$f":"IF(C160=\"\",\"\",IF(COUNTIF($C$6:C160, C160)>1, \"\", C160))","v":""},{"$f":"IF(K160=\"\",\"\",INDEX(referentes!P:Q,MATCH(K160,referentes!$Q:$Q,0),1))","v":""},{"$f":"IF(L160=\"\",\"\",INDEX(referentes!$A:$B,MATCH(L160,referentes!$B:$B,0),1))","v":""},{"$f":"IF(P160=\"\",\"\",INDEX(referentes!D:E,MATCH(P160,referentes!$E:$E,0),1))","v":""},{"$f":"IF(Q160=\"\",\"\",INDEX(referentes!G:H,MATCH(Q160,referentes!$H:$H,0),1))","v":""},"",{"$f":"IF(V160=\"\",\"\",INDEX(referentes!S:T,MATCH(V160,referentes!$T:$T,0),1))","v":""},{"$f":"IF(BL160=\"\",\"\",INDEX(referentes!J:K,MATCH(BL160,referentes!$K:$K,0),1))","v":""},{"$f":"IF(BD160=\"\",\"\",INDEX(referentes!V:W,MATCH(BD160,referentes!$W:$W,0),1))","v":""},{"$f":"IF(BE160=\"\",\"\",INDEX(referentes!Y:Z,MATCH(BE160,referentes!$Z:$Z,0),1))","v":""},{"$f":"IF(BF160=\"\",\"\",INDEX(referentes!AB:AC,MATCH(BF160,referentes!$AC:$AC,0),1))","v":""},{"$f":"IF(BG160=\"\",\"\",INDEX(referentes!AE:AF,MATCH(BG160,referentes!$AF:$AF,0),1))","v":""},{"$f":"IF(AY160=\"\",\"\",INDEX(referentes!M:N,MATCH(AY160,referentes!$N:$N,0),1))","v":""},{"$f":"IF(BN160=\"\",\"\",INDEX('Otras referencias'!S:T,MATCH(BN160,'Otras referencias'!$T:$T,0),1))","v":""},{"$f":"IF(BH160=\"\",\"\",INDEX('Otras referencias'!A:B,MATCH(BH160,'Otras referencias'!$B:$B,0),1))","v":""}]
[null,0,"",null,null,"",{"$f":"IF(H161=\"\",\"\",INDEX(referentes!AU:AV,MATCH(H161,referentes!$AV:$AV,0),1))","v":""},null,{"$f":"IF(J161=\"\",\"\",INDEX('Otras referencias'!$V:$W,MATCH(J161,'Otras referencias'!$W:$W,0),1))","v":""},null,null,null,null,null,null,null,null,null,156,null,null,null,null,null,null,null,null,null,null,null,null,null,null,null,null,null,null,null,null,null,null,null,null,null,null,0,null,null,null,0,null,null,null,null,null,null,null,null,null,null,null,null,null,null,null,null,null,null,"",{"$f":"IF(C161=\"\",\"\",IF(COUNTIF($C$6:C161, C161)>1, \"\", C161))","v":""},{"$f":"IF(K161=\"\",\"\",INDEX(referentes!P:Q,MATCH(K161,referentes!$Q:$Q,0),1))","v":""},{"$f":"IF(L161=\"\",\"\",INDEX(referentes!$A:$B,MATCH(L161,referentes!$B:$B,0),1))","v":""},{"$f":"IF(P161=\"\",\"\",INDEX(referentes!D:E,MATCH(P161,referentes!$E:$E,0),1))","v":""},{"$f":"IF(Q161=\"\",\"\",INDEX(referentes!G:H,MATCH(Q161,referentes!$H:$H,0),1))","v":""},"",{"$f":"IF(V161=\"\",\"\",INDEX(referentes!S:T,MATCH(V161,referentes!$T:$T,0),1))","v":""},{"$f":"IF(BL161=\"\",\"\",INDEX(referentes!J:K,MATCH(BL161,referentes!$K:$K,0),1))","v":""},{"$f":"IF(BD161=\"\",\"\",INDEX(referentes!V:W,MATCH(BD161,referentes!$W:$W,0),1))","v":""},{"$f":"IF(BE161=\"\",\"\",INDEX(referentes!Y:Z,MATCH(BE161,referentes!$Z:$Z,0),1))","v":""},{"$f":"IF(BF161=\"\",\"\",INDEX(referentes!AB:AC,MATCH(BF161,referentes!$AC:$AC,0),1))","v":""},{"$f":"IF(BG161=\"\",\"\",INDEX(referentes!AE:AF,MATCH(BG161,referentes!$AF:$AF,0),1))","v":""},{"$f":"IF(AY161=\"\",\"\",INDEX(referentes!M:N,MATCH(AY161,referentes!$N:$N,0),1))","v":""},{"$f":"IF(BN161=\"\",\"\",INDEX('Otras referencias'!S:T,MATCH(BN161,'Otras referencias'!$T:$T,0),1))","v":""},{"$f":"IF(BH161=\"\",\"\",INDEX('Otras referencias'!A:B,MATCH(BH161,'Otras referencias'!$B:$B,0),1))","v":""}]
[null,0,"",null,null,"",{"$f":"IF(H162=\"\",\"\",INDEX(referentes!AU:AV,MATCH(H162,referentes!$AV:$AV,0),1))","v":""},null,{"$f":"IF(J162=\"\",\"\",INDEX('Otras referencias'!$V:$W,MATCH(J162,'Otras referencias'!$W:$W,0),1))","v":""},null,null,null,null,null,null,null,null,null,157,null,null,null,null,null,null,null,null,null,null,null,null,null,null,null,null,null,null,null,null,null,null,null,null,null,null,0,null,null,null,0,null,null,null,null,null,null,null,null,null,null,null,null,null,null,null,null,null,null,"",{"$f":"IF(C162=\"\",\"\",IF(COUNTIF($C$6:C162, C162)>1, \"\", C162))","v":""},{"$f":"IF(K162=\"\",\"\",INDEX(referentes!P:Q,MATCH(K162,referentes!$Q:$Q,0),1))","v":""},{"$f":"IF(L162=\"\",\"\",INDEX(referentes!$A:$B,MATCH(L162,referentes!$B:$B,0),1))","v":""},{"$f":"IF(P162=\"\",\"\",INDEX(referentes!D:E,MATCH(P162,referentes!$E:$E,0),1))","v":""},{"$f":"IF(Q162=\"\",\"\",INDEX(referentes!G:H,MATCH(Q162,referentes!$H:$H,0),1))","v":""},"",{"$f":"IF(V162=\"\",\"\",INDEX(referentes!S:T,MATCH(V162,referentes!$T:$T,0),1))","v":""},{"$f":"IF(BL162=\"\",\"\",INDEX(referentes!J:K,MATCH(BL162,referentes!$K:$K,0),1))","v":""},{"$f":"IF(BD162=\"\",\"\",INDEX(referentes!V:W,MATCH(BD162,referentes!$W:$W,0),1))","v":""},{"$f":"IF(BE162=\"\",\"\",INDEX(referentes!Y:Z,MATCH(BE162,referentes!$Z:$Z,0),1))","v":""},{"$f":"IF(BF162=\"\",\"\",INDEX(referentes!AB:AC,MATCH(BF162,referentes!$AC:$AC,0),1))","v":""},{"$f":"IF(BG162=\"\",\"\",INDEX(referentes!AE:AF,MATCH(BG162,referentes!$AF:$AF,0),1))","v":""},{"$f":"IF(AY162=\"\",\"\",INDEX(referentes!M:N,MATCH(AY162,referentes!$N:$N,0),1))","v":""},{"$f":"IF(BN162=\"\",\"\",INDEX('Otras referencias'!S:T,MATCH(BN162,'Otras referencias'!$T:$T,0),1))","v":""},{"$f":"IF(BH162=\"\",\"\",INDEX('Otras referencias'!A:B,MATCH(BH162,'Otras referencias'!$B:$B,0),1))","v":""}]
[null,0,"",null,null,"",{"$f":"IF(H163=\"\",\"\",INDEX(referentes!AU:AV,MATCH(H163,referentes!$AV:$AV,0),1))","v":""},null,{"$f":"IF(J163=\"\",\"\",INDEX('Otras referencias'!$V:$W,MATCH(J163,'Otras referencias'!$W:$W,0),1))","v":""},null,null,null,null,null,null,null,null,null,158,null,null,null,null,null,null,null,null,null,null,null,null,null,null,null,null,null,null,null,null,null,null,null,null,null,null,0,null,null,null,0,null,null,null,null,null,null,null,null,null,null,null,null,null,null,null,null,null,null,"",{"$f":"IF(C163=\"\",\"\",IF(COUNTIF($C$6:C163, C163)>1, \"\", C163))","v":""},{"$f":"IF(K163=\"\",\"\",INDEX(referentes!P:Q,MATCH(K163,referentes!$Q:$Q,0),1))","v":""},{"$f":"IF(L163=\"\",\"\",INDEX(referentes!$A:$B,MATCH(L163,referentes!$B:$B,0),1))","v":""},{"$f":"IF(P163=\"\",\"\",INDEX(referentes!D:E,MATCH(P163,referentes!$E:$E,0),1))","v":""},{"$f":"IF(Q163=\"\",\"\",INDEX(referentes!G:H,MATCH(Q163,referentes!$H:$H,0),1))","v":""},"",{"$f":"IF(V163=\"\",\"\",INDEX(referentes!S:T,MATCH(V163,referentes!$T:$T,0),1))","v":""},{"$f":"IF(BL163=\"\",\"\",INDEX(referentes!J:K,MATCH(BL163,referentes!$K:$K,0),1))","v":""},{"$f":"IF(BD163=\"\",\"\",INDEX(referentes!V:W,MATCH(BD163,referentes!$W:$W,0),1))","v":""},{"$f":"IF(BE163=\"\",\"\",INDEX(referentes!Y:Z,MATCH(BE163,referentes!$Z:$Z,0),1))","v":""},{"$f":"IF(BF163=\"\",\"\",INDEX(referentes!AB:AC,MATCH(BF163,referentes!$AC:$AC,0),1))","v":""},{"$f":"IF(BG163=\"\",\"\",INDEX(referentes!AE:AF,MATCH(BG163,referentes!$AF:$AF,0),1))","v":""},{"$f":"IF(AY163=\"\",\"\",INDEX(referentes!M:N,MATCH(AY163,referentes!$N:$N,0),1))","v":""},{"$f":"IF(BN163=\"\",\"\",INDEX('Otras referencias'!S:T,MATCH(BN163,'Otras referencias'!$T:$T,0),1))","v":""},{"$f":"IF(BH163=\"\",\"\",INDEX('Otras referencias'!A:B,MATCH(BH163,'Otras referencias'!$B:$B,0),1))","v":""}]
[null,0,"",null,null,"",{"$f":"IF(H164=\"\",\"\",INDEX(referentes!AU:AV,MATCH(H164,referentes!$AV:$AV,0),1))","v":""},null,{"$f":"IF(J164=\"\",\"\",INDEX('Otras referencias'!$V:$W,MATCH(J164,'Otras referencias'!$W:$W,0),1))","v":""},null,null,null,null,null,null,null,null,null,159,null,null,null,null,null,null,null,null,null,null,null,null,null,null,null,null,null,null,null,null,null,null,null,null,null,null,0,null,null,null,0,null,null,null,null,null,null,null,null,null,null,null,null,null,null,null,null,null,null,"",{"$f":"IF(C164=\"\",\"\",IF(COUNTIF($C$6:C164, C164)>1, \"\", C164))","v":""},{"$f":"IF(K164=\"\",\"\",INDEX(referentes!P:Q,MATCH(K164,referentes!$Q:$Q,0),1))","v":""},{"$f":"IF(L164=\"\",\"\",INDEX(referentes!$A:$B,MATCH(L164,referentes!$B:$B,0),1))","v":""},{"$f":"IF(P164=\"\",\"\",INDEX(referentes!D:E,MATCH(P164,referentes!$E:$E,0),1))","v":""},{"$f":"IF(Q164=\"\",\"\",INDEX(referentes!G:H,MATCH(Q164,referentes!$H:$H,0),1))","v":""},"",{"$f":"IF(V164=\"\",\"\",INDEX(referentes!S:T,MATCH(V164,referentes!$T:$T,0),1))","v":""},{"$f":"IF(BL164=\"\",\"\",INDEX(referentes!J:K,MATCH(BL164,referentes!$K:$K,0),1))","v":""},{"$f":"IF(BD164=\"\",\"\",INDEX(referentes!V:W,MATCH(BD164,referentes!$W:$W,0),1))","v":""},{"$f":"IF(BE164=\"\",\"\",INDEX(referentes!Y:Z,MATCH(BE164,referentes!$Z:$Z,0),1))","v":""},{"$f":"IF(BF164=\"\",\"\",INDEX(referentes!AB:AC,MATCH(BF164,referentes!$AC:$AC,0),1))","v":""},{"$f":"IF(BG164=\"\",\"\",INDEX(referentes!AE:AF,MATCH(BG164,referentes!$AF:$AF,0),1))","v":""},{"$f":"IF(AY164=\"\",\"\",INDEX(referentes!M:N,MATCH(AY164,referentes!$N:$N,0),1))","v":""},{"$f":"IF(BN164=\"\",\"\",INDEX('Otras referencias'!S:T,MATCH(BN164,'Otras referencias'!$T:$T,0),1))","v":""},{"$f":"IF(BH164=\"\",\"\",INDEX('Otras referencias'!A:B,MATCH(BH164,'Otras referencias'!$B:$B,0),1))","v":""}]
[null,0,"",null,null,"",{"$f":"IF(H165=\"\",\"\",INDEX(referentes!AU:AV,MATCH(H165,referentes!$AV:$AV,0),1))","v":""},null,{"$f":"IF(J165=\"\",\"\",INDEX('Otras referencias'!$V:$W,MATCH(J165,'Otras referencias'!$W:$W,0),1))","v":""},null,null,null,null,null,null,null,null,null,160,null,null,null,null,null,null,null,null,null,null,null,null,null,null,null,null,null,null,null,null,null,null,null,null,null,null,0,null,null,null,0,null,null,null,null,null,null,null,null,null,null,null,null,null,null,null,null,null,null,"",{"$f":"IF(C165=\"\",\"\",IF(COUNTIF($C$6:C165, C165)>1, \"\", C165))","v":""},{"$f":"IF(K165=\"\",\"\",INDEX(referentes!P:Q,MATCH(K165,referentes!$Q:$Q,0),1))","v":""},{"$f":"IF(L165=\"\",\"\",INDEX(referentes!$A:$B,MATCH(L165,referentes!$B:$B,0),1))","v":""},{"$f":"IF(P165=\"\",\"\",INDEX(referentes!D:E,MATCH(P165,referentes!$E:$E,0),1))","v":""},{"$f":"IF(Q165=\"\",\"\",INDEX(referentes!G:H,MATCH(Q165,referentes!$H:$H,0),1))","v":""},"",{"$f":"IF(V165=\"\",\"\",INDEX(referentes!S:T,MATCH(V165,referentes!$T:$T,0),1))","v":""},{"$f":"IF(BL165=\"\",\"\",INDEX(referentes!J:K,MATCH(BL165,referentes!$K:$K,0),1))","v":""},{"$f":"IF(BD165=\"\",\"\",INDEX(referentes!V:W,MATCH(BD165,referentes!$W:$W,0),1))","v":""},{"$f":"IF(BE165=\"\",\"\",INDEX(referentes!Y:Z,MATCH(BE165,referentes!$Z:$Z,0),1))","v":""},{"$f":"IF(BF165=\"\",\"\",INDEX(referentes!AB:AC,MATCH(BF165,referentes!$AC:$AC,0),1))","v":""},{"$f":"IF(BG165=\"\",\"\",INDEX(referentes!AE:AF,MATCH(BG165,referentes!$AF:$AF,0),1))","v":""},{"$f":"IF(AY165=\"\",\"\",INDEX(referentes!M:N,MATCH(AY165,referentes!$N:$N,0),1))","v":""},{"$f":"IF(BN165=\"\",\"\",INDEX('Otras referencias'!S:T,MATCH(BN165,'Otras referencias'!$T:$T,0),1))","v":""},{"$f":"IF(BH165=\"\",\"\",INDEX('Otras referencias'!A:B,MATCH(BH165,'Otras referencias'!$B:$B,0),1))","v":""}]
[null,0,"",null,null,"",{"$f":"IF(H166=\"\",\"\",INDEX(referentes!AU:AV,MATCH(H166,referentes!$AV:$AV,0),1))","v":""},null,{"$f":"IF(J166=\"\",\"\",INDEX('Otras referencias'!$V:$W,MATCH(J166,'Otras referencias'!$W:$W,0),1))","v":""},null,null,null,null,null,null,null,null,null,161,null,null,null,null,null,null,null,null,null,null,null,null,null,null,null,null,null,null,null,null,null,null,null,null,null,null,0,null,null,null,0,null,null,null,null,null,null,null,null,null,null,null,null,null,null,null,null,null,null,"",{"$f":"IF(C166=\"\",\"\",IF(COUNTIF($C$6:C166, C166)>1, \"\", C166))","v":""},{"$f":"IF(K166=\"\",\"\",INDEX(referentes!P:Q,MATCH(K166,referentes!$Q:$Q,0),1))","v":""},{"$f":"IF(L166=\"\",\"\",INDEX(referentes!$A:$B,MATCH(L166,referentes!$B:$B,0),1))","v":""},{"$f":"IF(P166=\"\",\"\",INDEX(referentes!D:E,MATCH(P166,referentes!$E:$E,0),1))","v":""},{"$f":"IF(Q166=\"\",\"\",INDEX(referentes!G:H,MATCH(Q166,referentes!$H:$H,0),1))","v":""},"",{"$f":"IF(V166=\"\",\"\",INDEX(referentes!S:T,MATCH(V166,referentes!$T:$T,0),1))","v":""},{"$f":"IF(BL166=\"\",\"\",INDEX(referentes!J:K,MATCH(BL166,referentes!$K:$K,0),1))","v":""},{"$f":"IF(BD166=\"\",\"\",INDEX(referentes!V:W,MATCH(BD166,referentes!$W:$W,0),1))","v":""},{"$f":"IF(BE166=\"\",\"\",INDEX(referentes!Y:Z,MATCH(BE166,referentes!$Z:$Z,0),1))","v":""},{"$f":"IF(BF166=\"\",\"\",INDEX(referentes!AB:AC,MATCH(BF166,referentes!$AC:$AC,0),1))","v":""},{"$f":"IF(BG166=\"\",\"\",INDEX(referentes!AE:AF,MATCH(BG166,referentes!$AF:$AF,0),1))","v":""},{"$f":"IF(AY166=\"\",\"\",INDEX(referentes!M:N,MATCH(AY166,referentes!$N:$N,0),1))","v":""},{"$f":"IF(BN166=\"\",\"\",INDEX('Otras referencias'!S:T,MATCH(BN166,'Otras referencias'!$T:$T,0),1))","v":""},{"$f":"IF(BH166=\"\",\"\",INDEX('Otras referencias'!A:B,MATCH(BH166,'Otras referencias'!$B:$B,0),1))","v":""}]
[null,{"$f":"IF(BW167=BW166,B166,B166+1)","v":0},"",null,null,"",{"$f":"IF(H167=\"\",\"\",INDEX(referentes!AU:AV,MATCH(H167,referentes!$AV:$AV,0),1))","v":""},null,{"$f":"IF(J167=\"\",\"\",INDEX('Otras referencias'!$V:$W,MATCH(J167,'Otras referencias'!$W:$W,0),1))","v":""},null,null,null,null,null,null,null,null,null,162,null,null,null,null,null,null,null,null,null,null,null,null,null,null,null,null,null,null,null,null,null,null,null,null,null,null,0,null,null,null,0,null,null,null,null,null,null,null,null,null,null,null,null,null,null,null,null,null,null,"",{"$f":"IF(C167=\"\",\"\",IF(COUNTIF($C$6:C167, C167)>1, \"\", C167))","v":""},{"$f":"IF(K167=\"\",\"\",INDEX(referentes!P:Q,MATCH(K167,referentes!$Q:$Q,0),1))","v":""},{"$f":"IF(L167=\"\",\"\",INDEX(referentes!$A:$B,MATCH(L167,referentes!$B:$B,0),1))","v":""},{"$f":"IF(P167=\"\",\"\",INDEX(referentes!D:E,MATCH(P167,referentes!$E:$E,0),1))","v":""},{"$f":"IF(Q167=\"\",\"\",INDEX(referentes!G:H,MATCH(Q167,referentes!$H:$H,0),1))","v":""},"",{"$f":"IF(V167=\"\",\"\",INDEX(referentes!S:T,MATCH(V167,referentes!$T:$T,0),1))","v":""},{"$f":"IF(BL167=\"\",\"\",INDEX(referentes!J:K,MATCH(BL167,referentes!$K:$K,0),1))","v":""},{"$f":"IF(BD167=\"\",\"\",INDEX(referentes!V:W,MATCH(BD167,referentes!$W:$W,0),1))","v":""},{"$f":"IF(BE167=\"\",\"\",INDEX(referentes!Y:Z,MATCH(BE167,referentes!$Z:$Z,0),1))","v":""},{"$f":"IF(BF167=\"\",\"\",INDEX(referentes!AB:AC,MATCH(BF167,referentes!$AC:$AC,0),1))","v":""},{"$f":"IF(BG167=\"\",\"\",INDEX(referentes!AE:AF,MATCH(BG167,referentes!$AF:$AF,0),1))","v":""},{"$f":"IF(AY167=\"\",\"\",INDEX(referentes!M:N,MATCH(AY167,referentes!$N:$N,0),1))","v":""},{"$f":"IF(BN167=\"\",\"\",INDEX('Otras referencias'!S:T,MATCH(BN167,'Otras referencias'!$T:$T,0),1))","v":""},{"$f":"IF(BH167=\"\",\"\",INDEX('Otras referencias'!A:B,MATCH(BH167,'Otras referencias'!$B:$B,0),1))","v":""}]
[null,0,"",null,null,"",{"$f":"IF(H168=\"\",\"\",INDEX(referentes!AU:AV,MATCH(H168,referentes!$AV:$AV,0),1))","v":""},null,{"$f":"IF(J168=\"\",\"\",INDEX('Otras referencias'!$V:$W,MATCH(J168,'Otras referencias'!$W:$W,0),1))","v":""},null,null,null,null,null,null,null,null,null,163,null,null,null,null,null,null,null,null,null,null,null,null,null,null,null,null,null,null,null,null,null,null,null,null,null,null,0,null,null,null,0,null,null,null,null,null,null,null,null,null,null,null,null,null,null,null,null,null,null,"",{"$f":"IF(C168=\"\",\"\",IF(COUNTIF($C$6:C168, C168)>1, \"\", C168))","v":""},{"$f":"IF(K168=\"\",\"\",INDEX(referentes!P:Q,MATCH(K168,referentes!$Q:$Q,0),1))","v":""},{"$f":"IF(L168=\"\",\"\",INDEX(referentes!$A:$B,MATCH(L168,referentes!$B:$B,0),1))","v":""},{"$f":"IF(P168=\"\",\"\",INDEX(referentes!D:E,MATCH(P168,referentes!$E:$E,0),1))","v":""},{"$f":"IF(Q168=\"\",\"\",INDEX(referentes!G:H,MATCH(Q168,referentes!$H:$H,0),1))","v":""},"",{"$f":"IF(V168=\"\",\"\",INDEX(referentes!S:T,MATCH(V168,referentes!$T:$T,0),1))","v":""},{"$f":"IF(BL168=\"\",\"\",INDEX(referentes!J:K,MATCH(BL168,referentes!$K:$K,0),1))","v":""},{"$f":"IF(BD168=\"\",\"\",INDEX(referentes!V:W,MATCH(BD168,referentes!$W:$W,0),1))","v":""},{"$f":"IF(BE168=\"\",\"\",INDEX(referentes!Y:Z,MATCH(BE168,referentes!$Z:$Z,0),1))","v":""},{"$f":"IF(BF168=\"\",\"\",INDEX(referentes!AB:AC,MATCH(BF168,referentes!$AC:$AC,0),1))","v":""},{"$f":"IF(BG168=\"\",\"\",INDEX(referentes!AE:AF,MATCH(BG168,referentes!$AF:$AF,0),1))","v":""},{"$f":"IF(AY168=\"\",\"\",INDEX(referentes!M:N,MATCH(AY168,referentes!$N:$N,0),1))","v":""},{"$f":"IF(BN168=\"\",\"\",INDEX('Otras referencias'!S:T,MATCH(BN168,'Otras referencias'!$T:$T,0),1))","v":""},{"$f":"IF(BH168=\"\",\"\",INDEX('Otras referencias'!A:B,MATCH(BH168,'Otras referencias'!$B:$B,0),1))","v":""}]
[null,0,"",null,null,"",{"$f":"IF(H169=\"\",\"\",INDEX(referentes!AU:AV,MATCH(H169,referentes!$AV:$AV,0),1))","v":""},null,{"$f":"IF(J169=\"\",\"\",INDEX('Otras referencias'!$V:$W,MATCH(J169,'Otras referencias'!$W:$W,0),1))","v":""},null,null,null,null,null,null,null,null,null,164,null,null,null,null,null,null,null,null,null,null,null,null,null,null,null,null,null,null,null,null,null,null,null,null,null,null,0,null,null,null,0,null,null,null,null,null,null,null,null,null,null,null,null,null,null,null,null,null,null,"",{"$f":"IF(C169=\"\",\"\",IF(COUNTIF($C$6:C169, C169)>1, \"\", C169))","v":""},{"$f":"IF(K169=\"\",\"\",INDEX(referentes!P:Q,MATCH(K169,referentes!$Q:$Q,0),1))","v":""},{"$f":"IF(L169=\"\",\"\",INDEX(referentes!$A:$B,MATCH(L169,referentes!$B:$B,0),1))","v":""},{"$f":"IF(P169=\"\",\"\",INDEX(referentes!D:E,MATCH(P169,referentes!$E:$E,0),1))","v":""},{"$f":"IF(Q169=\"\",\"\",INDEX(referentes!G:H,MATCH(Q169,referentes!$H:$H,0),1))","v":""},"",{"$f":"IF(V169=\"\",\"\",INDEX(referentes!S:T,MATCH(V169,referentes!$T:$T,0),1))","v":""},{"$f":"IF(BL169=\"\",\"\",INDEX(referentes!J:K,MATCH(BL169,referentes!$K:$K,0),1))","v":""},{"$f":"IF(BD169=\"\",\"\",INDEX(referentes!V:W,MATCH(BD169,referentes!$W:$W,0),1))","v":""},{"$f":"IF(BE169=\"\",\"\",INDEX(referentes!Y:Z,MATCH(BE169,referentes!$Z:$Z,0),1))","v":""},{"$f":"IF(BF169=\"\",\"\",INDEX(referentes!AB:AC,MATCH(BF169,referentes!$AC:$AC,0),1))","v":""},{"$f":"IF(BG169=\"\",\"\",INDEX(referentes!AE:AF,MATCH(BG169,referentes!$AF:$AF,0),1))","v":""},{"$f":"IF(AY169=\"\",\"\",INDEX(referentes!M:N,MATCH(AY169,referentes!$N:$N,0),1))","v":""},{"$f":"IF(BN169=\"\",\"\",INDEX('Otras referencias'!S:T,MATCH(BN169,'Otras referencias'!$T:$T,0),1))","v":""},{"$f":"IF(BH169=\"\",\"\",INDEX('Otras referencias'!A:B,MATCH(BH169,'Otras referencias'!$B:$B,0),1))","v":""}]
[null,0,"",null,null,"",{"$f":"IF(H170=\"\",\"\",INDEX(referentes!AU:AV,MATCH(H170,referentes!$AV:$AV,0),1))","v":""},null,{"$f":"IF(J170=\"\",\"\",INDEX('Otras referencias'!$V:$W,MATCH(J170,'Otras referencias'!$W:$W,0),1))","v":""},null,null,null,null,null,null,null,null,null,165,null,null,null,null,null,null,null,null,null,null,null,null,null,null,null,null,null,null,null,null,null,null,null,null,null,null,0,null,null,null,0,null,null,null,null,null,null,null,null,null,null,null,null,null,null,null,null,null,null,"",{"$f":"IF(C170=\"\",\"\",IF(COUNTIF($C$6:C170, C170)>1, \"\", C170))","v":""},{"$f":"IF(K170=\"\",\"\",INDEX(referentes!P:Q,MATCH(K170,referentes!$Q:$Q,0),1))","v":""},{"$f":"IF(L170=\"\",\"\",INDEX(referentes!$A:$B,MATCH(L170,referentes!$B:$B,0),1))","v":""},{"$f":"IF(P170=\"\",\"\",INDEX(referentes!D:E,MATCH(P170,referentes!$E:$E,0),1))","v":""},{"$f":"IF(Q170=\"\",\"\",INDEX(referentes!G:H,MATCH(Q170,referentes!$H:$H,0),1))","v":""},"",{"$f":"IF(V170=\"\",\"\",INDEX(referentes!S:T,MATCH(V170,referentes!$T:$T,0),1))","v":""},{"$f":"IF(BL170=\"\",\"\",INDEX(referentes!J:K,MATCH(BL170,referentes!$K:$K,0),1))","v":""},{"$f":"IF(BD170=\"\",\"\",INDEX(referentes!V:W,MATCH(BD170,referentes!$W:$W,0),1))","v":""},{"$f":"IF(BE170=\"\",\"\",INDEX(referentes!Y:Z,MATCH(BE170,referentes!$Z:$Z,0),1))","v":""},{"$f":"IF(BF170=\"\",\"\",INDEX(referentes!AB:AC,MATCH(BF170,referentes!$AC:$AC,0),1))","v":""},{"$f":"IF(BG170=\"\",\"\",INDEX(referentes!AE:AF,MATCH(BG170,referentes!$AF:$AF,0),1))","v":""},{"$f":"IF(AY170=\"\",\"\",INDEX(referentes!M:N,MATCH(AY170,referentes!$N:$N,0),1))","v":""},{"$f":"IF(BN170=\"\",\"\",INDEX('Otras referencias'!S:T,MATCH(BN170,'Otras referencias'!$T:$T,0),1))","v":""},{"$f":"IF(BH170=\"\",\"\",INDEX('Otras referencias'!A:B,MATCH(BH170,'Otras referencias'!$B:$B,0),1))","v":""}]
[null,0,"",null,null,"",{"$f":"IF(H171=\"\",\"\",INDEX(referentes!AU:AV,MATCH(H171,referentes!$AV:$AV,0),1))","v":""},null,{"$f":"IF(J171=\"\",\"\",INDEX('Otras referencias'!$V:$W,MATCH(J171,'Otras referencias'!$W:$W,0),1))","v":""},null,null,null,null,null,null,null,null,null,166,null,null,null,null,null,null,null,null,null,null,null,null,null,null,null,null,null,null,null,null,null,null,null,null,null,null,0,null,null,null,0,null,null,null,null,null,null,null,null,null,null,null,null,null,null,null,null,null,null,"",{"$f":"IF(C171=\"\",\"\",IF(COUNTIF($C$6:C171, C171)>1, \"\", C171))","v":""},{"$f":"IF(K171=\"\",\"\",INDEX(referentes!P:Q,MATCH(K171,referentes!$Q:$Q,0),1))","v":""},{"$f":"IF(L171=\"\",\"\",INDEX(referentes!$A:$B,MATCH(L171,referentes!$B:$B,0),1))","v":""},{"$f":"IF(P171=\"\",\"\",INDEX(referentes!D:E,MATCH(P171,referentes!$E:$E,0),1))","v":""},{"$f":"IF(Q171=\"\",\"\",INDEX(referentes!G:H,MATCH(Q171,referentes!$H:$H,0),1))","v":""},"",{"$f":"IF(V171=\"\",\"\",INDEX(referentes!S:T,MATCH(V171,referentes!$T:$T,0),1))","v":""},{"$f":"IF(BL171=\"\",\"\",INDEX(referentes!J:K,MATCH(BL171,referentes!$K:$K,0),1))","v":""},{"$f":"IF(BD171=\"\",\"\",INDEX(referentes!V:W,MATCH(BD171,referentes!$W:$W,0),1))","v":""},{"$f":"IF(BE171=\"\",\"\",INDEX(referentes!Y:Z,MATCH(BE171,referentes!$Z:$Z,0),1))","v":""},{"$f":"IF(BF171=\"\",\"\",INDEX(referentes!AB:AC,MATCH(BF171,referentes!$AC:$AC,0),1))","v":""},{"$f":"IF(BG171=\"\",\"\",INDEX(referentes!AE:AF,MATCH(BG171,referentes!$AF:$AF,0),1))","v":""},{"$f":"IF(AY171=\"\",\"\",INDEX(referentes!M:N,MATCH(AY171,referentes!$N:$N,0),1))","v":""},{"$f":"IF(BN171=\"\",\"\",INDEX('Otras referencias'!S:T,MATCH(BN171,'Otras referencias'!$T:$T,0),1))","v":""},{"$f":"IF(BH171=\"\",\"\",INDEX('Otras referencias'!A:B,MATCH(BH171,'Otras referencias'!$B:$B,0),1))","v":""}]
[null,0,"",null,null,"",{"$f":"IF(H172=\"\",\"\",INDEX(referentes!AU:AV,MATCH(H172,referentes!$AV:$AV,0),1))","v":""},null,{"$f":"IF(J172=\"\",\"\",INDEX('Otras referencias'!$V:$W,MATCH(J172,'Otras referencias'!$W:$W,0),1))","v":""},null,null,null,null,null,null,null,null,null,167,null,null,null,null,null,null,null,null,null,null,null,null,null,null,null,null,null,null,null,null,null,null,null,null,null,null,0,null,null,null,0,null,null,null,null,null,null,null,null,null,null,null,null,null,null,null,null,null,null,"",{"$f":"IF(C172=\"\",\"\",IF(COUNTIF($C$6:C172, C172)>1, \"\", C172))","v":""},{"$f":"IF(K172=\"\",\"\",INDEX(referentes!P:Q,MATCH(K172,referentes!$Q:$Q,0),1))","v":""},{"$f":"IF(L172=\"\",\"\",INDEX(referentes!$A:$B,MATCH(L172,referentes!$B:$B,0),1))","v":""},{"$f":"IF(P172=\"\",\"\",INDEX(referentes!D:E,MATCH(P172,referentes!$E:$E,0),1))","v":""},{"$f":"IF(Q172=\"\",\"\",INDEX(referentes!G:H,MATCH(Q172,referentes!$H:$H,0),1))","v":""},"",{"$f":"IF(V172=\"\",\"\",INDEX(referentes!S:T,MATCH(V172,referentes!$T:$T,0),1))","v":""},{"$f":"IF(BL172=\"\",\"\",INDEX(referentes!J:K,MATCH(BL172,referentes!$K:$K,0),1))","v":""},{"$f":"IF(BD172=\"\",\"\",INDEX(referentes!V:W,MATCH(BD172,referentes!$W:$W,0),1))","v":""},{"$f":"IF(BE172=\"\",\"\",INDEX(referentes!Y:Z,MATCH(BE172,referentes!$Z:$Z,0),1))","v":""},{"$f":"IF(BF172=\"\",\"\",INDEX(referentes!AB:AC,MATCH(BF172,referentes!$AC:$AC,0),1))","v":""},{"$f":"IF(BG172=\"\",\"\",INDEX(referentes!AE:AF,MATCH(BG172,referentes!$AF:$AF,0),1))","v":""},{"$f":"IF(AY172=\"\",\"\",INDEX(referentes!M:N,MATCH(AY172,referentes!$N:$N,0),1))","v":""},{"$f":"IF(BN172=\"\",\"\",INDEX('Otras referencias'!S:T,MATCH(BN172,'Otras referencias'!$T:$T,0),1))","v":""},{"$f":"IF(BH172=\"\",\"\",INDEX('Otras referencias'!A:B,MATCH(BH172,'Otras referencias'!$B:$B,0),1))","v":""}]
[null,0,"",null,null,"",{"$f":"IF(H173=\"\",\"\",INDEX(referentes!AU:AV,MATCH(H173,referentes!$AV:$AV,0),1))","v":""},null,{"$f":"IF(J173=\"\",\"\",INDEX('Otras referencias'!$V:$W,MATCH(J173,'Otras referencias'!$W:$W,0),1))","v":""},null,null,null,null,null,null,null,null,null,168,null,null,null,null,null,null,null,null,null,null,null,null,null,null,null,null,null,null,null,null,null,null,null,null,null,null,0,null,null,null,0,null,null,null,null,null,null,null,null,null,null,null,null,null,null,null,null,null,null,"",{"$f":"IF(C173=\"\",\"\",IF(COUNTIF($C$6:C173, C173)>1, \"\", C173))","v":""},{"$f":"IF(K173=\"\",\"\",INDEX(referentes!P:Q,MATCH(K173,referentes!$Q:$Q,0),1))","v":""},{"$f":"IF(L173=\"\",\"\",INDEX(referentes!$A:$B,MATCH(L173,referentes!$B:$B,0),1))","v":""},{"$f":"IF(P173=\"\",\"\",INDEX(referentes!D:E,MATCH(P173,referentes!$E:$E,0),1))","v":""},{"$f":"IF(Q173=\"\",\"\",INDEX(referentes!G:H,MATCH(Q173,referentes!$H:$H,0),1))","v":""},"",{"$f":"IF(V173=\"\",\"\",INDEX(referentes!S:T,MATCH(V173,referentes!$T:$T,0),1))","v":""},{"$f":"IF(BL173=\"\",\"\",INDEX(referentes!J:K,MATCH(BL173,referentes!$K:$K,0),1))","v":""},{"$f":"IF(BD173=\"\",\"\",INDEX(referentes!V:W,MATCH(BD173,referentes!$W:$W,0),1))","v":""},{"$f":"IF(BE173=\"\",\"\",INDEX(referentes!Y:Z,MATCH(BE173,referentes!$Z:$Z,0),1))","v":""},{"$f":"IF(BF173=\"\",\"\",INDEX(referentes!AB:AC,MATCH(BF173,referentes!$AC:$AC,0),1))","v":""},{"$f":"IF(BG173=\"\",\"\",INDEX(referentes!AE:AF,MATCH(BG173,referentes!$AF:$AF,0),1))","v":""},{"$f":"IF(AY173=\"\",\"\",INDEX(referentes!M:N,MATCH(AY173,referentes!$N:$N,0),1))","v":""},{"$f":"IF(BN173=\"\",\"\",INDEX('Otras referencias'!S:T,MATCH(BN173,'Otras referencias'!$T:$T,0),1))","v":""},{"$f":"IF(BH173=\"\",\"\",INDEX('Otras referencias'!A:B,MATCH(BH173,'Otras referencias'!$B:$B,0),1))","v":""}]
[null,0,"",null,null,"",{"$f":"IF(H174=\"\",\"\",INDEX(referentes!AU:AV,MATCH(H174,referentes!$AV:$AV,0),1))","v":""},null,{"$f":"IF(J174=\"\",\"\",INDEX('Otras referencias'!$V:$W,MATCH(J174,'Otras referencias'!$W:$W,0),1))","v":""},null,null,null,null,null,null,null,null,null,169,null,null,null,null,null,null,null,null,null,null,null,null,null,null,null,null,null,null,null,null,null,null,null,null,null,null,0,null,null,null,0,null,null,null,null,null,null,null,null,null,null,null,null,null,null,null,null,null,null,"",{"$f":"IF(C174=\"\",\"\",IF(COUNTIF($C$6:C174, C174)>1, \"\", C174))","v":""},{"$f":"IF(K174=\"\",\"\",INDEX(referentes!P:Q,MATCH(K174,referentes!$Q:$Q,0),1))","v":""},{"$f":"IF(L174=\"\",\"\",INDEX(referentes!$A:$B,MATCH(L174,referentes!$B:$B,0),1))","v":""},{"$f":"IF(P174=\"\",\"\",INDEX(referentes!D:E,MATCH(P174,referentes!$E:$E,0),1))","v":""},{"$f":"IF(Q174=\"\",\"\",INDEX(referentes!G:H,MATCH(Q174,referentes!$H:$H,0),1))","v":""},"",{"$f":"IF(V174=\"\",\"\",INDEX(referentes!S:T,MATCH(V174,referentes!$T:$T,0),1))","v":""},{"$f":"IF(BL174=\"\",\"\",INDEX(referentes!J:K,MATCH(BL174,referentes!$K:$K,0),1))","v":""},{"$f":"IF(BD174=\"\",\"\",INDEX(referentes!V:W,MATCH(BD174,referentes!$W:$W,0),1))","v":""},{"$f":"IF(BE174=\"\",\"\",INDEX(referentes!Y:Z,MATCH(BE174,referentes!$Z:$Z,0),1))","v":""},{"$f":"IF(BF174=\"\",\"\",INDEX(referentes!AB:AC,MATCH(BF174,referentes!$AC:$AC,0),1))","v":""},{"$f":"IF(BG174=\"\",\"\",INDEX(referentes!AE:AF,MATCH(BG174,referentes!$AF:$AF,0),1))","v":""},{"$f":"IF(AY174=\"\",\"\",INDEX(referentes!M:N,MATCH(AY174,referentes!$N:$N,0),1))","v":""},{"$f":"IF(BN174=\"\",\"\",INDEX('Otras referencias'!S:T,MATCH(BN174,'Otras referencias'!$T:$T,0),1))","v":""},{"$f":"IF(BH174=\"\",\"\",INDEX('Otras referencias'!A:B,MATCH(BH174,'Otras referencias'!$B:$B,0),1))","v":""}]
[null,0,"",null,null,"",{"$f":"IF(H175=\"\",\"\",INDEX(referentes!AU:AV,MATCH(H175,referentes!$AV:$AV,0),1))","v":""},null,{"$f":"IF(J175=\"\",\"\",INDEX('Otras referencias'!$V:$W,MATCH(J175,'Otras referencias'!$W:$W,0),1))","v":""},null,null,null,null,null,null,null,null,null,170,null,null,null,null,null,null,null,null,null,null,null,null,null,null,null,null,null,null,null,null,null,null,null,null,null,null,0,null,null,null,0,null,null,null,null,null,null,null,null,null,null,null,null,null,null,null,null,null,null,"",{"$f":"IF(C175=\"\",\"\",IF(COUNTIF($C$6:C175, C175)>1, \"\", C175))","v":""},{"$f":"IF(K175=\"\",\"\",INDEX(referentes!P:Q,MATCH(K175,referentes!$Q:$Q,0),1))","v":""},{"$f":"IF(L175=\"\",\"\",INDEX(referentes!$A:$B,MATCH(L175,referentes!$B:$B,0),1))","v":""},{"$f":"IF(P175=\"\",\"\",INDEX(referentes!D:E,MATCH(P175,referentes!$E:$E,0),1))","v":""},{"$f":"IF(Q175=\"\",\"\",INDEX(referentes!G:H,MATCH(Q175,referentes!$H:$H,0),1))","v":""},"",{"$f":"IF(V175=\"\",\"\",INDEX(referentes!S:T,MATCH(V175,referentes!$T:$T,0),1))","v":""},{"$f":"IF(BL175=\"\",\"\",INDEX(referentes!J:K,MATCH(BL175,referentes!$K:$K,0),1))","v":""},{"$f":"IF(BD175=\"\",\"\",INDEX(referentes!V:W,MATCH(BD175,referentes!$W:$W,0),1))","v":""},{"$f":"IF(BE175=\"\",\"\",INDEX(referentes!Y:Z,MATCH(BE175,referentes!$Z:$Z,0),1))","v":""},{"$f":"IF(BF175=\"\",\"\",INDEX(referentes!AB:AC,MATCH(BF175,referentes!$AC:$AC,0),1))","v":""},{"$f":"IF(BG175=\"\",\"\",INDEX(referentes!AE:AF,MATCH(BG175,referentes!$AF:$AF,0),1))","v":""},{"$f":"IF(AY175=\"\",\"\",INDEX(referentes!M:N,MATCH(AY175,referentes!$N:$N,0),1))","v":""},{"$f":"IF(BN175=\"\",\"\",INDEX('Otras referencias'!S:T,MATCH(BN175,'Otras referencias'!$T:$T,0),1))","v":""},{"$f":"IF(BH175=\"\",\"\",INDEX('Otras referencias'!A:B,MATCH(BH175,'Otras referencias'!$B:$B,0),1))","v":""}]
[null,0,"",null,null,"",{"$f":"IF(H176=\"\",\"\",INDEX(referentes!AU:AV,MATCH(H176,referentes!$AV:$AV,0),1))","v":""},null,{"$f":"IF(J176=\"\",\"\",INDEX('Otras referencias'!$V:$W,MATCH(J176,'Otras referencias'!$W:$W,0),1))","v":""},null,null,null,null,null,null,null,null,null,171,null,null,null,null,null,null,null,null,null,null,null,null,null,null,null,null,null,null,null,null,null,null,null,null,null,null,0,null,null,null,0,null,null,null,null,null,null,null,null,null,null,null,null,null,null,null,null,null,null,"",{"$f":"IF(C176=\"\",\"\",IF(COUNTIF($C$6:C176, C176)>1, \"\", C176))","v":""},{"$f":"IF(K176=\"\",\"\",INDEX(referentes!P:Q,MATCH(K176,referentes!$Q:$Q,0),1))","v":""},{"$f":"IF(L176=\"\",\"\",INDEX(referentes!$A:$B,MATCH(L176,referentes!$B:$B,0),1))","v":""},{"$f":"IF(P176=\"\",\"\",INDEX(referentes!D:E,MATCH(P176,referentes!$E:$E,0),1))","v":""},{"$f":"IF(Q176=\"\",\"\",INDEX(referentes!G:H,MATCH(Q176,referentes!$H:$H,0),1))","v":""},"",{"$f":"IF(V176=\"\",\"\",INDEX(referentes!S:T,MATCH(V176,referentes!$T:$T,0),1))","v":""},{"$f":"IF(BL176=\"\",\"\",INDEX(referentes!J:K,MATCH(BL176,referentes!$K:$K,0),1))","v":""},{"$f":"IF(BD176=\"\",\"\",INDEX(referentes!V:W,MATCH(BD176,referentes!$W:$W,0),1))","v":""},{"$f":"IF(BE176=\"\",\"\",INDEX(referentes!Y:Z,MATCH(BE176,referentes!$Z:$Z,0),1))","v":""},{"$f":"IF(BF176=\"\",\"\",INDEX(referentes!AB:AC,MATCH(BF176,referentes!$AC:$AC,0),1))","v":""},{"$f":"IF(BG176=\"\",\"\",INDEX(referentes!AE:AF,MATCH(BG176,referentes!$AF:$AF,0),1))","v":""},{"$f":"IF(AY176=\"\",\"\",INDEX(referentes!M:N,MATCH(AY176,referentes!$N:$N,0),1))","v":""},{"$f":"IF(BN176=\"\",\"\",INDEX('Otras referencias'!S:T,MATCH(BN176,'Otras referencias'!$T:$T,0),1))","v":""},{"$f":"IF(BH176=\"\",\"\",INDEX('Otras referencias'!A:B,MATCH(BH176,'Otras referencias'!$B:$B,0),1))","v":""}]
[null,0,"",null,null,"",{"$f":"IF(H177=\"\",\"\",INDEX(referentes!AU:AV,MATCH(H177,referentes!$AV:$AV,0),1))","v":""},null,{"$f":"IF(J177=\"\",\"\",INDEX('Otras referencias'!$V:$W,MATCH(J177,'Otras referencias'!$W:$W,0),1))","v":""},null,null,null,null,null,null,null,null,null,172,null,null,null,null,null,null,null,null,null,null,null,null,null,null,null,null,null,null,null,null,null,null,null,null,null,null,0,null,null,null,0,null,null,null,null,null,null,null,null,null,null,null,null,null,null,null,null,null,null,"",{"$f":"IF(C177=\"\",\"\",IF(COUNTIF($C$6:C177, C177)>1, \"\", C177))","v":""},{"$f":"IF(K177=\"\",\"\",INDEX(referentes!P:Q,MATCH(K177,referentes!$Q:$Q,0),1))","v":""},{"$f":"IF(L177=\"\",\"\",INDEX(referentes!$A:$B,MATCH(L177,referentes!$B:$B,0),1))","v":""},{"$f":"IF(P177=\"\",\"\",INDEX(referentes!D:E,MATCH(P177,referentes!$E:$E,0),1))","v":""},{"$f":"IF(Q177=\"\",\"\",INDEX(referentes!G:H,MATCH(Q177,referentes!$H:$H,0),1))","v":""},"",{"$f":"IF(V177=\"\",\"\",INDEX(referentes!S:T,MATCH(V177,referentes!$T:$T,0),1))","v":""},{"$f":"IF(BL177=\"\",\"\",INDEX(referentes!J:K,MATCH(BL177,referentes!$K:$K,0),1))","v":""},{"$f":"IF(BD177=\"\",\"\",INDEX(referentes!V:W,MATCH(BD177,referentes!$W:$W,0),1))","v":""},{"$f":"IF(BE177=\"\",\"\",INDEX(referentes!Y:Z,MATCH(BE177,referentes!$Z:$Z,0),1))","v":""},{"$f":"IF(BF177=\"\",\"\",INDEX(referentes!AB:AC,MATCH(BF177,referentes!$AC:$AC,0),1))","v":""},{"$f":"IF(BG177=\"\",\"\",INDEX(referentes!AE:AF,MATCH(BG177,referentes!$AF:$AF,0),1))","v":""},{"$f":"IF(AY177=\"\",\"\",INDEX(referentes!M:N,MATCH(AY177,referentes!$N:$N,0),1))","v":""},{"$f":"IF(BN177=\"\",\"\",INDEX('Otras referencias'!S:T,MATCH(BN177,'Otras referencias'!$T:$T,0),1))","v":""},{"$f":"IF(BH177=\"\",\"\",INDEX('Otras referencias'!A:B,MATCH(BH177,'Otras referencias'!$B:$B,0),1))","v":""}]
[null,0,"",null,null,"",{"$f":"IF(H178=\"\",\"\",INDEX(referentes!AU:AV,MATCH(H178,referentes!$AV:$AV,0),1))","v":""},null,{"$f":"IF(J178=\"\",\"\",INDEX('Otras referencias'!$V:$W,MATCH(J178,'Otras referencias'!$W:$W,0),1))","v":""},null,null,null,null,null,null,null,null,null,173,null,null,null,null,null,null,null,null,null,null,null,null,null,null,null,null,null,null,null,null,null,null,null,null,null,null,0,null,null,null,0,null,null,null,null,null,null,null,null,null,null,null,null,null,null,null,null,null,null,"",{"$f":"IF(C178=\"\",\"\",IF(COUNTIF($C$6:C178, C178)>1, \"\", C178))","v":""},{"$f":"IF(K178=\"\",\"\",INDEX(referentes!P:Q,MATCH(K178,referentes!$Q:$Q,0),1))","v":""},{"$f":"IF(L178=\"\",\"\",INDEX(referentes!$A:$B,MATCH(L178,referentes!$B:$B,0),1))","v":""},{"$f":"IF(P178=\"\",\"\",INDEX(referentes!D:E,MATCH(P178,referentes!$E:$E,0),1))","v":""},{"$f":"IF(Q178=\"\",\"\",INDEX(referentes!G:H,MATCH(Q178,referentes!$H:$H,0),1))","v":""},"",{"$f":"IF(V178=\"\",\"\",INDEX(referentes!S:T,MATCH(V178,referentes!$T:$T,0),1))","v":""},{"$f":"IF(BL178=\"\",\"\",INDEX(referentes!J:K,MATCH(BL178,referentes!$K:$K,0),1))","v":""},{"$f":"IF(BD178=\"\",\"\",INDEX(referentes!V:W,MATCH(BD178,referentes!$W:$W,0),1))","v":""},{"$f":"IF(BE178=\"\",\"\",INDEX(referentes!Y:Z,MATCH(BE178,referentes!$Z:$Z,0),1))","v":""},{"$f":"IF(BF178=\"\",\"\",INDEX(referentes!AB:AC,MATCH(BF178,referentes!$AC:$AC,0),1))","v":""},{"$f":"IF(BG178=\"\",\"\",INDEX(referentes!AE:AF,MATCH(BG178,referentes!$AF:$AF,0),1))","v":""},{"$f":"IF(AY178=\"\",\"\",INDEX(referentes!M:N,MATCH(AY178,referentes!$N:$N,0),1))","v":""},{"$f":"IF(BN178=\"\",\"\",INDEX('Otras referencias'!S:T,MATCH(BN178,'Otras referencias'!$T:$T,0),1))","v":""},{"$f":"IF(BH178=\"\",\"\",INDEX('Otras referencias'!A:B,MATCH(BH178,'Otras referencias'!$B:$B,0),1))","v":""}]
[null,0,"",null,null,"",{"$f":"IF(H179=\"\",\"\",INDEX(referentes!AU:AV,MATCH(H179,referentes!$AV:$AV,0),1))","v":""},null,{"$f":"IF(J179=\"\",\"\",INDEX('Otras referencias'!$V:$W,MATCH(J179,'Otras referencias'!$W:$W,0),1))","v":""},null,null,null,null,null,null,null,null,null,174,null,null,null,null,null,null,null,null,null,null,null,null,null,null,null,null,null,null,null,null,null,null,null,null,null,null,0,null,null,null,0,null,null,null,null,null,null,null,null,null,null,null,null,null,null,null,null,null,null,"",{"$f":"IF(C179=\"\",\"\",IF(COUNTIF($C$6:C179, C179)>1, \"\", C179))","v":""},{"$f":"IF(K179=\"\",\"\",INDEX(referentes!P:Q,MATCH(K179,referentes!$Q:$Q,0),1))","v":""},{"$f":"IF(L179=\"\",\"\",INDEX(referentes!$A:$B,MATCH(L179,referentes!$B:$B,0),1))","v":""},{"$f":"IF(P179=\"\",\"\",INDEX(referentes!D:E,MATCH(P179,referentes!$E:$E,0),1))","v":""},{"$f":"IF(Q179=\"\",\"\",INDEX(referentes!G:H,MATCH(Q179,referentes!$H:$H,0),1))","v":""},"",{"$f":"IF(V179=\"\",\"\",INDEX(referentes!S:T,MATCH(V179,referentes!$T:$T,0),1))","v":""},{"$f":"IF(BL179=\"\",\"\",INDEX(referentes!J:K,MATCH(BL179,referentes!$K:$K,0),1))","v":""},{"$f":"IF(BD179=\"\",\"\",INDEX(referentes!V:W,MATCH(BD179,referentes!$W:$W,0),1))","v":""},{"$f":"IF(BE179=\"\",\"\",INDEX(referentes!Y:Z,MATCH(BE179,referentes!$Z:$Z,0),1))","v":""},{"$f":"IF(BF179=\"\",\"\",INDEX(referentes!AB:AC,MATCH(BF179,referentes!$AC:$AC,0),1))","v":""},{"$f":"IF(BG179=\"\",\"\",INDEX(referentes!AE:AF,MATCH(BG179,referentes!$AF:$AF,0),1))","v":""},{"$f":"IF(AY179=\"\",\"\",INDEX(referentes!M:N,MATCH(AY179,referentes!$N:$N,0),1))","v":""},{"$f":"IF(BN179=\"\",\"\",INDEX('Otras referencias'!S:T,MATCH(BN179,'Otras referencias'!$T:$T,0),1))","v":""},{"$f":"IF(BH179=\"\",\"\",INDEX('Otras referencias'!A:B,MATCH(BH179,'Otras referencias'!$B:$B,0),1))","v":""}]
[null,0,"",null,null,"",{"$f":"IF(H180=\"\",\"\",INDEX(referentes!AU:AV,MATCH(H180,referentes!$AV:$AV,0),1))","v":""},null,{"$f":"IF(J180=\"\",\"\",INDEX('Otras referencias'!$V:$W,MATCH(J180,'Otras referencias'!$W:$W,0),1))","v":""},null,null,null,null,null,null,null,null,null,175,null,null,null,null,null,null,null,null,null,null,null,null,null,null,null,null,null,null,null,null,null,null,null,null,null,null,0,null,null,null,0,null,null,null,null,null,null,null,null,null,null,null,null,null,null,null,null,null,null,"",{"$f":"IF(C180=\"\",\"\",IF(COUNTIF($C$6:C180, C180)>1, \"\", C180))","v":""},{"$f":"IF(K180=\"\",\"\",INDEX(referentes!P:Q,MATCH(K180,referentes!$Q:$Q,0),1))","v":""},{"$f":"IF(L180=\"\",\"\",INDEX(referentes!$A:$B,MATCH(L180,referentes!$B:$B,0),1))","v":""},{"$f":"IF(P180=\"\",\"\",INDEX(referentes!D:E,MATCH(P180,referentes!$E:$E,0),1))","v":""},{"$f":"IF(Q180=\"\",\"\",INDEX(referentes!G:H,MATCH(Q180,referentes!$H:$H,0),1))","v":""},"",{"$f":"IF(V180=\"\",\"\",INDEX(referentes!S:T,MATCH(V180,referentes!$T:$T,0),1))","v":""},{"$f":"IF(BL180=\"\",\"\",INDEX(referentes!J:K,MATCH(BL180,referentes!$K:$K,0),1))","v":""},{"$f":"IF(BD180=\"\",\"\",INDEX(referentes!V:W,MATCH(BD180,referentes!$W:$W,0),1))","v":""},{"$f":"IF(BE180=\"\",\"\",INDEX(referentes!Y:Z,MATCH(BE180,referentes!$Z:$Z,0),1))","v":""},{"$f":"IF(BF180=\"\",\"\",INDEX(referentes!AB:AC,MATCH(BF180,referentes!$AC:$AC,0),1))","v":""},{"$f":"IF(BG180=\"\",\"\",INDEX(referentes!AE:AF,MATCH(BG180,referentes!$AF:$AF,0),1))","v":""},{"$f":"IF(AY180=\"\",\"\",INDEX(referentes!M:N,MATCH(AY180,referentes!$N:$N,0),1))","v":""},{"$f":"IF(BN180=\"\",\"\",INDEX('Otras referencias'!S:T,MATCH(BN180,'Otras referencias'!$T:$T,0),1))","v":""},{"$f":"IF(BH180=\"\",\"\",INDEX('Otras referencias'!A:B,MATCH(BH180,'Otras referencias'!$B:$B,0),1))","v":""}]
[null,0,"",null,null,"",{"$f":"IF(H181=\"\",\"\",INDEX(referentes!AU:AV,MATCH(H181,referentes!$AV:$AV,0),1))","v":""},null,{"$f":"IF(J181=\"\",\"\",INDEX('Otras referencias'!$V:$W,MATCH(J181,'Otras referencias'!$W:$W,0),1))","v":""},null,null,null,null,null,null,null,null,null,176,null,null,null,null,null,null,null,null,null,null,null,null,null,null,null,null,null,null,null,null,null,null,null,null,null,null,0,null,null,null,0,null,null,null,null,null,null,null,null,null,null,null,null,null,null,null,null,null,null,"",{"$f":"IF(C181=\"\",\"\",IF(COUNTIF($C$6:C181, C181)>1, \"\", C181))","v":""},{"$f":"IF(K181=\"\",\"\",INDEX(referentes!P:Q,MATCH(K181,referentes!$Q:$Q,0),1))","v":""},{"$f":"IF(L181=\"\",\"\",INDEX(referentes!$A:$B,MATCH(L181,referentes!$B:$B,0),1))","v":""},{"$f":"IF(P181=\"\",\"\",INDEX(referentes!D:E,MATCH(P181,referentes!$E:$E,0),1))","v":""},{"$f":"IF(Q181=\"\",\"\",INDEX(referentes!G:H,MATCH(Q181,referentes!$H:$H,0),1))","v":""},"",{"$f":"IF(V181=\"\",\"\",INDEX(referentes!S:T,MATCH(V181,referentes!$T:$T,0),1))","v":""},{"$f":"IF(BL181=\"\",\"\",INDEX(referentes!J:K,MATCH(BL181,referentes!$K:$K,0),1))","v":""},{"$f":"IF(BD181=\"\",\"\",INDEX(referentes!V:W,MATCH(BD181,referentes!$W:$W,0),1))","v":""},{"$f":"IF(BE181=\"\",\"\",INDEX(referentes!Y:Z,MATCH(BE181,referentes!$Z:$Z,0),1))","v":""},{"$f":"IF(BF181=\"\",\"\",INDEX(referentes!AB:AC,MATCH(BF181,referentes!$AC:$AC,0),1))","v":""},{"$f":"IF(BG181=\"\",\"\",INDEX(referentes!AE:AF,MATCH(BG181,referentes!$AF:$AF,0),1))","v":""},{"$f":"IF(AY181=\"\",\"\",INDEX(referentes!M:N,MATCH(AY181,referentes!$N:$N,0),1))","v":""},{"$f":"IF(BN181=\"\",\"\",INDEX('Otras referencias'!S:T,MATCH(BN181,'Otras referencias'!$T:$T,0),1))","v":""},{"$f":"IF(BH181=\"\",\"\",INDEX('Otras referencias'!A:B,MATCH(BH181,'Otras referencias'!$B:$B,0),1))","v":""}]
[null,0,"",null,null,"",{"$f":"IF(H182=\"\",\"\",INDEX(referentes!AU:AV,MATCH(H182,referentes!$AV:$AV,0),1))","v":""},null,{"$f":"IF(J182=\"\",\"\",INDEX('Otras referencias'!$V:$W,MATCH(J182,'Otras referencias'!$W:$W,0),1))","v":""},null,null,null,null,null,null,null,null,null,177,null,null,null,null,null,null,null,null,null,null,null,null,null,null,null,null,null,null,null,null,null,null,null,null,null,null,0,null,null,null,0,null,null,null,null,null,null,null,null,null,null,null,null,null,null,null,null,null,null,"",{"$f":"IF(C182=\"\",\"\",IF(COUNTIF($C$6:C182, C182)>1, \"\", C182))","v":""},{"$f":"IF(K182=\"\",\"\",INDEX(referentes!P:Q,MATCH(K182,referentes!$Q:$Q,0),1))","v":""},{"$f":"IF(L182=\"\",\"\",INDEX(referentes!$A:$B,MATCH(L182,referentes!$B:$B,0),1))","v":""},{"$f":"IF(P182=\"\",\"\",INDEX(referentes!D:E,MATCH(P182,referentes!$E:$E,0),1))","v":""},{"$f":"IF(Q182=\"\",\"\",INDEX(referentes!G:H,MATCH(Q182,referentes!$H:$H,0),1))","v":""},"",{"$f":"IF(V182=\"\",\"\",INDEX(referentes!S:T,MATCH(V182,referentes!$T:$T,0),1))","v":""},{"$f":"IF(BL182=\"\",\"\",INDEX(referentes!J:K,MATCH(BL182,referentes!$K:$K,0),1))","v":""},{"$f":"IF(BD182=\"\",\"\",INDEX(referentes!V:W,MATCH(BD182,referentes!$W:$W,0),1))","v":""},{"$f":"IF(BE182=\"\",\"\",INDEX(referentes!Y:Z,MATCH(BE182,referentes!$Z:$Z,0),1))","v":""},{"$f":"IF(BF182=\"\",\"\",INDEX(referentes!AB:AC,MATCH(BF182,referentes!$AC:$AC,0),1))","v":""},{"$f":"IF(BG182=\"\",\"\",INDEX(referentes!AE:AF,MATCH(BG182,referentes!$AF:$AF,0),1))","v":""},{"$f":"IF(AY182=\"\",\"\",INDEX(referentes!M:N,MATCH(AY182,referentes!$N:$N,0),1))","v":""},{"$f":"IF(BN182=\"\",\"\",INDEX('Otras referencias'!S:T,MATCH(BN182,'Otras referencias'!$T:$T,0),1))","v":""},{"$f":"IF(BH182=\"\",\"\",INDEX('Otras referencias'!A:B,MATCH(BH182,'Otras referencias'!$B:$B,0),1))","v":""}]
[null,0,"",null,null,"",{"$f":"IF(H183=\"\",\"\",INDEX(referentes!AU:AV,MATCH(H183,referentes!$AV:$AV,0),1))","v":""},null,{"$f":"IF(J183=\"\",\"\",INDEX('Otras referencias'!$V:$W,MATCH(J183,'Otras referencias'!$W:$W,0),1))","v":""},null,null,null,null,null,null,null,null,null,178,null,null,null,null,null,null,null,null,null,null,null,null,null,null,null,null,null,null,null,null,null,null,null,null,null,null,0,null,null,null,0,null,null,null,null,null,null,null,null,null,null,null,null,null,null,null,null,null,null,"",{"$f":"IF(C183=\"\",\"\",IF(COUNTIF($C$6:C183, C183)>1, \"\", C183))","v":""},{"$f":"IF(K183=\"\",\"\",INDEX(referentes!P:Q,MATCH(K183,referentes!$Q:$Q,0),1))","v":""},{"$f":"IF(L183=\"\",\"\",INDEX(referentes!$A:$B,MATCH(L183,referentes!$B:$B,0),1))","v":""},{"$f":"IF(P183=\"\",\"\",INDEX(referentes!D:E,MATCH(P183,referentes!$E:$E,0),1))","v":""},{"$f":"IF(Q183=\"\",\"\",INDEX(referentes!G:H,MATCH(Q183,referentes!$H:$H,0),1))","v":""},"",{"$f":"IF(V183=\"\",\"\",INDEX(referentes!S:T,MATCH(V183,referentes!$T:$T,0),1))","v":""},{"$f":"IF(BL183=\"\",\"\",INDEX(referentes!J:K,MATCH(BL183,referentes!$K:$K,0),1))","v":""},{"$f":"IF(BD183=\"\",\"\",INDEX(referentes!V:W,MATCH(BD183,referentes!$W:$W,0),1))","v":""},{"$f":"IF(BE183=\"\",\"\",INDEX(referentes!Y:Z,MATCH(BE183,referentes!$Z:$Z,0),1))","v":""},{"$f":"IF(BF183=\"\",\"\",INDEX(referentes!AB:AC,MATCH(BF183,referentes!$AC:$AC,0),1))","v":""},{"$f":"IF(BG183=\"\",\"\",INDEX(referentes!AE:AF,MATCH(BG183,referentes!$AF:$AF,0),1))","v":""},{"$f":"IF(AY183=\"\",\"\",INDEX(referentes!M:N,MATCH(AY183,referentes!$N:$N,0),1))","v":""},{"$f":"IF(BN183=\"\",\"\",INDEX('Otras referencias'!S:T,MATCH(BN183,'Otras referencias'!$T:$T,0),1))","v":""},{"$f":"IF(BH183=\"\",\"\",INDEX('Otras referencias'!A:B,MATCH(BH183,'Otras referencias'!$B:$B,0),1))","v":""}]
[null,0,"",null,null,"",{"$f":"IF(H184=\"\",\"\",INDEX(referentes!AU:AV,MATCH(H184,referentes!$AV:$AV,0),1))","v":""},null,{"$f":"IF(J184=\"\",\"\",INDEX('Otras referencias'!$V:$W,MATCH(J184,'Otras referencias'!$W:$W,0),1))","v":""},null,null,null,null,null,null,null,null,null,179,null,null,null,null,null,null,null,null,null,null,null,null,null,null,null,null,null,null,null,null,null,null,null,null,null,null,0,null,null,null,0,null,null,null,null,null,null,null,null,null,null,null,null,null,null,null,null,null,null,"",{"$f":"IF(C184=\"\",\"\",IF(COUNTIF($C$6:C184, C184)>1, \"\", C184))","v":""},{"$f":"IF(K184=\"\",\"\",INDEX(referentes!P:Q,MATCH(K184,referentes!$Q:$Q,0),1))","v":""},{"$f":"IF(L184=\"\",\"\",INDEX(referentes!$A:$B,MATCH(L184,referentes!$B:$B,0),1))","v":""},{"$f":"IF(P184=\"\",\"\",INDEX(referentes!D:E,MATCH(P184,referentes!$E:$E,0),1))","v":""},{"$f":"IF(Q184=\"\",\"\",INDEX(referentes!G:H,MATCH(Q184,referentes!$H:$H,0),1))","v":""},"",{"$f":"IF(V184=\"\",\"\",INDEX(referentes!S:T,MATCH(V184,referentes!$T:$T,0),1))","v":""},{"$f":"IF(BL184=\"\",\"\",INDEX(referentes!J:K,MATCH(BL184,referentes!$K:$K,0),1))","v":""},{"$f":"IF(BD184=\"\",\"\",INDEX(referentes!V:W,MATCH(BD184,referentes!$W:$W,0),1))","v":""},{"$f":"IF(BE184=\"\",\"\",INDEX(referentes!Y:Z,MATCH(BE184,referentes!$Z:$Z,0),1))","v":""},{"$f":"IF(BF184=\"\",\"\",INDEX(referentes!AB:AC,MATCH(BF184,referentes!$AC:$AC,0),1))","v":""},{"$f":"IF(BG184=\"\",\"\",INDEX(referentes!AE:AF,MATCH(BG184,referentes!$AF:$AF,0),1))","v":""},{"$f":"IF(AY184=\"\",\"\",INDEX(referentes!M:N,MATCH(AY184,referentes!$N:$N,0),1))","v":""},{"$f":"IF(BN184=\"\",\"\",INDEX('Otras referencias'!S:T,MATCH(BN184,'Otras referencias'!$T:$T,0),1))","v":""},{"$f":"IF(BH184=\"\",\"\",INDEX('Otras referencias'!A:B,MATCH(BH184,'Otras referencias'!$B:$B,0),1))","v":""}]
[null,0,"",null,null,"",{"$f":"IF(H185=\"\",\"\",INDEX(referentes!AU:AV,MATCH(H185,referentes!$AV:$AV,0),1))","v":""},null,{"$f":"IF(J185=\"\",\"\",INDEX('Otras referencias'!$V:$W,MATCH(J185,'Otras referencias'!$W:$W,0),1))","v":""},null,null,null,null,null,null,null,null,null,180,null,null,null,null,null,null,null,null,null,null,null,null,null,null,null,null,null,null,null,null,null,null,null,null,null,null,0,null,null,null,0,null,null,null,null,null,null,null,null,null,null,null,null,null,null,null,null,null,null,"",{"$f":"IF(C185=\"\",\"\",IF(COUNTIF($C$6:C185, C185)>1, \"\", C185))","v":""},{"$f":"IF(K185=\"\",\"\",INDEX(referentes!P:Q,MATCH(K185,referentes!$Q:$Q,0),1))","v":""},{"$f":"IF(L185=\"\",\"\",INDEX(referentes!$A:$B,MATCH(L185,referentes!$B:$B,0),1))","v":""},{"$f":"IF(P185=\"\",\"\",INDEX(referentes!D:E,MATCH(P185,referentes!$E:$E,0),1))","v":""},{"$f":"IF(Q185=\"\",\"\",INDEX(referentes!G:H,MATCH(Q185,referentes!$H:$H,0),1))","v":""},"",{"$f":"IF(V185=\"\",\"\",INDEX(referentes!S:T,MATCH(V185,referentes!$T:$T,0),1))","v":""},{"$f":"IF(BL185=\"\",\"\",INDEX(referentes!J:K,MATCH(BL185,referentes!$K:$K,0),1))","v":""},{"$f":"IF(BD185=\"\",\"\",INDEX(referentes!V:W,MATCH(BD185,referentes!$W:$W,0),1))","v":""},{"$f":"IF(BE185=\"\",\"\",INDEX(referentes!Y:Z,MATCH(BE185,referentes!$Z:$Z,0),1))","v":""},{"$f":"IF(BF185=\"\",\"\",INDEX(referentes!AB:AC,MATCH(BF185,referentes!$AC:$AC,0),1))","v":""},{"$f":"IF(BG185=\"\",\"\",INDEX(referentes!AE:AF,MATCH(BG185,referentes!$AF:$AF,0),1))","v":""},{"$f":"IF(AY185=\"\",\"\",INDEX(referentes!M:N,MATCH(AY185,referentes!$N:$N,0),1))","v":""},{"$f":"IF(BN185=\"\",\"\",INDEX('Otras referencias'!S:T,MATCH(BN185,'Otras referencias'!$T:$T,0),1))","v":""},{"$f":"IF(BH185=\"\",\"\",INDEX('Otras referencias'!A:B,MATCH(BH185,'Otras referencias'!$B:$B,0),1))","v":""}]
[null,0,"",null,null,"",{"$f":"IF(H186=\"\",\"\",INDEX(referentes!AU:AV,MATCH(H186,referentes!$AV:$AV,0),1))","v":""},null,{"$f":"IF(J186=\"\",\"\",INDEX('Otras referencias'!$V:$W,MATCH(J186,'Otras referencias'!$W:$W,0),1))","v":""},null,null,null,null,null,null,null,null,null,181,null,null,null,null,null,null,null,null,null,null,null,null,null,null,null,null,null,null,null,null,null,null,null,null,null,null,0,null,null,null,0,null,null,null,null,null,null,null,null,null,null,null,null,null,null,null,null,null,null,"",{"$f":"IF(C186=\"\",\"\",IF(COUNTIF($C$6:C186, C186)>1, \"\", C186))","v":""},{"$f":"IF(K186=\"\",\"\",INDEX(referentes!P:Q,MATCH(K186,referentes!$Q:$Q,0),1))","v":""},{"$f":"IF(L186=\"\",\"\",INDEX(referentes!$A:$B,MATCH(L186,referentes!$B:$B,0),1))","v":""},{"$f":"IF(P186=\"\",\"\",INDEX(referentes!D:E,MATCH(P186,referentes!$E:$E,0),1))","v":""},{"$f":"IF(Q186=\"\",\"\",INDEX(referentes!G:H,MATCH(Q186,referentes!$H:$H,0),1))","v":""},"",{"$f":"IF(V186=\"\",\"\",INDEX(referentes!S:T,MATCH(V186,referentes!$T:$T,0),1))","v":""},{"$f":"IF(BL186=\"\",\"\",INDEX(referentes!J:K,MATCH(BL186,referentes!$K:$K,0),1))","v":""},{"$f":"IF(BD186=\"\",\"\",INDEX(referentes!V:W,MATCH(BD186,referentes!$W:$W,0),1))","v":""},{"$f":"IF(BE186=\"\",\"\",INDEX(referentes!Y:Z,MATCH(BE186,referentes!$Z:$Z,0),1))","v":""},{"$f":"IF(BF186=\"\",\"\",INDEX(referentes!AB:AC,MATCH(BF186,referentes!$AC:$AC,0),1))","v":""},{"$f":"IF(BG186=\"\",\"\",INDEX(referentes!AE:AF,MATCH(BG186,referentes!$AF:$AF,0),1))","v":""},{"$f":"IF(AY186=\"\",\"\",INDEX(referentes!M:N,MATCH(AY186,referentes!$N:$N,0),1))","v":""},{"$f":"IF(BN186=\"\",\"\",INDEX('Otras referencias'!S:T,MATCH(BN186,'Otras referencias'!$T:$T,0),1))","v":""},{"$f":"IF(BH186=\"\",\"\",INDEX('Otras referencias'!A:B,MATCH(BH186,'Otras referencias'!$B:$B,0),1))","v":""}]
[null,0,"",null,null,"",{"$f":"IF(H187=\"\",\"\",INDEX(referentes!AU:AV,MATCH(H187,referentes!$AV:$AV,0),1))","v":""},null,{"$f":"IF(J187=\"\",\"\",INDEX('Otras referencias'!$V:$W,MATCH(J187,'Otras referencias'!$W:$W,0),1))","v":""},null,null,null,null,null,null,null,null,null,182,null,null,null,null,null,null,null,null,null,null,null,null,null,null,null,null,null,null,null,null,null,null,null,null,null,null,0,null,null,null,0,null,null,null,null,null,null,null,null,null,null,null,null,null,null,null,null,null,null,"",{"$f":"IF(C187=\"\",\"\",IF(COUNTIF($C$6:C187, C187)>1, \"\", C187))","v":""},{"$f":"IF(K187=\"\",\"\",INDEX(referentes!P:Q,MATCH(K187,referentes!$Q:$Q,0),1))","v":""},{"$f":"IF(L187=\"\",\"\",INDEX(referentes!$A:$B,MATCH(L187,referentes!$B:$B,0),1))","v":""},{"$f":"IF(P187=\"\",\"\",INDEX(referentes!D:E,MATCH(P187,referentes!$E:$E,0),1))","v":""},{"$f":"IF(Q187=\"\",\"\",INDEX(referentes!G:H,MATCH(Q187,referentes!$H:$H,0),1))","v":""},"",{"$f":"IF(V187=\"\",\"\",INDEX(referentes!S:T,MATCH(V187,referentes!$T:$T,0),1))","v":""},{"$f":"IF(BL187=\"\",\"\",INDEX(referentes!J:K,MATCH(BL187,referentes!$K:$K,0),1))","v":""},{"$f":"IF(BD187=\"\",\"\",INDEX(referentes!V:W,MATCH(BD187,referentes!$W:$W,0),1))","v":""},{"$f":"IF(BE187=\"\",\"\",INDEX(referentes!Y:Z,MATCH(BE187,referentes!$Z:$Z,0),1))","v":""},{"$f":"IF(BF187=\"\",\"\",INDEX(referentes!AB:AC,MATCH(BF187,referentes!$AC:$AC,0),1))","v":""},{"$f":"IF(BG187=\"\",\"\",INDEX(referentes!AE:AF,MATCH(BG187,referentes!$AF:$AF,0),1))","v":""},{"$f":"IF(AY187=\"\",\"\",INDEX(referentes!M:N,MATCH(AY187,referentes!$N:$N,0),1))","v":""},{"$f":"IF(BN187=\"\",\"\",INDEX('Otras referencias'!S:T,MATCH(BN187,'Otras referencias'!$T:$T,0),1))","v":""},{"$f":"IF(BH187=\"\",\"\",INDEX('Otras referencias'!A:B,MATCH(BH187,'Otras referencias'!$B:$B,0),1))","v":""}]
[null,0,"",null,null,"",{"$f":"IF(H188=\"\",\"\",INDEX(referentes!AU:AV,MATCH(H188,referentes!$AV:$AV,0),1))","v":""},null,{"$f":"IF(J188=\"\",\"\",INDEX('Otras referencias'!$V:$W,MATCH(J188,'Otras referencias'!$W:$W,0),1))","v":""},null,null,null,null,null,null,null,null,null,183,null,null,null,null,null,null,null,null,null,null,null,null,null,null,null,null,null,null,null,null,null,null,null,null,null,null,0,null,null,null,0,null,null,null,null,null,null,null,null,null,null,null,null,null,null,null,null,null,null,"",{"$f":"IF(C188=\"\",\"\",IF(COUNTIF($C$6:C188, C188)>1, \"\", C188))","v":""},{"$f":"IF(K188=\"\",\"\",INDEX(referentes!P:Q,MATCH(K188,referentes!$Q:$Q,0),1))","v":""},{"$f":"IF(L188=\"\",\"\",INDEX(referentes!$A:$B,MATCH(L188,referentes!$B:$B,0),1))","v":""},{"$f":"IF(P188=\"\",\"\",INDEX(referentes!D:E,MATCH(P188,referentes!$E:$E,0),1))","v":""},{"$f":"IF(Q188=\"\",\"\",INDEX(referentes!G:H,MATCH(Q188,referentes!$H:$H,0),1))","v":""},"",{"$f":"IF(V188=\"\",\"\",INDEX(referentes!S:T,MATCH(V188,referentes!$T:$T,0),1))","v":""},{"$f":"IF(BL188=\"\",\"\",INDEX(referentes!J:K,MATCH(BL188,referentes!$K:$K,0),1))","v":""},{"$f":"IF(BD188=\"\",\"\",INDEX(referentes!V:W,MATCH(BD188,referentes!$W:$W,0),1))","v":""},{"$f":"IF(BE188=\"\",\"\",INDEX(referentes!Y:Z,MATCH(BE188,referentes!$Z:$Z,0),1))","v":""},{"$f":"IF(BF188=\"\",\"\",INDEX(referentes!AB:AC,MATCH(BF188,referentes!$AC:$AC,0),1))","v":""},{"$f":"IF(BG188=\"\",\"\",INDEX(referentes!AE:AF,MATCH(BG188,referentes!$AF:$AF,0),1))","v":""},{"$f":"IF(AY188=\"\",\"\",INDEX(referentes!M:N,MATCH(AY188,referentes!$N:$N,0),1))","v":""},{"$f":"IF(BN188=\"\",\"\",INDEX('Otras referencias'!S:T,MATCH(BN188,'Otras referencias'!$T:$T,0),1))","v":""},{"$f":"IF(BH188=\"\",\"\",INDEX('Otras referencias'!A:B,MATCH(BH188,'Otras referencias'!$B:$B,0),1))","v":""}]
[null,0,"",null,null,"",{"$f":"IF(H189=\"\",\"\",INDEX(referentes!AU:AV,MATCH(H189,referentes!$AV:$AV,0),1))","v":""},null,{"$f":"IF(J189=\"\",\"\",INDEX('Otras referencias'!$V:$W,MATCH(J189,'Otras referencias'!$W:$W,0),1))","v":""},null,null,null,null,null,null,null,null,null,184,null,null,null,null,null,null,null,null,null,null,null,null,null,null,null,null,null,null,null,null,null,null,null,null,null,null,0,null,null,null,0,null,null,null,null,null,null,null,null,null,null,null,null,null,null,null,null,null,null,"",{"$f":"IF(C189=\"\",\"\",IF(COUNTIF($C$6:C189, C189)>1, \"\", C189))","v":""},{"$f":"IF(K189=\"\",\"\",INDEX(referentes!P:Q,MATCH(K189,referentes!$Q:$Q,0),1))","v":""},{"$f":"IF(L189=\"\",\"\",INDEX(referentes!$A:$B,MATCH(L189,referentes!$B:$B,0),1))","v":""},{"$f":"IF(P189=\"\",\"\",INDEX(referentes!D:E,MATCH(P189,referentes!$E:$E,0),1))","v":""},{"$f":"IF(Q189=\"\",\"\",INDEX(referentes!G:H,MATCH(Q189,referentes!$H:$H,0),1))","v":""},"",{"$f":"IF(V189=\"\",\"\",INDEX(referentes!S:T,MATCH(V189,referentes!$T:$T,0),1))","v":""},{"$f":"IF(BL189=\"\",\"\",INDEX(referentes!J:K,MATCH(BL189,referentes!$K:$K,0),1))","v":""},{"$f":"IF(BD189=\"\",\"\",INDEX(referentes!V:W,MATCH(BD189,referentes!$W:$W,0),1))","v":""},{"$f":"IF(BE189=\"\",\"\",INDEX(referentes!Y:Z,MATCH(BE189,referentes!$Z:$Z,0),1))","v":""},{"$f":"IF(BF189=\"\",\"\",INDEX(referentes!AB:AC,MATCH(BF189,referentes!$AC:$AC,0),1))","v":""},{"$f":"IF(BG189=\"\",\"\",INDEX(referentes!AE:AF,MATCH(BG189,referentes!$AF:$AF,0),1))","v":""},{"$f":"IF(AY189=\"\",\"\",INDEX(referentes!M:N,MATCH(AY189,referentes!$N:$N,0),1))","v":""},{"$f":"IF(BN189=\"\",\"\",INDEX('Otras referencias'!S:T,MATCH(BN189,'Otras referencias'!$T:$T,0),1))","v":""},{"$f":"IF(BH189=\"\",\"\",INDEX('Otras referencias'!A:B,MATCH(BH189,'Otras referencias'!$B:$B,0),1))","v":""}]
[null,0,"",null,null,"",{"$f":"IF(H190=\"\",\"\",INDEX(referentes!AU:AV,MATCH(H190,referentes!$AV:$AV,0),1))","v":""},null,{"$f":"IF(J190=\"\",\"\",INDEX('Otras referencias'!$V:$W,MATCH(J190,'Otras referencias'!$W:$W,0),1))","v":""},null,null,null,null,null,null,null,null,null,185,null,null,null,null,null,null,null,null,null,null,null,null,null,null,null,null,null,null,null,null,null,null,null,null,null,null,0,null,null,null,0,null,null,null,null,null,null,null,null,null,null,null,null,null,null,null,null,null,null,"",{"$f":"IF(C190=\"\",\"\",IF(COUNTIF($C$6:C190, C190)>1, \"\", C190))","v":""},{"$f":"IF(K190=\"\",\"\",INDEX(referentes!P:Q,MATCH(K190,referentes!$Q:$Q,0),1))","v":""},{"$f":"IF(L190=\"\",\"\",INDEX(referentes!$A:$B,MATCH(L190,referentes!$B:$B,0),1))","v":""},{"$f":"IF(P190=\"\",\"\",INDEX(referentes!D:E,MATCH(P190,referentes!$E:$E,0),1))","v":""},{"$f":"IF(Q190=\"\",\"\",INDEX(referentes!G:H,MATCH(Q190,referentes!$H:$H,0),1))","v":""},"",{"$f":"IF(V190=\"\",\"\",INDEX(referentes!S:T,MATCH(V190,referentes!$T:$T,0),1))","v":""},{"$f":"IF(BL190=\"\",\"\",INDEX(referentes!J:K,MATCH(BL190,referentes!$K:$K,0),1))","v":""},{"$f":"IF(BD190=\"\",\"\",INDEX(referentes!V:W,MATCH(BD190,referentes!$W:$W,0),1))","v":""},{"$f":"IF(BE190=\"\",\"\",INDEX(referentes!Y:Z,MATCH(BE190,referentes!$Z:$Z,0),1))","v":""},{"$f":"IF(BF190=\"\",\"\",INDEX(referentes!AB:AC,MATCH(BF190,referentes!$AC:$AC,0),1))","v":""},{"$f":"IF(BG190=\"\",\"\",INDEX(referentes!AE:AF,MATCH(BG190,referentes!$AF:$AF,0),1))","v":""},{"$f":"IF(AY190=\"\",\"\",INDEX(referentes!M:N,MATCH(AY190,referentes!$N:$N,0),1))","v":""},{"$f":"IF(BN190=\"\",\"\",INDEX('Otras referencias'!S:T,MATCH(BN190,'Otras referencias'!$T:$T,0),1))","v":""},{"$f":"IF(BH190=\"\",\"\",INDEX('Otras referencias'!A:B,MATCH(BH190,'Otras referencias'!$B:$B,0),1))","v":""}]
[null,0,"",null,null,"",{"$f":"IF(H191=\"\",\"\",INDEX(referentes!AU:AV,MATCH(H191,referentes!$AV:$AV,0),1))","v":""},null,{"$f":"IF(J191=\"\",\"\",INDEX('Otras referencias'!$V:$W,MATCH(J191,'Otras referencias'!$W:$W,0),1))","v":""},null,null,null,null,null,null,null,null,null,186,null,null,null,null,null,null,null,null,null,null,null,null,null,null,null,null,null,null,null,null,null,null,null,null,null,null,0,null,null,null,0,null,null,null,null,null,null,null,null,null,null,null,null,null,null,null,null,null,null,"",{"$f":"IF(C191=\"\",\"\",IF(COUNTIF($C$6:C191, C191)>1, \"\", C191))","v":""},{"$f":"IF(K191=\"\",\"\",INDEX(referentes!P:Q,MATCH(K191,referentes!$Q:$Q,0),1))","v":""},{"$f":"IF(L191=\"\",\"\",INDEX(referentes!$A:$B,MATCH(L191,referentes!$B:$B,0),1))","v":""},{"$f":"IF(P191=\"\",\"\",INDEX(referentes!D:E,MATCH(P191,referentes!$E:$E,0),1))","v":""},{"$f":"IF(Q191=\"\",\"\",INDEX(referentes!G:H,MATCH(Q191,referentes!$H:$H,0),1))","v":""},"",{"$f":"IF(V191=\"\",\"\",INDEX(referentes!S:T,MATCH(V191,referentes!$T:$T,0),1))","v":""},{"$f":"IF(BL191=\"\",\"\",INDEX(referentes!J:K,MATCH(BL191,referentes!$K:$K,0),1))","v":""},{"$f":"IF(BD191=\"\",\"\",INDEX(referentes!V:W,MATCH(BD191,referentes!$W:$W,0),1))","v":""},{"$f":"IF(BE191=\"\",\"\",INDEX(referentes!Y:Z,MATCH(BE191,referentes!$Z:$Z,0),1))","v":""},{"$f":"IF(BF191=\"\",\"\",INDEX(referentes!AB:AC,MATCH(BF191,referentes!$AC:$AC,0),1))","v":""},{"$f":"IF(BG191=\"\",\"\",INDEX(referentes!AE:AF,MATCH(BG191,referentes!$AF:$AF,0),1))","v":""},{"$f":"IF(AY191=\"\",\"\",INDEX(referentes!M:N,MATCH(AY191,referentes!$N:$N,0),1))","v":""},{"$f":"IF(BN191=\"\",\"\",INDEX('Otras referencias'!S:T,MATCH(BN191,'Otras referencias'!$T:$T,0),1))","v":""},{"$f":"IF(BH191=\"\",\"\",INDEX('Otras referencias'!A:B,MATCH(BH191,'Otras referencias'!$B:$B,0),1))","v":""}]
[null,0,"",null,null,"",{"$f":"IF(H192=\"\",\"\",INDEX(referentes!AU:AV,MATCH(H192,referentes!$AV:$AV,0),1))","v":""},null,{"$f":"IF(J192=\"\",\"\",INDEX('Otras referencias'!$V:$W,MATCH(J192,'Otras referencias'!$W:$W,0),1))","v":""},null,null,null,null,null,null,null,null,null,187,null,null,null,null,null,null,null,null,null,null,null,null,null,null,null,null,null,null,null,null,null,null,null,null,null,null,0,null,null,null,0,null,null,null,null,null,null,null,null,null,null,null,null,null,null,null,null,null,null,"",{"$f":"IF(C192=\"\",\"\",IF(COUNTIF($C$6:C192, C192)>1, \"\", C192))","v":""},{"$f":"IF(K192=\"\",\"\",INDEX(referentes!P:Q,MATCH(K192,referentes!$Q:$Q,0),1))","v":""},{"$f":"IF(L192=\"\",\"\",INDEX(referentes!$A:$B,MATCH(L192,referentes!$B:$B,0),1))","v":""},{"$f":"IF(P192=\"\",\"\",INDEX(referentes!D:E,MATCH(P192,referentes!$E:$E,0),1))","v":""},{"$f":"IF(Q192=\"\",\"\",INDEX(referentes!G:H,MATCH(Q192,referentes!$H:$H,0),1))","v":""},"",{"$f":"IF(V192=\"\",\"\",INDEX(referentes!S:T,MATCH(V192,referentes!$T:$T,0),1))","v":""},{"$f":"IF(BL192=\"\",\"\",INDEX(referentes!J:K,MATCH(BL192,referentes!$K:$K,0),1))","v":""},{"$f":"IF(BD192=\"\",\"\",INDEX(referentes!V:W,MATCH(BD192,referentes!$W:$W,0),1))","v":""},{"$f":"IF(BE192=\"\",\"\",INDEX(referentes!Y:Z,MATCH(BE192,referentes!$Z:$Z,0),1))","v":""},{"$f":"IF(BF192=\"\",\"\",INDEX(referentes!AB:AC,MATCH(BF192,referentes!$AC:$AC,0),1))","v":""},{"$f":"IF(BG192=\"\",\"\",INDEX(referentes!AE:AF,MATCH(BG192,referentes!$AF:$AF,0),1))","v":""},{"$f":"IF(AY192=\"\",\"\",INDEX(referentes!M:N,MATCH(AY192,referentes!$N:$N,0),1))","v":""},{"$f":"IF(BN192=\"\",\"\",INDEX('Otras referencias'!S:T,MATCH(BN192,'Otras referencias'!$T:$T,0),1))","v":""},{"$f":"IF(BH192=\"\",\"\",INDEX('Otras referencias'!A:B,MATCH(BH192,'Otras referencias'!$B:$B,0),1))","v":""}]
[null,0,"",null,null,"",{"$f":"IF(H193=\"\",\"\",INDEX(referentes!AU:AV,MATCH(H193,referentes!$AV:$AV,0),1))","v":""},null,{"$f":"IF(J193=\"\",\"\",INDEX('Otras referencias'!$V:$W,MATCH(J193,'Otras referencias'!$W:$W,0),1))","v":""},null,null,null,null,null,null,null,null,null,188,null,null,null,null,null,null,null,null,null,null,null,null,null,null,null,null,null,null,null,null,null,null,null,null,null,null,0,null,null,null,0,null,null,null,null,null,null,null,null,null,null,null,null,null,null,null,null,null,null,"",{"$f":"IF(C193=\"\",\"\",IF(COUNTIF($C$6:C193, C193)>1, \"\", C193))","v":""},{"$f":"IF(K193=\"\",\"\",INDEX(referentes!P:Q,MATCH(K193,referentes!$Q:$Q,0),1))","v":""},{"$f":"IF(L193=\"\",\"\",INDEX(referentes!$A:$B,MATCH(L193,referentes!$B:$B,0),1))","v":""},{"$f":"IF(P193=\"\",\"\",INDEX(referentes!D:E,MATCH(P193,referentes!$E:$E,0),1))","v":""},{"$f":"IF(Q193=\"\",\"\",INDEX(referentes!G:H,MATCH(Q193,referentes!$H:$H,0),1))","v":""},"",{"$f":"IF(V193=\"\",\"\",INDEX(referentes!S:T,MATCH(V193,referentes!$T:$T,0),1))","v":""},{"$f":"IF(BL193=\"\",\"\",INDEX(referentes!J:K,MATCH(BL193,referentes!$K:$K,0),1))","v":""},{"$f":"IF(BD193=\"\",\"\",INDEX(referentes!V:W,MATCH(BD193,referentes!$W:$W,0),1))","v":""},{"$f":"IF(BE193=\"\",\"\",INDEX(referentes!Y:Z,MATCH(BE193,referentes!$Z:$Z,0),1))","v":""},{"$f":"IF(BF193=\"\",\"\",INDEX(referentes!AB:AC,MATCH(BF193,referentes!$AC:$AC,0),1))","v":""},{"$f":"IF(BG193=\"\",\"\",INDEX(referentes!AE:AF,MATCH(BG193,referentes!$AF:$AF,0),1))","v":""},{"$f":"IF(AY193=\"\",\"\",INDEX(referentes!M:N,MATCH(AY193,referentes!$N:$N,0),1))","v":""},{"$f":"IF(BN193=\"\",\"\",INDEX('Otras referencias'!S:T,MATCH(BN193,'Otras referencias'!$T:$T,0),1))","v":""},{"$f":"IF(BH193=\"\",\"\",INDEX('Otras referencias'!A:B,MATCH(BH193,'Otras referencias'!$B:$B,0),1))","v":""}]
[null,0,"",null,null,"",{"$f":"IF(H194=\"\",\"\",INDEX(referentes!AU:AV,MATCH(H194,referentes!$AV:$AV,0),1))","v":""},null,{"$f":"IF(J194=\"\",\"\",INDEX('Otras referencias'!$V:$W,MATCH(J194,'Otras referencias'!$W:$W,0),1))","v":""},null,null,null,null,null,null,null,null,null,189,null,null,null,null,null,null,null,null,null,null,null,null,null,null,null,null,null,null,null,null,null,null,null,null,null,null,0,null,null,null,0,null,null,null,null,null,null,null,null,null,null,null,null,null,null,null,null,null,null,"",{"$f":"IF(C194=\"\",\"\",IF(COUNTIF($C$6:C194, C194)>1, \"\", C194))","v":""},{"$f":"IF(K194=\"\",\"\",INDEX(referentes!P:Q,MATCH(K194,referentes!$Q:$Q,0),1))","v":""},{"$f":"IF(L194=\"\",\"\",INDEX(referentes!$A:$B,MATCH(L194,referentes!$B:$B,0),1))","v":""},{"$f":"IF(P194=\"\",\"\",INDEX(referentes!D:E,MATCH(P194,referentes!$E:$E,0),1))","v":""},{"$f":"IF(Q194=\"\",\"\",INDEX(referentes!G:H,MATCH(Q194,referentes!$H:$H,0),1))","v":""},"",{"$f":"IF(V194=\"\",\"\",INDEX(referentes!S:T,MATCH(V194,referentes!$T:$T,0),1))","v":""},{"$f":"IF(BL194=\"\",\"\",INDEX(referentes!J:K,MATCH(BL194,referentes!$K:$K,0),1))","v":""},{"$f":"IF(BD194=\"\",\"\",INDEX(referentes!V:W,MATCH(BD194,referentes!$W:$W,0),1))","v":""},{"$f":"IF(BE194=\"\",\"\",INDEX(referentes!Y:Z,MATCH(BE194,referentes!$Z:$Z,0),1))","v":""},{"$f":"IF(BF194=\"\",\"\",INDEX(referentes!AB:AC,MATCH(BF194,referentes!$AC:$AC,0),1))","v":""},{"$f":"IF(BG194=\"\",\"\",INDEX(referentes!AE:AF,MATCH(BG194,referentes!$AF:$AF,0),1))","v":""},{"$f":"IF(AY194=\"\",\"\",INDEX(referentes!M:N,MATCH(AY194,referentes!$N:$N,0),1))","v":""},{"$f":"IF(BN194=\"\",\"\",INDEX('Otras referencias'!S:T,MATCH(BN194,'Otras referencias'!$T:$T,0),1))","v":""},{"$f":"IF(BH194=\"\",\"\",INDEX('Otras referencias'!A:B,MATCH(BH194,'Otras referencias'!$B:$B,0),1))","v":""}]
[null,0,"",null,null,"",{"$f":"IF(H195=\"\",\"\",INDEX(referentes!AU:AV,MATCH(H195,referentes!$AV:$AV,0),1))","v":""},null,{"$f":"IF(J195=\"\",\"\",INDEX('Otras referencias'!$V:$W,MATCH(J195,'Otras referencias'!$W:$W,0),1))","v":""},null,null,null,null,null,null,null,null,null,190,null,null,null,null,null,null,null,null,null,null,null,null,null,null,null,null,null,null,null,null,null,null,null,null,null,null,0,null,null,null,0,null,null,null,null,null,null,null,null,null,null,null,null,null,null,null,null,null,null,"",{"$f":"IF(C195=\"\",\"\",IF(COUNTIF($C$6:C195, C195)>1, \"\", C195))","v":""},{"$f":"IF(K195=\"\",\"\",INDEX(referentes!P:Q,MATCH(K195,referentes!$Q:$Q,0),1))","v":""},{"$f":"IF(L195=\"\",\"\",INDEX(referentes!$A:$B,MATCH(L195,referentes!$B:$B,0),1))","v":""},{"$f":"IF(P195=\"\",\"\",INDEX(referentes!D:E,MATCH(P195,referentes!$E:$E,0),1))","v":""},{"$f":"IF(Q195=\"\",\"\",INDEX(referentes!G:H,MATCH(Q195,referentes!$H:$H,0),1))","v":""},"",{"$f":"IF(V195=\"\",\"\",INDEX(referentes!S:T,MATCH(V195,referentes!$T:$T,0),1))","v":""},{"$f":"IF(BL195=\"\",\"\",INDEX(referentes!J:K,MATCH(BL195,referentes!$K:$K,0),1))","v":""},{"$f":"IF(BD195=\"\",\"\",INDEX(referentes!V:W,MATCH(BD195,referentes!$W:$W,0),1))","v":""},{"$f":"IF(BE195=\"\",\"\",INDEX(referentes!Y:Z,MATCH(BE195,referentes!$Z:$Z,0),1))","v":""},{"$f":"IF(BF195=\"\",\"\",INDEX(referentes!AB:AC,MATCH(BF195,referentes!$AC:$AC,0),1))","v":""},{"$f":"IF(BG195=\"\",\"\",INDEX(referentes!AE:AF,MATCH(BG195,referentes!$AF:$AF,0),1))","v":""},{"$f":"IF(AY195=\"\",\"\",INDEX(referentes!M:N,MATCH(AY195,referentes!$N:$N,0),1))","v":""},{"$f":"IF(BN195=\"\",\"\",INDEX('Otras referencias'!S:T,MATCH(BN195,'Otras referencias'!$T:$T,0),1))","v":""},{"$f":"IF(BH195=\"\",\"\",INDEX('Otras referencias'!A:B,MATCH(BH195,'Otras referencias'!$B:$B,0),1))","v":""}]
[null,0,"",null,null,"",{"$f":"IF(H196=\"\",\"\",INDEX(referentes!AU:AV,MATCH(H196,referentes!$AV:$AV,0),1))","v":""},null,{"$f":"IF(J196=\"\",\"\",INDEX('Otras referencias'!$V:$W,MATCH(J196,'Otras referencias'!$W:$W,0),1))","v":""},null,null,null,null,null,null,null,null,null,191,null,null,null,null,null,null,null,null,null,null,null,null,null,null,null,null,null,null,null,null,null,null,null,null,null,null,0,null,null,null,0,null,null,null,null,null,null,null,null,null,null,null,null,null,null,null,null,null,null,"",{"$f":"IF(C196=\"\",\"\",IF(COUNTIF($C$6:C196, C196)>1, \"\", C196))","v":""},{"$f":"IF(K196=\"\",\"\",INDEX(referentes!P:Q,MATCH(K196,referentes!$Q:$Q,0),1))","v":""},{"$f":"IF(L196=\"\",\"\",INDEX(referentes!$A:$B,MATCH(L196,referentes!$B:$B,0),1))","v":""},{"$f":"IF(P196=\"\",\"\",INDEX(referentes!D:E,MATCH(P196,referentes!$E:$E,0),1))","v":""},{"$f":"IF(Q196=\"\",\"\",INDEX(referentes!G:H,MATCH(Q196,referentes!$H:$H,0),1))","v":""},"",{"$f":"IF(V196=\"\",\"\",INDEX(referentes!S:T,MATCH(V196,referentes!$T:$T,0),1))","v":""},{"$f":"IF(BL196=\"\",\"\",INDEX(referentes!J:K,MATCH(BL196,referentes!$K:$K,0),1))","v":""},{"$f":"IF(BD196=\"\",\"\",INDEX(referentes!V:W,MATCH(BD196,referentes!$W:$W,0),1))","v":""},{"$f":"IF(BE196=\"\",\"\",INDEX(referentes!Y:Z,MATCH(BE196,referentes!$Z:$Z,0),1))","v":""},{"$f":"IF(BF196=\"\",\"\",INDEX(referentes!AB:AC,MATCH(BF196,referentes!$AC:$AC,0),1))","v":""},{"$f":"IF(BG196=\"\",\"\",INDEX(referentes!AE:AF,MATCH(BG196,referentes!$AF:$AF,0),1))","v":""},{"$f":"IF(AY196=\"\",\"\",INDEX(referentes!M:N,MATCH(AY196,referentes!$N:$N,0),1))","v":""},{"$f":"IF(BN196=\"\",\"\",INDEX('Otras referencias'!S:T,MATCH(BN196,'Otras referencias'!$T:$T,0),1))","v":""},{"$f":"IF(BH196=\"\",\"\",INDEX('Otras referencias'!A:B,MATCH(BH196,'Otras referencias'!$B:$B,0),1))","v":""}]
[null,0,"",null,null,"",{"$f":"IF(H197=\"\",\"\",INDEX(referentes!AU:AV,MATCH(H197,referentes!$AV:$AV,0),1))","v":""},null,{"$f":"IF(J197=\"\",\"\",INDEX('Otras referencias'!$V:$W,MATCH(J197,'Otras referencias'!$W:$W,0),1))","v":""},null,null,null,null,null,null,null,null,null,192,null,null,null,null,null,null,null,null,null,null,null,null,null,null,null,null,null,null,null,null,null,null,null,null,null,null,0,null,null,null,0,null,null,null,null,null,null,null,null,null,null,null,null,null,null,null,null,null,null,"",{"$f":"IF(C197=\"\",\"\",IF(COUNTIF($C$6:C197, C197)>1, \"\", C197))","v":""},{"$f":"IF(K197=\"\",\"\",INDEX(referentes!P:Q,MATCH(K197,referentes!$Q:$Q,0),1))","v":""},{"$f":"IF(L197=\"\",\"\",INDEX(referentes!$A:$B,MATCH(L197,referentes!$B:$B,0),1))","v":""},{"$f":"IF(P197=\"\",\"\",INDEX(referentes!D:E,MATCH(P197,referentes!$E:$E,0),1))","v":""},{"$f":"IF(Q197=\"\",\"\",INDEX(referentes!G:H,MATCH(Q197,referentes!$H:$H,0),1))","v":""},"",{"$f":"IF(V197=\"\",\"\",INDEX(referentes!S:T,MATCH(V197,referentes!$T:$T,0),1))","v":""},{"$f":"IF(BL197=\"\",\"\",INDEX(referentes!J:K,MATCH(BL197,referentes!$K:$K,0),1))","v":""},{"$f":"IF(BD197=\"\",\"\",INDEX(referentes!V:W,MATCH(BD197,referentes!$W:$W,0),1))","v":""},{"$f":"IF(BE197=\"\",\"\",INDEX(referentes!Y:Z,MATCH(BE197,referentes!$Z:$Z,0),1))","v":""},{"$f":"IF(BF197=\"\",\"\",INDEX(referentes!AB:AC,MATCH(BF197,referentes!$AC:$AC,0),1))","v":""},{"$f":"IF(BG197=\"\",\"\",INDEX(referentes!AE:AF,MATCH(BG197,referentes!$AF:$AF,0),1))","v":""},{"$f":"IF(AY197=\"\",\"\",INDEX(referentes!M:N,MATCH(AY197,referentes!$N:$N,0),1))","v":""},{"$f":"IF(BN197=\"\",\"\",INDEX('Otras referencias'!S:T,MATCH(BN197,'Otras referencias'!$T:$T,0),1))","v":""},{"$f":"IF(BH197=\"\",\"\",INDEX('Otras referencias'!A:B,MATCH(BH197,'Otras referencias'!$B:$B,0),1))","v":""}]
[null,0,"",null,null,"",{"$f":"IF(H198=\"\",\"\",INDEX(referentes!AU:AV,MATCH(H198,referentes!$AV:$AV,0),1))","v":""},null,{"$f":"IF(J198=\"\",\"\",INDEX('Otras referencias'!$V:$W,MATCH(J198,'Otras referencias'!$W:$W,0),1))","v":""},null,null,null,null,null,null,null,null,null,193,null,null,null,null,null,null,null,null,null,null,null,null,null,null,null,null,null,null,null,null,null,null,null,null,null,null,0,null,null,null,{"$f":"SUM(AU198:AW198)","v":0},null,null,null,null,null,null,null,null,null,null,null,null,null,null,null,null,null,null,{"$f":"IF(D198=\"\",\"\",CONCATENATE(C198,S198))","v":""},{"$f":"IF(C198=\"\",\"\",IF(COUNTIF($C$6:C198, C198)>1, \"\", C198))","v":""},{"$f":"IF(K198=\"\",\"\",INDEX(referentes!P:Q,MATCH(K198,referentes!$Q:$Q,0),1))","v":""},{"$f":"IF(L198=\"\",\"\",INDEX(referentes!$A:$B,MATCH(L198,referentes!$B:$B,0),1))","v":""},{"$f":"IF(P198=\"\",\"\",INDEX(referentes!D:E,MATCH(P198,referentes!$E:$E,0),1))","v":""},{"$f":"IF(Q198=\"\",\"\",INDEX(referentes!G:H,MATCH(Q198,referentes!$H:$H,0),1))","v":""},"",{"$f":"IF(V198=\"\",\"\",INDEX(referentes!S:T,MATCH(V198,referentes!$T:$T,0),1))","v":""},{"$f":"IF(BL198=\"\",\"\",INDEX(referentes!J:K,MATCH(BL198,referentes!$K:$K,0),1))","v":""},{"$f":"IF(BD198=\"\",\"\",INDEX(referentes!V:W,MATCH(BD198,referentes!$W:$W,0),1))","v":""},{"$f":"IF(BE198=\"\",\"\",INDEX(referentes!Y:Z,MATCH(BE198,referentes!$Z:$Z,0),1))","v":""},{"$f":"IF(BF198=\"\",\"\",INDEX(referentes!AB:AC,MATCH(BF198,referentes!$AC:$AC,0),1))","v":""},{"$f":"IF(BG198=\"\",\"\",INDEX(referentes!AE:AF,MATCH(BG198,referentes!$AF:$AF,0),1))","v":""},{"$f":"IF(AY198=\"\",\"\",INDEX(referentes!M:N,MATCH(AY198,referentes!$N:$N,0),1))","v":""},{"$f":"IF(BN198=\"\",\"\",INDEX('Otras referencias'!S:T,MATCH(BN198,'Otras referencias'!$T:$T,0),1))","v":""},{"$f":"IF(BH198=\"\",\"\",INDEX('Otras referencias'!A:B,MATCH(BH198,'Otras referencias'!$B:$B,0),1))","v":""}]
[null,{"$f":"IF(BW199=BW198,B198,B198+1)","v":0},{"$f":"IF(E199<>\"\",CONCATENATE($A$3,D199,B199),\"\")","v":""},null,null,{"$f":"IF(D199<>\"\",D199+E199,\"\")","v":""},{"$f":"IF(H199=\"\",\"\",INDEX(referentes!AU:AV,MATCH(H199,referentes!$AV:$AV,0),1))","v":""},null,{"$f":"IF(J199=\"\",\"\",INDEX('Otras referencias'!$V:$W,MATCH(J199,'Otras referencias'!$W:$W,0),1))","v":""},null,null,null,null,null,null,null,null,null,194,null,null,null,null,null,null,null,null,null,null,null,null,null,null,null,null,null,null,null,null,null,null,null,null,null,null,{"$f":"SUM(W199:AR199)","v":0},null,null,null,0,null,null,null,null,null,null,null,null,null,null,null,null,null,null,null,null,null,null,"",{"$f":"IF(C199=\"\",\"\",IF(COUNTIF($C$6:C199, C199)>1, \"\", C199))","v":""},{"$f":"IF(K199=\"\",\"\",INDEX(referentes!P:Q,MATCH(K199,referentes!$Q:$Q,0),1))","v":""},{"$f":"IF(L199=\"\",\"\",INDEX(referentes!$A:$B,MATCH(L199,referentes!$B:$B,0),1))","v":""},{"$f":"IF(P199=\"\",\"\",INDEX(referentes!D:E,MATCH(P199,referentes!$E:$E,0),1))","v":""},{"$f":"IF(Q199=\"\",\"\",INDEX(referentes!G:H,MATCH(Q199,referentes!$H:$H,0),1))","v":""},{"$f":"CONCATENATE(G199,I199,BS199,BT199,BU199,BV199,M199,N199,O199)","v":""},{"$f":"IF(V199=\"\",\"\",INDEX(referentes!S:T,MATCH(V199,referentes!$T:$T,0),1))","v":""},{"$f":"IF(BL199=\"\",\"\",INDEX(referentes!J:K,MATCH(BL199,referentes!$K:$K,0),1))","v":""},{"$f":"IF(BD199=\"\",\"\",INDEX(referentes!V:W,MATCH(BD199,referentes!$W:$W,0),1))","v":""},{"$f":"IF(BE199=\"\",\"\",INDEX(referentes!Y:Z,MATCH(BE199,referentes!$Z:$Z,0),1))","v":""},{"$f":"IF(BF199=\"\",\"\",INDEX(referentes!AB:AC,MATCH(BF199,referentes!$AC:$AC,0),1))","v":""},{"$f":"IF(BG199=\"\",\"\",INDEX(referentes!AE:AF,MATCH(BG199,referentes!$AF:$AF,0),1))","v":""},{"$f":"IF(AY199=\"\",\"\",INDEX(referentes!M:N,MATCH(AY199,referentes!$N:$N,0),1))","v":""},{"$f":"IF(BN199=\"\",\"\",INDEX('Otras referencias'!S:T,MATCH(BN199,'Otras referencias'!$T:$T,0),1))","v":""},{"$f":"IF(BH199=\"\",\"\",INDEX('Otras referencias'!A:B,MATCH(BH199,'Otras referencias'!$B:$B,0),1))","v":""}]
[null,0,"",null,null,"",{"$f":"IF(H200=\"\",\"\",INDEX(referentes!AU:AV,MATCH(H200,referentes!$AV:$AV,0),1))","v":""},null,{"$f":"IF(J200=\"\",\"\",INDEX('Otras referencias'!$V:$W,MATCH(J200,'Otras referencias'!$W:$W,0),1))","v":""},null,null,null,null,null,null,null,null,null,195,null,null,null,null,null,null,null,null,null,null,null,null,null,null,null,null,null,null,null,null,null,null,null,null,null,null,0,null,null,null,0,null,null,null,null,null,null,null,null,null,null,null,null,null,null,null,null,null,null,"",{"$f":"IF(C200=\"\",\"\",IF(COUNTIF($C$6:C200, C200)>1, \"\", C200))","v":""},{"$f":"IF(K200=\"\",\"\",INDEX(referentes!P:Q,MATCH(K200,referentes!$Q:$Q,0),1))","v":""},{"$f":"IF(L200=\"\",\"\",INDEX(referentes!$A:$B,MATCH(L200,referentes!$B:$B,0),1))","v":""},{"$f":"IF(P200=\"\",\"\",INDEX(referentes!D:E,MATCH(P200,referentes!$E:$E,0),1))","v":""},{"$f":"IF(Q200=\"\",\"\",INDEX(referentes!G:H,MATCH(Q200,referentes!$H:$H,0),1))","v":""},"",{"$f":"IF(V200=\"\",\"\",INDEX(referentes!S:T,MATCH(V200,referentes!$T:$T,0),1))","v":""},{"$f":"IF(BL200=\"\",\"\",INDEX(referentes!J:K,MATCH(BL200,referentes!$K:$K,0),1))","v":""},{"$f":"IF(BD200=\"\",\"\",INDEX(referentes!V:W,MATCH(BD200,referentes!$W:$W,0),1))","v":""},{"$f":"IF(BE200=\"\",\"\",INDEX(referentes!Y:Z,MATCH(BE200,referentes!$Z:$Z,0),1))","v":""},{"$f":"IF(BF200=\"\",\"\",INDEX(referentes!AB:AC,MATCH(BF200,referentes!$AC:$AC,0),1))","v":""},{"$f":"IF(BG200=\"\",\"\",INDEX(referentes!AE:AF,MATCH(BG200,referentes!$AF:$AF,0),1))","v":""},{"$f":"IF(AY200=\"\",\"\",INDEX(referentes!M:N,MATCH(AY200,referentes!$N:$N,0),1))","v":""},{"$f":"IF(BN200=\"\",\"\",INDEX('Otras referencias'!S:T,MATCH(BN200,'Otras referencias'!$T:$T,0),1))","v":""},{"$f":"IF(BH200=\"\",\"\",INDEX('Otras referencias'!A:B,MATCH(BH200,'Otras referencias'!$B:$B,0),1))","v":""}]
[null,0,"",null,null,"",{"$f":"IF(H201=\"\",\"\",INDEX(referentes!AU:AV,MATCH(H201,referentes!$AV:$AV,0),1))","v":""},null,{"$f":"IF(J201=\"\",\"\",INDEX('Otras referencias'!$V:$W,MATCH(J201,'Otras referencias'!$W:$W,0),1))","v":""},null,null,null,null,null,null,null,null,null,196,null,null,null,null,null,null,null,null,null,null,null,null,null,null,null,null,null,null,null,null,null,null,null,null,null,null,0,null,null,null,0,null,null,null,null,null,null,null,null,null,null,null,null,null,null,null,null,null,null,"",{"$f":"IF(C201=\"\",\"\",IF(COUNTIF($C$6:C201, C201)>1, \"\", C201))","v":""},{"$f":"IF(K201=\"\",\"\",INDEX(referentes!P:Q,MATCH(K201,referentes!$Q:$Q,0),1))","v":""},{"$f":"IF(L201=\"\",\"\",INDEX(referentes!$A:$B,MATCH(L201,referentes!$B:$B,0),1))","v":""},{"$f":"IF(P201=\"\",\"\",INDEX(referentes!D:E,MATCH(P201,referentes!$E:$E,0),1))","v":""},{"$f":"IF(Q201=\"\",\"\",INDEX(referentes!G:H,MATCH(Q201,referentes!$H:$H,0),1))","v":""},"",{"$f":"IF(V201=\"\",\"\",INDEX(referentes!S:T,MATCH(V201,referentes!$T:$T,0),1))","v":""},{"$f":"IF(BL201=\"\",\"\",INDEX(referentes!J:K,MATCH(BL201,referentes!$K:$K,0),1))","v":""},{"$f":"IF(BD201=\"\",\"\",INDEX(referentes!V:W,MATCH(BD201,referentes!$W:$W,0),1))","v":""},{"$f":"IF(BE201=\"\",\"\",INDEX(referentes!Y:Z,MATCH(BE201,referentes!$Z:$Z,0),1))","v":""},{"$f":"IF(BF201=\"\",\"\",INDEX(referentes!AB:AC,MATCH(BF201,referentes!$AC:$AC,0),1))","v":""},{"$f":"IF(BG201=\"\",\"\",INDEX(referentes!AE:AF,MATCH(BG201,referentes!$AF:$AF,0),1))","v":""},{"$f":"IF(AY201=\"\",\"\",INDEX(referentes!M:N,MATCH(AY201,referentes!$N:$N,0),1))","v":""},{"$f":"IF(BN201=\"\",\"\",INDEX('Otras referencias'!S:T,MATCH(BN201,'Otras referencias'!$T:$T,0),1))","v":""},{"$f":"IF(BH201=\"\",\"\",INDEX('Otras referencias'!A:B,MATCH(BH201,'Otras referencias'!$B:$B,0),1))","v":""}]
[null,0,"",null,null,"",{"$f":"IF(H202=\"\",\"\",INDEX(referentes!AU:AV,MATCH(H202,referentes!$AV:$AV,0),1))","v":""},null,{"$f":"IF(J202=\"\",\"\",INDEX('Otras referencias'!$V:$W,MATCH(J202,'Otras referencias'!$W:$W,0),1))","v":""},null,null,null,null,null,null,null,null,null,197,null,null,null,null,null,null,null,null,null,null,null,null,null,null,null,null,null,null,null,null,null,null,null,null,null,null,0,null,null,null,0,null,null,null,null,null,null,null,null,null,null,null,null,null,null,null,null,null,null,"",{"$f":"IF(C202=\"\",\"\",IF(COUNTIF($C$6:C202, C202)>1, \"\", C202))","v":""},{"$f":"IF(K202=\"\",\"\",INDEX(referentes!P:Q,MATCH(K202,referentes!$Q:$Q,0),1))","v":""},{"$f":"IF(L202=\"\",\"\",INDEX(referentes!$A:$B,MATCH(L202,referentes!$B:$B,0),1))","v":""},{"$f":"IF(P202=\"\",\"\",INDEX(referentes!D:E,MATCH(P202,referentes!$E:$E,0),1))","v":""},{"$f":"IF(Q202=\"\",\"\",INDEX(referentes!G:H,MATCH(Q202,referentes!$H:$H,0),1))","v":""},"",{"$f":"IF(V202=\"\",\"\",INDEX(referentes!S:T,MATCH(V202,referentes!$T:$T,0),1))","v":""},{"$f":"IF(BL202=\"\",\"\",INDEX(referentes!J:K,MATCH(BL202,referentes!$K:$K,0),1))","v":""},{"$f":"IF(BD202=\"\",\"\",INDEX(referentes!V:W,MATCH(BD202,referentes!$W:$W,0),1))","v":""},{"$f":"IF(BE202=\"\",\"\",INDEX(referentes!Y:Z,MATCH(BE202,referentes!$Z:$Z,0),1))","v":""},{"$f":"IF(BF202=\"\",\"\",INDEX(referentes!AB:AC,MATCH(BF202,referentes!$AC:$AC,0),1))","v":""},{"$f":"IF(BG202=\"\",\"\",INDEX(referentes!AE:AF,MATCH(BG202,referentes!$AF:$AF,0),1))","v":""},{"$f":"IF(AY202=\"\",\"\",INDEX(referentes!M:N,MATCH(AY202,referentes!$N:$N,0),1))","v":""},{"$f":"IF(BN202=\"\",\"\",INDEX('Otras referencias'!S:T,MATCH(BN202,'Otras referencias'!$T:$T,0),1))","v":""},{"$f":"IF(BH202=\"\",\"\",INDEX('Otras referencias'!A:B,MATCH(BH202,'Otras referencias'!$B:$B,0),1))","v":""}]
[null,0,"",null,null,"",{"$f":"IF(H203=\"\",\"\",INDEX(referentes!AU:AV,MATCH(H203,referentes!$AV:$AV,0),1))","v":""},null,{"$f":"IF(J203=\"\",\"\",INDEX('Otras referencias'!$V:$W,MATCH(J203,'Otras referencias'!$W:$W,0),1))","v":""},null,null,null,null,null,null,null,null,null,198,null,null,null,null,null,null,null,null,null,null,null,null,null,null,null,null,null,null,null,null,null,null,null,null,null,null,0,null,null,null,0,null,null,null,null,null,null,null,null,null,null,null,null,null,null,null,null,null,null,"",{"$f":"IF(C203=\"\",\"\",IF(COUNTIF($C$6:C203, C203)>1, \"\", C203))","v":""},{"$f":"IF(K203=\"\",\"\",INDEX(referentes!P:Q,MATCH(K203,referentes!$Q:$Q,0),1))","v":""},{"$f":"IF(L203=\"\",\"\",INDEX(referentes!$A:$B,MATCH(L203,referentes!$B:$B,0),1))","v":""},{"$f":"IF(P203=\"\",\"\",INDEX(referentes!D:E,MATCH(P203,referentes!$E:$E,0),1))","v":""},{"$f":"IF(Q203=\"\",\"\",INDEX(referentes!G:H,MATCH(Q203,referentes!$H:$H,0),1))","v":""},"",{"$f":"IF(V203=\"\",\"\",INDEX(referentes!S:T,MATCH(V203,referentes!$T:$T,0),1))","v":""},{"$f":"IF(BL203=\"\",\"\",INDEX(referentes!J:K,MATCH(BL203,referentes!$K:$K,0),1))","v":""},{"$f":"IF(BD203=\"\",\"\",INDEX(referentes!V:W,MATCH(BD203,referentes!$W:$W,0),1))","v":""},{"$f":"IF(BE203=\"\",\"\",INDEX(referentes!Y:Z,MATCH(BE203,referentes!$Z:$Z,0),1))","v":""},{"$f":"IF(BF203=\"\",\"\",INDEX(referentes!AB:AC,MATCH(BF203,referentes!$AC:$AC,0),1))","v":""},{"$f":"IF(BG203=\"\",\"\",INDEX(referentes!AE:AF,MATCH(BG203,referentes!$AF:$AF,0),1))","v":""},{"$f":"IF(AY203=\"\",\"\",INDEX(referentes!M:N,MATCH(AY203,referentes!$N:$N,0),1))","v":""},{"$f":"IF(BN203=\"\",\"\",INDEX('Otras referencias'!S:T,MATCH(BN203,'Otras referencias'!$T:$T,0),1))","v":""},{"$f":"IF(BH203=\"\",\"\",INDEX('Otras referencias'!A:B,MATCH(BH203,'Otras referencias'!$B:$B,0),1))","v":""}]
[null,0,"",null,null,"",{"$f":"IF(H204=\"\",\"\",INDEX(referentes!AU:AV,MATCH(H204,referentes!$AV:$AV,0),1))","v":""},null,{"$f":"IF(J204=\"\",\"\",INDEX('Otras referencias'!$V:$W,MATCH(J204,'Otras referencias'!$W:$W,0),1))","v":""},null,null,null,null,null,null,null,null,null,199,null,null,null,null,null,null,null,null,null,null,null,null,null,null,null,null,null,null,null,null,null,null,null,null,null,null,0,null,null,null,0,null,null,null,null,null,null,null,null,null,null,null,null,null,null,null,null,null,null,"",{"$f":"IF(C204=\"\",\"\",IF(COUNTIF($C$6:C204, C204)>1, \"\", C204))","v":""},{"$f":"IF(K204=\"\",\"\",INDEX(referentes!P:Q,MATCH(K204,referentes!$Q:$Q,0),1))","v":""},{"$f":"IF(L204=\"\",\"\",INDEX(referentes!$A:$B,MATCH(L204,referentes!$B:$B,0),1))","v":""},{"$f":"IF(P204=\"\",\"\",INDEX(referentes!D:E,MATCH(P204,referentes!$E:$E,0),1))","v":""},{"$f":"IF(Q204=\"\",\"\",INDEX(referentes!G:H,MATCH(Q204,referentes!$H:$H,0),1))","v":""},"",{"$f":"IF(V204=\"\",\"\",INDEX(referentes!S:T,MATCH(V204,referentes!$T:$T,0),1))","v":""},{"$f":"IF(BL204=\"\",\"\",INDEX(referentes!J:K,MATCH(BL204,referentes!$K:$K,0),1))","v":""},{"$f":"IF(BD204=\"\",\"\",INDEX(referentes!V:W,MATCH(BD204,referentes!$W:$W,0),1))","v":""},{"$f":"IF(BE204=\"\",\"\",INDEX(referentes!Y:Z,MATCH(BE204,referentes!$Z:$Z,0),1))","v":""},{"$f":"IF(BF204=\"\",\"\",INDEX(referentes!AB:AC,MATCH(BF204,referentes!$AC:$AC,0),1))","v":""},{"$f":"IF(BG204=\"\",\"\",INDEX(referentes!AE:AF,MATCH(BG204,referentes!$AF:$AF,0),1))","v":""},{"$f":"IF(AY204=\"\",\"\",INDEX(referentes!M:N,MATCH(AY204,referentes!$N:$N,0),1))","v":""},{"$f":"IF(BN204=\"\",\"\",INDEX('Otras referencias'!S:T,MATCH(BN204,'Otras referencias'!$T:$T,0),1))","v":""},{"$f":"IF(BH204=\"\",\"\",INDEX('Otras referencias'!A:B,MATCH(BH204,'Otras referencias'!$B:$B,0),1))","v":""}]
[null,0,"",null,null,"",{"$f":"IF(H205=\"\",\"\",INDEX(referentes!AU:AV,MATCH(H205,referentes!$AV:$AV,0),1))","v":""},null,{"$f":"IF(J205=\"\",\"\",INDEX('Otras referencias'!$V:$W,MATCH(J205,'Otras referencias'!$W:$W,0),1))","v":""},null,null,null,null,null,null,null,null,null,200,null,null,null,null,null,null,null,null,null,null,null,null,null,null,null,null,null,null,null,null,null,null,null,null,null,null,0,null,null,null,0,null,null,null,null,null,null,null,null,null,null,null,null,null,null,null,null,null,null,"",{"$f":"IF(C205=\"\",\"\",IF(COUNTIF($C$6:C205, C205)>1, \"\", C205))","v":""},{"$f":"IF(K205=\"\",\"\",INDEX(referentes!P:Q,MATCH(K205,referentes!$Q:$Q,0),1))","v":""},{"$f":"IF(L205=\"\",\"\",INDEX(referentes!$A:$B,MATCH(L205,referentes!$B:$B,0),1))","v":""},{"$f":"IF(P205=\"\",\"\",INDEX(referentes!D:E,MATCH(P205,referentes!$E:$E,0),1))","v":""},{"$f":"IF(Q205=\"\",\"\",INDEX(referentes!G:H,MATCH(Q205,referentes!$H:$H,0),1))","v":""},"",{"$f":"IF(V205=\"\",\"\",INDEX(referentes!S:T,MATCH(V205,referentes!$T:$T,0),1))","v":""},{"$f":"IF(BL205=\"\",\"\",INDEX(referentes!J:K,MATCH(BL205,referentes!$K:$K,0),1))","v":""},{"$f":"IF(BD205=\"\",\"\",INDEX(referentes!V:W,MATCH(BD205,referentes!$W:$W,0),1))","v":""},{"$f":"IF(BE205=\"\",\"\",INDEX(referentes!Y:Z,MATCH(BE205,referentes!$Z:$Z,0),1))","v":""},{"$f":"IF(BF205=\"\",\"\",INDEX(referentes!AB:AC,MATCH(BF205,referentes!$AC:$AC,0),1))","v":""},{"$f":"IF(BG205=\"\",\"\",INDEX(referentes!AE:AF,MATCH(BG205,referentes!$AF:$AF,0),1))","v":""},{"$f":"IF(AY205=\"\",\"\",INDEX(referentes!M:N,MATCH(AY205,referentes!$N:$N,0),1))","v":""},{"$f":"IF(BN205=\"\",\"\",INDEX('Otras referencias'!S:T,MATCH(BN205,'Otras referencias'!$T:$T,0),1))","v":""},{"$f":"IF(BH205=\"\",\"\",INDEX('Otras referencias'!A:B,MATCH(BH205,'Otras referencias'!$B:$B,0),1))","v":""}]
[null,0,"",null,null,"",{"$f":"IF(H206=\"\",\"\",INDEX(referentes!AU:AV,MATCH(H206,referentes!$AV:$AV,0),1))","v":""},null,{"$f":"IF(J206=\"\",\"\",INDEX('Otras referencias'!$V:$W,MATCH(J206,'Otras referencias'!$W:$W,0),1))","v":""},null,null,null,null,null,null,null,null,null,201,null,null,null,null,null,null,null,null,null,null,null,null,null,null,null,null,null,null,null,null,null,null,null,null,null,null,0,null,null,null,0,null,null,null,null,null,null,null,null,null,null,null,null,null,null,null,null,null,null,"",{"$f":"IF(C206=\"\",\"\",IF(COUNTIF($C$6:C206, C206)>1, \"\", C206))","v":""},{"$f":"IF(K206=\"\",\"\",INDEX(referentes!P:Q,MATCH(K206,referentes!$Q:$Q,0),1))","v":""},{"$f":"IF(L206=\"\",\"\",INDEX(referentes!$A:$B,MATCH(L206,referentes!$B:$B,0),1))","v":""},{"$f":"IF(P206=\"\",\"\",INDEX(referentes!D:E,MATCH(P206,referentes!$E:$E,0),1))","v":""},{"$f":"IF(Q206=\"\",\"\",INDEX(referentes!G:H,MATCH(Q206,referentes!$H:$H,0),1))","v":""},"",{"$f":"IF(V206=\"\",\"\",INDEX(referentes!S:T,MATCH(V206,referentes!$T:$T,0),1))","v":""},{"$f":"IF(BL206=\"\",\"\",INDEX(referentes!J:K,MATCH(BL206,referentes!$K:$K,0),1))","v":""},{"$f":"IF(BD206=\"\",\"\",INDEX(referentes!V:W,MATCH(BD206,referentes!$W:$W,0),1))","v":""},{"$f":"IF(BE206=\"\",\"\",INDEX(referentes!Y:Z,MATCH(BE206,referentes!$Z:$Z,0),1))","v":""},{"$f":"IF(BF206=\"\",\"\",INDEX(referentes!AB:AC,MATCH(BF206,referentes!$AC:$AC,0),1))","v":""},{"$f":"IF(BG206=\"\",\"\",INDEX(referentes!AE:AF,MATCH(BG206,referentes!$AF:$AF,0),1))","v":""},{"$f":"IF(AY206=\"\",\"\",INDEX(referentes!M:N,MATCH(AY206,referentes!$N:$N,0),1))","v":""},{"$f":"IF(BN206=\"\",\"\",INDEX('Otras referencias'!S:T,MATCH(BN206,'Otras referencias'!$T:$T,0),1))","v":""},{"$f":"IF(BH206=\"\",\"\",INDEX('Otras referencias'!A:B,MATCH(BH206,'Otras referencias'!$B:$B,0),1))","v":""}]
[null,{"$f":"IF(BW207=BW206,B206,B206+1)","v":0},{"$f":"IF(E207<>\"\",CONCATENATE($A$3,D207,B207),\"\")","v":""},null,null,{"$f":"IF(D207<>\"\",D207+E207,\"\")","v":""},{"$f":"IF(H207=\"\",\"\",INDEX(referentes!AU:AV,MATCH(H207,referentes!$AV:$AV,0),1))","v":""},null,{"$f":"IF(J207=\"\",\"\",INDEX('Otras referencias'!$V:$W,MATCH(J207,'Otras referencias'!$W:$W,0),1))","v":""},null,null,null,null,null,null,null,null,null,201,null,null,null,null,null,null,null,null,null,null,null,null,null,null,null,null,null,null,null,null,null,null,null,null,null,null,{"$f":"SUM(W207:AR207)","v":0},null,null,null,{"$f":"SUM(AU207:AW207)","v":0},null,null,null,null,null,null,null,null,null,null,null,null,null,null,null,null,null,null,{"$f":"IF(D207=\"\",\"\",CONCATENATE(C207,S207))","v":""},{"$f":"IF(C207=\"\",\"\",IF(COUNTIF($C$6:C207, C207)>1, \"\", C207))","v":""},{"$f":"IF(K207=\"\",\"\",INDEX(referentes!P:Q,MATCH(K207,referentes!$Q:$Q,0),1))","v":""},{"$f":"IF(L207=\"\",\"\",INDEX(referentes!$A:$B,MATCH(L207,referentes!$B:$B,0),1))","v":""},{"$f":"IF(P207=\"\",\"\",INDEX(referentes!D:E,MATCH(P207,referentes!$E:$E,0),1))","v":""},{"$f":"IF(Q207=\"\",\"\",INDEX(referentes!G:H,MATCH(Q207,referentes!$H:$H,0),1))","v":""},{"$f":"CONCATENATE(G207,I207,BS207,BT207,BU207,BV207,M207,N207,O207)","v":""},{"$f":"IF(V207=\"\",\"\",INDEX(referentes!S:T,MATCH(V207,referentes!$T:$T,0),1))","v":""},{"$f":"IF(BL207=\"\",\"\",INDEX(referentes!J:K,MATCH(BL207,referentes!$K:$K,0),1))","v":""},{"$f":"IF(BD207=\"\",\"\",INDEX(referentes!V:W,MATCH(BD207,referentes!$W:$W,0),1))","v":""},{"$f":"IF(BE207=\"\",\"\",INDEX(referentes!Y:Z,MATCH(BE207,referentes!$Z:$Z,0),1))","v":""},{"$f":"IF(BF207=\"\",\"\",INDEX(referentes!AB:AC,MATCH(BF207,referentes!$AC:$AC,0),1))","v":""},{"$f":"IF(BG207=\"\",\"\",INDEX(referentes!AE:AF,MATCH(BG207,referentes!$AF:$AF,0),1))","v":""},{"$f":"IF(AY207=\"\",\"\",INDEX(referentes!M:N,MATCH(AY207,referentes!$N:$N,0),1))","v":""},{"$f":"IF(BN207=\"\",\"\",INDEX('Otras referencias'!S:T,MATCH(BN207,'Otras referencias'!$T:$T,0),1))","v":""},{"$f":"IF(BH207=\"\",\"\",INDEX('Otras referencias'!A:B,MATCH(BH207,'Otras referencias'!$B:$B,0),1))","v":""}]
[null,0,"",null,null,"",{"$f":"IF(H208=\"\",\"\",INDEX(referentes!AU:AV,MATCH(H208,referentes!$AV:$AV,0),1))","v":""},null,{"$f":"IF(J208=\"\",\"\",INDEX('Otras referencias'!$V:$W,MATCH(J208,'Otras referencias'!$W:$W,0),1))","v":""},null,null,null,null,null,null,null,null,null,201,null,null,null,null,null,null,null,null,null,null,null,null,null,null,null,null,null,null,null,null,null,null,null,null,null,null,0,null,null,null,0,null,null,null,null,null,null,null,null,null,null,null,null,null,null,null,null,null,null,"",{"$f":"IF(C208=\"\",\"\",IF(COUNTIF($C$6:C208, C208)>1, \"\", C208))","v":""},{"$f":"IF(K208=\"\",\"\",INDEX(referentes!P:Q,MATCH(K208,referentes!$Q:$Q,0),1))","v":""},{"$f":"IF(L208=\"\",\"\",INDEX(referentes!$A:$B,MATCH(L208,referentes!$B:$B,0),1))","v":""},{"$f":"IF(P208=\"\",\"\",INDEX(referentes!D:E,MATCH(P208,referentes!$E:$E,0),1))","v":""},{"$f":"IF(Q208=\"\",\"\",INDEX(referentes!G:H,MATCH(Q208,referentes!$H:$H,0),1))","v":""},"",{"$f":"IF(V208=\"\",\"\",INDEX(referentes!S:T,MATCH(V208,referentes!$T:$T,0),1))","v":""},{"$f":"IF(BL208=\"\",\"\",INDEX(referentes!J:K,MATCH(BL208,referentes!$K:$K,0),1))","v":""},{"$f":"IF(BD208=\"\",\"\",INDEX(referentes!V:W,MATCH(BD208,referentes!$W:$W,0),1))","v":""},{"$f":"IF(BE208=\"\",\"\",INDEX(referentes!Y:Z,MATCH(BE208,referentes!$Z:$Z,0),1))","v":""},{"$f":"IF(BF208=\"\",\"\",INDEX(referentes!AB:AC,MATCH(BF208,referentes!$AC:$AC,0),1))","v":""},{"$f":"IF(BG208=\"\",\"\",INDEX(referentes!AE:AF,MATCH(BG208,referentes!$AF:$AF,0),1))","v":""},{"$f":"IF(AY208=\"\",\"\",INDEX(referentes!M:N,MATCH(AY208,referentes!$N:$N,0),1))","v":""},{"$f":"IF(BN208=\"\",\"\",INDEX('Otras referencias'!S:T,MATCH(BN208,'Otras referencias'!$T:$T,0),1))","v":""},{"$f":"IF(BH208=\"\",\"\",INDEX('Otras referencias'!A:B,MATCH(BH208,'Otras referencias'!$B:$B,0),1))","v":""}]
[null,0,"",null,null,"",{"$f":"IF(H209=\"\",\"\",INDEX(referentes!AU:AV,MATCH(H209,referentes!$AV:$AV,0),1))","v":""},null,{"$f":"IF(J209=\"\",\"\",INDEX('Otras referencias'!$V:$W,MATCH(J209,'Otras referencias'!$W:$W,0),1))","v":""},null,null,null,null,null,null,null,null,null,201,null,null,null,null,null,null,null,null,null,null,null,null,null,null,null,null,null,null,null,null,null,null,null,null,null,null,0,null,null,null,0,null,null,null,null,null,null,null,null,null,null,null,null,null,null,null,null,null,null,"",{"$f":"IF(C209=\"\",\"\",IF(COUNTIF($C$6:C209, C209)>1, \"\", C209))","v":""},{"$f":"IF(K209=\"\",\"\",INDEX(referentes!P:Q,MATCH(K209,referentes!$Q:$Q,0),1))","v":""},{"$f":"IF(L209=\"\",\"\",INDEX(referentes!$A:$B,MATCH(L209,referentes!$B:$B,0),1))","v":""},{"$f":"IF(P209=\"\",\"\",INDEX(referentes!D:E,MATCH(P209,referentes!$E:$E,0),1))","v":""},{"$f":"IF(Q209=\"\",\"\",INDEX(referentes!G:H,MATCH(Q209,referentes!$H:$H,0),1))","v":""},"",{"$f":"IF(V209=\"\",\"\",INDEX(referentes!S:T,MATCH(V209,referentes!$T:$T,0),1))","v":""},{"$f":"IF(BL209=\"\",\"\",INDEX(referentes!J:K,MATCH(BL209,referentes!$K:$K,0),1))","v":""},{"$f":"IF(BD209=\"\",\"\",INDEX(referentes!V:W,MATCH(BD209,referentes!$W:$W,0),1))","v":""},{"$f":"IF(BE209=\"\",\"\",INDEX(referentes!Y:Z,MATCH(BE209,referentes!$Z:$Z,0),1))","v":""},{"$f":"IF(BF209=\"\",\"\",INDEX(referentes!AB:AC,MATCH(BF209,referentes!$AC:$AC,0),1))","v":""},{"$f":"IF(BG209=\"\",\"\",INDEX(referentes!AE:AF,MATCH(BG209,referentes!$AF:$AF,0),1))","v":""},{"$f":"IF(AY209=\"\",\"\",INDEX(referentes!M:N,MATCH(AY209,referentes!$N:$N,0),1))","v":""},{"$f":"IF(BN209=\"\",\"\",INDEX('Otras referencias'!S:T,MATCH(BN209,'Otras referencias'!$T:$T,0),1))","v":""},{"$f":"IF(BH209=\"\",\"\",INDEX('Otras referencias'!A:B,MATCH(BH209,'Otras referencias'!$B:$B,0),1))","v":""}]
[null,0,"",null,null,"",{"$f":"IF(H210=\"\",\"\",INDEX(referentes!AU:AV,MATCH(H210,referentes!$AV:$AV,0),1))","v":""},null,{"$f":"IF(J210=\"\",\"\",INDEX('Otras referencias'!$V:$W,MATCH(J210,'Otras referencias'!$W:$W,0),1))","v":""},null,null,null,null,null,null,null,null,null,201,null,null,null,null,null,null,null,null,null,null,null,null,null,null,null,null,null,null,null,null,null,null,null,null,null,null,0,null,null,null,0,null,null,null,null,null,null,null,null,null,null,null,null,null,null,null,null,null,null,"",{"$f":"IF(C210=\"\",\"\",IF(COUNTIF($C$6:C210, C210)>1, \"\", C210))","v":""},{"$f":"IF(K210=\"\",\"\",INDEX(referentes!P:Q,MATCH(K210,referentes!$Q:$Q,0),1))","v":""},{"$f":"IF(L210=\"\",\"\",INDEX(referentes!$A:$B,MATCH(L210,referentes!$B:$B,0),1))","v":""},{"$f":"IF(P210=\"\",\"\",INDEX(referentes!D:E,MATCH(P210,referentes!$E:$E,0),1))","v":""},{"$f":"IF(Q210=\"\",\"\",INDEX(referentes!G:H,MATCH(Q210,referentes!$H:$H,0),1))","v":""},"",{"$f":"IF(V210=\"\",\"\",INDEX(referentes!S:T,MATCH(V210,referentes!$T:$T,0),1))","v":""},{"$f":"IF(BL210=\"\",\"\",INDEX(referentes!J:K,MATCH(BL210,referentes!$K:$K,0),1))","v":""},{"$f":"IF(BD210=\"\",\"\",INDEX(referentes!V:W,MATCH(BD210,referentes!$W:$W,0),1))","v":""},{"$f":"IF(BE210=\"\",\"\",INDEX(referentes!Y:Z,MATCH(BE210,referentes!$Z:$Z,0),1))","v":""},{"$f":"IF(BF210=\"\",\"\",INDEX(referentes!AB:AC,MATCH(BF210,referentes!$AC:$AC,0),1))","v":""},{"$f":"IF(BG210=\"\",\"\",INDEX(referentes!AE:AF,MATCH(BG210,referentes!$AF:$AF,0),1))","v":""},{"$f":"IF(AY210=\"\",\"\",INDEX(referentes!M:N,MATCH(AY210,referentes!$N:$N,0),1))","v":""},{"$f":"IF(BN210=\"\",\"\",INDEX('Otras referencias'!S:T,MATCH(BN210,'Otras referencias'!$T:$T,0),1))","v":""},{"$f":"IF(BH210=\"\",\"\",INDEX('Otras referencias'!A:B,MATCH(BH210,'Otras referencias'!$B:$B,0),1))","v":""}]
[null,0,"",null,null,"",{"$f":"IF(H211=\"\",\"\",INDEX(referentes!AU:AV,MATCH(H211,referentes!$AV:$AV,0),1))","v":""},null,{"$f":"IF(J211=\"\",\"\",INDEX('Otras referencias'!$V:$W,MATCH(J211,'Otras referencias'!$W:$W,0),1))","v":""},null,null,null,null,null,null,null,null,null,201,null,null,null,null,null,null,null,null,null,null,null,null,null,null,null,null,null,null,null,null,null,null,null,null,null,null,0,null,null,null,0,null,null,null,null,null,null,null,null,null,null,null,null,null,null,null,null,null,null,"",{"$f":"IF(C211=\"\",\"\",IF(COUNTIF($C$6:C211, C211)>1, \"\", C211))","v":""},{"$f":"IF(K211=\"\",\"\",INDEX(referentes!P:Q,MATCH(K211,referentes!$Q:$Q,0),1))","v":""},{"$f":"IF(L211=\"\",\"\",INDEX(referentes!$A:$B,MATCH(L211,referentes!$B:$B,0),1))","v":""},{"$f":"IF(P211=\"\",\"\",INDEX(referentes!D:E,MATCH(P211,referentes!$E:$E,0),1))","v":""},{"$f":"IF(Q211=\"\",\"\",INDEX(referentes!G:H,MATCH(Q211,referentes!$H:$H,0),1))","v":""},"",{"$f":"IF(V211=\"\",\"\",INDEX(referentes!S:T,MATCH(V211,referentes!$T:$T,0),1))","v":""},{"$f":"IF(BL211=\"\",\"\",INDEX(referentes!J:K,MATCH(BL211,referentes!$K:$K,0),1))","v":""},{"$f":"IF(BD211=\"\",\"\",INDEX(referentes!V:W,MATCH(BD211,referentes!$W:$W,0),1))","v":""},{"$f":"IF(BE211=\"\",\"\",INDEX(referentes!Y:Z,MATCH(BE211,referentes!$Z:$Z,0),1))","v":""},{"$f":"IF(BF211=\"\",\"\",INDEX(referentes!AB:AC,MATCH(BF211,referentes!$AC:$AC,0),1))","v":""},{"$f":"IF(BG211=\"\",\"\",INDEX(referentes!AE:AF,MATCH(BG211,referentes!$AF:$AF,0),1))","v":""},{"$f":"IF(AY211=\"\",\"\",INDEX(referentes!M:N,MATCH(AY211,referentes!$N:$N,0),1))","v":""},{"$f":"IF(BN211=\"\",\"\",INDEX('Otras referencias'!S:T,MATCH(BN211,'Otras referencias'!$T:$T,0),1))","v":""},{"$f":"IF(BH211=\"\",\"\",INDEX('Otras referencias'!A:B,MATCH(BH211,'Otras referencias'!$B:$B,0),1))","v":""}]
[null,0,"",null,null,"",{"$f":"IF(H212=\"\",\"\",INDEX(referentes!AU:AV,MATCH(H212,referentes!$AV:$AV,0),1))","v":""},null,{"$f":"IF(J212=\"\",\"\",INDEX('Otras referencias'!$V:$W,MATCH(J212,'Otras referencias'!$W:$W,0),1))","v":""},null,null,null,null,null,null,null,null,null,201,null,null,null,null,null,null,null,null,null,null,null,null,null,null,null,null,null,null,null,null,null,null,null,null,null,null,0,null,null,null,0,null,null,null,null,null,null,null,null,null,null,null,null,null,null,null,null,null,null,"",{"$f":"IF(C212=\"\",\"\",IF(COUNTIF($C$6:C212, C212)>1, \"\", C212))","v":""},{"$f":"IF(K212=\"\",\"\",INDEX(referentes!P:Q,MATCH(K212,referentes!$Q:$Q,0),1))","v":""},{"$f":"IF(L212=\"\",\"\",INDEX(referentes!$A:$B,MATCH(L212,referentes!$B:$B,0),1))","v":""},{"$f":"IF(P212=\"\",\"\",INDEX(referentes!D:E,MATCH(P212,referentes!$E:$E,0),1))","v":""},{"$f":"IF(Q212=\"\",\"\",INDEX(referentes!G:H,MATCH(Q212,referentes!$H:$H,0),1))","v":""},"",{"$f":"IF(V212=\"\",\"\",INDEX(referentes!S:T,MATCH(V212,referentes!$T:$T,0),1))","v":""},{"$f":"IF(BL212=\"\",\"\",INDEX(referentes!J:K,MATCH(BL212,referentes!$K:$K,0),1))","v":""},{"$f":"IF(BD212=\"\",\"\",INDEX(referentes!V:W,MATCH(BD212,referentes!$W:$W,0),1))","v":""},{"$f":"IF(BE212=\"\",\"\",INDEX(referentes!Y:Z,MATCH(BE212,referentes!$Z:$Z,0),1))","v":""},{"$f":"IF(BF212=\"\",\"\",INDEX(referentes!AB:AC,MATCH(BF212,referentes!$AC:$AC,0),1))","v":""},{"$f":"IF(BG212=\"\",\"\",INDEX(referentes!AE:AF,MATCH(BG212,referentes!$AF:$AF,0),1))","v":""},{"$f":"IF(AY212=\"\",\"\",INDEX(referentes!M:N,MATCH(AY212,referentes!$N:$N,0),1))","v":""},{"$f":"IF(BN212=\"\",\"\",INDEX('Otras referencias'!S:T,MATCH(BN212,'Otras referencias'!$T:$T,0),1))","v":""},{"$f":"IF(BH212=\"\",\"\",INDEX('Otras referencias'!A:B,MATCH(BH212,'Otras referencias'!$B:$B,0),1))","v":""}]
[null,0,"",null,null,"",{"$f":"IF(H213=\"\",\"\",INDEX(referentes!AU:AV,MATCH(H213,referentes!$AV:$AV,0),1))","v":""},null,{"$f":"IF(J213=\"\",\"\",INDEX('Otras referencias'!$V:$W,MATCH(J213,'Otras referencias'!$W:$W,0),1))","v":""},null,null,null,null,null,null,null,null,null,201,null,null,null,null,null,null,null,null,null,null,null,null,null,null,null,null,null,null,null,null,null,null,null,null,null,null,0,null,null,null,0,null,null,null,null,null,null,null,null,null,null,null,null,null,null,null,null,null,null,"",{"$f":"IF(C213=\"\",\"\",IF(COUNTIF($C$6:C213, C213)>1, \"\", C213))","v":""},{"$f":"IF(K213=\"\",\"\",INDEX(referentes!P:Q,MATCH(K213,referentes!$Q:$Q,0),1))","v":""},{"$f":"IF(L213=\"\",\"\",INDEX(referentes!$A:$B,MATCH(L213,referentes!$B:$B,0),1))","v":""},{"$f":"IF(P213=\"\",\"\",INDEX(referentes!D:E,MATCH(P213,referentes!$E:$E,0),1))","v":""},{"$f":"IF(Q213=\"\",\"\",INDEX(referentes!G:H,MATCH(Q213,referentes!$H:$H,0),1))","v":""},"",{"$f":"IF(V213=\"\",\"\",INDEX(referentes!S:T,MATCH(V213,referentes!$T:$T,0),1))","v":""},{"$f":"IF(BL213=\"\",\"\",INDEX(referentes!J:K,MATCH(BL213,referentes!$K:$K,0),1))","v":""},{"$f":"IF(BD213=\"\",\"\",INDEX(referentes!V:W,MATCH(BD213,referentes!$W:$W,0),1))","v":""},{"$f":"IF(BE213=\"\",\"\",INDEX(referentes!Y:Z,MATCH(BE213,referentes!$Z:$Z,0),1))","v":""},{"$f":"IF(BF213=\"\",\"\",INDEX(referentes!AB:AC,MATCH(BF213,referentes!$AC:$AC,0),1))","v":""},{"$f":"IF(BG213=\"\",\"\",INDEX(referentes!AE:AF,MATCH(BG213,referentes!$AF:$AF,0),1))","v":""},{"$f":"IF(AY213=\"\",\"\",INDEX(referentes!M:N,MATCH(AY213,referentes!$N:$N,0),1))","v":""},{"$f":"IF(BN213=\"\",\"\",INDEX('Otras referencias'!S:T,MATCH(BN213,'Otras referencias'!$T:$T,0),1))","v":""},{"$f":"IF(BH213=\"\",\"\",INDEX('Otras referencias'!A:B,MATCH(BH213,'Otras referencias'!$B:$B,0),1))","v":""}]
[null,0,"",null,null,"",{"$f":"IF(H214=\"\",\"\",INDEX(referentes!AU:AV,MATCH(H214,referentes!$AV:$AV,0),1))","v":""},null,{"$f":"IF(J214=\"\",\"\",INDEX('Otras referencias'!$V:$W,MATCH(J214,'Otras referencias'!$W:$W,0),1))","v":""},null,null,null,null,null,null,null,null,null,201,null,null,null,null,null,null,null,null,null,null,null,null,null,null,null,null,null,null,null,null,null,null,null,null,null,null,0,null,null,null,0,null,null,null,null,null,null,null,null,null,null,null,null,null,null,null,null,null,null,"",{"$f":"IF(C214=\"\",\"\",IF(COUNTIF($C$6:C214, C214)>1, \"\", C214))","v":""},{"$f":"IF(K214=\"\",\"\",INDEX(referentes!P:Q,MATCH(K214,referentes!$Q:$Q,0),1))","v":""},{"$f":"IF(L214=\"\",\"\",INDEX(referentes!$A:$B,MATCH(L214,referentes!$B:$B,0),1))","v":""},{"$f":"IF(P214=\"\",\"\",INDEX(referentes!D:E,MATCH(P214,referentes!$E:$E,0),1))","v":""},{"$f":"IF(Q214=\"\",\"\",INDEX(referentes!G:H,MATCH(Q214,referentes!$H:$H,0),1))","v":""},"",{"$f":"IF(V214=\"\",\"\",INDEX(referentes!S:T,MATCH(V214,referentes!$T:$T,0),1))","v":""},{"$f":"IF(BL214=\"\",\"\",INDEX(referentes!J:K,MATCH(BL214,referentes!$K:$K,0),1))","v":""},{"$f":"IF(BD214=\"\",\"\",INDEX(referentes!V:W,MATCH(BD214,referentes!$W:$W,0),1))","v":""},{"$f":"IF(BE214=\"\",\"\",INDEX(referentes!Y:Z,MATCH(BE214,referentes!$Z:$Z,0),1))","v":""},{"$f":"IF(BF214=\"\",\"\",INDEX(referentes!AB:AC,MATCH(BF214,referentes!$AC:$AC,0),1))","v":""},{"$f":"IF(BG214=\"\",\"\",INDEX(referentes!AE:AF,MATCH(BG214,referentes!$AF:$AF,0),1))","v":""},{"$f":"IF(AY214=\"\",\"\",INDEX(referentes!M:N,MATCH(AY214,referentes!$N:$N,0),1))","v":""},{"$f":"IF(BN214=\"\",\"\",INDEX('Otras referencias'!S:T,MATCH(BN214,'Otras referencias'!$T:$T,0),1))","v":""},{"$f":"IF(BH214=\"\",\"\",INDEX('Otras referencias'!A:B,MATCH(BH214,'Otras referencias'!$B:$B,0),1))","v":""}]
[null,0,"",null,null,"",{"$f":"IF(H215=\"\",\"\",INDEX(referentes!AU:AV,MATCH(H215,referentes!$AV:$AV,0),1))","v":""},null,{"$f":"IF(J215=\"\",\"\",INDEX('Otras referencias'!$V:$W,MATCH(J215,'Otras referencias'!$W:$W,0),1))","v":""},null,null,null,null,null,null,null,null,null,201,null,null,null,null,null,null,null,null,null,null,null,null,null,null,null,null,null,null,null,null,null,null,null,null,null,null,0,null,null,null,0,null,null,null,null,null,null,null,null,null,null,null,null,null,null,null,null,null,null,"",{"$f":"IF(C215=\"\",\"\",IF(COUNTIF($C$6:C215, C215)>1, \"\", C215))","v":""},{"$f":"IF(K215=\"\",\"\",INDEX(referentes!P:Q,MATCH(K215,referentes!$Q:$Q,0),1))","v":""},{"$f":"IF(L215=\"\",\"\",INDEX(referentes!$A:$B,MATCH(L215,referentes!$B:$B,0),1))","v":""},{"$f":"IF(P215=\"\",\"\",INDEX(referentes!D:E,MATCH(P215,referentes!$E:$E,0),1))","v":""},{"$f":"IF(Q215=\"\",\"\",INDEX(referentes!G:H,MATCH(Q215,referentes!$H:$H,0),1))","v":""},"",{"$f":"IF(V215=\"\",\"\",INDEX(referentes!S:T,MATCH(V215,referentes!$T:$T,0),1))","v":""},{"$f":"IF(BL215=\"\",\"\",INDEX(referentes!J:K,MATCH(BL215,referentes!$K:$K,0),1))","v":""},{"$f":"IF(BD215=\"\",\"\",INDEX(referentes!V:W,MATCH(BD215,referentes!$W:$W,0),1))","v":""},{"$f":"IF(BE215=\"\",\"\",INDEX(referentes!Y:Z,MATCH(BE215,referentes!$Z:$Z,0),1))","v":""},{"$f":"IF(BF215=\"\",\"\",INDEX(referentes!AB:AC,MATCH(BF215,referentes!$AC:$AC,0),1))","v":""},{"$f":"IF(BG215=\"\",\"\",INDEX(referentes!AE:AF,MATCH(BG215,referentes!$AF:$AF,0),1))","v":""},{"$f":"IF(AY215=\"\",\"\",INDEX(referentes!M:N,MATCH(AY215,referentes!$N:$N,0),1))","v":""},{"$f":"IF(BN215=\"\",\"\",INDEX('Otras referencias'!S:T,MATCH(BN215,'Otras referencias'!$T:$T,0),1))","v":""},{"$f":"IF(BH215=\"\",\"\",INDEX('Otras referencias'!A:B,MATCH(BH215,'Otras referencias'!$B:$B,0),1))","v":""}]
[null,0,"",null,null,"",{"$f":"IF(H216=\"\",\"\",INDEX(referentes!AU:AV,MATCH(H216,referentes!$AV:$AV,0),1))","v":""},null,{"$f":"IF(J216=\"\",\"\",INDEX('Otras referencias'!$V:$W,MATCH(J216,'Otras referencias'!$W:$W,0),1))","v":""},null,null,null,null,null,null,null,null,null,201,null,null,null,null,null,null,null,null,null,null,null,null,null,null,null,null,null,null,null,null,null,null,null,null,null,null,0,null,null,null,0,null,null,null,null,null,null,null,null,null,null,null,null,null,null,null,null,null,null,"",{"$f":"IF(C216=\"\",\"\",IF(COUNTIF($C$6:C216, C216)>1, \"\", C216))","v":""},{"$f":"IF(K216=\"\",\"\",INDEX(referentes!P:Q,MATCH(K216,referentes!$Q:$Q,0),1))","v":""},{"$f":"IF(L216=\"\",\"\",INDEX(referentes!$A:$B,MATCH(L216,referentes!$B:$B,0),1))","v":""},{"$f":"IF(P216=\"\",\"\",INDEX(referentes!D:E,MATCH(P216,referentes!$E:$E,0),1))","v":""},{"$f":"IF(Q216=\"\",\"\",INDEX(referentes!G:H,MATCH(Q216,referentes!$H:$H,0),1))","v":""},"",{"$f":"IF(V216=\"\",\"\",INDEX(referentes!S:T,MATCH(V216,referentes!$T:$T,0),1))","v":""},{"$f":"IF(BL216=\"\",\"\",INDEX(referentes!J:K,MATCH(BL216,referentes!$K:$K,0),1))","v":""},{"$f":"IF(BD216=\"\",\"\",INDEX(referentes!V:W,MATCH(BD216,referentes!$W:$W,0),1))","v":""},{"$f":"IF(BE216=\"\",\"\",INDEX(referentes!Y:Z,MATCH(BE216,referentes!$Z:$Z,0),1))","v":""},{"$f":"IF(BF216=\"\",\"\",INDEX(referentes!AB:AC,MATCH(BF216,referentes!$AC:$AC,0),1))","v":""},{"$f":"IF(BG216=\"\",\"\",INDEX(referentes!AE:AF,MATCH(BG216,referentes!$AF:$AF,0),1))","v":""},{"$f":"IF(AY216=\"\",\"\",INDEX(referentes!M:N,MATCH(AY216,referentes!$N:$N,0),1))","v":""},{"$f":"IF(BN216=\"\",\"\",INDEX('Otras referencias'!S:T,MATCH(BN216,'Otras referencias'!$T:$T,0),1))","v":""},{"$f":"IF(BH216=\"\",\"\",INDEX('Otras referencias'!A:B,MATCH(BH216,'Otras referencias'!$B:$B,0),1))","v":""}]
[null,0,"",null,null,"",{"$f":"IF(H217=\"\",\"\",INDEX(referentes!AU:AV,MATCH(H217,referentes!$AV:$AV,0),1))","v":""},null,{"$f":"IF(J217=\"\",\"\",INDEX('Otras referencias'!$V:$W,MATCH(J217,'Otras referencias'!$W:$W,0),1))","v":""},null,null,null,null,null,null,null,null,null,201,null,null,null,null,null,null,null,null,null,null,null,null,null,null,null,null,null,null,null,null,null,null,null,null,null,null,0,null,null,null,0,null,null,null,null,null,null,null,null,null,null,null,null,null,null,null,null,null,null,"",{"$f":"IF(C217=\"\",\"\",IF(COUNTIF($C$6:C217, C217)>1, \"\", C217))","v":""},{"$f":"IF(K217=\"\",\"\",INDEX(referentes!P:Q,MATCH(K217,referentes!$Q:$Q,0),1))","v":""},{"$f":"IF(L217=\"\",\"\",INDEX(referentes!$A:$B,MATCH(L217,referentes!$B:$B,0),1))","v":""},{"$f":"IF(P217=\"\",\"\",INDEX(referentes!D:E,MATCH(P217,referentes!$E:$E,0),1))","v":""},{"$f":"IF(Q217=\"\",\"\",INDEX(referentes!G:H,MATCH(Q217,referentes!$H:$H,0),1))","v":""},"",{"$f":"IF(V217=\"\",\"\",INDEX(referentes!S:T,MATCH(V217,referentes!$T:$T,0),1))","v":""},{"$f":"IF(BL217=\"\",\"\",INDEX(referentes!J:K,MATCH(BL217,referentes!$K:$K,0),1))","v":""},{"$f":"IF(BD217=\"\",\"\",INDEX(referentes!V:W,MATCH(BD217,referentes!$W:$W,0),1))","v":""},{"$f":"IF(BE217=\"\",\"\",INDEX(referentes!Y:Z,MATCH(BE217,referentes!$Z:$Z,0),1))","v":""},{"$f":"IF(BF217=\"\",\"\",INDEX(referentes!AB:AC,MATCH(BF217,referentes!$AC:$AC,0),1))","v":""},{"$f":"IF(BG217=\"\",\"\",INDEX(referentes!AE:AF,MATCH(BG217,referentes!$AF:$AF,0),1))","v":""},{"$f":"IF(AY217=\"\",\"\",INDEX(referentes!M:N,MATCH(AY217,referentes!$N:$N,0),1))","v":""},{"$f":"IF(BN217=\"\",\"\",INDEX('Otras referencias'!S:T,MATCH(BN217,'Otras referencias'!$T:$T,0),1))","v":""},{"$f":"IF(BH217=\"\",\"\",INDEX('Otras referencias'!A:B,MATCH(BH217,'Otras referencias'!$B:$B,0),1))","v":""}]
[null,0,"",null,null,"",{"$f":"IF(H218=\"\",\"\",INDEX(referentes!AU:AV,MATCH(H218,referentes!$AV:$AV,0),1))","v":""},null,{"$f":"IF(J218=\"\",\"\",INDEX('Otras referencias'!$V:$W,MATCH(J218,'Otras referencias'!$W:$W,0),1))","v":""},null,null,null,null,null,null,null,null,null,201,null,null,null,null,null,null,null,null,null,null,null,null,null,null,null,null,null,null,null,null,null,null,null,null,null,null,0,null,null,null,0,null,null,null,null,null,null,null,null,null,null,null,null,null,null,null,null,null,null,"",{"$f":"IF(C218=\"\",\"\",IF(COUNTIF($C$6:C218, C218)>1, \"\", C218))","v":""},{"$f":"IF(K218=\"\",\"\",INDEX(referentes!P:Q,MATCH(K218,referentes!$Q:$Q,0),1))","v":""},{"$f":"IF(L218=\"\",\"\",INDEX(referentes!$A:$B,MATCH(L218,referentes!$B:$B,0),1))","v":""},{"$f":"IF(P218=\"\",\"\",INDEX(referentes!D:E,MATCH(P218,referentes!$E:$E,0),1))","v":""},{"$f":"IF(Q218=\"\",\"\",INDEX(referentes!G:H,MATCH(Q218,referentes!$H:$H,0),1))","v":""},"",{"$f":"IF(V218=\"\",\"\",INDEX(referentes!S:T,MATCH(V218,referentes!$T:$T,0),1))","v":""},{"$f":"IF(BL218=\"\",\"\",INDEX(referentes!J:K,MATCH(BL218,referentes!$K:$K,0),1))","v":""},{"$f":"IF(BD218=\"\",\"\",INDEX(referentes!V:W,MATCH(BD218,referentes!$W:$W,0),1))","v":""},{"$f":"IF(BE218=\"\",\"\",INDEX(referentes!Y:Z,MATCH(BE218,referentes!$Z:$Z,0),1))","v":""},{"$f":"IF(BF218=\"\",\"\",INDEX(referentes!AB:AC,MATCH(BF218,referentes!$AC:$AC,0),1))","v":""},{"$f":"IF(BG218=\"\",\"\",INDEX(referentes!AE:AF,MATCH(BG218,referentes!$AF:$AF,0),1))","v":""},{"$f":"IF(AY218=\"\",\"\",INDEX(referentes!M:N,MATCH(AY218,referentes!$N:$N,0),1))","v":""},{"$f":"IF(BN218=\"\",\"\",INDEX('Otras referencias'!S:T,MATCH(BN218,'Otras referencias'!$T:$T,0),1))","v":""},{"$f":"IF(BH218=\"\",\"\",INDEX('Otras referencias'!A:B,MATCH(BH218,'Otras referencias'!$B:$B,0),1))","v":""}]
[null,0,"",null,null,"",{"$f":"IF(H219=\"\",\"\",INDEX(referentes!AU:AV,MATCH(H219,referentes!$AV:$AV,0),1))","v":""},null,{"$f":"IF(J219=\"\",\"\",INDEX('Otras referencias'!$V:$W,MATCH(J219,'Otras referencias'!$W:$W,0),1))","v":""},null,null,null,null,null,null,null,null,null,201,null,null,null,null,null,null,null,null,null,null,null,null,null,null,null,null,null,null,null,null,null,null,null,null,null,null,0,null,null,null,0,null,null,null,null,null,null,null,null,null,null,null,null,null,null,null,null,null,null,"",{"$f":"IF(C219=\"\",\"\",IF(COUNTIF($C$6:C219, C219)>1, \"\", C219))","v":""},{"$f":"IF(K219=\"\",\"\",INDEX(referentes!P:Q,MATCH(K219,referentes!$Q:$Q,0),1))","v":""},{"$f":"IF(L219=\"\",\"\",INDEX(referentes!$A:$B,MATCH(L219,referentes!$B:$B,0),1))","v":""},{"$f":"IF(P219=\"\",\"\",INDEX(referentes!D:E,MATCH(P219,referentes!$E:$E,0),1))","v":""},{"$f":"IF(Q219=\"\",\"\",INDEX(referentes!G:H,MATCH(Q219,referentes!$H:$H,0),1))","v":""},"",{"$f":"IF(V219=\"\",\"\",INDEX(referentes!S:T,MATCH(V219,referentes!$T:$T,0),1))","v":""},{"$f":"IF(BL219=\"\",\"\",INDEX(referentes!J:K,MATCH(BL219,referentes!$K:$K,0),1))","v":""},{"$f":"IF(BD219=\"\",\"\",INDEX(referentes!V:W,MATCH(BD219,referentes!$W:$W,0),1))","v":""},{"$f":"IF(BE219=\"\",\"\",INDEX(referentes!Y:Z,MATCH(BE219,referentes!$Z:$Z,0),1))","v":""},{"$f":"IF(BF219=\"\",\"\",INDEX(referentes!AB:AC,MATCH(BF219,referentes!$AC:$AC,0),1))","v":""},{"$f":"IF(BG219=\"\",\"\",INDEX(referentes!AE:AF,MATCH(BG219,referentes!$AF:$AF,0),1))","v":""},{"$f":"IF(AY219=\"\",\"\",INDEX(referentes!M:N,MATCH(AY219,referentes!$N:$N,0),1))","v":""},{"$f":"IF(BN219=\"\",\"\",INDEX('Otras referencias'!S:T,MATCH(BN219,'Otras referencias'!$T:$T,0),1))","v":""},{"$f":"IF(BH219=\"\",\"\",INDEX('Otras referencias'!A:B,MATCH(BH219,'Otras referencias'!$B:$B,0),1))","v":""}]
[null,0,"",null,null,"",{"$f":"IF(H220=\"\",\"\",INDEX(referentes!AU:AV,MATCH(H220,referentes!$AV:$AV,0),1))","v":""},null,{"$f":"IF(J220=\"\",\"\",INDEX('Otras referencias'!$V:$W,MATCH(J220,'Otras referencias'!$W:$W,0),1))","v":""},null,null,null,null,null,null,null,null,null,201,null,null,null,null,null,null,null,null,null,null,null,null,null,null,null,null,null,null,null,null,null,null,null,null,null,null,0,null,null,null,0,null,null,null,null,null,null,null,null,null,null,null,null,null,null,null,null,null,null,"",{"$f":"IF(C220=\"\",\"\",IF(COUNTIF($C$6:C220, C220)>1, \"\", C220))","v":""},{"$f":"IF(K220=\"\",\"\",INDEX(referentes!P:Q,MATCH(K220,referentes!$Q:$Q,0),1))","v":""},{"$f":"IF(L220=\"\",\"\",INDEX(referentes!$A:$B,MATCH(L220,referentes!$B:$B,0),1))","v":""},{"$f":"IF(P220=\"\",\"\",INDEX(referentes!D:E,MATCH(P220,referentes!$E:$E,0),1))","v":""},{"$f":"IF(Q220=\"\",\"\",INDEX(referentes!G:H,MATCH(Q220,referentes!$H:$H,0),1))","v":""},"",{"$f":"IF(V220=\"\",\"\",INDEX(referentes!S:T,MATCH(V220,referentes!$T:$T,0),1))","v":""},{"$f":"IF(BL220=\"\",\"\",INDEX(referentes!J:K,MATCH(BL220,referentes!$K:$K,0),1))","v":""},{"$f":"IF(BD220=\"\",\"\",INDEX(referentes!V:W,MATCH(BD220,referentes!$W:$W,0),1))","v":""},{"$f":"IF(BE220=\"\",\"\",INDEX(referentes!Y:Z,MATCH(BE220,referentes!$Z:$Z,0),1))","v":""},{"$f":"IF(BF220=\"\",\"\",INDEX(referentes!AB:AC,MATCH(BF220,referentes!$AC:$AC,0),1))","v":""},{"$f":"IF(BG220=\"\",\"\",INDEX(referentes!AE:AF,MATCH(BG220,referentes!$AF:$AF,0),1))","v":""},{"$f":"IF(AY220=\"\",\"\",INDEX(referentes!M:N,MATCH(AY220,referentes!$N:$N,0),1))","v":""},{"$f":"IF(BN220=\"\",\"\",INDEX('Otras referencias'!S:T,MATCH(BN220,'Otras referencias'!$T:$T,0),1))","v":""},{"$f":"IF(BH220=\"\",\"\",INDEX('Otras referencias'!A:B,MATCH(BH220,'Otras referencias'!$B:$B,0),1))","v":""}]
[null,0,"",null,null,"",{"$f":"IF(H221=\"\",\"\",INDEX(referentes!AU:AV,MATCH(H221,referentes!$AV:$AV,0),1))","v":""},null,{"$f":"IF(J221=\"\",\"\",INDEX('Otras referencias'!$V:$W,MATCH(J221,'Otras referencias'!$W:$W,0),1))","v":""},null,null,null,null,null,null,null,null,null,201,null,null,null,null,null,null,null,null,null,null,null,null,null,null,null,null,null,null,null,null,null,null,null,null,null,null,0,null,null,null,0,null,null,null,null,null,null,null,null,null,null,null,null,null,null,null,null,null,null,"",{"$f":"IF(C221=\"\",\"\",IF(COUNTIF($C$6:C221, C221)>1, \"\", C221))","v":""},{"$f":"IF(K221=\"\",\"\",INDEX(referentes!P:Q,MATCH(K221,referentes!$Q:$Q,0),1))","v":""},{"$f":"IF(L221=\"\",\"\",INDEX(referentes!$A:$B,MATCH(L221,referentes!$B:$B,0),1))","v":""},{"$f":"IF(P221=\"\",\"\",INDEX(referentes!D:E,MATCH(P221,referentes!$E:$E,0),1))","v":""},{"$f":"IF(Q221=\"\",\"\",INDEX(referentes!G:H,MATCH(Q221,referentes!$H:$H,0),1))","v":""},"",{"$f":"IF(V221=\"\",\"\",INDEX(referentes!S:T,MATCH(V221,referentes!$T:$T,0),1))","v":""},{"$f":"IF(BL221=\"\",\"\",INDEX(referentes!J:K,MATCH(BL221,referentes!$K:$K,0),1))","v":""},{"$f":"IF(BD221=\"\",\"\",INDEX(referentes!V:W,MATCH(BD221,referentes!$W:$W,0),1))","v":""},{"$f":"IF(BE221=\"\",\"\",INDEX(referentes!Y:Z,MATCH(BE221,referentes!$Z:$Z,0),1))","v":""},{"$f":"IF(BF221=\"\",\"\",INDEX(referentes!AB:AC,MATCH(BF221,referentes!$AC:$AC,0),1))","v":""},{"$f":"IF(BG221=\"\",\"\",INDEX(referentes!AE:AF,MATCH(BG221,referentes!$AF:$AF,0),1))","v":""},{"$f":"IF(AY221=\"\",\"\",INDEX(referentes!M:N,MATCH(AY221,referentes!$N:$N,0),1))","v":""},{"$f":"IF(BN221=\"\",\"\",INDEX('Otras referencias'!S:T,MATCH(BN221,'Otras referencias'!$T:$T,0),1))","v":""},{"$f":"IF(BH221=\"\",\"\",INDEX('Otras referencias'!A:B,MATCH(BH221,'Otras referencias'!$B:$B,0),1))","v":""}]
[null,0,"",null,null,"",{"$f":"IF(H222=\"\",\"\",INDEX(referentes!AU:AV,MATCH(H222,referentes!$AV:$AV,0),1))","v":""},null,{"$f":"IF(J222=\"\",\"\",INDEX('Otras referencias'!$V:$W,MATCH(J222,'Otras referencias'!$W:$W,0),1))","v":""},null,null,null,null,null,null,null,null,null,201,null,null,null,null,null,null,null,null,null,null,null,null,null,null,null,null,null,null,null,null,null,null,null,null,null,null,0,null,null,null,0,null,null,null,null,null,null,null,null,null,null,null,null,null,null,null,null,null,null,"",{"$f":"IF(C222=\"\",\"\",IF(COUNTIF($C$6:C222, C222)>1, \"\", C222))","v":""},{"$f":"IF(K222=\"\",\"\",INDEX(referentes!P:Q,MATCH(K222,referentes!$Q:$Q,0),1))","v":""},{"$f":"IF(L222=\"\",\"\",INDEX(referentes!$A:$B,MATCH(L222,referentes!$B:$B,0),1))","v":""},{"$f":"IF(P222=\"\",\"\",INDEX(referentes!D:E,MATCH(P222,referentes!$E:$E,0),1))","v":""},{"$f":"IF(Q222=\"\",\"\",INDEX(referentes!G:H,MATCH(Q222,referentes!$H:$H,0),1))","v":""},"",{"$f":"IF(V222=\"\",\"\",INDEX(referentes!S:T,MATCH(V222,referentes!$T:$T,0),1))","v":""},{"$f":"IF(BL222=\"\",\"\",INDEX(referentes!J:K,MATCH(BL222,referentes!$K:$K,0),1))","v":""},{"$f":"IF(BD222=\"\",\"\",INDEX(referentes!V:W,MATCH(BD222,referentes!$W:$W,0),1))","v":""},{"$f":"IF(BE222=\"\",\"\",INDEX(referentes!Y:Z,MATCH(BE222,referentes!$Z:$Z,0),1))","v":""},{"$f":"IF(BF222=\"\",\"\",INDEX(referentes!AB:AC,MATCH(BF222,referentes!$AC:$AC,0),1))","v":""},{"$f":"IF(BG222=\"\",\"\",INDEX(referentes!AE:AF,MATCH(BG222,referentes!$AF:$AF,0),1))","v":""},{"$f":"IF(AY222=\"\",\"\",INDEX(referentes!M:N,MATCH(AY222,referentes!$N:$N,0),1))","v":""},{"$f":"IF(BN222=\"\",\"\",INDEX('Otras referencias'!S:T,MATCH(BN222,'Otras referencias'!$T:$T,0),1))","v":""},{"$f":"IF(BH222=\"\",\"\",INDEX('Otras referencias'!A:B,MATCH(BH222,'Otras referencias'!$B:$B,0),1))","v":""}]
[null,0,"",null,null,"",{"$f":"IF(H223=\"\",\"\",INDEX(referentes!AU:AV,MATCH(H223,referentes!$AV:$AV,0),1))","v":""},null,{"$f":"IF(J223=\"\",\"\",INDEX('Otras referencias'!$V:$W,MATCH(J223,'Otras referencias'!$W:$W,0),1))","v":""},null,null,null,null,null,null,null,null,null,201,null,null,null,null,null,null,null,null,null,null,null,null,null,null,null,null,null,null,null,null,null,null,null,null,null,null,0,null,null,null,0,null,null,null,null,null,null,null,null,null,null,null,null,null,null,null,null,null,null,"",{"$f":"IF(C223=\"\",\"\",IF(COUNTIF($C$6:C223, C223)>1, \"\", C223))","v":""},{"$f":"IF(K223=\"\",\"\",INDEX(referentes!P:Q,MATCH(K223,referentes!$Q:$Q,0),1))","v":""},{"$f":"IF(L223=\"\",\"\",INDEX(referentes!$A:$B,MATCH(L223,referentes!$B:$B,0),1))","v":""},{"$f":"IF(P223=\"\",\"\",INDEX(referentes!D:E,MATCH(P223,referentes!$E:$E,0),1))","v":""},{"$f":"IF(Q223=\"\",\"\",INDEX(referentes!G:H,MATCH(Q223,referentes!$H:$H,0),1))","v":""},"",{"$f":"IF(V223=\"\",\"\",INDEX(referentes!S:T,MATCH(V223,referentes!$T:$T,0),1))","v":""},{"$f":"IF(BL223=\"\",\"\",INDEX(referentes!J:K,MATCH(BL223,referentes!$K:$K,0),1))","v":""},{"$f":"IF(BD223=\"\",\"\",INDEX(referentes!V:W,MATCH(BD223,referentes!$W:$W,0),1))","v":""},{"$f":"IF(BE223=\"\",\"\",INDEX(referentes!Y:Z,MATCH(BE223,referentes!$Z:$Z,0),1))","v":""},{"$f":"IF(BF223=\"\",\"\",INDEX(referentes!AB:AC,MATCH(BF223,referentes!$AC:$AC,0),1))","v":""},{"$f":"IF(BG223=\"\",\"\",INDEX(referentes!AE:AF,MATCH(BG223,referentes!$AF:$AF,0),1))","v":""},{"$f":"IF(AY223=\"\",\"\",INDEX(referentes!M:N,MATCH(AY223,referentes!$N:$N,0),1))","v":""},{"$f":"IF(BN223=\"\",\"\",INDEX('Otras referencias'!S:T,MATCH(BN223,'Otras referencias'!$T:$T,0),1))","v":""},{"$f":"IF(BH223=\"\",\"\",INDEX('Otras referencias'!A:B,MATCH(BH223,'Otras referencias'!$B:$B,0),1))","v":""}]
[null,0,"",null,null,"",{"$f":"IF(H224=\"\",\"\",INDEX(referentes!AU:AV,MATCH(H224,referentes!$AV:$AV,0),1))","v":""},null,{"$f":"IF(J224=\"\",\"\",INDEX('Otras referencias'!$V:$W,MATCH(J224,'Otras referencias'!$W:$W,0),1))","v":""},null,null,null,null,null,null,null,null,null,201,null,null,null,null,null,null,null,null,null,null,null,null,null,null,null,null,null,null,null,null,null,null,null,null,null,null,0,null,null,null,0,null,null,null,null,null,null,null,null,null,null,null,null,null,null,null,null,null,null,"",{"$f":"IF(C224=\"\",\"\",IF(COUNTIF($C$6:C224, C224)>1, \"\", C224))","v":""},{"$f":"IF(K224=\"\",\"\",INDEX(referentes!P:Q,MATCH(K224,referentes!$Q:$Q,0),1))","v":""},{"$f":"IF(L224=\"\",\"\",INDEX(referentes!$A:$B,MATCH(L224,referentes!$B:$B,0),1))","v":""},{"$f":"IF(P224=\"\",\"\",INDEX(referentes!D:E,MATCH(P224,referentes!$E:$E,0),1))","v":""},{"$f":"IF(Q224=\"\",\"\",INDEX(referentes!G:H,MATCH(Q224,referentes!$H:$H,0),1))","v":""},"",{"$f":"IF(V224=\"\",\"\",INDEX(referentes!S:T,MATCH(V224,referentes!$T:$T,0),1))","v":""},{"$f":"IF(BL224=\"\",\"\",INDEX(referentes!J:K,MATCH(BL224,referentes!$K:$K,0),1))","v":""},{"$f":"IF(BD224=\"\",\"\",INDEX(referentes!V:W,MATCH(BD224,referentes!$W:$W,0),1))","v":""},{"$f":"IF(BE224=\"\",\"\",INDEX(referentes!Y:Z,MATCH(BE224,referentes!$Z:$Z,0),1))","v":""},{"$f":"IF(BF224=\"\",\"\",INDEX(referentes!AB:AC,MATCH(BF224,referentes!$AC:$AC,0),1))","v":""},{"$f":"IF(BG224=\"\",\"\",INDEX(referentes!AE:AF,MATCH(BG224,referentes!$AF:$AF,0),1))","v":""},{"$f":"IF(AY224=\"\",\"\",INDEX(referentes!M:N,MATCH(AY224,referentes!$N:$N,0),1))","v":""},{"$f":"IF(BN224=\"\",\"\",INDEX('Otras referencias'!S:T,MATCH(BN224,'Otras referencias'!$T:$T,0),1))","v":""},{"$f":"IF(BH224=\"\",\"\",INDEX('Otras referencias'!A:B,MATCH(BH224,'Otras referencias'!$B:$B,0),1))","v":""}]
[null,0,"",null,null,"",{"$f":"IF(H225=\"\",\"\",INDEX(referentes!AU:AV,MATCH(H225,referentes!$AV:$AV,0),1))","v":""},null,{"$f":"IF(J225=\"\",\"\",INDEX('Otras referencias'!$V:$W,MATCH(J225,'Otras referencias'!$W:$W,0),1))","v":""},null,null,null,null,null,null,null,null,null,201,null,null,null,null,null,null,null,null,null,null,null,null,null,null,null,null,null,null,null,null,null,null,null,null,null,null,0,null,null,null,0,null,null,null,null,null,null,null,null,null,null,null,null,null,null,null,null,null,null,"",{"$f":"IF(C225=\"\",\"\",IF(COUNTIF($C$6:C225, C225)>1, \"\", C225))","v":""},{"$f":"IF(K225=\"\",\"\",INDEX(referentes!P:Q,MATCH(K225,referentes!$Q:$Q,0),1))","v":""},{"$f":"IF(L225=\"\",\"\",INDEX(referentes!$A:$B,MATCH(L225,referentes!$B:$B,0),1))","v":""},{"$f":"IF(P225=\"\",\"\",INDEX(referentes!D:E,MATCH(P225,referentes!$E:$E,0),1))","v":""},{"$f":"IF(Q225=\"\",\"\",INDEX(referentes!G:H,MATCH(Q225,referentes!$H:$H,0),1))","v":""},"",{"$f":"IF(V225=\"\",\"\",INDEX(referentes!S:T,MATCH(V225,referentes!$T:$T,0),1))","v":""},{"$f":"IF(BL225=\"\",\"\",INDEX(referentes!J:K,MATCH(BL225,referentes!$K:$K,0),1))","v":""},{"$f":"IF(BD225=\"\",\"\",INDEX(referentes!V:W,MATCH(BD225,referentes!$W:$W,0),1))","v":""},{"$f":"IF(BE225=\"\",\"\",INDEX(referentes!Y:Z,MATCH(BE225,referentes!$Z:$Z,0),1))","v":""},{"$f":"IF(BF225=\"\",\"\",INDEX(referentes!AB:AC,MATCH(BF225,referentes!$AC:$AC,0),1))","v":""},{"$f":"IF(BG225=\"\",\"\",INDEX(referentes!AE:AF,MATCH(BG225,referentes!$AF:$AF,0),1))","v":""},{"$f":"IF(AY225=\"\",\"\",INDEX(referentes!M:N,MATCH(AY225,referentes!$N:$N,0),1))","v":""},{"$f":"IF(BN225=\"\",\"\",INDEX('Otras referencias'!S:T,MATCH(BN225,'Otras referencias'!$T:$T,0),1))","v":""},{"$f":"IF(BH225=\"\",\"\",INDEX('Otras referencias'!A:B,MATCH(BH225,'Otras referencias'!$B:$B,0),1))","v":""}]
[null,0,"",null,null,"",{"$f":"IF(H226=\"\",\"\",INDEX(referentes!AU:AV,MATCH(H226,referentes!$AV:$AV,0),1))","v":""},null,{"$f":"IF(J226=\"\",\"\",INDEX('Otras referencias'!$V:$W,MATCH(J226,'Otras referencias'!$W:$W,0),1))","v":""},null,null,null,null,null,null,null,null,null,201,null,null,null,null,null,null,null,null,null,null,null,null,null,null,null,null,null,null,null,null,null,null,null,null,null,null,0,null,null,null,0,null,null,null,null,null,null,null,null,null,null,null,null,null,null,null,null,null,null,"",{"$f":"IF(C226=\"\",\"\",IF(COUNTIF($C$6:C226, C226)>1, \"\", C226))","v":""},{"$f":"IF(K226=\"\",\"\",INDEX(referentes!P:Q,MATCH(K226,referentes!$Q:$Q,0),1))","v":""},{"$f":"IF(L226=\"\",\"\",INDEX(referentes!$A:$B,MATCH(L226,referentes!$B:$B,0),1))","v":""},{"$f":"IF(P226=\"\",\"\",INDEX(referentes!D:E,MATCH(P226,referentes!$E:$E,0),1))","v":""},{"$f":"IF(Q226=\"\",\"\",INDEX(referentes!G:H,MATCH(Q226,referentes!$H:$H,0),1))","v":""},"",{"$f":"IF(V226=\"\",\"\",INDEX(referentes!S:T,MATCH(V226,referentes!$T:$T,0),1))","v":""},{"$f":"IF(BL226=\"\",\"\",INDEX(referentes!J:K,MATCH(BL226,referentes!$K:$K,0),1))","v":""},{"$f":"IF(BD226=\"\",\"\",INDEX(referentes!V:W,MATCH(BD226,referentes!$W:$W,0),1))","v":""},{"$f":"IF(BE226=\"\",\"\",INDEX(referentes!Y:Z,MATCH(BE226,referentes!$Z:$Z,0),1))","v":""},{"$f":"IF(BF226=\"\",\"\",INDEX(referentes!AB:AC,MATCH(BF226,referentes!$AC:$AC,0),1))","v":""},{"$f":"IF(BG226=\"\",\"\",INDEX(referentes!AE:AF,MATCH(BG226,referentes!$AF:$AF,0),1))","v":""},{"$f":"IF(AY226=\"\",\"\",INDEX(referentes!M:N,MATCH(AY226,referentes!$N:$N,0),1))","v":""},{"$f":"IF(BN226=\"\",\"\",INDEX('Otras referencias'!S:T,MATCH(BN226,'Otras referencias'!$T:$T,0),1))","v":""},{"$f":"IF(BH226=\"\",\"\",INDEX('Otras referencias'!A:B,MATCH(BH226,'Otras referencias'!$B:$B,0),1))","v":""}]
[null,0,"",null,null,"",{"$f":"IF(H227=\"\",\"\",INDEX(referentes!AU:AV,MATCH(H227,referentes!$AV:$AV,0),1))","v":""},null,{"$f":"IF(J227=\"\",\"\",INDEX('Otras referencias'!$V:$W,MATCH(J227,'Otras referencias'!$W:$W,0),1))","v":""},null,null,null,null,null,null,null,null,null,201,null,null,null,null,null,null,null,null,null,null,null,null,null,null,null,null,null,null,null,null,null,null,null,null,null,null,0,null,null,null,0,null,null,null,null,null,null,null,null,null,null,null,null,null,null,null,null,null,null,"",{"$f":"IF(C227=\"\",\"\",IF(COUNTIF($C$6:C227, C227)>1, \"\", C227))","v":""},{"$f":"IF(K227=\"\",\"\",INDEX(referentes!P:Q,MATCH(K227,referentes!$Q:$Q,0),1))","v":""},{"$f":"IF(L227=\"\",\"\",INDEX(referentes!$A:$B,MATCH(L227,referentes!$B:$B,0),1))","v":""},{"$f":"IF(P227=\"\",\"\",INDEX(referentes!D:E,MATCH(P227,referentes!$E:$E,0),1))","v":""},{"$f":"IF(Q227=\"\",\"\",INDEX(referentes!G:H,MATCH(Q227,referentes!$H:$H,0),1))","v":""},"",{"$f":"IF(V227=\"\",\"\",INDEX(referentes!S:T,MATCH(V227,referentes!$T:$T,0),1))","v":""},{"$f":"IF(BL227=\"\",\"\",INDEX(referentes!J:K,MATCH(BL227,referentes!$K:$K,0),1))","v":""},{"$f":"IF(BD227=\"\",\"\",INDEX(referentes!V:W,MATCH(BD227,referentes!$W:$W,0),1))","v":""},{"$f":"IF(BE227=\"\",\"\",INDEX(referentes!Y:Z,MATCH(BE227,referentes!$Z:$Z,0),1))","v":""},{"$f":"IF(BF227=\"\",\"\",INDEX(referentes!AB:AC,MATCH(BF227,referentes!$AC:$AC,0),1))","v":""},{"$f":"IF(BG227=\"\",\"\",INDEX(referentes!AE:AF,MATCH(BG227,referentes!$AF:$AF,0),1))","v":""},{"$f":"IF(AY227=\"\",\"\",INDEX(referentes!M:N,MATCH(AY227,referentes!$N:$N,0),1))","v":""},{"$f":"IF(BN227=\"\",\"\",INDEX('Otras referencias'!S:T,MATCH(BN227,'Otras referencias'!$T:$T,0),1))","v":""},{"$f":"IF(BH227=\"\",\"\",INDEX('Otras referencias'!A:B,MATCH(BH227,'Otras referencias'!$B:$B,0),1))","v":""}]
[null,0,"",null,null,"",{"$f":"IF(H228=\"\",\"\",INDEX(referentes!AU:AV,MATCH(H228,referentes!$AV:$AV,0),1))","v":""},null,{"$f":"IF(J228=\"\",\"\",INDEX('Otras referencias'!$V:$W,MATCH(J228,'Otras referencias'!$W:$W,0),1))","v":""},null,null,null,null,null,null,null,null,null,201,null,null,null,null,null,null,null,null,null,null,null,null,null,null,null,null,null,null,null,null,null,null,null,null,null,null,0,null,null,null,0,null,null,null,null,null,null,null,null,null,null,null,null,null,null,null,null,null,null,"",{"$f":"IF(C228=\"\",\"\",IF(COUNTIF($C$6:C228, C228)>1, \"\", C228))","v":""},{"$f":"IF(K228=\"\",\"\",INDEX(referentes!P:Q,MATCH(K228,referentes!$Q:$Q,0),1))","v":""},{"$f":"IF(L228=\"\",\"\",INDEX(referentes!$A:$B,MATCH(L228,referentes!$B:$B,0),1))","v":""},{"$f":"IF(P228=\"\",\"\",INDEX(referentes!D:E,MATCH(P228,referentes!$E:$E,0),1))","v":""},{"$f":"IF(Q228=\"\",\"\",INDEX(referentes!G:H,MATCH(Q228,referentes!$H:$H,0),1))","v":""},"",{"$f":"IF(V228=\"\",\"\",INDEX(referentes!S:T,MATCH(V228,referentes!$T:$T,0),1))","v":""},{"$f":"IF(BL228=\"\",\"\",INDEX(referentes!J:K,MATCH(BL228,referentes!$K:$K,0),1))","v":""},{"$f":"IF(BD228=\"\",\"\",INDEX(referentes!V:W,MATCH(BD228,referentes!$W:$W,0),1))","v":""},{"$f":"IF(BE228=\"\",\"\",INDEX(referentes!Y:Z,MATCH(BE228,referentes!$Z:$Z,0),1))","v":""},{"$f":"IF(BF228=\"\",\"\",INDEX(referentes!AB:AC,MATCH(BF228,referentes!$AC:$AC,0),1))","v":""},{"$f":"IF(BG228=\"\",\"\",INDEX(referentes!AE:AF,MATCH(BG228,referentes!$AF:$AF,0),1))","v":""},{"$f":"IF(AY228=\"\",\"\",INDEX(referentes!M:N,MATCH(AY228,referentes!$N:$N,0),1))","v":""},{"$f":"IF(BN228=\"\",\"\",INDEX('Otras referencias'!S:T,MATCH(BN228,'Otras referencias'!$T:$T,0),1))","v":""},{"$f":"IF(BH228=\"\",\"\",INDEX('Otras referencias'!A:B,MATCH(BH228,'Otras referencias'!$B:$B,0),1))","v":""}]
[null,0,"",null,null,"",{"$f":"IF(H229=\"\",\"\",INDEX(referentes!AU:AV,MATCH(H229,referentes!$AV:$AV,0),1))","v":""},null,{"$f":"IF(J229=\"\",\"\",INDEX('Otras referencias'!$V:$W,MATCH(J229,'Otras referencias'!$W:$W,0),1))","v":""},null,null,null,null,null,null,null,null,null,201,null,null,null,null,null,null,null,null,null,null,null,null,null,null,null,null,null,null,null,null,null,null,null,null,null,null,0,null,null,null,0,null,null,null,null,null,null,null,null,null,null,null,null,null,null,null,null,null,null,"",{"$f":"IF(C229=\"\",\"\",IF(COUNTIF($C$6:C229, C229)>1, \"\", C229))","v":""},{"$f":"IF(K229=\"\",\"\",INDEX(referentes!P:Q,MATCH(K229,referentes!$Q:$Q,0),1))","v":""},{"$f":"IF(L229=\"\",\"\",INDEX(referentes!$A:$B,MATCH(L229,referentes!$B:$B,0),1))","v":""},{"$f":"IF(P229=\"\",\"\",INDEX(referentes!D:E,MATCH(P229,referentes!$E:$E,0),1))","v":""},{"$f":"IF(Q229=\"\",\"\",INDEX(referentes!G:H,MATCH(Q229,referentes!$H:$H,0),1))","v":""},"",{"$f":"IF(V229=\"\",\"\",INDEX(referentes!S:T,MATCH(V229,referentes!$T:$T,0),1))","v":""},{"$f":"IF(BL229=\"\",\"\",INDEX(referentes!J:K,MATCH(BL229,referentes!$K:$K,0),1))","v":""},{"$f":"IF(BD229=\"\",\"\",INDEX(referentes!V:W,MATCH(BD229,referentes!$W:$W,0),1))","v":""},{"$f":"IF(BE229=\"\",\"\",INDEX(referentes!Y:Z,MATCH(BE229,referentes!$Z:$Z,0),1))","v":""},{"$f":"IF(BF229=\"\",\"\",INDEX(referentes!AB:AC,MATCH(BF229,referentes!$AC:$AC,0),1))","v":""},{"$f":"IF(BG229=\"\",\"\",INDEX(referentes!AE:AF,MATCH(BG229,referentes!$AF:$AF,0),1))","v":""},{"$f":"IF(AY229=\"\",\"\",INDEX(referentes!M:N,MATCH(AY229,referentes!$N:$N,0),1))","v":""},{"$f":"IF(BN229=\"\",\"\",INDEX('Otras referencias'!S:T,MATCH(BN229,'Otras referencias'!$T:$T,0),1))","v":""},{"$f":"IF(BH229=\"\",\"\",INDEX('Otras referencias'!A:B,MATCH(BH229,'Otras referencias'!$B:$B,0),1))","v":""}]
[null,0,"",null,null,"",{"$f":"IF(H230=\"\",\"\",INDEX(referentes!AU:AV,MATCH(H230,referentes!$AV:$AV,0),1))","v":""},null,{"$f":"IF(J230=\"\",\"\",INDEX('Otras referencias'!$V:$W,MATCH(J230,'Otras referencias'!$W:$W,0),1))","v":""},null,null,null,null,null,null,null,null,null,201,null,null,null,null,null,null,null,null,null,null,null,null,null,null,null,null,null,null,null,null,null,null,null,null,null,null,0,null,null,null,0,null,null,null,null,null,null,null,null,null,null,null,null,null,null,null,null,null,null,"",{"$f":"IF(C230=\"\",\"\",IF(COUNTIF($C$6:C230, C230)>1, \"\", C230))","v":""},{"$f":"IF(K230=\"\",\"\",INDEX(referentes!P:Q,MATCH(K230,referentes!$Q:$Q,0),1))","v":""},{"$f":"IF(L230=\"\",\"\",INDEX(referentes!$A:$B,MATCH(L230,referentes!$B:$B,0),1))","v":""},{"$f":"IF(P230=\"\",\"\",INDEX(referentes!D:E,MATCH(P230,referentes!$E:$E,0),1))","v":""},{"$f":"IF(Q230=\"\",\"\",INDEX(referentes!G:H,MATCH(Q230,referentes!$H:$H,0),1))","v":""},"",{"$f":"IF(V230=\"\",\"\",INDEX(referentes!S:T,MATCH(V230,referentes!$T:$T,0),1))","v":""},{"$f":"IF(BL230=\"\",\"\",INDEX(referentes!J:K,MATCH(BL230,referentes!$K:$K,0),1))","v":""},{"$f":"IF(BD230=\"\",\"\",INDEX(referentes!V:W,MATCH(BD230,referentes!$W:$W,0),1))","v":""},{"$f":"IF(BE230=\"\",\"\",INDEX(referentes!Y:Z,MATCH(BE230,referentes!$Z:$Z,0),1))","v":""},{"$f":"IF(BF230=\"\",\"\",INDEX(referentes!AB:AC,MATCH(BF230,referentes!$AC:$AC,0),1))","v":""},{"$f":"IF(BG230=\"\",\"\",INDEX(referentes!AE:AF,MATCH(BG230,referentes!$AF:$AF,0),1))","v":""},{"$f":"IF(AY230=\"\",\"\",INDEX(referentes!M:N,MATCH(AY230,referentes!$N:$N,0),1))","v":""},{"$f":"IF(BN230=\"\",\"\",INDEX('Otras referencias'!S:T,MATCH(BN230,'Otras referencias'!$T:$T,0),1))","v":""},{"$f":"IF(BH230=\"\",\"\",INDEX('Otras referencias'!A:B,MATCH(BH230,'Otras referencias'!$B:$B,0),1))","v":""}]
[null,0,"",null,null,"",{"$f":"IF(H231=\"\",\"\",INDEX(referentes!AU:AV,MATCH(H231,referentes!$AV:$AV,0),1))","v":""},null,{"$f":"IF(J231=\"\",\"\",INDEX('Otras referencias'!$V:$W,MATCH(J231,'Otras referencias'!$W:$W,0),1))","v":""},null,null,null,null,null,null,null,null,null,201,null,null,null,null,null,null,null,null,null,null,null,null,null,null,null,null,null,null,null,null,null,null,null,null,null,null,0,null,null,null,0,null,null,null,null,null,null,null,null,null,null,null,null,null,null,null,null,null,null,"",{"$f":"IF(C231=\"\",\"\",IF(COUNTIF($C$6:C231, C231)>1, \"\", C231))","v":""},{"$f":"IF(K231=\"\",\"\",INDEX(referentes!P:Q,MATCH(K231,referentes!$Q:$Q,0),1))","v":""},{"$f":"IF(L231=\"\",\"\",INDEX(referentes!$A:$B,MATCH(L231,referentes!$B:$B,0),1))","v":""},{"$f":"IF(P231=\"\",\"\",INDEX(referentes!D:E,MATCH(P231,referentes!$E:$E,0),1))","v":""},{"$f":"IF(Q231=\"\",\"\",INDEX(referentes!G:H,MATCH(Q231,referentes!$H:$H,0),1))","v":""},"",{"$f":"IF(V231=\"\",\"\",INDEX(referentes!S:T,MATCH(V231,referentes!$T:$T,0),1))","v":""},{"$f":"IF(BL231=\"\",\"\",INDEX(referentes!J:K,MATCH(BL231,referentes!$K:$K,0),1))","v":""},{"$f":"IF(BD231=\"\",\"\",INDEX(referentes!V:W,MATCH(BD231,referentes!$W:$W,0),1))","v":""},{"$f":"IF(BE231=\"\",\"\",INDEX(referentes!Y:Z,MATCH(BE231,referentes!$Z:$Z,0),1))","v":""},{"$f":"IF(BF231=\"\",\"\",INDEX(referentes!AB:AC,MATCH(BF231,referentes!$AC:$AC,0),1))","v":""},{"$f":"IF(BG231=\"\",\"\",INDEX(referentes!AE:AF,MATCH(BG231,referentes!$AF:$AF,0),1))","v":""},{"$f":"IF(AY231=\"\",\"\",INDEX(referentes!M:N,MATCH(AY231,referentes!$N:$N,0),1))","v":""},{"$f":"IF(BN231=\"\",\"\",INDEX('Otras referencias'!S:T,MATCH(BN231,'Otras referencias'!$T:$T,0),1))","v":""},{"$f":"IF(BH231=\"\",\"\",INDEX('Otras referencias'!A:B,MATCH(BH231,'Otras referencias'!$B:$B,0),1))","v":""}]
[null,0,"",null,null,"",{"$f":"IF(H232=\"\",\"\",INDEX(referentes!AU:AV,MATCH(H232,referentes!$AV:$AV,0),1))","v":""},null,{"$f":"IF(J232=\"\",\"\",INDEX('Otras referencias'!$V:$W,MATCH(J232,'Otras referencias'!$W:$W,0),1))","v":""},null,null,null,null,null,null,null,null,null,201,null,null,null,null,null,null,null,null,null,null,null,null,null,null,null,null,null,null,null,null,null,null,null,null,null,null,0,null,null,null,0,null,null,null,null,null,null,null,null,null,null,null,null,null,null,null,null,null,null,"",{"$f":"IF(C232=\"\",\"\",IF(COUNTIF($C$6:C232, C232)>1, \"\", C232))","v":""},{"$f":"IF(K232=\"\",\"\",INDEX(referentes!P:Q,MATCH(K232,referentes!$Q:$Q,0),1))","v":""},{"$f":"IF(L232=\"\",\"\",INDEX(referentes!$A:$B,MATCH(L232,referentes!$B:$B,0),1))","v":""},{"$f":"IF(P232=\"\",\"\",INDEX(referentes!D:E,MATCH(P232,referentes!$E:$E,0),1))","v":""},{"$f":"IF(Q232=\"\",\"\",INDEX(referentes!G:H,MATCH(Q232,referentes!$H:$H,0),1))","v":""},"",{"$f":"IF(V232=\"\",\"\",INDEX(referentes!S:T,MATCH(V232,referentes!$T:$T,0),1))","v":""},{"$f":"IF(BL232=\"\",\"\",INDEX(referentes!J:K,MATCH(BL232,referentes!$K:$K,0),1))","v":""},{"$f":"IF(BD232=\"\",\"\",INDEX(referentes!V:W,MATCH(BD232,referentes!$W:$W,0),1))","v":""},{"$f":"IF(BE232=\"\",\"\",INDEX(referentes!Y:Z,MATCH(BE232,referentes!$Z:$Z,0),1))","v":""},{"$f":"IF(BF232=\"\",\"\",INDEX(referentes!AB:AC,MATCH(BF232,referentes!$AC:$AC,0),1))","v":""},{"$f":"IF(BG232=\"\",\"\",INDEX(referentes!AE:AF,MATCH(BG232,referentes!$AF:$AF,0),1))","v":""},{"$f":"IF(AY232=\"\",\"\",INDEX(referentes!M:N,MATCH(AY232,referentes!$N:$N,0),1))","v":""},{"$f":"IF(BN232=\"\",\"\",INDEX('Otras referencias'!S:T,MATCH(BN232,'Otras referencias'!$T:$T,0),1))","v":""},{"$f":"IF(BH232=\"\",\"\",INDEX('Otras referencias'!A:B,MATCH(BH232,'Otras referencias'!$B:$B,0),1))","v":""}]
[null,0,"",null,null,"",{"$f":"IF(H233=\"\",\"\",INDEX(referentes!AU:AV,MATCH(H233,referentes!$AV:$AV,0),1))","v":""},null,{"$f":"IF(J233=\"\",\"\",INDEX('Otras referencias'!$V:$W,MATCH(J233,'Otras referencias'!$W:$W,0),1))","v":""},null,null,null,null,null,null,null,null,null,201,null,null,null,null,null,null,null,null,null,null,null,null,null,null,null,null,null,null,null,null,null,null,null,null,null,null,0,null,null,null,0,null,null,null,null,null,null,null,null,null,null,null,null,null,null,null,null,null,null,"",{"$f":"IF(C233=\"\",\"\",IF(COUNTIF($C$6:C233, C233)>1, \"\", C233))","v":""},{"$f":"IF(K233=\"\",\"\",INDEX(referentes!P:Q,MATCH(K233,referentes!$Q:$Q,0),1))","v":""},{"$f":"IF(L233=\"\",\"\",INDEX(referentes!$A:$B,MATCH(L233,referentes!$B:$B,0),1))","v":""},{"$f":"IF(P233=\"\",\"\",INDEX(referentes!D:E,MATCH(P233,referentes!$E:$E,0),1))","v":""},{"$f":"IF(Q233=\"\",\"\",INDEX(referentes!G:H,MATCH(Q233,referentes!$H:$H,0),1))","v":""},"",{"$f":"IF(V233=\"\",\"\",INDEX(referentes!S:T,MATCH(V233,referentes!$T:$T,0),1))","v":""},{"$f":"IF(BL233=\"\",\"\",INDEX(referentes!J:K,MATCH(BL233,referentes!$K:$K,0),1))","v":""},{"$f":"IF(BD233=\"\",\"\",INDEX(referentes!V:W,MATCH(BD233,referentes!$W:$W,0),1))","v":""},{"$f":"IF(BE233=\"\",\"\",INDEX(referentes!Y:Z,MATCH(BE233,referentes!$Z:$Z,0),1))","v":""},{"$f":"IF(BF233=\"\",\"\",INDEX(referentes!AB:AC,MATCH(BF233,referentes!$AC:$AC,0),1))","v":""},{"$f":"IF(BG233=\"\",\"\",INDEX(referentes!AE:AF,MATCH(BG233,referentes!$AF:$AF,0),1))","v":""},{"$f":"IF(AY233=\"\",\"\",INDEX(referentes!M:N,MATCH(AY233,referentes!$N:$N,0),1))","v":""},{"$f":"IF(BN233=\"\",\"\",INDEX('Otras referencias'!S:T,MATCH(BN233,'Otras referencias'!$T:$T,0),1))","v":""},{"$f":"IF(BH233=\"\",\"\",INDEX('Otras referencias'!A:B,MATCH(BH233,'Otras referencias'!$B:$B,0),1))","v":""}]
[null,0,"",null,null,"",{"$f":"IF(H234=\"\",\"\",INDEX(referentes!AU:AV,MATCH(H234,referentes!$AV:$AV,0),1))","v":""},null,{"$f":"IF(J234=\"\",\"\",INDEX('Otras referencias'!$V:$W,MATCH(J234,'Otras referencias'!$W:$W,0),1))","v":""},null,null,null,null,null,null,null,null,null,201,null,null,null,null,null,null,null,null,null,null,null,null,null,null,null,null,null,null,null,null,null,null,null,null,null,null,0,null,null,null,0,null,null,null,null,null,null,null,null,null,null,null,null,null,null,null,null,null,null,"",{"$f":"IF(C234=\"\",\"\",IF(COUNTIF($C$6:C234, C234)>1, \"\", C234))","v":""},{"$f":"IF(K234=\"\",\"\",INDEX(referentes!P:Q,MATCH(K234,referentes!$Q:$Q,0),1))","v":""},{"$f":"IF(L234=\"\",\"\",INDEX(referentes!$A:$B,MATCH(L234,referentes!$B:$B,0),1))","v":""},{"$f":"IF(P234=\"\",\"\",INDEX(referentes!D:E,MATCH(P234,referentes!$E:$E,0),1))","v":""},{"$f":"IF(Q234=\"\",\"\",INDEX(referentes!G:H,MATCH(Q234,referentes!$H:$H,0),1))","v":""},"",{"$f":"IF(V234=\"\",\"\",INDEX(referentes!S:T,MATCH(V234,referentes!$T:$T,0),1))","v":""},{"$f":"IF(BL234=\"\",\"\",INDEX(referentes!J:K,MATCH(BL234,referentes!$K:$K,0),1))","v":""},{"$f":"IF(BD234=\"\",\"\",INDEX(referentes!V:W,MATCH(BD234,referentes!$W:$W,0),1))","v":""},{"$f":"IF(BE234=\"\",\"\",INDEX(referentes!Y:Z,MATCH(BE234,referentes!$Z:$Z,0),1))","v":""},{"$f":"IF(BF234=\"\",\"\",INDEX(referentes!AB:AC,MATCH(BF234,referentes!$AC:$AC,0),1))","v":""},{"$f":"IF(BG234=\"\",\"\",INDEX(referentes!AE:AF,MATCH(BG234,referentes!$AF:$AF,0),1))","v":""},{"$f":"IF(AY234=\"\",\"\",INDEX(referentes!M:N,MATCH(AY234,referentes!$N:$N,0),1))","v":""},{"$f":"IF(BN234=\"\",\"\",INDEX('Otras referencias'!S:T,MATCH(BN234,'Otras referencias'!$T:$T,0),1))","v":""},{"$f":"IF(BH234=\"\",\"\",INDEX('Otras referencias'!A:B,MATCH(BH234,'Otras referencias'!$B:$B,0),1))","v":""}]
[null,0,"",null,null,"",{"$f":"IF(H235=\"\",\"\",INDEX(referentes!AU:AV,MATCH(H235,referentes!$AV:$AV,0),1))","v":""},null,{"$f":"IF(J235=\"\",\"\",INDEX('Otras referencias'!$V:$W,MATCH(J235,'Otras referencias'!$W:$W,0),1))","v":""},null,null,null,null,null,null,null,null,null,201,null,null,null,null,null,null,null,null,null,null,null,null,null,null,null,null,null,null,null,null,null,null,null,null,null,null,0,null,null,null,0,null,null,null,null,null,null,null,null,null,null,null,null,null,null,null,null,null,null,"",{"$f":"IF(C235=\"\",\"\",IF(COUNTIF($C$6:C235, C235)>1, \"\", C235))","v":""},{"$f":"IF(K235=\"\",\"\",INDEX(referentes!P:Q,MATCH(K235,referentes!$Q:$Q,0),1))","v":""},{"$f":"IF(L235=\"\",\"\",INDEX(referentes!$A:$B,MATCH(L235,referentes!$B:$B,0),1))","v":""},{"$f":"IF(P235=\"\",\"\",INDEX(referentes!D:E,MATCH(P235,referentes!$E:$E,0),1))","v":""},{"$f":"IF(Q235=\"\",\"\",INDEX(referentes!G:H,MATCH(Q235,referentes!$H:$H,0),1))","v":""},"",{"$f":"IF(V235=\"\",\"\",INDEX(referentes!S:T,MATCH(V235,referentes!$T:$T,0),1))","v":""},{"$f":"IF(BL235=\"\",\"\",INDEX(referentes!J:K,MATCH(BL235,referentes!$K:$K,0),1))","v":""},{"$f":"IF(BD235=\"\",\"\",INDEX(referentes!V:W,MATCH(BD235,referentes!$W:$W,0),1))","v":""},{"$f":"IF(BE235=\"\",\"\",INDEX(referentes!Y:Z,MATCH(BE235,referentes!$Z:$Z,0),1))","v":""},{"$f":"IF(BF235=\"\",\"\",INDEX(referentes!AB:AC,MATCH(BF235,referentes!$AC:$AC,0),1))","v":""},{"$f":"IF(BG235=\"\",\"\",INDEX(referentes!AE:AF,MATCH(BG235,referentes!$AF:$AF,0),1))","v":""},{"$f":"IF(AY235=\"\",\"\",INDEX(referentes!M:N,MATCH(AY235,referentes!$N:$N,0),1))","v":""},{"$f":"IF(BN235=\"\",\"\",INDEX('Otras referencias'!S:T,MATCH(BN235,'Otras referencias'!$T:$T,0),1))","v":""},{"$f":"IF(BH235=\"\",\"\",INDEX('Otras referencias'!A:B,MATCH(BH235,'Otras referencias'!$B:$B,0),1))","v":""}]
[null,0,"",null,null,"",{"$f":"IF(H236=\"\",\"\",INDEX(referentes!AU:AV,MATCH(H236,referentes!$AV:$AV,0),1))","v":""},null,{"$f":"IF(J236=\"\",\"\",INDEX('Otras referencias'!$V:$W,MATCH(J236,'Otras referencias'!$W:$W,0),1))","v":""},null,null,null,null,null,null,null,null,null,201,null,null,null,null,null,null,null,null,null,null,null,null,null,null,null,null,null,null,null,null,null,null,null,null,null,null,0,null,null,null,0,null,null,null,null,null,null,null,null,null,null,null,null,null,null,null,null,null,null,"",{"$f":"IF(C236=\"\",\"\",IF(COUNTIF($C$6:C236, C236)>1, \"\", C236))","v":""},{"$f":"IF(K236=\"\",\"\",INDEX(referentes!P:Q,MATCH(K236,referentes!$Q:$Q,0),1))","v":""},{"$f":"IF(L236=\"\",\"\",INDEX(referentes!$A:$B,MATCH(L236,referentes!$B:$B,0),1))","v":""},{"$f":"IF(P236=\"\",\"\",INDEX(referentes!D:E,MATCH(P236,referentes!$E:$E,0),1))","v":""},{"$f":"IF(Q236=\"\",\"\",INDEX(referentes!G:H,MATCH(Q236,referentes!$H:$H,0),1))","v":""},"",{"$f":"IF(V236=\"\",\"\",INDEX(referentes!S:T,MATCH(V236,referentes!$T:$T,0),1))","v":""},{"$f":"IF(BL236=\"\",\"\",INDEX(referentes!J:K,MATCH(BL236,referentes!$K:$K,0),1))","v":""},{"$f":"IF(BD236=\"\",\"\",INDEX(referentes!V:W,MATCH(BD236,referentes!$W:$W,0),1))","v":""},{"$f":"IF(BE236=\"\",\"\",INDEX(referentes!Y:Z,MATCH(BE236,referentes!$Z:$Z,0),1))","v":""},{"$f":"IF(BF236=\"\",\"\",INDEX(referentes!AB:AC,MATCH(BF236,referentes!$AC:$AC,0),1))","v":""},{"$f":"IF(BG236=\"\",\"\",INDEX(referentes!AE:AF,MATCH(BG236,referentes!$AF:$AF,0),1))","v":""},{"$f":"IF(AY236=\"\",\"\",INDEX(referentes!M:N,MATCH(AY236,referentes!$N:$N,0),1))","v":""},{"$f":"IF(BN236=\"\",\"\",INDEX('Otras referencias'!S:T,MATCH(BN236,'Otras referencias'!$T:$T,0),1))","v":""},{"$f":"IF(BH236=\"\",\"\",INDEX('Otras referencias'!A:B,MATCH(BH236,'Otras referencias'!$B:$B,0),1))","v":""}]
[null,0,"",null,null,"",{"$f":"IF(H237=\"\",\"\",INDEX(referentes!AU:AV,MATCH(H237,referentes!$AV:$AV,0),1))","v":""},null,{"$f":"IF(J237=\"\",\"\",INDEX('Otras referencias'!$V:$W,MATCH(J237,'Otras referencias'!$W:$W,0),1))","v":""},null,null,null,null,null,null,null,null,null,201,null,null,null,null,null,null,null,null,null,null,null,null,null,null,null,null,null,null,null,null,null,null,null,null,null,null,0,null,null,null,0,null,null,null,null,null,null,null,null,null,null,null,null,null,null,null,null,null,null,"",{"$f":"IF(C237=\"\",\"\",IF(COUNTIF($C$6:C237, C237)>1, \"\", C237))","v":""},{"$f":"IF(K237=\"\",\"\",INDEX(referentes!P:Q,MATCH(K237,referentes!$Q:$Q,0),1))","v":""},{"$f":"IF(L237=\"\",\"\",INDEX(referentes!$A:$B,MATCH(L237,referentes!$B:$B,0),1))","v":""},{"$f":"IF(P237=\"\",\"\",INDEX(referentes!D:E,MATCH(P237,referentes!$E:$E,0),1))","v":""},{"$f":"IF(Q237=\"\",\"\",INDEX(referentes!G:H,MATCH(Q237,referentes!$H:$H,0),1))","v":""},"",{"$f":"IF(V237=\"\",\"\",INDEX(referentes!S:T,MATCH(V237,referentes!$T:$T,0),1))","v":""},{"$f":"IF(BL237=\"\",\"\",INDEX(referentes!J:K,MATCH(BL237,referentes!$K:$K,0),1))","v":""},{"$f":"IF(BD237=\"\",\"\",INDEX(referentes!V:W,MATCH(BD237,referentes!$W:$W,0),1))","v":""},{"$f":"IF(BE237=\"\",\"\",INDEX(referentes!Y:Z,MATCH(BE237,referentes!$Z:$Z,0),1))","v":""},{"$f":"IF(BF237=\"\",\"\",INDEX(referentes!AB:AC,MATCH(BF237,referentes!$AC:$AC,0),1))","v":""},{"$f":"IF(BG237=\"\",\"\",INDEX(referentes!AE:AF,MATCH(BG237,referentes!$AF:$AF,0),1))","v":""},{"$f":"IF(AY237=\"\",\"\",INDEX(referentes!M:N,MATCH(AY237,referentes!$N:$N,0),1))","v":""},{"$f":"IF(BN237=\"\",\"\",INDEX('Otras referencias'!S:T,MATCH(BN237,'Otras referencias'!$T:$T,0),1))","v":""},{"$f":"IF(BH237=\"\",\"\",INDEX('Otras referencias'!A:B,MATCH(BH237,'Otras referencias'!$B:$B,0),1))","v":""}]
[null,0,"",null,null,"",{"$f":"IF(H238=\"\",\"\",INDEX(referentes!AU:AV,MATCH(H238,referentes!$AV:$AV,0),1))","v":""},null,{"$f":"IF(J238=\"\",\"\",INDEX('Otras referencias'!$V:$W,MATCH(J238,'Otras referencias'!$W:$W,0),1))","v":""},null,null,null,null,null,null,null,null,null,201,null,null,null,null,null,null,null,null,null,null,null,null,null,null,null,null,null,null,null,null,null,null,null,null,null,null,0,null,null,null,0,null,null,null,null,null,null,null,null,null,null,null,null,null,null,null,null,null,null,"",{"$f":"IF(C238=\"\",\"\",IF(COUNTIF($C$6:C238, C238)>1, \"\", C238))","v":""},{"$f":"IF(K238=\"\",\"\",INDEX(referentes!P:Q,MATCH(K238,referentes!$Q:$Q,0),1))","v":""},{"$f":"IF(L238=\"\",\"\",INDEX(referentes!$A:$B,MATCH(L238,referentes!$B:$B,0),1))","v":""},{"$f":"IF(P238=\"\",\"\",INDEX(referentes!D:E,MATCH(P238,referentes!$E:$E,0),1))","v":""},{"$f":"IF(Q238=\"\",\"\",INDEX(referentes!G:H,MATCH(Q238,referentes!$H:$H,0),1))","v":""},"",{"$f":"IF(V238=\"\",\"\",INDEX(referentes!S:T,MATCH(V238,referentes!$T:$T,0),1))","v":""},{"$f":"IF(BL238=\"\",\"\",INDEX(referentes!J:K,MATCH(BL238,referentes!$K:$K,0),1))","v":""},{"$f":"IF(BD238=\"\",\"\",INDEX(referentes!V:W,MATCH(BD238,referentes!$W:$W,0),1))","v":""},{"$f":"IF(BE238=\"\",\"\",INDEX(referentes!Y:Z,MATCH(BE238,referentes!$Z:$Z,0),1))","v":""},{"$f":"IF(BF238=\"\",\"\",INDEX(referentes!AB:AC,MATCH(BF238,referentes!$AC:$AC,0),1))","v":""},{"$f":"IF(BG238=\"\",\"\",INDEX(referentes!AE:AF,MATCH(BG238,referentes!$AF:$AF,0),1))","v":""},{"$f":"IF(AY238=\"\",\"\",INDEX(referentes!M:N,MATCH(AY238,referentes!$N:$N,0),1))","v":""},{"$f":"IF(BN238=\"\",\"\",INDEX('Otras referencias'!S:T,MATCH(BN238,'Otras referencias'!$T:$T,0),1))","v":""},{"$f":"IF(BH238=\"\",\"\",INDEX('Otras referencias'!A:B,MATCH(BH238,'Otras referencias'!$B:$B,0),1))","v":""}]
[null,0,"",null,null,"",{"$f":"IF(H239=\"\",\"\",INDEX(referentes!AU:AV,MATCH(H239,referentes!$AV:$AV,0),1))","v":""},null,{"$f":"IF(J239=\"\",\"\",INDEX('Otras referencias'!$V:$W,MATCH(J239,'Otras referencias'!$W:$W,0),1))","v":""},null,null,null,null,null,null,null,null,null,201,null,null,null,null,null,null,null,null,null,null,null,null,null,null,null,null,null,null,null,null,null,null,null,null,null,null,0,null,null,null,0,null,null,null,null,null,null,null,null,null,null,null,null,null,null,null,null,null,null,"",{"$f":"IF(C239=\"\",\"\",IF(COUNTIF($C$6:C239, C239)>1, \"\", C239))","v":""},{"$f":"IF(K239=\"\",\"\",INDEX(referentes!P:Q,MATCH(K239,referentes!$Q:$Q,0),1))","v":""},{"$f":"IF(L239=\"\",\"\",INDEX(referentes!$A:$B,MATCH(L239,referentes!$B:$B,0),1))","v":""},{"$f":"IF(P239=\"\",\"\",INDEX(referentes!D:E,MATCH(P239,referentes!$E:$E,0),1))","v":""},{"$f":"IF(Q239=\"\",\"\",INDEX(referentes!G:H,MATCH(Q239,referentes!$H:$H,0),1))","v":""},"",{"$f":"IF(V239=\"\",\"\",INDEX(referentes!S:T,MATCH(V239,referentes!$T:$T,0),1))","v":""},{"$f":"IF(BL239=\"\",\"\",INDEX(referentes!J:K,MATCH(BL239,referentes!$K:$K,0),1))","v":""},{"$f":"IF(BD239=\"\",\"\",INDEX(referentes!V:W,MATCH(BD239,referentes!$W:$W,0),1))","v":""},{"$f":"IF(BE239=\"\",\"\",INDEX(referentes!Y:Z,MATCH(BE239,referentes!$Z:$Z,0),1))","v":""},{"$f":"IF(BF239=\"\",\"\",INDEX(referentes!AB:AC,MATCH(BF239,referentes!$AC:$AC,0),1))","v":""},{"$f":"IF(BG239=\"\",\"\",INDEX(referentes!AE:AF,MATCH(BG239,referentes!$AF:$AF,0),1))","v":""},{"$f":"IF(AY239=\"\",\"\",INDEX(referentes!M:N,MATCH(AY239,referentes!$N:$N,0),1))","v":""},{"$f":"IF(BN239=\"\",\"\",INDEX('Otras referencias'!S:T,MATCH(BN239,'Otras referencias'!$T:$T,0),1))","v":""},{"$f":"IF(BH239=\"\",\"\",INDEX('Otras referencias'!A:B,MATCH(BH239,'Otras referencias'!$B:$B,0),1))","v":""}]
[null,0,"",null,null,"",{"$f":"IF(H240=\"\",\"\",INDEX(referentes!AU:AV,MATCH(H240,referentes!$AV:$AV,0),1))","v":""},null,{"$f":"IF(J240=\"\",\"\",INDEX('Otras referencias'!$V:$W,MATCH(J240,'Otras referencias'!$W:$W,0),1))","v":""},null,null,null,null,null,null,null,null,null,201,null,null,null,null,null,null,null,null,null,null,null,null,null,null,null,null,null,null,null,null,null,null,null,null,null,null,0,null,null,null,0,null,null,null,null,null,null,null,null,null,null,null,null,null,null,null,null,null,null,"",{"$f":"IF(C240=\"\",\"\",IF(COUNTIF($C$6:C240, C240)>1, \"\", C240))","v":""},{"$f":"IF(K240=\"\",\"\",INDEX(referentes!P:Q,MATCH(K240,referentes!$Q:$Q,0),1))","v":""},{"$f":"IF(L240=\"\",\"\",INDEX(referentes!$A:$B,MATCH(L240,referentes!$B:$B,0),1))","v":""},{"$f":"IF(P240=\"\",\"\",INDEX(referentes!D:E,MATCH(P240,referentes!$E:$E,0),1))","v":""},{"$f":"IF(Q240=\"\",\"\",INDEX(referentes!G:H,MATCH(Q240,referentes!$H:$H,0),1))","v":""},"",{"$f":"IF(V240=\"\",\"\",INDEX(referentes!S:T,MATCH(V240,referentes!$T:$T,0),1))","v":""},{"$f":"IF(BL240=\"\",\"\",INDEX(referentes!J:K,MATCH(BL240,referentes!$K:$K,0),1))","v":""},{"$f":"IF(BD240=\"\",\"\",INDEX(referentes!V:W,MATCH(BD240,referentes!$W:$W,0),1))","v":""},{"$f":"IF(BE240=\"\",\"\",INDEX(referentes!Y:Z,MATCH(BE240,referentes!$Z:$Z,0),1))","v":""},{"$f":"IF(BF240=\"\",\"\",INDEX(referentes!AB:AC,MATCH(BF240,referentes!$AC:$AC,0),1))","v":""},{"$f":"IF(BG240=\"\",\"\",INDEX(referentes!AE:AF,MATCH(BG240,referentes!$AF:$AF,0),1))","v":""},{"$f":"IF(AY240=\"\",\"\",INDEX(referentes!M:N,MATCH(AY240,referentes!$N:$N,0),1))","v":""},{"$f":"IF(BN240=\"\",\"\",INDEX('Otras referencias'!S:T,MATCH(BN240,'Otras referencias'!$T:$T,0),1))","v":""},{"$f":"IF(BH240=\"\",\"\",INDEX('Otras referencias'!A:B,MATCH(BH240,'Otras referencias'!$B:$B,0),1))","v":""}]
[null,0,"",null,null,"",{"$f":"IF(H241=\"\",\"\",INDEX(referentes!AU:AV,MATCH(H241,referentes!$AV:$AV,0),1))","v":""},null,{"$f":"IF(J241=\"\",\"\",INDEX('Otras referencias'!$V:$W,MATCH(J241,'Otras referencias'!$W:$W,0),1))","v":""},null,null,null,null,null,null,null,null,null,201,null,null,null,null,null,null,null,null,null,null,null,null,null,null,null,null,null,null,null,null,null,null,null,null,null,null,0,null,null,null,0,null,null,null,null,null,null,null,null,null,null,null,null,null,null,null,null,null,null,"",{"$f":"IF(C241=\"\",\"\",IF(COUNTIF($C$6:C241, C241)>1, \"\", C241))","v":""},{"$f":"IF(K241=\"\",\"\",INDEX(referentes!P:Q,MATCH(K241,referentes!$Q:$Q,0),1))","v":""},{"$f":"IF(L241=\"\",\"\",INDEX(referentes!$A:$B,MATCH(L241,referentes!$B:$B,0),1))","v":""},{"$f":"IF(P241=\"\",\"\",INDEX(referentes!D:E,MATCH(P241,referentes!$E:$E,0),1))","v":""},{"$f":"IF(Q241=\"\",\"\",INDEX(referentes!G:H,MATCH(Q241,referentes!$H:$H,0),1))","v":""},"",{"$f":"IF(V241=\"\",\"\",INDEX(referentes!S:T,MATCH(V241,referentes!$T:$T,0),1))","v":""},{"$f":"IF(BL241=\"\",\"\",INDEX(referentes!J:K,MATCH(BL241,referentes!$K:$K,0),1))","v":""},{"$f":"IF(BD241=\"\",\"\",INDEX(referentes!V:W,MATCH(BD241,referentes!$W:$W,0),1))","v":""},{"$f":"IF(BE241=\"\",\"\",INDEX(referentes!Y:Z,MATCH(BE241,referentes!$Z:$Z,0),1))","v":""},{"$f":"IF(BF241=\"\",\"\",INDEX(referentes!AB:AC,MATCH(BF241,referentes!$AC:$AC,0),1))","v":""},{"$f":"IF(BG241=\"\",\"\",INDEX(referentes!AE:AF,MATCH(BG241,referentes!$AF:$AF,0),1))","v":""},{"$f":"IF(AY241=\"\",\"\",INDEX(referentes!M:N,MATCH(AY241,referentes!$N:$N,0),1))","v":""},{"$f":"IF(BN241=\"\",\"\",INDEX('Otras referencias'!S:T,MATCH(BN241,'Otras referencias'!$T:$T,0),1))","v":""},{"$f":"IF(BH241=\"\",\"\",INDEX('Otras referencias'!A:B,MATCH(BH241,'Otras referencias'!$B:$B,0),1))","v":""}]
[null,0,"",null,null,"",{"$f":"IF(H242=\"\",\"\",INDEX(referentes!AU:AV,MATCH(H242,referentes!$AV:$AV,0),1))","v":""},null,{"$f":"IF(J242=\"\",\"\",INDEX('Otras referencias'!$V:$W,MATCH(J242,'Otras referencias'!$W:$W,0),1))","v":""},null,null,null,null,null,null,null,null,null,201,null,null,null,null,null,null,null,null,null,null,null,null,null,null,null,null,null,null,null,null,null,null,null,null,null,null,0,null,null,null,0,null,null,null,null,null,null,null,null,null,null,null,null,null,null,null,null,null,null,"",{"$f":"IF(C242=\"\",\"\",IF(COUNTIF($C$6:C242, C242)>1, \"\", C242))","v":""},{"$f":"IF(K242=\"\",\"\",INDEX(referentes!P:Q,MATCH(K242,referentes!$Q:$Q,0),1))","v":""},{"$f":"IF(L242=\"\",\"\",INDEX(referentes!$A:$B,MATCH(L242,referentes!$B:$B,0),1))","v":""},{"$f":"IF(P242=\"\",\"\",INDEX(referentes!D:E,MATCH(P242,referentes!$E:$E,0),1))","v":""},{"$f":"IF(Q242=\"\",\"\",INDEX(referentes!G:H,MATCH(Q242,referentes!$H:$H,0),1))","v":""},"",{"$f":"IF(V242=\"\",\"\",INDEX(referentes!S:T,MATCH(V242,referentes!$T:$T,0),1))","v":""},{"$f":"IF(BL242=\"\",\"\",INDEX(referentes!J:K,MATCH(BL242,referentes!$K:$K,0),1))","v":""},{"$f":"IF(BD242=\"\",\"\",INDEX(referentes!V:W,MATCH(BD242,referentes!$W:$W,0),1))","v":""},{"$f":"IF(BE242=\"\",\"\",INDEX(referentes!Y:Z,MATCH(BE242,referentes!$Z:$Z,0),1))","v":""},{"$f":"IF(BF242=\"\",\"\",INDEX(referentes!AB:AC,MATCH(BF242,referentes!$AC:$AC,0),1))","v":""},{"$f":"IF(BG242=\"\",\"\",INDEX(referentes!AE:AF,MATCH(BG242,referentes!$AF:$AF,0),1))","v":""},{"$f":"IF(AY242=\"\",\"\",INDEX(referentes!M:N,MATCH(AY242,referentes!$N:$N,0),1))","v":""},{"$f":"IF(BN242=\"\",\"\",INDEX('Otras referencias'!S:T,MATCH(BN242,'Otras referencias'!$T:$T,0),1))","v":""},{"$f":"IF(BH242=\"\",\"\",INDEX('Otras referencias'!A:B,MATCH(BH242,'Otras referencias'!$B:$B,0),1))","v":""}]
[null,0,"",null,null,"",{"$f":"IF(H243=\"\",\"\",INDEX(referentes!AU:AV,MATCH(H243,referentes!$AV:$AV,0),1))","v":""},null,{"$f":"IF(J243=\"\",\"\",INDEX('Otras referencias'!$V:$W,MATCH(J243,'Otras referencias'!$W:$W,0),1))","v":""},null,null,null,null,null,null,null,null,null,201,null,null,null,null,null,null,null,null,null,null,null,null,null,null,null,null,null,null,null,null,null,null,null,null,null,null,0,null,null,null,0,null,null,null,null,null,null,null,null,null,null,null,null,null,null,null,null,null,null,"",{"$f":"IF(C243=\"\",\"\",IF(COUNTIF($C$6:C243, C243)>1, \"\", C243))","v":""},{"$f":"IF(K243=\"\",\"\",INDEX(referentes!P:Q,MATCH(K243,referentes!$Q:$Q,0),1))","v":""},{"$f":"IF(L243=\"\",\"\",INDEX(referentes!$A:$B,MATCH(L243,referentes!$B:$B,0),1))","v":""},{"$f":"IF(P243=\"\",\"\",INDEX(referentes!D:E,MATCH(P243,referentes!$E:$E,0),1))","v":""},{"$f":"IF(Q243=\"\",\"\",INDEX(referentes!G:H,MATCH(Q243,referentes!$H:$H,0),1))","v":""},"",{"$f":"IF(V243=\"\",\"\",INDEX(referentes!S:T,MATCH(V243,referentes!$T:$T,0),1))","v":""},{"$f":"IF(BL243=\"\",\"\",INDEX(referentes!J:K,MATCH(BL243,referentes!$K:$K,0),1))","v":""},{"$f":"IF(BD243=\"\",\"\",INDEX(referentes!V:W,MATCH(BD243,referentes!$W:$W,0),1))","v":""},{"$f":"IF(BE243=\"\",\"\",INDEX(referentes!Y:Z,MATCH(BE243,referentes!$Z:$Z,0),1))","v":""},{"$f":"IF(BF243=\"\",\"\",INDEX(referentes!AB:AC,MATCH(BF243,referentes!$AC:$AC,0),1))","v":""},{"$f":"IF(BG243=\"\",\"\",INDEX(referentes!AE:AF,MATCH(BG243,referentes!$AF:$AF,0),1))","v":""},{"$f":"IF(AY243=\"\",\"\",INDEX(referentes!M:N,MATCH(AY243,referentes!$N:$N,0),1))","v":""},{"$f":"IF(BN243=\"\",\"\",INDEX('Otras referencias'!S:T,MATCH(BN243,'Otras referencias'!$T:$T,0),1))","v":""},{"$f":"IF(BH243=\"\",\"\",INDEX('Otras referencias'!A:B,MATCH(BH243,'Otras referencias'!$B:$B,0),1))","v":""}]
[null,0,"",null,null,"",{"$f":"IF(H244=\"\",\"\",INDEX(referentes!AU:AV,MATCH(H244,referentes!$AV:$AV,0),1))","v":""},null,{"$f":"IF(J244=\"\",\"\",INDEX('Otras referencias'!$V:$W,MATCH(J244,'Otras referencias'!$W:$W,0),1))","v":""},null,null,null,null,null,null,null,null,null,201,null,null,null,null,null,null,null,null,null,null,null,null,null,null,null,null,null,null,null,null,null,null,null,null,null,null,0,null,null,null,0,null,null,null,null,null,null,null,null,null,null,null,null,null,null,null,null,null,null,"",{"$f":"IF(C244=\"\",\"\",IF(COUNTIF($C$6:C244, C244)>1, \"\", C244))","v":""},{"$f":"IF(K244=\"\",\"\",INDEX(referentes!P:Q,MATCH(K244,referentes!$Q:$Q,0),1))","v":""},{"$f":"IF(L244=\"\",\"\",INDEX(referentes!$A:$B,MATCH(L244,referentes!$B:$B,0),1))","v":""},{"$f":"IF(P244=\"\",\"\",INDEX(referentes!D:E,MATCH(P244,referentes!$E:$E,0),1))","v":""},{"$f":"IF(Q244=\"\",\"\",INDEX(referentes!G:H,MATCH(Q244,referentes!$H:$H,0),1))","v":""},"",{"$f":"IF(V244=\"\",\"\",INDEX(referentes!S:T,MATCH(V244,referentes!$T:$T,0),1))","v":""},{"$f":"IF(BL244=\"\",\"\",INDEX(referentes!J:K,MATCH(BL244,referentes!$K:$K,0),1))","v":""},{"$f":"IF(BD244=\"\",\"\",INDEX(referentes!V:W,MATCH(BD244,referentes!$W:$W,0),1))","v":""},{"$f":"IF(BE244=\"\",\"\",INDEX(referentes!Y:Z,MATCH(BE244,referentes!$Z:$Z,0),1))","v":""},{"$f":"IF(BF244=\"\",\"\",INDEX(referentes!AB:AC,MATCH(BF244,referentes!$AC:$AC,0),1))","v":""},{"$f":"IF(BG244=\"\",\"\",INDEX(referentes!AE:AF,MATCH(BG244,referentes!$AF:$AF,0),1))","v":""},{"$f":"IF(AY244=\"\",\"\",INDEX(referentes!M:N,MATCH(AY244,referentes!$N:$N,0),1))","v":""},{"$f":"IF(BN244=\"\",\"\",INDEX('Otras referencias'!S:T,MATCH(BN244,'Otras referencias'!$T:$T,0),1))","v":""},{"$f":"IF(BH244=\"\",\"\",INDEX('Otras referencias'!A:B,MATCH(BH244,'Otras referencias'!$B:$B,0),1))","v":""}]
[null,0,"",null,null,"",{"$f":"IF(H245=\"\",\"\",INDEX(referentes!AU:AV,MATCH(H245,referentes!$AV:$AV,0),1))","v":""},null,{"$f":"IF(J245=\"\",\"\",INDEX('Otras referencias'!$V:$W,MATCH(J245,'Otras referencias'!$W:$W,0),1))","v":""},null,null,null,null,null,null,null,null,null,201,null,null,null,null,null,null,null,null,null,null,null,null,null,null,null,null,null,null,null,null,null,null,null,null,null,null,0,null,null,null,0,null,null,null,null,null,null,null,null,null,null,null,null,null,null,null,null,null,null,"",{"$f":"IF(C245=\"\",\"\",IF(COUNTIF($C$6:C245, C245)>1, \"\", C245))","v":""},{"$f":"IF(K245=\"\",\"\",INDEX(referentes!P:Q,MATCH(K245,referentes!$Q:$Q,0),1))","v":""},{"$f":"IF(L245=\"\",\"\",INDEX(referentes!$A:$B,MATCH(L245,referentes!$B:$B,0),1))","v":""},{"$f":"IF(P245=\"\",\"\",INDEX(referentes!D:E,MATCH(P245,referentes!$E:$E,0),1))","v":""},{"$f":"IF(Q245=\"\",\"\",INDEX(referentes!G:H,MATCH(Q245,referentes!$H:$H,0),1))","v":""},"",{"$f":"IF(V245=\"\",\"\",INDEX(referentes!S:T,MATCH(V245,referentes!$T:$T,0),1))","v":""},{"$f":"IF(BL245=\"\",\"\",INDEX(referentes!J:K,MATCH(BL245,referentes!$K:$K,0),1))","v":""},{"$f":"IF(BD245=\"\",\"\",INDEX(referentes!V:W,MATCH(BD245,referentes!$W:$W,0),1))","v":""},{"$f":"IF(BE245=\"\",\"\",INDEX(referentes!Y:Z,MATCH(BE245,referentes!$Z:$Z,0),1))","v":""},{"$f":"IF(BF245=\"\",\"\",INDEX(referentes!AB:AC,MATCH(BF245,referentes!$AC:$AC,0),1))","v":""},{"$f":"IF(BG245=\"\",\"\",INDEX(referentes!AE:AF,MATCH(BG245,referentes!$AF:$AF,0),1))","v":""},{"$f":"IF(AY245=\"\",\"\",INDEX(referentes!M:N,MATCH(AY245,referentes!$N:$N,0),1))","v":""},{"$f":"IF(BN245=\"\",\"\",INDEX('Otras referencias'!S:T,MATCH(BN245,'Otras referencias'!$T:$T,0),1))","v":""},{"$f":"IF(BH245=\"\",\"\",INDEX('Otras referencias'!A:B,MATCH(BH245,'Otras referencias'!$B:$B,0),1))","v":""}]
[null,0,"",null,null,"",{"$f":"IF(H246=\"\",\"\",INDEX(referentes!AU:AV,MATCH(H246,referentes!$AV:$AV,0),1))","v":""},null,{"$f":"IF(J246=\"\",\"\",INDEX('Otras referencias'!$V:$W,MATCH(J246,'Otras referencias'!$W:$W,0),1))","v":""},null,null,null,null,null,null,null,null,null,201,null,null,null,null,null,null,null,null,null,null,null,null,null,null,null,null,null,null,null,null,null,null,null,null,null,null,0,null,null,null,0,null,null,null,null,null,null,null,null,null,null,null,null,null,null,null,null,null,null,"",{"$f":"IF(C246=\"\",\"\",IF(COUNTIF($C$6:C246, C246)>1, \"\", C246))","v":""},{"$f":"IF(K246=\"\",\"\",INDEX(referentes!P:Q,MATCH(K246,referentes!$Q:$Q,0),1))","v":""},{"$f":"IF(L246=\"\",\"\",INDEX(referentes!$A:$B,MATCH(L246,referentes!$B:$B,0),1))","v":""},{"$f":"IF(P246=\"\",\"\",INDEX(referentes!D:E,MATCH(P246,referentes!$E:$E,0),1))","v":""},{"$f":"IF(Q246=\"\",\"\",INDEX(referentes!G:H,MATCH(Q246,referentes!$H:$H,0),1))","v":""},"",{"$f":"IF(V246=\"\",\"\",INDEX(referentes!S:T,MATCH(V246,referentes!$T:$T,0),1))","v":""},{"$f":"IF(BL246=\"\",\"\",INDEX(referentes!J:K,MATCH(BL246,referentes!$K:$K,0),1))","v":""},{"$f":"IF(BD246=\"\",\"\",INDEX(referentes!V:W,MATCH(BD246,referentes!$W:$W,0),1))","v":""},{"$f":"IF(BE246=\"\",\"\",INDEX(referentes!Y:Z,MATCH(BE246,referentes!$Z:$Z,0),1))","v":""},{"$f":"IF(BF246=\"\",\"\",INDEX(referentes!AB:AC,MATCH(BF246,referentes!$AC:$AC,0),1))","v":""},{"$f":"IF(BG246=\"\",\"\",INDEX(referentes!AE:AF,MATCH(BG246,referentes!$AF:$AF,0),1))","v":""},{"$f":"IF(AY246=\"\",\"\",INDEX(referentes!M:N,MATCH(AY246,referentes!$N:$N,0),1))","v":""},{"$f":"IF(BN246=\"\",\"\",INDEX('Otras referencias'!S:T,MATCH(BN246,'Otras referencias'!$T:$T,0),1))","v":""},{"$f":"IF(BH246=\"\",\"\",INDEX('Otras referencias'!A:B,MATCH(BH246,'Otras referencias'!$B:$B,0),1))","v":""}]
[null,0,"",null,null,"",{"$f":"IF(H247=\"\",\"\",INDEX(referentes!AU:AV,MATCH(H247,referentes!$AV:$AV,0),1))","v":""},null,{"$f":"IF(J247=\"\",\"\",INDEX('Otras referencias'!$V:$W,MATCH(J247,'Otras referencias'!$W:$W,0),1))","v":""},null,null,null,null,null,null,null,null,null,201,null,null,null,null,null,null,null,null,null,null,null,null,null,null,null,null,null,null,null,null,null,null,null,null,null,null,0,null,null,null,0,null,null,null,null,null,null,null,null,null,null,null,null,null,null,null,null,null,null,"",{"$f":"IF(C247=\"\",\"\",IF(COUNTIF($C$6:C247, C247)>1, \"\", C247))","v":""},{"$f":"IF(K247=\"\",\"\",INDEX(referentes!P:Q,MATCH(K247,referentes!$Q:$Q,0),1))","v":""},{"$f":"IF(L247=\"\",\"\",INDEX(referentes!$A:$B,MATCH(L247,referentes!$B:$B,0),1))","v":""},{"$f":"IF(P247=\"\",\"\",INDEX(referentes!D:E,MATCH(P247,referentes!$E:$E,0),1))","v":""},{"$f":"IF(Q247=\"\",\"\",INDEX(referentes!G:H,MATCH(Q247,referentes!$H:$H,0),1))","v":""},"",{"$f":"IF(V247=\"\",\"\",INDEX(referentes!S:T,MATCH(V247,referentes!$T:$T,0),1))","v":""},{"$f":"IF(BL247=\"\",\"\",INDEX(referentes!J:K,MATCH(BL247,referentes!$K:$K,0),1))","v":""},{"$f":"IF(BD247=\"\",\"\",INDEX(referentes!V:W,MATCH(BD247,referentes!$W:$W,0),1))","v":""},{"$f":"IF(BE247=\"\",\"\",INDEX(referentes!Y:Z,MATCH(BE247,referentes!$Z:$Z,0),1))","v":""},{"$f":"IF(BF247=\"\",\"\",INDEX(referentes!AB:AC,MATCH(BF247,referentes!$AC:$AC,0),1))","v":""},{"$f":"IF(BG247=\"\",\"\",INDEX(referentes!AE:AF,MATCH(BG247,referentes!$AF:$AF,0),1))","v":""},{"$f":"IF(AY247=\"\",\"\",INDEX(referentes!M:N,MATCH(AY247,referentes!$N:$N,0),1))","v":""},{"$f":"IF(BN247=\"\",\"\",INDEX('Otras referencias'!S:T,MATCH(BN247,'Otras referencias'!$T:$T,0),1))","v":""},{"$f":"IF(BH247=\"\",\"\",INDEX('Otras referencias'!A:B,MATCH(BH247,'Otras referencias'!$B:$B,0),1))","v":""}]
[null,0,"",null,null,"",{"$f":"IF(H248=\"\",\"\",INDEX(referentes!AU:AV,MATCH(H248,referentes!$AV:$AV,0),1))","v":""},null,{"$f":"IF(J248=\"\",\"\",INDEX('Otras referencias'!$V:$W,MATCH(J248,'Otras referencias'!$W:$W,0),1))","v":""},null,null,null,null,null,null,null,null,null,201,null,null,null,null,null,null,null,null,null,null,null,null,null,null,null,null,null,null,null,null,null,null,null,null,null,null,0,null,null,null,0,null,null,null,null,null,null,null,null,null,null,null,null,null,null,null,null,null,null,"",{"$f":"IF(C248=\"\",\"\",IF(COUNTIF($C$6:C248, C248)>1, \"\", C248))","v":""},{"$f":"IF(K248=\"\",\"\",INDEX(referentes!P:Q,MATCH(K248,referentes!$Q:$Q,0),1))","v":""},{"$f":"IF(L248=\"\",\"\",INDEX(referentes!$A:$B,MATCH(L248,referentes!$B:$B,0),1))","v":""},{"$f":"IF(P248=\"\",\"\",INDEX(referentes!D:E,MATCH(P248,referentes!$E:$E,0),1))","v":""},{"$f":"IF(Q248=\"\",\"\",INDEX(referentes!G:H,MATCH(Q248,referentes!$H:$H,0),1))","v":""},"",{"$f":"IF(V248=\"\",\"\",INDEX(referentes!S:T,MATCH(V248,referentes!$T:$T,0),1))","v":""},{"$f":"IF(BL248=\"\",\"\",INDEX(referentes!J:K,MATCH(BL248,referentes!$K:$K,0),1))","v":""},{"$f":"IF(BD248=\"\",\"\",INDEX(referentes!V:W,MATCH(BD248,referentes!$W:$W,0),1))","v":""},{"$f":"IF(BE248=\"\",\"\",INDEX(referentes!Y:Z,MATCH(BE248,referentes!$Z:$Z,0),1))","v":""},{"$f":"IF(BF248=\"\",\"\",INDEX(referentes!AB:AC,MATCH(BF248,referentes!$AC:$AC,0),1))","v":""},{"$f":"IF(BG248=\"\",\"\",INDEX(referentes!AE:AF,MATCH(BG248,referentes!$AF:$AF,0),1))","v":""},{"$f":"IF(AY248=\"\",\"\",INDEX(referentes!M:N,MATCH(AY248,referentes!$N:$N,0),1))","v":""},{"$f":"IF(BN248=\"\",\"\",INDEX('Otras referencias'!S:T,MATCH(BN248,'Otras referencias'!$T:$T,0),1))","v":""},{"$f":"IF(BH248=\"\",\"\",INDEX('Otras referencias'!A:B,MATCH(BH248,'Otras referencias'!$B:$B,0),1))","v":""}]
[null,0,"",null,null,"",{"$f":"IF(H249=\"\",\"\",INDEX(referentes!AU:AV,MATCH(H249,referentes!$AV:$AV,0),1))","v":""},null,{"$f":"IF(J249=\"\",\"\",INDEX('Otras referencias'!$V:$W,MATCH(J249,'Otras referencias'!$W:$W,0),1))","v":""},null,null,null,null,null,null,null,null,null,201,null,null,null,null,null,null,null,null,null,null,null,null,null,null,null,null,null,null,null,null,null,null,null,null,null,null,0,null,null,null,0,null,null,null,null,null,null,null,null,null,null,null,null,null,null,null,null,null,null,"",{"$f":"IF(C249=\"\",\"\",IF(COUNTIF($C$6:C249, C249)>1, \"\", C249))","v":""},{"$f":"IF(K249=\"\",\"\",INDEX(referentes!P:Q,MATCH(K249,referentes!$Q:$Q,0),1))","v":""},{"$f":"IF(L249=\"\",\"\",INDEX(referentes!$A:$B,MATCH(L249,referentes!$B:$B,0),1))","v":""},{"$f":"IF(P249=\"\",\"\",INDEX(referentes!D:E,MATCH(P249,referentes!$E:$E,0),1))","v":""},{"$f":"IF(Q249=\"\",\"\",INDEX(referentes!G:H,MATCH(Q249,referentes!$H:$H,0),1))","v":""},"",{"$f":"IF(V249=\"\",\"\",INDEX(referentes!S:T,MATCH(V249,referentes!$T:$T,0),1))","v":""},{"$f":"IF(BL249=\"\",\"\",INDEX(referentes!J:K,MATCH(BL249,referentes!$K:$K,0),1))","v":""},{"$f":"IF(BD249=\"\",\"\",INDEX(referentes!V:W,MATCH(BD249,referentes!$W:$W,0),1))","v":""},{"$f":"IF(BE249=\"\",\"\",INDEX(referentes!Y:Z,MATCH(BE249,referentes!$Z:$Z,0),1))","v":""},{"$f":"IF(BF249=\"\",\"\",INDEX(referentes!AB:AC,MATCH(BF249,referentes!$AC:$AC,0),1))","v":""},{"$f":"IF(BG249=\"\",\"\",INDEX(referentes!AE:AF,MATCH(BG249,referentes!$AF:$AF,0),1))","v":""},{"$f":"IF(AY249=\"\",\"\",INDEX(referentes!M:N,MATCH(AY249,referentes!$N:$N,0),1))","v":""},{"$f":"IF(BN249=\"\",\"\",INDEX('Otras referencias'!S:T,MATCH(BN249,'Otras referencias'!$T:$T,0),1))","v":""},{"$f":"IF(BH249=\"\",\"\",INDEX('Otras referencias'!A:B,MATCH(BH249,'Otras referencias'!$B:$B,0),1))","v":""}]
[null,0,"",null,null,"",{"$f":"IF(H250=\"\",\"\",INDEX(referentes!AU:AV,MATCH(H250,referentes!$AV:$AV,0),1))","v":""},null,{"$f":"IF(J250=\"\",\"\",INDEX('Otras referencias'!$V:$W,MATCH(J250,'Otras referencias'!$W:$W,0),1))","v":""},null,null,null,null,null,null,null,null,null,201,null,null,null,null,null,null,null,null,null,null,null,null,null,null,null,null,null,null,null,null,null,null,null,null,null,null,0,null,null,null,0,null,null,null,null,null,null,null,null,null,null,null,null,null,null,null,null,null,null,"",{"$f":"IF(C250=\"\",\"\",IF(COUNTIF($C$6:C250, C250)>1, \"\", C250))","v":""},{"$f":"IF(K250=\"\",\"\",INDEX(referentes!P:Q,MATCH(K250,referentes!$Q:$Q,0),1))","v":""},{"$f":"IF(L250=\"\",\"\",INDEX(referentes!$A:$B,MATCH(L250,referentes!$B:$B,0),1))","v":""},{"$f":"IF(P250=\"\",\"\",INDEX(referentes!D:E,MATCH(P250,referentes!$E:$E,0),1))","v":""},{"$f":"IF(Q250=\"\",\"\",INDEX(referentes!G:H,MATCH(Q250,referentes!$H:$H,0),1))","v":""},"",{"$f":"IF(V250=\"\",\"\",INDEX(referentes!S:T,MATCH(V250,referentes!$T:$T,0),1))","v":""},{"$f":"IF(BL250=\"\",\"\",INDEX(referentes!J:K,MATCH(BL250,referentes!$K:$K,0),1))","v":""},{"$f":"IF(BD250=\"\",\"\",INDEX(referentes!V:W,MATCH(BD250,referentes!$W:$W,0),1))","v":""},{"$f":"IF(BE250=\"\",\"\",INDEX(referentes!Y:Z,MATCH(BE250,referentes!$Z:$Z,0),1))","v":""},{"$f":"IF(BF250=\"\",\"\",INDEX(referentes!AB:AC,MATCH(BF250,referentes!$AC:$AC,0),1))","v":""},{"$f":"IF(BG250=\"\",\"\",INDEX(referentes!AE:AF,MATCH(BG250,referentes!$AF:$AF,0),1))","v":""},{"$f":"IF(AY250=\"\",\"\",INDEX(referentes!M:N,MATCH(AY250,referentes!$N:$N,0),1))","v":""},{"$f":"IF(BN250=\"\",\"\",INDEX('Otras referencias'!S:T,MATCH(BN250,'Otras referencias'!$T:$T,0),1))","v":""},{"$f":"IF(BH250=\"\",\"\",INDEX('Otras referencias'!A:B,MATCH(BH250,'Otras referencias'!$B:$B,0),1))","v":""}]
[null,0,"",null,null,"",{"$f":"IF(H251=\"\",\"\",INDEX(referentes!AU:AV,MATCH(H251,referentes!$AV:$AV,0),1))","v":""},null,{"$f":"IF(J251=\"\",\"\",INDEX('Otras referencias'!$V:$W,MATCH(J251,'Otras referencias'!$W:$W,0),1))","v":""},null,null,null,null,null,null,null,null,null,201,null,null,null,null,null,null,null,null,null,null,null,null,null,null,null,null,null,null,null,null,null,null,null,null,null,null,0,null,null,null,0,null,null,null,null,null,null,null,null,null,null,null,null,null,null,null,null,null,null,"",{"$f":"IF(C251=\"\",\"\",IF(COUNTIF($C$6:C251, C251)>1, \"\", C251))","v":""},{"$f":"IF(K251=\"\",\"\",INDEX(referentes!P:Q,MATCH(K251,referentes!$Q:$Q,0),1))","v":""},{"$f":"IF(L251=\"\",\"\",INDEX(referentes!$A:$B,MATCH(L251,referentes!$B:$B,0),1))","v":""},{"$f":"IF(P251=\"\",\"\",INDEX(referentes!D:E,MATCH(P251,referentes!$E:$E,0),1))","v":""},{"$f":"IF(Q251=\"\",\"\",INDEX(referentes!G:H,MATCH(Q251,referentes!$H:$H,0),1))","v":""},"",{"$f":"IF(V251=\"\",\"\",INDEX(referentes!S:T,MATCH(V251,referentes!$T:$T,0),1))","v":""},{"$f":"IF(BL251=\"\",\"\",INDEX(referentes!J:K,MATCH(BL251,referentes!$K:$K,0),1))","v":""},{"$f":"IF(BD251=\"\",\"\",INDEX(referentes!V:W,MATCH(BD251,referentes!$W:$W,0),1))","v":""},{"$f":"IF(BE251=\"\",\"\",INDEX(referentes!Y:Z,MATCH(BE251,referentes!$Z:$Z,0),1))","v":""},{"$f":"IF(BF251=\"\",\"\",INDEX(referentes!AB:AC,MATCH(BF251,referentes!$AC:$AC,0),1))","v":""},{"$f":"IF(BG251=\"\",\"\",INDEX(referentes!AE:AF,MATCH(BG251,referentes!$AF:$AF,0),1))","v":""},{"$f":"IF(AY251=\"\",\"\",INDEX(referentes!M:N,MATCH(AY251,referentes!$N:$N,0),1))","v":""},{"$f":"IF(BN251=\"\",\"\",INDEX('Otras referencias'!S:T,MATCH(BN251,'Otras referencias'!$T:$T,0),1))","v":""},{"$f":"IF(BH251=\"\",\"\",INDEX('Otras referencias'!A:B,MATCH(BH251,'Otras referencias'!$B:$B,0),1))","v":""}]
[null,0,"",null,null,"",{"$f":"IF(H252=\"\",\"\",INDEX(referentes!AU:AV,MATCH(H252,referentes!$AV:$AV,0),1))","v":""},null,{"$f":"IF(J252=\"\",\"\",INDEX('Otras referencias'!$V:$W,MATCH(J252,'Otras referencias'!$W:$W,0),1))","v":""},null,null,null,null,null,null,null,null,null,201,null,null,null,null,null,null,null,null,null,null,null,null,null,null,null,null,null,null,null,null,null,null,null,null,null,null,0,null,null,null,0,null,null,null,null,null,null,null,null,null,null,null,null,null,null,null,null,null,null,"",{"$f":"IF(C252=\"\",\"\",IF(COUNTIF($C$6:C252, C252)>1, \"\", C252))","v":""},{"$f":"IF(K252=\"\",\"\",INDEX(referentes!P:Q,MATCH(K252,referentes!$Q:$Q,0),1))","v":""},{"$f":"IF(L252=\"\",\"\",INDEX(referentes!$A:$B,MATCH(L252,referentes!$B:$B,0),1))","v":""},{"$f":"IF(P252=\"\",\"\",INDEX(referentes!D:E,MATCH(P252,referentes!$E:$E,0),1))","v":""},{"$f":"IF(Q252=\"\",\"\",INDEX(referentes!G:H,MATCH(Q252,referentes!$H:$H,0),1))","v":""},"",{"$f":"IF(V252=\"\",\"\",INDEX(referentes!S:T,MATCH(V252,referentes!$T:$T,0),1))","v":""},{"$f":"IF(BL252=\"\",\"\",INDEX(referentes!J:K,MATCH(BL252,referentes!$K:$K,0),1))","v":""},{"$f":"IF(BD252=\"\",\"\",INDEX(referentes!V:W,MATCH(BD252,referentes!$W:$W,0),1))","v":""},{"$f":"IF(BE252=\"\",\"\",INDEX(referentes!Y:Z,MATCH(BE252,referentes!$Z:$Z,0),1))","v":""},{"$f":"IF(BF252=\"\",\"\",INDEX(referentes!AB:AC,MATCH(BF252,referentes!$AC:$AC,0),1))","v":""},{"$f":"IF(BG252=\"\",\"\",INDEX(referentes!AE:AF,MATCH(BG252,referentes!$AF:$AF,0),1))","v":""},{"$f":"IF(AY252=\"\",\"\",INDEX(referentes!M:N,MATCH(AY252,referentes!$N:$N,0),1))","v":""},{"$f":"IF(BN252=\"\",\"\",INDEX('Otras referencias'!S:T,MATCH(BN252,'Otras referencias'!$T:$T,0),1))","v":""},{"$f":"IF(BH252=\"\",\"\",INDEX('Otras referencias'!A:B,MATCH(BH252,'Otras referencias'!$B:$B,0),1))","v":""}]
[null,0,"",null,null,"",{"$f":"IF(H253=\"\",\"\",INDEX(referentes!AU:AV,MATCH(H253,referentes!$AV:$AV,0),1))","v":""},null,{"$f":"IF(J253=\"\",\"\",INDEX('Otras referencias'!$V:$W,MATCH(J253,'Otras referencias'!$W:$W,0),1))","v":""},null,null,null,null,null,null,null,null,null,201,null,null,null,null,null,null,null,null,null,null,null,null,null,null,null,null,null,null,null,null,null,null,null,null,null,null,0,null,null,null,0,null,null,null,null,null,null,null,null,null,null,null,null,null,null,null,null,null,null,"",{"$f":"IF(C253=\"\",\"\",IF(COUNTIF($C$6:C253, C253)>1, \"\", C253))","v":""},{"$f":"IF(K253=\"\",\"\",INDEX(referentes!P:Q,MATCH(K253,referentes!$Q:$Q,0),1))","v":""},{"$f":"IF(L253=\"\",\"\",INDEX(referentes!$A:$B,MATCH(L253,referentes!$B:$B,0),1))","v":""},{"$f":"IF(P253=\"\",\"\",INDEX(referentes!D:E,MATCH(P253,referentes!$E:$E,0),1))","v":""},{"$f":"IF(Q253=\"\",\"\",INDEX(referentes!G:H,MATCH(Q253,referentes!$H:$H,0),1))","v":""},"",{"$f":"IF(V253=\"\",\"\",INDEX(referentes!S:T,MATCH(V253,referentes!$T:$T,0),1))","v":""},{"$f":"IF(BL253=\"\",\"\",INDEX(referentes!J:K,MATCH(BL253,referentes!$K:$K,0),1))","v":""},{"$f":"IF(BD253=\"\",\"\",INDEX(referentes!V:W,MATCH(BD253,referentes!$W:$W,0),1))","v":""},{"$f":"IF(BE253=\"\",\"\",INDEX(referentes!Y:Z,MATCH(BE253,referentes!$Z:$Z,0),1))","v":""},{"$f":"IF(BF253=\"\",\"\",INDEX(referentes!AB:AC,MATCH(BF253,referentes!$AC:$AC,0),1))","v":""},{"$f":"IF(BG253=\"\",\"\",INDEX(referentes!AE:AF,MATCH(BG253,referentes!$AF:$AF,0),1))","v":""},{"$f":"IF(AY253=\"\",\"\",INDEX(referentes!M:N,MATCH(AY253,referentes!$N:$N,0),1))","v":""},{"$f":"IF(BN253=\"\",\"\",INDEX('Otras referencias'!S:T,MATCH(BN253,'Otras referencias'!$T:$T,0),1))","v":""},{"$f":"IF(BH253=\"\",\"\",INDEX('Otras referencias'!A:B,MATCH(BH253,'Otras referencias'!$B:$B,0),1))","v":""}]
[null,0,"",null,null,"",{"$f":"IF(H254=\"\",\"\",INDEX(referentes!AU:AV,MATCH(H254,referentes!$AV:$AV,0),1))","v":""},null,{"$f":"IF(J254=\"\",\"\",INDEX('Otras referencias'!$V:$W,MATCH(J254,'Otras referencias'!$W:$W,0),1))","v":""},null,null,null,null,null,null,null,null,null,201,null,null,null,null,null,null,null,null,null,null,null,null,null,null,null,null,null,null,null,null,null,null,null,null,null,null,0,null,null,null,0,null,null,null,null,null,null,null,null,null,null,null,null,null,null,null,null,null,null,"",{"$f":"IF(C254=\"\",\"\",IF(COUNTIF($C$6:C254, C254)>1, \"\", C254))","v":""},{"$f":"IF(K254=\"\",\"\",INDEX(referentes!P:Q,MATCH(K254,referentes!$Q:$Q,0),1))","v":""},{"$f":"IF(L254=\"\",\"\",INDEX(referentes!$A:$B,MATCH(L254,referentes!$B:$B,0),1))","v":""},{"$f":"IF(P254=\"\",\"\",INDEX(referentes!D:E,MATCH(P254,referentes!$E:$E,0),1))","v":""},{"$f":"IF(Q254=\"\",\"\",INDEX(referentes!G:H,MATCH(Q254,referentes!$H:$H,0),1))","v":""},"",{"$f":"IF(V254=\"\",\"\",INDEX(referentes!S:T,MATCH(V254,referentes!$T:$T,0),1))","v":""},{"$f":"IF(BL254=\"\",\"\",INDEX(referentes!J:K,MATCH(BL254,referentes!$K:$K,0),1))","v":""},{"$f":"IF(BD254=\"\",\"\",INDEX(referentes!V:W,MATCH(BD254,referentes!$W:$W,0),1))","v":""},{"$f":"IF(BE254=\"\",\"\",INDEX(referentes!Y:Z,MATCH(BE254,referentes!$Z:$Z,0),1))","v":""},{"$f":"IF(BF254=\"\",\"\",INDEX(referentes!AB:AC,MATCH(BF254,referentes!$AC:$AC,0),1))","v":""},{"$f":"IF(BG254=\"\",\"\",INDEX(referentes!AE:AF,MATCH(BG254,referentes!$AF:$AF,0),1))","v":""},{"$f":"IF(AY254=\"\",\"\",INDEX(referentes!M:N,MATCH(AY254,referentes!$N:$N,0),1))","v":""},{"$f":"IF(BN254=\"\",\"\",INDEX('Otras referencias'!S:T,MATCH(BN254,'Otras referencias'!$T:$T,0),1))","v":""},{"$f":"IF(BH254=\"\",\"\",INDEX('Otras referencias'!A:B,MATCH(BH254,'Otras referencias'!$B:$B,0),1))","v":""}]
[null,0,"",null,null,"",{"$f":"IF(H255=\"\",\"\",INDEX(referentes!AU:AV,MATCH(H255,referentes!$AV:$AV,0),1))","v":""},null,{"$f":"IF(J255=\"\",\"\",INDEX('Otras referencias'!$V:$W,MATCH(J255,'Otras referencias'!$W:$W,0),1))","v":""},null,null,null,null,null,null,null,null,null,201,null,null,null,null,null,null,null,null,null,null,null,null,null,null,null,null,null,null,null,null,null,null,null,null,null,null,0,null,null,null,0,null,null,null,null,null,null,null,null,null,null,null,null,null,null,null,null,null,null,"",{"$f":"IF(C255=\"\",\"\",IF(COUNTIF($C$6:C255, C255)>1, \"\", C255))","v":""},{"$f":"IF(K255=\"\",\"\",INDEX(referentes!P:Q,MATCH(K255,referentes!$Q:$Q,0),1))","v":""},{"$f":"IF(L255=\"\",\"\",INDEX(referentes!$A:$B,MATCH(L255,referentes!$B:$B,0),1))","v":""},{"$f":"IF(P255=\"\",\"\",INDEX(referentes!D:E,MATCH(P255,referentes!$E:$E,0),1))","v":""},{"$f":"IF(Q255=\"\",\"\",INDEX(referentes!G:H,MATCH(Q255,referentes!$H:$H,0),1))","v":""},"",{"$f":"IF(V255=\"\",\"\",INDEX(referentes!S:T,MATCH(V255,referentes!$T:$T,0),1))","v":""},{"$f":"IF(BL255=\"\",\"\",INDEX(referentes!J:K,MATCH(BL255,referentes!$K:$K,0),1))","v":""},{"$f":"IF(BD255=\"\",\"\",INDEX(referentes!V:W,MATCH(BD255,referentes!$W:$W,0),1))","v":""},{"$f":"IF(BE255=\"\",\"\",INDEX(referentes!Y:Z,MATCH(BE255,referentes!$Z:$Z,0),1))","v":""},{"$f":"IF(BF255=\"\",\"\",INDEX(referentes!AB:AC,MATCH(BF255,referentes!$AC:$AC,0),1))","v":""},{"$f":"IF(BG255=\"\",\"\",INDEX(referentes!AE:AF,MATCH(BG255,referentes!$AF:$AF,0),1))","v":""},{"$f":"IF(AY255=\"\",\"\",INDEX(referentes!M:N,MATCH(AY255,referentes!$N:$N,0),1))","v":""},{"$f":"IF(BN255=\"\",\"\",INDEX('Otras referencias'!S:T,MATCH(BN255,'Otras referencias'!$T:$T,0),1))","v":""},{"$f":"IF(BH255=\"\",\"\",INDEX('Otras referencias'!A:B,MATCH(BH255,'Otras referencias'!$B:$B,0),1))","v":""}]
[null,0,"",null,null,"",{"$f":"IF(H256=\"\",\"\",INDEX(referentes!AU:AV,MATCH(H256,referentes!$AV:$AV,0),1))","v":""},null,{"$f":"IF(J256=\"\",\"\",INDEX('Otras referencias'!$V:$W,MATCH(J256,'Otras referencias'!$W:$W,0),1))","v":""},null,null,null,null,null,null,null,null,null,201,null,null,null,null,null,null,null,null,null,null,null,null,null,null,null,null,null,null,null,null,null,null,null,null,null,null,0,null,null,null,0,null,null,null,null,null,null,null,null,null,null,null,null,null,null,null,null,null,null,"",{"$f":"IF(C256=\"\",\"\",IF(COUNTIF($C$6:C256, C256)>1, \"\", C256))","v":""},{"$f":"IF(K256=\"\",\"\",INDEX(referentes!P:Q,MATCH(K256,referentes!$Q:$Q,0),1))","v":""},{"$f":"IF(L256=\"\",\"\",INDEX(referentes!$A:$B,MATCH(L256,referentes!$B:$B,0),1))","v":""},{"$f":"IF(P256=\"\",\"\",INDEX(referentes!D:E,MATCH(P256,referentes!$E:$E,0),1))","v":""},{"$f":"IF(Q256=\"\",\"\",INDEX(referentes!G:H,MATCH(Q256,referentes!$H:$H,0),1))","v":""},"",{"$f":"IF(V256=\"\",\"\",INDEX(referentes!S:T,MATCH(V256,referentes!$T:$T,0),1))","v":""},{"$f":"IF(BL256=\"\",\"\",INDEX(referentes!J:K,MATCH(BL256,referentes!$K:$K,0),1))","v":""},{"$f":"IF(BD256=\"\",\"\",INDEX(referentes!V:W,MATCH(BD256,referentes!$W:$W,0),1))","v":""},{"$f":"IF(BE256=\"\",\"\",INDEX(referentes!Y:Z,MATCH(BE256,referentes!$Z:$Z,0),1))","v":""},{"$f":"IF(BF256=\"\",\"\",INDEX(referentes!AB:AC,MATCH(BF256,referentes!$AC:$AC,0),1))","v":""},{"$f":"IF(BG256=\"\",\"\",INDEX(referentes!AE:AF,MATCH(BG256,referentes!$AF:$AF,0),1))","v":""},{"$f":"IF(AY256=\"\",\"\",INDEX(referentes!M:N,MATCH(AY256,referentes!$N:$N,0),1))","v":""},{"$f":"IF(BN256=\"\",\"\",INDEX('Otras referencias'!S:T,MATCH(BN256,'Otras referencias'!$T:$T,0),1))","v":""},{"$f":"IF(BH256=\"\",\"\",INDEX('Otras referencias'!A:B,MATCH(BH256,'Otras referencias'!$B:$B,0),1))","v":""}]
[null,0,"",null,null,"",{"$f":"IF(H257=\"\",\"\",INDEX(referentes!AU:AV,MATCH(H257,referentes!$AV:$AV,0),1))","v":""},null,{"$f":"IF(J257=\"\",\"\",INDEX('Otras referencias'!$V:$W,MATCH(J257,'Otras referencias'!$W:$W,0),1))","v":""},null,null,null,null,null,null,null,null,null,201,null,null,null,null,null,null,null,null,null,null,null,null,null,null,null,null,null,null,null,null,null,null,null,null,null,null,0,null,null,null,0,null,null,null,null,null,null,null,null,null,null,null,null,null,null,null,null,null,null,"",{"$f":"IF(C257=\"\",\"\",IF(COUNTIF($C$6:C257, C257)>1, \"\", C257))","v":""},{"$f":"IF(K257=\"\",\"\",INDEX(referentes!P:Q,MATCH(K257,referentes!$Q:$Q,0),1))","v":""},{"$f":"IF(L257=\"\",\"\",INDEX(referentes!$A:$B,MATCH(L257,referentes!$B:$B,0),1))","v":""},{"$f":"IF(P257=\"\",\"\",INDEX(referentes!D:E,MATCH(P257,referentes!$E:$E,0),1))","v":""},{"$f":"IF(Q257=\"\",\"\",INDEX(referentes!G:H,MATCH(Q257,referentes!$H:$H,0),1))","v":""},"",{"$f":"IF(V257=\"\",\"\",INDEX(referentes!S:T,MATCH(V257,referentes!$T:$T,0),1))","v":""},{"$f":"IF(BL257=\"\",\"\",INDEX(referentes!J:K,MATCH(BL257,referentes!$K:$K,0),1))","v":""},{"$f":"IF(BD257=\"\",\"\",INDEX(referentes!V:W,MATCH(BD257,referentes!$W:$W,0),1))","v":""},{"$f":"IF(BE257=\"\",\"\",INDEX(referentes!Y:Z,MATCH(BE257,referentes!$Z:$Z,0),1))","v":""},{"$f":"IF(BF257=\"\",\"\",INDEX(referentes!AB:AC,MATCH(BF257,referentes!$AC:$AC,0),1))","v":""},{"$f":"IF(BG257=\"\",\"\",INDEX(referentes!AE:AF,MATCH(BG257,referentes!$AF:$AF,0),1))","v":""},{"$f":"IF(AY257=\"\",\"\",INDEX(referentes!M:N,MATCH(AY257,referentes!$N:$N,0),1))","v":""},{"$f":"IF(BN257=\"\",\"\",INDEX('Otras referencias'!S:T,MATCH(BN257,'Otras referencias'!$T:$T,0),1))","v":""},{"$f":"IF(BH257=\"\",\"\",INDEX('Otras referencias'!A:B,MATCH(BH257,'Otras referencias'!$B:$B,0),1))","v":""}]
[null,0,"",null,null,"",{"$f":"IF(H258=\"\",\"\",INDEX(referentes!AU:AV,MATCH(H258,referentes!$AV:$AV,0),1))","v":""},null,{"$f":"IF(J258=\"\",\"\",INDEX('Otras referencias'!$V:$W,MATCH(J258,'Otras referencias'!$W:$W,0),1))","v":""},null,null,null,null,null,null,null,null,null,201,null,null,null,null,null,null,null,null,null,null,null,null,null,null,null,null,null,null,null,null,null,null,null,null,null,null,0,null,null,null,0,null,null,null,null,null,null,null,null,null,null,null,null,null,null,null,null,null,null,"",{"$f":"IF(C258=\"\",\"\",IF(COUNTIF($C$6:C258, C258)>1, \"\", C258))","v":""},{"$f":"IF(K258=\"\",\"\",INDEX(referentes!P:Q,MATCH(K258,referentes!$Q:$Q,0),1))","v":""},{"$f":"IF(L258=\"\",\"\",INDEX(referentes!$A:$B,MATCH(L258,referentes!$B:$B,0),1))","v":""},{"$f":"IF(P258=\"\",\"\",INDEX(referentes!D:E,MATCH(P258,referentes!$E:$E,0),1))","v":""},{"$f":"IF(Q258=\"\",\"\",INDEX(referentes!G:H,MATCH(Q258,referentes!$H:$H,0),1))","v":""},"",{"$f":"IF(V258=\"\",\"\",INDEX(referentes!S:T,MATCH(V258,referentes!$T:$T,0),1))","v":""},{"$f":"IF(BL258=\"\",\"\",INDEX(referentes!J:K,MATCH(BL258,referentes!$K:$K,0),1))","v":""},{"$f":"IF(BD258=\"\",\"\",INDEX(referentes!V:W,MATCH(BD258,referentes!$W:$W,0),1))","v":""},{"$f":"IF(BE258=\"\",\"\",INDEX(referentes!Y:Z,MATCH(BE258,referentes!$Z:$Z,0),1))","v":""},{"$f":"IF(BF258=\"\",\"\",INDEX(referentes!AB:AC,MATCH(BF258,referentes!$AC:$AC,0),1))","v":""},{"$f":"IF(BG258=\"\",\"\",INDEX(referentes!AE:AF,MATCH(BG258,referentes!$AF:$AF,0),1))","v":""},{"$f":"IF(AY258=\"\",\"\",INDEX(referentes!M:N,MATCH(AY258,referentes!$N:$N,0),1))","v":""},{"$f":"IF(BN258=\"\",\"\",INDEX('Otras referencias'!S:T,MATCH(BN258,'Otras referencias'!$T:$T,0),1))","v":""},{"$f":"IF(BH258=\"\",\"\",INDEX('Otras referencias'!A:B,MATCH(BH258,'Otras referencias'!$B:$B,0),1))","v":""}]
[null,0,"",null,null,"",{"$f":"IF(H259=\"\",\"\",INDEX(referentes!AU:AV,MATCH(H259,referentes!$AV:$AV,0),1))","v":""},null,{"$f":"IF(J259=\"\",\"\",INDEX('Otras referencias'!$V:$W,MATCH(J259,'Otras referencias'!$W:$W,0),1))","v":""},null,null,null,null,null,null,null,null,null,201,null,null,null,null,null,null,null,null,null,null,null,null,null,null,null,null,null,null,null,null,null,null,null,null,null,null,0,null,null,null,0,null,null,null,null,null,null,null,null,null,null,null,null,null,null,null,null,null,null,"",{"$f":"IF(C259=\"\",\"\",IF(COUNTIF($C$6:C259, C259)>1, \"\", C259))","v":""},{"$f":"IF(K259=\"\",\"\",INDEX(referentes!P:Q,MATCH(K259,referentes!$Q:$Q,0),1))","v":""},{"$f":"IF(L259=\"\",\"\",INDEX(referentes!$A:$B,MATCH(L259,referentes!$B:$B,0),1))","v":""},{"$f":"IF(P259=\"\",\"\",INDEX(referentes!D:E,MATCH(P259,referentes!$E:$E,0),1))","v":""},{"$f":"IF(Q259=\"\",\"\",INDEX(referentes!G:H,MATCH(Q259,referentes!$H:$H,0),1))","v":""},"",{"$f":"IF(V259=\"\",\"\",INDEX(referentes!S:T,MATCH(V259,referentes!$T:$T,0),1))","v":""},{"$f":"IF(BL259=\"\",\"\",INDEX(referentes!J:K,MATCH(BL259,referentes!$K:$K,0),1))","v":""},{"$f":"IF(BD259=\"\",\"\",INDEX(referentes!V:W,MATCH(BD259,referentes!$W:$W,0),1))","v":""},{"$f":"IF(BE259=\"\",\"\",INDEX(referentes!Y:Z,MATCH(BE259,referentes!$Z:$Z,0),1))","v":""},{"$f":"IF(BF259=\"\",\"\",INDEX(referentes!AB:AC,MATCH(BF259,referentes!$AC:$AC,0),1))","v":""},{"$f":"IF(BG259=\"\",\"\",INDEX(referentes!AE:AF,MATCH(BG259,referentes!$AF:$AF,0),1))","v":""},{"$f":"IF(AY259=\"\",\"\",INDEX(referentes!M:N,MATCH(AY259,referentes!$N:$N,0),1))","v":""},{"$f":"IF(BN259=\"\",\"\",INDEX('Otras referencias'!S:T,MATCH(BN259,'Otras referencias'!$T:$T,0),1))","v":""},{"$f":"IF(BH259=\"\",\"\",INDEX('Otras referencias'!A:B,MATCH(BH259,'Otras referencias'!$B:$B,0),1))","v":""}]
[null,0,"",null,null,"",{"$f":"IF(H260=\"\",\"\",INDEX(referentes!AU:AV,MATCH(H260,referentes!$AV:$AV,0),1))","v":""},null,{"$f":"IF(J260=\"\",\"\",INDEX('Otras referencias'!$V:$W,MATCH(J260,'Otras referencias'!$W:$W,0),1))","v":""},null,null,null,null,null,null,null,null,null,201,null,null,null,null,null,null,null,null,null,null,null,null,null,null,null,null,null,null,null,null,null,null,null,null,null,null,0,null,null,null,0,null,null,null,null,null,null,null,null,null,null,null,null,null,null,null,null,null,null,"",{"$f":"IF(C260=\"\",\"\",IF(COUNTIF($C$6:C260, C260)>1, \"\", C260))","v":""},{"$f":"IF(K260=\"\",\"\",INDEX(referentes!P:Q,MATCH(K260,referentes!$Q:$Q,0),1))","v":""},{"$f":"IF(L260=\"\",\"\",INDEX(referentes!$A:$B,MATCH(L260,referentes!$B:$B,0),1))","v":""},{"$f":"IF(P260=\"\",\"\",INDEX(referentes!D:E,MATCH(P260,referentes!$E:$E,0),1))","v":""},{"$f":"IF(Q260=\"\",\"\",INDEX(referentes!G:H,MATCH(Q260,referentes!$H:$H,0),1))","v":""},"",{"$f":"IF(V260=\"\",\"\",INDEX(referentes!S:T,MATCH(V260,referentes!$T:$T,0),1))","v":""},{"$f":"IF(BL260=\"\",\"\",INDEX(referentes!J:K,MATCH(BL260,referentes!$K:$K,0),1))","v":""},{"$f":"IF(BD260=\"\",\"\",INDEX(referentes!V:W,MATCH(BD260,referentes!$W:$W,0),1))","v":""},{"$f":"IF(BE260=\"\",\"\",INDEX(referentes!Y:Z,MATCH(BE260,referentes!$Z:$Z,0),1))","v":""},{"$f":"IF(BF260=\"\",\"\",INDEX(referentes!AB:AC,MATCH(BF260,referentes!$AC:$AC,0),1))","v":""},{"$f":"IF(BG260=\"\",\"\",INDEX(referentes!AE:AF,MATCH(BG260,referentes!$AF:$AF,0),1))","v":""},{"$f":"IF(AY260=\"\",\"\",INDEX(referentes!M:N,MATCH(AY260,referentes!$N:$N,0),1))","v":""},{"$f":"IF(BN260=\"\",\"\",INDEX('Otras referencias'!S:T,MATCH(BN260,'Otras referencias'!$T:$T,0),1))","v":""},{"$f":"IF(BH260=\"\",\"\",INDEX('Otras referencias'!A:B,MATCH(BH260,'Otras referencias'!$B:$B,0),1))","v":""}]
[null,0,"",null,null,"",{"$f":"IF(H261=\"\",\"\",INDEX(referentes!AU:AV,MATCH(H261,referentes!$AV:$AV,0),1))","v":""},null,{"$f":"IF(J261=\"\",\"\",INDEX('Otras referencias'!$V:$W,MATCH(J261,'Otras referencias'!$W:$W,0),1))","v":""},null,null,null,null,null,null,null,null,null,201,null,null,null,null,null,null,null,null,null,null,null,null,null,null,null,null,null,null,null,null,null,null,null,null,null,null,0,null,null,null,0,null,null,null,null,null,null,null,null,null,null,null,null,null,null,null,null,null,null,"",{"$f":"IF(C261=\"\",\"\",IF(COUNTIF($C$6:C261, C261)>1, \"\", C261))","v":""},{"$f":"IF(K261=\"\",\"\",INDEX(referentes!P:Q,MATCH(K261,referentes!$Q:$Q,0),1))","v":""},{"$f":"IF(L261=\"\",\"\",INDEX(referentes!$A:$B,MATCH(L261,referentes!$B:$B,0),1))","v":""},{"$f":"IF(P261=\"\",\"\",INDEX(referentes!D:E,MATCH(P261,referentes!$E:$E,0),1))","v":""},{"$f":"IF(Q261=\"\",\"\",INDEX(referentes!G:H,MATCH(Q261,referentes!$H:$H,0),1))","v":""},"",{"$f":"IF(V261=\"\",\"\",INDEX(referentes!S:T,MATCH(V261,referentes!$T:$T,0),1))","v":""},{"$f":"IF(BL261=\"\",\"\",INDEX(referentes!J:K,MATCH(BL261,referentes!$K:$K,0),1))","v":""},{"$f":"IF(BD261=\"\",\"\",INDEX(referentes!V:W,MATCH(BD261,referentes!$W:$W,0),1))","v":""},{"$f":"IF(BE261=\"\",\"\",INDEX(referentes!Y:Z,MATCH(BE261,referentes!$Z:$Z,0),1))","v":""},{"$f":"IF(BF261=\"\",\"\",INDEX(referentes!AB:AC,MATCH(BF261,referentes!$AC:$AC,0),1))","v":""},{"$f":"IF(BG261=\"\",\"\",INDEX(referentes!AE:AF,MATCH(BG261,referentes!$AF:$AF,0),1))","v":""},{"$f":"IF(AY261=\"\",\"\",INDEX(referentes!M:N,MATCH(AY261,referentes!$N:$N,0),1))","v":""},{"$f":"IF(BN261=\"\",\"\",INDEX('Otras referencias'!S:T,MATCH(BN261,'Otras referencias'!$T:$T,0),1))","v":""},{"$f":"IF(BH261=\"\",\"\",INDEX('Otras referencias'!A:B,MATCH(BH261,'Otras referencias'!$B:$B,0),1))","v":""}]
[null,0,"",null,null,"",{"$f":"IF(H262=\"\",\"\",INDEX(referentes!AU:AV,MATCH(H262,referentes!$AV:$AV,0),1))","v":""},null,{"$f":"IF(J262=\"\",\"\",INDEX('Otras referencias'!$V:$W,MATCH(J262,'Otras referencias'!$W:$W,0),1))","v":""},null,null,null,null,null,null,null,null,null,201,null,null,null,null,null,null,null,null,null,null,null,null,null,null,null,null,null,null,null,null,null,null,null,null,null,null,0,null,null,null,0,null,null,null,null,null,null,null,null,null,null,null,null,null,null,null,null,null,null,"",{"$f":"IF(C262=\"\",\"\",IF(COUNTIF($C$6:C262, C262)>1, \"\", C262))","v":""},{"$f":"IF(K262=\"\",\"\",INDEX(referentes!P:Q,MATCH(K262,referentes!$Q:$Q,0),1))","v":""},{"$f":"IF(L262=\"\",\"\",INDEX(referentes!$A:$B,MATCH(L262,referentes!$B:$B,0),1))","v":""},{"$f":"IF(P262=\"\",\"\",INDEX(referentes!D:E,MATCH(P262,referentes!$E:$E,0),1))","v":""},{"$f":"IF(Q262=\"\",\"\",INDEX(referentes!G:H,MATCH(Q262,referentes!$H:$H,0),1))","v":""},"",{"$f":"IF(V262=\"\",\"\",INDEX(referentes!S:T,MATCH(V262,referentes!$T:$T,0),1))","v":""},{"$f":"IF(BL262=\"\",\"\",INDEX(referentes!J:K,MATCH(BL262,referentes!$K:$K,0),1))","v":""},{"$f":"IF(BD262=\"\",\"\",INDEX(referentes!V:W,MATCH(BD262,referentes!$W:$W,0),1))","v":""},{"$f":"IF(BE262=\"\",\"\",INDEX(referentes!Y:Z,MATCH(BE262,referentes!$Z:$Z,0),1))","v":""},{"$f":"IF(BF262=\"\",\"\",INDEX(referentes!AB:AC,MATCH(BF262,referentes!$AC:$AC,0),1))","v":""},{"$f":"IF(BG262=\"\",\"\",INDEX(referentes!AE:AF,MATCH(BG262,referentes!$AF:$AF,0),1))","v":""},{"$f":"IF(AY262=\"\",\"\",INDEX(referentes!M:N,MATCH(AY262,referentes!$N:$N,0),1))","v":""},{"$f":"IF(BN262=\"\",\"\",INDEX('Otras referencias'!S:T,MATCH(BN262,'Otras referencias'!$T:$T,0),1))","v":""},{"$f":"IF(BH262=\"\",\"\",INDEX('Otras referencias'!A:B,MATCH(BH262,'Otras referencias'!$B:$B,0),1))","v":""}]
[null,0,"",null,null,"",{"$f":"IF(H263=\"\",\"\",INDEX(referentes!AU:AV,MATCH(H263,referentes!$AV:$AV,0),1))","v":""},null,{"$f":"IF(J263=\"\",\"\",INDEX('Otras referencias'!$V:$W,MATCH(J263,'Otras referencias'!$W:$W,0),1))","v":""},null,null,null,null,null,null,null,null,null,201,null,null,null,null,null,null,null,null,null,null,null,null,null,null,null,null,null,null,null,null,null,null,null,null,null,null,0,null,null,null,0,null,null,null,null,null,null,null,null,null,null,null,null,null,null,null,null,null,null,"",{"$f":"IF(C263=\"\",\"\",IF(COUNTIF($C$6:C263, C263)>1, \"\", C263))","v":""},{"$f":"IF(K263=\"\",\"\",INDEX(referentes!P:Q,MATCH(K263,referentes!$Q:$Q,0),1))","v":""},{"$f":"IF(L263=\"\",\"\",INDEX(referentes!$A:$B,MATCH(L263,referentes!$B:$B,0),1))","v":""},{"$f":"IF(P263=\"\",\"\",INDEX(referentes!D:E,MATCH(P263,referentes!$E:$E,0),1))","v":""},{"$f":"IF(Q263=\"\",\"\",INDEX(referentes!G:H,MATCH(Q263,referentes!$H:$H,0),1))","v":""},"",{"$f":"IF(V263=\"\",\"\",INDEX(referentes!S:T,MATCH(V263,referentes!$T:$T,0),1))","v":""},{"$f":"IF(BL263=\"\",\"\",INDEX(referentes!J:K,MATCH(BL263,referentes!$K:$K,0),1))","v":""},{"$f":"IF(BD263=\"\",\"\",INDEX(referentes!V:W,MATCH(BD263,referentes!$W:$W,0),1))","v":""},{"$f":"IF(BE263=\"\",\"\",INDEX(referentes!Y:Z,MATCH(BE263,referentes!$Z:$Z,0),1))","v":""},{"$f":"IF(BF263=\"\",\"\",INDEX(referentes!AB:AC,MATCH(BF263,referentes!$AC:$AC,0),1))","v":""},{"$f":"IF(BG263=\"\",\"\",INDEX(referentes!AE:AF,MATCH(BG263,referentes!$AF:$AF,0),1))","v":""},{"$f":"IF(AY263=\"\",\"\",INDEX(referentes!M:N,MATCH(AY263,referentes!$N:$N,0),1))","v":""},{"$f":"IF(BN263=\"\",\"\",INDEX('Otras referencias'!S:T,MATCH(BN263,'Otras referencias'!$T:$T,0),1))","v":""},{"$f":"IF(BH263=\"\",\"\",INDEX('Otras referencias'!A:B,MATCH(BH263,'Otras referencias'!$B:$B,0),1))","v":""}]
[null,0,"",null,null,"",{"$f":"IF(H264=\"\",\"\",INDEX(referentes!AU:AV,MATCH(H264,referentes!$AV:$AV,0),1))","v":""},null,{"$f":"IF(J264=\"\",\"\",INDEX('Otras referencias'!$V:$W,MATCH(J264,'Otras referencias'!$W:$W,0),1))","v":""},null,null,null,null,null,null,null,null,null,201,null,null,null,null,null,null,null,null,null,null,null,null,null,null,null,null,null,null,null,null,null,null,null,null,null,null,0,null,null,null,0,null,null,null,null,null,null,null,null,null,null,null,null,null,null,null,null,null,null,"",{"$f":"IF(C264=\"\",\"\",IF(COUNTIF($C$6:C264, C264)>1, \"\", C264))","v":""},{"$f":"IF(K264=\"\",\"\",INDEX(referentes!P:Q,MATCH(K264,referentes!$Q:$Q,0),1))","v":""},{"$f":"IF(L264=\"\",\"\",INDEX(referentes!$A:$B,MATCH(L264,referentes!$B:$B,0),1))","v":""},{"$f":"IF(P264=\"\",\"\",INDEX(referentes!D:E,MATCH(P264,referentes!$E:$E,0),1))","v":""},{"$f":"IF(Q264=\"\",\"\",INDEX(referentes!G:H,MATCH(Q264,referentes!$H:$H,0),1))","v":""},"",{"$f":"IF(V264=\"\",\"\",INDEX(referentes!S:T,MATCH(V264,referentes!$T:$T,0),1))","v":""},{"$f":"IF(BL264=\"\",\"\",INDEX(referentes!J:K,MATCH(BL264,referentes!$K:$K,0),1))","v":""},{"$f":"IF(BD264=\"\",\"\",INDEX(referentes!V:W,MATCH(BD264,referentes!$W:$W,0),1))","v":""},{"$f":"IF(BE264=\"\",\"\",INDEX(referentes!Y:Z,MATCH(BE264,referentes!$Z:$Z,0),1))","v":""},{"$f":"IF(BF264=\"\",\"\",INDEX(referentes!AB:AC,MATCH(BF264,referentes!$AC:$AC,0),1))","v":""},{"$f":"IF(BG264=\"\",\"\",INDEX(referentes!AE:AF,MATCH(BG264,referentes!$AF:$AF,0),1))","v":""},{"$f":"IF(AY264=\"\",\"\",INDEX(referentes!M:N,MATCH(AY264,referentes!$N:$N,0),1))","v":""},{"$f":"IF(BN264=\"\",\"\",INDEX('Otras referencias'!S:T,MATCH(BN264,'Otras referencias'!$T:$T,0),1))","v":""},{"$f":"IF(BH264=\"\",\"\",INDEX('Otras referencias'!A:B,MATCH(BH264,'Otras referencias'!$B:$B,0),1))","v":""}]
[null,0,"",null,null,"",{"$f":"IF(H265=\"\",\"\",INDEX(referentes!AU:AV,MATCH(H265,referentes!$AV:$AV,0),1))","v":""},null,{"$f":"IF(J265=\"\",\"\",INDEX('Otras referencias'!$V:$W,MATCH(J265,'Otras referencias'!$W:$W,0),1))","v":""},null,null,null,null,null,null,null,null,null,201,null,null,null,null,null,null,null,null,null,null,null,null,null,null,null,null,null,null,null,null,null,null,null,null,null,null,0,null,null,null,0,null,null,null,null,null,null,null,null,null,null,null,null,null,null,null,null,null,null,"",{"$f":"IF(C265=\"\",\"\",IF(COUNTIF($C$6:C265, C265)>1, \"\", C265))","v":""},{"$f":"IF(K265=\"\",\"\",INDEX(referentes!P:Q,MATCH(K265,referentes!$Q:$Q,0),1))","v":""},{"$f":"IF(L265=\"\",\"\",INDEX(referentes!$A:$B,MATCH(L265,referentes!$B:$B,0),1))","v":""},{"$f":"IF(P265=\"\",\"\",INDEX(referentes!D:E,MATCH(P265,referentes!$E:$E,0),1))","v":""},{"$f":"IF(Q265=\"\",\"\",INDEX(referentes!G:H,MATCH(Q265,referentes!$H:$H,0),1))","v":""},"",{"$f":"IF(V265=\"\",\"\",INDEX(referentes!S:T,MATCH(V265,referentes!$T:$T,0),1))","v":""},{"$f":"IF(BL265=\"\",\"\",INDEX(referentes!J:K,MATCH(BL265,referentes!$K:$K,0),1))","v":""},{"$f":"IF(BD265=\"\",\"\",INDEX(referentes!V:W,MATCH(BD265,referentes!$W:$W,0),1))","v":""},{"$f":"IF(BE265=\"\",\"\",INDEX(referentes!Y:Z,MATCH(BE265,referentes!$Z:$Z,0),1))","v":""},{"$f":"IF(BF265=\"\",\"\",INDEX(referentes!AB:AC,MATCH(BF265,referentes!$AC:$AC,0),1))","v":""},{"$f":"IF(BG265=\"\",\"\",INDEX(referentes!AE:AF,MATCH(BG265,referentes!$AF:$AF,0),1))","v":""},{"$f":"IF(AY265=\"\",\"\",INDEX(referentes!M:N,MATCH(AY265,referentes!$N:$N,0),1))","v":""},{"$f":"IF(BN265=\"\",\"\",INDEX('Otras referencias'!S:T,MATCH(BN265,'Otras referencias'!$T:$T,0),1))","v":""},{"$f":"IF(BH265=\"\",\"\",INDEX('Otras referencias'!A:B,MATCH(BH265,'Otras referencias'!$B:$B,0),1))","v":""}]
[null,0,"",null,null,"",{"$f":"IF(H266=\"\",\"\",INDEX(referentes!AU:AV,MATCH(H266,referentes!$AV:$AV,0),1))","v":""},null,{"$f":"IF(J266=\"\",\"\",INDEX('Otras referencias'!$V:$W,MATCH(J266,'Otras referencias'!$W:$W,0),1))","v":""},null,null,null,null,null,null,null,null,null,201,null,null,null,null,null,null,null,null,null,null,null,null,null,null,null,null,null,null,null,null,null,null,null,null,null,null,0,null,null,null,0,null,null,null,null,null,null,null,null,null,null,null,null,null,null,null,null,null,null,"",{"$f":"IF(C266=\"\",\"\",IF(COUNTIF($C$6:C266, C266)>1, \"\", C266))","v":""},{"$f":"IF(K266=\"\",\"\",INDEX(referentes!P:Q,MATCH(K266,referentes!$Q:$Q,0),1))","v":""},{"$f":"IF(L266=\"\",\"\",INDEX(referentes!$A:$B,MATCH(L266,referentes!$B:$B,0),1))","v":""},{"$f":"IF(P266=\"\",\"\",INDEX(referentes!D:E,MATCH(P266,referentes!$E:$E,0),1))","v":""},{"$f":"IF(Q266=\"\",\"\",INDEX(referentes!G:H,MATCH(Q266,referentes!$H:$H,0),1))","v":""},"",{"$f":"IF(V266=\"\",\"\",INDEX(referentes!S:T,MATCH(V266,referentes!$T:$T,0),1))","v":""},{"$f":"IF(BL266=\"\",\"\",INDEX(referentes!J:K,MATCH(BL266,referentes!$K:$K,0),1))","v":""},{"$f":"IF(BD266=\"\",\"\",INDEX(referentes!V:W,MATCH(BD266,referentes!$W:$W,0),1))","v":""},{"$f":"IF(BE266=\"\",\"\",INDEX(referentes!Y:Z,MATCH(BE266,referentes!$Z:$Z,0),1))","v":""},{"$f":"IF(BF266=\"\",\"\",INDEX(referentes!AB:AC,MATCH(BF266,referentes!$AC:$AC,0),1))","v":""},{"$f":"IF(BG266=\"\",\"\",INDEX(referentes!AE:AF,MATCH(BG266,referentes!$AF:$AF,0),1))","v":""},{"$f":"IF(AY266=\"\",\"\",INDEX(referentes!M:N,MATCH(AY266,referentes!$N:$N,0),1))","v":""},{"$f":"IF(BN266=\"\",\"\",INDEX('Otras referencias'!S:T,MATCH(BN266,'Otras referencias'!$T:$T,0),1))","v":""},{"$f":"IF(BH266=\"\",\"\",INDEX('Otras referencias'!A:B,MATCH(BH266,'Otras referencias'!$B:$B,0),1))","v":""}]
[null,0,"",null,null,"",{"$f":"IF(H267=\"\",\"\",INDEX(referentes!AU:AV,MATCH(H267,referentes!$AV:$AV,0),1))","v":""},null,{"$f":"IF(J267=\"\",\"\",INDEX('Otras referencias'!$V:$W,MATCH(J267,'Otras referencias'!$W:$W,0),1))","v":""},null,null,null,null,null,null,null,null,null,201,null,null,null,null,null,null,null,null,null,null,null,null,null,null,null,null,null,null,null,null,null,null,null,null,null,null,0,null,null,null,0,null,null,null,null,null,null,null,null,null,null,null,null,null,null,null,null,null,null,"",{"$f":"IF(C267=\"\",\"\",IF(COUNTIF($C$6:C267, C267)>1, \"\", C267))","v":""},{"$f":"IF(K267=\"\",\"\",INDEX(referentes!P:Q,MATCH(K267,referentes!$Q:$Q,0),1))","v":""},{"$f":"IF(L267=\"\",\"\",INDEX(referentes!$A:$B,MATCH(L267,referentes!$B:$B,0),1))","v":""},{"$f":"IF(P267=\"\",\"\",INDEX(referentes!D:E,MATCH(P267,referentes!$E:$E,0),1))","v":""},{"$f":"IF(Q267=\"\",\"\",INDEX(referentes!G:H,MATCH(Q267,referentes!$H:$H,0),1))","v":""},"",{"$f":"IF(V267=\"\",\"\",INDEX(referentes!S:T,MATCH(V267,referentes!$T:$T,0),1))","v":""},{"$f":"IF(BL267=\"\",\"\",INDEX(referentes!J:K,MATCH(BL267,referentes!$K:$K,0),1))","v":""},{"$f":"IF(BD267=\"\",\"\",INDEX(referentes!V:W,MATCH(BD267,referentes!$W:$W,0),1))","v":""},{"$f":"IF(BE267=\"\",\"\",INDEX(referentes!Y:Z,MATCH(BE267,referentes!$Z:$Z,0),1))","v":""},{"$f":"IF(BF267=\"\",\"\",INDEX(referentes!AB:AC,MATCH(BF267,referentes!$AC:$AC,0),1))","v":""},{"$f":"IF(BG267=\"\",\"\",INDEX(referentes!AE:AF,MATCH(BG267,referentes!$AF:$AF,0),1))","v":""},{"$f":"IF(AY267=\"\",\"\",INDEX(referentes!M:N,MATCH(AY267,referentes!$N:$N,0),1))","v":""},{"$f":"IF(BN267=\"\",\"\",INDEX('Otras referencias'!S:T,MATCH(BN267,'Otras referencias'!$T:$T,0),1))","v":""},{"$f":"IF(BH267=\"\",\"\",INDEX('Otras referencias'!A:B,MATCH(BH267,'Otras referencias'!$B:$B,0),1))","v":""}]
[null,0,"",null,null,"",{"$f":"IF(H268=\"\",\"\",INDEX(referentes!AU:AV,MATCH(H268,referentes!$AV:$AV,0),1))","v":""},null,{"$f":"IF(J268=\"\",\"\",INDEX('Otras referencias'!$V:$W,MATCH(J268,'Otras referencias'!$W:$W,0),1))","v":""},null,null,null,null,null,null,null,null,null,201,null,null,null,null,null,null,null,null,null,null,null,null,null,null,null,null,null,null,null,null,null,null,null,null,null,null,0,null,null,null,0,null,null,null,null,null,null,null,null,null,null,null,null,null,null,null,null,null,null,"",{"$f":"IF(C268=\"\",\"\",IF(COUNTIF($C$6:C268, C268)>1, \"\", C268))","v":""},{"$f":"IF(K268=\"\",\"\",INDEX(referentes!P:Q,MATCH(K268,referentes!$Q:$Q,0),1))","v":""},{"$f":"IF(L268=\"\",\"\",INDEX(referentes!$A:$B,MATCH(L268,referentes!$B:$B,0),1))","v":""},{"$f":"IF(P268=\"\",\"\",INDEX(referentes!D:E,MATCH(P268,referentes!$E:$E,0),1))","v":""},{"$f":"IF(Q268=\"\",\"\",INDEX(referentes!G:H,MATCH(Q268,referentes!$H:$H,0),1))","v":""},"",{"$f":"IF(V268=\"\",\"\",INDEX(referentes!S:T,MATCH(V268,referentes!$T:$T,0),1))","v":""},{"$f":"IF(BL268=\"\",\"\",INDEX(referentes!J:K,MATCH(BL268,referentes!$K:$K,0),1))","v":""},{"$f":"IF(BD268=\"\",\"\",INDEX(referentes!V:W,MATCH(BD268,referentes!$W:$W,0),1))","v":""},{"$f":"IF(BE268=\"\",\"\",INDEX(referentes!Y:Z,MATCH(BE268,referentes!$Z:$Z,0),1))","v":""},{"$f":"IF(BF268=\"\",\"\",INDEX(referentes!AB:AC,MATCH(BF268,referentes!$AC:$AC,0),1))","v":""},{"$f":"IF(BG268=\"\",\"\",INDEX(referentes!AE:AF,MATCH(BG268,referentes!$AF:$AF,0),1))","v":""},{"$f":"IF(AY268=\"\",\"\",INDEX(referentes!M:N,MATCH(AY268,referentes!$N:$N,0),1))","v":""},{"$f":"IF(BN268=\"\",\"\",INDEX('Otras referencias'!S:T,MATCH(BN268,'Otras referencias'!$T:$T,0),1))","v":""},{"$f":"IF(BH268=\"\",\"\",INDEX('Otras referencias'!A:B,MATCH(BH268,'Otras referencias'!$B:$B,0),1))","v":""}]
[null,0,"",null,null,"",{"$f":"IF(H269=\"\",\"\",INDEX(referentes!AU:AV,MATCH(H269,referentes!$AV:$AV,0),1))","v":""},null,{"$f":"IF(J269=\"\",\"\",INDEX('Otras referencias'!$V:$W,MATCH(J269,'Otras referencias'!$W:$W,0),1))","v":""},null,null,null,null,null,null,null,null,null,201,null,null,null,null,null,null,null,null,null,null,null,null,null,null,null,null,null,null,null,null,null,null,null,null,null,null,0,null,null,null,0,null,null,null,null,null,null,null,null,null,null,null,null,null,null,null,null,null,null,"",{"$f":"IF(C269=\"\",\"\",IF(COUNTIF($C$6:C269, C269)>1, \"\", C269))","v":""},{"$f":"IF(K269=\"\",\"\",INDEX(referentes!P:Q,MATCH(K269,referentes!$Q:$Q,0),1))","v":""},{"$f":"IF(L269=\"\",\"\",INDEX(referentes!$A:$B,MATCH(L269,referentes!$B:$B,0),1))","v":""},{"$f":"IF(P269=\"\",\"\",INDEX(referentes!D:E,MATCH(P269,referentes!$E:$E,0),1))","v":""},{"$f":"IF(Q269=\"\",\"\",INDEX(referentes!G:H,MATCH(Q269,referentes!$H:$H,0),1))","v":""},"",{"$f":"IF(V269=\"\",\"\",INDEX(referentes!S:T,MATCH(V269,referentes!$T:$T,0),1))","v":""},{"$f":"IF(BL269=\"\",\"\",INDEX(referentes!J:K,MATCH(BL269,referentes!$K:$K,0),1))","v":""},{"$f":"IF(BD269=\"\",\"\",INDEX(referentes!V:W,MATCH(BD269,referentes!$W:$W,0),1))","v":""},{"$f":"IF(BE269=\"\",\"\",INDEX(referentes!Y:Z,MATCH(BE269,referentes!$Z:$Z,0),1))","v":""},{"$f":"IF(BF269=\"\",\"\",INDEX(referentes!AB:AC,MATCH(BF269,referentes!$AC:$AC,0),1))","v":""},{"$f":"IF(BG269=\"\",\"\",INDEX(referentes!AE:AF,MATCH(BG269,referentes!$AF:$AF,0),1))","v":""},{"$f":"IF(AY269=\"\",\"\",INDEX(referentes!M:N,MATCH(AY269,referentes!$N:$N,0),1))","v":""},{"$f":"IF(BN269=\"\",\"\",INDEX('Otras referencias'!S:T,MATCH(BN269,'Otras referencias'!$T:$T,0),1))","v":""},{"$f":"IF(BH269=\"\",\"\",INDEX('Otras referencias'!A:B,MATCH(BH269,'Otras referencias'!$B:$B,0),1))","v":""}]
[null,0,"",null,null,"",{"$f":"IF(H270=\"\",\"\",INDEX(referentes!AU:AV,MATCH(H270,referentes!$AV:$AV,0),1))","v":""},null,{"$f":"IF(J270=\"\",\"\",INDEX('Otras referencias'!$V:$W,MATCH(J270,'Otras referencias'!$W:$W,0),1))","v":""},null,null,null,null,null,null,null,null,null,201,null,null,null,null,null,null,null,null,null,null,null,null,null,null,null,null,null,null,null,null,null,null,null,null,null,null,0,null,null,null,0,null,null,null,null,null,null,null,null,null,null,null,null,null,null,null,null,null,null,"",{"$f":"IF(C270=\"\",\"\",IF(COUNTIF($C$6:C270, C270)>1, \"\", C270))","v":""},{"$f":"IF(K270=\"\",\"\",INDEX(referentes!P:Q,MATCH(K270,referentes!$Q:$Q,0),1))","v":""},{"$f":"IF(L270=\"\",\"\",INDEX(referentes!$A:$B,MATCH(L270,referentes!$B:$B,0),1))","v":""},{"$f":"IF(P270=\"\",\"\",INDEX(referentes!D:E,MATCH(P270,referentes!$E:$E,0),1))","v":""},{"$f":"IF(Q270=\"\",\"\",INDEX(referentes!G:H,MATCH(Q270,referentes!$H:$H,0),1))","v":""},"",{"$f":"IF(V270=\"\",\"\",INDEX(referentes!S:T,MATCH(V270,referentes!$T:$T,0),1))","v":""},{"$f":"IF(BL270=\"\",\"\",INDEX(referentes!J:K,MATCH(BL270,referentes!$K:$K,0),1))","v":""},{"$f":"IF(BD270=\"\",\"\",INDEX(referentes!V:W,MATCH(BD270,referentes!$W:$W,0),1))","v":""},{"$f":"IF(BE270=\"\",\"\",INDEX(referentes!Y:Z,MATCH(BE270,referentes!$Z:$Z,0),1))","v":""},{"$f":"IF(BF270=\"\",\"\",INDEX(referentes!AB:AC,MATCH(BF270,referentes!$AC:$AC,0),1))","v":""},{"$f":"IF(BG270=\"\",\"\",INDEX(referentes!AE:AF,MATCH(BG270,referentes!$AF:$AF,0),1))","v":""},{"$f":"IF(AY270=\"\",\"\",INDEX(referentes!M:N,MATCH(AY270,referentes!$N:$N,0),1))","v":""},{"$f":"IF(BN270=\"\",\"\",INDEX('Otras referencias'!S:T,MATCH(BN270,'Otras referencias'!$T:$T,0),1))","v":""},{"$f":"IF(BH270=\"\",\"\",INDEX('Otras referencias'!A:B,MATCH(BH270,'Otras referencias'!$B:$B,0),1))","v":""}]
[null,{"$f":"IF(BW271=BW270,B270,B270+1)","v":0},{"$f":"IF(E271<>\"\",CONCATENATE($A$3,D271,B271),\"\")","v":""},null,null,{"$f":"IF(D271<>\"\",D271+E271,\"\")","v":""},{"$f":"IF(H271=\"\",\"\",INDEX(referentes!AU:AV,MATCH(H271,referentes!$AV:$AV,0),1))","v":""},null,{"$f":"IF(J271=\"\",\"\",INDEX('Otras referencias'!$V:$W,MATCH(J271,'Otras referencias'!$W:$W,0),1))","v":""},null,null,null,null,null,null,null,null,null,201,null,null,null,null,null,null,null,null,null,null,null,null,null,null,null,null,null,null,null,null,null,null,null,null,null,null,{"$f":"SUM(W271:AR271)","v":0},null,null,null,{"$f":"SUM(AU271:AW271)","v":0},null,null,null,null,null,null,null,null,null,null,null,null,null,null,null,null,null,null,{"$f":"IF(D271=\"\",\"\",CONCATENATE(C271,S271))","v":""},{"$f":"IF(C271=\"\",\"\",IF(COUNTIF($C$6:C271, C271)>1, \"\", C271))","v":""},{"$f":"IF(K271=\"\",\"\",INDEX(referentes!P:Q,MATCH(K271,referentes!$Q:$Q,0),1))","v":""},{"$f":"IF(L271=\"\",\"\",INDEX(referentes!$A:$B,MATCH(L271,referentes!$B:$B,0),1))","v":""},{"$f":"IF(P271=\"\",\"\",INDEX(referentes!D:E,MATCH(P271,referentes!$E:$E,0),1))","v":""},{"$f":"IF(Q271=\"\",\"\",INDEX(referentes!G:H,MATCH(Q271,referentes!$H:$H,0),1))","v":""},{"$f":"CONCATENATE(G271,I271,BS271,BT271,BU271,BV271,M271,N271,O271)","v":""},{"$f":"IF(V271=\"\",\"\",INDEX(referentes!S:T,MATCH(V271,referentes!$T:$T,0),1))","v":""},{"$f":"IF(BL271=\"\",\"\",INDEX(referentes!J:K,MATCH(BL271,referentes!$K:$K,0),1))","v":""},{"$f":"IF(BD271=\"\",\"\",INDEX(referentes!V:W,MATCH(BD271,referentes!$W:$W,0),1))","v":""},{"$f":"IF(BE271=\"\",\"\",INDEX(referentes!Y:Z,MATCH(BE271,referentes!$Z:$Z,0),1))","v":""},{"$f":"IF(BF271=\"\",\"\",INDEX(referentes!AB:AC,MATCH(BF271,referentes!$AC:$AC,0),1))","v":""},{"$f":"IF(BG271=\"\",\"\",INDEX(referentes!AE:AF,MATCH(BG271,referentes!$AF:$AF,0),1))","v":""},{"$f":"IF(AY271=\"\",\"\",INDEX(referentes!M:N,MATCH(AY271,referentes!$N:$N,0),1))","v":""},{"$f":"IF(BN271=\"\",\"\",INDEX('Otras referencias'!S:T,MATCH(BN271,'Otras referencias'!$T:$T,0),1))","v":""},{"$f":"IF(BH271=\"\",\"\",INDEX('Otras referencias'!A:B,MATCH(BH271,'Otras referencias'!$B:$B,0),1))","v":""}]
[null,0,"",null,null,"",{"$f":"IF(H272=\"\",\"\",INDEX(referentes!AU:AV,MATCH(H272,referentes!$AV:$AV,0),1))","v":""},null,{"$f":"IF(J272=\"\",\"\",INDEX('Otras referencias'!$V:$W,MATCH(J272,'Otras referencias'!$W:$W,0),1))","v":""},null,null,null,null,null,null,null,null,null,201,null,null,null,null,null,null,null,null,null,null,null,null,null,null,null,null,null,null,null,null,null,null,null,null,null,null,0,null,null,null,0,null,null,null,null,null,null,null,null,null,null,null,null,null,null,null,null,null,null,"",{"$f":"IF(C272=\"\",\"\",IF(COUNTIF($C$6:C272, C272)>1, \"\", C272))","v":""},{"$f":"IF(K272=\"\",\"\",INDEX(referentes!P:Q,MATCH(K272,referentes!$Q:$Q,0),1))","v":""},{"$f":"IF(L272=\"\",\"\",INDEX(referentes!$A:$B,MATCH(L272,referentes!$B:$B,0),1))","v":""},{"$f":"IF(P272=\"\",\"\",INDEX(referentes!D:E,MATCH(P272,referentes!$E:$E,0),1))","v":""},{"$f":"IF(Q272=\"\",\"\",INDEX(referentes!G:H,MATCH(Q272,referentes!$H:$H,0),1))","v":""},"",{"$f":"IF(V272=\"\",\"\",INDEX(referentes!S:T,MATCH(V272,referentes!$T:$T,0),1))","v":""},{"$f":"IF(BL272=\"\",\"\",INDEX(referentes!J:K,MATCH(BL272,referentes!$K:$K,0),1))","v":""},{"$f":"IF(BD272=\"\",\"\",INDEX(referentes!V:W,MATCH(BD272,referentes!$W:$W,0),1))","v":""},{"$f":"IF(BE272=\"\",\"\",INDEX(referentes!Y:Z,MATCH(BE272,referentes!$Z:$Z,0),1))","v":""},{"$f":"IF(BF272=\"\",\"\",INDEX(referentes!AB:AC,MATCH(BF272,referentes!$AC:$AC,0),1))","v":""},{"$f":"IF(BG272=\"\",\"\",INDEX(referentes!AE:AF,MATCH(BG272,referentes!$AF:$AF,0),1))","v":""},{"$f":"IF(AY272=\"\",\"\",INDEX(referentes!M:N,MATCH(AY272,referentes!$N:$N,0),1))","v":""},{"$f":"IF(BN272=\"\",\"\",INDEX('Otras referencias'!S:T,MATCH(BN272,'Otras referencias'!$T:$T,0),1))","v":""},{"$f":"IF(BH272=\"\",\"\",INDEX('Otras referencias'!A:B,MATCH(BH272,'Otras referencias'!$B:$B,0),1))","v":""}]
[null,0,"",null,null,"",{"$f":"IF(H273=\"\",\"\",INDEX(referentes!AU:AV,MATCH(H273,referentes!$AV:$AV,0),1))","v":""},null,{"$f":"IF(J273=\"\",\"\",INDEX('Otras referencias'!$V:$W,MATCH(J273,'Otras referencias'!$W:$W,0),1))","v":""},null,null,null,null,null,null,null,null,null,201,null,null,null,null,null,null,null,null,null,null,null,null,null,null,null,null,null,null,null,null,null,null,null,null,null,null,0,null,null,null,0,null,null,null,null,null,null,null,null,null,null,null,null,null,null,null,null,null,null,"",{"$f":"IF(C273=\"\",\"\",IF(COUNTIF($C$6:C273, C273)>1, \"\", C273))","v":""},{"$f":"IF(K273=\"\",\"\",INDEX(referentes!P:Q,MATCH(K273,referentes!$Q:$Q,0),1))","v":""},{"$f":"IF(L273=\"\",\"\",INDEX(referentes!$A:$B,MATCH(L273,referentes!$B:$B,0),1))","v":""},{"$f":"IF(P273=\"\",\"\",INDEX(referentes!D:E,MATCH(P273,referentes!$E:$E,0),1))","v":""},{"$f":"IF(Q273=\"\",\"\",INDEX(referentes!G:H,MATCH(Q273,referentes!$H:$H,0),1))","v":""},"",{"$f":"IF(V273=\"\",\"\",INDEX(referentes!S:T,MATCH(V273,referentes!$T:$T,0),1))","v":""},{"$f":"IF(BL273=\"\",\"\",INDEX(referentes!J:K,MATCH(BL273,referentes!$K:$K,0),1))","v":""},{"$f":"IF(BD273=\"\",\"\",INDEX(referentes!V:W,MATCH(BD273,referentes!$W:$W,0),1))","v":""},{"$f":"IF(BE273=\"\",\"\",INDEX(referentes!Y:Z,MATCH(BE273,referentes!$Z:$Z,0),1))","v":""},{"$f":"IF(BF273=\"\",\"\",INDEX(referentes!AB:AC,MATCH(BF273,referentes!$AC:$AC,0),1))","v":""},{"$f":"IF(BG273=\"\",\"\",INDEX(referentes!AE:AF,MATCH(BG273,referentes!$AF:$AF,0),1))","v":""},{"$f":"IF(AY273=\"\",\"\",INDEX(referentes!M:N,MATCH(AY273,referentes!$N:$N,0),1))","v":""},{"$f":"IF(BN273=\"\",\"\",INDEX('Otras referencias'!S:T,MATCH(BN273,'Otras referencias'!$T:$T,0),1))","v":""},{"$f":"IF(BH273=\"\",\"\",INDEX('Otras referencias'!A:B,MATCH(BH273,'Otras referencias'!$B:$B,0),1))","v":""}]
[null,0,"",null,null,"",{"$f":"IF(H274=\"\",\"\",INDEX(referentes!AU:AV,MATCH(H274,referentes!$AV:$AV,0),1))","v":""},null,{"$f":"IF(J274=\"\",\"\",INDEX('Otras referencias'!$V:$W,MATCH(J274,'Otras referencias'!$W:$W,0),1))","v":""},null,null,null,null,null,null,null,null,null,201,null,null,null,null,null,null,null,null,null,null,null,null,null,null,null,null,null,null,null,null,null,null,null,null,null,null,0,null,null,null,0,null,null,null,null,null,null,null,null,null,null,null,null,null,null,null,null,null,null,"",{"$f":"IF(C274=\"\",\"\",IF(COUNTIF($C$6:C274, C274)>1, \"\", C274))","v":""},{"$f":"IF(K274=\"\",\"\",INDEX(referentes!P:Q,MATCH(K274,referentes!$Q:$Q,0),1))","v":""},{"$f":"IF(L274=\"\",\"\",INDEX(referentes!$A:$B,MATCH(L274,referentes!$B:$B,0),1))","v":""},{"$f":"IF(P274=\"\",\"\",INDEX(referentes!D:E,MATCH(P274,referentes!$E:$E,0),1))","v":""},{"$f":"IF(Q274=\"\",\"\",INDEX(referentes!G:H,MATCH(Q274,referentes!$H:$H,0),1))","v":""},"",{"$f":"IF(V274=\"\",\"\",INDEX(referentes!S:T,MATCH(V274,referentes!$T:$T,0),1))","v":""},{"$f":"IF(BL274=\"\",\"\",INDEX(referentes!J:K,MATCH(BL274,referentes!$K:$K,0),1))","v":""},{"$f":"IF(BD274=\"\",\"\",INDEX(referentes!V:W,MATCH(BD274,referentes!$W:$W,0),1))","v":""},{"$f":"IF(BE274=\"\",\"\",INDEX(referentes!Y:Z,MATCH(BE274,referentes!$Z:$Z,0),1))","v":""},{"$f":"IF(BF274=\"\",\"\",INDEX(referentes!AB:AC,MATCH(BF274,referentes!$AC:$AC,0),1))","v":""},{"$f":"IF(BG274=\"\",\"\",INDEX(referentes!AE:AF,MATCH(BG274,referentes!$AF:$AF,0),1))","v":""},{"$f":"IF(AY274=\"\",\"\",INDEX(referentes!M:N,MATCH(AY274,referentes!$N:$N,0),1))","v":""},{"$f":"IF(BN274=\"\",\"\",INDEX('Otras referencias'!S:T,MATCH(BN274,'Otras referencias'!$T:$T,0),1))","v":""},{"$f":"IF(BH274=\"\",\"\",INDEX('Otras referencias'!A:B,MATCH(BH274,'Otras referencias'!$B:$B,0),1))","v":""}]
[null,0,"",null,null,"",{"$f":"IF(H275=\"\",\"\",INDEX(referentes!AU:AV,MATCH(H275,referentes!$AV:$AV,0),1))","v":""},null,{"$f":"IF(J275=\"\",\"\",INDEX('Otras referencias'!$V:$W,MATCH(J275,'Otras referencias'!$W:$W,0),1))","v":""},null,null,null,null,null,null,null,null,null,201,null,null,null,null,null,null,null,null,null,null,null,null,null,null,null,null,null,null,null,null,null,null,null,null,null,null,0,null,null,null,0,null,null,null,null,null,null,null,null,null,null,null,null,null,null,null,null,null,null,"",{"$f":"IF(C275=\"\",\"\",IF(COUNTIF($C$6:C275, C275)>1, \"\", C275))","v":""},{"$f":"IF(K275=\"\",\"\",INDEX(referentes!P:Q,MATCH(K275,referentes!$Q:$Q,0),1))","v":""},{"$f":"IF(L275=\"\",\"\",INDEX(referentes!$A:$B,MATCH(L275,referentes!$B:$B,0),1))","v":""},{"$f":"IF(P275=\"\",\"\",INDEX(referentes!D:E,MATCH(P275,referentes!$E:$E,0),1))","v":""},{"$f":"IF(Q275=\"\",\"\",INDEX(referentes!G:H,MATCH(Q275,referentes!$H:$H,0),1))","v":""},"",{"$f":"IF(V275=\"\",\"\",INDEX(referentes!S:T,MATCH(V275,referentes!$T:$T,0),1))","v":""},{"$f":"IF(BL275=\"\",\"\",INDEX(referentes!J:K,MATCH(BL275,referentes!$K:$K,0),1))","v":""},{"$f":"IF(BD275=\"\",\"\",INDEX(referentes!V:W,MATCH(BD275,referentes!$W:$W,0),1))","v":""},{"$f":"IF(BE275=\"\",\"\",INDEX(referentes!Y:Z,MATCH(BE275,referentes!$Z:$Z,0),1))","v":""},{"$f":"IF(BF275=\"\",\"\",INDEX(referentes!AB:AC,MATCH(BF275,referentes!$AC:$AC,0),1))","v":""},{"$f":"IF(BG275=\"\",\"\",INDEX(referentes!AE:AF,MATCH(BG275,referentes!$AF:$AF,0),1))","v":""},{"$f":"IF(AY275=\"\",\"\",INDEX(referentes!M:N,MATCH(AY275,referentes!$N:$N,0),1))","v":""},{"$f":"IF(BN275=\"\",\"\",INDEX('Otras referencias'!S:T,MATCH(BN275,'Otras referencias'!$T:$T,0),1))","v":""},{"$f":"IF(BH275=\"\",\"\",INDEX('Otras referencias'!A:B,MATCH(BH275,'Otras referencias'!$B:$B,0),1))","v":""}]
[null,0,"",null,null,"",{"$f":"IF(H276=\"\",\"\",INDEX(referentes!AU:AV,MATCH(H276,referentes!$AV:$AV,0),1))","v":""},null,{"$f":"IF(J276=\"\",\"\",INDEX('Otras referencias'!$V:$W,MATCH(J276,'Otras referencias'!$W:$W,0),1))","v":""},null,null,null,null,null,null,null,null,null,201,null,null,null,null,null,null,null,null,null,null,null,null,null,null,null,null,null,null,null,null,null,null,null,null,null,null,0,null,null,null,0,null,null,null,null,null,null,null,null,null,null,null,null,null,null,null,null,null,null,"",{"$f":"IF(C276=\"\",\"\",IF(COUNTIF($C$6:C276, C276)>1, \"\", C276))","v":""},{"$f":"IF(K276=\"\",\"\",INDEX(referentes!P:Q,MATCH(K276,referentes!$Q:$Q,0),1))","v":""},{"$f":"IF(L276=\"\",\"\",INDEX(referentes!$A:$B,MATCH(L276,referentes!$B:$B,0),1))","v":""},{"$f":"IF(P276=\"\",\"\",INDEX(referentes!D:E,MATCH(P276,referentes!$E:$E,0),1))","v":""},{"$f":"IF(Q276=\"\",\"\",INDEX(referentes!G:H,MATCH(Q276,referentes!$H:$H,0),1))","v":""},"",{"$f":"IF(V276=\"\",\"\",INDEX(referentes!S:T,MATCH(V276,referentes!$T:$T,0),1))","v":""},{"$f":"IF(BL276=\"\",\"\",INDEX(referentes!J:K,MATCH(BL276,referentes!$K:$K,0),1))","v":""},{"$f":"IF(BD276=\"\",\"\",INDEX(referentes!V:W,MATCH(BD276,referentes!$W:$W,0),1))","v":""},{"$f":"IF(BE276=\"\",\"\",INDEX(referentes!Y:Z,MATCH(BE276,referentes!$Z:$Z,0),1))","v":""},{"$f":"IF(BF276=\"\",\"\",INDEX(referentes!AB:AC,MATCH(BF276,referentes!$AC:$AC,0),1))","v":""},{"$f":"IF(BG276=\"\",\"\",INDEX(referentes!AE:AF,MATCH(BG276,referentes!$AF:$AF,0),1))","v":""},{"$f":"IF(AY276=\"\",\"\",INDEX(referentes!M:N,MATCH(AY276,referentes!$N:$N,0),1))","v":""},{"$f":"IF(BN276=\"\",\"\",INDEX('Otras referencias'!S:T,MATCH(BN276,'Otras referencias'!$T:$T,0),1))","v":""},{"$f":"IF(BH276=\"\",\"\",INDEX('Otras referencias'!A:B,MATCH(BH276,'Otras referencias'!$B:$B,0),1))","v":""}]
[null,0,"",null,null,"",{"$f":"IF(H277=\"\",\"\",INDEX(referentes!AU:AV,MATCH(H277,referentes!$AV:$AV,0),1))","v":""},null,{"$f":"IF(J277=\"\",\"\",INDEX('Otras referencias'!$V:$W,MATCH(J277,'Otras referencias'!$W:$W,0),1))","v":""},null,null,null,null,null,null,null,null,null,201,null,null,null,null,null,null,null,null,null,null,null,null,null,null,null,null,null,null,null,null,null,null,null,null,null,null,0,null,null,null,0,null,null,null,null,null,null,null,null,null,null,null,null,null,null,null,null,null,null,"",{"$f":"IF(C277=\"\",\"\",IF(COUNTIF($C$6:C277, C277)>1, \"\", C277))","v":""},{"$f":"IF(K277=\"\",\"\",INDEX(referentes!P:Q,MATCH(K277,referentes!$Q:$Q,0),1))","v":""},{"$f":"IF(L277=\"\",\"\",INDEX(referentes!$A:$B,MATCH(L277,referentes!$B:$B,0),1))","v":""},{"$f":"IF(P277=\"\",\"\",INDEX(referentes!D:E,MATCH(P277,referentes!$E:$E,0),1))","v":""},{"$f":"IF(Q277=\"\",\"\",INDEX(referentes!G:H,MATCH(Q277,referentes!$H:$H,0),1))","v":""},"",{"$f":"IF(V277=\"\",\"\",INDEX(referentes!S:T,MATCH(V277,referentes!$T:$T,0),1))","v":""},{"$f":"IF(BL277=\"\",\"\",INDEX(referentes!J:K,MATCH(BL277,referentes!$K:$K,0),1))","v":""},{"$f":"IF(BD277=\"\",\"\",INDEX(referentes!V:W,MATCH(BD277,referentes!$W:$W,0),1))","v":""},{"$f":"IF(BE277=\"\",\"\",INDEX(referentes!Y:Z,MATCH(BE277,referentes!$Z:$Z,0),1))","v":""},{"$f":"IF(BF277=\"\",\"\",INDEX(referentes!AB:AC,MATCH(BF277,referentes!$AC:$AC,0),1))","v":""},{"$f":"IF(BG277=\"\",\"\",INDEX(referentes!AE:AF,MATCH(BG277,referentes!$AF:$AF,0),1))","v":""},{"$f":"IF(AY277=\"\",\"\",INDEX(referentes!M:N,MATCH(AY277,referentes!$N:$N,0),1))","v":""},{"$f":"IF(BN277=\"\",\"\",INDEX('Otras referencias'!S:T,MATCH(BN277,'Otras referencias'!$T:$T,0),1))","v":""},{"$f":"IF(BH277=\"\",\"\",INDEX('Otras referencias'!A:B,MATCH(BH277,'Otras referencias'!$B:$B,0),1))","v":""}]
[null,0,"",null,null,"",{"$f":"IF(H278=\"\",\"\",INDEX(referentes!AU:AV,MATCH(H278,referentes!$AV:$AV,0),1))","v":""},null,{"$f":"IF(J278=\"\",\"\",INDEX('Otras referencias'!$V:$W,MATCH(J278,'Otras referencias'!$W:$W,0),1))","v":""},null,null,null,null,null,null,null,null,null,201,null,null,null,null,null,null,null,null,null,null,null,null,null,null,null,null,null,null,null,null,null,null,null,null,null,null,0,null,null,null,0,null,null,null,null,null,null,null,null,null,null,null,null,null,null,null,null,null,null,"",{"$f":"IF(C278=\"\",\"\",IF(COUNTIF($C$6:C278, C278)>1, \"\", C278))","v":""},{"$f":"IF(K278=\"\",\"\",INDEX(referentes!P:Q,MATCH(K278,referentes!$Q:$Q,0),1))","v":""},{"$f":"IF(L278=\"\",\"\",INDEX(referentes!$A:$B,MATCH(L278,referentes!$B:$B,0),1))","v":""},{"$f":"IF(P278=\"\",\"\",INDEX(referentes!D:E,MATCH(P278,referentes!$E:$E,0),1))","v":""},{"$f":"IF(Q278=\"\",\"\",INDEX(referentes!G:H,MATCH(Q278,referentes!$H:$H,0),1))","v":""},"",{"$f":"IF(V278=\"\",\"\",INDEX(referentes!S:T,MATCH(V278,referentes!$T:$T,0),1))","v":""},{"$f":"IF(BL278=\"\",\"\",INDEX(referentes!J:K,MATCH(BL278,referentes!$K:$K,0),1))","v":""},{"$f":"IF(BD278=\"\",\"\",INDEX(referentes!V:W,MATCH(BD278,referentes!$W:$W,0),1))","v":""},{"$f":"IF(BE278=\"\",\"\",INDEX(referentes!Y:Z,MATCH(BE278,referentes!$Z:$Z,0),1))","v":""},{"$f":"IF(BF278=\"\",\"\",INDEX(referentes!AB:AC,MATCH(BF278,referentes!$AC:$AC,0),1))","v":""},{"$f":"IF(BG278=\"\",\"\",INDEX(referentes!AE:AF,MATCH(BG278,referentes!$AF:$AF,0),1))","v":""},{"$f":"IF(AY278=\"\",\"\",INDEX(referentes!M:N,MATCH(AY278,referentes!$N:$N,0),1))","v":""},{"$f":"IF(BN278=\"\",\"\",INDEX('Otras referencias'!S:T,MATCH(BN278,'Otras referencias'!$T:$T,0),1))","v":""},{"$f":"IF(BH278=\"\",\"\",INDEX('Otras referencias'!A:B,MATCH(BH278,'Otras referencias'!$B:$B,0),1))","v":""}]
[null,0,"",null,null,"",{"$f":"IF(H279=\"\",\"\",INDEX(referentes!AU:AV,MATCH(H279,referentes!$AV:$AV,0),1))","v":""},null,{"$f":"IF(J279=\"\",\"\",INDEX('Otras referencias'!$V:$W,MATCH(J279,'Otras referencias'!$W:$W,0),1))","v":""},null,null,null,null,null,null,null,null,null,201,null,null,null,null,null,null,null,null,null,null,null,null,null,null,null,null,null,null,null,null,null,null,null,null,null,null,0,null,null,null,0,null,null,null,null,null,null,null,null,null,null,null,null,null,null,null,null,null,null,"",{"$f":"IF(C279=\"\",\"\",IF(COUNTIF($C$6:C279, C279)>1, \"\", C279))","v":""},{"$f":"IF(K279=\"\",\"\",INDEX(referentes!P:Q,MATCH(K279,referentes!$Q:$Q,0),1))","v":""},{"$f":"IF(L279=\"\",\"\",INDEX(referentes!$A:$B,MATCH(L279,referentes!$B:$B,0),1))","v":""},{"$f":"IF(P279=\"\",\"\",INDEX(referentes!D:E,MATCH(P279,referentes!$E:$E,0),1))","v":""},{"$f":"IF(Q279=\"\",\"\",INDEX(referentes!G:H,MATCH(Q279,referentes!$H:$H,0),1))","v":""},"",{"$f":"IF(V279=\"\",\"\",INDEX(referentes!S:T,MATCH(V279,referentes!$T:$T,0),1))","v":""},{"$f":"IF(BL279=\"\",\"\",INDEX(referentes!J:K,MATCH(BL279,referentes!$K:$K,0),1))","v":""},{"$f":"IF(BD279=\"\",\"\",INDEX(referentes!V:W,MATCH(BD279,referentes!$W:$W,0),1))","v":""},{"$f":"IF(BE279=\"\",\"\",INDEX(referentes!Y:Z,MATCH(BE279,referentes!$Z:$Z,0),1))","v":""},{"$f":"IF(BF279=\"\",\"\",INDEX(referentes!AB:AC,MATCH(BF279,referentes!$AC:$AC,0),1))","v":""},{"$f":"IF(BG279=\"\",\"\",INDEX(referentes!AE:AF,MATCH(BG279,referentes!$AF:$AF,0),1))","v":""},{"$f":"IF(AY279=\"\",\"\",INDEX(referentes!M:N,MATCH(AY279,referentes!$N:$N,0),1))","v":""},{"$f":"IF(BN279=\"\",\"\",INDEX('Otras referencias'!S:T,MATCH(BN279,'Otras referencias'!$T:$T,0),1))","v":""},{"$f":"IF(BH279=\"\",\"\",INDEX('Otras referencias'!A:B,MATCH(BH279,'Otras referencias'!$B:$B,0),1))","v":""}]
[null,0,"",null,null,"",{"$f":"IF(H280=\"\",\"\",INDEX(referentes!AU:AV,MATCH(H280,referentes!$AV:$AV,0),1))","v":""},null,{"$f":"IF(J280=\"\",\"\",INDEX('Otras referencias'!$V:$W,MATCH(J280,'Otras referencias'!$W:$W,0),1))","v":""},null,null,null,null,null,null,null,null,null,201,null,null,null,null,null,null,null,null,null,null,null,null,null,null,null,null,null,null,null,null,null,null,null,null,null,null,0,null,null,null,0,null,null,null,null,null,null,null,null,null,null,null,null,null,null,null,null,null,null,"",{"$f":"IF(C280=\"\",\"\",IF(COUNTIF($C$6:C280, C280)>1, \"\", C280))","v":""},{"$f":"IF(K280=\"\",\"\",INDEX(referentes!P:Q,MATCH(K280,referentes!$Q:$Q,0),1))","v":""},{"$f":"IF(L280=\"\",\"\",INDEX(referentes!$A:$B,MATCH(L280,referentes!$B:$B,0),1))","v":""},{"$f":"IF(P280=\"\",\"\",INDEX(referentes!D:E,MATCH(P280,referentes!$E:$E,0),1))","v":""},{"$f":"IF(Q280=\"\",\"\",INDEX(referentes!G:H,MATCH(Q280,referentes!$H:$H,0),1))","v":""},"",{"$f":"IF(V280=\"\",\"\",INDEX(referentes!S:T,MATCH(V280,referentes!$T:$T,0),1))","v":""},{"$f":"IF(BL280=\"\",\"\",INDEX(referentes!J:K,MATCH(BL280,referentes!$K:$K,0),1))","v":""},{"$f":"IF(BD280=\"\",\"\",INDEX(referentes!V:W,MATCH(BD280,referentes!$W:$W,0),1))","v":""},{"$f":"IF(BE280=\"\",\"\",INDEX(referentes!Y:Z,MATCH(BE280,referentes!$Z:$Z,0),1))","v":""},{"$f":"IF(BF280=\"\",\"\",INDEX(referentes!AB:AC,MATCH(BF280,referentes!$AC:$AC,0),1))","v":""},{"$f":"IF(BG280=\"\",\"\",INDEX(referentes!AE:AF,MATCH(BG280,referentes!$AF:$AF,0),1))","v":""},{"$f":"IF(AY280=\"\",\"\",INDEX(referentes!M:N,MATCH(AY280,referentes!$N:$N,0),1))","v":""},{"$f":"IF(BN280=\"\",\"\",INDEX('Otras referencias'!S:T,MATCH(BN280,'Otras referencias'!$T:$T,0),1))","v":""},{"$f":"IF(BH280=\"\",\"\",INDEX('Otras referencias'!A:B,MATCH(BH280,'Otras referencias'!$B:$B,0),1))","v":""}]
[null,0,"",null,null,"",{"$f":"IF(H281=\"\",\"\",INDEX(referentes!AU:AV,MATCH(H281,referentes!$AV:$AV,0),1))","v":""},null,{"$f":"IF(J281=\"\",\"\",INDEX('Otras referencias'!$V:$W,MATCH(J281,'Otras referencias'!$W:$W,0),1))","v":""},null,null,null,null,null,null,null,null,null,201,null,null,null,null,null,null,null,null,null,null,null,null,null,null,null,null,null,null,null,null,null,null,null,null,null,null,0,null,null,null,0,null,null,null,null,null,null,null,null,null,null,null,null,null,null,null,null,null,null,"",{"$f":"IF(C281=\"\",\"\",IF(COUNTIF($C$6:C281, C281)>1, \"\", C281))","v":""},{"$f":"IF(K281=\"\",\"\",INDEX(referentes!P:Q,MATCH(K281,referentes!$Q:$Q,0),1))","v":""},{"$f":"IF(L281=\"\",\"\",INDEX(referentes!$A:$B,MATCH(L281,referentes!$B:$B,0),1))","v":""},{"$f":"IF(P281=\"\",\"\",INDEX(referentes!D:E,MATCH(P281,referentes!$E:$E,0),1))","v":""},{"$f":"IF(Q281=\"\",\"\",INDEX(referentes!G:H,MATCH(Q281,referentes!$H:$H,0),1))","v":""},"",{"$f":"IF(V281=\"\",\"\",INDEX(referentes!S:T,MATCH(V281,referentes!$T:$T,0),1))","v":""},{"$f":"IF(BL281=\"\",\"\",INDEX(referentes!J:K,MATCH(BL281,referentes!$K:$K,0),1))","v":""},{"$f":"IF(BD281=\"\",\"\",INDEX(referentes!V:W,MATCH(BD281,referentes!$W:$W,0),1))","v":""},{"$f":"IF(BE281=\"\",\"\",INDEX(referentes!Y:Z,MATCH(BE281,referentes!$Z:$Z,0),1))","v":""},{"$f":"IF(BF281=\"\",\"\",INDEX(referentes!AB:AC,MATCH(BF281,referentes!$AC:$AC,0),1))","v":""},{"$f":"IF(BG281=\"\",\"\",INDEX(referentes!AE:AF,MATCH(BG281,referentes!$AF:$AF,0),1))","v":""},{"$f":"IF(AY281=\"\",\"\",INDEX(referentes!M:N,MATCH(AY281,referentes!$N:$N,0),1))","v":""},{"$f":"IF(BN281=\"\",\"\",INDEX('Otras referencias'!S:T,MATCH(BN281,'Otras referencias'!$T:$T,0),1))","v":""},{"$f":"IF(BH281=\"\",\"\",INDEX('Otras referencias'!A:B,MATCH(BH281,'Otras referencias'!$B:$B,0),1))","v":""}]
[null,0,"",null,null,"",{"$f":"IF(H282=\"\",\"\",INDEX(referentes!AU:AV,MATCH(H282,referentes!$AV:$AV,0),1))","v":""},null,{"$f":"IF(J282=\"\",\"\",INDEX('Otras referencias'!$V:$W,MATCH(J282,'Otras referencias'!$W:$W,0),1))","v":""},null,null,null,null,null,null,null,null,null,201,null,null,null,null,null,null,null,null,null,null,null,null,null,null,null,null,null,null,null,null,null,null,null,null,null,null,0,null,null,null,0,null,null,null,null,null,null,null,null,null,null,null,null,null,null,null,null,null,null,"",{"$f":"IF(C282=\"\",\"\",IF(COUNTIF($C$6:C282, C282)>1, \"\", C282))","v":""},{"$f":"IF(K282=\"\",\"\",INDEX(referentes!P:Q,MATCH(K282,referentes!$Q:$Q,0),1))","v":""},{"$f":"IF(L282=\"\",\"\",INDEX(referentes!$A:$B,MATCH(L282,referentes!$B:$B,0),1))","v":""},{"$f":"IF(P282=\"\",\"\",INDEX(referentes!D:E,MATCH(P282,referentes!$E:$E,0),1))","v":""},{"$f":"IF(Q282=\"\",\"\",INDEX(referentes!G:H,MATCH(Q282,referentes!$H:$H,0),1))","v":""},"",{"$f":"IF(V282=\"\",\"\",INDEX(referentes!S:T,MATCH(V282,referentes!$T:$T,0),1))","v":""},{"$f":"IF(BL282=\"\",\"\",INDEX(referentes!J:K,MATCH(BL282,referentes!$K:$K,0),1))","v":""},{"$f":"IF(BD282=\"\",\"\",INDEX(referentes!V:W,MATCH(BD282,referentes!$W:$W,0),1))","v":""},{"$f":"IF(BE282=\"\",\"\",INDEX(referentes!Y:Z,MATCH(BE282,referentes!$Z:$Z,0),1))","v":""},{"$f":"IF(BF282=\"\",\"\",INDEX(referentes!AB:AC,MATCH(BF282,referentes!$AC:$AC,0),1))","v":""},{"$f":"IF(BG282=\"\",\"\",INDEX(referentes!AE:AF,MATCH(BG282,referentes!$AF:$AF,0),1))","v":""},{"$f":"IF(AY282=\"\",\"\",INDEX(referentes!M:N,MATCH(AY282,referentes!$N:$N,0),1))","v":""},{"$f":"IF(BN282=\"\",\"\",INDEX('Otras referencias'!S:T,MATCH(BN282,'Otras referencias'!$T:$T,0),1))","v":""},{"$f":"IF(BH282=\"\",\"\",INDEX('Otras referencias'!A:B,MATCH(BH282,'Otras referencias'!$B:$B,0),1))","v":""}]
[null,0,"",null,null,"",{"$f":"IF(H283=\"\",\"\",INDEX(referentes!AU:AV,MATCH(H283,referentes!$AV:$AV,0),1))","v":""},null,{"$f":"IF(J283=\"\",\"\",INDEX('Otras referencias'!$V:$W,MATCH(J283,'Otras referencias'!$W:$W,0),1))","v":""},null,null,null,null,null,null,null,null,null,201,null,null,null,null,null,null,null,null,null,null,null,null,null,null,null,null,null,null,null,null,null,null,null,null,null,null,0,null,null,null,0,null,null,null,null,null,null,null,null,null,null,null,null,null,null,null,null,null,null,"",{"$f":"IF(C283=\"\",\"\",IF(COUNTIF($C$6:C283, C283)>1, \"\", C283))","v":""},{"$f":"IF(K283=\"\",\"\",INDEX(referentes!P:Q,MATCH(K283,referentes!$Q:$Q,0),1))","v":""},{"$f":"IF(L283=\"\",\"\",INDEX(referentes!$A:$B,MATCH(L283,referentes!$B:$B,0),1))","v":""},{"$f":"IF(P283=\"\",\"\",INDEX(referentes!D:E,MATCH(P283,referentes!$E:$E,0),1))","v":""},{"$f":"IF(Q283=\"\",\"\",INDEX(referentes!G:H,MATCH(Q283,referentes!$H:$H,0),1))","v":""},"",{"$f":"IF(V283=\"\",\"\",INDEX(referentes!S:T,MATCH(V283,referentes!$T:$T,0),1))","v":""},{"$f":"IF(BL283=\"\",\"\",INDEX(referentes!J:K,MATCH(BL283,referentes!$K:$K,0),1))","v":""},{"$f":"IF(BD283=\"\",\"\",INDEX(referentes!V:W,MATCH(BD283,referentes!$W:$W,0),1))","v":""},{"$f":"IF(BE283=\"\",\"\",INDEX(referentes!Y:Z,MATCH(BE283,referentes!$Z:$Z,0),1))","v":""},{"$f":"IF(BF283=\"\",\"\",INDEX(referentes!AB:AC,MATCH(BF283,referentes!$AC:$AC,0),1))","v":""},{"$f":"IF(BG283=\"\",\"\",INDEX(referentes!AE:AF,MATCH(BG283,referentes!$AF:$AF,0),1))","v":""},{"$f":"IF(AY283=\"\",\"\",INDEX(referentes!M:N,MATCH(AY283,referentes!$N:$N,0),1))","v":""},{"$f":"IF(BN283=\"\",\"\",INDEX('Otras referencias'!S:T,MATCH(BN283,'Otras referencias'!$T:$T,0),1))","v":""},{"$f":"IF(BH283=\"\",\"\",INDEX('Otras referencias'!A:B,MATCH(BH283,'Otras referencias'!$B:$B,0),1))","v":""}]
[null,0,"",null,null,"",{"$f":"IF(H284=\"\",\"\",INDEX(referentes!AU:AV,MATCH(H284,referentes!$AV:$AV,0),1))","v":""},null,{"$f":"IF(J284=\"\",\"\",INDEX('Otras referencias'!$V:$W,MATCH(J284,'Otras referencias'!$W:$W,0),1))","v":""},null,null,null,null,null,null,null,null,null,201,null,null,null,null,null,null,null,null,null,null,null,null,null,null,null,null,null,null,null,null,null,null,null,null,null,null,0,null,null,null,0,null,null,null,null,null,null,null,null,null,null,null,null,null,null,null,null,null,null,"",{"$f":"IF(C284=\"\",\"\",IF(COUNTIF($C$6:C284, C284)>1, \"\", C284))","v":""},{"$f":"IF(K284=\"\",\"\",INDEX(referentes!P:Q,MATCH(K284,referentes!$Q:$Q,0),1))","v":""},{"$f":"IF(L284=\"\",\"\",INDEX(referentes!$A:$B,MATCH(L284,referentes!$B:$B,0),1))","v":""},{"$f":"IF(P284=\"\",\"\",INDEX(referentes!D:E,MATCH(P284,referentes!$E:$E,0),1))","v":""},{"$f":"IF(Q284=\"\",\"\",INDEX(referentes!G:H,MATCH(Q284,referentes!$H:$H,0),1))","v":""},"",{"$f":"IF(V284=\"\",\"\",INDEX(referentes!S:T,MATCH(V284,referentes!$T:$T,0),1))","v":""},{"$f":"IF(BL284=\"\",\"\",INDEX(referentes!J:K,MATCH(BL284,referentes!$K:$K,0),1))","v":""},{"$f":"IF(BD284=\"\",\"\",INDEX(referentes!V:W,MATCH(BD284,referentes!$W:$W,0),1))","v":""},{"$f":"IF(BE284=\"\",\"\",INDEX(referentes!Y:Z,MATCH(BE284,referentes!$Z:$Z,0),1))","v":""},{"$f":"IF(BF284=\"\",\"\",INDEX(referentes!AB:AC,MATCH(BF284,referentes!$AC:$AC,0),1))","v":""},{"$f":"IF(BG284=\"\",\"\",INDEX(referentes!AE:AF,MATCH(BG284,referentes!$AF:$AF,0),1))","v":""},{"$f":"IF(AY284=\"\",\"\",INDEX(referentes!M:N,MATCH(AY284,referentes!$N:$N,0),1))","v":""},{"$f":"IF(BN284=\"\",\"\",INDEX('Otras referencias'!S:T,MATCH(BN284,'Otras referencias'!$T:$T,0),1))","v":""},{"$f":"IF(BH284=\"\",\"\",INDEX('Otras referencias'!A:B,MATCH(BH284,'Otras referencias'!$B:$B,0),1))","v":""}]
[null,0,"",null,null,"",{"$f":"IF(H285=\"\",\"\",INDEX(referentes!AU:AV,MATCH(H285,referentes!$AV:$AV,0),1))","v":""},null,{"$f":"IF(J285=\"\",\"\",INDEX('Otras referencias'!$V:$W,MATCH(J285,'Otras referencias'!$W:$W,0),1))","v":""},null,null,null,null,null,null,null,null,null,201,null,null,null,null,null,null,null,null,null,null,null,null,null,null,null,null,null,null,null,null,null,null,null,null,null,null,0,null,null,null,0,null,null,null,null,null,null,null,null,null,null,null,null,null,null,null,null,null,null,"",{"$f":"IF(C285=\"\",\"\",IF(COUNTIF($C$6:C285, C285)>1, \"\", C285))","v":""},{"$f":"IF(K285=\"\",\"\",INDEX(referentes!P:Q,MATCH(K285,referentes!$Q:$Q,0),1))","v":""},{"$f":"IF(L285=\"\",\"\",INDEX(referentes!$A:$B,MATCH(L285,referentes!$B:$B,0),1))","v":""},{"$f":"IF(P285=\"\",\"\",INDEX(referentes!D:E,MATCH(P285,referentes!$E:$E,0),1))","v":""},{"$f":"IF(Q285=\"\",\"\",INDEX(referentes!G:H,MATCH(Q285,referentes!$H:$H,0),1))","v":""},"",{"$f":"IF(V285=\"\",\"\",INDEX(referentes!S:T,MATCH(V285,referentes!$T:$T,0),1))","v":""},{"$f":"IF(BL285=\"\",\"\",INDEX(referentes!J:K,MATCH(BL285,referentes!$K:$K,0),1))","v":""},{"$f":"IF(BD285=\"\",\"\",INDEX(referentes!V:W,MATCH(BD285,referentes!$W:$W,0),1))","v":""},{"$f":"IF(BE285=\"\",\"\",INDEX(referentes!Y:Z,MATCH(BE285,referentes!$Z:$Z,0),1))","v":""},{"$f":"IF(BF285=\"\",\"\",INDEX(referentes!AB:AC,MATCH(BF285,referentes!$AC:$AC,0),1))","v":""},{"$f":"IF(BG285=\"\",\"\",INDEX(referentes!AE:AF,MATCH(BG285,referentes!$AF:$AF,0),1))","v":""},{"$f":"IF(AY285=\"\",\"\",INDEX(referentes!M:N,MATCH(AY285,referentes!$N:$N,0),1))","v":""},{"$f":"IF(BN285=\"\",\"\",INDEX('Otras referencias'!S:T,MATCH(BN285,'Otras referencias'!$T:$T,0),1))","v":""},{"$f":"IF(BH285=\"\",\"\",INDEX('Otras referencias'!A:B,MATCH(BH285,'Otras referencias'!$B:$B,0),1))","v":""}]
[null,0,"",null,null,"",{"$f":"IF(H286=\"\",\"\",INDEX(referentes!AU:AV,MATCH(H286,referentes!$AV:$AV,0),1))","v":""},null,{"$f":"IF(J286=\"\",\"\",INDEX('Otras referencias'!$V:$W,MATCH(J286,'Otras referencias'!$W:$W,0),1))","v":""},null,null,null,null,null,null,null,null,null,201,null,null,null,null,null,null,null,null,null,null,null,null,null,null,null,null,null,null,null,null,null,null,null,null,null,null,0,null,null,null,0,null,null,null,null,null,null,null,null,null,null,null,null,null,null,null,null,null,null,"",{"$f":"IF(C286=\"\",\"\",IF(COUNTIF($C$6:C286, C286)>1, \"\", C286))","v":""},{"$f":"IF(K286=\"\",\"\",INDEX(referentes!P:Q,MATCH(K286,referentes!$Q:$Q,0),1))","v":""},{"$f":"IF(L286=\"\",\"\",INDEX(referentes!$A:$B,MATCH(L286,referentes!$B:$B,0),1))","v":""},{"$f":"IF(P286=\"\",\"\",INDEX(referentes!D:E,MATCH(P286,referentes!$E:$E,0),1))","v":""},{"$f":"IF(Q286=\"\",\"\",INDEX(referentes!G:H,MATCH(Q286,referentes!$H:$H,0),1))","v":""},"",{"$f":"IF(V286=\"\",\"\",INDEX(referentes!S:T,MATCH(V286,referentes!$T:$T,0),1))","v":""},{"$f":"IF(BL286=\"\",\"\",INDEX(referentes!J:K,MATCH(BL286,referentes!$K:$K,0),1))","v":""},{"$f":"IF(BD286=\"\",\"\",INDEX(referentes!V:W,MATCH(BD286,referentes!$W:$W,0),1))","v":""},{"$f":"IF(BE286=\"\",\"\",INDEX(referentes!Y:Z,MATCH(BE286,referentes!$Z:$Z,0),1))","v":""},{"$f":"IF(BF286=\"\",\"\",INDEX(referentes!AB:AC,MATCH(BF286,referentes!$AC:$AC,0),1))","v":""},{"$f":"IF(BG286=\"\",\"\",INDEX(referentes!AE:AF,MATCH(BG286,referentes!$AF:$AF,0),1))","v":""},{"$f":"IF(AY286=\"\",\"\",INDEX(referentes!M:N,MATCH(AY286,referentes!$N:$N,0),1))","v":""},{"$f":"IF(BN286=\"\",\"\",INDEX('Otras referencias'!S:T,MATCH(BN286,'Otras referencias'!$T:$T,0),1))","v":""},{"$f":"IF(BH286=\"\",\"\",INDEX('Otras referencias'!A:B,MATCH(BH286,'Otras referencias'!$B:$B,0),1))","v":""}]
[null,0,"",null,null,"",{"$f":"IF(H287=\"\",\"\",INDEX(referentes!AU:AV,MATCH(H287,referentes!$AV:$AV,0),1))","v":""},null,{"$f":"IF(J287=\"\",\"\",INDEX('Otras referencias'!$V:$W,MATCH(J287,'Otras referencias'!$W:$W,0),1))","v":""},null,null,null,null,null,null,null,null,null,201,null,null,null,null,null,null,null,null,null,null,null,null,null,null,null,null,null,null,null,null,null,null,null,null,null,null,0,null,null,null,0,null,null,null,null,null,null,null,null,null,null,null,null,null,null,null,null,null,null,"",{"$f":"IF(C287=\"\",\"\",IF(COUNTIF($C$6:C287, C287)>1, \"\", C287))","v":""},{"$f":"IF(K287=\"\",\"\",INDEX(referentes!P:Q,MATCH(K287,referentes!$Q:$Q,0),1))","v":""},{"$f":"IF(L287=\"\",\"\",INDEX(referentes!$A:$B,MATCH(L287,referentes!$B:$B,0),1))","v":""},{"$f":"IF(P287=\"\",\"\",INDEX(referentes!D:E,MATCH(P287,referentes!$E:$E,0),1))","v":""},{"$f":"IF(Q287=\"\",\"\",INDEX(referentes!G:H,MATCH(Q287,referentes!$H:$H,0),1))","v":""},"",{"$f":"IF(V287=\"\",\"\",INDEX(referentes!S:T,MATCH(V287,referentes!$T:$T,0),1))","v":""},{"$f":"IF(BL287=\"\",\"\",INDEX(referentes!J:K,MATCH(BL287,referentes!$K:$K,0),1))","v":""},{"$f":"IF(BD287=\"\",\"\",INDEX(referentes!V:W,MATCH(BD287,referentes!$W:$W,0),1))","v":""},{"$f":"IF(BE287=\"\",\"\",INDEX(referentes!Y:Z,MATCH(BE287,referentes!$Z:$Z,0),1))","v":""},{"$f":"IF(BF287=\"\",\"\",INDEX(referentes!AB:AC,MATCH(BF287,referentes!$AC:$AC,0),1))","v":""},{"$f":"IF(BG287=\"\",\"\",INDEX(referentes!AE:AF,MATCH(BG287,referentes!$AF:$AF,0),1))","v":""},{"$f":"IF(AY287=\"\",\"\",INDEX(referentes!M:N,MATCH(AY287,referentes!$N:$N,0),1))","v":""},{"$f":"IF(BN287=\"\",\"\",INDEX('Otras referencias'!S:T,MATCH(BN287,'Otras referencias'!$T:$T,0),1))","v":""},{"$f":"IF(BH287=\"\",\"\",INDEX('Otras referencias'!A:B,MATCH(BH287,'Otras referencias'!$B:$B,0),1))","v":""}]
[null,0,"",null,null,"",{"$f":"IF(H288=\"\",\"\",INDEX(referentes!AU:AV,MATCH(H288,referentes!$AV:$AV,0),1))","v":""},null,{"$f":"IF(J288=\"\",\"\",INDEX('Otras referencias'!$V:$W,MATCH(J288,'Otras referencias'!$W:$W,0),1))","v":""},null,null,null,null,null,null,null,null,null,201,null,null,null,null,null,null,null,null,null,null,null,null,null,null,null,null,null,null,null,null,null,null,null,null,null,null,0,null,null,null,0,null,null,null,null,null,null,null,null,null,null,null,null,null,null,null,null,null,null,"",{"$f":"IF(C288=\"\",\"\",IF(COUNTIF($C$6:C288, C288)>1, \"\", C288))","v":""},{"$f":"IF(K288=\"\",\"\",INDEX(referentes!P:Q,MATCH(K288,referentes!$Q:$Q,0),1))","v":""},{"$f":"IF(L288=\"\",\"\",INDEX(referentes!$A:$B,MATCH(L288,referentes!$B:$B,0),1))","v":""},{"$f":"IF(P288=\"\",\"\",INDEX(referentes!D:E,MATCH(P288,referentes!$E:$E,0),1))","v":""},{"$f":"IF(Q288=\"\",\"\",INDEX(referentes!G:H,MATCH(Q288,referentes!$H:$H,0),1))","v":""},"",{"$f":"IF(V288=\"\",\"\",INDEX(referentes!S:T,MATCH(V288,referentes!$T:$T,0),1))","v":""},{"$f":"IF(BL288=\"\",\"\",INDEX(referentes!J:K,MATCH(BL288,referentes!$K:$K,0),1))","v":""},{"$f":"IF(BD288=\"\",\"\",INDEX(referentes!V:W,MATCH(BD288,referentes!$W:$W,0),1))","v":""},{"$f":"IF(BE288=\"\",\"\",INDEX(referentes!Y:Z,MATCH(BE288,referentes!$Z:$Z,0),1))","v":""},{"$f":"IF(BF288=\"\",\"\",INDEX(referentes!AB:AC,MATCH(BF288,referentes!$AC:$AC,0),1))","v":""},{"$f":"IF(BG288=\"\",\"\",INDEX(referentes!AE:AF,MATCH(BG288,referentes!$AF:$AF,0),1))","v":""},{"$f":"IF(AY288=\"\",\"\",INDEX(referentes!M:N,MATCH(AY288,referentes!$N:$N,0),1))","v":""},{"$f":"IF(BN288=\"\",\"\",INDEX('Otras referencias'!S:T,MATCH(BN288,'Otras referencias'!$T:$T,0),1))","v":""},{"$f":"IF(BH288=\"\",\"\",INDEX('Otras referencias'!A:B,MATCH(BH288,'Otras referencias'!$B:$B,0),1))","v":""}]
[null,0,"",null,null,"",{"$f":"IF(H289=\"\",\"\",INDEX(referentes!AU:AV,MATCH(H289,referentes!$AV:$AV,0),1))","v":""},null,{"$f":"IF(J289=\"\",\"\",INDEX('Otras referencias'!$V:$W,MATCH(J289,'Otras referencias'!$W:$W,0),1))","v":""},null,null,null,null,null,null,null,null,null,201,null,null,null,null,null,null,null,null,null,null,null,null,null,null,null,null,null,null,null,null,null,null,null,null,null,null,0,null,null,null,0,null,null,null,null,null,null,null,null,null,null,null,null,null,null,null,null,null,null,"",{"$f":"IF(C289=\"\",\"\",IF(COUNTIF($C$6:C289, C289)>1, \"\", C289))","v":""},{"$f":"IF(K289=\"\",\"\",INDEX(referentes!P:Q,MATCH(K289,referentes!$Q:$Q,0),1))","v":""},{"$f":"IF(L289=\"\",\"\",INDEX(referentes!$A:$B,MATCH(L289,referentes!$B:$B,0),1))","v":""},{"$f":"IF(P289=\"\",\"\",INDEX(referentes!D:E,MATCH(P289,referentes!$E:$E,0),1))","v":""},{"$f":"IF(Q289=\"\",\"\",INDEX(referentes!G:H,MATCH(Q289,referentes!$H:$H,0),1))","v":""},"",{"$f":"IF(V289=\"\",\"\",INDEX(referentes!S:T,MATCH(V289,referentes!$T:$T,0),1))","v":""},{"$f":"IF(BL289=\"\",\"\",INDEX(referentes!J:K,MATCH(BL289,referentes!$K:$K,0),1))","v":""},{"$f":"IF(BD289=\"\",\"\",INDEX(referentes!V:W,MATCH(BD289,referentes!$W:$W,0),1))","v":""},{"$f":"IF(BE289=\"\",\"\",INDEX(referentes!Y:Z,MATCH(BE289,referentes!$Z:$Z,0),1))","v":""},{"$f":"IF(BF289=\"\",\"\",INDEX(referentes!AB:AC,MATCH(BF289,referentes!$AC:$AC,0),1))","v":""},{"$f":"IF(BG289=\"\",\"\",INDEX(referentes!AE:AF,MATCH(BG289,referentes!$AF:$AF,0),1))","v":""},{"$f":"IF(AY289=\"\",\"\",INDEX(referentes!M:N,MATCH(AY289,referentes!$N:$N,0),1))","v":""},{"$f":"IF(BN289=\"\",\"\",INDEX('Otras referencias'!S:T,MATCH(BN289,'Otras referencias'!$T:$T,0),1))","v":""},{"$f":"IF(BH289=\"\",\"\",INDEX('Otras referencias'!A:B,MATCH(BH289,'Otras referencias'!$B:$B,0),1))","v":""}]
[null,0,"",null,null,"",{"$f":"IF(H290=\"\",\"\",INDEX(referentes!AU:AV,MATCH(H290,referentes!$AV:$AV,0),1))","v":""},null,{"$f":"IF(J290=\"\",\"\",INDEX('Otras referencias'!$V:$W,MATCH(J290,'Otras referencias'!$W:$W,0),1))","v":""},null,null,null,null,null,null,null,null,null,201,null,null,null,null,null,null,null,null,null,null,null,null,null,null,null,null,null,null,null,null,null,null,null,null,null,null,0,null,null,null,0,null,null,null,null,null,null,null,null,null,null,null,null,null,null,null,null,null,null,"",{"$f":"IF(C290=\"\",\"\",IF(COUNTIF($C$6:C290, C290)>1, \"\", C290))","v":""},{"$f":"IF(K290=\"\",\"\",INDEX(referentes!P:Q,MATCH(K290,referentes!$Q:$Q,0),1))","v":""},{"$f":"IF(L290=\"\",\"\",INDEX(referentes!$A:$B,MATCH(L290,referentes!$B:$B,0),1))","v":""},{"$f":"IF(P290=\"\",\"\",INDEX(referentes!D:E,MATCH(P290,referentes!$E:$E,0),1))","v":""},{"$f":"IF(Q290=\"\",\"\",INDEX(referentes!G:H,MATCH(Q290,referentes!$H:$H,0),1))","v":""},"",{"$f":"IF(V290=\"\",\"\",INDEX(referentes!S:T,MATCH(V290,referentes!$T:$T,0),1))","v":""},{"$f":"IF(BL290=\"\",\"\",INDEX(referentes!J:K,MATCH(BL290,referentes!$K:$K,0),1))","v":""},{"$f":"IF(BD290=\"\",\"\",INDEX(referentes!V:W,MATCH(BD290,referentes!$W:$W,0),1))","v":""},{"$f":"IF(BE290=\"\",\"\",INDEX(referentes!Y:Z,MATCH(BE290,referentes!$Z:$Z,0),1))","v":""},{"$f":"IF(BF290=\"\",\"\",INDEX(referentes!AB:AC,MATCH(BF290,referentes!$AC:$AC,0),1))","v":""},{"$f":"IF(BG290=\"\",\"\",INDEX(referentes!AE:AF,MATCH(BG290,referentes!$AF:$AF,0),1))","v":""},{"$f":"IF(AY290=\"\",\"\",INDEX(referentes!M:N,MATCH(AY290,referentes!$N:$N,0),1))","v":""},{"$f":"IF(BN290=\"\",\"\",INDEX('Otras referencias'!S:T,MATCH(BN290,'Otras referencias'!$T:$T,0),1))","v":""},{"$f":"IF(BH290=\"\",\"\",INDEX('Otras referencias'!A:B,MATCH(BH290,'Otras referencias'!$B:$B,0),1))","v":""}]
[null,0,"",null,null,"",{"$f":"IF(H291=\"\",\"\",INDEX(referentes!AU:AV,MATCH(H291,referentes!$AV:$AV,0),1))","v":""},null,{"$f":"IF(J291=\"\",\"\",INDEX('Otras referencias'!$V:$W,MATCH(J291,'Otras referencias'!$W:$W,0),1))","v":""},null,null,null,null,null,null,null,null,null,201,null,null,null,null,null,null,null,null,null,null,null,null,null,null,null,null,null,null,null,null,null,null,null,null,null,null,0,null,null,null,0,null,null,null,null,null,null,null,null,null,null,null,null,null,null,null,null,null,null,"",{"$f":"IF(C291=\"\",\"\",IF(COUNTIF($C$6:C291, C291)>1, \"\", C291))","v":""},{"$f":"IF(K291=\"\",\"\",INDEX(referentes!P:Q,MATCH(K291,referentes!$Q:$Q,0),1))","v":""},{"$f":"IF(L291=\"\",\"\",INDEX(referentes!$A:$B,MATCH(L291,referentes!$B:$B,0),1))","v":""},{"$f":"IF(P291=\"\",\"\",INDEX(referentes!D:E,MATCH(P291,referentes!$E:$E,0),1))","v":""},{"$f":"IF(Q291=\"\",\"\",INDEX(referentes!G:H,MATCH(Q291,referentes!$H:$H,0),1))","v":""},"",{"$f":"IF(V291=\"\",\"\",INDEX(referentes!S:T,MATCH(V291,referentes!$T:$T,0),1))","v":""},{"$f":"IF(BL291=\"\",\"\",INDEX(referentes!J:K,MATCH(BL291,referentes!$K:$K,0),1))","v":""},{"$f":"IF(BD291=\"\",\"\",INDEX(referentes!V:W,MATCH(BD291,referentes!$W:$W,0),1))","v":""},{"$f":"IF(BE291=\"\",\"\",INDEX(referentes!Y:Z,MATCH(BE291,referentes!$Z:$Z,0),1))","v":""},{"$f":"IF(BF291=\"\",\"\",INDEX(referentes!AB:AC,MATCH(BF291,referentes!$AC:$AC,0),1))","v":""},{"$f":"IF(BG291=\"\",\"\",INDEX(referentes!AE:AF,MATCH(BG291,referentes!$AF:$AF,0),1))","v":""},{"$f":"IF(AY291=\"\",\"\",INDEX(referentes!M:N,MATCH(AY291,referentes!$N:$N,0),1))","v":""},{"$f":"IF(BN291=\"\",\"\",INDEX('Otras referencias'!S:T,MATCH(BN291,'Otras referencias'!$T:$T,0),1))","v":""},{"$f":"IF(BH291=\"\",\"\",INDEX('Otras referencias'!A:B,MATCH(BH291,'Otras referencias'!$B:$B,0),1))","v":""}]
[null,0,"",null,null,"",{"$f":"IF(H292=\"\",\"\",INDEX(referentes!AU:AV,MATCH(H292,referentes!$AV:$AV,0),1))","v":""},null,{"$f":"IF(J292=\"\",\"\",INDEX('Otras referencias'!$V:$W,MATCH(J292,'Otras referencias'!$W:$W,0),1))","v":""},null,null,null,null,null,null,null,null,null,201,null,null,null,null,null,null,null,null,null,null,null,null,null,null,null,null,null,null,null,null,null,null,null,null,null,null,0,null,null,null,0,null,null,null,null,null,null,null,null,null,null,null,null,null,null,null,null,null,null,"",{"$f":"IF(C292=\"\",\"\",IF(COUNTIF($C$6:C292, C292)>1, \"\", C292))","v":""},{"$f":"IF(K292=\"\",\"\",INDEX(referentes!P:Q,MATCH(K292,referentes!$Q:$Q,0),1))","v":""},{"$f":"IF(L292=\"\",\"\",INDEX(referentes!$A:$B,MATCH(L292,referentes!$B:$B,0),1))","v":""},{"$f":"IF(P292=\"\",\"\",INDEX(referentes!D:E,MATCH(P292,referentes!$E:$E,0),1))","v":""},{"$f":"IF(Q292=\"\",\"\",INDEX(referentes!G:H,MATCH(Q292,referentes!$H:$H,0),1))","v":""},"",{"$f":"IF(V292=\"\",\"\",INDEX(referentes!S:T,MATCH(V292,referentes!$T:$T,0),1))","v":""},{"$f":"IF(BL292=\"\",\"\",INDEX(referentes!J:K,MATCH(BL292,referentes!$K:$K,0),1))","v":""},{"$f":"IF(BD292=\"\",\"\",INDEX(referentes!V:W,MATCH(BD292,referentes!$W:$W,0),1))","v":""},{"$f":"IF(BE292=\"\",\"\",INDEX(referentes!Y:Z,MATCH(BE292,referentes!$Z:$Z,0),1))","v":""},{"$f":"IF(BF292=\"\",\"\",INDEX(referentes!AB:AC,MATCH(BF292,referentes!$AC:$AC,0),1))","v":""},{"$f":"IF(BG292=\"\",\"\",INDEX(referentes!AE:AF,MATCH(BG292,referentes!$AF:$AF,0),1))","v":""},{"$f":"IF(AY292=\"\",\"\",INDEX(referentes!M:N,MATCH(AY292,referentes!$N:$N,0),1))","v":""},{"$f":"IF(BN292=\"\",\"\",INDEX('Otras referencias'!S:T,MATCH(BN292,'Otras referencias'!$T:$T,0),1))","v":""},{"$f":"IF(BH292=\"\",\"\",INDEX('Otras referencias'!A:B,MATCH(BH292,'Otras referencias'!$B:$B,0),1))","v":""}]
[null,0,"",null,null,"",{"$f":"IF(H293=\"\",\"\",INDEX(referentes!AU:AV,MATCH(H293,referentes!$AV:$AV,0),1))","v":""},null,{"$f":"IF(J293=\"\",\"\",INDEX('Otras referencias'!$V:$W,MATCH(J293,'Otras referencias'!$W:$W,0),1))","v":""},null,null,null,null,null,null,null,null,null,201,null,null,null,null,null,null,null,null,null,null,null,null,null,null,null,null,null,null,null,null,null,null,null,null,null,null,0,null,null,null,0,null,null,null,null,null,null,null,null,null,null,null,null,null,null,null,null,null,null,"",{"$f":"IF(C293=\"\",\"\",IF(COUNTIF($C$6:C293, C293)>1, \"\", C293))","v":""},{"$f":"IF(K293=\"\",\"\",INDEX(referentes!P:Q,MATCH(K293,referentes!$Q:$Q,0),1))","v":""},{"$f":"IF(L293=\"\",\"\",INDEX(referentes!$A:$B,MATCH(L293,referentes!$B:$B,0),1))","v":""},{"$f":"IF(P293=\"\",\"\",INDEX(referentes!D:E,MATCH(P293,referentes!$E:$E,0),1))","v":""},{"$f":"IF(Q293=\"\",\"\",INDEX(referentes!G:H,MATCH(Q293,referentes!$H:$H,0),1))","v":""},"",{"$f":"IF(V293=\"\",\"\",INDEX(referentes!S:T,MATCH(V293,referentes!$T:$T,0),1))","v":""},{"$f":"IF(BL293=\"\",\"\",INDEX(referentes!J:K,MATCH(BL293,referentes!$K:$K,0),1))","v":""},{"$f":"IF(BD293=\"\",\"\",INDEX(referentes!V:W,MATCH(BD293,referentes!$W:$W,0),1))","v":""},{"$f":"IF(BE293=\"\",\"\",INDEX(referentes!Y:Z,MATCH(BE293,referentes!$Z:$Z,0),1))","v":""},{"$f":"IF(BF293=\"\",\"\",INDEX(referentes!AB:AC,MATCH(BF293,referentes!$AC:$AC,0),1))","v":""},{"$f":"IF(BG293=\"\",\"\",INDEX(referentes!AE:AF,MATCH(BG293,referentes!$AF:$AF,0),1))","v":""},{"$f":"IF(AY293=\"\",\"\",INDEX(referentes!M:N,MATCH(AY293,referentes!$N:$N,0),1))","v":""},{"$f":"IF(BN293=\"\",\"\",INDEX('Otras referencias'!S:T,MATCH(BN293,'Otras referencias'!$T:$T,0),1))","v":""},{"$f":"IF(BH293=\"\",\"\",INDEX('Otras referencias'!A:B,MATCH(BH293,'Otras referencias'!$B:$B,0),1))","v":""}]
[null,0,"",null,null,"",{"$f":"IF(H294=\"\",\"\",INDEX(referentes!AU:AV,MATCH(H294,referentes!$AV:$AV,0),1))","v":""},null,{"$f":"IF(J294=\"\",\"\",INDEX('Otras referencias'!$V:$W,MATCH(J294,'Otras referencias'!$W:$W,0),1))","v":""},null,null,null,null,null,null,null,null,null,201,null,null,null,null,null,null,null,null,null,null,null,null,null,null,null,null,null,null,null,null,null,null,null,null,null,null,0,null,null,null,0,null,null,null,null,null,null,null,null,null,null,null,null,null,null,null,null,null,null,"",{"$f":"IF(C294=\"\",\"\",IF(COUNTIF($C$6:C294, C294)>1, \"\", C294))","v":""},{"$f":"IF(K294=\"\",\"\",INDEX(referentes!P:Q,MATCH(K294,referentes!$Q:$Q,0),1))","v":""},{"$f":"IF(L294=\"\",\"\",INDEX(referentes!$A:$B,MATCH(L294,referentes!$B:$B,0),1))","v":""},{"$f":"IF(P294=\"\",\"\",INDEX(referentes!D:E,MATCH(P294,referentes!$E:$E,0),1))","v":""},{"$f":"IF(Q294=\"\",\"\",INDEX(referentes!G:H,MATCH(Q294,referentes!$H:$H,0),1))","v":""},"",{"$f":"IF(V294=\"\",\"\",INDEX(referentes!S:T,MATCH(V294,referentes!$T:$T,0),1))","v":""},{"$f":"IF(BL294=\"\",\"\",INDEX(referentes!J:K,MATCH(BL294,referentes!$K:$K,0),1))","v":""},{"$f":"IF(BD294=\"\",\"\",INDEX(referentes!V:W,MATCH(BD294,referentes!$W:$W,0),1))","v":""},{"$f":"IF(BE294=\"\",\"\",INDEX(referentes!Y:Z,MATCH(BE294,referentes!$Z:$Z,0),1))","v":""},{"$f":"IF(BF294=\"\",\"\",INDEX(referentes!AB:AC,MATCH(BF294,referentes!$AC:$AC,0),1))","v":""},{"$f":"IF(BG294=\"\",\"\",INDEX(referentes!AE:AF,MATCH(BG294,referentes!$AF:$AF,0),1))","v":""},{"$f":"IF(AY294=\"\",\"\",INDEX(referentes!M:N,MATCH(AY294,referentes!$N:$N,0),1))","v":""},{"$f":"IF(BN294=\"\",\"\",INDEX('Otras referencias'!S:T,MATCH(BN294,'Otras referencias'!$T:$T,0),1))","v":""},{"$f":"IF(BH294=\"\",\"\",INDEX('Otras referencias'!A:B,MATCH(BH294,'Otras referencias'!$B:$B,0),1))","v":""}]
[null,0,"",null,null,"",{"$f":"IF(H295=\"\",\"\",INDEX(referentes!AU:AV,MATCH(H295,referentes!$AV:$AV,0),1))","v":""},null,{"$f":"IF(J295=\"\",\"\",INDEX('Otras referencias'!$V:$W,MATCH(J295,'Otras referencias'!$W:$W,0),1))","v":""},null,null,null,null,null,null,null,null,null,201,null,null,null,null,null,null,null,null,null,null,null,null,null,null,null,null,null,null,null,null,null,null,null,null,null,null,0,null,null,null,0,null,null,null,null,null,null,null,null,null,null,null,null,null,null,null,null,null,null,"",{"$f":"IF(C295=\"\",\"\",IF(COUNTIF($C$6:C295, C295)>1, \"\", C295))","v":""},{"$f":"IF(K295=\"\",\"\",INDEX(referentes!P:Q,MATCH(K295,referentes!$Q:$Q,0),1))","v":""},{"$f":"IF(L295=\"\",\"\",INDEX(referentes!$A:$B,MATCH(L295,referentes!$B:$B,0),1))","v":""},{"$f":"IF(P295=\"\",\"\",INDEX(referentes!D:E,MATCH(P295,referentes!$E:$E,0),1))","v":""},{"$f":"IF(Q295=\"\",\"\",INDEX(referentes!G:H,MATCH(Q295,referentes!$H:$H,0),1))","v":""},"",{"$f":"IF(V295=\"\",\"\",INDEX(referentes!S:T,MATCH(V295,referentes!$T:$T,0),1))","v":""},{"$f":"IF(BL295=\"\",\"\",INDEX(referentes!J:K,MATCH(BL295,referentes!$K:$K,0),1))","v":""},{"$f":"IF(BD295=\"\",\"\",INDEX(referentes!V:W,MATCH(BD295,referentes!$W:$W,0),1))","v":""},{"$f":"IF(BE295=\"\",\"\",INDEX(referentes!Y:Z,MATCH(BE295,referentes!$Z:$Z,0),1))","v":""},{"$f":"IF(BF295=\"\",\"\",INDEX(referentes!AB:AC,MATCH(BF295,referentes!$AC:$AC,0),1))","v":""},{"$f":"IF(BG295=\"\",\"\",INDEX(referentes!AE:AF,MATCH(BG295,referentes!$AF:$AF,0),1))","v":""},{"$f":"IF(AY295=\"\",\"\",INDEX(referentes!M:N,MATCH(AY295,referentes!$N:$N,0),1))","v":""},{"$f":"IF(BN295=\"\",\"\",INDEX('Otras referencias'!S:T,MATCH(BN295,'Otras referencias'!$T:$T,0),1))","v":""},{"$f":"IF(BH295=\"\",\"\",INDEX('Otras referencias'!A:B,MATCH(BH295,'Otras referencias'!$B:$B,0),1))","v":""}]
[null,0,"",null,null,"",{"$f":"IF(H296=\"\",\"\",INDEX(referentes!AU:AV,MATCH(H296,referentes!$AV:$AV,0),1))","v":""},null,{"$f":"IF(J296=\"\",\"\",INDEX('Otras referencias'!$V:$W,MATCH(J296,'Otras referencias'!$W:$W,0),1))","v":""},null,null,null,null,null,null,null,null,null,201,null,null,null,null,null,null,null,null,null,null,null,null,null,null,null,null,null,null,null,null,null,null,null,null,null,null,0,null,null,null,0,null,null,null,null,null,null,null,null,null,null,null,null,null,null,null,null,null,null,"",{"$f":"IF(C296=\"\",\"\",IF(COUNTIF($C$6:C296, C296)>1, \"\", C296))","v":""},{"$f":"IF(K296=\"\",\"\",INDEX(referentes!P:Q,MATCH(K296,referentes!$Q:$Q,0),1))","v":""},{"$f":"IF(L296=\"\",\"\",INDEX(referentes!$A:$B,MATCH(L296,referentes!$B:$B,0),1))","v":""},{"$f":"IF(P296=\"\",\"\",INDEX(referentes!D:E,MATCH(P296,referentes!$E:$E,0),1))","v":""},{"$f":"IF(Q296=\"\",\"\",INDEX(referentes!G:H,MATCH(Q296,referentes!$H:$H,0),1))","v":""},"",{"$f":"IF(V296=\"\",\"\",INDEX(referentes!S:T,MATCH(V296,referentes!$T:$T,0),1))","v":""},{"$f":"IF(BL296=\"\",\"\",INDEX(referentes!J:K,MATCH(BL296,referentes!$K:$K,0),1))","v":""},{"$f":"IF(BD296=\"\",\"\",INDEX(referentes!V:W,MATCH(BD296,referentes!$W:$W,0),1))","v":""},{"$f":"IF(BE296=\"\",\"\",INDEX(referentes!Y:Z,MATCH(BE296,referentes!$Z:$Z,0),1))","v":""},{"$f":"IF(BF296=\"\",\"\",INDEX(referentes!AB:AC,MATCH(BF296,referentes!$AC:$AC,0),1))","v":""},{"$f":"IF(BG296=\"\",\"\",INDEX(referentes!AE:AF,MATCH(BG296,referentes!$AF:$AF,0),1))","v":""},{"$f":"IF(AY296=\"\",\"\",INDEX(referentes!M:N,MATCH(AY296,referentes!$N:$N,0),1))","v":""},{"$f":"IF(BN296=\"\",\"\",INDEX('Otras referencias'!S:T,MATCH(BN296,'Otras referencias'!$T:$T,0),1))","v":""},{"$f":"IF(BH296=\"\",\"\",INDEX('Otras referencias'!A:B,MATCH(BH296,'Otras referencias'!$B:$B,0),1))","v":""}]
[null,0,"",null,null,"",{"$f":"IF(H297=\"\",\"\",INDEX(referentes!AU:AV,MATCH(H297,referentes!$AV:$AV,0),1))","v":""},null,{"$f":"IF(J297=\"\",\"\",INDEX('Otras referencias'!$V:$W,MATCH(J297,'Otras referencias'!$W:$W,0),1))","v":""},null,null,null,null,null,null,null,null,null,201,null,null,null,null,null,null,null,null,null,null,null,null,null,null,null,null,null,null,null,null,null,null,null,null,null,null,0,null,null,null,0,null,null,null,null,null,null,null,null,null,null,null,null,null,null,null,null,null,null,"",{"$f":"IF(C297=\"\",\"\",IF(COUNTIF($C$6:C297, C297)>1, \"\", C297))","v":""},{"$f":"IF(K297=\"\",\"\",INDEX(referentes!P:Q,MATCH(K297,referentes!$Q:$Q,0),1))","v":""},{"$f":"IF(L297=\"\",\"\",INDEX(referentes!$A:$B,MATCH(L297,referentes!$B:$B,0),1))","v":""},{"$f":"IF(P297=\"\",\"\",INDEX(referentes!D:E,MATCH(P297,referentes!$E:$E,0),1))","v":""},{"$f":"IF(Q297=\"\",\"\",INDEX(referentes!G:H,MATCH(Q297,referentes!$H:$H,0),1))","v":""},"",{"$f":"IF(V297=\"\",\"\",INDEX(referentes!S:T,MATCH(V297,referentes!$T:$T,0),1))","v":""},{"$f":"IF(BL297=\"\",\"\",INDEX(referentes!J:K,MATCH(BL297,referentes!$K:$K,0),1))","v":""},{"$f":"IF(BD297=\"\",\"\",INDEX(referentes!V:W,MATCH(BD297,referentes!$W:$W,0),1))","v":""},{"$f":"IF(BE297=\"\",\"\",INDEX(referentes!Y:Z,MATCH(BE297,referentes!$Z:$Z,0),1))","v":""},{"$f":"IF(BF297=\"\",\"\",INDEX(referentes!AB:AC,MATCH(BF297,referentes!$AC:$AC,0),1))","v":""},{"$f":"IF(BG297=\"\",\"\",INDEX(referentes!AE:AF,MATCH(BG297,referentes!$AF:$AF,0),1))","v":""},{"$f":"IF(AY297=\"\",\"\",INDEX(referentes!M:N,MATCH(AY297,referentes!$N:$N,0),1))","v":""},{"$f":"IF(BN297=\"\",\"\",INDEX('Otras referencias'!S:T,MATCH(BN297,'Otras referencias'!$T:$T,0),1))","v":""},{"$f":"IF(BH297=\"\",\"\",INDEX('Otras referencias'!A:B,MATCH(BH297,'Otras referencias'!$B:$B,0),1))","v":""}]
[null,0,"",null,null,"",{"$f":"IF(H298=\"\",\"\",INDEX(referentes!AU:AV,MATCH(H298,referentes!$AV:$AV,0),1))","v":""},null,{"$f":"IF(J298=\"\",\"\",INDEX('Otras referencias'!$V:$W,MATCH(J298,'Otras referencias'!$W:$W,0),1))","v":""},null,null,null,null,null,null,null,null,null,201,null,null,null,null,null,null,null,null,null,null,null,null,null,null,null,null,null,null,null,null,null,null,null,null,null,null,0,null,null,null,0,null,null,null,null,null,null,null,null,null,null,null,null,null,null,null,null,null,null,"",{"$f":"IF(C298=\"\",\"\",IF(COUNTIF($C$6:C298, C298)>1, \"\", C298))","v":""},{"$f":"IF(K298=\"\",\"\",INDEX(referentes!P:Q,MATCH(K298,referentes!$Q:$Q,0),1))","v":""},{"$f":"IF(L298=\"\",\"\",INDEX(referentes!$A:$B,MATCH(L298,referentes!$B:$B,0),1))","v":""},{"$f":"IF(P298=\"\",\"\",INDEX(referentes!D:E,MATCH(P298,referentes!$E:$E,0),1))","v":""},{"$f":"IF(Q298=\"\",\"\",INDEX(referentes!G:H,MATCH(Q298,referentes!$H:$H,0),1))","v":""},"",{"$f":"IF(V298=\"\",\"\",INDEX(referentes!S:T,MATCH(V298,referentes!$T:$T,0),1))","v":""},{"$f":"IF(BL298=\"\",\"\",INDEX(referentes!J:K,MATCH(BL298,referentes!$K:$K,0),1))","v":""},{"$f":"IF(BD298=\"\",\"\",INDEX(referentes!V:W,MATCH(BD298,referentes!$W:$W,0),1))","v":""},{"$f":"IF(BE298=\"\",\"\",INDEX(referentes!Y:Z,MATCH(BE298,referentes!$Z:$Z,0),1))","v":""},{"$f":"IF(BF298=\"\",\"\",INDEX(referentes!AB:AC,MATCH(BF298,referentes!$AC:$AC,0),1))","v":""},{"$f":"IF(BG298=\"\",\"\",INDEX(referentes!AE:AF,MATCH(BG298,referentes!$AF:$AF,0),1))","v":""},{"$f":"IF(AY298=\"\",\"\",INDEX(referentes!M:N,MATCH(AY298,referentes!$N:$N,0),1))","v":""},{"$f":"IF(BN298=\"\",\"\",INDEX('Otras referencias'!S:T,MATCH(BN298,'Otras referencias'!$T:$T,0),1))","v":""},{"$f":"IF(BH298=\"\",\"\",INDEX('Otras referencias'!A:B,MATCH(BH298,'Otras referencias'!$B:$B,0),1))","v":""}]
[null,0,"",null,null,"",{"$f":"IF(H299=\"\",\"\",INDEX(referentes!AU:AV,MATCH(H299,referentes!$AV:$AV,0),1))","v":""},null,{"$f":"IF(J299=\"\",\"\",INDEX('Otras referencias'!$V:$W,MATCH(J299,'Otras referencias'!$W:$W,0),1))","v":""},null,null,null,null,null,null,null,null,null,201,null,null,null,null,null,null,null,null,null,null,null,null,null,null,null,null,null,null,null,null,null,null,null,null,null,null,0,null,null,null,0,null,null,null,null,null,null,null,null,null,null,null,null,null,null,null,null,null,null,"",{"$f":"IF(C299=\"\",\"\",IF(COUNTIF($C$6:C299, C299)>1, \"\", C299))","v":""},{"$f":"IF(K299=\"\",\"\",INDEX(referentes!P:Q,MATCH(K299,referentes!$Q:$Q,0),1))","v":""},{"$f":"IF(L299=\"\",\"\",INDEX(referentes!$A:$B,MATCH(L299,referentes!$B:$B,0),1))","v":""},{"$f":"IF(P299=\"\",\"\",INDEX(referentes!D:E,MATCH(P299,referentes!$E:$E,0),1))","v":""},{"$f":"IF(Q299=\"\",\"\",INDEX(referentes!G:H,MATCH(Q299,referentes!$H:$H,0),1))","v":""},"",{"$f":"IF(V299=\"\",\"\",INDEX(referentes!S:T,MATCH(V299,referentes!$T:$T,0),1))","v":""},{"$f":"IF(BL299=\"\",\"\",INDEX(referentes!J:K,MATCH(BL299,referentes!$K:$K,0),1))","v":""},{"$f":"IF(BD299=\"\",\"\",INDEX(referentes!V:W,MATCH(BD299,referentes!$W:$W,0),1))","v":""},{"$f":"IF(BE299=\"\",\"\",INDEX(referentes!Y:Z,MATCH(BE299,referentes!$Z:$Z,0),1))","v":""},{"$f":"IF(BF299=\"\",\"\",INDEX(referentes!AB:AC,MATCH(BF299,referentes!$AC:$AC,0),1))","v":""},{"$f":"IF(BG299=\"\",\"\",INDEX(referentes!AE:AF,MATCH(BG299,referentes!$AF:$AF,0),1))","v":""},{"$f":"IF(AY299=\"\",\"\",INDEX(referentes!M:N,MATCH(AY299,referentes!$N:$N,0),1))","v":""},{"$f":"IF(BN299=\"\",\"\",INDEX('Otras referencias'!S:T,MATCH(BN299,'Otras referencias'!$T:$T,0),1))","v":""},{"$f":"IF(BH299=\"\",\"\",INDEX('Otras referencias'!A:B,MATCH(BH299,'Otras referencias'!$B:$B,0),1))","v":""}]
[null,0,"",null,null,"",{"$f":"IF(H300=\"\",\"\",INDEX(referentes!AU:AV,MATCH(H300,referentes!$AV:$AV,0),1))","v":""},null,{"$f":"IF(J300=\"\",\"\",INDEX('Otras referencias'!$V:$W,MATCH(J300,'Otras referencias'!$W:$W,0),1))","v":""},null,null,null,null,null,null,null,null,null,201,null,null,null,null,null,null,null,null,null,null,null,null,null,null,null,null,null,null,null,null,null,null,null,null,null,null,0,null,null,null,0,null,null,null,null,null,null,null,null,null,null,null,null,null,null,null,null,null,null,"",{"$f":"IF(C300=\"\",\"\",IF(COUNTIF($C$6:C300, C300)>1, \"\", C300))","v":""},{"$f":"IF(K300=\"\",\"\",INDEX(referentes!P:Q,MATCH(K300,referentes!$Q:$Q,0),1))","v":""},{"$f":"IF(L300=\"\",\"\",INDEX(referentes!$A:$B,MATCH(L300,referentes!$B:$B,0),1))","v":""},{"$f":"IF(P300=\"\",\"\",INDEX(referentes!D:E,MATCH(P300,referentes!$E:$E,0),1))","v":""},{"$f":"IF(Q300=\"\",\"\",INDEX(referentes!G:H,MATCH(Q300,referentes!$H:$H,0),1))","v":""},"",{"$f":"IF(V300=\"\",\"\",INDEX(referentes!S:T,MATCH(V300,referentes!$T:$T,0),1))","v":""},{"$f":"IF(BL300=\"\",\"\",INDEX(referentes!J:K,MATCH(BL300,referentes!$K:$K,0),1))","v":""},{"$f":"IF(BD300=\"\",\"\",INDEX(referentes!V:W,MATCH(BD300,referentes!$W:$W,0),1))","v":""},{"$f":"IF(BE300=\"\",\"\",INDEX(referentes!Y:Z,MATCH(BE300,referentes!$Z:$Z,0),1))","v":""},{"$f":"IF(BF300=\"\",\"\",INDEX(referentes!AB:AC,MATCH(BF300,referentes!$AC:$AC,0),1))","v":""},{"$f":"IF(BG300=\"\",\"\",INDEX(referentes!AE:AF,MATCH(BG300,referentes!$AF:$AF,0),1))","v":""},{"$f":"IF(AY300=\"\",\"\",INDEX(referentes!M:N,MATCH(AY300,referentes!$N:$N,0),1))","v":""},{"$f":"IF(BN300=\"\",\"\",INDEX('Otras referencias'!S:T,MATCH(BN300,'Otras referencias'!$T:$T,0),1))","v":""},{"$f":"IF(BH300=\"\",\"\",INDEX('Otras referencias'!A:B,MATCH(BH300,'Otras referencias'!$B:$B,0),1))","v":""}]
[null,0,"",null,null,"",{"$f":"IF(H301=\"\",\"\",INDEX(referentes!AU:AV,MATCH(H301,referentes!$AV:$AV,0),1))","v":""},null,{"$f":"IF(J301=\"\",\"\",INDEX('Otras referencias'!$V:$W,MATCH(J301,'Otras referencias'!$W:$W,0),1))","v":""},null,null,null,null,null,null,null,null,null,201,null,null,null,null,null,null,null,null,null,null,null,null,null,null,null,null,null,null,null,null,null,null,null,null,null,null,0,null,null,null,0,null,null,null,null,null,null,null,null,null,null,null,null,null,null,null,null,null,null,"",{"$f":"IF(C301=\"\",\"\",IF(COUNTIF($C$6:C301, C301)>1, \"\", C301))","v":""},{"$f":"IF(K301=\"\",\"\",INDEX(referentes!P:Q,MATCH(K301,referentes!$Q:$Q,0),1))","v":""},{"$f":"IF(L301=\"\",\"\",INDEX(referentes!$A:$B,MATCH(L301,referentes!$B:$B,0),1))","v":""},{"$f":"IF(P301=\"\",\"\",INDEX(referentes!D:E,MATCH(P301,referentes!$E:$E,0),1))","v":""},{"$f":"IF(Q301=\"\",\"\",INDEX(referentes!G:H,MATCH(Q301,referentes!$H:$H,0),1))","v":""},"",{"$f":"IF(V301=\"\",\"\",INDEX(referentes!S:T,MATCH(V301,referentes!$T:$T,0),1))","v":""},{"$f":"IF(BL301=\"\",\"\",INDEX(referentes!J:K,MATCH(BL301,referentes!$K:$K,0),1))","v":""},{"$f":"IF(BD301=\"\",\"\",INDEX(referentes!V:W,MATCH(BD301,referentes!$W:$W,0),1))","v":""},{"$f":"IF(BE301=\"\",\"\",INDEX(referentes!Y:Z,MATCH(BE301,referentes!$Z:$Z,0),1))","v":""},{"$f":"IF(BF301=\"\",\"\",INDEX(referentes!AB:AC,MATCH(BF301,referentes!$AC:$AC,0),1))","v":""},{"$f":"IF(BG301=\"\",\"\",INDEX(referentes!AE:AF,MATCH(BG301,referentes!$AF:$AF,0),1))","v":""},{"$f":"IF(AY301=\"\",\"\",INDEX(referentes!M:N,MATCH(AY301,referentes!$N:$N,0),1))","v":""},{"$f":"IF(BN301=\"\",\"\",INDEX('Otras referencias'!S:T,MATCH(BN301,'Otras referencias'!$T:$T,0),1))","v":""},{"$f":"IF(BH301=\"\",\"\",INDEX('Otras referencias'!A:B,MATCH(BH301,'Otras referencias'!$B:$B,0),1))","v":""}]
[null,0,"",null,null,"",{"$f":"IF(H302=\"\",\"\",INDEX(referentes!AU:AV,MATCH(H302,referentes!$AV:$AV,0),1))","v":""},null,{"$f":"IF(J302=\"\",\"\",INDEX('Otras referencias'!$V:$W,MATCH(J302,'Otras referencias'!$W:$W,0),1))","v":""},null,null,null,null,null,null,null,null,null,201,null,null,null,null,null,null,null,null,null,null,null,null,null,null,null,null,null,null,null,null,null,null,null,null,null,null,0,null,null,null,0,null,null,null,null,null,null,null,null,null,null,null,null,null,null,null,null,null,null,"",{"$f":"IF(C302=\"\",\"\",IF(COUNTIF($C$6:C302, C302)>1, \"\", C302))","v":""},{"$f":"IF(K302=\"\",\"\",INDEX(referentes!P:Q,MATCH(K302,referentes!$Q:$Q,0),1))","v":""},{"$f":"IF(L302=\"\",\"\",INDEX(referentes!$A:$B,MATCH(L302,referentes!$B:$B,0),1))","v":""},{"$f":"IF(P302=\"\",\"\",INDEX(referentes!D:E,MATCH(P302,referentes!$E:$E,0),1))","v":""},{"$f":"IF(Q302=\"\",\"\",INDEX(referentes!G:H,MATCH(Q302,referentes!$H:$H,0),1))","v":""},"",{"$f":"IF(V302=\"\",\"\",INDEX(referentes!S:T,MATCH(V302,referentes!$T:$T,0),1))","v":""},{"$f":"IF(BL302=\"\",\"\",INDEX(referentes!J:K,MATCH(BL302,referentes!$K:$K,0),1))","v":""},{"$f":"IF(BD302=\"\",\"\",INDEX(referentes!V:W,MATCH(BD302,referentes!$W:$W,0),1))","v":""},{"$f":"IF(BE302=\"\",\"\",INDEX(referentes!Y:Z,MATCH(BE302,referentes!$Z:$Z,0),1))","v":""},{"$f":"IF(BF302=\"\",\"\",INDEX(referentes!AB:AC,MATCH(BF302,referentes!$AC:$AC,0),1))","v":""},{"$f":"IF(BG302=\"\",\"\",INDEX(referentes!AE:AF,MATCH(BG302,referentes!$AF:$AF,0),1))","v":""},{"$f":"IF(AY302=\"\",\"\",INDEX(referentes!M:N,MATCH(AY302,referentes!$N:$N,0),1))","v":""},{"$f":"IF(BN302=\"\",\"\",INDEX('Otras referencias'!S:T,MATCH(BN302,'Otras referencias'!$T:$T,0),1))","v":""},{"$f":"IF(BH302=\"\",\"\",INDEX('Otras referencias'!A:B,MATCH(BH302,'Otras referencias'!$B:$B,0),1))","v":""}]
[null,0,"",null,null,"",{"$f":"IF(H303=\"\",\"\",INDEX(referentes!AU:AV,MATCH(H303,referentes!$AV:$AV,0),1))","v":""},null,{"$f":"IF(J303=\"\",\"\",INDEX('Otras referencias'!$V:$W,MATCH(J303,'Otras referencias'!$W:$W,0),1))","v":""},null,null,null,null,null,null,null,null,null,201,null,null,null,null,null,null,null,null,null,null,null,null,null,null,null,null,null,null,null,null,null,null,null,null,null,null,0,null,null,null,0,null,null,null,null,null,null,null,null,null,null,null,null,null,null,null,null,null,null,"",{"$f":"IF(C303=\"\",\"\",IF(COUNTIF($C$6:C303, C303)>1, \"\", C303))","v":""},{"$f":"IF(K303=\"\",\"\",INDEX(referentes!P:Q,MATCH(K303,referentes!$Q:$Q,0),1))","v":""},{"$f":"IF(L303=\"\",\"\",INDEX(referentes!$A:$B,MATCH(L303,referentes!$B:$B,0),1))","v":""},{"$f":"IF(P303=\"\",\"\",INDEX(referentes!D:E,MATCH(P303,referentes!$E:$E,0),1))","v":""},{"$f":"IF(Q303=\"\",\"\",INDEX(referentes!G:H,MATCH(Q303,referentes!$H:$H,0),1))","v":""},"",{"$f":"IF(V303=\"\",\"\",INDEX(referentes!S:T,MATCH(V303,referentes!$T:$T,0),1))","v":""},{"$f":"IF(BL303=\"\",\"\",INDEX(referentes!J:K,MATCH(BL303,referentes!$K:$K,0),1))","v":""},{"$f":"IF(BD303=\"\",\"\",INDEX(referentes!V:W,MATCH(BD303,referentes!$W:$W,0),1))","v":""},{"$f":"IF(BE303=\"\",\"\",INDEX(referentes!Y:Z,MATCH(BE303,referentes!$Z:$Z,0),1))","v":""},{"$f":"IF(BF303=\"\",\"\",INDEX(referentes!AB:AC,MATCH(BF303,referentes!$AC:$AC,0),1))","v":""},{"$f":"IF(BG303=\"\",\"\",INDEX(referentes!AE:AF,MATCH(BG303,referentes!$AF:$AF,0),1))","v":""},{"$f":"IF(AY303=\"\",\"\",INDEX(referentes!M:N,MATCH(AY303,referentes!$N:$N,0),1))","v":""},{"$f":"IF(BN303=\"\",\"\",INDEX('Otras referencias'!S:T,MATCH(BN303,'Otras referencias'!$T:$T,0),1))","v":""},{"$f":"IF(BH303=\"\",\"\",INDEX('Otras referencias'!A:B,MATCH(BH303,'Otras referencias'!$B:$B,0),1))","v":""}]
[null,0,"",null,null,"",{"$f":"IF(H304=\"\",\"\",INDEX(referentes!AU:AV,MATCH(H304,referentes!$AV:$AV,0),1))","v":""},null,{"$f":"IF(J304=\"\",\"\",INDEX('Otras referencias'!$V:$W,MATCH(J304,'Otras referencias'!$W:$W,0),1))","v":""},null,null,null,null,null,null,null,null,null,201,null,null,null,null,null,null,null,null,null,null,null,null,null,null,null,null,null,null,null,null,null,null,null,null,null,null,0,null,null,null,0,null,null,null,null,null,null,null,null,null,null,null,null,null,null,null,null,null,null,"",{"$f":"IF(C304=\"\",\"\",IF(COUNTIF($C$6:C304, C304)>1, \"\", C304))","v":""},{"$f":"IF(K304=\"\",\"\",INDEX(referentes!P:Q,MATCH(K304,referentes!$Q:$Q,0),1))","v":""},{"$f":"IF(L304=\"\",\"\",INDEX(referentes!$A:$B,MATCH(L304,referentes!$B:$B,0),1))","v":""},{"$f":"IF(P304=\"\",\"\",INDEX(referentes!D:E,MATCH(P304,referentes!$E:$E,0),1))","v":""},{"$f":"IF(Q304=\"\",\"\",INDEX(referentes!G:H,MATCH(Q304,referentes!$H:$H,0),1))","v":""},"",{"$f":"IF(V304=\"\",\"\",INDEX(referentes!S:T,MATCH(V304,referentes!$T:$T,0),1))","v":""},{"$f":"IF(BL304=\"\",\"\",INDEX(referentes!J:K,MATCH(BL304,referentes!$K:$K,0),1))","v":""},{"$f":"IF(BD304=\"\",\"\",INDEX(referentes!V:W,MATCH(BD304,referentes!$W:$W,0),1))","v":""},{"$f":"IF(BE304=\"\",\"\",INDEX(referentes!Y:Z,MATCH(BE304,referentes!$Z:$Z,0),1))","v":""},{"$f":"IF(BF304=\"\",\"\",INDEX(referentes!AB:AC,MATCH(BF304,referentes!$AC:$AC,0),1))","v":""},{"$f":"IF(BG304=\"\",\"\",INDEX(referentes!AE:AF,MATCH(BG304,referentes!$AF:$AF,0),1))","v":""},{"$f":"IF(AY304=\"\",\"\",INDEX(referentes!M:N,MATCH(AY304,referentes!$N:$N,0),1))","v":""},{"$f":"IF(BN304=\"\",\"\",INDEX('Otras referencias'!S:T,MATCH(BN304,'Otras referencias'!$T:$T,0),1))","v":""},{"$f":"IF(BH304=\"\",\"\",INDEX('Otras referencias'!A:B,MATCH(BH304,'Otras referencias'!$B:$B,0),1))","v":""}]
[null,0,"",null,null,"",{"$f":"IF(H305=\"\",\"\",INDEX(referentes!AU:AV,MATCH(H305,referentes!$AV:$AV,0),1))","v":""},null,{"$f":"IF(J305=\"\",\"\",INDEX('Otras referencias'!$V:$W,MATCH(J305,'Otras referencias'!$W:$W,0),1))","v":""},null,null,null,null,null,null,null,null,null,201,null,null,null,null,null,null,null,null,null,null,null,null,null,null,null,null,null,null,null,null,null,null,null,null,null,null,0,null,null,null,0,null,null,null,null,null,null,null,null,null,null,null,null,null,null,null,null,null,null,"",{"$f":"IF(C305=\"\",\"\",IF(COUNTIF($C$6:C305, C305)>1, \"\", C305))","v":""},{"$f":"IF(K305=\"\",\"\",INDEX(referentes!P:Q,MATCH(K305,referentes!$Q:$Q,0),1))","v":""},{"$f":"IF(L305=\"\",\"\",INDEX(referentes!$A:$B,MATCH(L305,referentes!$B:$B,0),1))","v":""},{"$f":"IF(P305=\"\",\"\",INDEX(referentes!D:E,MATCH(P305,referentes!$E:$E,0),1))","v":""},{"$f":"IF(Q305=\"\",\"\",INDEX(referentes!G:H,MATCH(Q305,referentes!$H:$H,0),1))","v":""},"",{"$f":"IF(V305=\"\",\"\",INDEX(referentes!S:T,MATCH(V305,referentes!$T:$T,0),1))","v":""},{"$f":"IF(BL305=\"\",\"\",INDEX(referentes!J:K,MATCH(BL305,referentes!$K:$K,0),1))","v":""},{"$f":"IF(BD305=\"\",\"\",INDEX(referentes!V:W,MATCH(BD305,referentes!$W:$W,0),1))","v":""},{"$f":"IF(BE305=\"\",\"\",INDEX(referentes!Y:Z,MATCH(BE305,referentes!$Z:$Z,0),1))","v":""},{"$f":"IF(BF305=\"\",\"\",INDEX(referentes!AB:AC,MATCH(BF305,referentes!$AC:$AC,0),1))","v":""},{"$f":"IF(BG305=\"\",\"\",INDEX(referentes!AE:AF,MATCH(BG305,referentes!$AF:$AF,0),1))","v":""},{"$f":"IF(AY305=\"\",\"\",INDEX(referentes!M:N,MATCH(AY305,referentes!$N:$N,0),1))","v":""},{"$f":"IF(BN305=\"\",\"\",INDEX('Otras referencias'!S:T,MATCH(BN305,'Otras referencias'!$T:$T,0),1))","v":""},{"$f":"IF(BH305=\"\",\"\",INDEX('Otras referencias'!A:B,MATCH(BH305,'Otras referencias'!$B:$B,0),1))","v":""}]
[null,0,"",null,null,"",{"$f":"IF(H306=\"\",\"\",INDEX(referentes!AU:AV,MATCH(H306,referentes!$AV:$AV,0),1))","v":""},null,{"$f":"IF(J306=\"\",\"\",INDEX('Otras referencias'!$V:$W,MATCH(J306,'Otras referencias'!$W:$W,0),1))","v":""},null,null,null,null,null,null,null,null,null,201,null,null,null,null,null,null,null,null,null,null,null,null,null,null,null,null,null,null,null,null,null,null,null,null,null,null,0,null,null,null,0,null,null,null,null,null,null,null,null,null,null,null,null,null,null,null,null,null,null,"",{"$f":"IF(C306=\"\",\"\",IF(COUNTIF($C$6:C306, C306)>1, \"\", C306))","v":""},{"$f":"IF(K306=\"\",\"\",INDEX(referentes!P:Q,MATCH(K306,referentes!$Q:$Q,0),1))","v":""},{"$f":"IF(L306=\"\",\"\",INDEX(referentes!$A:$B,MATCH(L306,referentes!$B:$B,0),1))","v":""},{"$f":"IF(P306=\"\",\"\",INDEX(referentes!D:E,MATCH(P306,referentes!$E:$E,0),1))","v":""},{"$f":"IF(Q306=\"\",\"\",INDEX(referentes!G:H,MATCH(Q306,referentes!$H:$H,0),1))","v":""},"",{"$f":"IF(V306=\"\",\"\",INDEX(referentes!S:T,MATCH(V306,referentes!$T:$T,0),1))","v":""},{"$f":"IF(BL306=\"\",\"\",INDEX(referentes!J:K,MATCH(BL306,referentes!$K:$K,0),1))","v":""},{"$f":"IF(BD306=\"\",\"\",INDEX(referentes!V:W,MATCH(BD306,referentes!$W:$W,0),1))","v":""},{"$f":"IF(BE306=\"\",\"\",INDEX(referentes!Y:Z,MATCH(BE306,referentes!$Z:$Z,0),1))","v":""},{"$f":"IF(BF306=\"\",\"\",INDEX(referentes!AB:AC,MATCH(BF306,referentes!$AC:$AC,0),1))","v":""},{"$f":"IF(BG306=\"\",\"\",INDEX(referentes!AE:AF,MATCH(BG306,referentes!$AF:$AF,0),1))","v":""},{"$f":"IF(AY306=\"\",\"\",INDEX(referentes!M:N,MATCH(AY306,referentes!$N:$N,0),1))","v":""},{"$f":"IF(BN306=\"\",\"\",INDEX('Otras referencias'!S:T,MATCH(BN306,'Otras referencias'!$T:$T,0),1))","v":""},{"$f":"IF(BH306=\"\",\"\",INDEX('Otras referencias'!A:B,MATCH(BH306,'Otras referencias'!$B:$B,0),1))","v":""}]

{"sheet":"referentes","index":4,"n_rows":53,"n_cols":48,"rows_kept":53,"cut":false,"hidden":false,"merged":[]}
["AG_LOV",1080,null,"AG_LOV",1079,null,"AG_LOV",1081,null,"AG_LOV",1084,null,"AG_LOV",1092,null,"AG_LOV",1082,null,"AG_LOV",1083,null,"AG_LOV",1095,null,"AG_LOV",1096,null,"AG_LOV",1097,null,"AG_LOV",1098,null,"AGM_PARAMETROS",98,null,null,null,null,"Lugar","prefijo_cdg_est_loc","secuencia_loc","codigo_estacion_loc","descripcion_estacion_loc",null,null,"codigo","nombre"]
[1,"Dragado",null,1,"Duna",null,1,"Refrigerado",null,3448,"Folk R. 1954. Jour. Geology 62, 344–359",null,1,"Grava",null,1,"LABCAM",null,1,"Inferior",null,1,"Grava",null,1,"Seleccion muy buena",null,1,"Asimetrica muy fina",null,1,"Muy platicurtico",null,388,"1 - 2 mm",null,null,null,null,"Bloque de exploración de hidrocarburos COL 3","E",49537,551,"Biologica / Oceanografica",null,null,1892," INVEMAR_BEM"]
[2,"Toma manual",null,2,"Río",null,2,"Ambiente seco",null,3449,"Wentworth (1922)",null,2,"Grava arenosa",null,2,"LABIMA",null,2,"Intermedio",null,2,"Arena muy gruesa",null,2,"selección buena",null,2,"Asimetrica fina",null,2,"Platicurtico",null,389,"0,5 - 1 mm",null,null,null,null,"Bloque de exploración de hidrocarburos COL 3","E",49539,553,"Biologica / Oceanografica",null,null,3177,". Administrador SIBM"]
[3,"Box corer",null,3,"Laguna costera",null,3,"Ambiente humedo",null,3450,"Shepard (1954)",null,3,"Grava lodosa",null,3,"GEO",null,3,"Superior",null,3,"Arena gruesa",null,3,"Selección moderadamente buena",null,3,"Simetrica",null,3,"Mesocurtico",null,390,"0,25 - 0,5 mm",null,null,null,null,"Bloque de exploración de hidrocarburos COL 3","E",49541,555,"Biologica / Oceanografica",null,null,5790,"Alberto Martínez Marti"]
[null,null,null,4,"Playa",null,4,"Congelado",null,null,null,null,4,"Arena gravosa",null,null,null,null,4,"Unica Seccion",null,4,"Arena media",null,4,"Selección moderada ",null,4,"Asimetrica Gruesa",null,4,"Leptocurtico",null,391,"0,125 - 0,25 mm",null,null,null,null,"Bloque de exploración de hidrocarburos COL 3","E",49542,556,"Biologica / Oceanografica",null,null,5845,"Alfredo Luis Rodriguez Jimenez"]
[null,null,null,5,"Supramareal",null,null,null,null,null,null,null,5,"Arena lodosa gravosa",null,null,null,null,null,null,null,5,"arena fina",null,5,"Selección pobre",null,5,"Asimetrica muy gruesa",null,5,"Muy leptocurtico",null,392,"0,063 - 0,125 mm",null,null,null,null,"Bloque de exploración de hidrocarburos COL 3","E",49543,557,"Biologica / Oceanografica",null,null,5789,"Andrés Martínez Hernández"]
[null,null,null,6,"Mesomareal",null,null,null,null,null,null,null,6,"Grava arenosa lodosa",null,null,null,null,null,null,null,6,"arena muy fina",null,6,"Selección muy pobre",null,null,null,null,6,"Extremadamente leptocurtico",null,393,"< 0,063 mm",null,null,null,null,"Bloque de exploración de hidrocarburos COL 3","E",49544,558,"Biologica",null,null,5794,"Astrid Jhoamna Romero Quete"]
[null,null,null,7,"Inframareal",null,null,null,null,null,null,null,7,"Lodo gravoso",null,null,null,null,null,null,null,7,"limo grueso ",null,7,"Selección extremadamnete pobre",null,null,null,null,null,null,null,470,">2 mm",null,null,null,null,"Bloque de exploración de hidrocarburos COL 3","E",49545,559,"Biologica / Oceanografica",null,null,3170,"Blanca Oliva Posada posada"]
[null,null,null,8,"Rompiente",null,null,null,null,null,null,null,8,"Arena",null,null,null,null,null,null,null,8,"limo medio",null,null,null,null,null,null,null,null,null,null,549,"0,032 - 0,063 mm",null,null,null,null,"Bloque de exploración de hidrocarburos COL 3","E",49547,561,"Biologica / Oceanografica",null,null,5458,"Camila Padilla"]
[null,null,null,9,"Fondo",null,null,null,null,null,null,null,9,"Arena lodosa",null,null,null,null,null,null,null,9,"limo fino",null,null,null,null,null,null,null,null,null,null,550,"0,016 - 0,032 mm",null,null,null,null,"Bloque de exploración de hidrocarburos COL 3","E",49548,562,"Biologica / Oceanografica",null,null,3176,"Carlos Henry"]
[null,null,null,10,"Plataforma continental",null,null,null,null,null,null,null,10,"Lodo arenoso",null,null,null,null,null,null,null,10,"arcilla",null,null,null,null,null,null,null,null,null,null,551,"0,008 - 0,016 mm",null,null,null,null,"Bloque de exploración de hidrocarburos COL 3","E",49549,563,"Biologica / Oceanografica",null,null,4089,"Carlos Peña"]
[null,null,null,11,"Plataforma insular",null,null,null,null,null,null,null,11,"Lodo",null,null,null,null,null,null,null,11,"limo muy grueso ",null,null,null,null,null,null,null,null,null,null,552,"0,004 - 0,008 mm",null,null,null,null,"Bloque de exploración de hidrocarburos COL 3","E",49550,564,"Biologica / Oceanografica",null,null,5847,"Claudia Ximena Correa Rojas"]
[null,null,null,12,"Indefinido",null,null,null,null,null,null,null,12,"Arena lodosa levemente gravosa",null,null,null,null,null,null,null,null,null,null,null,null,null,null,null,null,null,null,null,553,"< 0,004 mm",null,null,null,null,"Bloque de exploración de hidrocarburos COL 3","E",49551,565,"Biologica / Oceanografica",null,null,5876,"Cristian Fernando Vecino Salcedo "]
[null,null,null,13,"Otro",null,null,null,null,null,null,null,13,"Arena levemente gravosa",null,null,null,null,null,null,null,null,null,null,null,null,null,null,null,null,null,null,null,1145,"0,063 - 2 mm",null,null,null,null,"Bloque de exploración de hidrocarburos COL 3","E",49552,566,"Biologica / Oceanografica",null,null,5785,"Dalmiro Gaméz Ramírez"]
[null,null,null,null,null,null,null,null,null,null,null,null,14,"Lodo levemente gravoso",null,null,null,null,null,null,null,null,null,null,null,null,null,null,null,null,null,null,null,1085,"0,125 - 0,063 mm",null,null,null,null,"Bloque de exploración de hidrocarburos COL 3","E",49553,567,"Biologica / Oceanografica",null,null,5795,"Darrel Ward Taylor"]
[null,null,null,null,null,null,null,null,null,null,null,null,15,"Lodo arenoso levemente gravoso",null,null,null,null,null,null,null,null,null,null,null,null,null,null,null,null,null,null,null,1086,"0,25 - 0,125 mm",null,null,null,null,"Bloque de exploración de hidrocarburos COL 3","E",49554,568,"Biologica / Oceanografica",null,null,3174,"David Morales"]
[null,null,null,null,null,null,null,null,null,null,null,null,16,"Limo arenoso",null,null,null,null,null,null,null,null,null,null,null,null,null,null,null,null,null,null,null,1087,"0,5 - 0,25 mm",null,null,null,null,"Bloque de exploración de hidrocarburos COL 3","E",49555,569,"Biologica / Oceanografica",null,null,5788,"Deimer Alfredo Martínez"]
[null,null,null,null,null,null,null,null,null,null,null,null,17,"Arena limosa",null,null,null,null,null,null,null,null,null,null,null,null,null,null,null,null,null,null,null,1088,"1 - 0,5 mm",null,null,null,null,"Bloque de exploración de hidrocarburos COL 3","E",49556,570,"Biologica / Oceanografica",null,null,5956,"Diana Marcela Murillo"]
[null,null,null,null,null,null,null,null,null,null,null,null,18,"Arena arcillosa",null,null,null,null,null,null,null,null,null,null,null,null,null,null,null,null,null,null,null,1089,"2 - 4 mm",null,null,null,null,"Bloque de exploración de hidrocarburos COL 3","E",49557,571,"Oceanografica",null,null,5916,"Diana Milena Bustos Montes"]
[null,null,null,null,null,null,null,null,null,null,null,null,19,"Arcilla arenosa",null,null,null,null,null,null,null,null,null,null,null,null,null,null,null,null,null,null,null,1090,"4 - 6 mm",null,null,null,null,"Bloque de exploración de hidrocarburos COL 3","E",49558,572,"Oceanografica",null,null,5787,"Diana Patricia Lozano Zafra"]
[null,null,null,null,null,null,null,null,null,null,null,null,20,"Arcilla",null,null,null,null,null,null,null,null,null,null,null,null,null,null,null,null,null,null,null,1091,"6 - 8 mm",null,null,null,null,"Bloque de exploración de hidrocarburos COL 3","E",49559,573,"Biologica",null,null,4898,"Edison Orozco"]
[null,null,null,null,null,null,null,null,null,null,null,null,21,"Limo",null,null,null,null,null,null,null,null,null,null,null,null,null,null,null,null,null,null,null,1092,"8 - 16 mm",null,null,null,null,"Bloque de exploración de hidrocarburos COL 3","E",49560,574,"Oceanografica",null,null,3175,"Emilio Moreno"]
[null,null,null,null,null,null,null,null,null,null,null,null,null,null,null,null,null,null,null,null,null,null,null,null,null,null,null,null,null,null,null,null,null,1093,"16 - 32 mm",null,null,null,null,"Bloque de exploración de hidrocarburos COL 3","E",49561,575,"Oceanografica",null,null,1336,"Erika Montoya-Cadavid"]
[null,null,null,null,null,null,null,null,null,null,null,null,null,null,null,null,null,null,null,null,null,null,null,null,null,null,null,null,null,null,null,null,null,1094,"32 - 64 mm",null,null,null,null,"Bloque de exploración de hidrocarburos COL 3","E",49562,576,"Oceanografica",null,null,3169,"Georgina Guzman Espitia"]
[null,null,null,null,null,null,null,null,null,null,null,null,null,null,null,null,null,null,null,null,null,null,null,null,null,null,null,null,null,null,null,null,null,1095,"64 - 128 mm",null,null,null,null,"Bloque de exploración de hidrocarburos COL 3","E",49563,577,"Oceanografica",null,null,4516,"Gustavo Lara"]
[null,null,null,null,null,null,null,null,null,null,null,null,null,null,null,null,null,null,null,null,null,null,null,null,null,null,null,null,null,null,null,null,null,1096,"128 - 256 mm",null,null,null,null,"Bloque de exploración de hidrocarburos COL 3","EPC-3",50975,1,"Valoracion Pesquera",null,null,5896,"Ivan David Manotas Contreras"]
[null,null,null,null,null,null,null,null,null,null,null,null,null,null,null,null,null,null,null,null,null,null,null,null,null,null,null,null,null,null,null,null,null,1097,"> 256 mm",null,null,null,null,"Bloque de exploración de hidrocarburos COL 3","EPC-3",50976,2,"Valoracion Pesquera",null,null,3135,"Javier Idarraga"]
[null,null,null,null,null,null,null,null,null,null,null,null,null,null,null,null,null,null,null,null,null,null,null,null,null,null,null,null,null,null,null,null,null,"SD1","1 - 2 mm",null,null,null,null,"Bloque de exploración de hidrocarburos COL 3","EPC-3",50977,3,"Valoracion Pesquera",null,null,5791,"John Mazorra"]
[null,null,null,null,null,null,null,null,null,null,null,null,null,null,null,null,null,null,null,null,null,null,null,null,null,null,null,null,null,null,null,null,null,"SD2","0,5 - 1 mm",null,null,null,null,"Bloque de exploración de hidrocarburos COL 3","EPC-3",50978,4,"Valoracion Pesquera",null,null,5793,"Juan Carlos Restrepo"]
[null,null,null,null,null,null,null,null,null,null,null,null,null,null,null,null,null,null,null,null,null,null,null,null,null,null,null,null,null,null,null,null,null,"SD3","0,25 - 0,5 mm",null,null,null,null,"Bloque de exploración de hidrocarburos COL 3","EPC-3",50979,5,"Valoracion Pesquera",null,null,5786,"Juan Felipe Gómez Velásquez"]
[null,null,null,null,null,null,null,null,null,null,null,null,null,null,null,null,null,null,null,null,null,null,null,null,null,null,null,null,null,null,null,null,null,"SD4","0,125 - 0,25 mm",null,null,null,null,"Bloque de exploración de hidrocarburos COL 3","EPC-3",50980,6,"Valoracion Pesquera",null,null,5846,"Juan Jose Giraldo Vargas"]
[null,null,null,null,null,null,null,null,null,null,null,null,null,null,null,null,null,null,null,null,null,null,null,null,null,null,null,null,null,null,null,null,null,"SD5","0,063 - 0,125 mm",null,null,null,null,"Bloque de exploración de hidrocarburos COL 3","EPC-3",50981,7,"Valoracion Pesquera",null,null,5792,"Julieth Prieto"]
[null,null,null,null,null,null,null,null,null,null,null,null,null,null,null,null,null,null,null,null,null,null,null,null,null,null,null,null,null,null,null,null,null,"SD6","< 0,063 mm",null,null,null,null,"Bloque de exploración de hidrocarburos COL 3","EPC-3",50982,8,"Valoracion Pesquera",null,null,3479,"Julio Enrique Rodriguez Cubillos"]
[null,null,null,null,null,null,null,null,null,null,null,null,null,null,null,null,null,null,null,null,null,null,null,null,null,null,null,null,null,null,null,null,null,"SD0",">2 mm",null,null,null,null,"Bloque de exploración de hidrocarburos COL 3","EPC-3",50983,9,"Valoracion Pesquera",null,null,3039,"Julio naranjo"]
[null,null,null,null,null,null,null,null,null,null,null,null,null,null,null,null,null,null,null,null,null,null,null,null,null,null,null,null,null,null,null,null,null,"SD7","0,032 - 0,063 mm",null,null,null,null,"Bloque de exploración de hidrocarburos COL 3","EPC-3",50984,10,"Valoracion Pesquera",null,null,4899,"Kelvin Varela"]
[null,null,null,null,null,null,null,null,null,null,null,null,null,null,null,null,null,null,null,null,null,null,null,null,null,null,null,null,null,null,null,null,null,"SD8","0,016 - 0,032 mm",null,null,null,null,"Bloque de exploración de hidrocarburos COL 3","EPC-3",50985,11,"Valoracion Pesquera",null,null,8265,"Kevin Samuel Moreno"]
[null,null,null,null,null,null,null,null,null,null,null,null,null,null,null,null,null,null,null,null,null,null,null,null,null,null,null,null,null,null,null,null,null,"SD9","0,008 - 0,016 mm",null,null,null,null,"Bloque de exploración de hidrocarburos COL 3","EPC-3",50986,12,"Valoracion Pesquera",null,null,595,"Manuel Garrido Linares"]
[null,null,null,null,null,null,null,null,null,null,null,null,null,null,null,null,null,null,null,null,null,null,null,null,null,null,null,null,null,null,null,null,null,"SD10","0,004 - 0,008 mm",null,null,null,null,"Bloque de exploración de hidrocarburos COL 3","ZARPE",50987,6,"Observacion Fauna Marina",null,null,5784,"Nardy Liliana Neiza Mora"]
[null,null,null,null,null,null,null,null,null,null,null,null,null,null,null,null,null,null,null,null,null,null,null,null,null,null,null,null,null,null,null,null,null,"SD11","< 0,004 mm",null,null,null,null,null,null,null,null,null,null,null,3171,"Nelson Rangel"]
[null,null,null,null,null,null,null,null,null,null,null,null,null,null,null,null,null,null,null,null,null,null,null,null,null,null,null,null,null,null,null,null,null,"SD1145","0,063 - 2 mm",null,null,null,null,null,null,null,null,null,null,null,8357,"Nicolas Felipe Hernández Rodríguez"]
[null,null,null,null,null,null,null,null,null,null,null,null,null,null,null,null,null,null,null,null,null,null,null,null,null,null,null,null,null,null,null,null,null,"SD1085","0,125 - 0,063 mm",null,null,null,null,null,null,null,null,null,null,null,5877,"Paola Andrea Quintero"]
[null,null,null,null,null,null,null,null,null,null,null,null,null,null,null,null,null,null,null,null,null,null,null,null,null,null,null,null,null,null,null,null,null,"SD1086","0,25 - 0,125 mm",null,null,null,null,null,null,null,null,null,null,null,3172,"William Henao"]
[null,null,null,null,null,null,null,null,null,null,null,null,null,null,null,null,null,null,null,null,null,null,null,null,null,null,null,null,null,null,null,null,null,"SD1087","0,5 - 0,25 mm",null,null,null,null,null,null,null,null,null,null,null,3173,"Wilmer Guzman"]
[null,null,null,null,null,null,null,null,null,null,null,null,null,null,null,null,null,null,null,null,null,null,null,null,null,null,null,null,null,null,null,null,null,"SD1088","1 - 0,5 mm",null,null,null,null,null,null,null,null,null,null,null,8266,"Zulay Saudith González Herrera"]
[null,null,null,null,null,null,null,null,null,null,null,null,null,null,null,null,null,null,null,null,null,null,null,null,null,null,null,null,null,null,null,null,null,"SD1089","2 - 4 mm"]
[null,null,null,null,null,null,null,null,null,null,null,null,null,null,null,null,null,null,null,null,null,null,null,null,null,null,null,null,null,null,null,null,null,"SD1090","4 - 6 mm"]
[null,null,null,null,null,null,null,null,null,null,null,null,null,null,null,null,null,null,null,null,null,null,null,null,null,null,null,null,null,null,null,null,null,"SD1091","6 - 8 mm"]
[null,null,null,null,null,null,null,null,null,null,null,null,null,null,null,null,null,null,null,null,null,null,null,null,null,null,null,null,null,null,null,null,null,"SD1092","8 - 16 mm"]
[null,null,null,null,null,null,null,null,null,null,null,null,null,null,null,null,null,null,null,null,null,null,null,null,null,null,null,null,null,null,null,null,null,"SD1093","16 - 32 mm"]
[null,null,null,null,null,null,null,null,null,null,null,null,null,null,null,null,null,null,null,null,null,null,null,null,null,null,null,null,null,null,null,null,null,"SD1094","32 - 64 mm"]
[null,null,null,null,null,null,null,null,null,null,null,null,null,null,null,null,null,null,null,null,null,null,null,null,null,null,null,null,null,null,null,null,null,"SD1095","64 - 128 mm"]
[null,null,null,null,null,null,null,null,null,null,null,null,null,null,null,null,null,null,null,null,null,null,null,null,null,null,null,null,null,null,null,null,null,"SD1096","128 - 256 mm"]
[null,null,null,null,null,null,null,null,null,null,null,null,null,null,null,null,null,null,null,null,null,null,null,null,null,null,null,null,null,null,null,null,null,"SD1097","> 256 mm"]

{"sheet":"Otras referencias","index":5,"n_rows":7963,"n_cols":23,"rows_kept":4500,"cut":true,"hidden":false,"merged":[[14,0,14,2],[4,9,4,10],[4,12,4,13],[4,21,4,22],[4,0,4,1]],"bounds":{"rows_first":2000,"rows_last":500,"rows_between":2000,"halvings":0}}
[]
[null,null,null,null,null,null,null,null,null,null,null,null,null,null,null,"3103 Alex Baez Polo F",47737]
[null,null,null,null,null,null,null,null,null,null,null,null,null,null,null,"4068 Andres Malagon F",47738]
[null,null,null,null,null,null,null,null,null,null,null,null,null,null,null,"4996 Darío Vega F",47739]
["Método aplicado",null,null,null,null,null,null,null,null,"UNIDAD MEDIDA A REPORTAR TAMAÑOS DE GRANOS",null,null,"PROYECTOS",null,null,"3766 Edgar Arteaga Sogamoso F",47740,null,null,null,null,"ESTACIONES DE MONITOREO"]
[null,null,null,null,null,null,null,null,null,"CODIGO","DESCRIPCION",null,"NOMBRE","COD",null,"4066 Erika Acosta F",47741,null,null,null,null,"CODIGO","PREFIJO + CONSECUTIVO"]
[827,"Granulometria por pipeta",null,null,null,null,null,null,null,4,"PORCENTAJE TAMAÑO DE GRANO (%)",null,"INVEMAR ANH Exploracion I",2002,null,"4914 Julian Franco F-E",50025,null,1,"Dato validado y aceptado",null,{"$f":"IF(referentes!AP2=\"\",\"\",referentes!AP2)","v":49537},{"$f":"CONCATENATE(IF(referentes!AO2=\"\",\"\",referentes!AO2),IF(referentes!AQ2=\"\",\"\",CONCATENATE(\" \",referentes!AQ2)))","v":"E 551"}]
[688,"Separacion por tamices",null,null,null,null,null,null,null,69,"PESO TAMAÑO DE GRANO (g)",null,"INVEMAR ANH Exploracion II",2068,null,"4067 Luis Castro F",48845,null,2,"No evaluado",null,{"$f":"IF(referentes!AP3=\"\",\"\",referentes!AP3)","v":49539},{"$f":"CONCATENATE(IF(referentes!AO3=\"\",\"\",referentes!AO3),IF(referentes!AQ3=\"\",\"\",CONCATENATE(\" \",referentes!AQ3)))","v":"E 553"}]
[828,"Granulometria combinada",null,"Profundo","P",null,null,null,null,null,null,null,"INVEMAR ANH ARC Jamaica",2148,null,"3767 Natalia Maria Arbelaez Merizalde F",48642,null,99,"Dato omitido",null,{"$f":"IF(referentes!AP4=\"\",\"\",referentes!AP4)","v":49541},{"$f":"CONCATENATE(IF(referentes!AO4=\"\",\"\",referentes!AO4),IF(referentes!AQ4=\"\",\"\",CONCATENATE(\" \",referentes!AQ4)))","v":"E 555"}]
[null,null,null,null,null,null,null,null,null,null,null,null,"INVEMAR ANH Tumaco offshore",2207,null,"5777 Aquabiosfera - Invemar F",48644,null,4,"Malo",null,{"$f":"IF(referentes!AP5=\"\",\"\",referentes!AP5)","v":49542},{"$f":"CONCATENATE(IF(referentes!AO5=\"\",\"\",referentes!AO5),IF(referentes!AQ5=\"\",\"\",CONCATENATE(\" \",referentes!AQ5)))","v":"E 556"}]
[null,null,null,null,null,null,null,null,null,null,null,null,"INVEMAR ANH GUA OFF 3",3000,null,"5665 Ariadna Carolina Cárdenas García F",48646,null,3,"Cuestionable",null,{"$f":"IF(referentes!AP6=\"\",\"\",referentes!AP6)","v":49543},{"$f":"CONCATENATE(IF(referentes!AO6=\"\",\"\",referentes!AO6),IF(referentes!AQ6=\"\",\"\",CONCATENATE(\" \",referentes!AQ6)))","v":"E 557"}]
[null,null,null,null,null,null,null,null,null,null,null,null,"INVEMAR ANH COL 4 y COL 5",3023,null,"1911 Eugenia Escarria Gómez F-ECen",48647,null,null,null,null,{"$f":"IF(referentes!AP7=\"\",\"\",referentes!AP7)","v":49544},{"$f":"CONCATENATE(IF(referentes!AO7=\"\",\"\",referentes!AO7),IF(referentes!AQ7=\"\",\"\",CONCATENATE(\" \",referentes!AQ7)))","v":"E 558"}]
[null,null,null,null,null,null,null,null,null,null,null,null,"ANH RC4 RC5",3031,null,"5695 John Mauricio Beltrán Pérez F-ERin",48648,null,null,null,null,{"$f":"IF(referentes!AP8=\"\",\"\",referentes!AP8)","v":49545},{"$f":"CONCATENATE(IF(referentes!AO8=\"\",\"\",referentes!AO8),IF(referentes!AQ8=\"\",\"\",CONCATENATE(\" \",referentes!AQ8)))","v":"E 559"}]
[null,null,null,null,null,null,null,null,null,null,null,null,"INVEMAR ANH COL 1 y COL 2 T1",3303,null,"5725 María del Pilar Martínez Barragán F-ENVe",48649,null,null,null,null,{"$f":"IF(referentes!AP9=\"\",\"\",referentes!AP9)","v":49547},{"$f":"CONCATENATE(IF(referentes!AO9=\"\",\"\",referentes!AO9),IF(referentes!AQ9=\"\",\"\",CONCATENATE(\" \",referentes!AQ9)))","v":"E 561"}]
["CODIGOS LOV",null,null,null,null,null,null,null,null,null,null,null,"INVEMAR ANH COL 1 y COL 2 T2",3304,null,"5750 Shilenne Yalime Ortíz Rolón F-EFRF",48650,null,null,null,null,{"$f":"IF(referentes!AP10=\"\",\"\",referentes!AP10)","v":49548},{"$f":"CONCATENATE(IF(referentes!AO10=\"\",\"\",referentes!AO10),IF(referentes!AQ10=\"\",\"\",CONCATENATE(\" \",referentes!AQ10)))","v":"E 562"}]
["DESCRIPCIÓN","CÓDIGO","GRUPO",null,null,null,null,null,null,null,null,null,"INVEMAR ANH Pastos Marinos Fase 2 Guajira y Chocó",3343,null,"  F-ECN",48651,null,null,null,null,{"$f":"IF(referentes!AP11=\"\",\"\",referentes!AP11)","v":49549},{"$f":"CONCATENATE(IF(referentes!AO11=\"\",\"\",referentes!AO11),IF(referentes!AQ11=\"\",\"\",CONCATENATE(\" \",referentes!AQ11)))","v":"E 563"}]
["Departamento",10,2,null,null,null,null,null,null,null,null,null,"INVEMAR ANH COL 3",3389,null,"  F-ELBa",48652,null,null,null,null,{"$f":"IF(referentes!AP12=\"\",\"\",referentes!AP12)","v":49550},{"$f":"CONCATENATE(IF(referentes!AO12=\"\",\"\",referentes!AO12),IF(referentes!AQ12=\"\",\"\",CONCATENATE(\" \",referentes!AQ12)))","v":"E 564"}]
["Sector",20,2,null,null,null,null,null,null,null,null,null,"INVEMAR ANH COL 10",3428,null,"  F-ECLu",48653,null,null,null,null,{"$f":"IF(referentes!AP13=\"\",\"\",referentes!AP13)","v":49551},{"$f":"CONCATENATE(IF(referentes!AO13=\"\",\"\",referentes!AO13),IF(referentes!AQ13=\"\",\"\",CONCATENATE(\" \",referentes!AQ13)))","v":"E 565"}]
["Punto",30,2,null,null,null,null,null,null,null,null,null,null,null,null,"  F-BCH",48654,null,null,null,null,{"$f":"IF(referentes!AP14=\"\",\"\",referentes!AP14)","v":49552},{"$f":"CONCATENATE(IF(referentes!AO14=\"\",\"\",referentes!AO14),IF(referentes!AQ14=\"\",\"\",CONCATENATE(\" \",referentes!AQ14)))","v":"E 566"}]
["Parcela",35,2,null,null,null,null,null,null,null,null,null,null,null,null,"  F-BCH-T",48655,null,null,null,null,{"$f":"IF(referentes!AP15=\"\",\"\",referentes!AP15)","v":49553},{"$f":"CONCATENATE(IF(referentes!AO15=\"\",\"\",referentes!AO15),IF(referentes!AQ15=\"\",\"\",CONCATENATE(\" \",referentes!AQ15)))","v":"E 567"}]
["Estaciones",40,2,null,null,null,null,null,null,null,null,null,null,null,null,"  F-LCH-T",48656,null,null,null,null,{"$f":"IF(referentes!AP16=\"\",\"\",referentes!AP16)","v":49554},{"$f":"CONCATENATE(IF(referentes!AO16=\"\",\"\",referentes!AO16),IF(referentes!AQ16=\"\",\"\",CONCATENATE(\" \",referentes!AQ16)))","v":"E 568"}]
["Region",50,2,null,null,null,null,null,null,null,null,null,null,null,null,"  F-BST",48657,null,null,null,null,{"$f":"IF(referentes!AP17=\"\",\"\",referentes!AP17)","v":49555},{"$f":"CONCATENATE(IF(referentes!AO17=\"\",\"\",referentes!AO17),IF(referentes!AQ17=\"\",\"\",CONCATENATE(\" \",referentes!AQ17)))","v":"E 569"}]
["Unidad_de_Manejo",60,2,null,null,null,null,null,null,null,null,null,null,null,null,"  F-ELBa",48658,null,null,null,null,{"$f":"IF(referentes!AP18=\"\",\"\",referentes!AP18)","v":49556},{"$f":"CONCATENATE(IF(referentes!AO18=\"\",\"\",referentes!AO18),IF(referentes!AQ18=\"\",\"\",CONCATENATE(\" \",referentes!AQ18)))","v":"E 570"}]
["Unidad_Ambiental_Costera",70,2,null,null,null,null,null,null,null,null,null,null,null,null,"  F-ECLu",48659,null,null,null,null,{"$f":"IF(referentes!AP19=\"\",\"\",referentes!AP19)","v":49557},{"$f":"CONCATENATE(IF(referentes!AO19=\"\",\"\",referentes!AO19),IF(referentes!AQ19=\"\",\"\",CONCATENATE(\" \",referentes!AQ19)))","v":"E 571"}]
["Localidad",80,2,null,null,null,null,null,null,null,null,null,null,null,null,"  F-BCH",48660,null,null,null,null,{"$f":"IF(referentes!AP20=\"\",\"\",referentes!AP20)","v":49558},{"$f":"CONCATENATE(IF(referentes!AO20=\"\",\"\",referentes!AO20),IF(referentes!AQ20=\"\",\"\",CONCATENATE(\" \",referentes!AQ20)))","v":"E 572"}]
["Bloque_Exploracion",85,2,null,null,null,null,null,null,null,null,null,null,null,null,"  F-BCH-T",48661,null,null,null,null,{"$f":"IF(referentes!AP21=\"\",\"\",referentes!AP21)","v":49559},{"$f":"CONCATENATE(IF(referentes!AO21=\"\",\"\",referentes!AO21),IF(referentes!AQ21=\"\",\"\",CONCATENATE(\" \",referentes!AQ21)))","v":"E 573"}]
["Area",90,2,null,null,null,null,null,null,null,null,null,null,null,null,"  F-LCH-T",48662,null,null,null,null,{"$f":"IF(referentes!AP22=\"\",\"\",referentes!AP22)","v":49560},{"$f":"CONCATENATE(IF(referentes!AO22=\"\",\"\",referentes!AO22),IF(referentes!AQ22=\"\",\"\",CONCATENATE(\" \",referentes!AQ22)))","v":"E 574"}]
[null,null,null,null,null,null,null,null,null,null,null,null,null,null,null,"  F-LCH-T",48663,null,null,null,null,{"$f":"IF(referentes!AP23=\"\",\"\",referentes!AP23)","v":49561},{"$f":"CONCATENATE(IF(referentes!AO23=\"\",\"\",referentes!AO23),IF(referentes!AQ23=\"\",\"\",CONCATENATE(\" \",referentes!AQ23)))","v":"E 575"}]
[null,null,null,null,null,null,null,null,null,null,null,null,null,null,null,"  F-BST",48664,null,null,null,null,{"$f":"IF(referentes!AP24=\"\",\"\",referentes!AP24)","v":49562},{"$f":"CONCATENATE(IF(referentes!AO24=\"\",\"\",referentes!AO24),IF(referentes!AQ24=\"\",\"\",CONCATENATE(\" \",referentes!AQ24)))","v":"E 576"}]
[null,null,null,null,null,null,null,null,null,null,null,null,null,null,null,"  F-ELBa",48665,null,null,null,null,{"$f":"IF(referentes!AP25=\"\",\"\",referentes!AP25)","v":49563},{"$f":"CONCATENATE(IF(referentes!AO25=\"\",\"\",referentes!AO25),IF(referentes!AQ25=\"\",\"\",CONCATENATE(\" \",referentes!AQ25)))","v":"E 577"}]
[null,null,null,null,null,null,null,null,null,null,null,null,null,null,null,"  F-ECLu",48666,null,null,null,null,{"$f":"IF(referentes!AP26=\"\",\"\",referentes!AP26)","v":50975},{"$f":"CONCATENATE(IF(referentes!AO26=\"\",\"\",referentes!AO26),IF(referentes!AQ26=\"\",\"\",CONCATENATE(\" \",referentes!AQ26)))","v":"EPC-3 1"}]
[null,null,null,null,null,null,null,null,null,null,null,null,null,null,null,"  F",48667,null,null,null,null,{"$f":"IF(referentes!AP27=\"\",\"\",referentes!AP27)","v":50976},{"$f":"CONCATENATE(IF(referentes!AO27=\"\",\"\",referentes!AO27),IF(referentes!AQ27=\"\",\"\",CONCATENATE(\" \",referentes!AQ27)))","v":"EPC-3 2"}]
[null,null,null,null,null,null,null,null,null,null,null,null,null,null,null,"  F",48668,null,null,null,null,{"$f":"IF(referentes!AP28=\"\",\"\",referentes!AP28)","v":50977},{"$f":"CONCATENATE(IF(referentes!AO28=\"\",\"\",referentes!AO28),IF(referentes!AQ28=\"\",\"\",CONCATENATE(\" \",referentes!AQ28)))","v":"EPC-3 3"}]
[null,null,null,null,null,null,null,null,null,null,null,null,null,null,null,"  F",48669,null,null,null,null,{"$f":"IF(referentes!AP29=\"\",\"\",referentes!AP29)","v":50978},{"$f":"CONCATENATE(IF(referentes!AO29=\"\",\"\",referentes!AO29),IF(referentes!AQ29=\"\",\"\",CONCATENATE(\" \",referentes!AQ29)))","v":"EPC-3 4"}]
[null,null,null,null,null,null,null,null,null,null,null,null,null,null,null,"  F",48670,null,null,null,null,{"$f":"IF(referentes!AP30=\"\",\"\",referentes!AP30)","v":50979},{"$f":"CONCATENATE(IF(referentes!AO30=\"\",\"\",referentes!AO30),IF(referentes!AQ30=\"\",\"\",CONCATENATE(\" \",referentes!AQ30)))","v":"EPC-3 5"}]
[null,null,null,null,null,null,null,null,null,null,null,null,null,null,null,"  F",48671,null,null,null,null,{"$f":"IF(referentes!AP31=\"\",\"\",referentes!AP31)","v":50980},{"$f":"CONCATENATE(IF(referentes!AO31=\"\",\"\",referentes!AO31),IF(referentes!AQ31=\"\",\"\",CONCATENATE(\" \",referentes!AQ31)))","v":"EPC-3 6"}]
[null,null,null,null,null,null,null,null,null,null,null,null,null,null,null,"  F",48672,null,null,null,null,{"$f":"IF(referentes!AP32=\"\",\"\",referentes!AP32)","v":50981},{"$f":"CONCATENATE(IF(referentes!AO32=\"\",\"\",referentes!AO32),IF(referentes!AQ32=\"\",\"\",CONCATENATE(\" \",referentes!AQ32)))","v":"EPC-3 7"}]
[null,null,null,null,null,null,null,null,null,null,null,null,null,null,null,"  F-ELBa",48673,null,null,null,null,{"$f":"IF(referentes!AP33=\"\",\"\",referentes!AP33)","v":50982},{"$f":"CONCATENATE(IF(referentes!AO33=\"\",\"\",referentes!AO33),IF(referentes!AQ33=\"\",\"\",CONCATENATE(\" \",referentes!AQ33)))","v":"EPC-3 8"}]
[null,null,null,null,null,null,null,null,null,null,null,null,null,null,null,"  F-ECLu",48674,null,null,null,null,{"$f":"IF(referentes!AP34=\"\",\"\",referentes!AP34)","v":50983},{"$f":"CONCATENATE(IF(referentes!AO34=\"\",\"\",referentes!AO34),IF(referentes!AQ34=\"\",\"\",CONCATENATE(\" \",referentes!AQ34)))","v":"EPC-3 9"}]
[null,null,null,null,null,null,null,null,null,null,null,null,null,null,null,"  F",48675,null,null,null,null,{"$f":"IF(referentes!AP35=\"\",\"\",referentes!AP35)","v":50984},{"$f":"CONCATENATE(IF(referentes!AO35=\"\",\"\",referentes!AO35),IF(referentes!AQ35=\"\",\"\",CONCATENATE(\" \",referentes!AQ35)))","v":"EPC-3 10"}]
[null,null,null,null,null,null,null,null,null,null,null,null,null,null,null,"  F",48676,null,null,null,null,{"$f":"IF(referentes!AP36=\"\",\"\",referentes!AP36)","v":50985},{"$f":"CONCATENATE(IF(referentes!AO36=\"\",\"\",referentes!AO36),IF(referentes!AQ36=\"\",\"\",CONCATENATE(\" \",referentes!AQ36)))","v":"EPC-3 11"}]
[null,null,null,null,null,null,null,null,null,null,null,null,null,null,null,"  F",48677,null,null,null,null,{"$f":"IF(referentes!AP37=\"\",\"\",referentes!AP37)","v":50986},{"$f":"CONCATENATE(IF(referentes!AO37=\"\",\"\",referentes!AO37),IF(referentes!AQ37=\"\",\"\",CONCATENATE(\" \",referentes!AQ37)))","v":"EPC-3 12"}]
[null,null,null,null,null,null,null,null,null,null,null,null,null,null,null,"  F",48678,null,null,null,null,{"$f":"IF(referentes!AP38=\"\",\"\",referentes!AP38)","v":50987},{"$f":"CONCATENATE(IF(referentes!AO38=\"\",\"\",referentes!AO38),IF(referentes!AQ38=\"\",\"\",CONCATENATE(\" \",referentes!AQ38)))","v":"ZARPE 6"}]
[null,null,null,null,null,null,null,null,null,null,null,null,null,null,null,"  E01",51021,null,null,null,null,{"$f":"IF(referentes!AP39=\"\",\"\",referentes!AP39)","v":""},{"$f":"CONCATENATE(IF(referentes!AO39=\"\",\"\",referentes!AO39),IF(referentes!AQ39=\"\",\"\",CONCATENATE(\" \",referentes!AQ39)))","v":""}]
[null,null,null,null,null,null,null,null,null,null,null,null,null,null,null,"  E02",51022,null,null,null,null,{"$f":"IF(referentes!AP40=\"\",\"\",referentes!AP40)","v":""},{"$f":"CONCATENATE(IF(referentes!AO40=\"\",\"\",referentes!AO40),IF(referentes!AQ40=\"\",\"\",CONCATENATE(\" \",referentes!AQ40)))","v":""}]
[null,null,null,null,null,null,null,null,null,null,null,null,null,null,null,"  E03",51023,null,null,null,null,{"$f":"IF(referentes!AP41=\"\",\"\",referentes!AP41)","v":""},{"$f":"CONCATENATE(IF(referentes!AO41=\"\",\"\",referentes!AO41),IF(referentes!AQ41=\"\",\"\",CONCATENATE(\" \",referentes!AQ41)))","v":""}]
[null,null,null,null,null,null,null,null,null,null,null,null,null,null,null,"  E04",51024,null,null,null,null,{"$f":"IF(referentes!AP42=\"\",\"\",referentes!AP42)","v":""},{"$f":"CONCATENATE(IF(referentes!AO42=\"\",\"\",referentes!AO42),IF(referentes!AQ42=\"\",\"\",CONCATENATE(\" \",referentes!AQ42)))","v":""}]
[null,null,null,null,null,null,null,null,null,null,null,null,null,null,null,"  E05",51025,null,null,null,null,{"$f":"IF(referentes!AP43=\"\",\"\",referentes!AP43)","v":""},{"$f":"CONCATENATE(IF(referentes!AO43=\"\",\"\",referentes!AO43),IF(referentes!AQ43=\"\",\"\",CONCATENATE(\" \",referentes!AQ43)))","v":""}]
[null,null,null,null,null,null,null,null,null,null,null,null,null,null,null,"  E06",51026,null,null,null,null,{"$f":"IF(referentes!AP44=\"\",\"\",referentes!AP44)","v":""},{"$f":"CONCATENATE(IF(referentes!AO44=\"\",\"\",referentes!AO44),IF(referentes!AQ44=\"\",\"\",CONCATENATE(\" \",referentes!AQ44)))","v":""}]
[null,null,null,null,null,null,null,null,null,null,null,null,null,null,null,"  E08",51027,null,null,null,null,{"$f":"IF(referentes!AP45=\"\",\"\",referentes!AP45)","v":""},{"$f":"CONCATENATE(IF(referentes!AO45=\"\",\"\",referentes!AO45),IF(referentes!AQ45=\"\",\"\",CONCATENATE(\" \",referentes!AQ45)))","v":""}]
[null,null,null,null,null,null,null,null,null,null,null,null,null,null,null,"  E09",51028,null,null,null,null,{"$f":"IF(referentes!AP46=\"\",\"\",referentes!AP46)","v":""},{"$f":"CONCATENATE(IF(referentes!AO46=\"\",\"\",referentes!AO46),IF(referentes!AQ46=\"\",\"\",CONCATENATE(\" \",referentes!AQ46)))","v":""}]
[null,null,null,null,null,null,null,null,null,null,null,null,null,null,null,"  E10",51029,null,null,null,null,{"$f":"IF(referentes!AP47=\"\",\"\",referentes!AP47)","v":""},{"$f":"CONCATENATE(IF(referentes!AO47=\"\",\"\",referentes!AO47),IF(referentes!AQ47=\"\",\"\",CONCATENATE(\" \",referentes!AQ47)))","v":""}]
[null,null,null,null,null,null,null,null,null,null,null,null,null,null,null,"  E11",51030,null,null,null,null,{"$f":"IF(referentes!AP48=\"\",\"\",referentes!AP48)","v":""},{"$f":"CONCATENATE(IF(referentes!AO48=\"\",\"\",referentes!AO48),IF(referentes!AQ48=\"\",\"\",CONCATENATE(\" \",referentes!AQ48)))","v":""}]
[null,null,null,null,null,null,null,null,null,null,null,null,null,null,null,"  E01",51031,null,null,null,null,{"$f":"IF(referentes!AP49=\"\",\"\",referentes!AP49)","v":""},{"$f":"CONCATENATE(IF(referentes!AO49=\"\",\"\",referentes!AO49),IF(referentes!AQ49=\"\",\"\",CONCATENATE(\" \",referentes!AQ49)))","v":""}]
[null,null,null,null,null,null,null,null,null,null,null,null,null,null,null,"  E02",51032,null,null,null,null,{"$f":"IF(referentes!AP50=\"\",\"\",referentes!AP50)","v":""},{"$f":"CONCATENATE(IF(referentes!AO50=\"\",\"\",referentes!AO50),IF(referentes!AQ50=\"\",\"\",CONCATENATE(\" \",referentes!AQ50)))","v":""}]
[null,null,null,null,null,null,null,null,null,null,null,null,null,null,null,"  E03",51033,null,null,null,null,{"$f":"IF(referentes!AP51=\"\",\"\",referentes!AP51)","v":""},{"$f":"CONCATENATE(IF(referentes!AO51=\"\",\"\",referentes!AO51),IF(referentes!AQ51=\"\",\"\",CONCATENATE(\" \",referentes!AQ51)))","v":""}]
[null,null,null,null,null,null,null,null,null,null,null,null,null,null,null,"  E04",51034,null,null,null,null,{"$f":"IF(referentes!AP52=\"\",\"\",referentes!AP52)","v":""},{"$f":"CONCATENATE(IF(referentes!AO52=\"\",\"\",referentes!AO52),IF(referentes!AQ52=\"\",\"\",CONCATENATE(\" \",referentes!AQ52)))","v":""}]
[null,null,null,null,null,null,null,null,null,null,null,null,null,null,null,"  E05",51035,null,null,null,null,{"$f":"IF(referentes!AP53=\"\",\"\",referentes!AP53)","v":""},{"$f":"CONCATENATE(IF(referentes!AO53=\"\",\"\",referentes!AO53),IF(referentes!AQ53=\"\",\"\",CONCATENATE(\" \",referentes!AQ53)))","v":""}]
[null,null,null,null,null,null,null,null,null,null,null,null,null,null,null,"  E06",51036,null,null,null,null,{"$f":"IF(referentes!AP54=\"\",\"\",referentes!AP54)","v":""},{"$f":"CONCATENATE(IF(referentes!AO54=\"\",\"\",referentes!AO54),IF(referentes!AQ54=\"\",\"\",CONCATENATE(\" \",referentes!AQ54)))","v":""}]
[null,null,null,null,null,null,null,null,null,null,null,null,null,null,null,"  E01",51005,null,null,null,null,{"$f":"IF(referentes!AP55=\"\",\"\",referentes!AP55)","v":""},{"$f":"CONCATENATE(IF(referentes!AO55=\"\",\"\",referentes!AO55),IF(referentes!AQ55=\"\",\"\",CONCATENATE(\" \",referentes!AQ55)))","v":""}]
[null,null,null,null,null,null,null,null,null,null,null,null,null,null,null,"  E02",51006,null,null,null,null,{"$f":"IF(referentes!AP56=\"\",\"\",referentes!AP56)","v":""},{"$f":"CONCATENATE(IF(referentes!AO56=\"\",\"\",referentes!AO56),IF(referentes!AQ56=\"\",\"\",CONCATENATE(\" \",referentes!AQ56)))","v":""}]
[null,null,null,null,null,null,null,null,null,null,null,null,null,null,null,"  E03",51007,null,null,null,null,{"$f":"IF(referentes!AP57=\"\",\"\",referentes!AP57)","v":""},{"$f":"CONCATENATE(IF(referentes!AO57=\"\",\"\",referentes!AO57),IF(referentes!AQ57=\"\",\"\",CONCATENATE(\" \",referentes!AQ57)))","v":""}]
[null,null,null,null,null,null,null,null,null,null,null,null,null,null,null,"  E04",51008,null,null,null,null,{"$f":"IF(referentes!AP58=\"\",\"\",referentes!AP58)","v":""},{"$f":"CONCATENATE(IF(referentes!AO58=\"\",\"\",referentes!AO58),IF(referentes!AQ58=\"\",\"\",CONCATENATE(\" \",referentes!AQ58)))","v":""}]
[null,null,null,null,null,null,null,null,null,null,null,null,null,null,null,"  E05",51009,null,null,null,null,{"$f":"IF(referentes!AP59=\"\",\"\",referentes!AP59)","v":""},{"$f":"CONCATENATE(IF(referentes!AO59=\"\",\"\",referentes!AO59),IF(referentes!AQ59=\"\",\"\",CONCATENATE(\" \",referentes!AQ59)))","v":""}]
[null,null,null,null,null,null,null,null,null,null,null,null,null,null,null,"  E06",51010,null,null,null,null,{"$f":"IF(referentes!AP60=\"\",\"\",referentes!AP60)","v":""},{"$f":"CONCATENATE(IF(referentes!AO60=\"\",\"\",referentes!AO60),IF(referentes!AQ60=\"\",\"\",CONCATENATE(\" \",referentes!AQ60)))","v":""}]
[null,null,null,null,null,null,null,null,null,null,null,null,null,null,null,"  E07",51011,null,null,null,null,{"$f":"IF(referentes!AP61=\"\",\"\",referentes!AP61)","v":""},{"$f":"CONCATENATE(IF(referentes!AO61=\"\",\"\",referentes!AO61),IF(referentes!AQ61=\"\",\"\",CONCATENATE(\" \",referentes!AQ61)))","v":""}]
[null,null,null,null,null,null,null,null,null,null,null,null,null,null,null,"  E08",51012,null,null,null,null,{"$f":"IF(referentes!AP62=\"\",\"\",referentes!AP62)","v":""},{"$f":"CONCATENATE(IF(referentes!AO62=\"\",\"\",referentes!AO62),IF(referentes!AQ62=\"\",\"\",CONCATENATE(\" \",referentes!AQ62)))","v":""}]
[null,null,null,null,null,null,null,null,null,null,null,null,null,null,null,"  E09",51013,null,null,null,null,{"$f":"IF(referentes!AP63=\"\",\"\",referentes!AP63)","v":""},{"$f":"CONCATENATE(IF(referentes!AO63=\"\",\"\",referentes!AO63),IF(referentes!AQ63=\"\",\"\",CONCATENATE(\" \",referentes!AQ63)))","v":""}]
[null,null,null,null,null,null,null,null,null,null,null,null,null,null,null,"  E10",51014,null,null,null,null,{"$f":"IF(referentes!AP64=\"\",\"\",referentes!AP64)","v":""},{"$f":"CONCATENATE(IF(referentes!AO64=\"\",\"\",referentes!AO64),IF(referentes!AQ64=\"\",\"\",CONCATENATE(\" \",referentes!AQ64)))","v":""}]
[null,null,null,null,null,null,null,null,null,null,null,null,null,null,null,"  E11",51015,null,null,null,null,{"$f":"IF(referentes!AP65=\"\",\"\",referentes!AP65)","v":""},{"$f":"CONCATENATE(IF(referentes!AO65=\"\",\"\",referentes!AO65),IF(referentes!AQ65=\"\",\"\",CONCATENATE(\" \",referentes!AQ65)))","v":""}]
[null,null,null,null,null,null,null,null,null,null,null,null,null,null,null,"  E12",51016,null,null,null,null,{"$f":"IF(referentes!AP66=\"\",\"\",referentes!AP66)","v":""},{"$f":"CONCATENATE(IF(referentes!AO66=\"\",\"\",referentes!AO66),IF(referentes!AQ66=\"\",\"\",CONCATENATE(\" \",referentes!AQ66)))","v":""}]
[null,null,null,null,null,null,null,null,null,null,null,null,null,null,null,"  E13",51017,null,null,null,null,{"$f":"IF(referentes!AP67=\"\",\"\",referentes!AP67)","v":""},{"$f":"CONCATENATE(IF(referentes!AO67=\"\",\"\",referentes!AO67),IF(referentes!AQ67=\"\",\"\",CONCATENATE(\" \",referentes!AQ67)))","v":""}]
[null,null,null,null,null,null,null,null,null,null,null,null,null,null,null,"  E14",51018,null,null,null,null,{"$f":"IF(referentes!AP68=\"\",\"\",referentes!AP68)","v":""},{"$f":"CONCATENATE(IF(referentes!AO68=\"\",\"\",referentes!AO68),IF(referentes!AQ68=\"\",\"\",CONCATENATE(\" \",referentes!AQ68)))","v":""}]
[null,null,null,null,null,null,null,null,null,null,null,null,null,null,null,"  E15",51019,null,null,null,null,{"$f":"IF(referentes!AP69=\"\",\"\",referentes!AP69)","v":""},{"$f":"CONCATENATE(IF(referentes!AO69=\"\",\"\",referentes!AO69),IF(referentes!AQ69=\"\",\"\",CONCATENATE(\" \",referentes!AQ69)))","v":""}]
[null,null,null,null,null,null,null,null,null,null,null,null,null,null,null,"  E16",51020,null,null,null,null,{"$f":"IF(referentes!AP70=\"\",\"\",referentes!AP70)","v":""},{"$f":"CONCATENATE(IF(referentes!AO70=\"\",\"\",referentes!AO70),IF(referentes!AQ70=\"\",\"\",CONCATENATE(\" \",referentes!AQ70)))","v":""}]
[null,null,null,null,null,null,null,null,null,null,null,null,null,null,null,"  E02",51037,null,null,null,null,{"$f":"IF(referentes!AP71=\"\",\"\",referentes!AP71)","v":""},{"$f":"CONCATENATE(IF(referentes!AO71=\"\",\"\",referentes!AO71),IF(referentes!AQ71=\"\",\"\",CONCATENATE(\" \",referentes!AQ71)))","v":""}]
[null,null,null,null,null,null,null,null,null,null,null,null,null,null,null,"  E03",51038,null,null,null,null,{"$f":"IF(referentes!AP72=\"\",\"\",referentes!AP72)","v":""},{"$f":"CONCATENATE(IF(referentes!AO72=\"\",\"\",referentes!AO72),IF(referentes!AQ72=\"\",\"\",CONCATENATE(\" \",referentes!AQ72)))","v":""}]
[null,null,null,null,null,null,null,null,null,null,null,null,null,null,null,"  E04",51039,null,null,null,null,{"$f":"IF(referentes!AP73=\"\",\"\",referentes!AP73)","v":""},{"$f":"CONCATENATE(IF(referentes!AO73=\"\",\"\",referentes!AO73),IF(referentes!AQ73=\"\",\"\",CONCATENATE(\" \",referentes!AQ73)))","v":""}]
[null,null,null,null,null,null,null,null,null,null,null,null,null,null,null,"  E05",51040,null,null,null,null,{"$f":"IF(referentes!AP74=\"\",\"\",referentes!AP74)","v":""},{"$f":"CONCATENATE(IF(referentes!AO74=\"\",\"\",referentes!AO74),IF(referentes!AQ74=\"\",\"\",CONCATENATE(\" \",referentes!AQ74)))","v":""}]
[null,null,null,null,null,null,null,null,null,null,null,null,null,null,null,"  E06",51041,null,null,null,null,{"$f":"IF(referentes!AP75=\"\",\"\",referentes!AP75)","v":""},{"$f":"CONCATENATE(IF(referentes!AO75=\"\",\"\",referentes!AO75),IF(referentes!AQ75=\"\",\"\",CONCATENATE(\" \",referentes!AQ75)))","v":""}]
[null,null,null,null,null,null,null,null,null,null,null,null,null,null,null,"  E07",51042,null,null,null,null,{"$f":"IF(referentes!AP76=\"\",\"\",referentes!AP76)","v":""},{"$f":"CONCATENATE(IF(referentes!AO76=\"\",\"\",referentes!AO76),IF(referentes!AQ76=\"\",\"\",CONCATENATE(\" \",referentes!AQ76)))","v":""}]
[null,null,null,null,null,null,null,null,null,null,null,null,null,null,null,"  E08",51043,null,null,null,null,{"$f":"IF(referentes!AP77=\"\",\"\",referentes!AP77)","v":""},{"$f":"CONCATENATE(IF(referentes!AO77=\"\",\"\",referentes!AO77),IF(referentes!AQ77=\"\",\"\",CONCATENATE(\" \",referentes!AQ77)))","v":""}]
[null,null,null,null,null,null,null,null,null,null,null,null,null,null,null,"  E09",51044,null,null,null,null,{"$f":"IF(referentes!AP78=\"\",\"\",referentes!AP78)","v":""},{"$f":"CONCATENATE(IF(referentes!AO78=\"\",\"\",referentes!AO78),IF(referentes!AQ78=\"\",\"\",CONCATENATE(\" \",referentes!AQ78)))","v":""}]
[null,null,null,null,null,null,null,null,null,null,null,null,null,null,null,"  E10",51045,null,null,null,null,{"$f":"IF(referentes!AP79=\"\",\"\",referentes!AP79)","v":""},{"$f":"CONCATENATE(IF(referentes!AO79=\"\",\"\",referentes!AO79),IF(referentes!AQ79=\"\",\"\",CONCATENATE(\" \",referentes!AQ79)))","v":""}]
[null,null,null,null,null,null,null,null,null,null,null,null,null,null,null,"","",null,null,null,null,{"$f":"IF(referentes!AP80=\"\",\"\",referentes!AP80)","v":""},{"$f":"CONCATENATE(IF(referentes!AO80=\"\",\"\",referentes!AO80),IF(referentes!AQ80=\"\",\"\",CONCATENATE(\" \",referentes!AQ80)))","v":""}]
[null,null,null,null,null,null,null,null,null,null,null,null,null,null,null,"","",null,null,null,null,{"$f":"IF(referentes!AP81=\"\",\"\",referentes!AP81)","v":""},{"$f":"CONCATENATE(IF(referentes!AO81=\"\",\"\",referentes!AO81),IF(referentes!AQ81=\"\",\"\",CONCATENATE(\" \",referentes!AQ81)))","v":""}]
[null,null,null,null,null,null,null,null,null,null,null,null,null,null,null,"","",null,null,null,null,{"$f":"IF(referentes!AP82=\"\",\"\",referentes!AP82)","v":""},{"$f":"CONCATENATE(IF(referentes!AO82=\"\",\"\",referentes!AO82),IF(referentes!AQ82=\"\",\"\",CONCATENATE(\" \",referentes!AQ82)))","v":""}]
[null,null,null,null,null,null,null,null,null,null,null,null,null,null,null,"","",null,null,null,null,{"$f":"IF(referentes!AP83=\"\",\"\",referentes!AP83)","v":""},{"$f":"CONCATENATE(IF(referentes!AO83=\"\",\"\",referentes!AO83),IF(referentes!AQ83=\"\",\"\",CONCATENATE(\" \",referentes!AQ83)))","v":""}]
[null,null,null,null,null,null,null,null,null,null,null,null,null,null,null,"","",null,null,null,null,{"$f":"IF(referentes!AP84=\"\",\"\",referentes!AP84)","v":""},{"$f":"CONCATENATE(IF(referentes!AO84=\"\",\"\",referentes!AO84),IF(referentes!AQ84=\"\",\"\",CONCATENATE(\" \",referentes!AQ84)))","v":""}]
[null,null,null,null,null,null,null,null,null,null,null,null,null,null,null,"","",null,null,null,null,{"$f":"IF(referentes!AP85=\"\",\"\",referentes!AP85)","v":""},{"$f":"CONCATENATE(IF(referentes!AO85=\"\",\"\",referentes!AO85),IF(referentes!AQ85=\"\",\"\",CONCATENATE(\" \",referentes!AQ85)))","v":""}]
[null,null,null,null,null,null,null,null,null,null,null,null,null,null,null,"","",null,null,null,null,{"$f":"IF(referentes!AP86=\"\",\"\",referentes!AP86)","v":""},{"$f":"CONCATENATE(IF(referentes!AO86=\"\",\"\",referentes!AO86),IF(referentes!AQ86=\"\",\"\",CONCATENATE(\" \",referentes!AQ86)))","v":""}]
[null,null,null,null,null,null,null,null,null,null,null,null,null,null,null,"","",null,null,null,null,{"$f":"IF(referentes!AP87=\"\",\"\",referentes!AP87)","v":""},{"$f":"CONCATENATE(IF(referentes!AO87=\"\",\"\",referentes!AO87),IF(referentes!AQ87=\"\",\"\",CONCATENATE(\" \",referentes!AQ87)))","v":""}]
[null,null,null,null,null,null,null,null,null,null,null,null,null,null,null,"","",null,null,null,null,{"$f":"IF(referentes!AP88=\"\",\"\",referentes!AP88)","v":""},{"$f":"CONCATENATE(IF(referentes!AO88=\"\",\"\",referentes!AO88),IF(referentes!AQ88=\"\",\"\",CONCATENATE(\" \",referentes!AQ88)))","v":""}]
[null,null,null,null,null,null,null,null,null,null,null,null,null,null,null,"","",null,null,null,null,{"$f":"IF(referentes!AP89=\"\",\"\",referentes!AP89)","v":""},{"$f":"CONCATENATE(IF(referentes!AO89=\"\",\"\",referentes!AO89),IF(referentes!AQ89=\"\",\"\",CONCATENATE(\" \",referentes!AQ89)))","v":""}]
[null,null,null,null,null,null,null,null,null,null,null,null,null,null,null,"","",null,null,null,null,{"$f":"IF(referentes!AP90=\"\",\"\",referentes!AP90)","v":""},{"$f":"CONCATENATE(IF(referentes!AO90=\"\",\"\",referentes!AO90),IF(referentes!AQ90=\"\",\"\",CONCATENATE(\" \",referentes!AQ90)))","v":""}]
[null,null,null,null,null,null,null,null,null,null,null,null,null,null,null,"","",null,null,null,null,{"$f":"IF(referentes!AP91=\"\",\"\",referentes!AP91)","v":""},{"$f":"CONCATENATE(IF(referentes!AO91=\"\",\"\",referentes!AO91),IF(referentes!AQ91=\"\",\"\",CONCATENATE(\" \",referentes!AQ91)))","v":""}]
[null,null,null,null,null,null,null,null,null,null,null,null,null,null,null,"","",null,null,null,null,{"$f":"IF(referentes!AP92=\"\",\"\",referentes!AP92)","v":""},{"$f":"CONCATENATE(IF(referentes!AO92=\"\",\"\",referentes!AO92),IF(referentes!AQ92=\"\",\"\",CONCATENATE(\" \",referentes!AQ92)))","v":""}]
[null,null,null,null,null,null,null,null,null,null,null,null,null,null,null,"","",null,null,null,null,{"$f":"IF(referentes!AP93=\"\",\"\",referentes!AP93)","v":""},{"$f":"CONCATENATE(IF(referentes!AO93=\"\",\"\",referentes!AO93),IF(referentes!AQ93=\"\",\"\",CONCATENATE(\" \",referentes!AQ93)))","v":""}]
[null,null,null,null,null,null,null,null,null,null,null,null,null,null,null,"","",null,null,null,null,{"$f":"IF(referentes!AP94=\"\",\"\",referentes!AP94)","v":""},{"$f":"CONCATENATE(IF(referentes!AO94=\"\",\"\",referentes!AO94),IF(referentes!AQ94=\"\",\"\",CONCATENATE(\" \",referentes!AQ94)))","v":""}]
[null,null,null,null,null,null,null,null,null,null,null,null,null,null,null,"","",null,null,null,null,{"$f":"IF(referentes!AP95=\"\",\"\",referentes!AP95)","v":""},{"$f":"CONCATENATE(IF(referentes!AO95=\"\",\"\",referentes!AO95),IF(referentes!AQ95=\"\",\"\",CONCATENATE(\" \",referentes!AQ95)))","v":""}]
[null,null,null,null,null,null,null,null,null,null,null,null,null,null,null,"","",null,null,null,null,{"$f":"IF(referentes!AP96=\"\",\"\",referentes!AP96)","v":""},{"$f":"CONCATENATE(IF(referentes!AO96=\"\",\"\",referentes!AO96),IF(referentes!AQ96=\"\",\"\",CONCATENATE(\" \",referentes!AQ96)))","v":""}]
[null,null,null,null,null,null,null,null,null,null,null,null,null,null,null,"","",null,null,null,null,{"$f":"IF(referentes!AP97=\"\",\"\",referentes!AP97)","v":""},{"$f":"CONCATENATE(IF(referentes!AO97=\"\",\"\",referentes!AO97),IF(referentes!AQ97=\"\",\"\",CONCATENATE(\" \",referentes!AQ97)))","v":""}]
[null,null,null,null,null,null,null,null,null,null,null,null,null,null,null,"","",null,null,null,null,{"$f":"IF(referentes!AP98=\"\",\"\",referentes!AP98)","v":""},{"$f":"CONCATENATE(IF(referentes!AO98=\"\",\"\",referentes!AO98),IF(referentes!AQ98=\"\",\"\",CONCATENATE(\" \",referentes!AQ98)))","v":""}]
[null,null,null,null,null,null,null,null,null,null,null,null,null,null,null,"","",null,null,null,null,{"$f":"IF(referentes!AP99=\"\",\"\",referentes!AP99)","v":""},{"$f":"CONCATENATE(IF(referentes!AO99=\"\",\"\",referentes!AO99),IF(referentes!AQ99=\"\",\"\",CONCATENATE(\" \",referentes!AQ99)))","v":""}]
[null,null,null,null,null,null,null,null,null,null,null,null,null,null,null,"","",null,null,null,null,{"$f":"IF(referentes!AP100=\"\",\"\",referentes!AP100)","v":""},{"$f":"CONCATENATE(IF(referentes!AO100=\"\",\"\",referentes!AO100),IF(referentes!AQ100=\"\",\"\",CONCATENATE(\" \",referentes!AQ100)))","v":""}]
[null,null,null,null,null,null,null,null,null,null,null,null,null,null,null,"","",null,null,null,null,{"$f":"IF(referentes!AP101=\"\",\"\",referentes!AP101)","v":""},{"$f":"CONCATENATE(IF(referentes!AO101=\"\",\"\",referentes!AO101),IF(referentes!AQ101=\"\",\"\",CONCATENATE(\" \",referentes!AQ101)))","v":""}]
[null,null,null,null,null,null,null,null,null,null,null,null,null,null,null,"","",null,null,null,null,{"$f":"IF(referentes!AP102=\"\",\"\",referentes!AP102)","v":""},{"$f":"CONCATENATE(IF(referentes!AO102=\"\",\"\",referentes!AO102),IF(referentes!AQ102=\"\",\"\",CONCATENATE(\" \",referentes!AQ102)))","v":""}]
[null,null,null,null,null,null,null,null,null,null,null,null,null,null,null,"",""]
[null,null,null,null,null,null,null,null,null,null,null,null,null,null,null,"",""]
[null,null,null,null,null,null,null,null,null,null,null,null,null,null,null,"",""]
[null,null,null,null,null,null,null,null,null,null,null,null,null,null,null,"",""]
[null,null,null,null,null,null,null,null,null,null,null,null,null,null,null,"",""]
[null,null,null,null,null,null,null,null,null,null,null,null,null,null,null,"",""]
[null,null,null,null,null,null,null,null,null,null,null,null,null,null,null,"",""]
[null,null,null,null,null,null,null,null,null,null,null,null,null,null,null,"",""]
[null,null,null,null,null,null,null,null,null,null,null,null,null,null,null,"",""]
[null,null,null,null,null,null,null,null,null,null,null,null,null,null,null,"",""]
[null,null,null,null,null,null,null,null,null,null,null,null,null,null,null,"",""]
[null,null,null,null,null,null,null,null,null,null,null,null,null,null,null,"",""]
[null,null,null,null,null,null,null,null,null,null,null,null,null,null,null,"",""]
[null,null,null,null,null,null,null,null,null,null,null,null,null,null,null,"",""]
[null,null,null,null,null,null,null,null,null,null,null,null,null,null,null,"",""]
[null,null,null,null,null,null,null,null,null,null,null,null,null,null,null,"",""]
[null,null,null,null,null,null,null,null,null,null,null,null,null,null,null,"",""]
[null,null,null,null,null,null,null,null,null,null,null,null,null,null,null,"",""]
[null,null,null,null,null,null,null,null,null,null,null,null,null,null,null,"",""]
[null,null,null,null,null,null,null,null,null,null,null,null,null,null,null,"",""]
[null,null,null,null,null,null,null,null,null,null,null,null,null,null,null,"",""]
[null,null,null,null,null,null,null,null,null,null,null,null,null,null,null,"",""]
[null,null,null,null,null,null,null,null,null,null,null,null,null,null,null,"",""]
[null,null,null,null,null,null,null,null,null,null,null,null,null,null,null,"",""]
[null,null,null,null,null,null,null,null,null,null,null,null,null,null,null,"",""]
[null,null,null,null,null,null,null,null,null,null,null,null,null,null,null,"",""]
[null,null,null,null,null,null,null,null,null,null,null,null,null,null,null,"",""]
[null,null,null,null,null,null,null,null,null,null,null,null,null,null,null,"",""]
[null,null,null,null,null,null,null,null,null,null,null,null,null,null,null,"",""]
[null,null,null,null,null,null,null,null,null,null,null,null,null,null,null,"",""]
[null,null,null,null,null,null,null,null,null,null,null,null,null,null,null,"",""]
[null,null,null,null,null,null,null,null,null,null,null,null,null,null,null,"",""]
[null,null,null,null,null,null,null,null,null,null,null,null,null,null,null,"",""]
[null,null,null,null,null,null,null,null,null,null,null,null,null,null,null,"",""]
[null,null,null,null,null,null,null,null,null,null,null,null,null,null,null,"",""]
[null,null,null,null,null,null,null,null,null,null,null,null,null,null,null,"",""]
[null,null,null,null,null,null,null,null,null,null,null,null,null,null,null,"",""]
[null,null,null,null,null,null,null,null,null,null,null,null,null,null,null,"",""]
[null,null,null,null,null,null,null,null,null,null,null,null,null,null,null,"",""]
[null,null,null,null,null,null,null,null,null,null,null,null,null,null,null,"",""]
[null,null,null,null,null,null,null,null,null,null,null,null,null,null,null,"",""]
[null,null,null,null,null,null,null,null,null,null,null,null,null,null,null,"",""]
[null,null,null,null,null,null,null,null,null,null,null,null,null,null,null,"",""]
[null,null,null,null,null,null,null,null,null,null,null,null,null,null,null,"",""]
[null,null,null,null,null,null,null,null,null,null,null,null,null,null,null,"",""]
[null,null,null,null,null,null,null,null,null,null,null,null,null,null,null,"",""]
[null,null,null,null,null,null,null,null,null,null,null,null,null,null,null,"",""]
[null,null,null,null,null,null,null,null,null,null,null,null,null,null,null,"",""]
[null,null,null,null,null,null,null,null,null,null,null,null,null,null,null,"",""]
[null,null,null,null,null,null,null,null,null,null,null,null,null,null,null,"",""]
[null,null,null,null,null,null,null,null,null,null,null,null,null,null,null,"",""]
[null,null,null,null,null,null,null,null,null,null,null,null,null,null,null,"",""]
[null,null,null,null,null,null,null,null,null,null,null,null,null,null,null,"",""]
[null,null,null,null,null,null,null,null,null,null,null,null,null,null,null,"",""]
[null,null,null,null,null,null,null,null,null,null,null,null,null,null,null,"",""]
[null,null,null,null,null,null,null,null,null,null,null,null,null,null,null,"",""]
[null,null,null,null,null,null,null,null,null,null,null,null,null,null,null,"",""]
[null,null,null,null,null,null,null,null,null,null,null,null,null,null,null,"",""]
[null,null,null,null,null,null,null,null,null,null,null,null,null,null,null,"",""]
[null,null,null,null,null,null,null,null,null,null,null,null,null,null,null,"",""]
[null,null,null,null,null,null,null,null,null,null,null,null,null,null,null,"",""]
[null,null,null,null,null,null,null,null,null,null,null,null,null,null,null,"",""]
[null,null,null,null,null,null,null,null,null,null,null,null,null,null,null,"",""]
[null,null,null,null,null,null,null,null,null,null,null,null,null,null,null,"",""]
[null,null,null,null,null,null,null,null,null,null,null,null,null,null,null,"",""]
[null,null,null,null,null,null,null,null,null,null,null,null,null,null,null,"",""]
[null,null,null,null,null,null,null,null,null,null,null,null,null,null,null,"",""]
[null,null,null,null,null,null,null,null,null,null,null,null,null,null,null,"",""]
[null,null,null,null,null,null,null,null,null,null,null,null,null,null,null,"",""]
[null,null,null,null,null,null,null,null,null,null,null,null,null,null,null,"",""]
[null,null,null,null,null,null,null,null,null,null,null,null,null,null,null,"",""]
[null,null,null,null,null,null,null,null,null,null,null,null,null,null,null,"",""]
[null,null,null,null,null,null,null,null,null,null,null,null,null,null,null,"",""]
[null,null,null,null,null,null,null,null,null,null,null,null,null,null,null,"",""]
[null,null,null,null,null,null,null,null,null,null,null,null,null,null,null,"",""]
[null,null,null,null,null,null,null,null,null,null,null,null,null,null,null,"",""]
[null,null,null,null,null,null,null,null,null,null,null,null,null,null,null,"",""]
[null,null,null,null,null,null,null,null,null,null,null,null,null,null,null,"",""]
[null,null,null,null,null,null,null,null,null,null,null,null,null,null,null,"",""]
[null,null,null,null,null,null,null,null,null,null,null,null,null,null,null,"",""]
[null,null,null,null,null,null,null,null,null,null,null,null,null,null,null,"",""]
[null,null,null,null,null,null,null,null,null,null,null,null,null,null,null,"",""]
[null,null,null,null,null,null,null,null,null,null,null,null,null,null,null,"",""]
[null,null,null,null,null,null,null,null,null,null,null,null,null,null,null,"",""]
[null,null,null,null,null,null,null,null,null,null,null,null,null,null,null,"",""]
[null,null,null,null,null,null,null,null,null,null,null,null,null,null,null,"",""]
[null,null,null,null,null,null,null,null,null,null,null,null,null,null,null,"",""]
[null,null,null,null,null,null,null,null,null,null,null,null,null,null,null,"",""]
[null,null,null,null,null,null,null,null,null,null,null,null,null,null,null,"",""]
[null,null,null,null,null,null,null,null,null,null,null,null,null,null,null,"",""]
[null,null,null,null,null,null,null,null,null,null,null,null,null,null,null,"",""]
[null,null,null,null,null,null,null,null,null,null,null,null,null,null,null,"",""]
[null,null,null,null,null,null,null,null,null,null,null,null,null,null,null,"",""]
[null,null,null,null,null,null,null,null,null,null,null,null,null,null,null,"",""]
[null,null,null,null,null,null,null,null,null,null,null,null,null,null,null,"",""]
[null,null,null,null,null,null,null,null,null,null,null,null,null,null,null,"",""]
[null,null,null,null,null,null,null,null,null,null,null,null,null,null,null,"",""]
[null,null,null,null,null,null,null,null,null,null,null,null,null,null,null,"",""]
[null,null,null,null,null,null,null,null,null,null,null,null,null,null,null,"",""]
[null,null,null,null,null,null,null,null,null,null,null,null,null,null,null,"",""]
[null,null,null,null,null,null,null,null,null,null,null,null,null,null,null,"",""]
[null,null,null,null,null,null,null,null,null,null,null,null,null,null,null,"",""]
[null,null,null,null,null,null,null,null,null,null,null,null,null,null,null,"",""]
[null,null,null,null,null,null,null,null,null,null,null,null,null,null,null,"",""]
[null,null,null,null,null,null,null,null,null,null,null,null,null,null,null,"",""]
[null,null,null,null,null,null,null,null,null,null,null,null,null,null,null,"",""]
[null,null,null,null,null,null,null,null,null,null,null,null,null,null,null,"",""]
[null,null,null,null,null,null,null,null,null,null,null,null,null,null,null,"",""]
[null,null,null,null,null,null,null,null,null,null,null,null,null,null,null,"",""]
[null,null,null,null,null,null,null,null,null,null,null,null,null,null,null,"",""]
[null,null,null,null,null,null,null,null,null,null,null,null,null,null,null,"",""]
[null,null,null,null,null,null,null,null,null,null,null,null,null,null,null,"",""]
[null,null,null,null,null,null,null,null,null,null,null,null,null,null,null,"",""]
[null,null,null,null,null,null,null,null,null,null,null,null,null,null,null,"",""]
[null,null,null,null,null,null,null,null,null,null,null,null,null,null,null,"",""]
[null,null,null,null,null,null,null,null,null,null,null,null,null,null,null,"",""]
[null,null,null,null,null,null,null,null,null,null,null,null,null,null,null,"",""]
[null,null,null,null,null,null,null,null,null,null,null,null,null,null,null,"",""]
[null,null,null,null,null,null,null,null,null,null,null,null,null,null,null,"",""]
[null,null,null,null,null,null,null,null,null,null,null,null,null,null,null,"",""]
[null,null,null,null,null,null,null,null,null,null,null,null,null,null,null,"",""]
[null,null,null,null,null,null,null,null,null,null,null,null,null,null,null,"",""]
[null,null,null,null,null,null,null,null,null,null,null,null,null,null,null,"",""]
[null,null,null,null,null,null,null,null,null,null,null,null,null,null,null,"",""]
[null,null,null,null,null,null,null,null,null,null,null,null,null,null,null,"",""]
[null,null,null,null,null,null,null,null,null,null,null,null,null,null,null,"",""]
[null,null,null,null,null,null,null,null,null,null,null,null,null,null,null,"",""]
[null,null,null,null,null,null,null,null,null,null,null,null,null,null,null,"",""]
[null,null,null,null,null,null,null,null,null,null,null,null,null,null,null,"",""]
[null,null,null,null,null,null,null,null,null,null,null,null,null,null,null,"",""]
[null,null,null,null,null,null,null,null,null,null,null,null,null,null,null,"",""]
[null,null,null,null,null,null,null,null,null,null,null,null,null,null,null,"",""]
[null,null,null,null,null,null,null,null,null,null,null,null,null,null,null,"",""]
[null,null,null,null,null,null,null,null,null,null,null,null,null,null,null,"",""]
[null,null,null,null,null,null,null,null,null,null,null,null,null,null,null,"",""]
[null,null,null,null,null,null,null,null,null,null,null,null,null,null,null,"",""]
[null,null,null,null,null,null,null,null,null,null,null,null,null,null,null,"",""]
[null,null,null,null,null,null,null,null,null,null,null,null,null,null,null,"",""]
[null,null,null,null,null,null,null,null,null,null,null,null,null,null,null,"",""]
[null,null,null,null,null,null,null,null,null,null,null,null,null,null,null,"",""]
[null,null,null,null,null,null,null,null,null,null,null,null,null,null,null,"",""]
[null,null,null,null,null,null,null,null,null,null,null,null,null,null,null,"",""]
[null,null,null,null,null,null,null,null,null,null,null,null,null,null,null,"",""]
[null,null,null,null,null,null,null,null,null,null,null,null,null,null,null,"",""]
[null,null,null,null,null,null,null,null,null,null,null,null,null,null,null,"",""]
[null,null,null,null,null,null,null,null,null,null,null,null,null,null,null,"",""]
[null,null,null,null,null,null,null,null,null,null,null,null,null,null,null,"",""]
[null,null,null,null,null,null,null,null,null,null,null,null,null,null,null,"",""]
[null,null,null,null,null,null,null,null,null,null,null,null,null,null,null,"",""]
[null,null,null,null,null,null,null,null,null,null,null,null,null,null,null,"",""]
[null,null,null,null,null,null,null,null,null,null,null,null,null,null,null,"",""]
[null,null,null,null,null,null,null,null,null,null,null,null,null,null,null,"",""]
[null,null,null,null,null,null,null,null,null,null,null,null,null,null,null,"",""]
[null,null,null,null,null,null,null,null,null,null,null,null,null,null,null,"",""]
[null,null,null,null,null,null,null,null,null,null,null,null,null,null,null,"",""]
[null,null,null,null,null,null,null,null,null,null,null,null,null,null,null,"",""]
[null,null,null,null,null,null,null,null,null,null,null,null,null,null,null,"",""]
[null,null,null,null,null,null,null,null,null,null,null,null,null,null,null,"",""]
[null,null,null,null,null,null,null,null,null,null,null,null,null,null,null,"",""]
[null,null,null,null,null,null,null,null,null,null,null,null,null,null,null,"",""]
[null,null,null,null,null,null,null,null,null,null,null,null,null,null,null,"",""]
[null,null,null,null,null,null,null,null,null,null,null,null,null,null,null,"",""]
[null,null,null,null,null,null,null,null,null,null,null,null,null,null,null,"",""]
[null,null,null,null,null,null,null,null,null,null,null,null,null,null,null,"",""]
[null,null,null,null,null,null,null,null,null,null,null,null,null,null,null,"",""]
[null,null,null,null,null,null,null,null,null,null,null,null,null,null,null,"",""]
[null,null,null,null,null,null,null,null,null,null,null,null,null,null,null,"",""]
[null,null,null,null,null,null,null,null,null,null,null,null,null,null,null,"",""]
[null,null,null,null,null,null,null,null,null,null,null,null,null,null,null,"",""]
[null,null,null,null,null,null,null,null,null,null,null,null,null,null,null,"",""]
[null,null,null,null,null,null,null,null,null,null,null,null,null,null,null,"",""]
[null,null,null,null,null,null,null,null,null,null,null,null,null,null,null,"",""]
[null,null,null,null,null,null,null,null,null,null,null,null,null,null,null,"",""]
[null,null,null,null,null,null,null,null,null,null,null,null,null,null,null,"",""]
[null,null,null,null,null,null,null,null,null,null,null,null,null,null,null,"",""]
[null,null,null,null,null,null,null,null,null,null,null,null,null,null,null,"",""]
[null,null,null,null,null,null,null,null,null,null,null,null,null,null,null,"",""]
[null,null,null,null,null,null,null,null,null,null,null,null,null,null,null,"",""]
[null,null,null,null,null,null,null,null,null,null,null,null,null,null,null,"",""]
[null,null,null,null,null,null,null,null,null,null,null,null,null,null,null,"",""]
[null,null,null,null,null,null,null,null,null,null,null,null,null,null,null,"",""]
[null,null,null,null,null,null,null,null,null,null,null,null,null,null,null,"",""]
[null,null,null,null,null,null,null,null,null,null,null,null,null,null,null,"",""]
[null,null,null,null,null,null,null,null,null,null,null,null,null,null,null,"",""]
[null,null,null,null,null,null,null,null,null,null,null,null,null,null,null,"",""]
[null,null,null,null,null,null,null,null,null,null,null,null,null,null,null,"",""]
[null,null,null,null,null,null,null,null,null,null,null,null,null,null,null,"",""]
[null,null,null,null,null,null,null,null,null,null,null,null,null,null,null,"",""]
[null,null,null,null,null,null,null,null,null,null,null,null,null,null,null,"",""]
[null,null,null,null,null,null,null,null,null,null,null,null,null,null,null,"",""]
[null,null,null,null,null,null,null,null,null,null,null,null,null,null,null,"",""]
[null,null,null,null,null,null,null,null,null,null,null,null,null,null,null,"",""]
[null,null,null,null,null,null,null,null,null,null,null,null,null,null,null,"",""]
[null,null,null,null,null,null,null,null,null,null,null,null,null,null,null,"",""]
[null,null,null,null,null,null,null,null,null,null,null,null,null,null,null,"",""]
[null,null,null,null,null,null,null,null,null,null,null,null,null,null,null,"",""]
[null,null,null,null,null,null,null,null,null,null,null,null,null,null,null,"",""]
[null,null,null,null,null,null,null,null,null,null,null,null,null,null,null,"",""]
[null,null,null,null,null,null,null,null,null,null,null,null,null,null,null,"",""]
[null,null,null,null,null,null,null,null,null,null,null,null,null,null,null,"",""]
[null,null,null,null,null,null,null,null,null,null,null,null,null,null,null,"",""]
[null,null,null,null,null,null,null,null,null,null,null,null,null,null,null,"",""]
[null,null,null,null,null,null,null,null,null,null,null,null,null,null,null,"",""]
[null,null,null,null,null,null,null,null,null,null,null,null,null,null,null,"",""]
[null,null,null,null,null,null,null,null,null,null,null,null,null,null,null,"",""]
[null,null,null,null,null,null,null,null,null,null,null,null,null,null,null,"",""]
[null,null,null,null,null,null,null,null,null,null,null,null,null,null,null,"",""]
[null,null,null,null,null,null,null,null,null,null,null,null,null,null,null,"",""]
[null,null,null,null,null,null,null,null,null,null,null,null,null,null,null,"",""]
[null,null,null,null,null,null,null,null,null,null,null,null,null,null,null,"",""]
[null,null,null,null,null,null,null,null,null,null,null,null,null,null,null,"",""]
[null,null,null,null,null,null,null,null,null,null,null,null,null,null,null,"",""]
[null,null,null,null,null,null,null,null,null,null,null,null,null,null,null,"",""]
[null,null,null,null,null,null,null,null,null,null,null,null,null,null,null,"",""]
[null,null,null,null,null,null,null,null,null,null,null,null,null,null,null,"",""]
[null,null,null,null,null,null,null,null,null,null,null,null,null,null,null,"",""]
[null,null,null,null,null,null,null,null,null,null,null,null,null,null,null,"",""]
[null,null,null,null,null,null,null,null,null,null,null,null,null,null,null,"",""]
[null,null,null,null,null,null,null,null,null,null,null,null,null,null,null,"",""]
[null,null,null,null,null,null,null,null,null,null,null,null,null,null,null,"",""]
[null,null,null,null,null,null,null,null,null,null,null,null,null,null,null,"",""]
[null,null,null,null,null,null,null,null,null,null,null,null,null,null,null,"",""]
[null,null,null,null,null,null,null,null,null,null,null,null,null,null,null,"",""]
[null,null,null,null,null,null,null,null,null,null,null,null,null,null,null,"",""]
[null,null,null,null,null,null,null,null,null,null,null,null,null,null,null,"",""]
[null,null,null,null,null,null,null,null,null,null,null,null,null,null,null,"",""]
[null,null,null,null,null,null,null,null,null,null,null,null,null,null,null,"",""]
[null,null,null,null,null,null,null,null,null,null,null,null,null,null,null,"",""]
[null,null,null,null,null,null,null,null,null,null,null,null,null,null,null,"",""]
[null,null,null,null,null,null,null,null,null,null,null,null,null,null,null,"",""]
[null,null,null,null,null,null,null,null,null,null,null,null,null,null,null,"",""]
[null,null,null,null,null,null,null,null,null,null,null,null,null,null,null,"",""]
[null,null,null,null,null,null,null,null,null,null,null,null,null,null,null,"",""]
[null,null,null,null,null,null,null,null,null,null,null,null,null,null,null,"",""]
[null,null,null,null,null,null,null,null,null,null,null,null,null,null,null,"",""]
[null,null,null,null,null,null,null,null,null,null,null,null,null,null,null,"",""]
[null,null,null,null,null,null,null,null,null,null,null,null,null,null,null,"",""]
[null,null,null,null,null,null,null,null,null,null,null,null,null,null,null,"",""]
[null,null,null,null,null,null,null,null,null,null,null,null,null,null,null,"",""]
[null,null,null,null,null,null,null,null,null,null,null,null,null,null,null,"",""]
[null,null,null,null,null,null,null,null,null,null,null,null,null,null,null,"",""]
[null,null,null,null,null,null,null,null,null,null,null,null,null,null,null,"",""]
[null,null,null,null,null,null,null,null,null,null,null,null,null,null,null,"",""]
[null,null,null,null,null,null,null,null,null,null,null,null,null,null,null,"",""]
[null,null,null,null,null,null,null,null,null,null,null,null,null,null,null,"",""]
[null,null,null,null,null,null,null,null,null,null,null,null,null,null,null,"",""]
[null,null,null,null,null,null,null,null,null,null,null,null,null,null,null,"",""]
[null,null,null,null,null,null,null,null,null,null,null,null,null,null,null,"",""]
[null,null,null,null,null,null,null,null,null,null,null,null,null,null,null,"",""]
[null,null,null,null,null,null,null,null,null,null,null,null,null,null,null,"",""]
[null,null,null,null,null,null,null,null,null,null,null,null,null,null,null,"",""]
[null,null,null,null,null,null,null,null,null,null,null,null,null,null,null,"",""]
[null,null,null,null,null,null,null,null,null,null,null,null,null,null,null,"",""]
[null,null,null,null,null,null,null,null,null,null,null,null,null,null,null,"",""]
[null,null,null,null,null,null,null,null,null,null,null,null,null,null,null,"",""]
[null,null,null,null,null,null,null,null,null,null,null,null,null,null,null,"",""]
[null,null,null,null,null,null,null,null,null,null,null,null,null,null,null,"",""]
[null,null,null,null,null,null,null,null,null,null,null,null,null,null,null,"",""]
[null,null,null,null,null,null,null,null,null,null,null,null,null,null,null,"",""]
[null,null,null,null,null,null,null,null,null,null,null,null,null,null,null,"",""]
[null,null,null,null,null,null,null,null,null,null,null,null,null,null,null,"",""]
[null,null,null,null,null,null,null,null,null,null,null,null,null,null,null,"",""]
[null,null,null,null,null,null,null,null,null,null,null,null,null,null,null,"",""]
[null,null,null,null,null,null,null,null,null,null,null,null,null,null,null,"",""]
[null,null,null,null,null,null,null,null,null,null,null,null,null,null,null,"",""]
[null,null,null,null,null,null,null,null,null,null,null,null,null,null,null,"",""]
[null,null,null,null,null,null,null,null,null,null,null,null,null,null,null,"",""]
[null,null,null,null,null,null,null,null,null,null,null,null,null,null,null,"",""]
[null,null,null,null,null,null,null,null,null,null,null,null,null,null,null,"",""]
[null,null,null,null,null,null,null,null,null,null,null,null,null,null,null,"",""]
[null,null,null,null,null,null,null,null,null,null,null,null,null,null,null,"",""]
[null,null,null,null,null,null,null,null,null,null,null,null,null,null,null,"",""]
[null,null,null,null,null,null,null,null,null,null,null,null,null,null,null,"",""]
[null,null,null,null,null,null,null,null,null,null,null,null,null,null,null,"",""]
[null,null,null,null,null,null,null,null,null,null,null,null,null,null,null,"",""]
[null,null,null,null,null,null,null,null,null,null,null,null,null,null,null,"",""]
[null,null,null,null,null,null,null,null,null,null,null,null,null,null,null,"",""]
[null,null,null,null,null,null,null,null,null,null,null,null,null,null,null,"",""]
[null,null,null,null,null,null,null,null,null,null,null,null,null,null,null,"",""]
[null,null,null,null,null,null,null,null,null,null,null,null,null,null,null,"",""]
[null,null,null,null,null,null,null,null,null,null,null,null,null,null,null,"",""]
[null,null,null,null,null,null,null,null,null,null,null,null,null,null,null,"",""]
[null,null,null,null,null,null,null,null,null,null,null,null,null,null,null,"",""]
[null,null,null,null,null,null,null,null,null,null,null,null,null,null,null,"",""]
[null,null,null,null,null,null,null,null,null,null,null,null,null,null,null,"",""]
[null,null,null,null,null,null,null,null,null,null,null,null,null,null,null,"",""]
[null,null,null,null,null,null,null,null,null,null,null,null,null,null,null,"",""]
[null,null,null,null,null,null,null,null,null,null,null,null,null,null,null,"",""]
[null,null,null,null,null,null,null,null,null,null,null,null,null,null,null,"",""]
[null,null,null,null,null,null,null,null,null,null,null,null,null,null,null,"",""]
[null,null,null,null,null,null,null,null,null,null,null,null,null,null,null,"",""]
[null,null,null,null,null,null,null,null,null,null,null,null,null,null,null,"",""]
[null,null,null,null,null,null,null,null,null,null,null,null,null,null,null,"",""]
[null,null,null,null,null,null,null,null,null,null,null,null,null,null,null,"",""]
[null,null,null,null,null,null,null,null,null,null,null,null,null,null,null,"",""]
[null,null,null,null,null,null,null,null,null,null,null,null,null,null,null,"",""]
[null,null,null,null,null,null,null,null,null,null,null,null,null,null,null,"",""]
[null,null,null,null,null,null,null,null,null,null,null,null,null,null,null,"",""]
[null,null,null,null,null,null,null,null,null,null,null,null,null,null,null,"",""]
[null,null,null,null,null,null,null,null,null,null,null,null,null,null,null,"",""]
[null,null,null,null,null,null,null,null,null,null,null,null,null,null,null,"",""]
[null,null,null,null,null,null,null,null,null,null,null,null,null,null,null,"",""]
[null,null,null,null,null,null,null,null,null,null,null,null,null,null,null,"",""]
[null,null,null,null,null,null,null,null,null,null,null,null,null,null,null,"",""]
[null,null,null,null,null,null,null,null,null,null,null,null,null,null,null,"",""]
[null,null,null,null,null,null,null,null,null,null,null,null,null,null,null,"",""]
[null,null,null,null,null,null,null,null,null,null,null,null,null,null,null,"",""]
[null,null,null,null,null,null,null,null,null,null,null,null,null,null,null,"",""]
[null,null,null,null,null,null,null,null,null,null,null,null,null,null,null,"",""]
[null,null,null,null,null,null,null,null,null,null,null,null,null,null,null,"",""]
[null,null,null,null,null,null,null,null,null,null,null,null,null,null,null,"",""]
[null,null,null,null,null,null,null,null,null,null,null,null,null,null,null,"",""]
[null,null,null,null,null,null,null,null,null,null,null,null,null,null,null,"",""]
[null,null,null,null,null,null,null,null,null,null,null,null,null,null,null,"",""]
[null,null,null,null,null,null,null,null,null,null,null,null,null,null,null,"",""]
[null,null,null,null,null,null,null,null,null,null,null,null,null,null,null,"",""]
[null,null,null,null,null,null,null,null,null,null,null,null,null,null,null,"",""]
[null,null,null,null,null,null,null,null,null,null,null,null,null,null,null,"",""]
[null,null,null,null,null,null,null,null,null,null,null,null,null,null,null,"",""]
[null,null,null,null,null,null,null,null,null,null,null,null,null,null,null,"",""]
[null,null,null,null,null,null,null,null,null,null,null,null,null,null,null,"",""]
[null,null,null,null,null,null,null,null,null,null,null,null,null,null,null,"",""]
[null,null,null,null,null,null,null,null,null,null,null,null,null,null,null,"",""]
[null,null,null,null,null,null,null,null,null,null,null,null,null,null,null,"",""]
[null,null,null,null,null,null,null,null,null,null,null,null,null,null,null,"",""]
[null,null,null,null,null,null,null,null,null,null,null,null,null,null,null,"",""]
[null,null,null,null,null,null,null,null,null,null,null,null,null,null,null,"",""]
[null,null,null,null,null,null,null,null,null,null,null,null,null,null,null,"",""]
[null,null,null,null,null,null,null,null,null,null,null,null,null,null,null,"",""]
[null,null,null,null,null,null,null,null,null,null,null,null,null,null,null,"",""]
[null,null,null,null,null,null,null,null,null,null,null,null,null,null,null,"",""]
[null,null,null,null,null,null,null,null,null,null,null,null,null,null,null,"",""]
[null,null,null,null,null,null,null,null,null,null,null,null,null,null,null,"",""]
[null,null,null,null,null,null,null,null,null,null,null,null,null,null,null,"",""]
[null,null,null,null,null,null,null,null,null,null,null,null,null,null,null,"",""]
[null,null,null,null,null,null,null,null,null,null,null,null,null,null,null,"",""]
[null,null,null,null,null,null,null,null,null,null,null,null,null,null,null,"",""]
[null,null,null,null,null,null,null,null,null,null,null,null,null,null,null,"",""]
[null,null,null,null,null,null,null,null,null,null,null,null,null,null,null,"",""]
[null,null,null,null,null,null,null,null,null,null,null,null,null,null,null,"",""]
[null,null,null,null,null,null,null,null,null,null,null,null,null,null,null,"",""]
[null,null,null,null,null,null,null,null,null,null,null,null,null,null,null,"",""]
[null,null,null,null,null,null,null,null,null,null,null,null,null,null,null,"",""]
[null,null,null,null,null,null,null,null,null,null,null,null,null,null,null,"",""]
[null,null,null,null,null,null,null,null,null,null,null,null,null,null,null,"",""]
[null,null,null,null,null,null,null,null,null,null,null,null,null,null,null,"",""]
[null,null,null,null,null,null,null,null,null,null,null,null,null,null,null,"",""]
[null,null,null,null,null,null,null,null,null,null,null,null,null,null,null,"",""]
[null,null,null,null,null,null,null,null,null,null,null,null,null,null,null,"",""]
[null,null,null,null,null,null,null,null,null,null,null,null,null,null,null,"",""]
[null,null,null,null,null,null,null,null,null,null,null,null,null,null,null,"",""]
[null,null,null,null,null,null,null,null,null,null,null,null,null,null,null,"",""]
[null,null,null,null,null,null,null,null,null,null,null,null,null,null,null,"",""]
[null,null,null,null,null,null,null,null,null,null,null,null,null,null,null,"",""]
[null,null,null,null,null,null,null,null,null,null,null,null,null,null,null,"",""]
[null,null,null,null,null,null,null,null,null,null,null,null,null,null,null,"",""]
[null,null,null,null,null,null,null,null,null,null,null,null,null,null,null,"",""]
[null,null,null,null,null,null,null,null,null,null,null,null,null,null,null,"",""]
[null,null,null,null,null,null,null,null,null,null,null,null,null,null,null,"",""]
[null,null,null,null,null,null,null,null,null,null,null,null,null,null,null,"",""]
[null,null,null,null,null,null,null,null,null,null,null,null,null,null,null,"",""]
[null,null,null,null,null,null,null,null,null,null,null,null,null,null,null,"",""]
[null,null,null,null,null,null,null,null,null,null,null,null,null,null,null,"",""]
[null,null,null,null,null,null,null,null,null,null,null,null,null,null,null,"",""]
[null,null,null,null,null,null,null,null,null,null,null,null,null,null,null,"",""]
[null,null,null,null,null,null,null,null,null,null,null,null,null,null,null,"",""]
[null,null,null,null,null,null,null,null,null,null,null,null,null,null,null,"",""]
[null,null,null,null,null,null,null,null,null,null,null,null,null,null,null,"",""]
[null,null,null,null,null,null,null,null,null,null,null,null,null,null,null,"",""]
[null,null,null,null,null,null,null,null,null,null,null,null,null,null,null,"",""]
[null,null,null,null,null,null,null,null,null,null,null,null,null,null,null,"",""]
[null,null,null,null,null,null,null,null,null,null,null,null,null,null,null,"",""]
[null,null,null,null,null,null,null,null,null,null,null,null,null,null,null,"",""]
[null,null,null,null,null,null,null,null,null,null,null,null,null,null,null,"",""]
[null,null,null,null,null,null,null,null,null,null,null,null,null,null,null,"",""]
[null,null,null,null,null,null,null,null,null,null,null,null,null,null,null,"",""]
[null,null,null,null,null,null,null,null,null,null,null,null,null,null,null,"",""]
[null,null,null,null,null,null,null,null,null,null,null,null,null,null,null,"",""]
[null,null,null,null,null,null,null,null,null,null,null,null,null,null,null,"",""]
[null,null,null,null,null,null,null,null,null,null,null,null,null,null,null,"",""]
[null,null,null,null,null,null,null,null,null,null,null,null,null,null,null,"",""]
[null,null,null,null,null,null,null,null,null,null,null,null,null,null,null,"",""]
[null,null,null,null,null,null,null,null,null,null,null,null,null,null,null,"",""]
[null,null,null,null,null,null,null,null,null,null,null,null,null,null,null,"",""]
[null,null,null,null,null,null,null,null,null,null,null,null,null,null,null,"",""]
[null,null,null,null,null,null,null,null,null,null,null,null,null,null,null,"",""]
[null,null,null,null,null,null,null,null,null,null,null,null,null,null,null,"",""]
[null,null,null,null,null,null,null,null,null,null,null,null,null,null,null,"",""]
[null,null,null,null,null,null,null,null,null,null,null,null,null,null,null,"",""]
[null,null,null,null,null,null,null,null,null,null,null,null,null,null,null,"",""]
[null,null,null,null,null,null,null,null,null,null,null,null,null,null,null,"",""]
[null,null,null,null,null,null,null,null,null,null,null,null,null,null,null,"",""]
[null,null,null,null,null,null,null,null,null,null,null,null,null,null,null,"",""]
[null,null,null,null,null,null,null,null,null,null,null,null,null,null,null,"",""]
[null,null,null,null,null,null,null,null,null,null,null,null,null,null,null,"",""]
[null,null,null,null,null,null,null,null,null,null,null,null,null,null,null,"",""]
[null,null,null,null,null,null,null,null,null,null,null,null,null,null,null,"",""]
[null,null,null,null,null,null,null,null,null,null,null,null,null,null,null,"",""]
[null,null,null,null,null,null,null,null,null,null,null,null,null,null,null,"",""]
[null,null,null,null,null,null,null,null,null,null,null,null,null,null,null,"",""]
[null,null,null,null,null,null,null,null,null,null,null,null,null,null,null,"",""]
[null,null,null,null,null,null,null,null,null,null,null,null,null,null,null,"",""]
[null,null,null,null,null,null,null,null,null,null,null,null,null,null,null,"",""]
[null,null,null,null,null,null,null,null,null,null,null,null,null,null,null,"",""]
[null,null,null,null,null,null,null,null,null,null,null,null,null,null,null,"",""]
[null,null,null,null,null,null,null,null,null,null,null,null,null,null,null,"",""]
[null,null,null,null,null,null,null,null,null,null,null,null,null,null,null,"",""]
[null,null,null,null,null,null,null,null,null,null,null,null,null,null,null,"",""]
[null,null,null,null,null,null,null,null,null,null,null,null,null,null,null,"",""]
[null,null,null,null,null,null,null,null,null,null,null,null,null,null,null,"",""]
[null,null,null,null,null,null,null,null,null,null,null,null,null,null,null,"",""]
[null,null,null,null,null,null,null,null,null,null,null,null,null,null,null,"",""]
[null,null,null,null,null,null,null,null,null,null,null,null,null,null,null,"",""]
[null,null,null,null,null,null,null,null,null,null,null,null,null,null,null,"",""]
[null,null,null,null,null,null,null,null,null,null,null,null,null,null,null,"",""]
[null,null,null,null,null,null,null,null,null,null,null,null,null,null,null,"",""]
[null,null,null,null,null,null,null,null,null,null,null,null,null,null,null,"",""]
[null,null,null,null,null,null,null,null,null,null,null,null,null,null,null,"",""]
[null,null,null,null,null,null,null,null,null,null,null,null,null,null,null,"",""]
[null,null,null,null,null,null,null,null,null,null,null,null,null,null,null,"",""]
[null,null,null,null,null,null,null,null,null,null,null,null,null,null,null,"",""]
[null,null,null,null,null,null,null,null,null,null,null,null,null,null,null,"",""]
[null,null,null,null,null,null,null,null,null,null,null,null,null,null,null,"",""]
[null,null,null,null,null,null,null,null,null,null,null,null,null,null,null,"",""]
[null,null,null,null,null,null,null,null,null,null,null,null,null,null,null,"",""]
[null,null,null,null,null,null,null,null,null,null,null,null,null,null,null,"",""]
[null,null,null,null,null,null,null,null,null,null,null,null,null,null,null,"",""]
[null,null,null,null,null,null,null,null,null,null,null,null,null,null,null,"",""]
[null,null,null,null,null,null,null,null,null,null,null,null,null,null,null,"",""]
[null,null,null,null,null,null,null,null,null,null,null,null,null,null,null,"",""]
[null,null,null,null,null,null,null,null,null,null,null,null,null,null,null,"",""]
[null,null,null,null,null,null,null,null,null,null,null,null,null,null,null,"",""]
[null,null,null,null,null,null,null,null,null,null,null,null,null,null,null,"",""]
[null,null,null,null,null,null,null,null,null,null,null,null,null,null,null,"",""]
[null,null,null,null,null,null,null,null,null,null,null,null,null,null,null,"",""]
[null,null,null,null,null,null,null,null,null,null,null,null,null,null,null,"",""]
[null,null,null,null,null,null,null,null,null,null,null,null,null,null,null,"",""]
[null,null,null,null,null,null,null,null,null,null,null,null,null,null,null,"",""]
[null,null,null,null,null,null,null,null,null,null,null,null,null,null,null,"",""]
[null,null,null,null,null,null,null,null,null,null,null,null,null,null,null,"",""]
[null,null,null,null,null,null,null,null,null,null,null,null,null,null,null,"",""]
[null,null,null,null,null,null,null,null,null,null,null,null,null,null,null,"",""]
[null,null,null,null,null,null,null,null,null,null,null,null,null,null,null,"",""]
[null,null,null,null,null,null,null,null,null,null,null,null,null,null,null,"",""]
[null,null,null,null,null,null,null,null,null,null,null,null,null,null,null,"",""]
[null,null,null,null,null,null,null,null,null,null,null,null,null,null,null,"",""]
[null,null,null,null,null,null,null,null,null,null,null,null,null,null,null,"",""]
[null,null,null,null,null,null,null,null,null,null,null,null,null,null,null,"",""]
[null,null,null,null,null,null,null,null,null,null,null,null,null,null,null,"",""]
[null,null,null,null,null,null,null,null,null,null,null,null,null,null,null,"",""]
[null,null,null,null,null,null,null,null,null,null,null,null,null,null,null,"",""]
[null,null,null,null,null,null,null,null,null,null,null,null,null,null,null,"",""]
[null,null,null,null,null,null,null,null,null,null,null,null,null,null,null,"",""]
[null,null,null,null,null,null,null,null,null,null,null,null,null,null,null,"",""]
[null,null,null,null,null,null,null,null,null,null,null,null,null,null,null,"",""]
[null,null,null,null,null,null,null,null,null,null,null,null,null,null,null,"",""]
[null,null,null,null,null,null,null,null,null,null,null,null,null,null,null,"",""]
[null,null,null,null,null,null,null,null,null,null,null,null,null,null,null,"",""]
[null,null,null,null,null,null,null,null,null,null,null,null,null,null,null,"",""]
[null,null,null,null,null,null,null,null,null,null,null,null,null,null,null,"",""]
[null,null,null,null,null,null,null,null,null,null,null,null,null,null,null,"",""]
[null,null,null,null,null,null,null,null,null,null,null,null,null,null,null,"",""]
[null,null,null,null,null,null,null,null,null,null,null,null,null,null,null,"",""]
[null,null,null,null,null,null,null,null,null,null,null,null,null,null,null,"",""]
[null,null,null,null,null,null,null,null,null,null,null,null,null,null,null,"",""]
[null,null,null,null,null,null,null,null,null,null,null,null,null,null,null,"",""]
[null,null,null,null,null,null,null,null,null,null,null,null,null,null,null,"",""]
[null,null,null,null,null,null,null,null,null,null,null,null,null,null,null,"",""]
[null,null,null,null,null,null,null,null,null,null,null,null,null,null,null,"",""]
[null,null,null,null,null,null,null,null,null,null,null,null,null,null,null,"",""]
[null,null,null,null,null,null,null,null,null,null,null,null,null,null,null,"",""]
[null,null,null,null,null,null,null,null,null,null,null,null,null,null,null,"",""]
[null,null,null,null,null,null,null,null,null,null,null,null,null,null,null,"",""]
[null,null,null,null,null,null,null,null,null,null,null,null,null,null,null,"",""]
[null,null,null,null,null,null,null,null,null,null,null,null,null,null,null,"",""]
[null,null,null,null,null,null,null,null,null,null,null,null,null,null,null,"",""]
[null,null,null,null,null,null,null,null,null,null,null,null,null,null,null,"",""]
[null,null,null,null,null,null,null,null,null,null,null,null,null,null,null,"",""]
[null,null,null,null,null,null,null,null,null,null,null,null,null,null,null,"",""]
[null,null,null,null,null,null,null,null,null,null,null,null,null,null,null,"",""]
[null,null,null,null,null,null,null,null,null,null,null,null,null,null,null,"",""]
[null,null,null,null,null,null,null,null,null,null,null,null,null,null,null,"",""]
[null,null,null,null,null,null,null,null,null,null,null,null,null,null,null,"",""]
[null,null,null,null,null,null,null,null,null,null,null,null,null,null,null,"",""]
[null,null,null,null,null,null,null,null,null,null,null,null,null,null,null,"",""]
[null,null,null,null,null,null,null,null,null,null,null,null,null,null,null,"",""]
[null,null,null,null,null,null,null,null,null,null,null,null,null,null,null,"",""]
[null,null,null,null,null,null,null,null,null,null,null,null,null,null,null,"",""]
[null,null,null,null,null,null,null,null,null,null,null,null,null,null,null,"",""]
[null,null,null,null,null,null,null,null,null,null,null,null,null,null,null,"",""]
[null,null,null,null,null,null,null,null,null,null,null,null,null,null,null,"",""]
[null,null,null,null,null,null,null,null,null,null,null,null,null,null,null,"",""]
[null,null,null,null,null,null,null,null,null,null,null,null,null,null,null,"",""]
[null,null,null,null,null,null,null,null,null,null,null,null,null,null,null,"",""]
[null,null,null,null,null,null,null,null,null,null,null,null,null,null,null,"",""]
[null,null,null,null,null,null,null,null,null,null,null,null,null,null,null,"",""]
[null,null,null,null,null,null,null,null,null,null,null,null,null,null,null,"",""]
[null,null,null,null,null,null,null,null,null,null,null,null,null,null,null,"",""]
[null,null,null,null,null,null,null,null,null,null,null,null,null,null,null,"",""]
[null,null,null,null,null,null,null,null,null,null,null,null,null,null,null,"",""]
[null,null,null,null,null,null,null,null,null,null,null,null,null,null,null,"",""]
[null,null,null,null,null,null,null,null,null,null,null,null,null,null,null,"",""]
[null,null,null,null,null,null,null,null,null,null,null,null,null,null,null,"",""]
[null,null,null,null,null,null,null,null,null,null,null,null,null,null,null,"",""]
[null,null,null,null,null,null,null,null,null,null,null,null,null,null,null,"",""]
[null,null,null,null,null,null,null,null,null,null,null,null,null,null,null,"",""]
[null,null,null,null,null,null,null,null,null,null,null,null,null,null,null,"",""]
[null,null,null,null,null,null,null,null,null,null,null,null,null,null,null,"",""]
[null,null,null,null,null,null,null,null,null,null,null,null,null,null,null,"",""]
[null,null,null,null,null,null,null,null,null,null,null,null,null,null,null,"",""]
[null,null,null,null,null,null,null,null,null,null,null,null,null,null,null,"",""]
[null,null,null,null,null,null,null,null,null,null,null,null,null,null,null,"",""]
[null,null,null,null,null,null,null,null,null,null,null,null,null,null,null,"",""]
[null,null,null,null,null,null,null,null,null,null,null,null,null,null,null,"",""]
[null,null,null,null,null,null,null,null,null,null,null,null,null,null,null,"",""]
[null,null,null,null,null,null,null,null,null,null,null,null,null,null,null,"",""]
[null,null,null,null,null,null,null,null,null,null,null,null,null,null,null,"",""]
[null,null,null,null,null,null,null,null,null,null,null,null,null,null,null,"",""]
[null,null,null,null,null,null,null,null,null,null,null,null,null,null,null,"",""]
[null,null,null,null,null,null,null,null,null,null,null,null,null,null,null,"",""]
[null,null,null,null,null,null,null,null,null,null,null,null,null,null,null,"",""]
[null,null,null,null,null,null,null,null,null,null,null,null,null,null,null,"",""]
[null,null,null,null,null,null,null,null,null,null,null,null,null,null,null,"",""]
[null,null,null,null,null,null,null,null,null,null,null,null,null,null,null,"",""]
[null,null,null,null,null,null,null,null,null,null,null,null,null,null,null,"",""]
[null,null,null,null,null,null,null,null,null,null,null,null,null,null,null,"",""]
[null,null,null,null,null,null,null,null,null,null,null,null,null,null,null,"",""]
[null,null,null,null,null,null,null,null,null,null,null,null,null,null,null,"",""]
[null,null,null,null,null,null,null,null,null,null,null,null,null,null,null,"",""]
[null,null,null,null,null,null,null,null,null,null,null,null,null,null,null,"",""]
[null,null,null,null,null,null,null,null,null,null,null,null,null,null,null,"",""]
[null,null,null,null,null,null,null,null,null,null,null,null,null,null,null,"",""]
[null,null,null,null,null,null,null,null,null,null,null,null,null,null,null,"",""]
[null,null,null,null,null,null,null,null,null,null,null,null,null,null,null,"",""]
[null,null,null,null,null,null,null,null,null,null,null,null,null,null,null,"",""]
[null,null,null,null,null,null,null,null,null,null,null,null,null,null,null,"",""]
[null,null,null,null,null,null,null,null,null,null,null,null,null,null,null,"",""]
[null,null,null,null,null,null,null,null,null,null,null,null,null,null,null,"",""]
[null,null,null,null,null,null,null,null,null,null,null,null,null,null,null,"",""]
[null,null,null,null,null,null,null,null,null,null,null,null,null,null,null,"",""]
[null,null,null,null,null,null,null,null,null,null,null,null,null,null,null,"",""]
[null,null,null,null,null,null,null,null,null,null,null,null,null,null,null,"",""]
[null,null,null,null,null,null,null,null,null,null,null,null,null,null,null,"",""]
[null,null,null,null,null,null,null,null,null,null,null,null,null,null,null,"",""]
[null,null,null,null,null,null,null,null,null,null,null,null,null,null,null,"",""]
[null,null,null,null,null,null,null,null,null,null,null,null,null,null,null,"",""]
[null,null,null,null,null,null,null,null,null,null,null,null,null,null,null,"",""]
[null,null,null,null,null,null,null,null,null,null,null,null,null,null,null,"",""]
[null,null,null,null,null,null,null,null,null,null,null,null,null,null,null,"",""]
[null,null,null,null,null,null,null,null,null,null,null,null,null,null,null,"",""]
[null,null,null,null,null,null,null,null,null,null,null,null,null,null,null,"",""]
[null,null,null,null,null,null,null,null,null,null,null,null,null,null,null,"",""]
[null,null,null,null,null,null,null,null,null,null,null,null,null,null,null,"",""]
[null,null,null,null,null,null,null,null,null,null,null,null,null,null,null,"",""]
[null,null,null,null,null,null,null,null,null,null,null,null,null,null,null,"",""]
[null,null,null,null,null,null,null,null,null,null,null,null,null,null,null,"",""]
[null,null,null,null,null,null,null,null,null,null,null,null,null,null,null,"",""]
[null,null,null,null,null,null,null,null,null,null,null,null,null,null,null,"",""]
[null,null,null,null,null,null,null,null,null,null,null,null,null,null,null,"",""]
[null,null,null,null,null,null,null,null,null,null,null,null,null,null,null,"",""]
[null,null,null,null,null,null,null,null,null,null,null,null,null,null,null,"",""]
[null,null,null,null,null,null,null,null,null,null,null,null,null,null,null,"",""]
[null,null,null,null,null,null,null,null,null,null,null,null,null,null,null,"",""]
[null,null,null,null,null,null,null,null,null,null,null,null,null,null,null,"",""]
[null,null,null,null,null,null,null,null,null,null,null,null,null,null,null,"",""]
[null,null,null,null,null,null,null,null,null,null,null,null,null,null,null,"",""]
[null,null,null,null,null,null,null,null,null,null,null,null,null,null,null,"",""]
[null,null,null,null,null,null,null,null,null,null,null,null,null,null,null,"",""]
[null,null,null,null,null,null,null,null,null,null,null,null,null,null,null,"",""]
[null,null,null,null,null,null,null,null,null,null,null,null,null,null,null,"",""]
[null,null,null,null,null,null,null,null,null,null,null,null,null,null,null,"",""]
[null,null,null,null,null,null,null,null,null,null,null,null,null,null,null,"",""]
[null,null,null,null,null,null,null,null,null,null,null,null,null,null,null,"",""]
[null,null,null,null,null,null,null,null,null,null,null,null,null,null,null,"",""]
[null,null,null,null,null,null,null,null,null,null,null,null,null,null,null,"",""]
[null,null,null,null,null,null,null,null,null,null,null,null,null,null,null,"",""]
[null,null,null,null,null,null,null,null,null,null,null,null,null,null,null,"",""]
[null,null,null,null,null,null,null,null,null,null,null,null,null,null,null,"",""]
[null,null,null,null,null,null,null,null,null,null,null,null,null,null,null,"",""]
[null,null,null,null,null,null,null,null,null,null,null,null,null,null,null,"",""]
[null,null,null,null,null,null,null,null,null,null,null,null,null,null,null,"",""]
[null,null,null,null,null,null,null,null,null,null,null,null,null,null,null,"",""]
[null,null,null,null,null,null,null,null,null,null,null,null,null,null,null,"",""]
[null,null,null,null,null,null,null,null,null,null,null,null,null,null,null,"",""]
[null,null,null,null,null,null,null,null,null,null,null,null,null,null,null,"",""]
[null,null,null,null,null,null,null,null,null,null,null,null,null,null,null,"",""]
[null,null,null,null,null,null,null,null,null,null,null,null,null,null,null,"",""]
[null,null,null,null,null,null,null,null,null,null,null,null,null,null,null,"",""]
[null,null,null,null,null,null,null,null,null,null,null,null,null,null,null,"",""]
[null,null,null,null,null,null,null,null,null,null,null,null,null,null,null,"",""]
[null,null,null,null,null,null,null,null,null,null,null,null,null,null,null,"",""]
[null,null,null,null,null,null,null,null,null,null,null,null,null,null,null,"",""]
[null,null,null,null,null,null,null,null,null,null,null,null,null,null,null,"",""]
[null,null,null,null,null,null,null,null,null,null,null,null,null,null,null,"",""]
[null,null,null,null,null,null,null,null,null,null,null,null,null,null,null,"",""]
[null,null,null,null,null,null,null,null,null,null,null,null,null,null,null,"",""]
[null,null,null,null,null,null,null,null,null,null,null,null,null,null,null,"",""]
[null,null,null,null,null,null,null,null,null,null,null,null,null,null,null,"",""]
[null,null,null,null,null,null,null,null,null,null,null,null,null,null,null,"",""]
[null,null,null,null,null,null,null,null,null,null,null,null,null,null,null,"",""]
[null,null,null,null,null,null,null,null,null,null,null,null,null,null,null,"",""]
[null,null,null,null,null,null,null,null,null,null,null,null,null,null,null,"",""]
[null,null,null,null,null,null,null,null,null,null,null,null,null,null,null,"",""]
[null,null,null,null,null,null,null,null,null,null,null,null,null,null,null,"",""]
[null,null,null,null,null,null,null,null,null,null,null,null,null,null,null,"",""]
[null,null,null,null,null,null,null,null,null,null,null,null,null,null,null,"",""]
[null,null,null,null,null,null,null,null,null,null,null,null,null,null,null,"",""]
[null,null,null,null,null,null,null,null,null,null,null,null,null,null,null,"",""]
[null,null,null,null,null,null,null,null,null,null,null,null,null,null,null,"",""]
[null,null,null,null,null,null,null,null,null,null,null,null,null,null,null,"",""]
[null,null,null,null,null,null,null,null,null,null,null,null,null,null,null,"",""]
[null,null,null,null,null,null,null,null,null,null,null,null,null,null,null,"",""]
[null,null,null,null,null,null,null,null,null,null,null,null,null,null,null,"",""]
[null,null,null,null,null,null,null,null,null,null,null,null,null,null,null,"",""]
[null,null,null,null,null,null,null,null,null,null,null,null,null,null,null,"",""]
[null,null,null,null,null,null,null,null,null,null,null,null,null,null,null,"",""]
[null,null,null,null,null,null,null,null,null,null,null,null,null,null,null,"",""]
[null,null,null,null,null,null,null,null,null,null,null,null,null,null,null,"",""]
[null,null,null,null,null,null,null,null,null,null,null,null,null,null,null,"",""]
[null,null,null,null,null,null,null,null,null,null,null,null,null,null,null,"",""]
[null,null,null,null,null,null,null,null,null,null,null,null,null,null,null,"",""]
[null,null,null,null,null,null,null,null,null,null,null,null,null,null,null,"",""]
[null,null,null,null,null,null,null,null,null,null,null,null,null,null,null,"",""]
[null,null,null,null,null,null,null,null,null,null,null,null,null,null,null,"",""]
[null,null,null,null,null,null,null,null,null,null,null,null,null,null,null,"",""]
[null,null,null,null,null,null,null,null,null,null,null,null,null,null,null,"",""]
[null,null,null,null,null,null,null,null,null,null,null,null,null,null,null,"",""]
[null,null,null,null,null,null,null,null,null,null,null,null,null,null,null,"",""]
[null,null,null,null,null,null,null,null,null,null,null,null,null,null,null,"",""]
[null,null,null,null,null,null,null,null,null,null,null,null,null,null,null,"",""]
[null,null,null,null,null,null,null,null,null,null,null,null,null,null,null,"",""]
[null,null,null,null,null,null,null,null,null,null,null,null,null,null,null,"",""]
[null,null,null,null,null,null,null,null,null,null,null,null,null,null,null,"",""]
[null,null,null,null,null,null,null,null,null,null,null,null,null,null,null,"",""]
[null,null,null,null,null,null,null,null,null,null,null,null,null,null,null,"",""]
[null,null,null,null,null,null,null,null,null,null,null,null,null,null,null,"",""]
[null,null,null,null,null,null,null,null,null,null,null,null,null,null,null,"",""]
[null,null,null,null,null,null,null,null,null,null,null,null,null,null,null,"",""]
[null,null,null,null,null,null,null,null,null,null,null,null,null,null,null,"",""]
[null,null,null,null,null,null,null,null,null,null,null,null,null,null,null,"",""]
[null,null,null,null,null,null,null,null,null,null,null,null,null,null,null,"",""]
[null,null,null,null,null,null,null,null,null,null,null,null,null,null,null,"",""]
[null,null,null,null,null,null,null,null,null,null,null,null,null,null,null,"",""]
[null,null,null,null,null,null,null,null,null,null,null,null,null,null,null,"",""]
[null,null,null,null,null,null,null,null,null,null,null,null,null,null,null,"",""]
[null,null,null,null,null,null,null,null,null,null,null,null,null,null,null,"",""]
[null,null,null,null,null,null,null,null,null,null,null,null,null,null,null,"",""]
[null,null,null,null,null,null,null,null,null,null,null,null,null,null,null,"",""]
[null,null,null,null,null,null,null,null,null,null,null,null,null,null,null,"",""]
[null,null,null,null,null,null,null,null,null,null,null,null,null,null,null,"",""]
[null,null,null,null,null,null,null,null,null,null,null,null,null,null,null,"",""]
[null,null,null,null,null,null,null,null,null,null,null,null,null,null,null,"",""]
[null,null,null,null,null,null,null,null,null,null,null,null,null,null,null,"",""]
[null,null,null,null,null,null,null,null,null,null,null,null,null,null,null,"",""]
[null,null,null,null,null,null,null,null,null,null,null,null,null,null,null,"",""]
[null,null,null,null,null,null,null,null,null,null,null,null,null,null,null,"",""]
[null,null,null,null,null,null,null,null,null,null,null,null,null,null,null,"",""]
[null,null,null,null,null,null,null,null,null,null,null,null,null,null,null,"",""]
[null,null,null,null,null,null,null,null,null,null,null,null,null,null,null,"",""]
[null,null,null,null,null,null,null,null,null,null,null,null,null,null,null,"",""]
[null,null,null,null,null,null,null,null,null,null,null,null,null,null,null,"",""]
[null,null,null,null,null,null,null,null,null,null,null,null,null,null,null,"",""]
[null,null,null,null,null,null,null,null,null,null,null,null,null,null,null,"",""]
[null,null,null,null,null,null,null,null,null,null,null,null,null,null,null,"",""]
[null,null,null,null,null,null,null,null,null,null,null,null,null,null,null,"",""]
[null,null,null,null,null,null,null,null,null,null,null,null,null,null,null,"",""]
[null,null,null,null,null,null,null,null,null,null,null,null,null,null,null,"",""]
[null,null,null,null,null,null,null,null,null,null,null,null,null,null,null,"",""]
[null,null,null,null,null,null,null,null,null,null,null,null,null,null,null,"",""]
[null,null,null,null,null,null,null,null,null,null,null,null,null,null,null,"",""]
[null,null,null,null,null,null,null,null,null,null,null,null,null,null,null,"",""]
[null,null,null,null,null,null,null,null,null,null,null,null,null,null,null,"",""]
[null,null,null,null,null,null,null,null,null,null,null,null,null,null,null,"",""]
[null,null,null,null,null,null,null,null,null,null,null,null,null,null,null,"",""]
[null,null,null,null,null,null,null,null,null,null,null,null,null,null,null,"",""]
[null,null,null,null,null,null,null,null,null,null,null,null,null,null,null,"",""]
[null,null,null,null,null,null,null,null,null,null,null,null,null,null,null,"",""]
[null,null,null,null,null,null,null,null,null,null,null,null,null,null,null,"",""]
[null,null,null,null,null,null,null,null,null,null,null,null,null,null,null,"",""]
[null,null,null,null,null,null,null,null,null,null,null,null,null,null,null,"",""]
[null,null,null,null,null,null,null,null,null,null,null,null,null,null,null,"",""]
[null,null,null,null,null,null,null,null,null,null,null,null,null,null,null,"",""]
[null,null,null,null,null,null,null,null,null,null,null,null,null,null,null,"",""]
[null,null,null,null,null,null,null,null,null,null,null,null,null,null,null,"",""]
[null,null,null,null,null,null,null,null,null,null,null,null,null,null,null,"",""]
[null,null,null,null,null,null,null,null,null,null,null,null,null,null,null,"",""]
[null,null,null,null,null,null,null,null,null,null,null,null,null,null,null,"",""]
[null,null,null,null,null,null,null,null,null,null,null,null,null,null,null,"",""]
[null,null,null,null,null,null,null,null,null,null,null,null,null,null,null,"",""]
[null,null,null,null,null,null,null,null,null,null,null,null,null,null,null,"",""]
[null,null,null,null,null,null,null,null,null,null,null,null,null,null,null,"",""]
[null,null,null,null,null,null,null,null,null,null,null,null,null,null,null,"",""]
[null,null,null,null,null,null,null,null,null,null,null,null,null,null,null,"",""]
[null,null,null,null,null,null,null,null,null,null,null,null,null,null,null,"",""]
[null,null,null,null,null,null,null,null,null,null,null,null,null,null,null,"",""]
[null,null,null,null,null,null,null,null,null,null,null,null,null,null,null,"",""]
[null,null,null,null,null,null,null,null,null,null,null,null,null,null,null,"",""]
[null,null,null,null,null,null,null,null,null,null,null,null,null,null,null,"",""]
[null,null,null,null,null,null,null,null,null,null,null,null,null,null,null,"",""]
[null,null,null,null,null,null,null,null,null,null,null,null,null,null,null,"",""]
[null,null,null,null,null,null,null,null,null,null,null,null,null,null,null,"",""]
[null,null,null,null,null,null,null,null,null,null,null,null,null,null,null,"",""]
[null,null,null,null,null,null,null,null,null,null,null,null,null,null,null,"",""]
[null,null,null,null,null,null,null,null,null,null,null,null,null,null,null,"",""]
[null,null,null,null,null,null,null,null,null,null,null,null,null,null,null,"",""]
[null,null,null,null,null,null,null,null,null,null,null,null,null,null,null,"",""]
[null,null,null,null,null,null,null,null,null,null,null,null,null,null,null,"",""]
[null,null,null,null,null,null,null,null,null,null,null,null,null,null,null,"",""]
[null,null,null,null,null,null,null,null,null,null,null,null,null,null,null,"",""]
[null,null,null,null,null,null,null,null,null,null,null,null,null,null,null,"",""]
[null,null,null,null,null,null,null,null,null,null,null,null,null,null,null,"",""]
[null,null,null,null,null,null,null,null,null,null,null,null,null,null,null,"",""]
[null,null,null,null,null,null,null,null,null,null,null,null,null,null,null,"",""]
[null,null,null,null,null,null,null,null,null,null,null,null,null,null,null,"",""]
[null,null,null,null,null,null,null,null,null,null,null,null,null,null,null,"",""]
[null,null,null,null,null,null,null,null,null,null,null,null,null,null,null,"",""]
[null,null,null,null,null,null,null,null,null,null,null,null,null,null,null,"",""]
[null,null,null,null,null,null,null,null,null,null,null,null,null,null,null,"",""]
[null,null,null,null,null,null,null,null,null,null,null,null,null,null,null,"",""]
[null,null,null,null,null,null,null,null,null,null,null,null,null,null,null,"",""]
[null,null,null,null,null,null,null,null,null,null,null,null,null,null,null,"",""]
[null,null,null,null,null,null,null,null,null,null,null,null,null,null,null,"",""]
[null,null,null,null,null,null,null,null,null,null,null,null,null,null,null,"",""]
[null,null,null,null,null,null,null,null,null,null,null,null,null,null,null,"",""]
[null,null,null,null,null,null,null,null,null,null,null,null,null,null,null,"",""]
[null,null,null,null,null,null,null,null,null,null,null,null,null,null,null,"",""]
[null,null,null,null,null,null,null,null,null,null,null,null,null,null,null,"",""]
[null,null,null,null,null,null,null,null,null,null,null,null,null,null,null,"",""]
[null,null,null,null,null,null,null,null,null,null,null,null,null,null,null,"",""]
[null,null,null,null,null,null,null,null,null,null,null,null,null,null,null,"",""]
[null,null,null,null,null,null,null,null,null,null,null,null,null,null,null,"",""]
[null,null,null,null,null,null,null,null,null,null,null,null,null,null,null,"",""]
[null,null,null,null,null,null,null,null,null,null,null,null,null,null,null,"",""]
[null,null,null,null,null,null,null,null,null,null,null,null,null,null,null,"",""]
[null,null,null,null,null,null,null,null,null,null,null,null,null,null,null,"",""]
[null,null,null,null,null,null,null,null,null,null,null,null,null,null,null,"",""]
[null,null,null,null,null,null,null,null,null,null,null,null,null,null,null,"",""]
[null,null,null,null,null,null,null,null,null,null,null,null,null,null,null,"",""]
[null,null,null,null,null,null,null,null,null,null,null,null,null,null,null,"",""]
[null,null,null,null,null,null,null,null,null,null,null,null,null,null,null,"",""]
[null,null,null,null,null,null,null,null,null,null,null,null,null,null,null,"",""]
[null,null,null,null,null,null,null,null,null,null,null,null,null,null,null,"",""]
[null,null,null,null,null,null,null,null,null,null,null,null,null,null,null,"",""]
[null,null,null,null,null,null,null,null,null,null,null,null,null,null,null,"",""]
[null,null,null,null,null,null,null,null,null,null,null,null,null,null,null,"",""]
[null,null,null,null,null,null,null,null,null,null,null,null,null,null,null,"",""]
[null,null,null,null,null,null,null,null,null,null,null,null,null,null,null,"",""]
[null,null,null,null,null,null,null,null,null,null,null,null,null,null,null,"",""]
[null,null,null,null,null,null,null,null,null,null,null,null,null,null,null,"",""]
[null,null,null,null,null,null,null,null,null,null,null,null,null,null,null,"",""]
[null,null,null,null,null,null,null,null,null,null,null,null,null,null,null,"",""]
[null,null,null,null,null,null,null,null,null,null,null,null,null,null,null,"",""]
[null,null,null,null,null,null,null,null,null,null,null,null,null,null,null,"",""]
[null,null,null,null,null,null,null,null,null,null,null,null,null,null,null,"",""]
[null,null,null,null,null,null,null,null,null,null,null,null,null,null,null,"",""]
[null,null,null,null,null,null,null,null,null,null,null,null,null,null,null,"",""]
[null,null,null,null,null,null,null,null,null,null,null,null,null,null,null,"",""]
[null,null,null,null,null,null,null,null,null,null,null,null,null,null,null,"",""]
[null,null,null,null,null,null,null,null,null,null,null,null,null,null,null,"",""]
[null,null,null,null,null,null,null,null,null,null,null,null,null,null,null,"",""]
[null,null,null,null,null,null,null,null,null,null,null,null,null,null,null,"",""]
[null,null,null,null,null,null,null,null,null,null,null,null,null,null,null,"",""]
[null,null,null,null,null,null,null,null,null,null,null,null,null,null,null,"",""]
[null,null,null,null,null,null,null,null,null,null,null,null,null,null,null,"",""]
[null,null,null,null,null,null,null,null,null,null,null,null,null,null,null,"",""]
[null,null,null,null,null,null,null,null,null,null,null,null,null,null,null,"",""]
[null,null,null,null,null,null,null,null,null,null,null,null,null,null,null,"",""]
[null,null,null,null,null,null,null,null,null,null,null,null,null,null,null,"",""]
[null,null,null,null,null,null,null,null,null,null,null,null,null,null,null,"",""]
[null,null,null,null,null,null,null,null,null,null,null,null,null,null,null,"",""]
[null,null,null,null,null,null,null,null,null,null,null,null,null,null,null,"",""]
[null,null,null,null,null,null,null,null,null,null,null,null,null,null,null,"",""]
[null,null,null,null,null,null,null,null,null,null,null,null,null,null,null,"",""]
[null,null,null,null,null,null,null,null,null,null,null,null,null,null,null,"",""]
[null,null,null,null,null,null,null,null,null,null,null,null,null,null,null,"",""]
[null,null,null,null,null,null,null,null,null,null,null,null,null,null,null,"",""]
[null,null,null,null,null,null,null,null,null,null,null,null,null,null,null,"",""]
[null,null,null,null,null,null,null,null,null,null,null,null,null,null,null,"",""]
[null,null,null,null,null,null,null,null,null,null,null,null,null,null,null,"",""]
[null,null,null,null,null,null,null,null,null,null,null,null,null,null,null,"",""]
[null,null,null,null,null,null,null,null,null,null,null,null,null,null,null,"",""]
[null,null,null,null,null,null,null,null,null,null,null,null,null,null,null,"",""]
[null,null,null,null,null,null,null,null,null,null,null,null,null,null,null,"",""]
[null,null,null,null,null,null,null,null,null,null,null,null,null,null,null,"",""]
[null,null,null,null,null,null,null,null,null,null,null,null,null,null,null,"",""]
[null,null,null,null,null,null,null,null,null,null,null,null,null,null,null,"",""]
[null,null,null,null,null,null,null,null,null,null,null,null,null,null,null,"",""]
[null,null,null,null,null,null,null,null,null,null,null,null,null,null,null,"",""]
[null,null,null,null,null,null,null,null,null,null,null,null,null,null,null,"",""]
[null,null,null,null,null,null,null,null,null,null,null,null,null,null,null,"",""]
[null,null,null,null,null,null,null,null,null,null,null,null,null,null,null,"",""]
[null,null,null,null,null,null,null,null,null,null,null,null,null,null,null,"",""]
[null,null,null,null,null,null,null,null,null,null,null,null,null,null,null,"",""]
[null,null,null,null,null,null,null,null,null,null,null,null,null,null,null,"",""]
[null,null,null,null,null,null,null,null,null,null,null,null,null,null,null,"",""]
[null,null,null,null,null,null,null,null,null,null,null,null,null,null,null,"",""]
[null,null,null,null,null,null,null,null,null,null,null,null,null,null,null,"",""]
[null,null,null,null,null,null,null,null,null,null,null,null,null,null,null,"",""]
[null,null,null,null,null,null,null,null,null,null,null,null,null,null,null,"",""]
[null,null,null,null,null,null,null,null,null,null,null,null,null,null,null,"",""]
[null,null,null,null,null,null,null,null,null,null,null,null,null,null,null,"",""]
[null,null,null,null,null,null,null,null,null,null,null,null,null,null,null,"",""]
[null,null,null,null,null,null,null,null,null,null,null,null,null,null,null,"",""]
[null,null,null,null,null,null,null,null,null,null,null,null,null,null,null,"",""]
[null,null,null,null,null,null,null,null,null,null,null,null,null,null,null,"",""]
[null,null,null,null,null,null,null,null,null,null,null,null,null,null,null,"",""]
[null,null,null,null,null,null,null,null,null,null,null,null,null,null,null,"",""]
[null,null,null,null,null,null,null,null,null,null,null,null,null,null,null,"",""]
[null,null,null,null,null,null,null,null,null,null,null,null,null,null,null,"",""]
[null,null,null,null,null,null,null,null,null,null,null,null,null,null,null,"",""]
[null,null,null,null,null,null,null,null,null,null,null,null,null,null,null,"",""]
[null,null,null,null,null,null,null,null,null,null,null,null,null,null,null,"",""]
[null,null,null,null,null,null,null,null,null,null,null,null,null,null,null,"",""]
[null,null,null,null,null,null,null,null,null,null,null,null,null,null,null,"",""]
[null,null,null,null,null,null,null,null,null,null,null,null,null,null,null,"",""]
[null,null,null,null,null,null,null,null,null,null,null,null,null,null,null,"",""]
[null,null,null,null,null,null,null,null,null,null,null,null,null,null,null,"",""]
[null,null,null,null,null,null,null,null,null,null,null,null,null,null,null,"",""]
[null,null,null,null,null,null,null,null,null,null,null,null,null,null,null,"",""]
[null,null,null,null,null,null,null,null,null,null,null,null,null,null,null,"",""]
[null,null,null,null,null,null,null,null,null,null,null,null,null,null,null,"",""]
[null,null,null,null,null,null,null,null,null,null,null,null,null,null,null,"",""]
[null,null,null,null,null,null,null,null,null,null,null,null,null,null,null,"",""]
[null,null,null,null,null,null,null,null,null,null,null,null,null,null,null,"",""]
[null,null,null,null,null,null,null,null,null,null,null,null,null,null,null,"",""]
[null,null,null,null,null,null,null,null,null,null,null,null,null,null,null,"",""]
[null,null,null,null,null,null,null,null,null,null,null,null,null,null,null,"",""]
[null,null,null,null,null,null,null,null,null,null,null,null,null,null,null,"",""]
[null,null,null,null,null,null,null,null,null,null,null,null,null,null,null,"",""]
[null,null,null,null,null,null,null,null,null,null,null,null,null,null,null,"",""]
[null,null,null,null,null,null,null,null,null,null,null,null,null,null,null,"",""]
[null,null,null,null,null,null,null,null,null,null,null,null,null,null,null,"",""]
[null,null,null,null,null,null,null,null,null,null,null,null,null,null,null,"",""]
[null,null,null,null,null,null,null,null,null,null,null,null,null,null,null,"",""]
[null,null,null,null,null,null,null,null,null,null,null,null,null,null,null,"",""]
[null,null,null,null,null,null,null,null,null,null,null,null,null,null,null,"",""]
[null,null,null,null,null,null,null,null,null,null,null,null,null,null,null,"",""]
[null,null,null,null,null,null,null,null,null,null,null,null,null,null,null,"",""]
[null,null,null,null,null,null,null,null,null,null,null,null,null,null,null,"",""]
[null,null,null,null,null,null,null,null,null,null,null,null,null,null,null,"",""]
[null,null,null,null,null,null,null,null,null,null,null,null,null,null,null,"",""]
[null,null,null,null,null,null,null,null,null,null,null,null,null,null,null,"",""]
[null,null,null,null,null,null,null,null,null,null,null,null,null,null,null,"",""]
[null,null,null,null,null,null,null,null,null,null,null,null,null,null,null,"",""]
[null,null,null,null,null,null,null,null,null,null,null,null,null,null,null,"",""]
[null,null,null,null,null,null,null,null,null,null,null,null,null,null,null,"",""]
[null,null,null,null,null,null,null,null,null,null,null,null,null,null,null,"",""]
[null,null,null,null,null,null,null,null,null,null,null,null,null,null,null,"",""]
[null,null,null,null,null,null,null,null,null,null,null,null,null,null,null,"",""]
[null,null,null,null,null,null,null,null,null,null,null,null,null,null,null,"",""]
[null,null,null,null,null,null,null,null,null,null,null,null,null,null,null,"",""]
[null,null,null,null,null,null,null,null,null,null,null,null,null,null,null,"",""]
[null,null,null,null,null,null,null,null,null,null,null,null,null,null,null,"",""]
[null,null,null,null,null,null,null,null,null,null,null,null,null,null,null,"",""]
[null,null,null,null,null,null,null,null,null,null,null,null,null,null,null,"",""]
[null,null,null,null,null,null,null,null,null,null,null,null,null,null,null,"",""]
[null,null,null,null,null,null,null,null,null,null,null,null,null,null,null,"",""]
[null,null,null,null,null,null,null,null,null,null,null,null,null,null,null,"",""]
[null,null,null,null,null,null,null,null,null,null,null,null,null,null,null,"",""]
[null,null,null,null,null,null,null,null,null,null,null,null,null,null,null,"",""]
[null,null,null,null,null,null,null,null,null,null,null,null,null,null,null,"",""]
[null,null,null,null,null,null,null,null,null,null,null,null,null,null,null,"",""]
[null,null,null,null,null,null,null,null,null,null,null,null,null,null,null,"",""]
[null,null,null,null,null,null,null,null,null,null,null,null,null,null,null,"",""]
[null,null,null,null,null,null,null,null,null,null,null,null,null,null,null,"",""]
[null,null,null,null,null,null,null,null,null,null,null,null,null,null,null,"",""]
[null,null,null,null,null,null,null,null,null,null,null,null,null,null,null,"",""]
[null,null,null,null,null,null,null,null,null,null,null,null,null,null,null,"",""]
[null,null,null,null,null,null,null,null,null,null,null,null,null,null,null,"",""]
[null,null,null,null,null,null,null,null,null,null,null,null,null,null,null,"",""]
[null,null,null,null,null,null,null,null,null,null,null,null,null,null,null,"",""]
[null,null,null,null,null,null,null,null,null,null,null,null,null,null,null,"",""]
[null,null,null,null,null,null,null,null,null,null,null,null,null,null,null,"",""]
[null,null,null,null,null,null,null,null,null,null,null,null,null,null,null,"",""]
[null,null,null,null,null,null,null,null,null,null,null,null,null,null,null,"",""]
[null,null,null,null,null,null,null,null,null,null,null,null,null,null,null,"",""]
[null,null,null,null,null,null,null,null,null,null,null,null,null,null,null,"",""]
[null,null,null,null,null,null,null,null,null,null,null,null,null,null,null,"",""]
[null,null,null,null,null,null,null,null,null,null,null,null,null,null,null,"",""]
[null,null,null,null,null,null,null,null,null,null,null,null,null,null,null,"",""]
[null,null,null,null,null,null,null,null,null,null,null,null,null,null,null,"",""]
[null,null,null,null,null,null,null,null,null,null,null,null,null,null,null,"",""]
[null,null,null,null,null,null,null,null,null,null,null,null,null,null,null,"",""]
[null,null,null,null,null,null,null,null,null,null,null,null,null,null,null,"",""]
[null,null,null,null,null,null,null,null,null,null,null,null,null,null,null,"",""]
[null,null,null,null,null,null,null,null,null,null,null,null,null,null,null,"",""]
[null,null,null,null,null,null,null,null,null,null,null,null,null,null,null,"",""]
[null,null,null,null,null,null,null,null,null,null,null,null,null,null,null,"",""]
[null,null,null,null,null,null,null,null,null,null,null,null,null,null,null,"",""]
[null,null,null,null,null,null,null,null,null,null,null,null,null,null,null,"",""]
[null,null,null,null,null,null,null,null,null,null,null,null,null,null,null,"",""]
[null,null,null,null,null,null,null,null,null,null,null,null,null,null,null,"",""]
[null,null,null,null,null,null,null,null,null,null,null,null,null,null,null,"",""]
[null,null,null,null,null,null,null,null,null,null,null,null,null,null,null,"",""]
[null,null,null,null,null,null,null,null,null,null,null,null,null,null,null,"",""]
[null,null,null,null,null,null,null,null,null,null,null,null,null,null,null,"",""]
[null,null,null,null,null,null,null,null,null,null,null,null,null,null,null,"",""]
[null,null,null,null,null,null,null,null,null,null,null,null,null,null,null,"",""]
[null,null,null,null,null,null,null,null,null,null,null,null,null,null,null,"",""]
[null,null,null,null,null,null,null,null,null,null,null,null,null,null,null,"",""]
[null,null,null,null,null,null,null,null,null,null,null,null,null,null,null,"",""]
[null,null,null,null,null,null,null,null,null,null,null,null,null,null,null,"",""]
[null,null,null,null,null,null,null,null,null,null,null,null,null,null,null,"",""]
[null,null,null,null,null,null,null,null,null,null,null,null,null,null,null,"",""]
[null,null,null,null,null,null,null,null,null,null,null,null,null,null,null,"",""]
[null,null,null,null,null,null,null,null,null,null,null,null,null,null,null,"",""]
[null,null,null,null,null,null,null,null,null,null,null,null,null,null,null,"",""]
[null,null,null,null,null,null,null,null,null,null,null,null,null,null,null,"",""]
[null,null,null,null,null,null,null,null,null,null,null,null,null,null,null,"",""]
[null,null,null,null,null,null,null,null,null,null,null,null,null,null,null,"",""]
[null,null,null,null,null,null,null,null,null,null,null,null,null,null,null,"",""]
[null,null,null,null,null,null,null,null,null,null,null,null,null,null,null,"",""]
[null,null,null,null,null,null,null,null,null,null,null,null,null,null,null,"",""]
[null,null,null,null,null,null,null,null,null,null,null,null,null,null,null,"",""]
[null,null,null,null,null,null,null,null,null,null,null,null,null,null,null,"",""]
[null,null,null,null,null,null,null,null,null,null,null,null,null,null,null,"",""]
[null,null,null,null,null,null,null,null,null,null,null,null,null,null,null,"",""]
[null,null,null,null,null,null,null,null,null,null,null,null,null,null,null,"",""]
[null,null,null,null,null,null,null,null,null,null,null,null,null,null,null,"",""]
[null,null,null,null,null,null,null,null,null,null,null,null,null,null,null,"",""]
[null,null,null,null,null,null,null,null,null,null,null,null,null,null,null,"",""]
[null,null,null,null,null,null,null,null,null,null,null,null,null,null,null,"",""]
[null,null,null,null,null,null,null,null,null,null,null,null,null,null,null,"",""]
[null,null,null,null,null,null,null,null,null,null,null,null,null,null,null,"",""]
[null,null,null,null,null,null,null,null,null,null,null,null,null,null,null,"",""]
[null,null,null,null,null,null,null,null,null,null,null,null,null,null,null,"",""]
[null,null,null,null,null,null,null,null,null,null,null,null,null,null,null,"",""]
[null,null,null,null,null,null,null,null,null,null,null,null,null,null,null,"",""]
[null,null,null,null,null,null,null,null,null,null,null,null,null,null,null,"",""]
[null,null,null,null,null,null,null,null,null,null,null,null,null,null,null,"",""]
[null,null,null,null,null,null,null,null,null,null,null,null,null,null,null,"",""]
[null,null,null,null,null,null,null,null,null,null,null,null,null,null,null,"",""]
[null,null,null,null,null,null,null,null,null,null,null,null,null,null,null,"",""]
[null,null,null,null,null,null,null,null,null,null,null,null,null,null,null,"",""]
[null,null,null,null,null,null,null,null,null,null,null,null,null,null,null,"",""]
[null,null,null,null,null,null,null,null,null,null,null,null,null,null,null,"",""]
[null,null,null,null,null,null,null,null,null,null,null,null,null,null,null,"",""]
[null,null,null,null,null,null,null,null,null,null,null,null,null,null,null,"",""]
[null,null,null,null,null,null,null,null,null,null,null,null,null,null,null,"",""]
[null,null,null,null,null,null,null,null,null,null,null,null,null,null,null,"",""]
[null,null,null,null,null,null,null,null,null,null,null,null,null,null,null,"",""]
[null,null,null,null,null,null,null,null,null,null,null,null,null,null,null,"",""]
[null,null,null,null,null,null,null,null,null,null,null,null,null,null,null,"",""]
[null,null,null,null,null,null,null,null,null,null,null,null,null,null,null,"",""]
[null,null,null,null,null,null,null,null,null,null,null,null,null,null,null,"",""]
[null,null,null,null,null,null,null,null,null,null,null,null,null,null,null,"",""]
[null,null,null,null,null,null,null,null,null,null,null,null,null,null,null,"",""]
[null,null,null,null,null,null,null,null,null,null,null,null,null,null,null,"",""]
[null,null,null,null,null,null,null,null,null,null,null,null,null,null,null,"",""]
[null,null,null,null,null,null,null,null,null,null,null,null,null,null,null,"",""]
[null,null,null,null,null,null,null,null,null,null,null,null,null,null,null,"",""]
[null,null,null,null,null,null,null,null,null,null,null,null,null,null,null,"",""]
[null,null,null,null,null,null,null,null,null,null,null,null,null,null,null,"",""]
[null,null,null,null,null,null,null,null,null,null,null,null,null,null,null,"",""]
[null,null,null,null,null,null,null,null,null,null,null,null,null,null,null,"",""]
[null,null,null,null,null,null,null,null,null,null,null,null,null,null,null,"",""]
[null,null,null,null,null,null,null,null,null,null,null,null,null,null,null,"",""]
[null,null,null,null,null,null,null,null,null,null,null,null,null,null,null,"",""]
[null,null,null,null,null,null,null,null,null,null,null,null,null,null,null,"",""]
[null,null,null,null,null,null,null,null,null,null,null,null,null,null,null,"",""]
[null,null,null,null,null,null,null,null,null,null,null,null,null,null,null,"",""]
[null,null,null,null,null,null,null,null,null,null,null,null,null,null,null,"",""]
[null,null,null,null,null,null,null,null,null,null,null,null,null,null,null,"",""]
[null,null,null,null,null,null,null,null,null,null,null,null,null,null,null,"",""]
[null,null,null,null,null,null,null,null,null,null,null,null,null,null,null,"",""]
[null,null,null,null,null,null,null,null,null,null,null,null,null,null,null,"",""]
[null,null,null,null,null,null,null,null,null,null,null,null,null,null,null,"",""]
[null,null,null,null,null,null,null,null,null,null,null,null,null,null,null,"",""]
[null,null,null,null,null,null,null,null,null,null,null,null,null,null,null,"",""]
[null,null,null,null,null,null,null,null,null,null,null,null,null,null,null,"",""]
[null,null,null,null,null,null,null,null,null,null,null,null,null,null,null,"",""]
[null,null,null,null,null,null,null,null,null,null,null,null,null,null,null,"",""]
[null,null,null,null,null,null,null,null,null,null,null,null,null,null,null,"",""]
[null,null,null,null,null,null,null,null,null,null,null,null,null,null,null,"",""]
[null,null,null,null,null,null,null,null,null,null,null,null,null,null,null,"",""]
[null,null,null,null,null,null,null,null,null,null,null,null,null,null,null,"",""]
[null,null,null,null,null,null,null,null,null,null,null,null,null,null,null,"",""]
[null,null,null,null,null,null,null,null,null,null,null,null,null,null,null,"",""]
[null,null,null,null,null,null,null,null,null,null,null,null,null,null,null,"",""]
[null,null,null,null,null,null,null,null,null,null,null,null,null,null,null,"",""]
[null,null,null,null,null,null,null,null,null,null,null,null,null,null,null,"",""]
[null,null,null,null,null,null,null,null,null,null,null,null,null,null,null,"",""]
[null,null,null,null,null,null,null,null,null,null,null,null,null,null,null,"",""]
[null,null,null,null,null,null,null,null,null,null,null,null,null,null,null,"",""]
[null,null,null,null,null,null,null,null,null,null,null,null,null,null,null,"",""]
[null,null,null,null,null,null,null,null,null,null,null,null,null,null,null,"",""]
[null,null,null,null,null,null,null,null,null,null,null,null,null,null,null,"",""]
[null,null,null,null,null,null,null,null,null,null,null,null,null,null,null,"",""]
[null,null,null,null,null,null,null,null,null,null,null,null,null,null,null,"",""]
[null,null,null,null,null,null,null,null,null,null,null,null,null,null,null,"",""]
[null,null,null,null,null,null,null,null,null,null,null,null,null,null,null,"",""]
[null,null,null,null,null,null,null,null,null,null,null,null,null,null,null,"",""]
[null,null,null,null,null,null,null,null,null,null,null,null,null,null,null,"",""]
[null,null,null,null,null,null,null,null,null,null,null,null,null,null,null,"",""]
[null,null,null,null,null,null,null,null,null,null,null,null,null,null,null,"",""]
[null,null,null,null,null,null,null,null,null,null,null,null,null,null,null,"",""]
[null,null,null,null,null,null,null,null,null,null,null,null,null,null,null,"",""]
[null,null,null,null,null,null,null,null,null,null,null,null,null,null,null,"",""]
[null,null,null,null,null,null,null,null,null,null,null,null,null,null,null,"",""]
[null,null,null,null,null,null,null,null,null,null,null,null,null,null,null,"",""]
[null,null,null,null,null,null,null,null,null,null,null,null,null,null,null,"",""]
[null,null,null,null,null,null,null,null,null,null,null,null,null,null,null,"",""]
[null,null,null,null,null,null,null,null,null,null,null,null,null,null,null,"",""]
[null,null,null,null,null,null,null,null,null,null,null,null,null,null,null,"",""]
[null,null,null,null,null,null,null,null,null,null,null,null,null,null,null,"",""]
[null,null,null,null,null,null,null,null,null,null,null,null,null,null,null,"",""]
[null,null,null,null,null,null,null,null,null,null,null,null,null,null,null,"",""]
[null,null,null,null,null,null,null,null,null,null,null,null,null,null,null,"",""]
[null,null,null,null,null,null,null,null,null,null,null,null,null,null,null,"",""]
[null,null,null,null,null,null,null,null,null,null,null,null,null,null,null,"",""]
[null,null,null,null,null,null,null,null,null,null,null,null,null,null,null,"",""]
[null,null,null,null,null,null,null,null,null,null,null,null,null,null,null,"",""]
[null,null,null,null,null,null,null,null,null,null,null,null,null,null,null,"",""]
[null,null,null,null,null,null,null,null,null,null,null,null,null,null,null,"",""]
[null,null,null,null,null,null,null,null,null,null,null,null,null,null,null,"",""]
[null,null,null,null,null,null,null,null,null,null,null,null,null,null,null,"",""]
[null,null,null,null,null,null,null,null,null,null,null,null,null,null,null,"",""]
[null,null,null,null,null,null,null,null,null,null,null,null,null,null,null,"",""]
[null,null,null,null,null,null,null,null,null,null,null,null,null,null,null,"",""]
[null,null,null,null,null,null,null,null,null,null,null,null,null,null,null,"",""]
[null,null,null,null,null,null,null,null,null,null,null,null,null,null,null,"",""]
[null,null,null,null,null,null,null,null,null,null,null,null,null,null,null,"",""]
[null,null,null,null,null,null,null,null,null,null,null,null,null,null,null,"",""]
[null,null,null,null,null,null,null,null,null,null,null,null,null,null,null,"",""]
[null,null,null,null,null,null,null,null,null,null,null,null,null,null,null,"",""]
[null,null,null,null,null,null,null,null,null,null,null,null,null,null,null,"",""]
[null,null,null,null,null,null,null,null,null,null,null,null,null,null,null,"",""]
[null,null,null,null,null,null,null,null,null,null,null,null,null,null,null,"",""]
[null,null,null,null,null,null,null,null,null,null,null,null,null,null,null,"",""]
[null,null,null,null,null,null,null,null,null,null,null,null,null,null,null,"",""]
[null,null,null,null,null,null,null,null,null,null,null,null,null,null,null,"",""]
[null,null,null,null,null,null,null,null,null,null,null,null,null,null,null,"",""]
[null,null,null,null,null,null,null,null,null,null,null,null,null,null,null,"",""]
[null,null,null,null,null,null,null,null,null,null,null,null,null,null,null,"",""]
[null,null,null,null,null,null,null,null,null,null,null,null,null,null,null,"",""]
[null,null,null,null,null,null,null,null,null,null,null,null,null,null,null,"",""]
[null,null,null,null,null,null,null,null,null,null,null,null,null,null,null,"",""]
[null,null,null,null,null,null,null,null,null,null,null,null,null,null,null,"",""]
[null,null,null,null,null,null,null,null,null,null,null,null,null,null,null,"",""]
[null,null,null,null,null,null,null,null,null,null,null,null,null,null,null,"",""]
[null,null,null,null,null,null,null,null,null,null,null,null,null,null,null,"",""]
[null,null,null,null,null,null,null,null,null,null,null,null,null,null,null,"",""]
[null,null,null,null,null,null,null,null,null,null,null,null,null,null,null,"",""]
[null,null,null,null,null,null,null,null,null,null,null,null,null,null,null,"",""]
[null,null,null,null,null,null,null,null,null,null,null,null,null,null,null,"",""]
[null,null,null,null,null,null,null,null,null,null,null,null,null,null,null,"",""]
[null,null,null,null,null,null,null,null,null,null,null,null,null,null,null,"",""]
[null,null,null,null,null,null,null,null,null,null,null,null,null,null,null,"",""]
[null,null,null,null,null,null,null,null,null,null,null,null,null,null,null,"",""]
[null,null,null,null,null,null,null,null,null,null,null,null,null,null,null,"",""]
[null,null,null,null,null,null,null,null,null,null,null,null,null,null,null,"",""]
[null,null,null,null,null,null,null,null,null,null,null,null,null,null,null,"",""]
[null,null,null,null,null,null,null,null,null,null,null,null,null,null,null,"",""]
[null,null,null,null,null,null,null,null,null,null,null,null,null,null,null,"",""]
[null,null,null,null,null,null,null,null,null,null,null,null,null,null,null,"",""]
[null,null,null,null,null,null,null,null,null,null,null,null,null,null,null,"",""]
[null,null,null,null,null,null,null,null,null,null,null,null,null,null,null,"",""]
[null,null,null,null,null,null,null,null,null,null,null,null,null,null,null,"",""]
[null,null,null,null,null,null,null,null,null,null,null,null,null,null,null,"",""]
[null,null,null,null,null,null,null,null,null,null,null,null,null,null,null,"",""]
[null,null,null,null,null,null,null,null,null,null,null,null,null,null,null,"",""]
[null,null,null,null,null,null,null,null,null,null,null,null,null,null,null,"",""]
[null,null,null,null,null,null,null,null,null,null,null,null,null,null,null,"",""]
[null,null,null,null,null,null,null,null,null,null,null,null,null,null,null,"",""]
[null,null,null,null,null,null,null,null,null,null,null,null,null,null,null,"",""]
[null,null,null,null,null,null,null,null,null,null,null,null,null,null,null,"",""]
[null,null,null,null,null,null,null,null,null,null,null,null,null,null,null,"",""]
[null,null,null,null,null,null,null,null,null,null,null,null,null,null,null,"",""]
[null,null,null,null,null,null,null,null,null,null,null,null,null,null,null,"",""]
[null,null,null,null,null,null,null,null,null,null,null,null,null,null,null,"",""]
[null,null,null,null,null,null,null,null,null,null,null,null,null,null,null,"",""]
[null,null,null,null,null,null,null,null,null,null,null,null,null,null,null,"",""]
[null,null,null,null,null,null,null,null,null,null,null,null,null,null,null,"",""]
[null,null,null,null,null,null,null,null,null,null,null,null,null,null,null,"",""]
[null,null,null,null,null,null,null,null,null,null,null,null,null,null,null,"",""]
[null,null,null,null,null,null,null,null,null,null,null,null,null,null,null,"",""]
[null,null,null,null,null,null,null,null,null,null,null,null,null,null,null,"",""]
[null,null,null,null,null,null,null,null,null,null,null,null,null,null,null,"",""]
[null,null,null,null,null,null,null,null,null,null,null,null,null,null,null,"",""]
[null,null,null,null,null,null,null,null,null,null,null,null,null,null,null,"",""]
[null,null,null,null,null,null,null,null,null,null,null,null,null,null,null,"",""]
[null,null,null,null,null,null,null,null,null,null,null,null,null,null,null,"",""]
[null,null,null,null,null,null,null,null,null,null,null,null,null,null,null,"",""]
[null,null,null,null,null,null,null,null,null,null,null,null,null,null,null,"",""]
[null,null,null,null,null,null,null,null,null,null,null,null,null,null,null,"",""]
[null,null,null,null,null,null,null,null,null,null,null,null,null,null,null,"",""]
[null,null,null,null,null,null,null,null,null,null,null,null,null,null,null,"",""]
[null,null,null,null,null,null,null,null,null,null,null,null,null,null,null,"",""]
[null,null,null,null,null,null,null,null,null,null,null,null,null,null,null,"",""]
[null,null,null,null,null,null,null,null,null,null,null,null,null,null,null,"",""]
[null,null,null,null,null,null,null,null,null,null,null,null,null,null,null,"",""]
[null,null,null,null,null,null,null,null,null,null,null,null,null,null,null,"",""]
[null,null,null,null,null,null,null,null,null,null,null,null,null,null,null,"",""]
[null,null,null,null,null,null,null,null,null,null,null,null,null,null,null,"",""]
[null,null,null,null,null,null,null,null,null,null,null,null,null,null,null,"",""]
[null,null,null,null,null,null,null,null,null,null,null,null,null,null,null,"",""]
[null,null,null,null,null,null,null,null,null,null,null,null,null,null,null,"",""]
[null,null,null,null,null,null,null,null,null,null,null,null,null,null,null,"",""]
[null,null,null,null,null,null,null,null,null,null,null,null,null,null,null,"",""]
[null,null,null,null,null,null,null,null,null,null,null,null,null,null,null,"",""]
[null,null,null,null,null,null,null,null,null,null,null,null,null,null,null,"",""]
[null,null,null,null,null,null,null,null,null,null,null,null,null,null,null,"",""]
[null,null,null,null,null,null,null,null,null,null,null,null,null,null,null,"",""]
[null,null,null,null,null,null,null,null,null,null,null,null,null,null,null,"",""]
[null,null,null,null,null,null,null,null,null,null,null,null,null,null,null,"",""]
[null,null,null,null,null,null,null,null,null,null,null,null,null,null,null,"",""]
[null,null,null,null,null,null,null,null,null,null,null,null,null,null,null,"",""]
[null,null,null,null,null,null,null,null,null,null,null,null,null,null,null,"",""]
[null,null,null,null,null,null,null,null,null,null,null,null,null,null,null,"",""]
[null,null,null,null,null,null,null,null,null,null,null,null,null,null,null,"",""]
[null,null,null,null,null,null,null,null,null,null,null,null,null,null,null,"",""]
[null,null,null,null,null,null,null,null,null,null,null,null,null,null,null,"",""]
[null,null,null,null,null,null,null,null,null,null,null,null,null,null,null,"",""]
[null,null,null,null,null,null,null,null,null,null,null,null,null,null,null,"",""]
[null,null,null,null,null,null,null,null,null,null,null,null,null,null,null,"",""]
[null,null,null,null,null,null,null,null,null,null,null,null,null,null,null,"",""]
[null,null,null,null,null,null,null,null,null,null,null,null,null,null,null,"",""]
[null,null,null,null,null,null,null,null,null,null,null,null,null,null,null,"",""]
[null,null,null,null,null,null,null,null,null,null,null,null,null,null,null,"",""]
[null,null,null,null,null,null,null,null,null,null,null,null,null,null,null,"",""]
[null,null,null,null,null,null,null,null,null,null,null,null,null,null,null,"",""]
[null,null,null,null,null,null,null,null,null,null,null,null,null,null,null,"",""]
[null,null,null,null,null,null,null,null,null,null,null,null,null,null,null,"",""]
[null,null,null,null,null,null,null,null,null,null,null,null,null,null,null,"",""]
[null,null,null,null,null,null,null,null,null,null,null,null,null,null,null,"",""]
[null,null,null,null,null,null,null,null,null,null,null,null,null,null,null,"",""]
[null,null,null,null,null,null,null,null,null,null,null,null,null,null,null,"",""]
[null,null,null,null,null,null,null,null,null,null,null,null,null,null,null,"",""]
[null,null,null,null,null,null,null,null,null,null,null,null,null,null,null,"",""]
[null,null,null,null,null,null,null,null,null,null,null,null,null,null,null,"",""]
[null,null,null,null,null,null,null,null,null,null,null,null,null,null,null,"",""]
[null,null,null,null,null,null,null,null,null,null,null,null,null,null,null,"",""]
[null,null,null,null,null,null,null,null,null,null,null,null,null,null,null,"",""]
[null,null,null,null,null,null,null,null,null,null,null,null,null,null,null,"",""]
[null,null,null,null,null,null,null,null,null,null,null,null,null,null,null,"",""]
[null,null,null,null,null,null,null,null,null,null,null,null,null,null,null,"",""]
[null,null,null,null,null,null,null,null,null,null,null,null,null,null,null,"",""]
[null,null,null,null,null,null,null,null,null,null,null,null,null,null,null,"",""]
[null,null,null,null,null,null,null,null,null,null,null,null,null,null,null,"",""]
[null,null,null,null,null,null,null,null,null,null,null,null,null,null,null,"",""]
[null,null,null,null,null,null,null,null,null,null,null,null,null,null,null,"",""]
[null,null,null,null,null,null,null,null,null,null,null,null,null,null,null,"",""]
[null,null,null,null,null,null,null,null,null,null,null,null,null,null,null,"",""]
[null,null,null,null,null,null,null,null,null,null,null,null,null,null,null,"",""]
[null,null,null,null,null,null,null,null,null,null,null,null,null,null,null,"",""]
[null,null,null,null,null,null,null,null,null,null,null,null,null,null,null,"",""]
[null,null,null,null,null,null,null,null,null,null,null,null,null,null,null,"",""]
[null,null,null,null,null,null,null,null,null,null,null,null,null,null,null,"",""]
[null,null,null,null,null,null,null,null,null,null,null,null,null,null,null,"",""]
[null,null,null,null,null,null,null,null,null,null,null,null,null,null,null,"",""]
[null,null,null,null,null,null,null,null,null,null,null,null,null,null,null,"",""]
[null,null,null,null,null,null,null,null,null,null,null,null,null,null,null,"",""]
[null,null,null,null,null,null,null,null,null,null,null,null,null,null,null,"",""]
[null,null,null,null,null,null,null,null,null,null,null,null,null,null,null,"",""]
[null,null,null,null,null,null,null,null,null,null,null,null,null,null,null,"",""]
[null,null,null,null,null,null,null,null,null,null,null,null,null,null,null,"",""]
[null,null,null,null,null,null,null,null,null,null,null,null,null,null,null,"",""]
[null,null,null,null,null,null,null,null,null,null,null,null,null,null,null,"",""]
[null,null,null,null,null,null,null,null,null,null,null,null,null,null,null,"",""]
[null,null,null,null,null,null,null,null,null,null,null,null,null,null,null,"",""]
[null,null,null,null,null,null,null,null,null,null,null,null,null,null,null,"",""]
[null,null,null,null,null,null,null,null,null,null,null,null,null,null,null,"",""]
[null,null,null,null,null,null,null,null,null,null,null,null,null,null,null,"",""]
[null,null,null,null,null,null,null,null,null,null,null,null,null,null,null,"",""]
[null,null,null,null,null,null,null,null,null,null,null,null,null,null,null,"",""]
[null,null,null,null,null,null,null,null,null,null,null,null,null,null,null,"",""]
[null,null,null,null,null,null,null,null,null,null,null,null,null,null,null,"",""]
[null,null,null,null,null,null,null,null,null,null,null,null,null,null,null,"",""]
[null,null,null,null,null,null,null,null,null,null,null,null,null,null,null,"",""]
[null,null,null,null,null,null,null,null,null,null,null,null,null,null,null,"",""]
[null,null,null,null,null,null,null,null,null,null,null,null,null,null,null,"",""]
[null,null,null,null,null,null,null,null,null,null,null,null,null,null,null,"",""]
[null,null,null,null,null,null,null,null,null,null,null,null,null,null,null,"",""]
[null,null,null,null,null,null,null,null,null,null,null,null,null,null,null,"",""]
[null,null,null,null,null,null,null,null,null,null,null,null,null,null,null,"",""]
[null,null,null,null,null,null,null,null,null,null,null,null,null,null,null,"",""]
[null,null,null,null,null,null,null,null,null,null,null,null,null,null,null,"",""]
[null,null,null,null,null,null,null,null,null,null,null,null,null,null,null,"",""]
[null,null,null,null,null,null,null,null,null,null,null,null,null,null,null,"",""]
[null,null,null,null,null,null,null,null,null,null,null,null,null,null,null,"",""]
[null,null,null,null,null,null,null,null,null,null,null,null,null,null,null,"",""]
[null,null,null,null,null,null,null,null,null,null,null,null,null,null,null,"",""]
[null,null,null,null,null,null,null,null,null,null,null,null,null,null,null,"",""]
[null,null,null,null,null,null,null,null,null,null,null,null,null,null,null,"",""]
[null,null,null,null,null,null,null,null,null,null,null,null,null,null,null,"",""]
[null,null,null,null,null,null,null,null,null,null,null,null,null,null,null,"",""]
[null,null,null,null,null,null,null,null,null,null,null,null,null,null,null,"",""]
[null,null,null,null,null,null,null,null,null,null,null,null,null,null,null,"",""]
[null,null,null,null,null,null,null,null,null,null,null,null,null,null,null,"",""]
[null,null,null,null,null,null,null,null,null,null,null,null,null,null,null,"",""]
[null,null,null,null,null,null,null,null,null,null,null,null,null,null,null,"",""]
[null,null,null,null,null,null,null,null,null,null,null,null,null,null,null,"",""]
[null,null,null,null,null,null,null,null,null,null,null,null,null,null,null,"",""]
[null,null,null,null,null,null,null,null,null,null,null,null,null,null,null,"",""]
[null,null,null,null,null,null,null,null,null,null,null,null,null,null,null,"",""]
[null,null,null,null,null,null,null,null,null,null,null,null,null,null,null,"",""]
[null,null,null,null,null,null,null,null,null,null,null,null,null,null,null,"",""]
[null,null,null,null,null,null,null,null,null,null,null,null,null,null,null,"",""]
[null,null,null,null,null,null,null,null,null,null,null,null,null,null,null,"",""]
[null,null,null,null,null,null,null,null,null,null,null,null,null,null,null,"",""]
[null,null,null,null,null,null,null,null,null,null,null,null,null,null,null,"",""]
[null,null,null,null,null,null,null,null,null,null,null,null,null,null,null,"",""]
[null,null,null,null,null,null,null,null,null,null,null,null,null,null,null,"",""]
[null,null,null,null,null,null,null,null,null,null,null,null,null,null,null,"",""]
[null,null,null,null,null,null,null,null,null,null,null,null,null,null,null,"",""]
[null,null,null,null,null,null,null,null,null,null,null,null,null,null,null,"",""]
[null,null,null,null,null,null,null,null,null,null,null,null,null,null,null,"",""]
[null,null,null,null,null,null,null,null,null,null,null,null,null,null,null,"",""]
[null,null,null,null,null,null,null,null,null,null,null,null,null,null,null,"",""]
[null,null,null,null,null,null,null,null,null,null,null,null,null,null,null,"",""]
[null,null,null,null,null,null,null,null,null,null,null,null,null,null,null,"",""]
[null,null,null,null,null,null,null,null,null,null,null,null,null,null,null,"",""]
[null,null,null,null,null,null,null,null,null,null,null,null,null,null,null,"",""]
[null,null,null,null,null,null,null,null,null,null,null,null,null,null,null,"",""]
[null,null,null,null,null,null,null,null,null,null,null,null,null,null,null,"",""]
[null,null,null,null,null,null,null,null,null,null,null,null,null,null,null,"",""]
[null,null,null,null,null,null,null,null,null,null,null,null,null,null,null,"",""]
[null,null,null,null,null,null,null,null,null,null,null,null,null,null,null,"",""]
[null,null,null,null,null,null,null,null,null,null,null,null,null,null,null,"",""]
[null,null,null,null,null,null,null,null,null,null,null,null,null,null,null,"",""]
[null,null,null,null,null,null,null,null,null,null,null,null,null,null,null,"",""]
[null,null,null,null,null,null,null,null,null,null,null,null,null,null,null,"",""]
[null,null,null,null,null,null,null,null,null,null,null,null,null,null,null,"",""]
[null,null,null,null,null,null,null,null,null,null,null,null,null,null,null,"",""]
[null,null,null,null,null,null,null,null,null,null,null,null,null,null,null,"",""]
[null,null,null,null,null,null,null,null,null,null,null,null,null,null,null,"",""]
[null,null,null,null,null,null,null,null,null,null,null,null,null,null,null,"",""]
[null,null,null,null,null,null,null,null,null,null,null,null,null,null,null,"",""]
[null,null,null,null,null,null,null,null,null,null,null,null,null,null,null,"",""]
[null,null,null,null,null,null,null,null,null,null,null,null,null,null,null,"",""]
[null,null,null,null,null,null,null,null,null,null,null,null,null,null,null,"",""]
[null,null,null,null,null,null,null,null,null,null,null,null,null,null,null,"",""]
[null,null,null,null,null,null,null,null,null,null,null,null,null,null,null,"",""]
[null,null,null,null,null,null,null,null,null,null,null,null,null,null,null,"",""]
[null,null,null,null,null,null,null,null,null,null,null,null,null,null,null,"",""]
[null,null,null,null,null,null,null,null,null,null,null,null,null,null,null,"",""]
[null,null,null,null,null,null,null,null,null,null,null,null,null,null,null,"",""]
[null,null,null,null,null,null,null,null,null,null,null,null,null,null,null,"",""]
[null,null,null,null,null,null,null,null,null,null,null,null,null,null,null,"",""]
[null,null,null,null,null,null,null,null,null,null,null,null,null,null,null,"",""]
[null,null,null,null,null,null,null,null,null,null,null,null,null,null,null,"",""]
[null,null,null,null,null,null,null,null,null,null,null,null,null,null,null,"",""]
[null,null,null,null,null,null,null,null,null,null,null,null,null,null,null,"",""]
[null,null,null,null,null,null,null,null,null,null,null,null,null,null,null,"",""]
[null,null,null,null,null,null,null,null,null,null,null,null,null,null,null,"",""]
[null,null,null,null,null,null,null,null,null,null,null,null,null,null,null,"",""]
[null,null,null,null,null,null,null,null,null,null,null,null,null,null,null,"",""]
[null,null,null,null,null,null,null,null,null,null,null,null,null,null,null,"",""]
[null,null,null,null,null,null,null,null,null,null,null,null,null,null,null,"",""]
[null,null,null,null,null,null,null,null,null,null,null,null,null,null,null,"",""]
[null,null,null,null,null,null,null,null,null,null,null,null,null,null,null,"",""]
[null,null,null,null,null,null,null,null,null,null,null,null,null,null,null,"",""]
[null,null,null,null,null,null,null,null,null,null,null,null,null,null,null,"",""]
[null,null,null,null,null,null,null,null,null,null,null,null,null,null,null,"",""]
[null,null,null,null,null,null,null,null,null,null,null,null,null,null,null,"",""]
[null,null,null,null,null,null,null,null,null,null,null,null,null,null,null,"",""]
[null,null,null,null,null,null,null,null,null,null,null,null,null,null,null,"",""]
[null,null,null,null,null,null,null,null,null,null,null,null,null,null,null,"",""]
[null,null,null,null,null,null,null,null,null,null,null,null,null,null,null,"",""]
[null,null,null,null,null,null,null,null,null,null,null,null,null,null,null,"",""]
[null,null,null,null,null,null,null,null,null,null,null,null,null,null,null,"",""]
[null,null,null,null,null,null,null,null,null,null,null,null,null,null,null,"",""]
[null,null,null,null,null,null,null,null,null,null,null,null,null,null,null,"",""]
[null,null,null,null,null,null,null,null,null,null,null,null,null,null,null,"",""]
[null,null,null,null,null,null,null,null,null,null,null,null,null,null,null,"",""]
[null,null,null,null,null,null,null,null,null,null,null,null,null,null,null,"",""]
[null,null,null,null,null,null,null,null,null,null,null,null,null,null,null,"",""]
[null,null,null,null,null,null,null,null,null,null,null,null,null,null,null,"",""]
[null,null,null,null,null,null,null,null,null,null,null,null,null,null,null,"",""]
[null,null,null,null,null,null,null,null,null,null,null,null,null,null,null,"",""]
[null,null,null,null,null,null,null,null,null,null,null,null,null,null,null,"",""]
[null,null,null,null,null,null,null,null,null,null,null,null,null,null,null,"",""]
[null,null,null,null,null,null,null,null,null,null,null,null,null,null,null,"",""]
[null,null,null,null,null,null,null,null,null,null,null,null,null,null,null,"",""]
[null,null,null,null,null,null,null,null,null,null,null,null,null,null,null,"",""]
[null,null,null,null,null,null,null,null,null,null,null,null,null,null,null,"",""]
[null,null,null,null,null,null,null,null,null,null,null,null,null,null,null,"",""]
[null,null,null,null,null,null,null,null,null,null,null,null,null,null,null,"",""]
[null,null,null,null,null,null,null,null,null,null,null,null,null,null,null,"",""]
[null,null,null,null,null,null,null,null,null,null,null,null,null,null,null,"",""]
[null,null,null,null,null,null,null,null,null,null,null,null,null,null,null,"",""]
[null,null,null,null,null,null,null,null,null,null,null,null,null,null,null,"",""]
[null,null,null,null,null,null,null,null,null,null,null,null,null,null,null,"",""]
[null,null,null,null,null,null,null,null,null,null,null,null,null,null,null,"",""]
[null,null,null,null,null,null,null,null,null,null,null,null,null,null,null,"",""]
[null,null,null,null,null,null,null,null,null,null,null,null,null,null,null,"",""]
[null,null,null,null,null,null,null,null,null,null,null,null,null,null,null,"",""]
[null,null,null,null,null,null,null,null,null,null,null,null,null,null,null,"",""]
[null,null,null,null,null,null,null,null,null,null,null,null,null,null,null,"",""]
[null,null,null,null,null,null,null,null,null,null,null,null,null,null,null,"",""]
[null,null,null,null,null,null,null,null,null,null,null,null,null,null,null,"",""]
[null,null,null,null,null,null,null,null,null,null,null,null,null,null,null,"",""]
[null,null,null,null,null,null,null,null,null,null,null,null,null,null,null,"",""]
[null,null,null,null,null,null,null,null,null,null,null,null,null,null,null,"",""]
[null,null,null,null,null,null,null,null,null,null,null,null,null,null,null,"",""]
[null,null,null,null,null,null,null,null,null,null,null,null,null,null,null,"",""]
[null,null,null,null,null,null,null,null,null,null,null,null,null,null,null,"",""]
[null,null,null,null,null,null,null,null,null,null,null,null,null,null,null,"",""]
[null,null,null,null,null,null,null,null,null,null,null,null,null,null,null,"",""]
[null,null,null,null,null,null,null,null,null,null,null,null,null,null,null,"",""]
[null,null,null,null,null,null,null,null,null,null,null,null,null,null,null,"",""]
[null,null,null,null,null,null,null,null,null,null,null,null,null,null,null,"",""]
[null,null,null,null,null,null,null,null,null,null,null,null,null,null,null,"",""]
[null,null,null,null,null,null,null,null,null,null,null,null,null,null,null,"",""]
[null,null,null,null,null,null,null,null,null,null,null,null,null,null,null,"",""]
[null,null,null,null,null,null,null,null,null,null,null,null,null,null,null,"",""]
[null,null,null,null,null,null,null,null,null,null,null,null,null,null,null,"",""]
[null,null,null,null,null,null,null,null,null,null,null,null,null,null,null,"",""]
[null,null,null,null,null,null,null,null,null,null,null,null,null,null,null,"",""]
[null,null,null,null,null,null,null,null,null,null,null,null,null,null,null,"",""]
[null,null,null,null,null,null,null,null,null,null,null,null,null,null,null,"",""]
[null,null,null,null,null,null,null,null,null,null,null,null,null,null,null,"",""]
[null,null,null,null,null,null,null,null,null,null,null,null,null,null,null,"",""]
[null,null,null,null,null,null,null,null,null,null,null,null,null,null,null,"",""]
[null,null,null,null,null,null,null,null,null,null,null,null,null,null,null,"",""]
[null,null,null,null,null,null,null,null,null,null,null,null,null,null,null,"",""]
[null,null,null,null,null,null,null,null,null,null,null,null,null,null,null,"",""]
[null,null,null,null,null,null,null,null,null,null,null,null,null,null,null,"",""]
[null,null,null,null,null,null,null,null,null,null,null,null,null,null,null,"",""]
[null,null,null,null,null,null,null,null,null,null,null,null,null,null,null,"",""]
[null,null,null,null,null,null,null,null,null,null,null,null,null,null,null,"",""]
[null,null,null,null,null,null,null,null,null,null,null,null,null,null,null,"",""]
[null,null,null,null,null,null,null,null,null,null,null,null,null,null,null,"",""]
[null,null,null,null,null,null,null,null,null,null,null,null,null,null,null,"",""]
[null,null,null,null,null,null,null,null,null,null,null,null,null,null,null,"",""]
[null,null,null,null,null,null,null,null,null,null,null,null,null,null,null,"",""]
[null,null,null,null,null,null,null,null,null,null,null,null,null,null,null,"",""]
[null,null,null,null,null,null,null,null,null,null,null,null,null,null,null,"",""]
[null,null,null,null,null,null,null,null,null,null,null,null,null,null,null,"",""]
[null,null,null,null,null,null,null,null,null,null,null,null,null,null,null,"",""]
[null,null,null,null,null,null,null,null,null,null,null,null,null,null,null,"",""]
[null,null,null,null,null,null,null,null,null,null,null,null,null,null,null,"",""]
[null,null,null,null,null,null,null,null,null,null,null,null,null,null,null,"",""]
[null,null,null,null,null,null,null,null,null,null,null,null,null,null,null,"",""]
[null,null,null,null,null,null,null,null,null,null,null,null,null,null,null,"",""]
[null,null,null,null,null,null,null,null,null,null,null,null,null,null,null,"",""]
[null,null,null,null,null,null,null,null,null,null,null,null,null,null,null,"",""]
[null,null,null,null,null,null,null,null,null,null,null,null,null,null,null,"",""]
[null,null,null,null,null,null,null,null,null,null,null,null,null,null,null,"",""]
[null,null,null,null,null,null,null,null,null,null,null,null,null,null,null,"",""]
[null,null,null,null,null,null,null,null,null,null,null,null,null,null,null,"",""]
[null,null,null,null,null,null,null,null,null,null,null,null,null,null,null,"",""]
[null,null,null,null,null,null,null,null,null,null,null,null,null,null,null,"",""]
[null,null,null,null,null,null,null,null,null,null,null,null,null,null,null,"",""]
[null,null,null,null,null,null,null,null,null,null,null,null,null,null,null,"",""]
[null,null,null,null,null,null,null,null,null,null,null,null,null,null,null,"",""]
[null,null,null,null,null,null,null,null,null,null,null,null,null,null,null,"",""]
[null,null,null,null,null,null,null,null,null,null,null,null,null,null,null,"",""]
[null,null,null,null,null,null,null,null,null,null,null,null,null,null,null,"",""]
[null,null,null,null,null,null,null,null,null,null,null,null,null,null,null,"",""]
[null,null,null,null,null,null,null,null,null,null,null,null,null,null,null,"",""]
[null,null,null,null,null,null,null,null,null,null,null,null,null,null,null,"",""]
[null,null,null,null,null,null,null,null,null,null,null,null,null,null,null,"",""]
[null,null,null,null,null,null,null,null,null,null,null,null,null,null,null,"",""]
[null,null,null,null,null,null,null,null,null,null,null,null,null,null,null,"",""]
[null,null,null,null,null,null,null,null,null,null,null,null,null,null,null,"",""]
[null,null,null,null,null,null,null,null,null,null,null,null,null,null,null,"",""]
[null,null,null,null,null,null,null,null,null,null,null,null,null,null,null,"",""]
[null,null,null,null,null,null,null,null,null,null,null,null,null,null,null,"",""]
[null,null,null,null,null,null,null,null,null,null,null,null,null,null,null,"",""]
[null,null,null,null,null,null,null,null,null,null,null,null,null,null,null,"",""]
[null,null,null,null,null,null,null,null,null,null,null,null,null,null,null,"",""]
[null,null,null,null,null,null,null,null,null,null,null,null,null,null,null,"",""]
[null,null,null,null,null,null,null,null,null,null,null,null,null,null,null,"",""]
[null,null,null,null,null,null,null,null,null,null,null,null,null,null,null,"",""]
[null,null,null,null,null,null,null,null,null,null,null,null,null,null,null,"",""]
[null,null,null,null,null,null,null,null,null,null,null,null,null,null,null,"",""]
[null,null,null,null,null,null,null,null,null,null,null,null,null,null,null,"",""]
[null,null,null,null,null,null,null,null,null,null,null,null,null,null,null,"",""]
[null,null,null,null,null,null,null,null,null,null,null,null,null,null,null,"",""]
[null,null,null,null,null,null,null,null,null,null,null,null,null,null,null,"",""]
[null,null,null,null,null,null,null,null,null,null,null,null,null,null,null,"",""]
[null,null,null,null,null,null,null,null,null,null,null,null,null,null,null,"",""]
[null,null,null,null,null,null,null,null,null,null,null,null,null,null,null,"",""]
[null,null,null,null,null,null,null,null,null,null,null,null,null,null,null,"",""]
[null,null,null,null,null,null,null,null,null,null,null,null,null,null,null,"",""]
[null,null,null,null,null,null,null,null,null,null,null,null,null,null,null,"",""]
[null,null,null,null,null,null,null,null,null,null,null,null,null,null,null,"",""]
[null,null,null,null,null,null,null,null,null,null,null,null,null,null,null,"",""]
[null,null,null,null,null,null,null,null,null,null,null,null,null,null,null,"",""]
[null,null,null,null,null,null,null,null,null,null,null,null,null,null,null,"",""]
[null,null,null,null,null,null,null,null,null,null,null,null,null,null,null,"",""]
[null,null,null,null,null,null,null,null,null,null,null,null,null,null,null,"",""]
[null,null,null,null,null,null,null,null,null,null,null,null,null,null,null,"",""]
[null,null,null,null,null,null,null,null,null,null,null,null,null,null,null,"",""]
[null,null,null,null,null,null,null,null,null,null,null,null,null,null,null,"",""]
[null,null,null,null,null,null,null,null,null,null,null,null,null,null,null,"",""]
[null,null,null,null,null,null,null,null,null,null,null,null,null,null,null,"",""]
[null,null,null,null,null,null,null,null,null,null,null,null,null,null,null,"",""]
[null,null,null,null,null,null,null,null,null,null,null,null,null,null,null,"",""]
[null,null,null,null,null,null,null,null,null,null,null,null,null,null,null,"",""]
[null,null,null,null,null,null,null,null,null,null,null,null,null,null,null,"",""]
[null,null,null,null,null,null,null,null,null,null,null,null,null,null,null,"",""]
[null,null,null,null,null,null,null,null,null,null,null,null,null,null,null,"",""]
[null,null,null,null,null,null,null,null,null,null,null,null,null,null,null,"",""]
[null,null,null,null,null,null,null,null,null,null,null,null,null,null,null,"",""]
[null,null,null,null,null,null,null,null,null,null,null,null,null,null,null,"",""]
[null,null,null,null,null,null,null,null,null,null,null,null,null,null,null,"",""]
[null,null,null,null,null,null,null,null,null,null,null,null,null,null,null,"",""]
[null,null,null,null,null,null,null,null,null,null,null,null,null,null,null,"",""]
[null,null,null,null,null,null,null,null,null,null,null,null,null,null,null,"",""]
[null,null,null,null,null,null,null,null,null,null,null,null,null,null,null,"",""]
[null,null,null,null,null,null,null,null,null,null,null,null,null,null,null,"",""]
[null,null,null,null,null,null,null,null,null,null,null,null,null,null,null,"",""]
[null,null,null,null,null,null,null,null,null,null,null,null,null,null,null,"",""]
[null,null,null,null,null,null,null,null,null,null,null,null,null,null,null,"",""]
[null,null,null,null,null,null,null,null,null,null,null,null,null,null,null,"",""]
[null,null,null,null,null,null,null,null,null,null,null,null,null,null,null,"",""]
[null,null,null,null,null,null,null,null,null,null,null,null,null,null,null,"",""]
[null,null,null,null,null,null,null,null,null,null,null,null,null,null,null,"",""]
[null,null,null,null,null,null,null,null,null,null,null,null,null,null,null,"",""]
[null,null,null,null,null,null,null,null,null,null,null,null,null,null,null,"",""]
[null,null,null,null,null,null,null,null,null,null,null,null,null,null,null,"",""]
[null,null,null,null,null,null,null,null,null,null,null,null,null,null,null,"",""]
[null,null,null,null,null,null,null,null,null,null,null,null,null,null,null,"",""]
[null,null,null,null,null,null,null,null,null,null,null,null,null,null,null,"",""]
[null,null,null,null,null,null,null,null,null,null,null,null,null,null,null,"",""]
[null,null,null,null,null,null,null,null,null,null,null,null,null,null,null,"",""]
[null,null,null,null,null,null,null,null,null,null,null,null,null,null,null,"",""]
[null,null,null,null,null,null,null,null,null,null,null,null,null,null,null,"",""]
[null,null,null,null,null,null,null,null,null,null,null,null,null,null,null,"",""]
[null,null,null,null,null,null,null,null,null,null,null,null,null,null,null,"",""]
[null,null,null,null,null,null,null,null,null,null,null,null,null,null,null,"",""]
[null,null,null,null,null,null,null,null,null,null,null,null,null,null,null,"",""]
[null,null,null,null,null,null,null,null,null,null,null,null,null,null,null,"",""]
[null,null,null,null,null,null,null,null,null,null,null,null,null,null,null,"",""]
[null,null,null,null,null,null,null,null,null,null,null,null,null,null,null,"",""]
[null,null,null,null,null,null,null,null,null,null,null,null,null,null,null,"",""]
[null,null,null,null,null,null,null,null,null,null,null,null,null,null,null,"",""]
[null,null,null,null,null,null,null,null,null,null,null,null,null,null,null,"",""]
[null,null,null,null,null,null,null,null,null,null,null,null,null,null,null,"",""]
[null,null,null,null,null,null,null,null,null,null,null,null,null,null,null,"",""]
[null,null,null,null,null,null,null,null,null,null,null,null,null,null,null,"",""]
[null,null,null,null,null,null,null,null,null,null,null,null,null,null,null,"",""]
[null,null,null,null,null,null,null,null,null,null,null,null,null,null,null,"",""]
[null,null,null,null,null,null,null,null,null,null,null,null,null,null,null,"",""]
[null,null,null,null,null,null,null,null,null,null,null,null,null,null,null,"",""]
[null,null,null,null,null,null,null,null,null,null,null,null,null,null,null,"",""]
[null,null,null,null,null,null,null,null,null,null,null,null,null,null,null,"",""]
[null,null,null,null,null,null,null,null,null,null,null,null,null,null,null,"",""]
[null,null,null,null,null,null,null,null,null,null,null,null,null,null,null,"",""]
[null,null,null,null,null,null,null,null,null,null,null,null,null,null,null,"",""]
[null,null,null,null,null,null,null,null,null,null,null,null,null,null,null,"",""]
[null,null,null,null,null,null,null,null,null,null,null,null,null,null,null,"",""]
[null,null,null,null,null,null,null,null,null,null,null,null,null,null,null,"",""]
[null,null,null,null,null,null,null,null,null,null,null,null,null,null,null,"",""]
[null,null,null,null,null,null,null,null,null,null,null,null,null,null,null,"",""]
[null,null,null,null,null,null,null,null,null,null,null,null,null,null,null,"",""]
[null,null,null,null,null,null,null,null,null,null,null,null,null,null,null,"",""]
[null,null,null,null,null,null,null,null,null,null,null,null,null,null,null,"",""]
[null,null,null,null,null,null,null,null,null,null,null,null,null,null,null,"",""]
[null,null,null,null,null,null,null,null,null,null,null,null,null,null,null,"",""]
[null,null,null,null,null,null,null,null,null,null,null,null,null,null,null,"",""]
[null,null,null,null,null,null,null,null,null,null,null,null,null,null,null,"",""]
[null,null,null,null,null,null,null,null,null,null,null,null,null,null,null,"",""]
[null,null,null,null,null,null,null,null,null,null,null,null,null,null,null,"",""]
[null,null,null,null,null,null,null,null,null,null,null,null,null,null,null,"",""]
[null,null,null,null,null,null,null,null,null,null,null,null,null,null,null,"",""]
[null,null,null,null,null,null,null,null,null,null,null,null,null,null,null,"",""]
[null,null,null,null,null,null,null,null,null,null,null,null,null,null,null,"",""]
[null,null,null,null,null,null,null,null,null,null,null,null,null,null,null,"",""]
[null,null,null,null,null,null,null,null,null,null,null,null,null,null,null,"",""]
[null,null,null,null,null,null,null,null,null,null,null,null,null,null,null,"",""]
[null,null,null,null,null,null,null,null,null,null,null,null,null,null,null,"",""]
[null,null,null,null,null,null,null,null,null,null,null,null,null,null,null,"",""]
[null,null,null,null,null,null,null,null,null,null,null,null,null,null,null,"",""]
[null,null,null,null,null,null,null,null,null,null,null,null,null,null,null,"",""]
[null,null,null,null,null,null,null,null,null,null,null,null,null,null,null,"",""]
[null,null,null,null,null,null,null,null,null,null,null,null,null,null,null,"",""]
[null,null,null,null,null,null,null,null,null,null,null,null,null,null,null,"",""]
[null,null,null,null,null,null,null,null,null,null,null,null,null,null,null,"",""]
[null,null,null,null,null,null,null,null,null,null,null,null,null,null,null,"",""]
[null,null,null,null,null,null,null,null,null,null,null,null,null,null,null,"",""]
[null,null,null,null,null,null,null,null,null,null,null,null,null,null,null,"",""]
[null,null,null,null,null,null,null,null,null,null,null,null,null,null,null,"",""]
[null,null,null,null,null,null,null,null,null,null,null,null,null,null,null,"",""]
[null,null,null,null,null,null,null,null,null,null,null,null,null,null,null,"",""]
[null,null,null,null,null,null,null,null,null,null,null,null,null,null,null,"",""]
[null,null,null,null,null,null,null,null,null,null,null,null,null,null,null,"",""]
[null,null,null,null,null,null,null,null,null,null,null,null,null,null,null,"",""]
[null,null,null,null,null,null,null,null,null,null,null,null,null,null,null,"",""]
[null,null,null,null,null,null,null,null,null,null,null,null,null,null,null,"",""]
[null,null,null,null,null,null,null,null,null,null,null,null,null,null,null,"",""]
[null,null,null,null,null,null,null,null,null,null,null,null,null,null,null,"",""]
[null,null,null,null,null,null,null,null,null,null,null,null,null,null,null,"",""]
[null,null,null,null,null,null,null,null,null,null,null,null,null,null,null,"",""]
[null,null,null,null,null,null,null,null,null,null,null,null,null,null,null,"",""]
[null,null,null,null,null,null,null,null,null,null,null,null,null,null,null,"",""]
[null,null,null,null,null,null,null,null,null,null,null,null,null,null,null,"",""]
[null,null,null,null,null,null,null,null,null,null,null,null,null,null,null,"",""]
[null,null,null,null,null,null,null,null,null,null,null,null,null,null,null,"",""]
[null,null,null,null,null,null,null,null,null,null,null,null,null,null,null,"",""]
[null,null,null,null,null,null,null,null,null,null,null,null,null,null,null,"",""]
[null,null,null,null,null,null,null,null,null,null,null,null,null,null,null,"",""]
[null,null,null,null,null,null,null,null,null,null,null,null,null,null,null,"",""]
[null,null,null,null,null,null,null,null,null,null,null,null,null,null,null,"",""]
[null,null,null,null,null,null,null,null,null,null,null,null,null,null,null,"",""]
[null,null,null,null,null,null,null,null,null,null,null,null,null,null,null,"",""]
[null,null,null,null,null,null,null,null,null,null,null,null,null,null,null,"",""]
[null,null,null,null,null,null,null,null,null,null,null,null,null,null,null,"",""]
[null,null,null,null,null,null,null,null,null,null,null,null,null,null,null,"",""]
[null,null,null,null,null,null,null,null,null,null,null,null,null,null,null,"",""]
[null,null,null,null,null,null,null,null,null,null,null,null,null,null,null,"",""]
[null,null,null,null,null,null,null,null,null,null,null,null,null,null,null,"",""]
[null,null,null,null,null,null,null,null,null,null,null,null,null,null,null,"",""]
[null,null,null,null,null,null,null,null,null,null,null,null,null,null,null,"",""]
[null,null,null,null,null,null,null,null,null,null,null,null,null,null,null,"",""]
[null,null,null,null,null,null,null,null,null,null,null,null,null,null,null,"",""]
[null,null,null,null,null,null,null,null,null,null,null,null,null,null,null,"",""]
[null,null,null,null,null,null,null,null,null,null,null,null,null,null,null,"",""]
[null,null,null,null,null,null,null,null,null,null,null,null,null,null,null,"",""]
[null,null,null,null,null,null,null,null,null,null,null,null,null,null,null,"",""]
[null,null,null,null,null,null,null,null,null,null,null,null,null,null,null,"",""]
[null,null,null,null,null,null,null,null,null,null,null,null,null,null,null,"",""]
[null,null,null,null,null,null,null,null,null,null,null,null,null,null,null,"",""]
[null,null,null,null,null,null,null,null,null,null,null,null,null,null,null,"",""]
[null,null,null,null,null,null,null,null,null,null,null,null,null,null,null,"",""]
[null,null,null,null,null,null,null,null,null,null,null,null,null,null,null,"",""]
[null,null,null,null,null,null,null,null,null,null,null,null,null,null,null,"",""]
[null,null,null,null,null,null,null,null,null,null,null,null,null,null,null,"",""]
[null,null,null,null,null,null,null,null,null,null,null,null,null,null,null,"",""]
[null,null,null,null,null,null,null,null,null,null,null,null,null,null,null,"",""]
[null,null,null,null,null,null,null,null,null,null,null,null,null,null,null,"",""]
[null,null,null,null,null,null,null,null,null,null,null,null,null,null,null,"",""]
[null,null,null,null,null,null,null,null,null,null,null,null,null,null,null,"",""]
[null,null,null,null,null,null,null,null,null,null,null,null,null,null,null,"",""]
[null,null,null,null,null,null,null,null,null,null,null,null,null,null,null,"",""]
[null,null,null,null,null,null,null,null,null,null,null,null,null,null,null,"",""]
[null,null,null,null,null,null,null,null,null,null,null,null,null,null,null,"",""]
[null,null,null,null,null,null,null,null,null,null,null,null,null,null,null,"",""]
[null,null,null,null,null,null,null,null,null,null,null,null,null,null,null,"",""]
[null,null,null,null,null,null,null,null,null,null,null,null,null,null,null,"",""]
[null,null,null,null,null,null,null,null,null,null,null,null,null,null,null,"",""]
[null,null,null,null,null,null,null,null,null,null,null,null,null,null,null,"",""]
[null,null,null,null,null,null,null,null,null,null,null,null,null,null,null,"",""]
[null,null,null,null,null,null,null,null,null,null,null,null,null,null,null,"",""]
[null,null,null,null,null,null,null,null,null,null,null,null,null,null,null,"",""]
[null,null,null,null,null,null,null,null,null,null,null,null,null,null,null,"",""]
[null,null,null,null,null,null,null,null,null,null,null,null,null,null,null,"",""]
[null,null,null,null,null,null,null,null,null,null,null,null,null,null,null,"",""]
[null,null,null,null,null,null,null,null,null,null,null,null,null,null,null,"",""]
[null,null,null,null,null,null,null,null,null,null,null,null,null,null,null,"",""]
[null,null,null,null,null,null,null,null,null,null,null,null,null,null,null,"",""]
[null,null,null,null,null,null,null,null,null,null,null,null,null,null,null,"",""]
[null,null,null,null,null,null,null,null,null,null,null,null,null,null,null,"",""]
[null,null,null,null,null,null,null,null,null,null,null,null,null,null,null,"",""]
[null,null,null,null,null,null,null,null,null,null,null,null,null,null,null,"",""]
[null,null,null,null,null,null,null,null,null,null,null,null,null,null,null,"",""]
[null,null,null,null,null,null,null,null,null,null,null,null,null,null,null,"",""]
[null,null,null,null,null,null,null,null,null,null,null,null,null,null,null,"",""]
[null,null,null,null,null,null,null,null,null,null,null,null,null,null,null,"",""]
[null,null,null,null,null,null,null,null,null,null,null,null,null,null,null,"",""]
[null,null,null,null,null,null,null,null,null,null,null,null,null,null,null,"",""]
[null,null,null,null,null,null,null,null,null,null,null,null,null,null,null,"",""]
[null,null,null,null,null,null,null,null,null,null,null,null,null,null,null,"",""]
[null,null,null,null,null,null,null,null,null,null,null,null,null,null,null,"",""]
[null,null,null,null,null,null,null,null,null,null,null,null,null,null,null,"",""]
[null,null,null,null,null,null,null,null,null,null,null,null,null,null,null,"",""]
[null,null,null,null,null,null,null,null,null,null,null,null,null,null,null,"",""]
[null,null,null,null,null,null,null,null,null,null,null,null,null,null,null,"",""]
[null,null,null,null,null,null,null,null,null,null,null,null,null,null,null,"",""]
[null,null,null,null,null,null,null,null,null,null,null,null,null,null,null,"",""]
[null,null,null,null,null,null,null,null,null,null,null,null,null,null,null,"",""]
[null,null,null,null,null,null,null,null,null,null,null,null,null,null,null,"",""]
[null,null,null,null,null,null,null,null,null,null,null,null,null,null,null,"",""]
[null,null,null,null,null,null,null,null,null,null,null,null,null,null,null,"",""]
[null,null,null,null,null,null,null,null,null,null,null,null,null,null,null,"",""]
[null,null,null,null,null,null,null,null,null,null,null,null,null,null,null,"",""]
[null,null,null,null,null,null,null,null,null,null,null,null,null,null,null,"",""]
[null,null,null,null,null,null,null,null,null,null,null,null,null,null,null,"",""]
[null,null,null,null,null,null,null,null,null,null,null,null,null,null,null,"",""]
[null,null,null,null,null,null,null,null,null,null,null,null,null,null,null,"",""]
[null,null,null,null,null,null,null,null,null,null,null,null,null,null,null,"",""]
[null,null,null,null,null,null,null,null,null,null,null,null,null,null,null,"",""]
[null,null,null,null,null,null,null,null,null,null,null,null,null,null,null,"",""]
[null,null,null,null,null,null,null,null,null,null,null,null,null,null,null,"",""]
[null,null,null,null,null,null,null,null,null,null,null,null,null,null,null,"",""]
[null,null,null,null,null,null,null,null,null,null,null,null,null,null,null,"",""]
[null,null,null,null,null,null,null,null,null,null,null,null,null,null,null,"",""]
[null,null,null,null,null,null,null,null,null,null,null,null,null,null,null,"",""]
[null,null,null,null,null,null,null,null,null,null,null,null,null,null,null,"",""]
[null,null,null,null,null,null,null,null,null,null,null,null,null,null,null,"",""]
[null,null,null,null,null,null,null,null,null,null,null,null,null,null,null,"",""]
[null,null,null,null,null,null,null,null,null,null,null,null,null,null,null,"",""]
[null,null,null,null,null,null,null,null,null,null,null,null,null,null,null,"",""]
[null,null,null,null,null,null,null,null,null,null,null,null,null,null,null,"",""]
[null,null,null,null,null,null,null,null,null,null,null,null,null,null,null,"",""]
[null,null,null,null,null,null,null,null,null,null,null,null,null,null,null,"",""]
[null,null,null,null,null,null,null,null,null,null,null,null,null,null,null,"",""]
[null,null,null,null,null,null,null,null,null,null,null,null,null,null,null,"",""]
[null,null,null,null,null,null,null,null,null,null,null,null,null,null,null,"",""]
[null,null,null,null,null,null,null,null,null,null,null,null,null,null,null,"",""]
[null,null,null,null,null,null,null,null,null,null,null,null,null,null,null,"",""]
[null,null,null,null,null,null,null,null,null,null,null,null,null,null,null,"",""]
[null,null,null,null,null,null,null,null,null,null,null,null,null,null,null,"",""]
[null,null,null,null,null,null,null,null,null,null,null,null,null,null,null,"",""]
[null,null,null,null,null,null,null,null,null,null,null,null,null,null,null,"",""]
[null,null,null,null,null,null,null,null,null,null,null,null,null,null,null,"",""]
[null,null,null,null,null,null,null,null,null,null,null,null,null,null,null,"",""]
[null,null,null,null,null,null,null,null,null,null,null,null,null,null,null,"",""]
[null,null,null,null,null,null,null,null,null,null,null,null,null,null,null,"",""]
[null,null,null,null,null,null,null,null,null,null,null,null,null,null,null,"",""]
[null,null,null,null,null,null,null,null,null,null,null,null,null,null,null,"",""]
[null,null,null,null,null,null,null,null,null,null,null,null,null,null,null,"",""]
[null,null,null,null,null,null,null,null,null,null,null,null,null,null,null,"",""]
[null,null,null,null,null,null,null,null,null,null,null,null,null,null,null,"",""]
[null,null,null,null,null,null,null,null,null,null,null,null,null,null,null,"",""]
[null,null,null,null,null,null,null,null,null,null,null,null,null,null,null,"",""]
[null,null,null,null,null,null,null,null,null,null,null,null,null,null,null,"",""]
[null,null,null,null,null,null,null,null,null,null,null,null,null,null,null,"",""]
[null,null,null,null,null,null,null,null,null,null,null,null,null,null,null,"",""]
[null,null,null,null,null,null,null,null,null,null,null,null,null,null,null,"",""]
[null,null,null,null,null,null,null,null,null,null,null,null,null,null,null,"",""]
[null,null,null,null,null,null,null,null,null,null,null,null,null,null,null,"",""]
[null,null,null,null,null,null,null,null,null,null,null,null,null,null,null,"",""]
[null,null,null,null,null,null,null,null,null,null,null,null,null,null,null,"",""]
[null,null,null,null,null,null,null,null,null,null,null,null,null,null,null,"",""]
[null,null,null,null,null,null,null,null,null,null,null,null,null,null,null,"",""]
[null,null,null,null,null,null,null,null,null,null,null,null,null,null,null,"",""]
[null,null,null,null,null,null,null,null,null,null,null,null,null,null,null,"",""]
[null,null,null,null,null,null,null,null,null,null,null,null,null,null,null,"",""]
[null,null,null,null,null,null,null,null,null,null,null,null,null,null,null,"",""]
[null,null,null,null,null,null,null,null,null,null,null,null,null,null,null,"",""]
[null,null,null,null,null,null,null,null,null,null,null,null,null,null,null,"",""]
[null,null,null,null,null,null,null,null,null,null,null,null,null,null,null,"",""]
[null,null,null,null,null,null,null,null,null,null,null,null,null,null,null,"",""]
[null,null,null,null,null,null,null,null,null,null,null,null,null,null,null,"",""]
[null,null,null,null,null,null,null,null,null,null,null,null,null,null,null,"",""]
[null,null,null,null,null,null,null,null,null,null,null,null,null,null,null,"",""]
[null,null,null,null,null,null,null,null,null,null,null,null,null,null,null,"",""]
[null,null,null,null,null,null,null,null,null,null,null,null,null,null,null,"",""]
[null,null,null,null,null,null,null,null,null,null,null,null,null,null,null,"",""]
[null,null,null,null,null,null,null,null,null,null,null,null,null,null,null,"",""]
[null,null,null,null,null,null,null,null,null,null,null,null,null,null,null,"",""]
[null,null,null,null,null,null,null,null,null,null,null,null,null,null,null,"",""]
[null,null,null,null,null,null,null,null,null,null,null,null,null,null,null,"",""]
[null,null,null,null,null,null,null,null,null,null,null,null,null,null,null,"",""]
[null,null,null,null,null,null,null,null,null,null,null,null,null,null,null,"",""]
[null,null,null,null,null,null,null,null,null,null,null,null,null,null,null,"",""]
[null,null,null,null,null,null,null,null,null,null,null,null,null,null,null,"",""]
[null,null,null,null,null,null,null,null,null,null,null,null,null,null,null,"",""]
[null,null,null,null,null,null,null,null,null,null,null,null,null,null,null,"",""]
[null,null,null,null,null,null,null,null,null,null,null,null,null,null,null,"",""]
[null,null,null,null,null,null,null,null,null,null,null,null,null,null,null,"",""]
[null,null,null,null,null,null,null,null,null,null,null,null,null,null,null,"",""]
[null,null,null,null,null,null,null,null,null,null,null,null,null,null,null,"",""]
[null,null,null,null,null,null,null,null,null,null,null,null,null,null,null,"",""]
[null,null,null,null,null,null,null,null,null,null,null,null,null,null,null,"",""]
[null,null,null,null,null,null,null,null,null,null,null,null,null,null,null,"",""]
[null,null,null,null,null,null,null,null,null,null,null,null,null,null,null,"",""]
[null,null,null,null,null,null,null,null,null,null,null,null,null,null,null,"",""]
[null,null,null,null,null,null,null,null,null,null,null,null,null,null,null,"",""]
[null,null,null,null,null,null,null,null,null,null,null,null,null,null,null,"",""]
[null,null,null,null,null,null,null,null,null,null,null,null,null,null,null,"",""]
[null,null,null,null,null,null,null,null,null,null,null,null,null,null,null,"",""]
[null,null,null,null,null,null,null,null,null,null,null,null,null,null,null,"",""]
[null,null,null,null,null,null,null,null,null,null,null,null,null,null,null,"",""]
[null,null,null,null,null,null,null,null,null,null,null,null,null,null,null,"",""]
[null,null,null,null,null,null,null,null,null,null,null,null,null,null,null,"",""]
[null,null,null,null,null,null,null,null,null,null,null,null,null,null,null,"",""]
[null,null,null,null,null,null,null,null,null,null,null,null,null,null,null,"",""]
[null,null,null,null,null,null,null,null,null,null,null,null,null,null,null,"",""]
[null,null,null,null,null,null,null,null,null,null,null,null,null,null,null,"",""]
[null,null,null,null,null,null,null,null,null,null,null,null,null,null,null,"",""]
[null,null,null,null,null,null,null,null,null,null,null,null,null,null,null,"",""]
[null,null,null,null,null,null,null,null,null,null,null,null,null,null,null,"",""]
[null,null,null,null,null,null,null,null,null,null,null,null,null,null,null,"",""]
[null,null,null,null,null,null,null,null,null,null,null,null,null,null,null,"",""]
[null,null,null,null,null,null,null,null,null,null,null,null,null,null,null,"",""]
[null,null,null,null,null,null,null,null,null,null,null,null,null,null,null,"",""]
[null,null,null,null,null,null,null,null,null,null,null,null,null,null,null,"",""]
[null,null,null,null,null,null,null,null,null,null,null,null,null,null,null,"",""]
[null,null,null,null,null,null,null,null,null,null,null,null,null,null,null,"",""]
[null,null,null,null,null,null,null,null,null,null,null,null,null,null,null,"",""]
[null,null,null,null,null,null,null,null,null,null,null,null,null,null,null,"",""]
[null,null,null,null,null,null,null,null,null,null,null,null,null,null,null,"",""]
[null,null,null,null,null,null,null,null,null,null,null,null,null,null,null,"",""]
[null,null,null,null,null,null,null,null,null,null,null,null,null,null,null,"",""]
[null,null,null,null,null,null,null,null,null,null,null,null,null,null,null,"",""]
[null,null,null,null,null,null,null,null,null,null,null,null,null,null,null,"",""]
[null,null,null,null,null,null,null,null,null,null,null,null,null,null,null,"",""]
[null,null,null,null,null,null,null,null,null,null,null,null,null,null,null,"",""]
[null,null,null,null,null,null,null,null,null,null,null,null,null,null,null,"",""]
[null,null,null,null,null,null,null,null,null,null,null,null,null,null,null,"",""]
[null,null,null,null,null,null,null,null,null,null,null,null,null,null,null,"",""]
[null,null,null,null,null,null,null,null,null,null,null,null,null,null,null,"",""]
[null,null,null,null,null,null,null,null,null,null,null,null,null,null,null,"",""]
[null,null,null,null,null,null,null,null,null,null,null,null,null,null,null,"",""]
[null,null,null,null,null,null,null,null,null,null,null,null,null,null,null,"",""]
[null,null,null,null,null,null,null,null,null,null,null,null,null,null,null,"",""]
[null,null,null,null,null,null,null,null,null,null,null,null,null,null,null,"",""]
[null,null,null,null,null,null,null,null,null,null,null,null,null,null,null,"",""]
[null,null,null,null,null,null,null,null,null,null,null,null,null,null,null,"",""]
[null,null,null,null,null,null,null,null,null,null,null,null,null,null,null,"",""]
[null,null,null,null,null,null,null,null,null,null,null,null,null,null,null,"",""]
[null,null,null,null,null,null,null,null,null,null,null,null,null,null,null,"",""]
[null,null,null,null,null,null,null,null,null,null,null,null,null,null,null,"",""]
[null,null,null,null,null,null,null,null,null,null,null,null,null,null,null,"",""]
[null,null,null,null,null,null,null,null,null,null,null,null,null,null,null,"",""]
[null,null,null,null,null,null,null,null,null,null,null,null,null,null,null,"",""]
[null,null,null,null,null,null,null,null,null,null,null,null,null,null,null,"",""]
[null,null,null,null,null,null,null,null,null,null,null,null,null,null,null,"",""]
[null,null,null,null,null,null,null,null,null,null,null,null,null,null,null,"",""]
[null,null,null,null,null,null,null,null,null,null,null,null,null,null,null,"",""]
[null,null,null,null,null,null,null,null,null,null,null,null,null,null,null,"",""]
[null,null,null,null,null,null,null,null,null,null,null,null,null,null,null,"",""]
[null,null,null,null,null,null,null,null,null,null,null,null,null,null,null,"",""]
[null,null,null,null,null,null,null,null,null,null,null,null,null,null,null,"",""]
[null,null,null,null,null,null,null,null,null,null,null,null,null,null,null,"",""]
[null,null,null,null,null,null,null,null,null,null,null,null,null,null,null,"",""]
[null,null,null,null,null,null,null,null,null,null,null,null,null,null,null,"",""]
[null,null,null,null,null,null,null,null,null,null,null,null,null,null,null,"",""]
[null,null,null,null,null,null,null,null,null,null,null,null,null,null,null,"",""]
[null,null,null,null,null,null,null,null,null,null,null,null,null,null,null,"",""]
[null,null,null,null,null,null,null,null,null,null,null,null,null,null,null,"",""]
[null,null,null,null,null,null,null,null,null,null,null,null,null,null,null,"",""]
[null,null,null,null,null,null,null,null,null,null,null,null,null,null,null,"",""]
[null,null,null,null,null,null,null,null,null,null,null,null,null,null,null,"",""]
[null,null,null,null,null,null,null,null,null,null,null,null,null,null,null,"",""]
[null,null,null,null,null,null,null,null,null,null,null,null,null,null,null,"",""]
[null,null,null,null,null,null,null,null,null,null,null,null,null,null,null,"",""]
[null,null,null,null,null,null,null,null,null,null,null,null,null,null,null,"",""]
[null,null,null,null,null,null,null,null,null,null,null,null,null,null,null,"",""]
[null,null,null,null,null,null,null,null,null,null,null,null,null,null,null,"",""]
[null,null,null,null,null,null,null,null,null,null,null,null,null,null,null,"",""]
[null,null,null,null,null,null,null,null,null,null,null,null,null,null,null,"",""]
[null,null,null,null,null,null,null,null,null,null,null,null,null,null,null,"",""]
[null,null,null,null,null,null,null,null,null,null,null,null,null,null,null,"",""]
[null,null,null,null,null,null,null,null,null,null,null,null,null,null,null,"",""]
[null,null,null,null,null,null,null,null,null,null,null,null,null,null,null,"",""]
[null,null,null,null,null,null,null,null,null,null,null,null,null,null,null,"",""]
[null,null,null,null,null,null,null,null,null,null,null,null,null,null,null,"",""]
[null,null,null,null,null,null,null,null,null,null,null,null,null,null,null,"",""]
[null,null,null,null,null,null,null,null,null,null,null,null,null,null,null,"",""]
[null,null,null,null,null,null,null,null,null,null,null,null,null,null,null,"",""]
[null,null,null,null,null,null,null,null,null,null,null,null,null,null,null,"",""]
[null,null,null,null,null,null,null,null,null,null,null,null,null,null,null,"",""]
[null,null,null,null,null,null,null,null,null,null,null,null,null,null,null,"",""]
[null,null,null,null,null,null,null,null,null,null,null,null,null,null,null,"",""]
[null,null,null,null,null,null,null,null,null,null,null,null,null,null,null,"",""]
[null,null,null,null,null,null,null,null,null,null,null,null,null,null,null,"",""]
[null,null,null,null,null,null,null,null,null,null,null,null,null,null,null,"",""]
[null,null,null,null,null,null,null,null,null,null,null,null,null,null,null,"",""]
[null,null,null,null,null,null,null,null,null,null,null,null,null,null,null,"",""]
[null,null,null,null,null,null,null,null,null,null,null,null,null,null,null,"",""]
[null,null,null,null,null,null,null,null,null,null,null,null,null,null,null,"",""]
[null,null,null,null,null,null,null,null,null,null,null,null,null,null,null,"",""]
[null,null,null,null,null,null,null,null,null,null,null,null,null,null,null,"",""]
[null,null,null,null,null,null,null,null,null,null,null,null,null,null,null,"",""]
[null,null,null,null,null,null,null,null,null,null,null,null,null,null,null,"",""]
[null,null,null,null,null,null,null,null,null,null,null,null,null,null,null,"",""]
[null,null,null,null,null,null,null,null,null,null,null,null,null,null,null,"",""]
[null,null,null,null,null,null,null,null,null,null,null,null,null,null,null,"",""]
[null,null,null,null,null,null,null,null,null,null,null,null,null,null,null,"",""]
[null,null,null,null,null,null,null,null,null,null,null,null,null,null,null,"",""]
[null,null,null,null,null,null,null,null,null,null,null,null,null,null,null,"",""]
[null,null,null,null,null,null,null,null,null,null,null,null,null,null,null,"",""]
[null,null,null,null,null,null,null,null,null,null,null,null,null,null,null,"",""]
[null,null,null,null,null,null,null,null,null,null,null,null,null,null,null,"",""]
[null,null,null,null,null,null,null,null,null,null,null,null,null,null,null,"",""]
[null,null,null,null,null,null,null,null,null,null,null,null,null,null,null,"",""]
[null,null,null,null,null,null,null,null,null,null,null,null,null,null,null,"",""]
[null,null,null,null,null,null,null,null,null,null,null,null,null,null,null,"",""]
[null,null,null,null,null,null,null,null,null,null,null,null,null,null,null,"",""]
[null,null,null,null,null,null,null,null,null,null,null,null,null,null,null,"",""]
[null,null,null,null,null,null,null,null,null,null,null,null,null,null,null,"",""]
[null,null,null,null,null,null,null,null,null,null,null,null,null,null,null,"",""]
[null,null,null,null,null,null,null,null,null,null,null,null,null,null,null,"",""]
[null,null,null,null,null,null,null,null,null,null,null,null,null,null,null,"",""]
[null,null,null,null,null,null,null,null,null,null,null,null,null,null,null,"",""]
[null,null,null,null,null,null,null,null,null,null,null,null,null,null,null,"",""]
[null,null,null,null,null,null,null,null,null,null,null,null,null,null,null,"",""]
[null,null,null,null,null,null,null,null,null,null,null,null,null,null,null,"",""]
[null,null,null,null,null,null,null,null,null,null,null,null,null,null,null,"",""]
[null,null,null,null,null,null,null,null,null,null,null,null,null,null,null,"",""]
[null,null,null,null,null,null,null,null,null,null,null,null,null,null,null,"",""]
[null,null,null,null,null,null,null,null,null,null,null,null,null,null,null,"",""]
[null,null,null,null,null,null,null,null,null,null,null,null,null,null,null,"",""]
[null,null,null,null,null,null,null,null,null,null,null,null,null,null,null,"",""]
[null,null,null,null,null,null,null,null,null,null,null,null,null,null,null,"",""]
[null,null,null,null,null,null,null,null,null,null,null,null,null,null,null,"",""]
[null,null,null,null,null,null,null,null,null,null,null,null,null,null,null,"",""]
[null,null,null,null,null,null,null,null,null,null,null,null,null,null,null,"",""]
[null,null,null,null,null,null,null,null,null,null,null,null,null,null,null,"",""]
[null,null,null,null,null,null,null,null,null,null,null,null,null,null,null,"",""]
[null,null,null,null,null,null,null,null,null,null,null,null,null,null,null,"",""]
[null,null,null,null,null,null,null,null,null,null,null,null,null,null,null,"",""]
[null,null,null,null,null,null,null,null,null,null,null,null,null,null,null,"",""]
[null,null,null,null,null,null,null,null,null,null,null,null,null,null,null,"",""]
[null,null,null,null,null,null,null,null,null,null,null,null,null,null,null,"",""]
[null,null,null,null,null,null,null,null,null,null,null,null,null,null,null,"",""]
[null,null,null,null,null,null,null,null,null,null,null,null,null,null,null,"",""]
[null,null,null,null,null,null,null,null,null,null,null,null,null,null,null,"",""]
[null,null,null,null,null,null,null,null,null,null,null,null,null,null,null,"",""]
[null,null,null,null,null,null,null,null,null,null,null,null,null,null,null,"",""]
[null,null,null,null,null,null,null,null,null,null,null,null,null,null,null,"",""]
[null,null,null,null,null,null,null,null,null,null,null,null,null,null,null,"",""]
[null,null,null,null,null,null,null,null,null,null,null,null,null,null,null,"",""]
[null,null,null,null,null,null,null,null,null,null,null,null,null,null,null,"",""]
[null,null,null,null,null,null,null,null,null,null,null,null,null,null,null,"",""]
[null,null,null,null,null,null,null,null,null,null,null,null,null,null,null,"",""]
[null,null,null,null,null,null,null,null,null,null,null,null,null,null,null,"",""]
[null,null,null,null,null,null,null,null,null,null,null,null,null,null,null,"",""]
[null,null,null,null,null,null,null,null,null,null,null,null,null,null,null,"",""]
[null,null,null,null,null,null,null,null,null,null,null,null,null,null,null,"",""]
[null,null,null,null,null,null,null,null,null,null,null,null,null,null,null,"",""]
[null,null,null,null,null,null,null,null,null,null,null,null,null,null,null,"",""]
[null,null,null,null,null,null,null,null,null,null,null,null,null,null,null,"",""]
[null,null,null,null,null,null,null,null,null,null,null,null,null,null,null,"",""]
[null,null,null,null,null,null,null,null,null,null,null,null,null,null,null,"",""]
[null,null,null,null,null,null,null,null,null,null,null,null,null,null,null,"",""]
[null,null,null,null,null,null,null,null,null,null,null,null,null,null,null,"",""]
[null,null,null,null,null,null,null,null,null,null,null,null,null,null,null,"",""]
[null,null,null,null,null,null,null,null,null,null,null,null,null,null,null,"",""]
[null,null,null,null,null,null,null,null,null,null,null,null,null,null,null,"",""]
[null,null,null,null,null,null,null,null,null,null,null,null,null,null,null,"",""]
[null,null,null,null,null,null,null,null,null,null,null,null,null,null,null,"",""]
[null,null,null,null,null,null,null,null,null,null,null,null,null,null,null,"",""]
[null,null,null,null,null,null,null,null,null,null,null,null,null,null,null,"",""]
[null,null,null,null,null,null,null,null,null,null,null,null,null,null,null,"",""]
[null,null,null,null,null,null,null,null,null,null,null,null,null,null,null,"",""]
[null,null,null,null,null,null,null,null,null,null,null,null,null,null,null,"",""]
[null,null,null,null,null,null,null,null,null,null,null,null,null,null,null,"",""]
[null,null,null,null,null,null,null,null,null,null,null,null,null,null,null,"",""]
[null,null,null,null,null,null,null,null,null,null,null,null,null,null,null,"",""]
[null,null,null,null,null,null,null,null,null,null,null,null,null,null,null,"",""]
[null,null,null,null,null,null,null,null,null,null,null,null,null,null,null,"",""]
[null,null,null,null,null,null,null,null,null,null,null,null,null,null,null,"",""]
[null,null,null,null,null,null,null,null,null,null,null,null,null,null,null,"",""]
[null,null,null,null,null,null,null,null,null,null,null,null,null,null,null,"",""]
[null,null,null,null,null,null,null,null,null,null,null,null,null,null,null,"",""]
[null,null,null,null,null,null,null,null,null,null,null,null,null,null,null,"",""]
[null,null,null,null,null,null,null,null,null,null,null,null,null,null,null,"",""]
[null,null,null,null,null,null,null,null,null,null,null,null,null,null,null,"",""]
[null,null,null,null,null,null,null,null,null,null,null,null,null,null,null,"",""]
[null,null,null,null,null,null,null,null,null,null,null,null,null,null,null,"",""]
[null,null,null,null,null,null,null,null,null,null,null,null,null,null,null,"",""]
[null,null,null,null,null,null,null,null,null,null,null,null,null,null,null,"",""]
[null,null,null,null,null,null,null,null,null,null,null,null,null,null,null,"",""]
[null,null,null,null,null,null,null,null,null,null,null,null,null,null,null,"",""]
[null,null,null,null,null,null,null,null,null,null,null,null,null,null,null,"",""]
[null,null,null,null,null,null,null,null,null,null,null,null,null,null,null,"",""]
[null,null,null,null,null,null,null,null,null,null,null,null,null,null,null,"",""]
[null,null,null,null,null,null,null,null,null,null,null,null,null,null,null,"",""]
[null,null,null,null,null,null,null,null,null,null,null,null,null,null,null,"",""]
[null,null,null,null,null,null,null,null,null,null,null,null,null,null,null,"",""]
[null,null,null,null,null,null,null,null,null,null,null,null,null,null,null,"",""]
[null,null,null,null,null,null,null,null,null,null,null,null,null,null,null,"",""]
[null,null,null,null,null,null,null,null,null,null,null,null,null,null,null,"",""]
[null,null,null,null,null,null,null,null,null,null,null,null,null,null,null,"",""]
[null,null,null,null,null,null,null,null,null,null,null,null,null,null,null,"",""]
[null,null,null,null,null,null,null,null,null,null,null,null,null,null,null,"",""]
[null,null,null,null,null,null,null,null,null,null,null,null,null,null,null,"",""]
[null,null,null,null,null,null,null,null,null,null,null,null,null,null,null,"",""]
[null,null,null,null,null,null,null,null,null,null,null,null,null,null,null,"",""]
[null,null,null,null,null,null,null,null,null,null,null,null,null,null,null,"",""]
[null,null,null,null,null,null,null,null,null,null,null,null,null,null,null,"",""]
[null,null,null,null,null,null,null,null,null,null,null,null,null,null,null,"",""]
[null,null,null,null,null,null,null,null,null,null,null,null,null,null,null,"",""]
[null,null,null,null,null,null,null,null,null,null,null,null,null,null,null,"",""]
[null,null,null,null,null,null,null,null,null,null,null,null,null,null,null,"",""]
[null,null,null,null,null,null,null,null,null,null,null,null,null,null,null,"",""]
[null,null,null,null,null,null,null,null,null,null,null,null,null,null,null,"",""]
[null,null,null,null,null,null,null,null,null,null,null,null,null,null,null,"",""]
[null,null,null,null,null,null,null,null,null,null,null,null,null,null,null,"",""]
[null,null,null,null,null,null,null,null,null,null,null,null,null,null,null,"",""]
[null,null,null,null,null,null,null,null,null,null,null,null,null,null,null,"",""]
[null,null,null,null,null,null,null,null,null,null,null,null,null,null,null,"",""]
[null,null,null,null,null,null,null,null,null,null,null,null,null,null,null,"",""]
[null,null,null,null,null,null,null,null,null,null,null,null,null,null,null,"",""]
[null,null,null,null,null,null,null,null,null,null,null,null,null,null,null,"",""]
[null,null,null,null,null,null,null,null,null,null,null,null,null,null,null,"",""]
[null,null,null,null,null,null,null,null,null,null,null,null,null,null,null,"",""]
[null,null,null,null,null,null,null,null,null,null,null,null,null,null,null,"",""]
[null,null,null,null,null,null,null,null,null,null,null,null,null,null,null,"",""]
[null,null,null,null,null,null,null,null,null,null,null,null,null,null,null,"",""]
[null,null,null,null,null,null,null,null,null,null,null,null,null,null,null,"",""]
[null,null,null,null,null,null,null,null,null,null,null,null,null,null,null,"",""]
[null,null,null,null,null,null,null,null,null,null,null,null,null,null,null,"",""]
[null,null,null,null,null,null,null,null,null,null,null,null,null,null,null,"",""]
[null,null,null,null,null,null,null,null,null,null,null,null,null,null,null,"",""]
[null,null,null,null,null,null,null,null,null,null,null,null,null,null,null,"",""]
[null,null,null,null,null,null,null,null,null,null,null,null,null,null,null,"",""]
[null,null,null,null,null,null,null,null,null,null,null,null,null,null,null,"",""]
[null,null,null,null,null,null,null,null,null,null,null,null,null,null,null,"",""]
[null,null,null,null,null,null,null,null,null,null,null,null,null,null,null,"",""]
[null,null,null,null,null,null,null,null,null,null,null,null,null,null,null,"",""]
[null,null,null,null,null,null,null,null,null,null,null,null,null,null,null,"",""]
[null,null,null,null,null,null,null,null,null,null,null,null,null,null,null,"",""]
[null,null,null,null,null,null,null,null,null,null,null,null,null,null,null,"",""]
[null,null,null,null,null,null,null,null,null,null,null,null,null,null,null,"",""]
[null,null,null,null,null,null,null,null,null,null,null,null,null,null,null,"",""]
[null,null,null,null,null,null,null,null,null,null,null,null,null,null,null,"",""]
[null,null,null,null,null,null,null,null,null,null,null,null,null,null,null,"",""]
[null,null,null,null,null,null,null,null,null,null,null,null,null,null,null,"",""]
[null,null,null,null,null,null,null,null,null,null,null,null,null,null,null,"",""]
[null,null,null,null,null,null,null,null,null,null,null,null,null,null,null,"",""]
[null,null,null,null,null,null,null,null,null,null,null,null,null,null,null,"",""]
[null,null,null,null,null,null,null,null,null,null,null,null,null,null,null,"",""]
[null,null,null,null,null,null,null,null,null,null,null,null,null,null,null,"",""]
[null,null,null,null,null,null,null,null,null,null,null,null,null,null,null,"",""]
[null,null,null,null,null,null,null,null,null,null,null,null,null,null,null,"",""]
[null,null,null,null,null,null,null,null,null,null,null,null,null,null,null,"",""]
[null,null,null,null,null,null,null,null,null,null,null,null,null,null,null,"",""]
[null,null,null,null,null,null,null,null,null,null,null,null,null,null,null,"",""]
[null,null,null,null,null,null,null,null,null,null,null,null,null,null,null,"",""]
[null,null,null,null,null,null,null,null,null,null,null,null,null,null,null,"",""]
[null,null,null,null,null,null,null,null,null,null,null,null,null,null,null,"",""]
[null,null,null,null,null,null,null,null,null,null,null,null,null,null,null,"",""]
[null,null,null,null,null,null,null,null,null,null,null,null,null,null,null,"",""]
[null,null,null,null,null,null,null,null,null,null,null,null,null,null,null,"",""]
[null,null,null,null,null,null,null,null,null,null,null,null,null,null,null,"",""]
[null,null,null,null,null,null,null,null,null,null,null,null,null,null,null,"",""]
[null,null,null,null,null,null,null,null,null,null,null,null,null,null,null,"",""]
[null,null,null,null,null,null,null,null,null,null,null,null,null,null,null,"",""]
[null,null,null,null,null,null,null,null,null,null,null,null,null,null,null,"",""]
[null,null,null,null,null,null,null,null,null,null,null,null,null,null,null,"",""]
[null,null,null,null,null,null,null,null,null,null,null,null,null,null,null,"",""]
[null,null,null,null,null,null,null,null,null,null,null,null,null,null,null,"",""]
[null,null,null,null,null,null,null,null,null,null,null,null,null,null,null,"",""]
[null,null,null,null,null,null,null,null,null,null,null,null,null,null,null,"",""]
[null,null,null,null,null,null,null,null,null,null,null,null,null,null,null,"",""]
[null,null,null,null,null,null,null,null,null,null,null,null,null,null,null,"",""]
[null,null,null,null,null,null,null,null,null,null,null,null,null,null,null,"",""]
[null,null,null,null,null,null,null,null,null,null,null,null,null,null,null,"",""]
[null,null,null,null,null,null,null,null,null,null,null,null,null,null,null,"",""]
[null,null,null,null,null,null,null,null,null,null,null,null,null,null,null,"",""]
[null,null,null,null,null,null,null,null,null,null,null,null,null,null,null,"",""]
[null,null,null,null,null,null,null,null,null,null,null,null,null,null,null,"",""]
[null,null,null,null,null,null,null,null,null,null,null,null,null,null,null,"",""]
[null,null,null,null,null,null,null,null,null,null,null,null,null,null,null,"",""]
[null,null,null,null,null,null,null,null,null,null,null,null,null,null,null,"",""]
[null,null,null,null,null,null,null,null,null,null,null,null,null,null,null,"",""]
[null,null,null,null,null,null,null,null,null,null,null,null,null,null,null,"",""]
[null,null,null,null,null,null,null,null,null,null,null,null,null,null,null,"",""]
[null,null,null,null,null,null,null,null,null,null,null,null,null,null,null,"",""]
[null,null,null,null,null,null,null,null,null,null,null,null,null,null,null,"",""]
[null,null,null,null,null,null,null,null,null,null,null,null,null,null,null,"",""]
[null,null,null,null,null,null,null,null,null,null,null,null,null,null,null,"",""]
[null,null,null,null,null,null,null,null,null,null,null,null,null,null,null,"",""]
[null,null,null,null,null,null,null,null,null,null,null,null,null,null,null,"",""]
[null,null,null,null,null,null,null,null,null,null,null,null,null,null,null,"",""]
[null,null,null,null,null,null,null,null,null,null,null,null,null,null,null,"",""]
[null,null,null,null,null,null,null,null,null,null,null,null,null,null,null,"",""]
[null,null,null,null,null,null,null,null,null,null,null,null,null,null,null,"",""]
[null,null,null,null,null,null,null,null,null,null,null,null,null,null,null,"",""]
[null,null,null,null,null,null,null,null,null,null,null,null,null,null,null,"",""]
[null,null,null,null,null,null,null,null,null,null,null,null,null,null,null,"",""]
[null,null,null,null,null,null,null,null,null,null,null,null,null,null,null,"",""]
[null,null,null,null,null,null,null,null,null,null,null,null,null,null,null,"",""]
[null,null,null,null,null,null,null,null,null,null,null,null,null,null,null,"",""]
[null,null,null,null,null,null,null,null,null,null,null,null,null,null,null,"",""]
[null,null,null,null,null,null,null,null,null,null,null,null,null,null,null,"",""]
[null,null,null,null,null,null,null,null,null,null,null,null,null,null,null,"",""]
[null,null,null,null,null,null,null,null,null,null,null,null,null,null,null,"",""]
[null,null,null,null,null,null,null,null,null,null,null,null,null,null,null,"",""]
[null,null,null,null,null,null,null,null,null,null,null,null,null,null,null,"",""]
[null,null,null,null,null,null,null,null,null,null,null,null,null,null,null,"",""]
[null,null,null,null,null,null,null,null,null,null,null,null,null,null,null,"",""]
[null,null,null,null,null,null,null,null,null,null,null,null,null,null,null,"",""]
[null,null,null,null,null,null,null,null,null,null,null,null,null,null,null,"",""]
[null,null,null,null,null,null,null,null,null,null,null,null,null,null,null,"",""]
[null,null,null,null,null,null,null,null,null,null,null,null,null,null,null,"",""]
[null,null,null,null,null,null,null,null,null,null,null,null,null,null,null,"",""]
[null,null,null,null,null,null,null,null,null,null,null,null,null,null,null,"",""]
[null,null,null,null,null,null,null,null,null,null,null,null,null,null,null,"",""]
[null,null,null,null,null,null,null,null,null,null,null,null,null,null,null,"",""]
[null,null,null,null,null,null,null,null,null,null,null,null,null,null,null,"",""]
[null,null,null,null,null,null,null,null,null,null,null,null,null,null,null,"",""]
[null,null,null,null,null,null,null,null,null,null,null,null,null,null,null,"",""]
[null,null,null,null,null,null,null,null,null,null,null,null,null,null,null,"",""]
[null,null,null,null,null,null,null,null,null,null,null,null,null,null,null,"",""]
[null,null,null,null,null,null,null,null,null,null,null,null,null,null,null,"",""]
[null,null,null,null,null,null,null,null,null,null,null,null,null,null,null,"",""]
[null,null,null,null,null,null,null,null,null,null,null,null,null,null,null,"",""]
[null,null,null,null,null,null,null,null,null,null,null,null,null,null,null,"",""]
[null,null,null,null,null,null,null,null,null,null,null,null,null,null,null,"",""]
[null,null,null,null,null,null,null,null,null,null,null,null,null,null,null,"",""]
[null,null,null,null,null,null,null,null,null,null,null,null,null,null,null,"",""]
[null,null,null,null,null,null,null,null,null,null,null,null,null,null,null,"",""]
[null,null,null,null,null,null,null,null,null,null,null,null,null,null,null,"",""]
[null,null,null,null,null,null,null,null,null,null,null,null,null,null,null,"",""]
[null,null,null,null,null,null,null,null,null,null,null,null,null,null,null,"",""]
[null,null,null,null,null,null,null,null,null,null,null,null,null,null,null,"",""]
[null,null,null,null,null,null,null,null,null,null,null,null,null,null,null,"",""]
[null,null,null,null,null,null,null,null,null,null,null,null,null,null,null,"",""]
[null,null,null,null,null,null,null,null,null,null,null,null,null,null,null,"",""]
[null,null,null,null,null,null,null,null,null,null,null,null,null,null,null,"",""]
[null,null,null,null,null,null,null,null,null,null,null,null,null,null,null,"",""]
[null,null,null,null,null,null,null,null,null,null,null,null,null,null,null,"",""]
[null,null,null,null,null,null,null,null,null,null,null,null,null,null,null,"",""]
[null,null,null,null,null,null,null,null,null,null,null,null,null,null,null,"",""]
[null,null,null,null,null,null,null,null,null,null,null,null,null,null,null,"",""]
[null,null,null,null,null,null,null,null,null,null,null,null,null,null,null,"",""]
[null,null,null,null,null,null,null,null,null,null,null,null,null,null,null,"",""]
[null,null,null,null,null,null,null,null,null,null,null,null,null,null,null,"",""]
[null,null,null,null,null,null,null,null,null,null,null,null,null,null,null,"",""]
[null,null,null,null,null,null,null,null,null,null,null,null,null,null,null,"",""]
[null,null,null,null,null,null,null,null,null,null,null,null,null,null,null,"",""]
[null,null,null,null,null,null,null,null,null,null,null,null,null,null,null,"",""]
[null,null,null,null,null,null,null,null,null,null,null,null,null,null,null,"",""]
[null,null,null,null,null,null,null,null,null,null,null,null,null,null,null,"",""]
[null,null,null,null,null,null,null,null,null,null,null,null,null,null,null,"",""]
[null,null,null,null,null,null,null,null,null,null,null,null,null,null,null,"",""]
[null,null,null,null,null,null,null,null,null,null,null,null,null,null,null,"",""]
[null,null,null,null,null,null,null,null,null,null,null,null,null,null,null,"",""]
[null,null,null,null,null,null,null,null,null,null,null,null,null,null,null,"",""]
[null,null,null,null,null,null,null,null,null,null,null,null,null,null,null,"",""]
[null,null,null,null,null,null,null,null,null,null,null,null,null,null,null,"",""]
[null,null,null,null,null,null,null,null,null,null,null,null,null,null,null,"",""]
[null,null,null,null,null,null,null,null,null,null,null,null,null,null,null,"",""]
[null,null,null,null,null,null,null,null,null,null,null,null,null,null,null,"",""]
[null,null,null,null,null,null,null,null,null,null,null,null,null,null,null,"",""]
[null,null,null,null,null,null,null,null,null,null,null,null,null,null,null,"",""]
[null,null,null,null,null,null,null,null,null,null,null,null,null,null,null,"",""]
[null,null,null,null,null,null,null,null,null,null,null,null,null,null,null,"",""]
[null,null,null,null,null,null,null,null,null,null,null,null,null,null,null,"",""]
[null,null,null,null,null,null,null,null,null,null,null,null,null,null,null,"",""]
[null,null,null,null,null,null,null,null,null,null,null,null,null,null,null,"",""]
[null,null,null,null,null,null,null,null,null,null,null,null,null,null,null,"",""]
[null,null,null,null,null,null,null,null,null,null,null,null,null,null,null,"",""]
[null,null,null,null,null,null,null,null,null,null,null,null,null,null,null,"",""]
[null,null,null,null,null,null,null,null,null,null,null,null,null,null,null,"",""]
[null,null,null,null,null,null,null,null,null,null,null,null,null,null,null,"",""]
[null,null,null,null,null,null,null,null,null,null,null,null,null,null,null,"",""]
[null,null,null,null,null,null,null,null,null,null,null,null,null,null,null,"",""]
[null,null,null,null,null,null,null,null,null,null,null,null,null,null,null,"",""]
[null,null,null,null,null,null,null,null,null,null,null,null,null,null,null,"",""]
[null,null,null,null,null,null,null,null,null,null,null,null,null,null,null,"",""]
[null,null,null,null,null,null,null,null,null,null,null,null,null,null,null,"",""]
[null,null,null,null,null,null,null,null,null,null,null,null,null,null,null,"",""]
[null,null,null,null,null,null,null,null,null,null,null,null,null,null,null,"",""]
[null,null,null,null,null,null,null,null,null,null,null,null,null,null,null,"",""]
[null,null,null,null,null,null,null,null,null,null,null,null,null,null,null,"",""]
[null,null,null,null,null,null,null,null,null,null,null,null,null,null,null,"",""]
[null,null,null,null,null,null,null,null,null,null,null,null,null,null,null,"",""]
[null,null,null,null,null,null,null,null,null,null,null,null,null,null,null,"",""]
[null,null,null,null,null,null,null,null,null,null,null,null,null,null,null,"",""]
[null,null,null,null,null,null,null,null,null,null,null,null,null,null,null,"",""]
[null,null,null,null,null,null,null,null,null,null,null,null,null,null,null,"",""]
[null,null,null,null,null,null,null,null,null,null,null,null,null,null,null,"",""]
[null,null,null,null,null,null,null,null,null,null,null,null,null,null,null,"",""]
[null,null,null,null,null,null,null,null,null,null,null,null,null,null,null,"",""]
[null,null,null,null,null,null,null,null,null,null,null,null,null,null,null,"",""]
[null,null,null,null,null,null,null,null,null,null,null,null,null,null,null,"",""]
[null,null,null,null,null,null,null,null,null,null,null,null,null,null,null,"",""]
[null,null,null,null,null,null,null,null,null,null,null,null,null,null,null,"",""]
[null,null,null,null,null,null,null,null,null,null,null,null,null,null,null,"",""]
[null,null,null,null,null,null,null,null,null,null,null,null,null,null,null,"",""]
[null,null,null,null,null,null,null,null,null,null,null,null,null,null,null,"",""]
[null,null,null,null,null,null,null,null,null,null,null,null,null,null,null,"",""]
[null,null,null,null,null,null,null,null,null,null,null,null,null,null,null,"",""]
[null,null,null,null,null,null,null,null,null,null,null,null,null,null,null,"",""]
[null,null,null,null,null,null,null,null,null,null,null,null,null,null,null,"",""]
[null,null,null,null,null,null,null,null,null,null,null,null,null,null,null,"",""]
[null,null,null,null,null,null,null,null,null,null,null,null,null,null,null,"",""]
[null,null,null,null,null,null,null,null,null,null,null,null,null,null,null,"",""]
[null,null,null,null,null,null,null,null,null,null,null,null,null,null,null,"",""]
[null,null,null,null,null,null,null,null,null,null,null,null,null,null,null,"",""]
[null,null,null,null,null,null,null,null,null,null,null,null,null,null,null,"",""]
[null,null,null,null,null,null,null,null,null,null,null,null,null,null,null,"",""]
[null,null,null,null,null,null,null,null,null,null,null,null,null,null,null,"",""]
[null,null,null,null,null,null,null,null,null,null,null,null,null,null,null,"",""]
[null,null,null,null,null,null,null,null,null,null,null,null,null,null,null,"",""]
[null,null,null,null,null,null,null,null,null,null,null,null,null,null,null,"",""]
[null,null,null,null,null,null,null,null,null,null,null,null,null,null,null,"",""]
[null,null,null,null,null,null,null,null,null,null,null,null,null,null,null,"",""]
[null,null,null,null,null,null,null,null,null,null,null,null,null,null,null,"",""]
[null,null,null,null,null,null,null,null,null,null,null,null,null,null,null,"",""]
[null,null,null,null,null,null,null,null,null,null,null,null,null,null,null,"",""]
[null,null,null,null,null,null,null,null,null,null,null,null,null,null,null,"",""]
[null,null,null,null,null,null,null,null,null,null,null,null,null,null,null,"",""]
[null,null,null,null,null,null,null,null,null,null,null,null,null,null,null,"",""]
[null,null,null,null,null,null,null,null,null,null,null,null,null,null,null,"",""]
[null,null,null,null,null,null,null,null,null,null,null,null,null,null,null,"",""]
[null,null,null,null,null,null,null,null,null,null,null,null,null,null,null,"",""]
[null,null,null,null,null,null,null,null,null,null,null,null,null,null,null,"",""]
[null,null,null,null,null,null,null,null,null,null,null,null,null,null,null,"",""]
[null,null,null,null,null,null,null,null,null,null,null,null,null,null,null,"",""]
[null,null,null,null,null,null,null,null,null,null,null,null,null,null,null,"",""]
[null,null,null,null,null,null,null,null,null,null,null,null,null,null,null,"",""]
[null,null,null,null,null,null,null,null,null,null,null,null,null,null,null,"",""]
[null,null,null,null,null,null,null,null,null,null,null,null,null,null,null,"",""]
[null,null,null,null,null,null,null,null,null,null,null,null,null,null,null,"",""]
[null,null,null,null,null,null,null,null,null,null,null,null,null,null,null,"",""]
[null,null,null,null,null,null,null,null,null,null,null,null,null,null,null,"",""]
[null,null,null,null,null,null,null,null,null,null,null,null,null,null,null,"",""]
[null,null,null,null,null,null,null,null,null,null,null,null,null,null,null,"",""]
[null,null,null,null,null,null,null,null,null,null,null,null,null,null,null,"",""]
[null,null,null,null,null,null,null,null,null,null,null,null,null,null,null,"",""]
[null,null,null,null,null,null,null,null,null,null,null,null,null,null,null,"",""]
[null,null,null,null,null,null,null,null,null,null,null,null,null,null,null,"",""]
[null,null,null,null,null,null,null,null,null,null,null,null,null,null,null,"",""]
[null,null,null,null,null,null,null,null,null,null,null,null,null,null,null,"",""]
[null,null,null,null,null,null,null,null,null,null,null,null,null,null,null,"",""]
[null,null,null,null,null,null,null,null,null,null,null,null,null,null,null,"",""]
[null,null,null,null,null,null,null,null,null,null,null,null,null,null,null,"",""]
[null,null,null,null,null,null,null,null,null,null,null,null,null,null,null,"",""]
[null,null,null,null,null,null,null,null,null,null,null,null,null,null,null,"",""]
[null,null,null,null,null,null,null,null,null,null,null,null,null,null,null,"",""]
[null,null,null,null,null,null,null,null,null,null,null,null,null,null,null,"",""]
[null,null,null,null,null,null,null,null,null,null,null,null,null,null,null,"",""]
[null,null,null,null,null,null,null,null,null,null,null,null,null,null,null,"",""]
[null,null,null,null,null,null,null,null,null,null,null,null,null,null,null,"",""]
[null,null,null,null,null,null,null,null,null,null,null,null,null,null,null,"",""]
[null,null,null,null,null,null,null,null,null,null,null,null,null,null,null,"",""]
[null,null,null,null,null,null,null,null,null,null,null,null,null,null,null,"",""]
[null,null,null,null,null,null,null,null,null,null,null,null,null,null,null,"",""]
[null,null,null,null,null,null,null,null,null,null,null,null,null,null,null,"",""]
[null,null,null,null,null,null,null,null,null,null,null,null,null,null,null,"",""]
[null,null,null,null,null,null,null,null,null,null,null,null,null,null,null,"",""]
[null,null,null,null,null,null,null,null,null,null,null,null,null,null,null,"",""]
[null,null,null,null,null,null,null,null,null,null,null,null,null,null,null,"",""]
[null,null,null,null,null,null,null,null,null,null,null,null,null,null,null,"",""]
[null,null,null,null,null,null,null,null,null,null,null,null,null,null,null,"",""]
[null,null,null,null,null,null,null,null,null,null,null,null,null,null,null,"",""]
[null,null,null,null,null,null,null,null,null,null,null,null,null,null,null,"",""]
[null,null,null,null,null,null,null,null,null,null,null,null,null,null,null,"",""]
[null,null,null,null,null,null,null,null,null,null,null,null,null,null,null,"",""]
[null,null,null,null,null,null,null,null,null,null,null,null,null,null,null,"",""]
[null,null,null,null,null,null,null,null,null,null,null,null,null,null,null,"",""]
[null,null,null,null,null,null,null,null,null,null,null,null,null,null,null,"",""]
[null,null,null,null,null,null,null,null,null,null,null,null,null,null,null,"",""]
[null,null,null,null,null,null,null,null,null,null,null,null,null,null,null,"",""]
[null,null,null,null,null,null,null,null,null,null,null,null,null,null,null,"",""]
[null,null,null,null,null,null,null,null,null,null,null,null,null,null,null,"",""]
[null,null,null,null,null,null,null,null,null,null,null,null,null,null,null,"",""]
[null,null,null,null,null,null,null,null,null,null,null,null,null,null,null,"",""]
[null,null,null,null,null,null,null,null,null,null,null,null,null,null,null,"",""]
[null,null,null,null,null,null,null,null,null,null,null,null,null,null,null,"",""]
[null,null,null,null,null,null,null,null,null,null,null,null,null,null,null,"",""]
[null,null,null,null,null,null,null,null,null,null,null,null,null,null,null,"",""]
[null,null,null,null,null,null,null,null,null,null,null,null,null,null,null,"",""]
[null,null,null,null,null,null,null,null,null,null,null,null,null,null,null,"",""]
[null,null,null,null,null,null,null,null,null,null,null,null,null,null,null,"",""]
[null,null,null,null,null,null,null,null,null,null,null,null,null,null,null,"",""]
[null,null,null,null,null,null,null,null,null,null,null,null,null,null,null,"",""]
[null,null,null,null,null,null,null,null,null,null,null,null,null,null,null,"",""]
[null,null,null,null,null,null,null,null,null,null,null,null,null,null,null,"",""]
[null,null,null,null,null,null,null,null,null,null,null,null,null,null,null,"",""]
[null,null,null,null,null,null,null,null,null,null,null,null,null,null,null,"",""]
[null,null,null,null,null,null,null,null,null,null,null,null,null,null,null,"",""]
[null,null,null,null,null,null,null,null,null,null,null,null,null,null,null,"",""]
[null,null,null,null,null,null,null,null,null,null,null,null,null,null,null,"",""]
[null,null,null,null,null,null,null,null,null,null,null,null,null,null,null,"",""]
[null,null,null,null,null,null,null,null,null,null,null,null,null,null,null,"",""]
[null,null,null,null,null,null,null,null,null,null,null,null,null,null,null,"",""]
[null,null,null,null,null,null,null,null,null,null,null,null,null,null,null,"",""]
[null,null,null,null,null,null,null,null,null,null,null,null,null,null,null,"",""]
[null,null,null,null,null,null,null,null,null,null,null,null,null,null,null,"",""]
[null,null,null,null,null,null,null,null,null,null,null,null,null,null,null,"",""]
[null,null,null,null,null,null,null,null,null,null,null,null,null,null,null,"",""]
[null,null,null,null,null,null,null,null,null,null,null,null,null,null,null,"",""]
[null,null,null,null,null,null,null,null,null,null,null,null,null,null,null,"",""]
[null,null,null,null,null,null,null,null,null,null,null,null,null,null,null,"",""]
[null,null,null,null,null,null,null,null,null,null,null,null,null,null,null,"",""]
[null,null,null,null,null,null,null,null,null,null,null,null,null,null,null,"",""]
[null,null,null,null,null,null,null,null,null,null,null,null,null,null,null,"",""]
[null,null,null,null,null,null,null,null,null,null,null,null,null,null,null,"",""]
[null,null,null,null,null,null,null,null,null,null,null,null,null,null,null,"",""]
[null,null,null,null,null,null,null,null,null,null,null,null,null,null,null,"",""]
[null,null,null,null,null,null,null,null,null,null,null,null,null,null,null,"",""]
[null,null,null,null,null,null,null,null,null,null,null,null,null,null,null,"",""]
[null,null,null,null,null,null,null,null,null,null,null,null,null,null,null,"",""]
[null,null,null,null,null,null,null,null,null,null,null,null,null,null,null,"",""]
[null,null,null,null,null,null,null,null,null,null,null,null,null,null,null,"",""]
[null,null,null,null,null,null,null,null,null,null,null,null,null,null,null,"",""]
[null,null,null,null,null,null,null,null,null,null,null,null,null,null,null,"",""]
[null,null,null,null,null,null,null,null,null,null,null,null,null,null,null,"",""]
[null,null,null,null,null,null,null,null,null,null,null,null,null,null,null,"",""]
[null,null,null,null,null,null,null,null,null,null,null,null,null,null,null,"",""]
[null,null,null,null,null,null,null,null,null,null,null,null,null,null,null,"",""]
[null,null,null,null,null,null,null,null,null,null,null,null,null,null,null,"",""]
[null,null,null,null,null,null,null,null,null,null,null,null,null,null,null,"",""]
[null,null,null,null,null,null,null,null,null,null,null,null,null,null,null,"",""]
[null,null,null,null,null,null,null,null,null,null,null,null,null,null,null,"",""]
[null,null,null,null,null,null,null,null,null,null,null,null,null,null,null,"",""]
[null,null,null,null,null,null,null,null,null,null,null,null,null,null,null,"",""]
[null,null,null,null,null,null,null,null,null,null,null,null,null,null,null,"",""]
[null,null,null,null,null,null,null,null,null,null,null,null,null,null,null,"",""]
[null,null,null,null,null,null,null,null,null,null,null,null,null,null,null,"",""]
[null,null,null,null,null,null,null,null,null,null,null,null,null,null,null,"",""]
[null,null,null,null,null,null,null,null,null,null,null,null,null,null,null,"",""]
[null,null,null,null,null,null,null,null,null,null,null,null,null,null,null,"",""]
[null,null,null,null,null,null,null,null,null,null,null,null,null,null,null,"",""]
[null,null,null,null,null,null,null,null,null,null,null,null,null,null,null,"",""]
[null,null,null,null,null,null,null,null,null,null,null,null,null,null,null,"",""]
[null,null,null,null,null,null,null,null,null,null,null,null,null,null,null,"",""]
[null,null,null,null,null,null,null,null,null,null,null,null,null,null,null,"",""]
[null,null,null,null,null,null,null,null,null,null,null,null,null,null,null,"",""]
[null,null,null,null,null,null,null,null,null,null,null,null,null,null,null,"",""]
[null,null,null,null,null,null,null,null,null,null,null,null,null,null,null,"",""]
[null,null,null,null,null,null,null,null,null,null,null,null,null,null,null,"",""]
[null,null,null,null,null,null,null,null,null,null,null,null,null,null,null,"",""]
[null,null,null,null,null,null,null,null,null,null,null,null,null,null,null,"",""]
[null,null,null,null,null,null,null,null,null,null,null,null,null,null,null,"",""]
[null,null,null,null,null,null,null,null,null,null,null,null,null,null,null,"",""]
[null,null,null,null,null,null,null,null,null,null,null,null,null,null,null,"",""]
[null,null,null,null,null,null,null,null,null,null,null,null,null,null,null,"",""]
[null,null,null,null,null,null,null,null,null,null,null,null,null,null,null,"",""]
[null,null,null,null,null,null,null,null,null,null,null,null,null,null,null,"",""]
[null,null,null,null,null,null,null,null,null,null,null,null,null,null,null,"",""]
[null,null,null,null,null,null,null,null,null,null,null,null,null,null,null,"",""]
[null,null,null,null,null,null,null,null,null,null,null,null,null,null,null,"",""]
[null,null,null,null,null,null,null,null,null,null,null,null,null,null,null,"",""]
[null,null,null,null,null,null,null,null,null,null,null,null,null,null,null,"",""]
[null,null,null,null,null,null,null,null,null,null,null,null,null,null,null,"",""]
[null,null,null,null,null,null,null,null,null,null,null,null,null,null,null,"",""]
[null,null,null,null,null,null,null,null,null,null,null,null,null,null,null,"",""]
[null,null,null,null,null,null,null,null,null,null,null,null,null,null,null,"",""]
[null,null,null,null,null,null,null,null,null,null,null,null,null,null,null,"",""]
[null,null,null,null,null,null,null,null,null,null,null,null,null,null,null,"",""]
[null,null,null,null,null,null,null,null,null,null,null,null,null,null,null,"",""]
[null,null,null,null,null,null,null,null,null,null,null,null,null,null,null,"",""]
[null,null,null,null,null,null,null,null,null,null,null,null,null,null,null,"",""]
[null,null,null,null,null,null,null,null,null,null,null,null,null,null,null,"",""]
[null,null,null,null,null,null,null,null,null,null,null,null,null,null,null,"",""]
[null,null,null,null,null,null,null,null,null,null,null,null,null,null,null,"",""]
[null,null,null,null,null,null,null,null,null,null,null,null,null,null,null,"",""]
[null,null,null,null,null,null,null,null,null,null,null,null,null,null,null,"",""]
[null,null,null,null,null,null,null,null,null,null,null,null,null,null,null,"",""]
[null,null,null,null,null,null,null,null,null,null,null,null,null,null,null,"",""]
[null,null,null,null,null,null,null,null,null,null,null,null,null,null,null,"",""]
[null,null,null,null,null,null,null,null,null,null,null,null,null,null,null,"",""]
[null,null,null,null,null,null,null,null,null,null,null,null,null,null,null,"",""]
[null,null,null,null,null,null,null,null,null,null,null,null,null,null,null,"",""]
[null,null,null,null,null,null,null,null,null,null,null,null,null,null,null,"",""]
[null,null,null,null,null,null,null,null,null,null,null,null,null,null,null,"",""]
[null,null,null,null,null,null,null,null,null,null,null,null,null,null,null,"",""]
[null,null,null,null,null,null,null,null,null,null,null,null,null,null,null,"",""]
[null,null,null,null,null,null,null,null,null,null,null,null,null,null,null,"",""]
[null,null,null,null,null,null,null,null,null,null,null,null,null,null,null,"",""]
[null,null,null,null,null,null,null,null,null,null,null,null,null,null,null,"",""]
[null,null,null,null,null,null,null,null,null,null,null,null,null,null,null,"",""]
[null,null,null,null,null,null,null,null,null,null,null,null,null,null,null,"",""]
[null,null,null,null,null,null,null,null,null,null,null,null,null,null,null,"",""]
[null,null,null,null,null,null,null,null,null,null,null,null,null,null,null,"",""]
[null,null,null,null,null,null,null,null,null,null,null,null,null,null,null,"",""]
[null,null,null,null,null,null,null,null,null,null,null,null,null,null,null,"",""]
[null,null,null,null,null,null,null,null,null,null,null,null,null,null,null,"",""]
[null,null,null,null,null,null,null,null,null,null,null,null,null,null,null,"",""]
[null,null,null,null,null,null,null,null,null,null,null,null,null,null,null,"",""]
[null,null,null,null,null,null,null,null,null,null,null,null,null,null,null,"",""]
[null,null,null,null,null,null,null,null,null,null,null,null,null,null,null,"",""]
[null,null,null,null,null,null,null,null,null,null,null,null,null,null,null,"",""]
[null,null,null,null,null,null,null,null,null,null,null,null,null,null,null,"",""]
[null,null,null,null,null,null,null,null,null,null,null,null,null,null,null,"",""]
[null,null,null,null,null,null,null,null,null,null,null,null,null,null,null,"",""]
[null,null,null,null,null,null,null,null,null,null,null,null,null,null,null,"",""]
[null,null,null,null,null,null,null,null,null,null,null,null,null,null,null,"",""]
[null,null,null,null,null,null,null,null,null,null,null,null,null,null,null,"",""]
[null,null,null,null,null,null,null,null,null,null,null,null,null,null,null,"",""]
[null,null,null,null,null,null,null,null,null,null,null,null,null,null,null,"",""]
[null,null,null,null,null,null,null,null,null,null,null,null,null,null,null,"",""]
[null,null,null,null,null,null,null,null,null,null,null,null,null,null,null,"",""]
[null,null,null,null,null,null,null,null,null,null,null,null,null,null,null,"",""]
[null,null,null,null,null,null,null,null,null,null,null,null,null,null,null,"",""]
[null,null,null,null,null,null,null,null,null,null,null,null,null,null,null,"",""]
[null,null,null,null,null,null,null,null,null,null,null,null,null,null,null,"",""]
[null,null,null,null,null,null,null,null,null,null,null,null,null,null,null,"",""]
[null,null,null,null,null,null,null,null,null,null,null,null,null,null,null,"",""]
[null,null,null,null,null,null,null,null,null,null,null,null,null,null,null,"",""]
[null,null,null,null,null,null,null,null,null,null,null,null,null,null,null,"",""]
[null,null,null,null,null,null,null,null,null,null,null,null,null,null,null,"",""]
[null,null,null,null,null,null,null,null,null,null,null,null,null,null,null,"",""]
[null,null,null,null,null,null,null,null,null,null,null,null,null,null,null,"",""]
[null,null,null,null,null,null,null,null,null,null,null,null,null,null,null,"",""]
[null,null,null,null,null,null,null,null,null,null,null,null,null,null,null,"",""]
[null,null,null,null,null,null,null,null,null,null,null,null,null,null,null,"",""]
[null,null,null,null,null,null,null,null,null,null,null,null,null,null,null,"",""]
[null,null,null,null,null,null,null,null,null,null,null,null,null,null,null,"",""]
[null,null,null,null,null,null,null,null,null,null,null,null,null,null,null,"",""]
[null,null,null,null,null,null,null,null,null,null,null,null,null,null,null,"",""]
[null,null,null,null,null,null,null,null,null,null,null,null,null,null,null,"",""]
[null,null,null,null,null,null,null,null,null,null,null,null,null,null,null,"",""]
[null,null,null,null,null,null,null,null,null,null,null,null,null,null,null,"",""]
[null,null,null,null,null,null,null,null,null,null,null,null,null,null,null,"",""]
[null,null,null,null,null,null,null,null,null,null,null,null,null,null,null,"",""]
[null,null,null,null,null,null,null,null,null,null,null,null,null,null,null,"",""]
[null,null,null,null,null,null,null,null,null,null,null,null,null,null,null,"",""]
[null,null,null,null,null,null,null,null,null,null,null,null,null,null,null,"",""]
[null,null,null,null,null,null,null,null,null,null,null,null,null,null,null,"",""]
[null,null,null,null,null,null,null,null,null,null,null,null,null,null,null,"",""]
[null,null,null,null,null,null,null,null,null,null,null,null,null,null,null,"",""]
[null,null,null,null,null,null,null,null,null,null,null,null,null,null,null,"",""]
[null,null,null,null,null,null,null,null,null,null,null,null,null,null,null,"",""]
[null,null,null,null,null,null,null,null,null,null,null,null,null,null,null,"",""]
[null,null,null,null,null,null,null,null,null,null,null,null,null,null,null,"",""]
[null,null,null,null,null,null,null,null,null,null,null,null,null,null,null,"",""]
[null,null,null,null,null,null,null,null,null,null,null,null,null,null,null,"",""]
[null,null,null,null,null,null,null,null,null,null,null,null,null,null,null,"",""]
[null,null,null,null,null,null,null,null,null,null,null,null,null,null,null,"",""]
[null,null,null,null,null,null,null,null,null,null,null,null,null,null,null,"",""]
[null,null,null,null,null,null,null,null,null,null,null,null,null,null,null,"",""]
[null,null,null,null,null,null,null,null,null,null,null,null,null,null,null,"",""]
[null,null,null,null,null,null,null,null,null,null,null,null,null,null,null,"",""]
[null,null,null,null,null,null,null,null,null,null,null,null,null,null,null,"",""]
[null,null,null,null,null,null,null,null,null,null,null,null,null,null,null,"",""]
[null,null,null,null,null,null,null,null,null,null,null,null,null,null,null,"",""]
[null,null,null,null,null,null,null,null,null,null,null,null,null,null,null,"",""]
[null,null,null,null,null,null,null,null,null,null,null,null,null,null,null,"",""]
[null,null,null,null,null,null,null,null,null,null,null,null,null,null,null,"",""]
[null,null,null,null,null,null,null,null,null,null,null,null,null,null,null,"",""]
[null,null,null,null,null,null,null,null,null,null,null,null,null,null,null,"",""]
[null,null,null,null,null,null,null,null,null,null,null,null,null,null,null,"",""]
[null,null,null,null,null,null,null,null,null,null,null,null,null,null,null,"",""]
[null,null,null,null,null,null,null,null,null,null,null,null,null,null,null,"",""]
[null,null,null,null,null,null,null,null,null,null,null,null,null,null,null,"",""]
[null,null,null,null,null,null,null,null,null,null,null,null,null,null,null,"",""]
[null,null,null,null,null,null,null,null,null,null,null,null,null,null,null,"",""]
[null,null,null,null,null,null,null,null,null,null,null,null,null,null,null,"",""]
[null,null,null,null,null,null,null,null,null,null,null,null,null,null,null,"",""]
[null,null,null,null,null,null,null,null,null,null,null,null,null,null,null,"",""]
[null,null,null,null,null,null,null,null,null,null,null,null,null,null,null,"",""]
[null,null,null,null,null,null,null,null,null,null,null,null,null,null,null,"",""]
[null,null,null,null,null,null,null,null,null,null,null,null,null,null,null,"",""]
[null,null,null,null,null,null,null,null,null,null,null,null,null,null,null,"",""]
[null,null,null,null,null,null,null,null,null,null,null,null,null,null,null,"",""]
[null,null,null,null,null,null,null,null,null,null,null,null,null,null,null,"",""]
[null,null,null,null,null,null,null,null,null,null,null,null,null,null,null,"",""]
[null,null,null,null,null,null,null,null,null,null,null,null,null,null,null,"",""]
[null,null,null,null,null,null,null,null,null,null,null,null,null,null,null,"",""]
[null,null,null,null,null,null,null,null,null,null,null,null,null,null,null,"",""]
[null,null,null,null,null,null,null,null,null,null,null,null,null,null,null,"",""]
[null,null,null,null,null,null,null,null,null,null,null,null,null,null,null,"",""]
[null,null,null,null,null,null,null,null,null,null,null,null,null,null,null,"",""]
[null,null,null,null,null,null,null,null,null,null,null,null,null,null,null,"",""]
[null,null,null,null,null,null,null,null,null,null,null,null,null,null,null,"",""]
[null,null,null,null,null,null,null,null,null,null,null,null,null,null,null,"",""]
[null,null,null,null,null,null,null,null,null,null,null,null,null,null,null,"",""]
[null,null,null,null,null,null,null,null,null,null,null,null,null,null,null,"",""]
[null,null,null,null,null,null,null,null,null,null,null,null,null,null,null,"",""]
[null,null,null,null,null,null,null,null,null,null,null,null,null,null,null,"",""]
[null,null,null,null,null,null,null,null,null,null,null,null,null,null,null,"",""]
[null,null,null,null,null,null,null,null,null,null,null,null,null,null,null,"",""]
[null,null,null,null,null,null,null,null,null,null,null,null,null,null,null,"",""]
[null,null,null,null,null,null,null,null,null,null,null,null,null,null,null,"",""]
[null,null,null,null,null,null,null,null,null,null,null,null,null,null,null,"",""]
[null,null,null,null,null,null,null,null,null,null,null,null,null,null,null,"",""]
[null,null,null,null,null,null,null,null,null,null,null,null,null,null,null,"",""]
[null,null,null,null,null,null,null,null,null,null,null,null,null,null,null,"",""]
[null,null,null,null,null,null,null,null,null,null,null,null,null,null,null,"",""]
[null,null,null,null,null,null,null,null,null,null,null,null,null,null,null,"",""]
[null,null,null,null,null,null,null,null,null,null,null,null,null,null,null,"",""]
[null,null,null,null,null,null,null,null,null,null,null,null,null,null,null,"",""]
[null,null,null,null,null,null,null,null,null,null,null,null,null,null,null,"",""]
[null,null,null,null,null,null,null,null,null,null,null,null,null,null,null,"",""]
[null,null,null,null,null,null,null,null,null,null,null,null,null,null,null,"",""]
[null,null,null,null,null,null,null,null,null,null,null,null,null,null,null,"",""]
[null,null,null,null,null,null,null,null,null,null,null,null,null,null,null,"",""]
[null,null,null,null,null,null,null,null,null,null,null,null,null,null,null,"",""]
[null,null,null,null,null,null,null,null,null,null,null,null,null,null,null,"",""]
[null,null,null,null,null,null,null,null,null,null,null,null,null,null,null,"",""]
[null,null,null,null,null,null,null,null,null,null,null,null,null,null,null,"",""]
[null,null,null,null,null,null,null,null,null,null,null,null,null,null,null,"",""]
[null,null,null,null,null,null,null,null,null,null,null,null,null,null,null,"",""]
[null,null,null,null,null,null,null,null,null,null,null,null,null,null,null,"",""]
[null,null,null,null,null,null,null,null,null,null,null,null,null,null,null,"",""]
[null,null,null,null,null,null,null,null,null,null,null,null,null,null,null,"",""]
[null,null,null,null,null,null,null,null,null,null,null,null,null,null,null,"",""]
[null,null,null,null,null,null,null,null,null,null,null,null,null,null,null,"",""]
[null,null,null,null,null,null,null,null,null,null,null,null,null,null,null,"",""]
[null,null,null,null,null,null,null,null,null,null,null,null,null,null,null,"",""]
[null,null,null,null,null,null,null,null,null,null,null,null,null,null,null,"",""]
[null,null,null,null,null,null,null,null,null,null,null,null,null,null,null,"",""]
[null,null,null,null,null,null,null,null,null,null,null,null,null,null,null,"",""]
[null,null,null,null,null,null,null,null,null,null,null,null,null,null,null,"",""]
[null,null,null,null,null,null,null,null,null,null,null,null,null,null,null,"",""]
[null,null,null,null,null,null,null,null,null,null,null,null,null,null,null,"",""]
[null,null,null,null,null,null,null,null,null,null,null,null,null,null,null,"",""]
[null,null,null,null,null,null,null,null,null,null,null,null,null,null,null,"",""]
[null,null,null,null,null,null,null,null,null,null,null,null,null,null,null,"",""]
[null,null,null,null,null,null,null,null,null,null,null,null,null,null,null,"",""]
[null,null,null,null,null,null,null,null,null,null,null,null,null,null,null,"",""]
[null,null,null,null,null,null,null,null,null,null,null,null,null,null,null,"",""]
[null,null,null,null,null,null,null,null,null,null,null,null,null,null,null,"",""]
[null,null,null,null,null,null,null,null,null,null,null,null,null,null,null,"",""]
[null,null,null,null,null,null,null,null,null,null,null,null,null,null,null,"",""]
[null,null,null,null,null,null,null,null,null,null,null,null,null,null,null,"",""]
[null,null,null,null,null,null,null,null,null,null,null,null,null,null,null,"",""]
[null,null,null,null,null,null,null,null,null,null,null,null,null,null,null,"",""]
[null,null,null,null,null,null,null,null,null,null,null,null,null,null,null,"",""]
[null,null,null,null,null,null,null,null,null,null,null,null,null,null,null,"",""]
[null,null,null,null,null,null,null,null,null,null,null,null,null,null,null,"",""]
[null,null,null,null,null,null,null,null,null,null,null,null,null,null,null,"",""]
[null,null,null,null,null,null,null,null,null,null,null,null,null,null,null,"",""]
[null,null,null,null,null,null,null,null,null,null,null,null,null,null,null,"",""]
[null,null,null,null,null,null,null,null,null,null,null,null,null,null,null,"",""]
[null,null,null,null,null,null,null,null,null,null,null,null,null,null,null,"",""]
[null,null,null,null,null,null,null,null,null,null,null,null,null,null,null,"",""]
[null,null,null,null,null,null,null,null,null,null,null,null,null,null,null,"",""]
[null,null,null,null,null,null,null,null,null,null,null,null,null,null,null,"",""]
[null,null,null,null,null,null,null,null,null,null,null,null,null,null,null,"",""]
[null,null,null,null,null,null,null,null,null,null,null,null,null,null,null,"",""]
[null,null,null,null,null,null,null,null,null,null,null,null,null,null,null,"",""]
[null,null,null,null,null,null,null,null,null,null,null,null,null,null,null,"",""]
[null,null,null,null,null,null,null,null,null,null,null,null,null,null,null,"",""]
[null,null,null,null,null,null,null,null,null,null,null,null,null,null,null,"",""]
[null,null,null,null,null,null,null,null,null,null,null,null,null,null,null,"",""]
[null,null,null,null,null,null,null,null,null,null,null,null,null,null,null,"",""]
[null,null,null,null,null,null,null,null,null,null,null,null,null,null,null,"",""]
[null,null,null,null,null,null,null,null,null,null,null,null,null,null,null,"",""]
[null,null,null,null,null,null,null,null,null,null,null,null,null,null,null,"",""]
[null,null,null,null,null,null,null,null,null,null,null,null,null,null,null,"",""]
[null,null,null,null,null,null,null,null,null,null,null,null,null,null,null,"",""]
[null,null,null,null,null,null,null,null,null,null,null,null,null,null,null,"",""]
[null,null,null,null,null,null,null,null,null,null,null,null,null,null,null,"",""]
[null,null,null,null,null,null,null,null,null,null,null,null,null,null,null,"",""]
[null,null,null,null,null,null,null,null,null,null,null,null,null,null,null,"",""]
[null,null,null,null,null,null,null,null,null,null,null,null,null,null,null,"",""]
[null,null,null,null,null,null,null,null,null,null,null,null,null,null,null,"",""]
[null,null,null,null,null,null,null,null,null,null,null,null,null,null,null,"",""]
[null,null,null,null,null,null,null,null,null,null,null,null,null,null,null,"",""]
[null,null,null,null,null,null,null,null,null,null,null,null,null,null,null,"",""]
[null,null,null,null,null,null,null,null,null,null,null,null,null,null,null,"",""]
[null,null,null,null,null,null,null,null,null,null,null,null,null,null,null,"",""]
[null,null,null,null,null,null,null,null,null,null,null,null,null,null,null,"",""]
[null,null,null,null,null,null,null,null,null,null,null,null,null,null,null,"",""]
[null,null,null,null,null,null,null,null,null,null,null,null,null,null,null,"",""]
[null,null,null,null,null,null,null,null,null,null,null,null,null,null,null,"",""]
[null,null,null,null,null,null,null,null,null,null,null,null,null,null,null,"",""]
[null,null,null,null,null,null,null,null,null,null,null,null,null,null,null,"",""]
[null,null,null,null,null,null,null,null,null,null,null,null,null,null,null,"",""]
[null,null,null,null,null,null,null,null,null,null,null,null,null,null,null,"",""]
[null,null,null,null,null,null,null,null,null,null,null,null,null,null,null,"",""]
[null,null,null,null,null,null,null,null,null,null,null,null,null,null,null,"",""]
[null,null,null,null,null,null,null,null,null,null,null,null,null,null,null,"",""]
[null,null,null,null,null,null,null,null,null,null,null,null,null,null,null,"",""]
[null,null,null,null,null,null,null,null,null,null,null,null,null,null,null,"",""]
[null,null,null,null,null,null,null,null,null,null,null,null,null,null,null,"",""]
[null,null,null,null,null,null,null,null,null,null,null,null,null,null,null,"",""]
[null,null,null,null,null,null,null,null,null,null,null,null,null,null,null,"",""]
[null,null,null,null,null,null,null,null,null,null,null,null,null,null,null,"",""]
[null,null,null,null,null,null,null,null,null,null,null,null,null,null,null,"",""]
[null,null,null,null,null,null,null,null,null,null,null,null,null,null,null,"",""]
[null,null,null,null,null,null,null,null,null,null,null,null,null,null,null,"",""]
[null,null,null,null,null,null,null,null,null,null,null,null,null,null,null,"",""]
[null,null,null,null,null,null,null,null,null,null,null,null,null,null,null,"",""]
[null,null,null,null,null,null,null,null,null,null,null,null,null,null,null,"",""]
[null,null,null,null,null,null,null,null,null,null,null,null,null,null,null,"",""]
[null,null,null,null,null,null,null,null,null,null,null,null,null,null,null,"",""]
[null,null,null,null,null,null,null,null,null,null,null,null,null,null,null,"",""]
[null,null,null,null,null,null,null,null,null,null,null,null,null,null,null,"",""]
[null,null,null,null,null,null,null,null,null,null,null,null,null,null,null,"",""]
[null,null,null,null,null,null,null,null,null,null,null,null,null,null,null,"",""]
[null,null,null,null,null,null,null,null,null,null,null,null,null,null,null,"",""]
[null,null,null,null,null,null,null,null,null,null,null,null,null,null,null,"",""]
[null,null,null,null,null,null,null,null,null,null,null,null,null,null,null,"",""]
[null,null,null,null,null,null,null,null,null,null,null,null,null,null,null,"",""]
[null,null,null,null,null,null,null,null,null,null,null,null,null,null,null,"",""]
[null,null,null,null,null,null,null,null,null,null,null,null,null,null,null,"",""]
[null,null,null,null,null,null,null,null,null,null,null,null,null,null,null,"",""]
[null,null,null,null,null,null,null,null,null,null,null,null,null,null,null,"",""]
[null,null,null,null,null,null,null,null,null,null,null,null,null,null,null,"",""]
[null,null,null,null,null,null,null,null,null,null,null,null,null,null,null,"",""]
[null,null,null,null,null,null,null,null,null,null,null,null,null,null,null,"",""]
[null,null,null,null,null,null,null,null,null,null,null,null,null,null,null,"",""]
[null,null,null,null,null,null,null,null,null,null,null,null,null,null,null,"",""]
[null,null,null,null,null,null,null,null,null,null,null,null,null,null,null,"",""]
[null,null,null,null,null,null,null,null,null,null,null,null,null,null,null,"",""]
[null,null,null,null,null,null,null,null,null,null,null,null,null,null,null,"",""]
[null,null,null,null,null,null,null,null,null,null,null,null,null,null,null,"",""]
[null,null,null,null,null,null,null,null,null,null,null,null,null,null,null,"",""]
[null,null,null,null,null,null,null,null,null,null,null,null,null,null,null,"",""]
[null,null,null,null,null,null,null,null,null,null,null,null,null,null,null,"",""]
[null,null,null,null,null,null,null,null,null,null,null,null,null,null,null,"",""]
[null,null,null,null,null,null,null,null,null,null,null,null,null,null,null,"",""]
[null,null,null,null,null,null,null,null,null,null,null,null,null,null,null,"",""]
[null,null,null,null,null,null,null,null,null,null,null,null,null,null,null,"",""]
[null,null,null,null,null,null,null,null,null,null,null,null,null,null,null,"",""]
[null,null,null,null,null,null,null,null,null,null,null,null,null,null,null,"",""]
[null,null,null,null,null,null,null,null,null,null,null,null,null,null,null,"",""]
[null,null,null,null,null,null,null,null,null,null,null,null,null,null,null,"",""]
[null,null,null,null,null,null,null,null,null,null,null,null,null,null,null,"",""]
[null,null,null,null,null,null,null,null,null,null,null,null,null,null,null,"",""]
[null,null,null,null,null,null,null,null,null,null,null,null,null,null,null,"",""]
[null,null,null,null,null,null,null,null,null,null,null,null,null,null,null,"",""]
[null,null,null,null,null,null,null,null,null,null,null,null,null,null,null,"",""]
[null,null,null,null,null,null,null,null,null,null,null,null,null,null,null,"",""]
[null,null,null,null,null,null,null,null,null,null,null,null,null,null,null,"",""]
[null,null,null,null,null,null,null,null,null,null,null,null,null,null,null,"",""]
[null,null,null,null,null,null,null,null,null,null,null,null,null,null,null,"",""]
[null,null,null,null,null,null,null,null,null,null,null,null,null,null,null,"",""]
[null,null,null,null,null,null,null,null,null,null,null,null,null,null,null,"",""]
[null,null,null,null,null,null,null,null,null,null,null,null,null,null,null,"",""]
[null,null,null,null,null,null,null,null,null,null,null,null,null,null,null,"",""]
[null,null,null,null,null,null,null,null,null,null,null,null,null,null,null,"",""]
[null,null,null,null,null,null,null,null,null,null,null,null,null,null,null,"",""]
[null,null,null,null,null,null,null,null,null,null,null,null,null,null,null,"",""]
[null,null,null,null,null,null,null,null,null,null,null,null,null,null,null,"",""]
[null,null,null,null,null,null,null,null,null,null,null,null,null,null,null,"",""]
[null,null,null,null,null,null,null,null,null,null,null,null,null,null,null,"",""]
[null,null,null,null,null,null,null,null,null,null,null,null,null,null,null,"",""]
[null,null,null,null,null,null,null,null,null,null,null,null,null,null,null,"",""]
[null,null,null,null,null,null,null,null,null,null,null,null,null,null,null,"",""]
[null,null,null,null,null,null,null,null,null,null,null,null,null,null,null,"",""]
[null,null,null,null,null,null,null,null,null,null,null,null,null,null,null,"",""]
[null,null,null,null,null,null,null,null,null,null,null,null,null,null,null,"",""]
[null,null,null,null,null,null,null,null,null,null,null,null,null,null,null,"",""]
[null,null,null,null,null,null,null,null,null,null,null,null,null,null,null,"",""]
[null,null,null,null,null,null,null,null,null,null,null,null,null,null,null,"",""]
[null,null,null,null,null,null,null,null,null,null,null,null,null,null,null,"",""]
[null,null,null,null,null,null,null,null,null,null,null,null,null,null,null,"",""]
[null,null,null,null,null,null,null,null,null,null,null,null,null,null,null,"",""]
[null,null,null,null,null,null,null,null,null,null,null,null,null,null,null,"",""]
[null,null,null,null,null,null,null,null,null,null,null,null,null,null,null,"",""]
[null,null,null,null,null,null,null,null,null,null,null,null,null,null,null,"",""]
[null,null,null,null,null,null,null,null,null,null,null,null,null,null,null,"",""]
[null,null,null,null,null,null,null,null,null,null,null,null,null,null,null,"",""]
[null,null,null,null,null,null,null,null,null,null,null,null,null,null,null,"",""]
[null,null,null,null,null,null,null,null,null,null,null,null,null,null,null,"",""]
[null,null,null,null,null,null,null,null,null,null,null,null,null,null,null,"",""]
[null,null,null,null,null,null,null,null,null,null,null,null,null,null,null,"",""]
[null,null,null,null,null,null,null,null,null,null,null,null,null,null,null,"",""]
[null,null,null,null,null,null,null,null,null,null,null,null,null,null,null,"",""]
[null,null,null,null,null,null,null,null,null,null,null,null,null,null,null,"",""]
[null,null,null,null,null,null,null,null,null,null,null,null,null,null,null,"",""]
[null,null,null,null,null,null,null,null,null,null,null,null,null,null,null,"",""]
[null,null,null,null,null,null,null,null,null,null,null,null,null,null,null,"",""]
[null,null,null,null,null,null,null,null,null,null,null,null,null,null,null,"",""]
[null,null,null,null,null,null,null,null,null,null,null,null,null,null,null,"",""]
[null,null,null,null,null,null,null,null,null,null,null,null,null,null,null,"",""]
[null,null,null,null,null,null,null,null,null,null,null,null,null,null,null,"",""]
[null,null,null,null,null,null,null,null,null,null,null,null,null,null,null,"",""]
[null,null,null,null,null,null,null,null,null,null,null,null,null,null,null,"",""]
[null,null,null,null,null,null,null,null,null,null,null,null,null,null,null,"",""]
[null,null,null,null,null,null,null,null,null,null,null,null,null,null,null,"",""]
[null,null,null,null,null,null,null,null,null,null,null,null,null,null,null,"",""]
[null,null,null,null,null,null,null,null,null,null,null,null,null,null,null,"",""]
[null,null,null,null,null,null,null,null,null,null,null,null,null,null,null,"",""]
[null,null,null,null,null,null,null,null,null,null,null,null,null,null,null,"",""]
[null,null,null,null,null,null,null,null,null,null,null,null,null,null,null,"",""]
[null,null,null,null,null,null,null,null,null,null,null,null,null,null,null,"",""]
[null,null,null,null,null,null,null,null,null,null,null,null,null,null,null,"",""]
[null,null,null,null,null,null,null,null,null,null,null,null,null,null,null,"",""]
[null,null,null,null,null,null,null,null,null,null,null,null,null,null,null,"",""]
[null,null,null,null,null,null,null,null,null,null,null,null,null,null,null,"",""]
[null,null,null,null,null,null,null,null,null,null,null,null,null,null,null,"",""]
[null,null,null,null,null,null,null,null,null,null,null,null,null,null,null,"",""]
[null,null,null,null,null,null,null,null,null,null,null,null,null,null,null,"",""]
[null,null,null,null,null,null,null,null,null,null,null,null,null,null,null,"",""]
[null,null,null,null,null,null,null,null,null,null,null,null,null,null,null,"",""]
[null,null,null,null,null,null,null,null,null,null,null,null,null,null,null,"",""]
[null,null,null,null,null,null,null,null,null,null,null,null,null,null,null,"",""]
[null,null,null,null,null,null,null,null,null,null,null,null,null,null,null,"",""]
[null,null,null,null,null,null,null,null,null,null,null,null,null,null,null,"",""]
[null,null,null,null,null,null,null,null,null,null,null,null,null,null,null,"",""]
[null,null,null,null,null,null,null,null,null,null,null,null,null,null,null,"",""]
[null,null,null,null,null,null,null,null,null,null,null,null,null,null,null,"",""]
[null,null,null,null,null,null,null,null,null,null,null,null,null,null,null,"",""]
[null,null,null,null,null,null,null,null,null,null,null,null,null,null,null,"",""]
[null,null,null,null,null,null,null,null,null,null,null,null,null,null,null,"",""]
[null,null,null,null,null,null,null,null,null,null,null,null,null,null,null,"",""]
[null,null,null,null,null,null,null,null,null,null,null,null,null,null,null,"",""]
[null,null,null,null,null,null,null,null,null,null,null,null,null,null,null,"",""]
[null,null,null,null,null,null,null,null,null,null,null,null,null,null,null,"",""]
[null,null,null,null,null,null,null,null,null,null,null,null,null,null,null,"",""]
[null,null,null,null,null,null,null,null,null,null,null,null,null,null,null,"",""]
[null,null,null,null,null,null,null,null,null,null,null,null,null,null,null,"",""]
[null,null,null,null,null,null,null,null,null,null,null,null,null,null,null,"",""]
[null,null,null,null,null,null,null,null,null,null,null,null,null,null,null,"",""]
[null,null,null,null,null,null,null,null,null,null,null,null,null,null,null,"",""]
[null,null,null,null,null,null,null,null,null,null,null,null,null,null,null,"",""]
[null,null,null,null,null,null,null,null,null,null,null,null,null,null,null,"",""]
[null,null,null,null,null,null,null,null,null,null,null,null,null,null,null,"",""]
[null,null,null,null,null,null,null,null,null,null,null,null,null,null,null,"",""]
[null,null,null,null,null,null,null,null,null,null,null,null,null,null,null,"",""]
[null,null,null,null,null,null,null,null,null,null,null,null,null,null,null,"",""]
[null,null,null,null,null,null,null,null,null,null,null,null,null,null,null,"",""]
[null,null,null,null,null,null,null,null,null,null,null,null,null,null,null,"",""]
[null,null,null,null,null,null,null,null,null,null,null,null,null,null,null,"",""]
[null,null,null,null,null,null,null,null,null,null,null,null,null,null,null,"",""]
[null,null,null,null,null,null,null,null,null,null,null,null,null,null,null,"",""]
[null,null,null,null,null,null,null,null,null,null,null,null,null,null,null,"",""]
[null,null,null,null,null,null,null,null,null,null,null,null,null,null,null,"",""]
[null,null,null,null,null,null,null,null,null,null,null,null,null,null,null,"",""]
[null,null,null,null,null,null,null,null,null,null,null,null,null,null,null,"",""]
[null,null,null,null,null,null,null,null,null,null,null,null,null,null,null,"",""]
[null,null,null,null,null,null,null,null,null,null,null,null,null,null,null,"",""]
[null,null,null,null,null,null,null,null,null,null,null,null,null,null,null,"",""]
[null,null,null,null,null,null,null,null,null,null,null,null,null,null,null,"",""]
[null,null,null,null,null,null,null,null,null,null,null,null,null,null,null,"",""]
[null,null,null,null,null,null,null,null,null,null,null,null,null,null,null,"",""]
[null,null,null,null,null,null,null,null,null,null,null,null,null,null,null,"",""]
[null,null,null,null,null,null,null,null,null,null,null,null,null,null,null,"",""]
[null,null,null,null,null,null,null,null,null,null,null,null,null,null,null,"",""]
[null,null,null,null,null,null,null,null,null,null,null,null,null,null,null,"",""]
[null,null,null,null,null,null,null,null,null,null,null,null,null,null,null,"",""]
[null,null,null,null,null,null,null,null,null,null,null,null,null,null,null,"",""]
[null,null,null,null,null,null,null,null,null,null,null,null,null,null,null,"",""]
[null,null,null,null,null,null,null,null,null,null,null,null,null,null,null,"",""]
[null,null,null,null,null,null,null,null,null,null,null,null,null,null,null,"",""]
[null,null,null,null,null,null,null,null,null,null,null,null,null,null,null,"",""]
[null,null,null,null,null,null,null,null,null,null,null,null,null,null,null,"",""]
[null,null,null,null,null,null,null,null,null,null,null,null,null,null,null,"",""]
[null,null,null,null,null,null,null,null,null,null,null,null,null,null,null,"",""]
[null,null,null,null,null,null,null,null,null,null,null,null,null,null,null,"",""]
[null,null,null,null,null,null,null,null,null,null,null,null,null,null,null,"",""]
[null,null,null,null,null,null,null,null,null,null,null,null,null,null,null,"",""]
[null,null,null,null,null,null,null,null,null,null,null,null,null,null,null,"",""]
[null,null,null,null,null,null,null,null,null,null,null,null,null,null,null,"",""]
[null,null,null,null,null,null,null,null,null,null,null,null,null,null,null,"",""]
[null,null,null,null,null,null,null,null,null,null,null,null,null,null,null,"",""]
[null,null,null,null,null,null,null,null,null,null,null,null,null,null,null,"",""]
[null,null,null,null,null,null,null,null,null,null,null,null,null,null,null,"",""]
[null,null,null,null,null,null,null,null,null,null,null,null,null,null,null,"",""]
[null,null,null,null,null,null,null,null,null,null,null,null,null,null,null,"",""]
[null,null,null,null,null,null,null,null,null,null,null,null,null,null,null,"",""]
[null,null,null,null,null,null,null,null,null,null,null,null,null,null,null,"",""]
[null,null,null,null,null,null,null,null,null,null,null,null,null,null,null,"",""]
[null,null,null,null,null,null,null,null,null,null,null,null,null,null,null,"",""]
[null,null,null,null,null,null,null,null,null,null,null,null,null,null,null,"",""]
[null,null,null,null,null,null,null,null,null,null,null,null,null,null,null,"",""]
[null,null,null,null,null,null,null,null,null,null,null,null,null,null,null,"",""]
[null,null,null,null,null,null,null,null,null,null,null,null,null,null,null,"",""]
[null,null,null,null,null,null,null,null,null,null,null,null,null,null,null,"",""]
[null,null,null,null,null,null,null,null,null,null,null,null,null,null,null,"",""]
[null,null,null,null,null,null,null,null,null,null,null,null,null,null,null,"",""]
[null,null,null,null,null,null,null,null,null,null,null,null,null,null,null,"",""]
[null,null,null,null,null,null,null,null,null,null,null,null,null,null,null,"",""]
[null,null,null,null,null,null,null,null,null,null,null,null,null,null,null,"",""]
[null,null,null,null,null,null,null,null,null,null,null,null,null,null,null,"",""]
[null,null,null,null,null,null,null,null,null,null,null,null,null,null,null,"",""]
[null,null,null,null,null,null,null,null,null,null,null,null,null,null,null,"",""]
[null,null,null,null,null,null,null,null,null,null,null,null,null,null,null,"",""]
[null,null,null,null,null,null,null,null,null,null,null,null,null,null,null,"",""]
[null,null,null,null,null,null,null,null,null,null,null,null,null,null,null,"",""]
[null,null,null,null,null,null,null,null,null,null,null,null,null,null,null,"",""]
[null,null,null,null,null,null,null,null,null,null,null,null,null,null,null,"",""]
[null,null,null,null,null,null,null,null,null,null,null,null,null,null,null,"",""]
[null,null,null,null,null,null,null,null,null,null,null,null,null,null,null,"",""]
[null,null,null,null,null,null,null,null,null,null,null,null,null,null,null,"",""]
[null,null,null,null,null,null,null,null,null,null,null,null,null,null,null,"",""]
[null,null,null,null,null,null,null,null,null,null,null,null,null,null,null,"",""]
[null,null,null,null,null,null,null,null,null,null,null,null,null,null,null,"",""]
[null,null,null,null,null,null,null,null,null,null,null,null,null,null,null,"",""]
[null,null,null,null,null,null,null,null,null,null,null,null,null,null,null,"",""]
[null,null,null,null,null,null,null,null,null,null,null,null,null,null,null,"",""]
[null,null,null,null,null,null,null,null,null,null,null,null,null,null,null,"",""]
[null,null,null,null,null,null,null,null,null,null,null,null,null,null,null,"",""]
[null,null,null,null,null,null,null,null,null,null,null,null,null,null,null,"",""]
[null,null,null,null,null,null,null,null,null,null,null,null,null,null,null,"",""]
[null,null,null,null,null,null,null,null,null,null,null,null,null,null,null,"",""]
[null,null,null,null,null,null,null,null,null,null,null,null,null,null,null,"",""]
[null,null,null,null,null,null,null,null,null,null,null,null,null,null,null,"",""]
[null,null,null,null,null,null,null,null,null,null,null,null,null,null,null,"",""]
[null,null,null,null,null,null,null,null,null,null,null,null,null,null,null,"",""]
[null,null,null,null,null,null,null,null,null,null,null,null,null,null,null,"",""]
[null,null,null,null,null,null,null,null,null,null,null,null,null,null,null,"",""]
[null,null,null,null,null,null,null,null,null,null,null,null,null,null,null,"",""]
[null,null,null,null,null,null,null,null,null,null,null,null,null,null,null,"",""]
[null,null,null,null,null,null,null,null,null,null,null,null,null,null,null,"",""]
[null,null,null,null,null,null,null,null,null,null,null,null,null,null,null,"",""]
[null,null,null,null,null,null,null,null,null,null,null,null,null,null,null,"",""]
[null,null,null,null,null,null,null,null,null,null,null,null,null,null,null,"",""]
[null,null,null,null,null,null,null,null,null,null,null,null,null,null,null,"",""]
[null,null,null,null,null,null,null,null,null,null,null,null,null,null,null,"",""]
[null,null,null,null,null,null,null,null,null,null,null,null,null,null,null,"",""]
[null,null,null,null,null,null,null,null,null,null,null,null,null,null,null,"",""]
[null,null,null,null,null,null,null,null,null,null,null,null,null,null,null,"",""]
[null,null,null,null,null,null,null,null,null,null,null,null,null,null,null,"",""]
[null,null,null,null,null,null,null,null,null,null,null,null,null,null,null,"",""]
[null,null,null,null,null,null,null,null,null,null,null,null,null,null,null,"",""]
[null,null,null,null,null,null,null,null,null,null,null,null,null,null,null,"",""]
[null,null,null,null,null,null,null,null,null,null,null,null,null,null,null,"",""]
[null,null,null,null,null,null,null,null,null,null,null,null,null,null,null,"",""]
[null,null,null,null,null,null,null,null,null,null,null,null,null,null,null,"",""]
[null,null,null,null,null,null,null,null,null,null,null,null,null,null,null,"",""]
[null,null,null,null,null,null,null,null,null,null,null,null,null,null,null,"",""]
[null,null,null,null,null,null,null,null,null,null,null,null,null,null,null,"",""]
[null,null,null,null,null,null,null,null,null,null,null,null,null,null,null,"",""]
[null,null,null,null,null,null,null,null,null,null,null,null,null,null,null,"",""]
[null,null,null,null,null,null,null,null,null,null,null,null,null,null,null,"",""]
[null,null,null,null,null,null,null,null,null,null,null,null,null,null,null,"",""]
[null,null,null,null,null,null,null,null,null,null,null,null,null,null,null,"",""]
[null,null,null,null,null,null,null,null,null,null,null,null,null,null,null,"",""]
[null,null,null,null,null,null,null,null,null,null,null,null,null,null,null,"",""]
[null,null,null,null,null,null,null,null,null,null,null,null,null,null,null,"",""]
[null,null,null,null,null,null,null,null,null,null,null,null,null,null,null,"",""]
[null,null,null,null,null,null,null,null,null,null,null,null,null,null,null,"",""]
[null,null,null,null,null,null,null,null,null,null,null,null,null,null,null,"",""]
[null,null,null,null,null,null,null,null,null,null,null,null,null,null,null,"",""]
[null,null,null,null,null,null,null,null,null,null,null,null,null,null,null,"",""]
[null,null,null,null,null,null,null,null,null,null,null,null,null,null,null,"",""]
[null,null,null,null,null,null,null,null,null,null,null,null,null,null,null,"",""]
[null,null,null,null,null,null,null,null,null,null,null,null,null,null,null,"",""]
[null,null,null,null,null,null,null,null,null,null,null,null,null,null,null,"",""]
[null,null,null,null,null,null,null,null,null,null,null,null,null,null,null,"",""]
[null,null,null,null,null,null,null,null,null,null,null,null,null,null,null,"",""]
[null,null,null,null,null,null,null,null,null,null,null,null,null,null,null,"",""]
[null,null,null,null,null,null,null,null,null,null,null,null,null,null,null,"",""]
[null,null,null,null,null,null,null,null,null,null,null,null,null,null,null,"",""]
[null,null,null,null,null,null,null,null,null,null,null,null,null,null,null,"",""]
[null,null,null,null,null,null,null,null,null,null,null,null,null,null,null,"",""]
[null,null,null,null,null,null,null,null,null,null,null,null,null,null,null,"",""]
[null,null,null,null,null,null,null,null,null,null,null,null,null,null,null,"",""]
[null,null,null,null,null,null,null,null,null,null,null,null,null,null,null,"",""]
[null,null,null,null,null,null,null,null,null,null,null,null,null,null,null,"",""]
[null,null,null,null,null,null,null,null,null,null,null,null,null,null,null,"",""]
[null,null,null,null,null,null,null,null,null,null,null,null,null,null,null,"",""]
[null,null,null,null,null,null,null,null,null,null,null,null,null,null,null,"",""]
[null,null,null,null,null,null,null,null,null,null,null,null,null,null,null,"",""]
[null,null,null,null,null,null,null,null,null,null,null,null,null,null,null,"",""]
[null,null,null,null,null,null,null,null,null,null,null,null,null,null,null,"",""]
[null,null,null,null,null,null,null,null,null,null,null,null,null,null,null,"",""]
[null,null,null,null,null,null,null,null,null,null,null,null,null,null,null,"",""]
[null,null,null,null,null,null,null,null,null,null,null,null,null,null,null,"",""]
[null,null,null,null,null,null,null,null,null,null,null,null,null,null,null,"",""]
[null,null,null,null,null,null,null,null,null,null,null,null,null,null,null,"",""]
[null,null,null,null,null,null,null,null,null,null,null,null,null,null,null,"",""]
[null,null,null,null,null,null,null,null,null,null,null,null,null,null,null,"",""]
[null,null,null,null,null,null,null,null,null,null,null,null,null,null,null,"",""]
[null,null,null,null,null,null,null,null,null,null,null,null,null,null,null,"",""]
[null,null,null,null,null,null,null,null,null,null,null,null,null,null,null,"",""]
[null,null,null,null,null,null,null,null,null,null,null,null,null,null,null,"",""]
[null,null,null,null,null,null,null,null,null,null,null,null,null,null,null,"",""]
[null,null,null,null,null,null,null,null,null,null,null,null,null,null,null,"",""]
[null,null,null,null,null,null,null,null,null,null,null,null,null,null,null,"",""]
[null,null,null,null,null,null,null,null,null,null,null,null,null,null,null,"",""]
[null,null,null,null,null,null,null,null,null,null,null,null,null,null,null,"",""]
[null,null,null,null,null,null,null,null,null,null,null,null,null,null,null,"",""]
[null,null,null,null,null,null,null,null,null,null,null,null,null,null,null,"",""]
[null,null,null,null,null,null,null,null,null,null,null,null,null,null,null,"",""]
[null,null,null,null,null,null,null,null,null,null,null,null,null,null,null,"",""]
[null,null,null,null,null,null,null,null,null,null,null,null,null,null,null,"",""]
[null,null,null,null,null,null,null,null,null,null,null,null,null,null,null,"",""]
[null,null,null,null,null,null,null,null,null,null,null,null,null,null,null,"",""]
[null,null,null,null,null,null,null,null,null,null,null,null,null,null,null,"",""]
[null,null,null,null,null,null,null,null,null,null,null,null,null,null,null,"",""]
[null,null,null,null,null,null,null,null,null,null,null,null,null,null,null,"",""]
[null,null,null,null,null,null,null,null,null,null,null,null,null,null,null,"",""]
[null,null,null,null,null,null,null,null,null,null,null,null,null,null,null,"",""]
[null,null,null,null,null,null,null,null,null,null,null,null,null,null,null,"",""]
[null,null,null,null,null,null,null,null,null,null,null,null,null,null,null,"",""]
[null,null,null,null,null,null,null,null,null,null,null,null,null,null,null,"",""]
[null,null,null,null,null,null,null,null,null,null,null,null,null,null,null,"",""]
[null,null,null,null,null,null,null,null,null,null,null,null,null,null,null,"",""]
[null,null,null,null,null,null,null,null,null,null,null,null,null,null,null,"",""]
[null,null,null,null,null,null,null,null,null,null,null,null,null,null,null,"",""]
[null,null,null,null,null,null,null,null,null,null,null,null,null,null,null,"",""]
[null,null,null,null,null,null,null,null,null,null,null,null,null,null,null,"",""]
[null,null,null,null,null,null,null,null,null,null,null,null,null,null,null,"",""]
[null,null,null,null,null,null,null,null,null,null,null,null,null,null,null,"",""]
[null,null,null,null,null,null,null,null,null,null,null,null,null,null,null,"",""]
[null,null,null,null,null,null,null,null,null,null,null,null,null,null,null,"",""]
[null,null,null,null,null,null,null,null,null,null,null,null,null,null,null,"",""]
[null,null,null,null,null,null,null,null,null,null,null,null,null,null,null,"",""]
[null,null,null,null,null,null,null,null,null,null,null,null,null,null,null,"",""]
[null,null,null,null,null,null,null,null,null,null,null,null,null,null,null,"",""]
[null,null,null,null,null,null,null,null,null,null,null,null,null,null,null,"",""]
[null,null,null,null,null,null,null,null,null,null,null,null,null,null,null,"",""]
[null,null,null,null,null,null,null,null,null,null,null,null,null,null,null,"",""]
[null,null,null,null,null,null,null,null,null,null,null,null,null,null,null,"",""]
[null,null,null,null,null,null,null,null,null,null,null,null,null,null,null,"",""]
[null,null,null,null,null,null,null,null,null,null,null,null,null,null,null,"",""]
[null,null,null,null,null,null,null,null,null,null,null,null,null,null,null,"",""]
[null,null,null,null,null,null,null,null,null,null,null,null,null,null,null,"",""]
[null,null,null,null,null,null,null,null,null,null,null,null,null,null,null,"",""]
[null,null,null,null,null,null,null,null,null,null,null,null,null,null,null,"",""]
[null,null,null,null,null,null,null,null,null,null,null,null,null,null,null,"",""]
[null,null,null,null,null,null,null,null,null,null,null,null,null,null,null,"",""]
[null,null,null,null,null,null,null,null,null,null,null,null,null,null,null,"",""]
[null,null,null,null,null,null,null,null,null,null,null,null,null,null,null,"",""]
[null,null,null,null,null,null,null,null,null,null,null,null,null,null,null,"",""]
[null,null,null,null,null,null,null,null,null,null,null,null,null,null,null,"",""]
[null,null,null,null,null,null,null,null,null,null,null,null,null,null,null,"",""]
[null,null,null,null,null,null,null,null,null,null,null,null,null,null,null,"",""]
[null,null,null,null,null,null,null,null,null,null,null,null,null,null,null,"",""]
[null,null,null,null,null,null,null,null,null,null,null,null,null,null,null,"",""]
[null,null,null,null,null,null,null,null,null,null,null,null,null,null,null,"",""]
[null,null,null,null,null,null,null,null,null,null,null,null,null,null,null,"",""]
[null,null,null,null,null,null,null,null,null,null,null,null,null,null,null,"",""]
[null,null,null,null,null,null,null,null,null,null,null,null,null,null,null,"",""]
[null,null,null,null,null,null,null,null,null,null,null,null,null,null,null,"",""]
[null,null,null,null,null,null,null,null,null,null,null,null,null,null,null,"",""]
[null,null,null,null,null,null,null,null,null,null,null,null,null,null,null,"",""]
[null,null,null,null,null,null,null,null,null,null,null,null,null,null,null,"",""]
[null,null,null,null,null,null,null,null,null,null,null,null,null,null,null,"",""]
[null,null,null,null,null,null,null,null,null,null,null,null,null,null,null,"",""]
[null,null,null,null,null,null,null,null,null,null,null,null,null,null,null,"",""]
[null,null,null,null,null,null,null,null,null,null,null,null,null,null,null,"",""]
[null,null,null,null,null,null,null,null,null,null,null,null,null,null,null,"",""]
[null,null,null,null,null,null,null,null,null,null,null,null,null,null,null,"",""]
[null,null,null,null,null,null,null,null,null,null,null,null,null,null,null,"",""]
[null,null,null,null,null,null,null,null,null,null,null,null,null,null,null,"",""]
[null,null,null,null,null,null,null,null,null,null,null,null,null,null,null,"",""]
[null,null,null,null,null,null,null,null,null,null,null,null,null,null,null,"",""]
[null,null,null,null,null,null,null,null,null,null,null,null,null,null,null,"",""]
[null,null,null,null,null,null,null,null,null,null,null,null,null,null,null,"",""]
[null,null,null,null,null,null,null,null,null,null,null,null,null,null,null,"",""]
[null,null,null,null,null,null,null,null,null,null,null,null,null,null,null,"",""]
[null,null,null,null,null,null,null,null,null,null,null,null,null,null,null,"",""]
[null,null,null,null,null,null,null,null,null,null,null,null,null,null,null,"",""]
[null,null,null,null,null,null,null,null,null,null,null,null,null,null,null,"",""]
[null,null,null,null,null,null,null,null,null,null,null,null,null,null,null,"",""]
[null,null,null,null,null,null,null,null,null,null,null,null,null,null,null,"",""]
[null,null,null,null,null,null,null,null,null,null,null,null,null,null,null,"",""]
[null,null,null,null,null,null,null,null,null,null,null,null,null,null,null,"",""]
[null,null,null,null,null,null,null,null,null,null,null,null,null,null,null,"",""]
[null,null,null,null,null,null,null,null,null,null,null,null,null,null,null,"",""]
[null,null,null,null,null,null,null,null,null,null,null,null,null,null,null,"",""]
[null,null,null,null,null,null,null,null,null,null,null,null,null,null,null,"",""]
[null,null,null,null,null,null,null,null,null,null,null,null,null,null,null,"",""]
[null,null,null,null,null,null,null,null,null,null,null,null,null,null,null,"",""]
[null,null,null,null,null,null,null,null,null,null,null,null,null,null,null,"",""]
[null,null,null,null,null,null,null,null,null,null,null,null,null,null,null,"",""]
[null,null,null,null,null,null,null,null,null,null,null,null,null,null,null,"",""]
[null,null,null,null,null,null,null,null,null,null,null,null,null,null,null,"",""]
[null,null,null,null,null,null,null,null,null,null,null,null,null,null,null,"",""]
[null,null,null,null,null,null,null,null,null,null,null,null,null,null,null,"",""]
[null,null,null,null,null,null,null,null,null,null,null,null,null,null,null,"",""]
[null,null,null,null,null,null,null,null,null,null,null,null,null,null,null,"",""]
[null,null,null,null,null,null,null,null,null,null,null,null,null,null,null,"",""]
[null,null,null,null,null,null,null,null,null,null,null,null,null,null,null,"",""]
[null,null,null,null,null,null,null,null,null,null,null,null,null,null,null,"",""]
[null,null,null,null,null,null,null,null,null,null,null,null,null,null,null,"",""]
[null,null,null,null,null,null,null,null,null,null,null,null,null,null,null,"",""]
[null,null,null,null,null,null,null,null,null,null,null,null,null,null,null,"",""]
[null,null,null,null,null,null,null,null,null,null,null,null,null,null,null,"",""]
[null,null,null,null,null,null,null,null,null,null,null,null,null,null,null,"",""]
[null,null,null,null,null,null,null,null,null,null,null,null,null,null,null,"",""]
[null,null,null,null,null,null,null,null,null,null,null,null,null,null,null,"",""]
[null,null,null,null,null,null,null,null,null,null,null,null,null,null,null,"",""]
[null,null,null,null,null,null,null,null,null,null,null,null,null,null,null,"",""]
[null,null,null,null,null,null,null,null,null,null,null,null,null,null,null,"",""]
[null,null,null,null,null,null,null,null,null,null,null,null,null,null,null,"",""]
[null,null,null,null,null,null,null,null,null,null,null,null,null,null,null,"",""]
[null,null,null,null,null,null,null,null,null,null,null,null,null,null,null,"",""]
[null,null,null,null,null,null,null,null,null,null,null,null,null,null,null,"",""]
[null,null,null,null,null,null,null,null,null,null,null,null,null,null,null,"",""]
[null,null,null,null,null,null,null,null,null,null,null,null,null,null,null,"",""]
[null,null,null,null,null,null,null,null,null,null,null,null,null,null,null,"",""]
[null,null,null,null,null,null,null,null,null,null,null,null,null,null,null,"",""]
[null,null,null,null,null,null,null,null,null,null,null,null,null,null,null,"",""]
[null,null,null,null,null,null,null,null,null,null,null,null,null,null,null,"",""]
[null,null,null,null,null,null,null,null,null,null,null,null,null,null,null,"",""]
[null,null,null,null,null,null,null,null,null,null,null,null,null,null,null,"",""]
[null,null,null,null,null,null,null,null,null,null,null,null,null,null,null,"",""]
[null,null,null,null,null,null,null,null,null,null,null,null,null,null,null,"",""]
[null,null,null,null,null,null,null,null,null,null,null,null,null,null,null,"",""]
[null,null,null,null,null,null,null,null,null,null,null,null,null,null,null,"",""]
[null,null,null,null,null,null,null,null,null,null,null,null,null,null,null,"",""]
[null,null,null,null,null,null,null,null,null,null,null,null,null,null,null,"",""]
[null,null,null,null,null,null,null,null,null,null,null,null,null,null,null,"",""]
[null,null,null,null,null,null,null,null,null,null,null,null,null,null,null,"",""]
[null,null,null,null,null,null,null,null,null,null,null,null,null,null,null,"",""]
[null,null,null,null,null,null,null,null,null,null,null,null,null,null,null,"",""]
[null,null,null,null,null,null,null,null,null,null,null,null,null,null,null,"",""]
[null,null,null,null,null,null,null,null,null,null,null,null,null,null,null,"",""]
[null,null,null,null,null,null,null,null,null,null,null,null,null,null,null,"",""]
[null,null,null,null,null,null,null,null,null,null,null,null,null,null,null,"",""]
[null,null,null,null,null,null,null,null,null,null,null,null,null,null,null,"",""]
[null,null,null,null,null,null,null,null,null,null,null,null,null,null,null,"",""]
[null,null,null,null,null,null,null,null,null,null,null,null,null,null,null,"",""]
[null,null,null,null,null,null,null,null,null,null,null,null,null,null,null,"",""]
[null,null,null,null,null,null,null,null,null,null,null,null,null,null,null,"",""]
[null,null,null,null,null,null,null,null,null,null,null,null,null,null,null,"",""]
[null,null,null,null,null,null,null,null,null,null,null,null,null,null,null,"",""]
[null,null,null,null,null,null,null,null,null,null,null,null,null,null,null,"",""]
[null,null,null,null,null,null,null,null,null,null,null,null,null,null,null,"",""]
[null,null,null,null,null,null,null,null,null,null,null,null,null,null,null,"",""]
[null,null,null,null,null,null,null,null,null,null,null,null,null,null,null,"",""]
[null,null,null,null,null,null,null,null,null,null,null,null,null,null,null,"",""]
[null,null,null,null,null,null,null,null,null,null,null,null,null,null,null,"",""]
[null,null,null,null,null,null,null,null,null,null,null,null,null,null,null,"",""]
[null,null,null,null,null,null,null,null,null,null,null,null,null,null,null,"",""]
[null,null,null,null,null,null,null,null,null,null,null,null,null,null,null,"",""]
[null,null,null,null,null,null,null,null,null,null,null,null,null,null,null,"",""]
[null,null,null,null,null,null,null,null,null,null,null,null,null,null,null,"",""]
[null,null,null,null,null,null,null,null,null,null,null,null,null,null,null,"",""]
[null,null,null,null,null,null,null,null,null,null,null,null,null,null,null,"",""]
[null,null,null,null,null,null,null,null,null,null,null,null,null,null,null,"",""]
[null,null,null,null,null,null,null,null,null,null,null,null,null,null,null,"",""]
[null,null,null,null,null,null,null,null,null,null,null,null,null,null,null,"",""]
[null,null,null,null,null,null,null,null,null,null,null,null,null,null,null,"",""]
[null,null,null,null,null,null,null,null,null,null,null,null,null,null,null,"",""]
[null,null,null,null,null,null,null,null,null,null,null,null,null,null,null,"",""]
[null,null,null,null,null,null,null,null,null,null,null,null,null,null,null,"",""]
[null,null,null,null,null,null,null,null,null,null,null,null,null,null,null,"",""]
[null,null,null,null,null,null,null,null,null,null,null,null,null,null,null,"",""]
[null,null,null,null,null,null,null,null,null,null,null,null,null,null,null,"",""]
[null,null,null,null,null,null,null,null,null,null,null,null,null,null,null,"",""]
[null,null,null,null,null,null,null,null,null,null,null,null,null,null,null,"",""]
[null,null,null,null,null,null,null,null,null,null,null,null,null,null,null,"",""]
[null,null,null,null,null,null,null,null,null,null,null,null,null,null,null,"",""]
[null,null,null,null,null,null,null,null,null,null,null,null,null,null,null,"",""]
[null,null,null,null,null,null,null,null,null,null,null,null,null,null,null,"",""]
[null,null,null,null,null,null,null,null,null,null,null,null,null,null,null,"",""]
[null,null,null,null,null,null,null,null,null,null,null,null,null,null,null,"",""]
[null,null,null,null,null,null,null,null,null,null,null,null,null,null,null,"",""]
[null,null,null,null,null,null,null,null,null,null,null,null,null,null,null,"",""]
[null,null,null,null,null,null,null,null,null,null,null,null,null,null,null,"",""]
[null,null,null,null,null,null,null,null,null,null,null,null,null,null,null,"",""]
[null,null,null,null,null,null,null,null,null,null,null,null,null,null,null,"",""]
[null,null,null,null,null,null,null,null,null,null,null,null,null,null,null,"",""]
[null,null,null,null,null,null,null,null,null,null,null,null,null,null,null,"",""]
[null,null,null,null,null,null,null,null,null,null,null,null,null,null,null,"",""]
[null,null,null,null,null,null,null,null,null,null,null,null,null,null,null,"",""]
[null,null,null,null,null,null,null,null,null,null,null,null,null,null,null,"",""]
[null,null,null,null,null,null,null,null,null,null,null,null,null,null,null,"",""]
[null,null,null,null,null,null,null,null,null,null,null,null,null,null,null,"",""]
[null,null,null,null,null,null,null,null,null,null,null,null,null,null,null,"",""]
[null,null,null,null,null,null,null,null,null,null,null,null,null,null,null,"",""]
[null,null,null,null,null,null,null,null,null,null,null,null,null,null,null,"",""]
[null,null,null,null,null,null,null,null,null,null,null,null,null,null,null,"",""]
[null,null,null,null,null,null,null,null,null,null,null,null,null,null,null,"",""]
[null,null,null,null,null,null,null,null,null,null,null,null,null,null,null,"",""]
[null,null,null,null,null,null,null,null,null,null,null,null,null,null,null,"",""]
[null,null,null,null,null,null,null,null,null,null,null,null,null,null,null,"",""]
[null,null,null,null,null,null,null,null,null,null,null,null,null,null,null,"",""]
[null,null,null,null,null,null,null,null,null,null,null,null,null,null,null,"",""]
[null,null,null,null,null,null,null,null,null,null,null,null,null,null,null,"",""]
[null,null,null,null,null,null,null,null,null,null,null,null,null,null,null,"",""]
[null,null,null,null,null,null,null,null,null,null,null,null,null,null,null,"",""]
[null,null,null,null,null,null,null,null,null,null,null,null,null,null,null,"",""]
[null,null,null,null,null,null,null,null,null,null,null,null,null,null,null,"",""]
[null,null,null,null,null,null,null,null,null,null,null,null,null,null,null,"",""]
[null,null,null,null,null,null,null,null,null,null,null,null,null,null,null,"",""]
[null,null,null,null,null,null,null,null,null,null,null,null,null,null,null,"",""]
[null,null,null,null,null,null,null,null,null,null,null,null,null,null,null,"",""]
[null,null,null,null,null,null,null,null,null,null,null,null,null,null,null,"",""]
[null,null,null,null,null,null,null,null,null,null,null,null,null,null,null,"",""]
[null,null,null,null,null,null,null,null,null,null,null,null,null,null,null,"",""]
[null,null,null,null,null,null,null,null,null,null,null,null,null,null,null,"",""]
[null,null,null,null,null,null,null,null,null,null,null,null,null,null,null,"",""]
[null,null,null,null,null,null,null,null,null,null,null,null,null,null,null,"",""]
[null,null,null,null,null,null,null,null,null,null,null,null,null,null,null,"",""]
[null,null,null,null,null,null,null,null,null,null,null,null,null,null,null,"",""]
[null,null,null,null,null,null,null,null,null,null,null,null,null,null,null,"",""]
[null,null,null,null,null,null,null,null,null,null,null,null,null,null,null,"",""]
[null,null,null,null,null,null,null,null,null,null,null,null,null,null,null,"",""]
[null,null,null,null,null,null,null,null,null,null,null,null,null,null,null,"",""]
[null,null,null,null,null,null,null,null,null,null,null,null,null,null,null,"",""]
[null,null,null,null,null,null,null,null,null,null,null,null,null,null,null,"",""]
[null,null,null,null,null,null,null,null,null,null,null,null,null,null,null,"",""]
[null,null,null,null,null,null,null,null,null,null,null,null,null,null,null,"",""]
[null,null,null,null,null,null,null,null,null,null,null,null,null,null,null,"",""]
[null,null,null,null,null,null,null,null,null,null,null,null,null,null,null,"",""]
[null,null,null,null,null,null,null,null,null,null,null,null,null,null,null,"",""]
[null,null,null,null,null,null,null,null,null,null,null,null,null,null,null,"",""]
[null,null,null,null,null,null,null,null,null,null,null,null,null,null,null,"",""]
[null,null,null,null,null,null,null,null,null,null,null,null,null,null,null,"",""]
[null,null,null,null,null,null,null,null,null,null,null,null,null,null,null,"",""]
[null,null,null,null,null,null,null,null,null,null,null,null,null,null,null,"",""]
[null,null,null,null,null,null,null,null,null,null,null,null,null,null,null,"",""]
[null,null,null,null,null,null,null,null,null,null,null,null,null,null,null,"",""]
[null,null,null,null,null,null,null,null,null,null,null,null,null,null,null,"",""]
[null,null,null,null,null,null,null,null,null,null,null,null,null,null,null,"",""]
[null,null,null,null,null,null,null,null,null,null,null,null,null,null,null,"",""]
[null,null,null,null,null,null,null,null,null,null,null,null,null,null,null,"",""]
[null,null,null,null,null,null,null,null,null,null,null,null,null,null,null,"",""]
[null,null,null,null,null,null,null,null,null,null,null,null,null,null,null,"",""]
[null,null,null,null,null,null,null,null,null,null,null,null,null,null,null,"",""]
[null,null,null,null,null,null,null,null,null,null,null,null,null,null,null,"",""]
[null,null,null,null,null,null,null,null,null,null,null,null,null,null,null,"",""]
[null,null,null,null,null,null,null,null,null,null,null,null,null,null,null,"",""]
[null,null,null,null,null,null,null,null,null,null,null,null,null,null,null,"",""]
[null,null,null,null,null,null,null,null,null,null,null,null,null,null,null,"",""]
[null,null,null,null,null,null,null,null,null,null,null,null,null,null,null,"",""]
[null,null,null,null,null,null,null,null,null,null,null,null,null,null,null,"",""]
[null,null,null,null,null,null,null,null,null,null,null,null,null,null,null,"",""]
[null,null,null,null,null,null,null,null,null,null,null,null,null,null,null,"",""]
[null,null,null,null,null,null,null,null,null,null,null,null,null,null,null,"",""]
[null,null,null,null,null,null,null,null,null,null,null,null,null,null,null,"",""]
[null,null,null,null,null,null,null,null,null,null,null,null,null,null,null,"",""]
[null,null,null,null,null,null,null,null,null,null,null,null,null,null,null,"",""]
[null,null,null,null,null,null,null,null,null,null,null,null,null,null,null,"",""]
[null,null,null,null,null,null,null,null,null,null,null,null,null,null,null,"",""]
[null,null,null,null,null,null,null,null,null,null,null,null,null,null,null,"",""]
[null,null,null,null,null,null,null,null,null,null,null,null,null,null,null,"",""]
[null,null,null,null,null,null,null,null,null,null,null,null,null,null,null,"",""]
[null,null,null,null,null,null,null,null,null,null,null,null,null,null,null,"",""]
[null,null,null,null,null,null,null,null,null,null,null,null,null,null,null,"",""]
[null,null,null,null,null,null,null,null,null,null,null,null,null,null,null,"",""]
[null,null,null,null,null,null,null,null,null,null,null,null,null,null,null,"",""]
[null,null,null,null,null,null,null,null,null,null,null,null,null,null,null,"",""]
[null,null,null,null,null,null,null,null,null,null,null,null,null,null,null,"",""]
[null,null,null,null,null,null,null,null,null,null,null,null,null,null,null,"",""]
[null,null,null,null,null,null,null,null,null,null,null,null,null,null,null,"",""]
[null,null,null,null,null,null,null,null,null,null,null,null,null,null,null,"",""]
[null,null,null,null,null,null,null,null,null,null,null,null,null,null,null,"",""]
[null,null,null,null,null,null,null,null,null,null,null,null,null,null,null,"",""]
[null,null,null,null,null,null,null,null,null,null,null,null,null,null,null,"",""]
[null,null,null,null,null,null,null,null,null,null,null,null,null,null,null,"",""]
[null,null,null,null,null,null,null,null,null,null,null,null,null,null,null,"",""]
[null,null,null,null,null,null,null,null,null,null,null,null,null,null,null,"",""]
[null,null,null,null,null,null,null,null,null,null,null,null,null,null,null,"",""]
[null,null,null,null,null,null,null,null,null,null,null,null,null,null,null,"",""]
[null,null,null,null,null,null,null,null,null,null,null,null,null,null,null,"",""]
[null,null,null,null,null,null,null,null,null,null,null,null,null,null,null,"",""]
[null,null,null,null,null,null,null,null,null,null,null,null,null,null,null,"",""]
[null,null,null,null,null,null,null,null,null,null,null,null,null,null,null,"",""]
[null,null,null,null,null,null,null,null,null,null,null,null,null,null,null,"",""]
[null,null,null,null,null,null,null,null,null,null,null,null,null,null,null,"",""]
[null,null,null,null,null,null,null,null,null,null,null,null,null,null,null,"",""]
[null,null,null,null,null,null,null,null,null,null,null,null,null,null,null,"",""]
[null,null,null,null,null,null,null,null,null,null,null,null,null,null,null,"",""]
[null,null,null,null,null,null,null,null,null,null,null,null,null,null,null,"",""]
[null,null,null,null,null,null,null,null,null,null,null,null,null,null,null,"",""]
[null,null,null,null,null,null,null,null,null,null,null,null,null,null,null,"",""]
[null,null,null,null,null,null,null,null,null,null,null,null,null,null,null,"",""]
[null,null,null,null,null,null,null,null,null,null,null,null,null,null,null,"",""]
[null,null,null,null,null,null,null,null,null,null,null,null,null,null,null,"",""]
[null,null,null,null,null,null,null,null,null,null,null,null,null,null,null,"",""]
[null,null,null,null,null,null,null,null,null,null,null,null,null,null,null,"",""]
[null,null,null,null,null,null,null,null,null,null,null,null,null,null,null,"",""]
[null,null,null,null,null,null,null,null,null,null,null,null,null,null,null,"",""]
[null,null,null,null,null,null,null,null,null,null,null,null,null,null,null,"",""]
[null,null,null,null,null,null,null,null,null,null,null,null,null,null,null,"",""]
[null,null,null,null,null,null,null,null,null,null,null,null,null,null,null,"",""]
[null,null,null,null,null,null,null,null,null,null,null,null,null,null,null,"",""]
[null,null,null,null,null,null,null,null,null,null,null,null,null,null,null,"",""]
[null,null,null,null,null,null,null,null,null,null,null,null,null,null,null,"",""]
[null,null,null,null,null,null,null,null,null,null,null,null,null,null,null,"",""]
[null,null,null,null,null,null,null,null,null,null,null,null,null,null,null,"",""]
[null,null,null,null,null,null,null,null,null,null,null,null,null,null,null,"",""]
[null,null,null,null,null,null,null,null,null,null,null,null,null,null,null,"",""]
[null,null,null,null,null,null,null,null,null,null,null,null,null,null,null,"",""]
[null,null,null,null,null,null,null,null,null,null,null,null,null,null,null,"",""]
[null,null,null,null,null,null,null,null,null,null,null,null,null,null,null,"",""]
[null,null,null,null,null,null,null,null,null,null,null,null,null,null,null,"",""]
[null,null,null,null,null,null,null,null,null,null,null,null,null,null,null,"",""]
[null,null,null,null,null,null,null,null,null,null,null,null,null,null,null,"",""]
[null,null,null,null,null,null,null,null,null,null,null,null,null,null,null,"",""]
[null,null,null,null,null,null,null,null,null,null,null,null,null,null,null,"",""]
[null,null,null,null,null,null,null,null,null,null,null,null,null,null,null,"",""]
[null,null,null,null,null,null,null,null,null,null,null,null,null,null,null,"",""]
[null,null,null,null,null,null,null,null,null,null,null,null,null,null,null,"",""]
[null,null,null,null,null,null,null,null,null,null,null,null,null,null,null,"",""]
[null,null,null,null,null,null,null,null,null,null,null,null,null,null,null,"",""]
[null,null,null,null,null,null,null,null,null,null,null,null,null,null,null,"",""]
[null,null,null,null,null,null,null,null,null,null,null,null,null,null,null,"",""]
[null,null,null,null,null,null,null,null,null,null,null,null,null,null,null,"",""]
[null,null,null,null,null,null,null,null,null,null,null,null,null,null,null,"",""]
[null,null,null,null,null,null,null,null,null,null,null,null,null,null,null,"",""]
[null,null,null,null,null,null,null,null,null,null,null,null,null,null,null,"",""]
[null,null,null,null,null,null,null,null,null,null,null,null,null,null,null,"",""]
[null,null,null,null,null,null,null,null,null,null,null,null,null,null,null,"",""]
[null,null,null,null,null,null,null,null,null,null,null,null,null,null,null,"",""]
[null,null,null,null,null,null,null,null,null,null,null,null,null,null,null,"",""]
[null,null,null,null,null,null,null,null,null,null,null,null,null,null,null,"",""]
[null,null,null,null,null,null,null,null,null,null,null,null,null,null,null,"",""]
[null,null,null,null,null,null,null,null,null,null,null,null,null,null,null,"",""]
[null,null,null,null,null,null,null,null,null,null,null,null,null,null,null,"",""]
[null,null,null,null,null,null,null,null,null,null,null,null,null,null,null,"",""]
[null,null,null,null,null,null,null,null,null,null,null,null,null,null,null,"",""]
[null,null,null,null,null,null,null,null,null,null,null,null,null,null,null,"",""]
[null,null,null,null,null,null,null,null,null,null,null,null,null,null,null,"",""]
[null,null,null,null,null,null,null,null,null,null,null,null,null,null,null,"",""]
[null,null,null,null,null,null,null,null,null,null,null,null,null,null,null,"",""]
[null,null,null,null,null,null,null,null,null,null,null,null,null,null,null,"",""]
[null,null,null,null,null,null,null,null,null,null,null,null,null,null,null,"",""]
[null,null,null,null,null,null,null,null,null,null,null,null,null,null,null,"",""]
[null,null,null,null,null,null,null,null,null,null,null,null,null,null,null,"",""]
[null,null,null,null,null,null,null,null,null,null,null,null,null,null,null,"",""]
[null,null,null,null,null,null,null,null,null,null,null,null,null,null,null,"",""]
[null,null,null,null,null,null,null,null,null,null,null,null,null,null,null,"",""]
[null,null,null,null,null,null,null,null,null,null,null,null,null,null,null,"",""]
[null,null,null,null,null,null,null,null,null,null,null,null,null,null,null,"",""]
[null,null,null,null,null,null,null,null,null,null,null,null,null,null,null,"",""]
[null,null,null,null,null,null,null,null,null,null,null,null,null,null,null,"",""]
[null,null,null,null,null,null,null,null,null,null,null,null,null,null,null,"",""]
[null,null,null,null,null,null,null,null,null,null,null,null,null,null,null,"",""]
[null,null,null,null,null,null,null,null,null,null,null,null,null,null,null,"",""]
[null,null,null,null,null,null,null,null,null,null,null,null,null,null,null,"",""]
[null,null,null,null,null,null,null,null,null,null,null,null,null,null,null,"",""]
[null,null,null,null,null,null,null,null,null,null,null,null,null,null,null,"",""]
[null,null,null,null,null,null,null,null,null,null,null,null,null,null,null,"",""]
[null,null,null,null,null,null,null,null,null,null,null,null,null,null,null,"",""]
[null,null,null,null,null,null,null,null,null,null,null,null,null,null,null,"",""]
[null,null,null,null,null,null,null,null,null,null,null,null,null,null,null,"",""]
[null,null,null,null,null,null,null,null,null,null,null,null,null,null,null,"",""]
[null,null,null,null,null,null,null,null,null,null,null,null,null,null,null,"",""]
[null,null,null,null,null,null,null,null,null,null,null,null,null,null,null,"",""]
[null,null,null,null,null,null,null,null,null,null,null,null,null,null,null,"",""]
[null,null,null,null,null,null,null,null,null,null,null,null,null,null,null,"",""]
[null,null,null,null,null,null,null,null,null,null,null,null,null,null,null,"",""]
[null,null,null,null,null,null,null,null,null,null,null,null,null,null,null,"",""]
[null,null,null,null,null,null,null,null,null,null,null,null,null,null,null,"",""]
[null,null,null,null,null,null,null,null,null,null,null,null,null,null,null,"",""]
[null,null,null,null,null,null,null,null,null,null,null,null,null,null,null,"",""]
[null,null,null,null,null,null,null,null,null,null,null,null,null,null,null,"",""]
[null,null,null,null,null,null,null,null,null,null,null,null,null,null,null,"",""]
[null,null,null,null,null,null,null,null,null,null,null,null,null,null,null,"",""]
[null,null,null,null,null,null,null,null,null,null,null,null,null,null,null,"",""]
[null,null,null,null,null,null,null,null,null,null,null,null,null,null,null,"",""]
[null,null,null,null,null,null,null,null,null,null,null,null,null,null,null,"",""]
[null,null,null,null,null,null,null,null,null,null,null,null,null,null,null,"",""]
[null,null,null,null,null,null,null,null,null,null,null,null,null,null,null,"",""]
[null,null,null,null,null,null,null,null,null,null,null,null,null,null,null,"",""]
[null,null,null,null,null,null,null,null,null,null,null,null,null,null,null,"",""]
[null,null,null,null,null,null,null,null,null,null,null,null,null,null,null,"",""]
[null,null,null,null,null,null,null,null,null,null,null,null,null,null,null,"",""]
[null,null,null,null,null,null,null,null,null,null,null,null,null,null,null,"",""]
[null,null,null,null,null,null,null,null,null,null,null,null,null,null,null,"",""]
[null,null,null,null,null,null,null,null,null,null,null,null,null,null,null,"",""]
[null,null,null,null,null,null,null,null,null,null,null,null,null,null,null,"",""]
[null,null,null,null,null,null,null,null,null,null,null,null,null,null,null,"",""]
[null,null,null,null,null,null,null,null,null,null,null,null,null,null,null,"",""]
[null,null,null,null,null,null,null,null,null,null,null,null,null,null,null,"",""]
[null,null,null,null,null,null,null,null,null,null,null,null,null,null,null,"",""]
[null,null,null,null,null,null,null,null,null,null,null,null,null,null,null,"",""]
[null,null,null,null,null,null,null,null,null,null,null,null,null,null,null,"",""]
[null,null,null,null,null,null,null,null,null,null,null,null,null,null,null,"",""]
[null,null,null,null,null,null,null,null,null,null,null,null,null,null,null,"",""]
[null,null,null,null,null,null,null,null,null,null,null,null,null,null,null,"",""]
[null,null,null,null,null,null,null,null,null,null,null,null,null,null,null,"",""]
[null,null,null,null,null,null,null,null,null,null,null,null,null,null,null,"",""]
[null,null,null,null,null,null,null,null,null,null,null,null,null,null,null,"",""]
[null,null,null,null,null,null,null,null,null,null,null,null,null,null,null,"",""]
[null,null,null,null,null,null,null,null,null,null,null,null,null,null,null,"",""]
[null,null,null,null,null,null,null,null,null,null,null,null,null,null,null,"",""]
[null,null,null,null,null,null,null,null,null,null,null,null,null,null,null,"",""]
[null,null,null,null,null,null,null,null,null,null,null,null,null,null,null,"",""]
[null,null,null,null,null,null,null,null,null,null,null,null,null,null,null,"",""]
[null,null,null,null,null,null,null,null,null,null,null,null,null,null,null,"",""]
[null,null,null,null,null,null,null,null,null,null,null,null,null,null,null,"",""]
[null,null,null,null,null,null,null,null,null,null,null,null,null,null,null,"",""]
[null,null,null,null,null,null,null,null,null,null,null,null,null,null,null,"",""]
[null,null,null,null,null,null,null,null,null,null,null,null,null,null,null,"",""]
[null,null,null,null,null,null,null,null,null,null,null,null,null,null,null,"",""]
[null,null,null,null,null,null,null,null,null,null,null,null,null,null,null,"",""]
[null,null,null,null,null,null,null,null,null,null,null,null,null,null,null,"",""]
[null,null,null,null,null,null,null,null,null,null,null,null,null,null,null,"",""]
[null,null,null,null,null,null,null,null,null,null,null,null,null,null,null,"",""]
[null,null,null,null,null,null,null,null,null,null,null,null,null,null,null,"",""]
[null,null,null,null,null,null,null,null,null,null,null,null,null,null,null,"",""]
[null,null,null,null,null,null,null,null,null,null,null,null,null,null,null,"",""]
[null,null,null,null,null,null,null,null,null,null,null,null,null,null,null,"",""]
[null,null,null,null,null,null,null,null,null,null,null,null,null,null,null,"",""]
[null,null,null,null,null,null,null,null,null,null,null,null,null,null,null,"",""]
[null,null,null,null,null,null,null,null,null,null,null,null,null,null,null,"",""]
[null,null,null,null,null,null,null,null,null,null,null,null,null,null,null,"",""]
[null,null,null,null,null,null,null,null,null,null,null,null,null,null,null,"",""]
[null,null,null,null,null,null,null,null,null,null,null,null,null,null,null,"",""]
[null,null,null,null,null,null,null,null,null,null,null,null,null,null,null,"",""]
[null,null,null,null,null,null,null,null,null,null,null,null,null,null,null,"",""]
[null,null,null,null,null,null,null,null,null,null,null,null,null,null,null,"",""]
[null,null,null,null,null,null,null,null,null,null,null,null,null,null,null,"",""]
[null,null,null,null,null,null,null,null,null,null,null,null,null,null,null,"",""]
[null,null,null,null,null,null,null,null,null,null,null,null,null,null,null,"",""]
[null,null,null,null,null,null,null,null,null,null,null,null,null,null,null,"",""]
[null,null,null,null,null,null,null,null,null,null,null,null,null,null,null,"",""]
[null,null,null,null,null,null,null,null,null,null,null,null,null,null,null,"",""]
[null,null,null,null,null,null,null,null,null,null,null,null,null,null,null,"",""]
[null,null,null,null,null,null,null,null,null,null,null,null,null,null,null,"",""]
[null,null,null,null,null,null,null,null,null,null,null,null,null,null,null,"",""]
[null,null,null,null,null,null,null,null,null,null,null,null,null,null,null,"",""]
[null,null,null,null,null,null,null,null,null,null,null,null,null,null,null,"",""]
[null,null,null,null,null,null,null,null,null,null,null,null,null,null,null,"",""]
[null,null,null,null,null,null,null,null,null,null,null,null,null,null,null,"",""]
[null,null,null,null,null,null,null,null,null,null,null,null,null,null,null,"",""]
[null,null,null,null,null,null,null,null,null,null,null,null,null,null,null,"",""]
[null,null,null,null,null,null,null,null,null,null,null,null,null,null,null,"",""]
[null,null,null,null,null,null,null,null,null,null,null,null,null,null,null,"",""]
[null,null,null,null,null,null,null,null,null,null,null,null,null,null,null,"",""]
[null,null,null,null,null,null,null,null,null,null,null,null,null,null,null,"",""]
[null,null,null,null,null,null,null,null,null,null,null,null,null,null,null,"",""]
[null,null,null,null,null,null,null,null,null,null,null,null,null,null,null,"",""]
[null,null,null,null,null,null,null,null,null,null,null,null,null,null,null,"",""]
[null,null,null,null,null,null,null,null,null,null,null,null,null,null,null,"",""]
[null,null,null,null,null,null,null,null,null,null,null,null,null,null,null,"",""]
[null,null,null,null,null,null,null,null,null,null,null,null,null,null,null,"",""]
[null,null,null,null,null,null,null,null,null,null,null,null,null,null,null,"",""]
[null,null,null,null,null,null,null,null,null,null,null,null,null,null,null,"",""]
[null,null,null,null,null,null,null,null,null,null,null,null,null,null,null,"",""]
[null,null,null,null,null,null,null,null,null,null,null,null,null,null,null,"",""]
[null,null,null,null,null,null,null,null,null,null,null,null,null,null,null,"",""]
[null,null,null,null,null,null,null,null,null,null,null,null,null,null,null,"",""]
[null,null,null,null,null,null,null,null,null,null,null,null,null,null,null,"",""]
[null,null,null,null,null,null,null,null,null,null,null,null,null,null,null,"",""]
[null,null,null,null,null,null,null,null,null,null,null,null,null,null,null,"",""]
[null,null,null,null,null,null,null,null,null,null,null,null,null,null,null,"",""]
[null,null,null,null,null,null,null,null,null,null,null,null,null,null,null,"",""]
[null,null,null,null,null,null,null,null,null,null,null,null,null,null,null,"",""]
[null,null,null,null,null,null,null,null,null,null,null,null,null,null,null,"",""]
[null,null,null,null,null,null,null,null,null,null,null,null,null,null,null,"",""]
[null,null,null,null,null,null,null,null,null,null,null,null,null,null,null,"",""]
[null,null,null,null,null,null,null,null,null,null,null,null,null,null,null,"",""]
[null,null,null,null,null,null,null,null,null,null,null,null,null,null,null,"",""]
[null,null,null,null,null,null,null,null,null,null,null,null,null,null,null,"",""]
[null,null,null,null,null,null,null,null,null,null,null,null,null,null,null,"",""]
[null,null,null,null,null,null,null,null,null,null,null,null,null,null,null,"",""]
[null,null,null,null,null,null,null,null,null,null,null,null,null,null,null,"",""]
[null,null,null,null,null,null,null,null,null,null,null,null,null,null,null,"",""]
[null,null,null,null,null,null,null,null,null,null,null,null,null,null,null,"",""]
[null,null,null,null,null,null,null,null,null,null,null,null,null,null,null,"",""]
[null,null,null,null,null,null,null,null,null,null,null,null,null,null,null,"",""]
[null,null,null,null,null,null,null,null,null,null,null,null,null,null,null,"",""]
[null,null,null,null,null,null,null,null,null,null,null,null,null,null,null,"",""]
[null,null,null,null,null,null,null,null,null,null,null,null,null,null,null,"",""]
[null,null,null,null,null,null,null,null,null,null,null,null,null,null,null,"",""]
[null,null,null,null,null,null,null,null,null,null,null,null,null,null,null,"",""]
[null,null,null,null,null,null,null,null,null,null,null,null,null,null,null,"",""]
[null,null,null,null,null,null,null,null,null,null,null,null,null,null,null,"",""]
[null,null,null,null,null,null,null,null,null,null,null,null,null,null,null,"",""]
[null,null,null,null,null,null,null,null,null,null,null,null,null,null,null,"",""]
[null,null,null,null,null,null,null,null,null,null,null,null,null,null,null,"",""]
[null,null,null,null,null,null,null,null,null,null,null,null,null,null,null,"",""]
[null,null,null,null,null,null,null,null,null,null,null,null,null,null,null,"",""]
[null,null,null,null,null,null,null,null,null,null,null,null,null,null,null,"",""]
[null,null,null,null,null,null,null,null,null,null,null,null,null,null,null,"",""]
[null,null,null,null,null,null,null,null,null,null,null,null,null,null,null,"",""]
[null,null,null,null,null,null,null,null,null,null,null,null,null,null,null,"",""]
[null,null,null,null,null,null,null,null,null,null,null,null,null,null,null,"",""]
[null,null,null,null,null,null,null,null,null,null,null,null,null,null,null,"",""]
[null,null,null,null,null,null,null,null,null,null,null,null,null,null,null,"",""]
[null,null,null,null,null,null,null,null,null,null,null,null,null,null,null,"",""]
[null,null,null,null,null,null,null,null,null,null,null,null,null,null,null,"",""]
[null,null,null,null,null,null,null,null,null,null,null,null,null,null,null,"",""]
[null,null,null,null,null,null,null,null,null,null,null,null,null,null,null,"",""]
[null,null,null,null,null,null,null,null,null,null,null,null,null,null,null,"",""]
[null,null,null,null,null,null,null,null,null,null,null,null,null,null,null,"",""]
[null,null,null,null,null,null,null,null,null,null,null,null,null,null,null,"",""]
[null,null,null,null,null,null,null,null,null,null,null,null,null,null,null,"",""]
[null,null,null,null,null,null,null,null,null,null,null,null,null,null,null,"",""]
[null,null,null,null,null,null,null,null,null,null,null,null,null,null,null,"",""]
[null,null,null,null,null,null,null,null,null,null,null,null,null,null,null,"",""]
[null,null,null,null,null,null,null,null,null,null,null,null,null,null,null,"",""]
[null,null,null,null,null,null,null,null,null,null,null,null,null,null,null,"",""]
[null,null,null,null,null,null,null,null,null,null,null,null,null,null,null,"",""]
[null,null,null,null,null,null,null,null,null,null,null,null,null,null,null,"",""]
[null,null,null,null,null,null,null,null,null,null,null,null,null,null,null,"",""]
[null,null,null,null,null,null,null,null,null,null,null,null,null,null,null,"",""]
[null,null,null,null,null,null,null,null,null,null,null,null,null,null,null,"",""]
[null,null,null,null,null,null,null,null,null,null,null,null,null,null,null,"",""]
[null,null,null,null,null,null,null,null,null,null,null,null,null,null,null,"",""]
[null,null,null,null,null,null,null,null,null,null,null,null,null,null,null,"",""]
[null,null,null,null,null,null,null,null,null,null,null,null,null,null,null,"",""]
[null,null,null,null,null,null,null,null,null,null,null,null,null,null,null,"",""]
[null,null,null,null,null,null,null,null,null,null,null,null,null,null,null,"",""]
[null,null,null,null,null,null,null,null,null,null,null,null,null,null,null,"",""]
[null,null,null,null,null,null,null,null,null,null,null,null,null,null,null,"",""]
[null,null,null,null,null,null,null,null,null,null,null,null,null,null,null,"",""]
[null,null,null,null,null,null,null,null,null,null,null,null,null,null,null,"",""]
[null,null,null,null,null,null,null,null,null,null,null,null,null,null,null,"",""]
[null,null,null,null,null,null,null,null,null,null,null,null,null,null,null,"",""]
[null,null,null,null,null,null,null,null,null,null,null,null,null,null,null,"",""]
[null,null,null,null,null,null,null,null,null,null,null,null,null,null,null,"",""]
[null,null,null,null,null,null,null,null,null,null,null,null,null,null,null,"",""]
[null,null,null,null,null,null,null,null,null,null,null,null,null,null,null,"",""]
[null,null,null,null,null,null,null,null,null,null,null,null,null,null,null,"",""]
[null,null,null,null,null,null,null,null,null,null,null,null,null,null,null,"",""]
[null,null,null,null,null,null,null,null,null,null,null,null,null,null,null,"",""]
[null,null,null,null,null,null,null,null,null,null,null,null,null,null,null,"",""]
[null,null,null,null,null,null,null,null,null,null,null,null,null,null,null,"",""]
[null,null,null,null,null,null,null,null,null,null,null,null,null,null,null,"",""]
[null,null,null,null,null,null,null,null,null,null,null,null,null,null,null,"",""]
[null,null,null,null,null,null,null,null,null,null,null,null,null,null,null,"",""]
[null,null,null,null,null,null,null,null,null,null,null,null,null,null,null,"",""]
[null,null,null,null,null,null,null,null,null,null,null,null,null,null,null,"",""]
[null,null,null,null,null,null,null,null,null,null,null,null,null,null,null,"",""]
[null,null,null,null,null,null,null,null,null,null,null,null,null,null,null,"",""]
[null,null,null,null,null,null,null,null,null,null,null,null,null,null,null,"",""]
[null,null,null,null,null,null,null,null,null,null,null,null,null,null,null,"",""]
[null,null,null,null,null,null,null,null,null,null,null,null,null,null,null,"",""]
[null,null,null,null,null,null,null,null,null,null,null,null,null,null,null,"",""]
[null,null,null,null,null,null,null,null,null,null,null,null,null,null,null,"",""]
[null,null,null,null,null,null,null,null,null,null,null,null,null,null,null,"",""]
[null,null,null,null,null,null,null,null,null,null,null,null,null,null,null,"",""]
[null,null,null,null,null,null,null,null,null,null,null,null,null,null,null,"",""]
[null,null,null,null,null,null,null,null,null,null,null,null,null,null,null,"",""]
[null,null,null,null,null,null,null,null,null,null,null,null,null,null,null,"",""]
[null,null,null,null,null,null,null,null,null,null,null,null,null,null,null,"",""]
[null,null,null,null,null,null,null,null,null,null,null,null,null,null,null,"",""]
[null,null,null,null,null,null,null,null,null,null,null,null,null,null,null,"",""]
[null,null,null,null,null,null,null,null,null,null,null,null,null,null,null,"",""]
[null,null,null,null,null,null,null,null,null,null,null,null,null,null,null,"",""]
[null,null,null,null,null,null,null,null,null,null,null,null,null,null,null,"",""]
[null,null,null,null,null,null,null,null,null,null,null,null,null,null,null,"",""]
[null,null,null,null,null,null,null,null,null,null,null,null,null,null,null,"",""]
[null,null,null,null,null,null,null,null,null,null,null,null,null,null,null,"",""]
[null,null,null,null,null,null,null,null,null,null,null,null,null,null,null,"",""]
[null,null,null,null,null,null,null,null,null,null,null,null,null,null,null,"",""]
[null,null,null,null,null,null,null,null,null,null,null,null,null,null,null,"",""]
[null,null,null,null,null,null,null,null,null,null,null,null,null,null,null,"",""]
[null,null,null,null,null,null,null,null,null,null,null,null,null,null,null,"",""]
[null,null,null,null,null,null,null,null,null,null,null,null,null,null,null,"",""]
[null,null,null,null,null,null,null,null,null,null,null,null,null,null,null,"",""]
[null,null,null,null,null,null,null,null,null,null,null,null,null,null,null,"",""]
[null,null,null,null,null,null,null,null,null,null,null,null,null,null,null,"",""]
[null,null,null,null,null,null,null,null,null,null,null,null,null,null,null,"",""]
[null,null,null,null,null,null,null,null,null,null,null,null,null,null,null,"",""]
[null,null,null,null,null,null,null,null,null,null,null,null,null,null,null,"",""]
[null,null,null,null,null,null,null,null,null,null,null,null,null,null,null,"",""]
[null,null,null,null,null,null,null,null,null,null,null,null,null,null,null,"",""]
[null,null,null,null,null,null,null,null,null,null,null,null,null,null,null,"",""]
[null,null,null,null,null,null,null,null,null,null,null,null,null,null,null,"",""]
[null,null,null,null,null,null,null,null,null,null,null,null,null,null,null,"",""]
[null,null,null,null,null,null,null,null,null,null,null,null,null,null,null,"",""]
[null,null,null,null,null,null,null,null,null,null,null,null,null,null,null,"",""]
[null,null,null,null,null,null,null,null,null,null,null,null,null,null,null,"",""]
[null,null,null,null,null,null,null,null,null,null,null,null,null,null,null,"",""]
[null,null,null,null,null,null,null,null,null,null,null,null,null,null,null,"",""]
[null,null,null,null,null,null,null,null,null,null,null,null,null,null,null,"",""]
[null,null,null,null,null,null,null,null,null,null,null,null,null,null,null,"",""]
[null,null,null,null,null,null,null,null,null,null,null,null,null,null,null,"",""]
[null,null,null,null,null,null,null,null,null,null,null,null,null,null,null,"",""]
[null,null,null,null,null,null,null,null,null,null,null,null,null,null,null,"",""]
[null,null,null,null,null,null,null,null,null,null,null,null,null,null,null,"",""]
[null,null,null,null,null,null,null,null,null,null,null,null,null,null,null,"",""]
[null,null,null,null,null,null,null,null,null,null,null,null,null,null,null,"",""]
[null,null,null,null,null,null,null,null,null,null,null,null,null,null,null,"",""]
[null,null,null,null,null,null,null,null,null,null,null,null,null,null,null,"",""]
[null,null,null,null,null,null,null,null,null,null,null,null,null,null,null,"",""]
[null,null,null,null,null,null,null,null,null,null,null,null,null,null,null,"",""]
[null,null,null,null,null,null,null,null,null,null,null,null,null,null,null,"",""]
[null,null,null,null,null,null,null,null,null,null,null,null,null,null,null,"",""]
[null,null,null,null,null,null,null,null,null,null,null,null,null,null,null,"",""]
[null,null,null,null,null,null,null,null,null,null,null,null,null,null,null,"",""]
[null,null,null,null,null,null,null,null,null,null,null,null,null,null,null,"",""]
[null,null,null,null,null,null,null,null,null,null,null,null,null,null,null,"",""]
[null,null,null,null,null,null,null,null,null,null,null,null,null,null,null,"",""]
[null,null,null,null,null,null,null,null,null,null,null,null,null,null,null,"",""]
[null,null,null,null,null,null,null,null,null,null,null,null,null,null,null,"",""]
[null,null,null,null,null,null,null,null,null,null,null,null,null,null,null,"",""]
[null,null,null,null,null,null,null,null,null,null,null,null,null,null,null,"",""]
[null,null,null,null,null,null,null,null,null,null,null,null,null,null,null,"",""]
[null,null,null,null,null,null,null,null,null,null,null,null,null,null,null,"",""]
[null,null,null,null,null,null,null,null,null,null,null,null,null,null,null,"",""]
[null,null,null,null,null,null,null,null,null,null,null,null,null,null,null,"",""]
[null,null,null,null,null,null,null,null,null,null,null,null,null,null,null,"",""]
[null,null,null,null,null,null,null,null,null,null,null,null,null,null,null,"",""]
[null,null,null,null,null,null,null,null,null,null,null,null,null,null,null,"",""]
[null,null,null,null,null,null,null,null,null,null,null,null,null,null,null,"",""]
[null,null,null,null,null,null,null,null,null,null,null,null,null,null,null,"",""]
[null,null,null,null,null,null,null,null,null,null,null,null,null,null,null,"",""]
[null,null,null,null,null,null,null,null,null,null,null,null,null,null,null,"",""]
[null,null,null,null,null,null,null,null,null,null,null,null,null,null,null,"",""]
[null,null,null,null,null,null,null,null,null,null,null,null,null,null,null,"",""]
[null,null,null,null,null,null,null,null,null,null,null,null,null,null,null,"",""]
[null,null,null,null,null,null,null,null,null,null,null,null,null,null,null,"",""]
[null,null,null,null,null,null,null,null,null,null,null,null,null,null,null,"",""]
[null,null,null,null,null,null,null,null,null,null,null,null,null,null,null,"",""]
[null,null,null,null,null,null,null,null,null,null,null,null,null,null,null,"",""]
[null,null,null,null,null,null,null,null,null,null,null,null,null,null,null,"",""]
[null,null,null,null,null,null,null,null,null,null,null,null,null,null,null,"",""]
[null,null,null,null,null,null,null,null,null,null,null,null,null,null,null,"",""]
[null,null,null,null,null,null,null,null,null,null,null,null,null,null,null,"",""]
[null,null,null,null,null,null,null,null,null,null,null,null,null,null,null,"",""]
[null,null,null,null,null,null,null,null,null,null,null,null,null,null,null,"",""]
[null,null,null,null,null,null,null,null,null,null,null,null,null,null,null,"",""]
[null,null,null,null,null,null,null,null,null,null,null,null,null,null,null,"",""]
[null,null,null,null,null,null,null,null,null,null,null,null,null,null,null,"",""]
[null,null,null,null,null,null,null,null,null,null,null,null,null,null,null,"",""]
[null,null,null,null,null,null,null,null,null,null,null,null,null,null,null,"",""]
[null,null,null,null,null,null,null,null,null,null,null,null,null,null,null,"",""]
[null,null,null,null,null,null,null,null,null,null,null,null,null,null,null,"",""]
[null,null,null,null,null,null,null,null,null,null,null,null,null,null,null,"",""]
[null,null,null,null,null,null,null,null,null,null,null,null,null,null,null,"",""]
[null,null,null,null,null,null,null,null,null,null,null,null,null,null,null,"",""]
[null,null,null,null,null,null,null,null,null,null,null,null,null,null,null,"",""]
[null,null,null,null,null,null,null,null,null,null,null,null,null,null,null,"",""]
[null,null,null,null,null,null,null,null,null,null,null,null,null,null,null,"",""]
[null,null,null,null,null,null,null,null,null,null,null,null,null,null,null,"",""]
[null,null,null,null,null,null,null,null,null,null,null,null,null,null,null,"",""]
[null,null,null,null,null,null,null,null,null,null,null,null,null,null,null,"",""]
[null,null,null,null,null,null,null,null,null,null,null,null,null,null,null,"",""]
[null,null,null,null,null,null,null,null,null,null,null,null,null,null,null,"",""]
[null,null,null,null,null,null,null,null,null,null,null,null,null,null,null,"",""]
[null,null,null,null,null,null,null,null,null,null,null,null,null,null,null,"",""]
[null,null,null,null,null,null,null,null,null,null,null,null,null,null,null,"",""]
[null,null,null,null,null,null,null,null,null,null,null,null,null,null,null,"",""]
[null,null,null,null,null,null,null,null,null,null,null,null,null,null,null,"",""]
[null,null,null,null,null,null,null,null,null,null,null,null,null,null,null,"",""]
[null,null,null,null,null,null,null,null,null,null,null,null,null,null,null,"",""]
[null,null,null,null,null,null,null,null,null,null,null,null,null,null,null,"",""]
[null,null,null,null,null,null,null,null,null,null,null,null,null,null,null,"",""]
[null,null,null,null,null,null,null,null,null,null,null,null,null,null,null,"",""]
[null,null,null,null,null,null,null,null,null,null,null,null,null,null,null,"",""]
[null,null,null,null,null,null,null,null,null,null,null,null,null,null,null,"",""]
[null,null,null,null,null,null,null,null,null,null,null,null,null,null,null,"",""]
[null,null,null,null,null,null,null,null,null,null,null,null,null,null,null,"",""]
[null,null,null,null,null,null,null,null,null,null,null,null,null,null,null,"",""]
[null,null,null,null,null,null,null,null,null,null,null,null,null,null,null,"",""]
[null,null,null,null,null,null,null,null,null,null,null,null,null,null,null,"",""]
[null,null,null,null,null,null,null,null,null,null,null,null,null,null,null,"",""]
[null,null,null,null,null,null,null,null,null,null,null,null,null,null,null,"",""]
[null,null,null,null,null,null,null,null,null,null,null,null,null,null,null,"",""]
[null,null,null,null,null,null,null,null,null,null,null,null,null,null,null,"",""]
[null,null,null,null,null,null,null,null,null,null,null,null,null,null,null,"",""]
[null,null,null,null,null,null,null,null,null,null,null,null,null,null,null,"",""]
[null,null,null,null,null,null,null,null,null,null,null,null,null,null,null,"",""]
[null,null,null,null,null,null,null,null,null,null,null,null,null,null,null,"",""]
[null,null,null,null,null,null,null,null,null,null,null,null,null,null,null,"",""]
[null,null,null,null,null,null,null,null,null,null,null,null,null,null,null,"",""]
[null,null,null,null,null,null,null,null,null,null,null,null,null,null,null,"",""]
[null,null,null,null,null,null,null,null,null,null,null,null,null,null,null,"",""]
[null,null,null,null,null,null,null,null,null,null,null,null,null,null,null,"",""]
[null,null,null,null,null,null,null,null,null,null,null,null,null,null,null,"",""]
[null,null,null,null,null,null,null,null,null,null,null,null,null,null,null,"",""]
[null,null,null,null,null,null,null,null,null,null,null,null,null,null,null,"",""]
[null,null,null,null,null,null,null,null,null,null,null,null,null,null,null,"",""]
[null,null,null,null,null,null,null,null,null,null,null,null,null,null,null,"",""]
[null,null,null,null,null,null,null,null,null,null,null,null,null,null,null,"",""]
[null,null,null,null,null,null,null,null,null,null,null,null,null,null,null,"",""]
[null,null,null,null,null,null,null,null,null,null,null,null,null,null,null,"",""]
[null,null,null,null,null,null,null,null,null,null,null,null,null,null,null,"",""]
[null,null,null,null,null,null,null,null,null,null,null,null,null,null,null,"",""]
[null,null,null,null,null,null,null,null,null,null,null,null,null,null,null,"",""]
[null,null,null,null,null,null,null,null,null,null,null,null,null,null,null,"",""]
[null,null,null,null,null,null,null,null,null,null,null,null,null,null,null,"",""]
[null,null,null,null,null,null,null,null,null,null,null,null,null,null,null,"",""]
[null,null,null,null,null,null,null,null,null,null,null,null,null,null,null,"",""]
[null,null,null,null,null,null,null,null,null,null,null,null,null,null,null,"",""]
[null,null,null,null,null,null,null,null,null,null,null,null,null,null,null,"",""]
[null,null,null,null,null,null,null,null,null,null,null,null,null,null,null,"",""]
[null,null,null,null,null,null,null,null,null,null,null,null,null,null,null,"",""]
[null,null,null,null,null,null,null,null,null,null,null,null,null,null,null,"",""]
[null,null,null,null,null,null,null,null,null,null,null,null,null,null,null,"",""]
[null,null,null,null,null,null,null,null,null,null,null,null,null,null,null,"",""]
[null,null,null,null,null,null,null,null,null,null,null,null,null,null,null,"",""]
[null,null,null,null,null,null,null,null,null,null,null,null,null,null,null,"",""]
[null,null,null,null,null,null,null,null,null,null,null,null,null,null,null,"",""]
[null,null,null,null,null,null,null,null,null,null,null,null,null,null,null,"",""]
[null,null,null,null,null,null,null,null,null,null,null,null,null,null,null,"",""]
[null,null,null,null,null,null,null,null,null,null,null,null,null,null,null,"",""]
[null,null,null,null,null,null,null,null,null,null,null,null,null,null,null,"",""]
[null,null,null,null,null,null,null,null,null,null,null,null,null,null,null,"",""]
[null,null,null,null,null,null,null,null,null,null,null,null,null,null,null,"",""]
[null,null,null,null,null,null,null,null,null,null,null,null,null,null,null,"",""]
[null,null,null,null,null,null,null,null,null,null,null,null,null,null,null,"",""]
[null,null,null,null,null,null,null,null,null,null,null,null,null,null,null,"",""]
[null,null,null,null,null,null,null,null,null,null,null,null,null,null,null,"",""]
[null,null,null,null,null,null,null,null,null,null,null,null,null,null,null,"",""]
[null,null,null,null,null,null,null,null,null,null,null,null,null,null,null,"",""]
[null,null,null,null,null,null,null,null,null,null,null,null,null,null,null,"",""]
[null,null,null,null,null,null,null,null,null,null,null,null,null,null,null,"",""]
[null,null,null,null,null,null,null,null,null,null,null,null,null,null,null,"",""]
[null,null,null,null,null,null,null,null,null,null,null,null,null,null,null,"",""]
[null,null,null,null,null,null,null,null,null,null,null,null,null,null,null,"",""]
[null,null,null,null,null,null,null,null,null,null,null,null,null,null,null,"",""]
[null,null,null,null,null,null,null,null,null,null,null,null,null,null,null,"",""]
[null,null,null,null,null,null,null,null,null,null,null,null,null,null,null,"",""]
[null,null,null,null,null,null,null,null,null,null,null,null,null,null,null,"",""]
[null,null,null,null,null,null,null,null,null,null,null,null,null,null,null,"",""]
[null,null,null,null,null,null,null,null,null,null,null,null,null,null,null,"",""]
[null,null,null,null,null,null,null,null,null,null,null,null,null,null,null,"",""]
[null,null,null,null,null,null,null,null,null,null,null,null,null,null,null,"",""]
[null,null,null,null,null,null,null,null,null,null,null,null,null,null,null,"",""]
[null,null,null,null,null,null,null,null,null,null,null,null,null,null,null,"",""]
[null,null,null,null,null,null,null,null,null,null,null,null,null,null,null,"",""]
[null,null,null,null,null,null,null,null,null,null,null,null,null,null,null,"",""]
[null,null,null,null,null,null,null,null,null,null,null,null,null,null,null,"",""]
[null,null,null,null,null,null,null,null,null,null,null,null,null,null,null,"",""]
[null,null,null,null,null,null,null,null,null,null,null,null,null,null,null,"",""]
[null,null,null,null,null,null,null,null,null,null,null,null,null,null,null,"",""]
[null,null,null,null,null,null,null,null,null,null,null,null,null,null,null,"",""]
[null,null,null,null,null,null,null,null,null,null,null,null,null,null,null,"",""]
[null,null,null,null,null,null,null,null,null,null,null,null,null,null,null,"",""]
[null,null,null,null,null,null,null,null,null,null,null,null,null,null,null,"",""]
[null,null,null,null,null,null,null,null,null,null,null,null,null,null,null,"",""]
[null,null,null,null,null,null,null,null,null,null,null,null,null,null,null,"",""]
[null,null,null,null,null,null,null,null,null,null,null,null,null,null,null,"",""]
[null,null,null,null,null,null,null,null,null,null,null,null,null,null,null,"",""]
[null,null,null,null,null,null,null,null,null,null,null,null,null,null,null,"",""]
[null,null,null,null,null,null,null,null,null,null,null,null,null,null,null,"",""]
[null,null,null,null,null,null,null,null,null,null,null,null,null,null,null,"",""]
[null,null,null,null,null,null,null,null,null,null,null,null,null,null,null,"",""]
[null,null,null,null,null,null,null,null,null,null,null,null,null,null,null,"",""]
[null,null,null,null,null,null,null,null,null,null,null,null,null,null,null,"",""]
[null,null,null,null,null,null,null,null,null,null,null,null,null,null,null,"",""]
[null,null,null,null,null,null,null,null,null,null,null,null,null,null,null,"",""]
[null,null,null,null,null,null,null,null,null,null,null,null,null,null,null,"",""]
[null,null,null,null,null,null,null,null,null,null,null,null,null,null,null,"",""]
[null,null,null,null,null,null,null,null,null,null,null,null,null,null,null,"",""]
[null,null,null,null,null,null,null,null,null,null,null,null,null,null,null,"",""]
[null,null,null,null,null,null,null,null,null,null,null,null,null,null,null,"",""]
[null,null,null,null,null,null,null,null,null,null,null,null,null,null,null,"",""]
[null,null,null,null,null,null,null,null,null,null,null,null,null,null,null,"",""]
[null,null,null,null,null,null,null,null,null,null,null,null,null,null,null,"",""]
[null,null,null,null,null,null,null,null,null,null,null,null,null,null,null,"",""]
[null,null,null,null,null,null,null,null,null,null,null,null,null,null,null,"",""]
[null,null,null,null,null,null,null,null,null,null,null,null,null,null,null,"",""]
[null,null,null,null,null,null,null,null,null,null,null,null,null,null,null,"",""]
[null,null,null,null,null,null,null,null,null,null,null,null,null,null,null,"",""]
[null,null,null,null,null,null,null,null,null,null,null,null,null,null,null,"",""]
[null,null,null,null,null,null,null,null,null,null,null,null,null,null,null,"",""]
[null,null,null,null,null,null,null,null,null,null,null,null,null,null,null,"",""]
[null,null,null,null,null,null,null,null,null,null,null,null,null,null,null,"",""]
[null,null,null,null,null,null,null,null,null,null,null,null,null,null,null,"",""]
[null,null,null,null,null,null,null,null,null,null,null,null,null,null,null,"",""]
[null,null,null,null,null,null,null,null,null,null,null,null,null,null,null,"",""]
[null,null,null,null,null,null,null,null,null,null,null,null,null,null,null,"",""]
[null,null,null,null,null,null,null,null,null,null,null,null,null,null,null,"",""]
[null,null,null,null,null,null,null,null,null,null,null,null,null,null,null,"",""]
[null,null,null,null,null,null,null,null,null,null,null,null,null,null,null,"",""]
[null,null,null,null,null,null,null,null,null,null,null,null,null,null,null,"",""]
[null,null,null,null,null,null,null,null,null,null,null,null,null,null,null,"",""]
[null,null,null,null,null,null,null,null,null,null,null,null,null,null,null,"",""]
[null,null,null,null,null,null,null,null,null,null,null,null,null,null,null,"",""]
[null,null,null,null,null,null,null,null,null,null,null,null,null,null,null,"",""]
[null,null,null,null,null,null,null,null,null,null,null,null,null,null,null,"",""]
[null,null,null,null,null,null,null,null,null,null,null,null,null,null,null,"",""]
[null,null,null,null,null,null,null,null,null,null,null,null,null,null,null,"",""]
[null,null,null,null,null,null,null,null,null,null,null,null,null,null,null,"",""]
[null,null,null,null,null,null,null,null,null,null,null,null,null,null,null,"",""]
[null,null,null,null,null,null,null,null,null,null,null,null,null,null,null,"",""]
[null,null,null,null,null,null,null,null,null,null,null,null,null,null,null,"",""]
[null,null,null,null,null,null,null,null,null,null,null,null,null,null,null,"",""]
[null,null,null,null,null,null,null,null,null,null,null,null,null,null,null,"",""]
[null,null,null,null,null,null,null,null,null,null,null,null,null,null,null,"",""]
[null,null,null,null,null,null,null,null,null,null,null,null,null,null,null,"",""]
[null,null,null,null,null,null,null,null,null,null,null,null,null,null,null,"",""]
[null,null,null,null,null,null,null,null,null,null,null,null,null,null,null,"",""]
[null,null,null,null,null,null,null,null,null,null,null,null,null,null,null,"",""]
[null,null,null,null,null,null,null,null,null,null,null,null,null,null,null,"",""]
[null,null,null,null,null,null,null,null,null,null,null,null,null,null,null,"",""]
[null,null,null,null,null,null,null,null,null,null,null,null,null,null,null,"",""]
[null,null,null,null,null,null,null,null,null,null,null,null,null,null,null,"",""]
[null,null,null,null,null,null,null,null,null,null,null,null,null,null,null,"",""]
[null,null,null,null,null,null,null,null,null,null,null,null,null,null,null,"",""]
[null,null,null,null,null,null,null,null,null,null,null,null,null,null,null,"",""]
[null,null,null,null,null,null,null,null,null,null,null,null,null,null,null,"",""]
[null,null,null,null,null,null,null,null,null,null,null,null,null,null,null,"",""]
[null,null,null,null,null,null,null,null,null,null,null,null,null,null,null,"",""]
[null,null,null,null,null,null,null,null,null,null,null,null,null,null,null,"",""]
[null,null,null,null,null,null,null,null,null,null,null,null,null,null,null,"",""]
[null,null,null,null,null,null,null,null,null,null,null,null,null,null,null,"",""]
[null,null,null,null,null,null,null,null,null,null,null,null,null,null,null,"",""]
[null,null,null,null,null,null,null,null,null,null,null,null,null,null,null,"",""]
[null,null,null,null,null,null,null,null,null,null,null,null,null,null,null,"",""]
[null,null,null,null,null,null,null,null,null,null,null,null,null,null,null,"",""]
[null,null,null,null,null,null,null,null,null,null,null,null,null,null,null,"",""]
[null,null,null,null,null,null,null,null,null,null,null,null,null,null,null,"",""]
[null,null,null,null,null,null,null,null,null,null,null,null,null,null,null,"",""]
[null,null,null,null,null,null,null,null,null,null,null,null,null,null,null,"",""]
[null,null,null,null,null,null,null,null,null,null,null,null,null,null,null,"",""]
[null,null,null,null,null,null,null,null,null,null,null,null,null,null,null,"",""]
[null,null,null,null,null,null,null,null,null,null,null,null,null,null,null,"",""]
[null,null,null,null,null,null,null,null,null,null,null,null,null,null,null,"",""]
[null,null,null,null,null,null,null,null,null,null,null,null,null,null,null,"",""]
[null,null,null,null,null,null,null,null,null,null,null,null,null,null,null,"",""]
[null,null,null,null,null,null,null,null,null,null,null,null,null,null,null,"",""]
[null,null,null,null,null,null,null,null,null,null,null,null,null,null,null,"",""]
[null,null,null,null,null,null,null,null,null,null,null,null,null,null,null,"",""]
[null,null,null,null,null,null,null,null,null,null,null,null,null,null,null,"",""]
[null,null,null,null,null,null,null,null,null,null,null,null,null,null,null,"",""]
[null,null,null,null,null,null,null,null,null,null,null,null,null,null,null,"",""]
[null,null,null,null,null,null,null,null,null,null,null,null,null,null,null,"",""]
[null,null,null,null,null,null,null,null,null,null,null,null,null,null,null,"",""]
[null,null,null,null,null,null,null,null,null,null,null,null,null,null,null,"",""]
[null,null,null,null,null,null,null,null,null,null,null,null,null,null,null,"",""]
[null,null,null,null,null,null,null,null,null,null,null,null,null,null,null,"",""]
[null,null,null,null,null,null,null,null,null,null,null,null,null,null,null,"",""]
[null,null,null,null,null,null,null,null,null,null,null,null,null,null,null,"",""]
[null,null,null,null,null,null,null,null,null,null,null,null,null,null,null,"",""]
[null,null,null,null,null,null,null,null,null,null,null,null,null,null,null,"",""]
[null,null,null,null,null,null,null,null,null,null,null,null,null,null,null,"",""]
[null,null,null,null,null,null,null,null,null,null,null,null,null,null,null,"",""]
[null,null,null,null,null,null,null,null,null,null,null,null,null,null,null,"",""]
[null,null,null,null,null,null,null,null,null,null,null,null,null,null,null,"",""]
[null,null,null,null,null,null,null,null,null,null,null,null,null,null,null,"",""]
[null,null,null,null,null,null,null,null,null,null,null,null,null,null,null,"",""]
[null,null,null,null,null,null,null,null,null,null,null,null,null,null,null,"",""]
[null,null,null,null,null,null,null,null,null,null,null,null,null,null,null,"",""]
[null,null,null,null,null,null,null,null,null,null,null,null,null,null,null,"",""]
[null,null,null,null,null,null,null,null,null,null,null,null,null,null,null,"",""]
[null,null,null,null,null,null,null,null,null,null,null,null,null,null,null,"",""]
[null,null,null,null,null,null,null,null,null,null,null,null,null,null,null,"",""]
[null,null,null,null,null,null,null,null,null,null,null,null,null,null,null,"",""]
[null,null,null,null,null,null,null,null,null,null,null,null,null,null,null,"",""]
[null,null,null,null,null,null,null,null,null,null,null,null,null,null,null,"",""]
[null,null,null,null,null,null,null,null,null,null,null,null,null,null,null,"",""]
[null,null,null,null,null,null,null,null,null,null,null,null,null,null,null,"",""]
[null,null,null,null,null,null,null,null,null,null,null,null,null,null,null,"",""]
[null,null,null,null,null,null,null,null,null,null,null,null,null,null,null,"",""]
[null,null,null,null,null,null,null,null,null,null,null,null,null,null,null,"",""]
[null,null,null,null,null,null,null,null,null,null,null,null,null,null,null,"",""]
[null,null,null,null,null,null,null,null,null,null,null,null,null,null,null,"",""]
[null,null,null,null,null,null,null,null,null,null,null,null,null,null,null,"",""]
[null,null,null,null,null,null,null,null,null,null,null,null,null,null,null,"",""]
[null,null,null,null,null,null,null,null,null,null,null,null,null,null,null,"",""]
[null,null,null,null,null,null,null,null,null,null,null,null,null,null,null,"",""]
[null,null,null,null,null,null,null,null,null,null,null,null,null,null,null,"",""]
[null,null,null,null,null,null,null,null,null,null,null,null,null,null,null,"",""]
[null,null,null,null,null,null,null,null,null,null,null,null,null,null,null,"",""]
[null,null,null,null,null,null,null,null,null,null,null,null,null,null,null,"",""]
[null,null,null,null,null,null,null,null,null,null,null,null,null,null,null,"",""]
[null,null,null,null,null,null,null,null,null,null,null,null,null,null,null,"",""]
[null,null,null,null,null,null,null,null,null,null,null,null,null,null,null,"",""]
[null,null,null,null,null,null,null,null,null,null,null,null,null,null,null,"",""]
[null,null,null,null,null,null,null,null,null,null,null,null,null,null,null,"",""]
[null,null,null,null,null,null,null,null,null,null,null,null,null,null,null,"",""]
[null,null,null,null,null,null,null,null,null,null,null,null,null,null,null,"",""]
[null,null,null,null,null,null,null,null,null,null,null,null,null,null,null,"",""]
[null,null,null,null,null,null,null,null,null,null,null,null,null,null,null,"",""]
[null,null,null,null,null,null,null,null,null,null,null,null,null,null,null,"",""]
[null,null,null,null,null,null,null,null,null,null,null,null,null,null,null,"",""]
[null,null,null,null,null,null,null,null,null,null,null,null,null,null,null,"",""]
[null,null,null,null,null,null,null,null,null,null,null,null,null,null,null,"",""]
[null,null,null,null,null,null,null,null,null,null,null,null,null,null,null,"",""]
[null,null,null,null,null,null,null,null,null,null,null,null,null,null,null,"",""]
[null,null,null,null,null,null,null,null,null,null,null,null,null,null,null,"",""]
[null,null,null,null,null,null,null,null,null,null,null,null,null,null,null,"",""]
[null,null,null,null,null,null,null,null,null,null,null,null,null,null,null,"",""]
[null,null,null,null,null,null,null,null,null,null,null,null,null,null,null,"",""]
[null,null,null,null,null,null,null,null,null,null,null,null,null,null,null,"",""]
[null,null,null,null,null,null,null,null,null,null,null,null,null,null,null,"",""]
[null,null,null,null,null,null,null,null,null,null,null,null,null,null,null,"",""]
[null,null,null,null,null,null,null,null,null,null,null,null,null,null,null,"",""]
[null,null,null,null,null,null,null,null,null,null,null,null,null,null,null,"",""]
[null,null,null,null,null,null,null,null,null,null,null,null,null,null,null,"",""]
[null,null,null,null,null,null,null,null,null,null,null,null,null,null,null,"",""]
[null,null,null,null,null,null,null,null,null,null,null,null,null,null,null,"",""]
[null,null,null,null,null,null,null,null,null,null,null,null,null,null,null,"",""]
[null,null,null,null,null,null,null,null,null,null,null,null,null,null,null,"",""]
[null,null,null,null,null,null,null,null,null,null,null,null,null,null,null,"",""]
[null,null,null,null,null,null,null,null,null,null,null,null,null,null,null,"",""]
[null,null,null,null,null,null,null,null,null,null,null,null,null,null,null,"",""]
[null,null,null,null,null,null,null,null,null,null,null,null,null,null,null,"",""]
[null,null,null,null,null,null,null,null,null,null,null,null,null,null,null,"",""]
[null,null,null,null,null,null,null,null,null,null,null,null,null,null,null,"",""]
[null,null,null,null,null,null,null,null,null,null,null,null,null,null,null,"",""]
[null,null,null,null,null,null,null,null,null,null,null,null,null,null,null,"",""]
[null,null,null,null,null,null,null,null,null,null,null,null,null,null,null,"",""]
[null,null,null,null,null,null,null,null,null,null,null,null,null,null,null,"",""]
[null,null,null,null,null,null,null,null,null,null,null,null,null,null,null,"",""]
[null,null,null,null,null,null,null,null,null,null,null,null,null,null,null,"",""]
[null,null,null,null,null,null,null,null,null,null,null,null,null,null,null,"",""]
[null,null,null,null,null,null,null,null,null,null,null,null,null,null,null,"",""]
[null,null,null,null,null,null,null,null,null,null,null,null,null,null,null,"",""]
[null,null,null,null,null,null,null,null,null,null,null,null,null,null,null,"",""]
[null,null,null,null,null,null,null,null,null,null,null,null,null,null,null,"",""]
[null,null,null,null,null,null,null,null,null,null,null,null,null,null,null,"",""]
[null,null,null,null,null,null,null,null,null,null,null,null,null,null,null,"",""]
[null,null,null,null,null,null,null,null,null,null,null,null,null,null,null,"",""]
[null,null,null,null,null,null,null,null,null,null,null,null,null,null,null,"",""]
[null,null,null,null,null,null,null,null,null,null,null,null,null,null,null,"",""]
[null,null,null,null,null,null,null,null,null,null,null,null,null,null,null,"",""]
[null,null,null,null,null,null,null,null,null,null,null,null,null,null,null,"",""]
[null,null,null,null,null,null,null,null,null,null,null,null,null,null,null,"",""]
[null,null,null,null,null,null,null,null,null,null,null,null,null,null,null,"",""]
[null,null,null,null,null,null,null,null,null,null,null,null,null,null,null,"",""]
[null,null,null,null,null,null,null,null,null,null,null,null,null,null,null,"",""]
[null,null,null,null,null,null,null,null,null,null,null,null,null,null,null,"",""]
[null,null,null,null,null,null,null,null,null,null,null,null,null,null,null,"",""]
[null,null,null,null,null,null,null,null,null,null,null,null,null,null,null,"",""]
[null,null,null,null,null,null,null,null,null,null,null,null,null,null,null,"",""]
[null,null,null,null,null,null,null,null,null,null,null,null,null,null,null,"",""]
[null,null,null,null,null,null,null,null,null,null,null,null,null,null,null,"",""]
[null,null,null,null,null,null,null,null,null,null,null,null,null,null,null,"",""]
[null,null,null,null,null,null,null,null,null,null,null,null,null,null,null,"",""]
[null,null,null,null,null,null,null,null,null,null,null,null,null,null,null,"",""]
[null,null,null,null,null,null,null,null,null,null,null,null,null,null,null,"",""]
[null,null,null,null,null,null,null,null,null,null,null,null,null,null,null,"",""]
[null,null,null,null,null,null,null,null,null,null,null,null,null,null,null,"",""]
[null,null,null,null,null,null,null,null,null,null,null,null,null,null,null,"",""]
[null,null,null,null,null,null,null,null,null,null,null,null,null,null,null,"",""]
[null,null,null,null,null,null,null,null,null,null,null,null,null,null,null,"",""]
[null,null,null,null,null,null,null,null,null,null,null,null,null,null,null,"",""]
[null,null,null,null,null,null,null,null,null,null,null,null,null,null,null,"",""]
[null,null,null,null,null,null,null,null,null,null,null,null,null,null,null,"",""]
[null,null,null,null,null,null,null,null,null,null,null,null,null,null,null,"",""]
[null,null,null,null,null,null,null,null,null,null,null,null,null,null,null,"",""]
[null,null,null,null,null,null,null,null,null,null,null,null,null,null,null,"",""]
[null,null,null,null,null,null,null,null,null,null,null,null,null,null,null,"",""]
[null,null,null,null,null,null,null,null,null,null,null,null,null,null,null,"",""]
[null,null,null,null,null,null,null,null,null,null,null,null,null,null,null,"",""]
[null,null,null,null,null,null,null,null,null,null,null,null,null,null,null,"",""]
[null,null,null,null,null,null,null,null,null,null,null,null,null,null,null,"",""]
[null,null,null,null,null,null,null,null,null,null,null,null,null,null,null,"",""]
[null,null,null,null,null,null,null,null,null,null,null,null,null,null,null,"",""]
[null,null,null,null,null,null,null,null,null,null,null,null,null,null,null,"",""]
[null,null,null,null,null,null,null,null,null,null,null,null,null,null,null,"",""]
[null,null,null,null,null,null,null,null,null,null,null,null,null,null,null,"",""]
[null,null,null,null,null,null,null,null,null,null,null,null,null,null,null,"",""]
[null,null,null,null,null,null,null,null,null,null,null,null,null,null,null,"",""]
[null,null,null,null,null,null,null,null,null,null,null,null,null,null,null,"",""]
[null,null,null,null,null,null,null,null,null,null,null,null,null,null,null,"",""]
[null,null,null,null,null,null,null,null,null,null,null,null,null,null,null,"",""]
[null,null,null,null,null,null,null,null,null,null,null,null,null,null,null,"",""]
[null,null,null,null,null,null,null,null,null,null,null,null,null,null,null,"",""]
[null,null,null,null,null,null,null,null,null,null,null,null,null,null,null,"",""]
[null,null,null,null,null,null,null,null,null,null,null,null,null,null,null,"",""]
[null,null,null,null,null,null,null,null,null,null,null,null,null,null,null,"",""]
[null,null,null,null,null,null,null,null,null,null,null,null,null,null,null,"",""]
[null,null,null,null,null,null,null,null,null,null,null,null,null,null,null,"",""]
[null,null,null,null,null,null,null,null,null,null,null,null,null,null,null,"",""]
[null,null,null,null,null,null,null,null,null,null,null,null,null,null,null,"",""]
[null,null,null,null,null,null,null,null,null,null,null,null,null,null,null,"",""]
[null,null,null,null,null,null,null,null,null,null,null,null,null,null,null,"",""]
[null,null,null,null,null,null,null,null,null,null,null,null,null,null,null,"",""]
[null,null,null,null,null,null,null,null,null,null,null,null,null,null,null,"",""]
[null,null,null,null,null,null,null,null,null,null,null,null,null,null,null,"",""]
[null,null,null,null,null,null,null,null,null,null,null,null,null,null,null,"",""]
[null,null,null,null,null,null,null,null,null,null,null,null,null,null,null,"",""]
[null,null,null,null,null,null,null,null,null,null,null,null,null,null,null,"",""]
[null,null,null,null,null,null,null,null,null,null,null,null,null,null,null,"",""]
[null,null,null,null,null,null,null,null,null,null,null,null,null,null,null,"",""]
[null,null,null,null,null,null,null,null,null,null,null,null,null,null,null,"",""]
[null,null,null,null,null,null,null,null,null,null,null,null,null,null,null,"",""]
[null,null,null,null,null,null,null,null,null,null,null,null,null,null,null,"",""]
[null,null,null,null,null,null,null,null,null,null,null,null,null,null,null,"",""]
[null,null,null,null,null,null,null,null,null,null,null,null,null,null,null,"",""]
[null,null,null,null,null,null,null,null,null,null,null,null,null,null,null,"",""]
[null,null,null,null,null,null,null,null,null,null,null,null,null,null,null,"",""]
[null,null,null,null,null,null,null,null,null,null,null,null,null,null,null,"",""]
[null,null,null,null,null,null,null,null,null,null,null,null,null,null,null,"",""]
[null,null,null,null,null,null,null,null,null,null,null,null,null,null,null,"",""]
[null,null,null,null,null,null,null,null,null,null,null,null,null,null,null,"",""]
[null,null,null,null,null,null,null,null,null,null,null,null,null,null,null,"",""]
[null,null,null,null,null,null,null,null,null,null,null,null,null,null,null,"",""]
[null,null,null,null,null,null,null,null,null,null,null,null,null,null,null,"",""]
[null,null,null,null,null,null,null,null,null,null,null,null,null,null,null,"",""]
[null,null,null,null,null,null,null,null,null,null,null,null,null,null,null,"",""]
[null,null,null,null,null,null,null,null,null,null,null,null,null,null,null,"",""]
[null,null,null,null,null,null,null,null,null,null,null,null,null,null,null,"",""]
[null,null,null,null,null,null,null,null,null,null,null,null,null,null,null,"",""]
[null,null,null,null,null,null,null,null,null,null,null,null,null,null,null,"",""]
[null,null,null,null,null,null,null,null,null,null,null,null,null,null,null,"",""]
[null,null,null,null,null,null,null,null,null,null,null,null,null,null,null,"",""]
[null,null,null,null,null,null,null,null,null,null,null,null,null,null,null,"",""]
[null,null,null,null,null,null,null,null,null,null,null,null,null,null,null,"",""]
[null,null,null,null,null,null,null,null,null,null,null,null,null,null,null,"",""]
[null,null,null,null,null,null,null,null,null,null,null,null,null,null,null,"",""]
[null,null,null,null,null,null,null,null,null,null,null,null,null,null,null,"",""]
[null,null,null,null,null,null,null,null,null,null,null,null,null,null,null,"",""]
[null,null,null,null,null,null,null,null,null,null,null,null,null,null,null,"",""]
[null,null,null,null,null,null,null,null,null,null,null,null,null,null,null,"",""]
[null,null,null,null,null,null,null,null,null,null,null,null,null,null,null,"",""]
[null,null,null,null,null,null,null,null,null,null,null,null,null,null,null,"",""]
[null,null,null,null,null,null,null,null,null,null,null,null,null,null,null,"",""]
[null,null,null,null,null,null,null,null,null,null,null,null,null,null,null,"",""]
[null,null,null,null,null,null,null,null,null,null,null,null,null,null,null,"",""]
[null,null,null,null,null,null,null,null,null,null,null,null,null,null,null,"",""]
[null,null,null,null,null,null,null,null,null,null,null,null,null,null,null,"",""]
[null,null,null,null,null,null,null,null,null,null,null,null,null,null,null,"",""]
[null,null,null,null,null,null,null,null,null,null,null,null,null,null,null,"",""]
[null,null,null,null,null,null,null,null,null,null,null,null,null,null,null,"",""]
[null,null,null,null,null,null,null,null,null,null,null,null,null,null,null,"",""]
[null,null,null,null,null,null,null,null,null,null,null,null,null,null,null,"",""]
[null,null,null,null,null,null,null,null,null,null,null,null,null,null,null,"",""]
[null,null,null,null,null,null,null,null,null,null,null,null,null,null,null,"",""]
[null,null,null,null,null,null,null,null,null,null,null,null,null,null,null,"",""]
[null,null,null,null,null,null,null,null,null,null,null,null,null,null,null,"",""]
[null,null,null,null,null,null,null,null,null,null,null,null,null,null,null,"",""]
[null,null,null,null,null,null,null,null,null,null,null,null,null,null,null,"",""]
[null,null,null,null,null,null,null,null,null,null,null,null,null,null,null,"",""]
[null,null,null,null,null,null,null,null,null,null,null,null,null,null,null,"",""]
[null,null,null,null,null,null,null,null,null,null,null,null,null,null,null,"",""]
[null,null,null,null,null,null,null,null,null,null,null,null,null,null,null,"",""]
[null,null,null,null,null,null,null,null,null,null,null,null,null,null,null,"",""]
[null,null,null,null,null,null,null,null,null,null,null,null,null,null,null,"",""]
[null,null,null,null,null,null,null,null,null,null,null,null,null,null,null,"",""]
[null,null,null,null,null,null,null,null,null,null,null,null,null,null,null,"",""]
[null,null,null,null,null,null,null,null,null,null,null,null,null,null,null,"",""]
[null,null,null,null,null,null,null,null,null,null,null,null,null,null,null,"",""]
[null,null,null,null,null,null,null,null,null,null,null,null,null,null,null,"",""]
[null,null,null,null,null,null,null,null,null,null,null,null,null,null,null,"",""]
[null,null,null,null,null,null,null,null,null,null,null,null,null,null,null,"",""]
[null,null,null,null,null,null,null,null,null,null,null,null,null,null,null,"",""]
[null,null,null,null,null,null,null,null,null,null,null,null,null,null,null,"",""]
[null,null,null,null,null,null,null,null,null,null,null,null,null,null,null,"",""]
[null,null,null,null,null,null,null,null,null,null,null,null,null,null,null,"",""]
[null,null,null,null,null,null,null,null,null,null,null,null,null,null,null,"",""]
[null,null,null,null,null,null,null,null,null,null,null,null,null,null,null,"",""]
[null,null,null,null,null,null,null,null,null,null,null,null,null,null,null,"",""]
[null,null,null,null,null,null,null,null,null,null,null,null,null,null,null,"",""]
[null,null,null,null,null,null,null,null,null,null,null,null,null,null,null,"",""]
[null,null,null,null,null,null,null,null,null,null,null,null,null,null,null,"",""]
[null,null,null,null,null,null,null,null,null,null,null,null,null,null,null,"",""]
[null,null,null,null,null,null,null,null,null,null,null,null,null,null,null,"",""]
[null,null,null,null,null,null,null,null,null,null,null,null,null,null,null,"",""]
[null,null,null,null,null,null,null,null,null,null,null,null,null,null,null,"",""]
[null,null,null,null,null,null,null,null,null,null,null,null,null,null,null,"",""]
[null,null,null,null,null,null,null,null,null,null,null,null,null,null,null,"",""]
[null,null,null,null,null,null,null,null,null,null,null,null,null,null,null,"",""]
[null,null,null,null,null,null,null,null,null,null,null,null,null,null,null,"",""]
[null,null,null,null,null,null,null,null,null,null,null,null,null,null,null,"",""]
[null,null,null,null,null,null,null,null,null,null,null,null,null,null,null,"",""]
[null,null,null,null,null,null,null,null,null,null,null,null,null,null,null,"",""]
[null,null,null,null,null,null,null,null,null,null,null,null,null,null,null,"",""]
[null,null,null,null,null,null,null,null,null,null,null,null,null,null,null,"",""]
[null,null,null,null,null,null,null,null,null,null,null,null,null,null,null,"",""]
[null,null,null,null,null,null,null,null,null,null,null,null,null,null,null,"",""]
[null,null,null,null,null,null,null,null,null,null,null,null,null,null,null,"",""]
[null,null,null,null,null,null,null,null,null,null,null,null,null,null,null,"",""]
[null,null,null,null,null,null,null,null,null,null,null,null,null,null,null,"",""]
[null,null,null,null,null,null,null,null,null,null,null,null,null,null,null,"",""]
[null,null,null,null,null,null,null,null,null,null,null,null,null,null,null,"",""]
[null,null,null,null,null,null,null,null,null,null,null,null,null,null,null,"",""]
[null,null,null,null,null,null,null,null,null,null,null,null,null,null,null,"",""]
[null,null,null,null,null,null,null,null,null,null,null,null,null,null,null,"",""]
[null,null,null,null,null,null,null,null,null,null,null,null,null,null,null,"",""]
[null,null,null,null,null,null,null,null,null,null,null,null,null,null,null,"",""]
[null,null,null,null,null,null,null,null,null,null,null,null,null,null,null,"",""]
[null,null,null,null,null,null,null,null,null,null,null,null,null,null,null,"",""]
[null,null,null,null,null,null,null,null,null,null,null,null,null,null,null,"",""]
[null,null,null,null,null,null,null,null,null,null,null,null,null,null,null,"",""]
[null,null,null,null,null,null,null,null,null,null,null,null,null,null,null,"",""]
[null,null,null,null,null,null,null,null,null,null,null,null,null,null,null,"",""]
[null,null,null,null,null,null,null,null,null,null,null,null,null,null,null,"",""]
[null,null,null,null,null,null,null,null,null,null,null,null,null,null,null,"",""]
[null,null,null,null,null,null,null,null,null,null,null,null,null,null,null,"",""]
[null,null,null,null,null,null,null,null,null,null,null,null,null,null,null,"",""]
[null,null,null,null,null,null,null,null,null,null,null,null,null,null,null,"",""]
[null,null,null,null,null,null,null,null,null,null,null,null,null,null,null,"",""]
[null,null,null,null,null,null,null,null,null,null,null,null,null,null,null,"",""]
[null,null,null,null,null,null,null,null,null,null,null,null,null,null,null,"",""]
[null,null,null,null,null,null,null,null,null,null,null,null,null,null,null,"",""]
[null,null,null,null,null,null,null,null,null,null,null,null,null,null,null,"",""]
[null,null,null,null,null,null,null,null,null,null,null,null,null,null,null,"",""]
[null,null,null,null,null,null,null,null,null,null,null,null,null,null,null,"",""]
[null,null,null,null,null,null,null,null,null,null,null,null,null,null,null,"",""]
[null,null,null,null,null,null,null,null,null,null,null,null,null,null,null,"",""]
[null,null,null,null,null,null,null,null,null,null,null,null,null,null,null,"",""]
[null,null,null,null,null,null,null,null,null,null,null,null,null,null,null,"",""]
[null,null,null,null,null,null,null,null,null,null,null,null,null,null,null,"",""]
[null,null,null,null,null,null,null,null,null,null,null,null,null,null,null,"",""]
[null,null,null,null,null,null,null,null,null,null,null,null,null,null,null,"",""]
[null,null,null,null,null,null,null,null,null,null,null,null,null,null,null,"",""]
[null,null,null,null,null,null,null,null,null,null,null,null,null,null,null,"",""]
[null,null,null,null,null,null,null,null,null,null,null,null,null,null,null,"",""]
[null,null,null,null,null,null,null,null,null,null,null,null,null,null,null,"",""]
[null,null,null,null,null,null,null,null,null,null,null,null,null,null,null,"",""]
[null,null,null,null,null,null,null,null,null,null,null,null,null,null,null,"",""]
[null,null,null,null,null,null,null,null,null,null,null,null,null,null,null,"",""]
[null,null,null,null,null,null,null,null,null,null,null,null,null,null,null,"",""]
[null,null,null,null,null,null,null,null,null,null,null,null,null,null,null,"",""]
[null,null,null,null,null,null,null,null,null,null,null,null,null,null,null,"",""]
[null,null,null,null,null,null,null,null,null,null,null,null,null,null,null,"",""]
[null,null,null,null,null,null,null,null,null,null,null,null,null,null,null,"",""]
[null,null,null,null,null,null,null,null,null,null,null,null,null,null,null,"",""]
[null,null,null,null,null,null,null,null,null,null,null,null,null,null,null,"",""]
[null,null,null,null,null,null,null,null,null,null,null,null,null,null,null,"",""]
[null,null,null,null,null,null,null,null,null,null,null,null,null,null,null,"",""]
[null,null,null,null,null,null,null,null,null,null,null,null,null,null,null,"",""]
[null,null,null,null,null,null,null,null,null,null,null,null,null,null,null,"",""]
[null,null,null,null,null,null,null,null,null,null,null,null,null,null,null,"",""]
[null,null,null,null,null,null,null,null,null,null,null,null,null,null,null,"",""]
[null,null,null,null,null,null,null,null,null,null,null,null,null,null,null,"",""]
[null,null,null,null,null,null,null,null,null,null,null,null,null,null,null,"",""]
[null,null,null,null,null,null,null,null,null,null,null,null,null,null,null,"",""]
[null,null,null,null,null,null,null,null,null,null,null,null,null,null,null,"",""]
[null,null,null,null,null,null,null,null,null,null,null,null,null,null,null,"",""]
[null,null,null,null,null,null,null,null,null,null,null,null,null,null,null,"",""]
[null,null,null,null,null,null,null,null,null,null,null,null,null,null,null,"",""]
[null,null,null,null,null,null,null,null,null,null,null,null,null,null,null,"",""]
[null,null,null,null,null,null,null,null,null,null,null,null,null,null,null,"",""]
[null,null,null,null,null,null,null,null,null,null,null,null,null,null,null,"",""]
[null,null,null,null,null,null,null,null,null,null,null,null,null,null,null,"",""]
[null,null,null,null,null,null,null,null,null,null,null,null,null,null,null,"",""]
[null,null,null,null,null,null,null,null,null,null,null,null,null,null,null,"",""]
[null,null,null,null,null,null,null,null,null,null,null,null,null,null,null,"",""]
[null,null,null,null,null,null,null,null,null,null,null,null,null,null,null,"",""]
[null,null,null,null,null,null,null,null,null,null,null,null,null,null,null,"",""]
[null,null,null,null,null,null,null,null,null,null,null,null,null,null,null,"",""]
[null,null,null,null,null,null,null,null,null,null,null,null,null,null,null,"",""]
[null,null,null,null,null,null,null,null,null,null,null,null,null,null,null,"",""]
[null,null,null,null,null,null,null,null,null,null,null,null,null,null,null,"",""]
[null,null,null,null,null,null,null,null,null,null,null,null,null,null,null,"",""]
[null,null,null,null,null,null,null,null,null,null,null,null,null,null,null,"",""]
[null,null,null,null,null,null,null,null,null,null,null,null,null,null,null,"",""]
[null,null,null,null,null,null,null,null,null,null,null,null,null,null,null,"",""]
[null,null,null,null,null,null,null,null,null,null,null,null,null,null,null,"",""]
[null,null,null,null,null,null,null,null,null,null,null,null,null,null,null,"",""]
[null,null,null,null,null,null,null,null,null,null,null,null,null,null,null,"",""]
[null,null,null,null,null,null,null,null,null,null,null,null,null,null,null,"",""]
[null,null,null,null,null,null,null,null,null,null,null,null,null,null,null,"",""]
[null,null,null,null,null,null,null,null,null,null,null,null,null,null,null,"",""]
[null,null,null,null,null,null,null,null,null,null,null,null,null,null,null,"",""]
[null,null,null,null,null,null,null,null,null,null,null,null,null,null,null,"",""]
[null,null,null,null,null,null,null,null,null,null,null,null,null,null,null,"",""]
[null,null,null,null,null,null,null,null,null,null,null,null,null,null,null,"",""]
[null,null,null,null,null,null,null,null,null,null,null,null,null,null,null,"",""]
[null,null,null,null,null,null,null,null,null,null,null,null,null,null,null,"",""]
[null,null,null,null,null,null,null,null,null,null,null,null,null,null,null,"",""]
[null,null,null,null,null,null,null,null,null,null,null,null,null,null,null,"",""]
[null,null,null,null,null,null,null,null,null,null,null,null,null,null,null,"",""]
[null,null,null,null,null,null,null,null,null,null,null,null,null,null,null,"",""]
[null,null,null,null,null,null,null,null,null,null,null,null,null,null,null,"",""]
[null,null,null,null,null,null,null,null,null,null,null,null,null,null,null,"",""]
[null,null,null,null,null,null,null,null,null,null,null,null,null,null,null,"",""]
[null,null,null,null,null,null,null,null,null,null,null,null,null,null,null,"",""]
[null,null,null,null,null,null,null,null,null,null,null,null,null,null,null,"",""]
[null,null,null,null,null,null,null,null,null,null,null,null,null,null,null,"",""]
[null,null,null,null,null,null,null,null,null,null,null,null,null,null,null,"",""]
[null,null,null,null,null,null,null,null,null,null,null,null,null,null,null,"",""]
[null,null,null,null,null,null,null,null,null,null,null,null,null,null,null,"",""]
[null,null,null,null,null,null,null,null,null,null,null,null,null,null,null,"",""]
[null,null,null,null,null,null,null,null,null,null,null,null,null,null,null,"",""]
[null,null,null,null,null,null,null,null,null,null,null,null,null,null,null,"",""]
[null,null,null,null,null,null,null,null,null,null,null,null,null,null,null,"",""]
[null,null,null,null,null,null,null,null,null,null,null,null,null,null,null,"",""]
[null,null,null,null,null,null,null,null,null,null,null,null,null,null,null,"",""]
[null,null,null,null,null,null,null,null,null,null,null,null,null,null,null,"",""]
[null,null,null,null,null,null,null,null,null,null,null,null,null,null,null,"",""]
[null,null,null,null,null,null,null,null,null,null,null,null,null,null,null,"",""]
[null,null,null,null,null,null,null,null,null,null,null,null,null,null,null,"",""]
[null,null,null,null,null,null,null,null,null,null,null,null,null,null,null,"",""]
[null,null,null,null,null,null,null,null,null,null,null,null,null,null,null,"",""]
[null,null,null,null,null,null,null,null,null,null,null,null,null,null,null,"",""]
[null,null,null,null,null,null,null,null,null,null,null,null,null,null,null,"",""]
[null,null,null,null,null,null,null,null,null,null,null,null,null,null,null,"",""]
[null,null,null,null,null,null,null,null,null,null,null,null,null,null,null,"",""]
[null,null,null,null,null,null,null,null,null,null,null,null,null,null,null,"",""]
[null,null,null,null,null,null,null,null,null,null,null,null,null,null,null,"",""]
[null,null,null,null,null,null,null,null,null,null,null,null,null,null,null,"",""]
[null,null,null,null,null,null,null,null,null,null,null,null,null,null,null,"",""]
[null,null,null,null,null,null,null,null,null,null,null,null,null,null,null,"",""]
[null,null,null,null,null,null,null,null,null,null,null,null,null,null,null,"",""]
[null,null,null,null,null,null,null,null,null,null,null,null,null,null,null,"",""]
[null,null,null,null,null,null,null,null,null,null,null,null,null,null,null,"",""]
[null,null,null,null,null,null,null,null,null,null,null,null,null,null,null,"",""]
[null,null,null,null,null,null,null,null,null,null,null,null,null,null,null,"",""]
[null,null,null,null,null,null,null,null,null,null,null,null,null,null,null,"",""]
[null,null,null,null,null,null,null,null,null,null,null,null,null,null,null,"",""]
[null,null,null,null,null,null,null,null,null,null,null,null,null,null,null,"",""]
[null,null,null,null,null,null,null,null,null,null,null,null,null,null,null,"",""]
[null,null,null,null,null,null,null,null,null,null,null,null,null,null,null,"",""]
[null,null,null,null,null,null,null,null,null,null,null,null,null,null,null,"",""]
[null,null,null,null,null,null,null,null,null,null,null,null,null,null,null,"",""]
[null,null,null,null,null,null,null,null,null,null,null,null,null,null,null,"",""]
[null,null,null,null,null,null,null,null,null,null,null,null,null,null,null,"",""]
[null,null,null,null,null,null,null,null,null,null,null,null,null,null,null,"",""]
[null,null,null,null,null,null,null,null,null,null,null,null,null,null,null,"",""]
[null,null,null,null,null,null,null,null,null,null,null,null,null,null,null,"",""]
[null,null,null,null,null,null,null,null,null,null,null,null,null,null,null,"",""]
[null,null,null,null,null,null,null,null,null,null,null,null,null,null,null,"",""]
[null,null,null,null,null,null,null,null,null,null,null,null,null,null,null,"",""]
[null,null,null,null,null,null,null,null,null,null,null,null,null,null,null,"",""]
[null,null,null,null,null,null,null,null,null,null,null,null,null,null,null,"",""]
[null,null,null,null,null,null,null,null,null,null,null,null,null,null,null,"",""]
[null,null,null,null,null,null,null,null,null,null,null,null,null,null,null,"",""]
[null,null,null,null,null,null,null,null,null,null,null,null,null,null,null,"",""]
[null,null,null,null,null,null,null,null,null,null,null,null,null,null,null,"",""]
[null,null,null,null,null,null,null,null,null,null,null,null,null,null,null,"",""]
[null,null,null,null,null,null,null,null,null,null,null,null,null,null,null,"",""]
[null,null,null,null,null,null,null,null,null,null,null,null,null,null,null,"",""]
[null,null,null,null,null,null,null,null,null,null,null,null,null,null,null,"",""]
[null,null,null,null,null,null,null,null,null,null,null,null,null,null,null,"",""]
[null,null,null,null,null,null,null,null,null,null,null,null,null,null,null,"",""]
[null,null,null,null,null,null,null,null,null,null,null,null,null,null,null,"",""]
[null,null,null,null,null,null,null,null,null,null,null,null,null,null,null,"",""]
[null,null,null,null,null,null,null,null,null,null,null,null,null,null,null,"",""]
[null,null,null,null,null,null,null,null,null,null,null,null,null,null,null,"",""]
[null,null,null,null,null,null,null,null,null,null,null,null,null,null,null,"",""]
[null,null,null,null,null,null,null,null,null,null,null,null,null,null,null,"",""]
[null,null,null,null,null,null,null,null,null,null,null,null,null,null,null,"",""]
[null,null,null,null,null,null,null,null,null,null,null,null,null,null,null,"",""]
[null,null,null,null,null,null,null,null,null,null,null,null,null,null,null,"",""]
[null,null,null,null,null,null,null,null,null,null,null,null,null,null,null,"",""]
[null,null,null,null,null,null,null,null,null,null,null,null,null,null,null,"",""]
[null,null,null,null,null,null,null,null,null,null,null,null,null,null,null,"",""]
[null,null,null,null,null,null,null,null,null,null,null,null,null,null,null,"",""]
[null,null,null,null,null,null,null,null,null,null,null,null,null,null,null,"",""]
[null,null,null,null,null,null,null,null,null,null,null,null,null,null,null,"",""]
[null,null,null,null,null,null,null,null,null,null,null,null,null,null,null,"",""]
[null,null,null,null,null,null,null,null,null,null,null,null,null,null,null,"",""]
[null,null,null,null,null,null,null,null,null,null,null,null,null,null,null,"",""]
[null,null,null,null,null,null,null,null,null,null,null,null,null,null,null,"",""]
[null,null,null,null,null,null,null,null,null,null,null,null,null,null,null,"",""]
[null,null,null,null,null,null,null,null,null,null,null,null,null,null,null,"",""]
[null,null,null,null,null,null,null,null,null,null,null,null,null,null,null,"",""]
[null,null,null,null,null,null,null,null,null,null,null,null,null,null,null,"",""]
[null,null,null,null,null,null,null,null,null,null,null,null,null,null,null,"",""]
[null,null,null,null,null,null,null,null,null,null,null,null,null,null,null,"",""]
[null,null,null,null,null,null,null,null,null,null,null,null,null,null,null,"",""]
[null,null,null,null,null,null,null,null,null,null,null,null,null,null,null,"",""]
[null,null,null,null,null,null,null,null,null,null,null,null,null,null,null,"",""]
[null,null,null,null,null,null,null,null,null,null,null,null,null,null,null,"",""]
[null,null,null,null,null,null,null,null,null,null,null,null,null,null,null,"",""]
[null,null,null,null,null,null,null,null,null,null,null,null,null,null,null,"",""]
[null,null,null,null,null,null,null,null,null,null,null,null,null,null,null,"",""]
[null,null,null,null,null,null,null,null,null,null,null,null,null,null,null,"",""]
[null,null,null,null,null,null,null,null,null,null,null,null,null,null,null,"",""]
[null,null,null,null,null,null,null,null,null,null,null,null,null,null,null,"",""]
[null,null,null,null,null,null,null,null,null,null,null,null,null,null,null,"",""]
[null,null,null,null,null,null,null,null,null,null,null,null,null,null,null,"",""]
[null,null,null,null,null,null,null,null,null,null,null,null,null,null,null,"",""]
[null,null,null,null,null,null,null,null,null,null,null,null,null,null,null,"",""]
[null,null,null,null,null,null,null,null,null,null,null,null,null,null,null,"",""]
[null,null,null,null,null,null,null,null,null,null,null,null,null,null,null,"",""]
[null,null,null,null,null,null,null,null,null,null,null,null,null,null,null,"",""]
[null,null,null,null,null,null,null,null,null,null,null,null,null,null,null,"",""]
[null,null,null,null,null,null,null,null,null,null,null,null,null,null,null,"",""]
[null,null,null,null,null,null,null,null,null,null,null,null,null,null,null,"",""]
[null,null,null,null,null,null,null,null,null,null,null,null,null,null,null,"",""]
[null,null,null,null,null,null,null,null,null,null,null,null,null,null,null,"",""]
[null,null,null,null,null,null,null,null,null,null,null,null,null,null,null,"",""]
[null,null,null,null,null,null,null,null,null,null,null,null,null,null,null,"",""]
[null,null,null,null,null,null,null,null,null,null,null,null,null,null,null,"",""]
[null,null,null,null,null,null,null,null,null,null,null,null,null,null,null,"",""]
[null,null,null,null,null,null,null,null,null,null,null,null,null,null,null,"",""]
[null,null,null,null,null,null,null,null,null,null,null,null,null,null,null,"",""]
[null,null,null,null,null,null,null,null,null,null,null,null,null,null,null,"",""]
[null,null,null,null,null,null,null,null,null,null,null,null,null,null,null,"",""]
[null,null,null,null,null,null,null,null,null,null,null,null,null,null,null,"",""]
[null,null,null,null,null,null,null,null,null,null,null,null,null,null,null,"",""]
[null,null,null,null,null,null,null,null,null,null,null,null,null,null,null,"",""]
[null,null,null,null,null,null,null,null,null,null,null,null,null,null,null,"",""]
[null,null,null,null,null,null,null,null,null,null,null,null,null,null,null,"",""]
[null,null,null,null,null,null,null,null,null,null,null,null,null,null,null,"",""]
[null,null,null,null,null,null,null,null,null,null,null,null,null,null,null,"",""]
[null,null,null,null,null,null,null,null,null,null,null,null,null,null,null,"",""]
[null,null,null,null,null,null,null,null,null,null,null,null,null,null,null,"",""]
[null,null,null,null,null,null,null,null,null,null,null,null,null,null,null,"",""]
[null,null,null,null,null,null,null,null,null,null,null,null,null,null,null,"",""]
[null,null,null,null,null,null,null,null,null,null,null,null,null,null,null,"",""]
[null,null,null,null,null,null,null,null,null,null,null,null,null,null,null,"",""]
[null,null,null,null,null,null,null,null,null,null,null,null,null,null,null,"",""]
[null,null,null,null,null,null,null,null,null,null,null,null,null,null,null,"",""]
[null,null,null,null,null,null,null,null,null,null,null,null,null,null,null,"",""]
[null,null,null,null,null,null,null,null,null,null,null,null,null,null,null,"",""]
[null,null,null,null,null,null,null,null,null,null,null,null,null,null,null,"",""]
[null,null,null,null,null,null,null,null,null,null,null,null,null,null,null,"",""]
[null,null,null,null,null,null,null,null,null,null,null,null,null,null,null,"",""]
[null,null,null,null,null,null,null,null,null,null,null,null,null,null,null,"",""]
[null,null,null,null,null,null,null,null,null,null,null,null,null,null,null,"",""]
[null,null,null,null,null,null,null,null,null,null,null,null,null,null,null,"",""]
[null,null,null,null,null,null,null,null,null,null,null,null,null,null,null,"",""]
[null,null,null,null,null,null,null,null,null,null,null,null,null,null,null,"",""]
[null,null,null,null,null,null,null,null,null,null,null,null,null,null,null,"",""]
[null,null,null,null,null,null,null,null,null,null,null,null,null,null,null,"",""]
[null,null,null,null,null,null,null,null,null,null,null,null,null,null,null,"",""]
[null,null,null,null,null,null,null,null,null,null,null,null,null,null,null,"",""]
[null,null,null,null,null,null,null,null,null,null,null,null,null,null,null,"",""]
[null,null,null,null,null,null,null,null,null,null,null,null,null,null,null,"",""]
[null,null,null,null,null,null,null,null,null,null,null,null,null,null,null,"",""]
[null,null,null,null,null,null,null,null,null,null,null,null,null,null,null,"",""]
[null,null,null,null,null,null,null,null,null,null,null,null,null,null,null,"",""]
[null,null,null,null,null,null,null,null,null,null,null,null,null,null,null,"",""]
[null,null,null,null,null,null,null,null,null,null,null,null,null,null,null,"",""]
[null,null,null,null,null,null,null,null,null,null,null,null,null,null,null,"",""]
[null,null,null,null,null,null,null,null,null,null,null,null,null,null,null,"",""]
[null,null,null,null,null,null,null,null,null,null,null,null,null,null,null,"",""]
[null,null,null,null,null,null,null,null,null,null,null,null,null,null,null,"",""]
[null,null,null,null,null,null,null,null,null,null,null,null,null,null,null,"",""]
[null,null,null,null,null,null,null,null,null,null,null,null,null,null,null,"",""]
[null,null,null,null,null,null,null,null,null,null,null,null,null,null,null,"",""]
[null,null,null,null,null,null,null,null,null,null,null,null,null,null,null,"",""]
[null,null,null,null,null,null,null,null,null,null,null,null,null,null,null,"",""]
[null,null,null,null,null,null,null,null,null,null,null,null,null,null,null,"",""]
[null,null,null,null,null,null,null,null,null,null,null,null,null,null,null,"",""]
[null,null,null,null,null,null,null,null,null,null,null,null,null,null,null,"",""]
[null,null,null,null,null,null,null,null,null,null,null,null,null,null,null,"",""]
[null,null,null,null,null,null,null,null,null,null,null,null,null,null,null,"",""]
[null,null,null,null,null,null,null,null,null,null,null,null,null,null,null,"",""]
[null,null,null,null,null,null,null,null,null,null,null,null,null,null,null,"",""]
[null,null,null,null,null,null,null,null,null,null,null,null,null,null,null,"",""]
[null,null,null,null,null,null,null,null,null,null,null,null,null,null,null,"",""]
[null,null,null,null,null,null,null,null,null,null,null,null,null,null,null,"",""]
[null,null,null,null,null,null,null,null,null,null,null,null,null,null,null,"",""]
[null,null,null,null,null,null,null,null,null,null,null,null,null,null,null,"",""]
[null,null,null,null,null,null,null,null,null,null,null,null,null,null,null,"",""]
[null,null,null,null,null,null,null,null,null,null,null,null,null,null,null,"",""]
[null,null,null,null,null,null,null,null,null,null,null,null,null,null,null,"",""]
[null,null,null,null,null,null,null,null,null,null,null,null,null,null,null,"",""]
[null,null,null,null,null,null,null,null,null,null,null,null,null,null,null,"",""]
[null,null,null,null,null,null,null,null,null,null,null,null,null,null,null,"",""]
[null,null,null,null,null,null,null,null,null,null,null,null,null,null,null,"",""]
[null,null,null,null,null,null,null,null,null,null,null,null,null,null,null,"",""]
[null,null,null,null,null,null,null,null,null,null,null,null,null,null,null,"",""]
[null,null,null,null,null,null,null,null,null,null,null,null,null,null,null,"",""]
[null,null,null,null,null,null,null,null,null,null,null,null,null,null,null,"",""]
[null,null,null,null,null,null,null,null,null,null,null,null,null,null,null,"",""]
[null,null,null,null,null,null,null,null,null,null,null,null,null,null,null,"",""]
[null,null,null,null,null,null,null,null,null,null,null,null,null,null,null,"",""]
[null,null,null,null,null,null,null,null,null,null,null,null,null,null,null,"",""]
[null,null,null,null,null,null,null,null,null,null,null,null,null,null,null,"",""]
[null,null,null,null,null,null,null,null,null,null,null,null,null,null,null,"",""]
[null,null,null,null,null,null,null,null,null,null,null,null,null,null,null,"",""]
[null,null,null,null,null,null,null,null,null,null,null,null,null,null,null,"",""]
[null,null,null,null,null,null,null,null,null,null,null,null,null,null,null,"",""]
[null,null,null,null,null,null,null,null,null,null,null,null,null,null,null,"",""]
[null,null,null,null,null,null,null,null,null,null,null,null,null,null,null,"",""]
[null,null,null,null,null,null,null,null,null,null,null,null,null,null,null,"",""]
[null,null,null,null,null,null,null,null,null,null,null,null,null,null,null,"",""]
[null,null,null,null,null,null,null,null,null,null,null,null,null,null,null,"",""]
[null,null,null,null,null,null,null,null,null,null,null,null,null,null,null,"",""]
[null,null,null,null,null,null,null,null,null,null,null,null,null,null,null,"",""]
[null,null,null,null,null,null,null,null,null,null,null,null,null,null,null,"",""]
[null,null,null,null,null,null,null,null,null,null,null,null,null,null,null,"",""]
[null,null,null,null,null,null,null,null,null,null,null,null,null,null,null,"",""]
[null,null,null,null,null,null,null,null,null,null,null,null,null,null,null,"",""]
[null,null,null,null,null,null,null,null,null,null,null,null,null,null,null,"",""]
[null,null,null,null,null,null,null,null,null,null,null,null,null,null,null,"",""]
[null,null,null,null,null,null,null,null,null,null,null,null,null,null,null,"",""]
[null,null,null,null,null,null,null,null,null,null,null,null,null,null,null,"",""]
[null,null,null,null,null,null,null,null,null,null,null,null,null,null,null,"",""]
[null,null,null,null,null,null,null,null,null,null,null,null,null,null,null,"",""]
[null,null,null,null,null,null,null,null,null,null,null,null,null,null,null,"",""]
[null,null,null,null,null,null,null,null,null,null,null,null,null,null,null,"",""]
[null,null,null,null,null,null,null,null,null,null,null,null,null,null,null,"",""]
[null,null,null,null,null,null,null,null,null,null,null,null,null,null,null,"",""]
[null,null,null,null,null,null,null,null,null,null,null,null,null,null,null,"",""]
[null,null,null,null,null,null,null,null,null,null,null,null,null,null,null,"",""]
[null,null,null,null,null,null,null,null,null,null,null,null,null,null,null,"",""]
[null,null,null,null,null,null,null,null,null,null,null,null,null,null,null,"",""]
[null,null,null,null,null,null,null,null,null,null,null,null,null,null,null,"",""]
[null,null,null,null,null,null,null,null,null,null,null,null,null,null,null,"",""]
[null,null,null,null,null,null,null,null,null,null,null,null,null,null,null,"",""]
[null,null,null,null,null,null,null,null,null,null,null,null,null,null,null,"",""]
[null,null,null,null,null,null,null,null,null,null,null,null,null,null,null,"",""]
[null,null,null,null,null,null,null,null,null,null,null,null,null,null,null,"",""]
[null,null,null,null,null,null,null,null,null,null,null,null,null,null,null,"",""]
[null,null,null,null,null,null,null,null,null,null,null,null,null,null,null,"",""]
[null,null,null,null,null,null,null,null,null,null,null,null,null,null,null,"",""]
[null,null,null,null,null,null,null,null,null,null,null,null,null,null,null,"",""]
[null,null,null,null,null,null,null,null,null,null,null,null,null,null,null,"",""]
[null,null,null,null,null,null,null,null,null,null,null,null,null,null,null,"",""]
[null,null,null,null,null,null,null,null,null,null,null,null,null,null,null,"",""]
[null,null,null,null,null,null,null,null,null,null,null,null,null,null,null,"",""]
[null,null,null,null,null,null,null,null,null,null,null,null,null,null,null,"",""]
[null,null,null,null,null,null,null,null,null,null,null,null,null,null,null,"",""]
[null,null,null,null,null,null,null,null,null,null,null,null,null,null,null,"",""]
[null,null,null,null,null,null,null,null,null,null,null,null,null,null,null,"",""]
[null,null,null,null,null,null,null,null,null,null,null,null,null,null,null,"",""]
[null,null,null,null,null,null,null,null,null,null,null,null,null,null,null,"",""]
[null,null,null,null,null,null,null,null,null,null,null,null,null,null,null,"",""]
[null,null,null,null,null,null,null,null,null,null,null,null,null,null,null,"",""]
[null,null,null,null,null,null,null,null,null,null,null,null,null,null,null,"",""]
[null,null,null,null,null,null,null,null,null,null,null,null,null,null,null,"",""]
[null,null,null,null,null,null,null,null,null,null,null,null,null,null,null,"",""]
[null,null,null,null,null,null,null,null,null,null,null,null,null,null,null,"",""]
[null,null,null,null,null,null,null,null,null,null,null,null,null,null,null,"",""]
[null,null,null,null,null,null,null,null,null,null,null,null,null,null,null,"",""]
[null,null,null,null,null,null,null,null,null,null,null,null,null,null,null,"",""]
[null,null,null,null,null,null,null,null,null,null,null,null,null,null,null,"",""]
[null,null,null,null,null,null,null,null,null,null,null,null,null,null,null,"",""]
[null,null,null,null,null,null,null,null,null,null,null,null,null,null,null,"",""]
[null,null,null,null,null,null,null,null,null,null,null,null,null,null,null,"",""]
[null,null,null,null,null,null,null,null,null,null,null,null,null,null,null,"",""]
[null,null,null,null,null,null,null,null,null,null,null,null,null,null,null,"",""]
[null,null,null,null,null,null,null,null,null,null,null,null,null,null,null,"",""]
[null,null,null,null,null,null,null,null,null,null,null,null,null,null,null,"",""]
[null,null,null,null,null,null,null,null,null,null,null,null,null,null,null,"",""]
[null,null,null,null,null,null,null,null,null,null,null,null,null,null,null,"",""]
[null,null,null,null,null,null,null,null,null,null,null,null,null,null,null,"",""]
[null,null,null,null,null,null,null,null,null,null,null,null,null,null,null,"",""]
[null,null,null,null,null,null,null,null,null,null,null,null,null,null,null,"",""]
[null,null,null,null,null,null,null,null,null,null,null,null,null,null,null,"",""]
[null,null,null,null,null,null,null,null,null,null,null,null,null,null,null,"",""]
[null,null,null,null,null,null,null,null,null,null,null,null,null,null,null,"",""]
[null,null,null,null,null,null,null,null,null,null,null,null,null,null,null,"",""]
[null,null,null,null,null,null,null,null,null,null,null,null,null,null,null,"",""]
[null,null,null,null,null,null,null,null,null,null,null,null,null,null,null,"",""]
[null,null,null,null,null,null,null,null,null,null,null,null,null,null,null,"",""]
[null,null,null,null,null,null,null,null,null,null,null,null,null,null,null,"",""]
[null,null,null,null,null,null,null,null,null,null,null,null,null,null,null,"",""]
[null,null,null,null,null,null,null,null,null,null,null,null,null,null,null,"",""]
[null,null,null,null,null,null,null,null,null,null,null,null,null,null,null,"",""]
[null,null,null,null,null,null,null,null,null,null,null,null,null,null,null,"",""]
[null,null,null,null,null,null,null,null,null,null,null,null,null,null,null,"",""]
[null,null,null,null,null,null,null,null,null,null,null,null,null,null,null,"",""]
[null,null,null,null,null,null,null,null,null,null,null,null,null,null,null,"",""]
[null,null,null,null,null,null,null,null,null,null,null,null,null,null,null,"",""]
[null,null,null,null,null,null,null,null,null,null,null,null,null,null,null,"",""]
[null,null,null,null,null,null,null,null,null,null,null,null,null,null,null,"",""]
[null,null,null,null,null,null,null,null,null,null,null,null,null,null,null,"",""]
[null,null,null,null,null,null,null,null,null,null,null,null,null,null,null,"",""]
[null,null,null,null,null,null,null,null,null,null,null,null,null,null,null,"",""]
[null,null,null,null,null,null,null,null,null,null,null,null,null,null,null,"",""]
[null,null,null,null,null,null,null,null,null,null,null,null,null,null,null,"",""]
[null,null,null,null,null,null,null,null,null,null,null,null,null,null,null,"",""]
[null,null,null,null,null,null,null,null,null,null,null,null,null,null,null,"",""]
[null,null,null,null,null,null,null,null,null,null,null,null,null,null,null,"",""]
[null,null,null,null,null,null,null,null,null,null,null,null,null,null,null,"",""]
[null,null,null,null,null,null,null,null,null,null,null,null,null,null,null,"",""]
[null,null,null,null,null,null,null,null,null,null,null,null,null,null,null,"",""]
[null,null,null,null,null,null,null,null,null,null,null,null,null,null,null,"",""]
[null,null,null,null,null,null,null,null,null,null,null,null,null,null,null,"",""]
[null,null,null,null,null,null,null,null,null,null,null,null,null,null,null,"",""]
[null,null,null,null,null,null,null,null,null,null,null,null,null,null,null,"",""]
[null,null,null,null,null,null,null,null,null,null,null,null,null,null,null,"",""]
[null,null,null,null,null,null,null,null,null,null,null,null,null,null,null,"",""]
[null,null,null,null,null,null,null,null,null,null,null,null,null,null,null,"",""]
[null,null,null,null,null,null,null,null,null,null,null,null,null,null,null,"",""]
[null,null,null,null,null,null,null,null,null,null,null,null,null,null,null,"",""]
[null,null,null,null,null,null,null,null,null,null,null,null,null,null,null,"",""]
[null,null,null,null,null,null,null,null,null,null,null,null,null,null,null,"",""]
[null,null,null,null,null,null,null,null,null,null,null,null,null,null,null,"",""]
[null,null,null,null,null,null,null,null,null,null,null,null,null,null,null,"",""]
[null,null,null,null,null,null,null,null,null,null,null,null,null,null,null,"",""]
[null,null,null,null,null,null,null,null,null,null,null,null,null,null,null,"",""]
[null,null,null,null,null,null,null,null,null,null,null,null,null,null,null,"",""]
[null,null,null,null,null,null,null,null,null,null,null,null,null,null,null,"",""]
[null,null,null,null,null,null,null,null,null,null,null,null,null,null,null,"",""]
[null,null,null,null,null,null,null,null,null,null,null,null,null,null,null,"",""]
[null,null,null,null,null,null,null,null,null,null,null,null,null,null,null,"",""]
[null,null,null,null,null,null,null,null,null,null,null,null,null,null,null,"",""]
[null,null,null,null,null,null,null,null,null,null,null,null,null,null,null,"",""]
[null,null,null,null,null,null,null,null,null,null,null,null,null,null,null,"",""]
[null,null,null,null,null,null,null,null,null,null,null,null,null,null,null,"",""]
[null,null,null,null,null,null,null,null,null,null,null,null,null,null,null,"",""]
[null,null,null,null,null,null,null,null,null,null,null,null,null,null,null,"",""]
[null,null,null,null,null,null,null,null,null,null,null,null,null,null,null,"",""]
[null,null,null,null,null,null,null,null,null,null,null,null,null,null,null,"",""]
[null,null,null,null,null,null,null,null,null,null,null,null,null,null,null,"",""]
[null,null,null,null,null,null,null,null,null,null,null,null,null,null,null,"",""]
[null,null,null,null,null,null,null,null,null,null,null,null,null,null,null,"",""]
[null,null,null,null,null,null,null,null,null,null,null,null,null,null,null,"",""]
[null,null,null,null,null,null,null,null,null,null,null,null,null,null,null,"",""]
[null,null,null,null,null,null,null,null,null,null,null,null,null,null,null,"",""]
[null,null,null,null,null,null,null,null,null,null,null,null,null,null,null,"",""]
[null,null,null,null,null,null,null,null,null,null,null,null,null,null,null,"",""]
[null,null,null,null,null,null,null,null,null,null,null,null,null,null,null,"",""]
[null,null,null,null,null,null,null,null,null,null,null,null,null,null,null,"",""]
[null,null,null,null,null,null,null,null,null,null,null,null,null,null,null,"",""]
[null,null,null,null,null,null,null,null,null,null,null,null,null,null,null,"",""]
[null,null,null,null,null,null,null,null,null,null,null,null,null,null,null,"",""]
[null,null,null,null,null,null,null,null,null,null,null,null,null,null,null,"",""]
[null,null,null,null,null,null,null,null,null,null,null,null,null,null,null,"",""]
[null,null,null,null,null,null,null,null,null,null,null,null,null,null,null,"",""]
[null,null,null,null,null,null,null,null,null,null,null,null,null,null,null,"",""]
[null,null,null,null,null,null,null,null,null,null,null,null,null,null,null,"",""]
[null,null,null,null,null,null,null,null,null,null,null,null,null,null,null,"",""]
[null,null,null,null,null,null,null,null,null,null,null,null,null,null,null,"",""]
[null,null,null,null,null,null,null,null,null,null,null,null,null,null,null,"",""]
[null,null,null,null,null,null,null,null,null,null,null,null,null,null,null,"",""]
[null,null,null,null,null,null,null,null,null,null,null,null,null,null,null,"",""]
[null,null,null,null,null,null,null,null,null,null,null,null,null,null,null,"",""]
[null,null,null,null,null,null,null,null,null,null,null,null,null,null,null,"",""]
[null,null,null,null,null,null,null,null,null,null,null,null,null,null,null,"",""]
[null,null,null,null,null,null,null,null,null,null,null,null,null,null,null,"",""]
[null,null,null,null,null,null,null,null,null,null,null,null,null,null,null,"",""]
[null,null,null,null,null,null,null,null,null,null,null,null,null,null,null,"",""]
[null,null,null,null,null,null,null,null,null,null,null,null,null,null,null,"",""]
[null,null,null,null,null,null,null,null,null,null,null,null,null,null,null,"",""]
[null,null,null,null,null,null,null,null,null,null,null,null,null,null,null,"",""]
[null,null,null,null,null,null,null,null,null,null,null,null,null,null,null,"",""]
[null,null,null,null,null,null,null,null,null,null,null,null,null,null,null,"",""]
[null,null,null,null,null,null,null,null,null,null,null,null,null,null,null,"",""]
[null,null,null,null,null,null,null,null,null,null,null,null,null,null,null,"",""]
[null,null,null,null,null,null,null,null,null,null,null,null,null,null,null,"",""]
[null,null,null,null,null,null,null,null,null,null,null,null,null,null,null,"",""]
[null,null,null,null,null,null,null,null,null,null,null,null,null,null,null,"",""]
[null,null,null,null,null,null,null,null,null,null,null,null,null,null,null,"",""]
[null,null,null,null,null,null,null,null,null,null,null,null,null,null,null,"",""]
[null,null,null,null,null,null,null,null,null,null,null,null,null,null,null,"",""]
[null,null,null,null,null,null,null,null,null,null,null,null,null,null,null,"",""]
[null,null,null,null,null,null,null,null,null,null,null,null,null,null,null,"",""]
[null,null,null,null,null,null,null,null,null,null,null,null,null,null,null,"",""]
[null,null,null,null,null,null,null,null,null,null,null,null,null,null,null,"",""]
[null,null,null,null,null,null,null,null,null,null,null,null,null,null,null,"",""]
[null,null,null,null,null,null,null,null,null,null,null,null,null,null,null,"",""]
[null,null,null,null,null,null,null,null,null,null,null,null,null,null,null,"",""]
[null,null,null,null,null,null,null,null,null,null,null,null,null,null,null,"",""]
[null,null,null,null,null,null,null,null,null,null,null,null,null,null,null,"",""]
[null,null,null,null,null,null,null,null,null,null,null,null,null,null,null,"",""]
[null,null,null,null,null,null,null,null,null,null,null,null,null,null,null,"",""]
[null,null,null,null,null,null,null,null,null,null,null,null,null,null,null,"",""]
[null,null,null,null,null,null,null,null,null,null,null,null,null,null,null,"",""]
[null,null,null,null,null,null,null,null,null,null,null,null,null,null,null,"",""]
[null,null,null,null,null,null,null,null,null,null,null,null,null,null,null,"",""]
[null,null,null,null,null,null,null,null,null,null,null,null,null,null,null,"",""]
[null,null,null,null,null,null,null,null,null,null,null,null,null,null,null,"",""]
[null,null,null,null,null,null,null,null,null,null,null,null,null,null,null,"",""]
[null,null,null,null,null,null,null,null,null,null,null,null,null,null,null,"",""]
[null,null,null,null,null,null,null,null,null,null,null,null,null,null,null,"",""]
[null,null,null,null,null,null,null,null,null,null,null,null,null,null,null,"",""]
[null,null,null,null,null,null,null,null,null,null,null,null,null,null,null,"",""]
[null,null,null,null,null,null,null,null,null,null,null,null,null,null,null,"",""]
[null,null,null,null,null,null,null,null,null,null,null,null,null,null,null,"",""]
[null,null,null,null,null,null,null,null,null,null,null,null,null,null,null,"",""]
[null,null,null,null,null,null,null,null,null,null,null,null,null,null,null,"",""]
[null,null,null,null,null,null,null,null,null,null,null,null,null,null,null,"",""]
[null,null,null,null,null,null,null,null,null,null,null,null,null,null,null,"",""]
[null,null,null,null,null,null,null,null,null,null,null,null,null,null,null,"",""]
[null,null,null,null,null,null,null,null,null,null,null,null,null,null,null,"",""]
[null,null,null,null,null,null,null,null,null,null,null,null,null,null,null,"",""]
[null,null,null,null,null,null,null,null,null,null,null,null,null,null,null,"",""]
[null,null,null,null,null,null,null,null,null,null,null,null,null,null,null,"",""]
[null,null,null,null,null,null,null,null,null,null,null,null,null,null,null,"",""]
[null,null,null,null,null,null,null,null,null,null,null,null,null,null,null,"",""]
[null,null,null,null,null,null,null,null,null,null,null,null,null,null,null,"",""]
[null,null,null,null,null,null,null,null,null,null,null,null,null,null,null,"",""]
[null,null,null,null,null,null,null,null,null,null,null,null,null,null,null,"",""]
[null,null,null,null,null,null,null,null,null,null,null,null,null,null,null,"",""]
[null,null,null,null,null,null,null,null,null,null,null,null,null,null,null,"",""]
[null,null,null,null,null,null,null,null,null,null,null,null,null,null,null,"",""]
[null,null,null,null,null,null,null,null,null,null,null,null,null,null,null,"",""]
[null,null,null,null,null,null,null,null,null,null,null,null,null,null,null,"",""]
[null,null,null,null,null,null,null,null,null,null,null,null,null,null,null,"",""]
[null,null,null,null,null,null,null,null,null,null,null,null,null,null,null,"",""]
[null,null,null,null,null,null,null,null,null,null,null,null,null,null,null,"",""]
[null,null,null,null,null,null,null,null,null,null,null,null,null,null,null,"",""]
[null,null,null,null,null,null,null,null,null,null,null,null,null,null,null,"",""]
[null,null,null,null,null,null,null,null,null,null,null,null,null,null,null,"",""]
[null,null,null,null,null,null,null,null,null,null,null,null,null,null,null,"",""]
[null,null,null,null,null,null,null,null,null,null,null,null,null,null,null,"",""]
[null,null,null,null,null,null,null,null,null,null,null,null,null,null,null,"",""]
[null,null,null,null,null,null,null,null,null,null,null,null,null,null,null,"",""]
[null,null,null,null,null,null,null,null,null,null,null,null,null,null,null,"",""]
[null,null,null,null,null,null,null,null,null,null,null,null,null,null,null,"",""]
[null,null,null,null,null,null,null,null,null,null,null,null,null,null,null,"",""]
[null,null,null,null,null,null,null,null,null,null,null,null,null,null,null,"",""]
[null,null,null,null,null,null,null,null,null,null,null,null,null,null,null,"",""]
[null,null,null,null,null,null,null,null,null,null,null,null,null,null,null,"",""]
[null,null,null,null,null,null,null,null,null,null,null,null,null,null,null,"",""]
[null,null,null,null,null,null,null,null,null,null,null,null,null,null,null,"",""]
[null,null,null,null,null,null,null,null,null,null,null,null,null,null,null,"",""]
[null,null,null,null,null,null,null,null,null,null,null,null,null,null,null,"",""]
[null,null,null,null,null,null,null,null,null,null,null,null,null,null,null,"",""]
[null,null,null,null,null,null,null,null,null,null,null,null,null,null,null,"",""]
[null,null,null,null,null,null,null,null,null,null,null,null,null,null,null,"",""]
[null,null,null,null,null,null,null,null,null,null,null,null,null,null,null,"",""]
[null,null,null,null,null,null,null,null,null,null,null,null,null,null,null,"",""]
[null,null,null,null,null,null,null,null,null,null,null,null,null,null,null,"",""]
[null,null,null,null,null,null,null,null,null,null,null,null,null,null,null,"",""]
[null,null,null,null,null,null,null,null,null,null,null,null,null,null,null,"",""]
[null,null,null,null,null,null,null,null,null,null,null,null,null,null,null,"",""]
[null,null,null,null,null,null,null,null,null,null,null,null,null,null,null,"",""]
[null,null,null,null,null,null,null,null,null,null,null,null,null,null,null,"",""]
[null,null,null,null,null,null,null,null,null,null,null,null,null,null,null,"",""]
[null,null,null,null,null,null,null,null,null,null,null,null,null,null,null,"",""]
[null,null,null,null,null,null,null,null,null,null,null,null,null,null,null,"",""]
[null,null,null,null,null,null,null,null,null,null,null,null,null,null,null,"",""]
[null,null,null,null,null,null,null,null,null,null,null,null,null,null,null,"",""]
[null,null,null,null,null,null,null,null,null,null,null,null,null,null,null,"",""]
[null,null,null,null,null,null,null,null,null,null,null,null,null,null,null,"",""]
[null,null,null,null,null,null,null,null,null,null,null,null,null,null,null,"",""]
[null,null,null,null,null,null,null,null,null,null,null,null,null,null,null,"",""]
[null,null,null,null,null,null,null,null,null,null,null,null,null,null,null,"",""]
[null,null,null,null,null,null,null,null,null,null,null,null,null,null,null,"",""]
[null,null,null,null,null,null,null,null,null,null,null,null,null,null,null,"",""]
[null,null,null,null,null,null,null,null,null,null,null,null,null,null,null,"",""]
[null,null,null,null,null,null,null,null,null,null,null,null,null,null,null,"",""]
[null,null,null,null,null,null,null,null,null,null,null,null,null,null,null,"",""]
[null,null,null,null,null,null,null,null,null,null,null,null,null,null,null,"",""]
[null,null,null,null,null,null,null,null,null,null,null,null,null,null,null,"",""]
[null,null,null,null,null,null,null,null,null,null,null,null,null,null,null,"",""]
[null,null,null,null,null,null,null,null,null,null,null,null,null,null,null,"",""]
[null,null,null,null,null,null,null,null,null,null,null,null,null,null,null,"",""]
[null,null,null,null,null,null,null,null,null,null,null,null,null,null,null,"",""]
[null,null,null,null,null,null,null,null,null,null,null,null,null,null,null,"",""]
[null,null,null,null,null,null,null,null,null,null,null,null,null,null,null,"",""]
[null,null,null,null,null,null,null,null,null,null,null,null,null,null,null,"",""]
[null,null,null,null,null,null,null,null,null,null,null,null,null,null,null,"",""]
[null,null,null,null,null,null,null,null,null,null,null,null,null,null,null,"",""]
[null,null,null,null,null,null,null,null,null,null,null,null,null,null,null,"",""]
[null,null,null,null,null,null,null,null,null,null,null,null,null,null,null,"",""]
[null,null,null,null,null,null,null,null,null,null,null,null,null,null,null,"",""]
[null,null,null,null,null,null,null,null,null,null,null,null,null,null,null,"",""]
[null,null,null,null,null,null,null,null,null,null,null,null,null,null,null,"",""]
[null,null,null,null,null,null,null,null,null,null,null,null,null,null,null,"",""]
[null,null,null,null,null,null,null,null,null,null,null,null,null,null,null,"",""]
[null,null,null,null,null,null,null,null,null,null,null,null,null,null,null,"",""]
[null,null,null,null,null,null,null,null,null,null,null,null,null,null,null,"",""]
[null,null,null,null,null,null,null,null,null,null,null,null,null,null,null,"",""]
[null,null,null,null,null,null,null,null,null,null,null,null,null,null,null,"",""]
[null,null,null,null,null,null,null,null,null,null,null,null,null,null,null,"",""]
[null,null,null,null,null,null,null,null,null,null,null,null,null,null,null,"",""]
[null,null,null,null,null,null,null,null,null,null,null,null,null,null,null,"",""]
[null,null,null,null,null,null,null,null,null,null,null,null,null,null,null,"",""]
[null,null,null,null,null,null,null,null,null,null,null,null,null,null,null,"",""]
[null,null,null,null,null,null,null,null,null,null,null,null,null,null,null,"",""]
[null,null,null,null,null,null,null,null,null,null,null,null,null,null,null,"",""]
[null,null,null,null,null,null,null,null,null,null,null,null,null,null,null,"",""]
[null,null,null,null,null,null,null,null,null,null,null,null,null,null,null,"",""]
[null,null,null,null,null,null,null,null,null,null,null,null,null,null,null,"",""]
[null,null,null,null,null,null,null,null,null,null,null,null,null,null,null,"",""]
[null,null,null,null,null,null,null,null,null,null,null,null,null,null,null,"",""]
[null,null,null,null,null,null,null,null,null,null,null,null,null,null,null,"",""]
[null,null,null,null,null,null,null,null,null,null,null,null,null,null,null,"",""]
[null,null,null,null,null,null,null,null,null,null,null,null,null,null,null,"",""]
[null,null,null,null,null,null,null,null,null,null,null,null,null,null,null,"",""]
[null,null,null,null,null,null,null,null,null,null,null,null,null,null,null,"",""]
[null,null,null,null,null,null,null,null,null,null,null,null,null,null,null,"",""]
[null,null,null,null,null,null,null,null,null,null,null,null,null,null,null,"",""]
[null,null,null,null,null,null,null,null,null,null,null,null,null,null,null,"",""]
[null,null,null,null,null,null,null,null,null,null,null,null,null,null,null,"",""]
[null,null,null,null,null,null,null,null,null,null,null,null,null,null,null,"",""]
[null,null,null,null,null,null,null,null,null,null,null,null,null,null,null,"",""]
[null,null,null,null,null,null,null,null,null,null,null,null,null,null,null,"",""]
[null,null,null,null,null,null,null,null,null,null,null,null,null,null,null,"",""]
[null,null,null,null,null,null,null,null,null,null,null,null,null,null,null,"",""]
[null,null,null,null,null,null,null,null,null,null,null,null,null,null,null,"",""]
[null,null,null,null,null,null,null,null,null,null,null,null,null,null,null,"",""]
[null,null,null,null,null,null,null,null,null,null,null,null,null,null,null,"",""]
[null,null,null,null,null,null,null,null,null,null,null,null,null,null,null,"",""]
[null,null,null,null,null,null,null,null,null,null,null,null,null,null,null,"",""]
[null,null,null,null,null,null,null,null,null,null,null,null,null,null,null,"",""]
[null,null,null,null,null,null,null,null,null,null,null,null,null,null,null,"",""]
[null,null,null,null,null,null,null,null,null,null,null,null,null,null,null,"",""]
[null,null,null,null,null,null,null,null,null,null,null,null,null,null,null,"",""]
[null,null,null,null,null,null,null,null,null,null,null,null,null,null,null,"",""]
[null,null,null,null,null,null,null,null,null,null,null,null,null,null,null,"",""]
[null,null,null,null,null,null,null,null,null,null,null,null,null,null,null,"",""]
[null,null,null,null,null,null,null,null,null,null,null,null,null,null,null,"",""]
[null,null,null,null,null,null,null,null,null,null,null,null,null,null,null,"",""]
[null,null,null,null,null,null,null,null,null,null,null,null,null,null,null,"",""]
[null,null,null,null,null,null,null,null,null,null,null,null,null,null,null,"",""]
[null,null,null,null,null,null,null,null,null,null,null,null,null,null,null,"",""]
[null,null,null,null,null,null,null,null,null,null,null,null,null,null,null,"",""]
[null,null,null,null,null,null,null,null,null,null,null,null,null,null,null,"",""]
[null,null,null,null,null,null,null,null,null,null,null,null,null,null,null,"",""]
[null,null,null,null,null,null,null,null,null,null,null,null,null,null,null,"",""]
[null,null,null,null,null,null,null,null,null,null,null,null,null,null,null,"",""]
[null,null,null,null,null,null,null,null,null,null,null,null,null,null,null,"",""]
[null,null,null,null,null,null,null,null,null,null,null,null,null,null,null,"",""]
[null,null,null,null,null,null,null,null,null,null,null,null,null,null,null,"",""]

{"sheet":"MUESTRAS_VARIABLES","index":6,"n_rows":0,"n_cols":0,"rows_kept":0,"cut":false,"hidden":true,"merged":[]}

{"sheet":"ESTACIONES_VARIABLES","index":7,"n_rows":8,"n_cols":2,"rows_kept":8,"cut":false,"hidden":true,"merged":[]}
[]
[]
[]
[0]
[1,"Inferior(Inferior  Grava )"]
[4,"Unica Seccion(Unica Seccion  Arena muy gruesa )"]
[3,"Superior(Superior  Arena gruesa )"]
[2,"Intermedio(Intermedio  Arena media )"]

{"sheet":"AGD_MUESTREOS","index":8,"n_rows":0,"n_cols":0,"rows_kept":0,"cut":false,"hidden":true,"merged":[]}

{"sheet":"AGD_PARAMETRO","index":9,"n_rows":0,"n_cols":0,"rows_kept":0,"cut":false,"hidden":true,"merged":[]}

{"sheet":"AGD_MUESTRAS","index":10,"n_rows":0,"n_cols":0,"rows_kept":0,"cut":false,"hidden":true,"merged":[]}

{"sheet":"AGD_MUESTRAS_VARIABLES","index":11,"n_rows":0,"n_cols":0,"rows_kept":0,"cut":false,"hidden":true,"merged":[]}

{"sheet":"AGD_AUTORIAS","index":12,"n_rows":0,"n_cols":0,"rows_kept":0,"cut":false,"hidden":true,"merged":[]}