{"text_format":"1","workbook":"xlsx","n_sheets":11,"sheets":["Registro de cambios","configuracion","DIGITADOR","DATOS","referentes","Otras referencias","AGD_MUESTREOS","AGD_PARAMETRO","AGD_MUESTRAS","AGD_MUESTRAS_VARIABLES","AGD_AUTORIAS"],"not_rendered":{"charts":0,"images":0,"macros":1,"external_links":1,"defined_names":29,"comments":2,"pivot_tables":0},"unopened":[],"bounds":{"document_bytes":16777216,"sheet_cells":100000,"rows_first":2000,"rows_last":500,"rows_between":2000,"halvings":0,"cell_chars":16384,"cell_head_chars":4096},"cells_cut":0,"cells_raw":0,"read":"whole","date_system":"1900"}

{"sheet":"Registro de cambios","index":0,"n_rows":5,"n_cols":11,"rows_kept":5,"cut":false,"hidden":true,"merged":[[1,3,1,10],[2,4,2,8],[4,4,4,8],[3,4,3,8]]}
[]
[null,null,null,"REGISTRO DE CAMBIOS"]
[null,null,null,"VERSIÓN No.","CAMBIO REALIZADO",null,null,null,null,null,"VIGENTE DESDE"]
[null,null,null,"20240719i","Validación de campos en la pestaña DIGITADOR a través del código de las macros para generar las tablas de datos.",null,null,null,null,"Kevin Moreno","19/07/2024"]
[null,null,null,"20240515i","Actualización del código de la macro.\n\nSe eliminó la URL de la antigua API de portete:\n       http://portete.invemar.org.co:7003/ArgosWebServices-RESTWebService-context-root/rest/1.0\n\nFue reemplazada por la URL de la API de ARGOS:\n       https://argos.invemar.org.co/api/\n\nLa API contiene End Points que permiten tener mayor control, facilitan la descarga de referentes (listas de usuarios, estaciones, especies, etc.) que corresponden a criterios específicos como el proyecto usado en la plantilla para evitar descargar data innecesaria.\n\nDel mismo modo, también permite la carga de información a la BDD del INVEMAR.\n\nLa macro toma los Endpoints desde la hoja configuracion de una tabla llamada \"Configuración referentes\", a la que se le puede modificar las rutas de la API o agregar nuevas. cabe resaltar que se puede \"quemar\" directamente en la macro los Endpoints que lo requieran.",null,null,null,null,"Kevin Moreno","15/5/2024"]

{"sheet":"configuracion","index":1,"n_rows":71,"n_cols":3,"rows_kept":71,"cut":false,"hidden":false,"merged":[[61,0,61,2],[28,0,35,0],[37,0,42,0],[45,0,45,1],[0,0,2,0],[3,0,5,0],[7,0,8,0],[9,0,15,0],[17,0,21,0],[23,0,26,0]]}
["general","urlServicio","https://argos.invemar.org.co/api/"]
[null,"fila de inicio"]
[null,"fila de fin"]
["metodologias","Metodologias"]
[null,"Referentes"]
[null,"Cantidad maxima de referentes "]
["estaciones/investigadores","proyectos"]
["Lista especies","metodologias"]
[null,"proyectos"]
["MUESTREOS","ID_MUESTREO"]
[null,"ID_ESTACION"]
[null,"ID_PROYECTO"]
[null,"ID_METODOLOGIA"]
[null,"ID_TEMATICAS"]
[null,"FECHA"]
[null,"NOTAS"]
[null,"cantidad"]
["parametro muestreo","ID_MUESTREO"]
[null,"ID_PARAMETRO"]
[null,"ID_METODOLOGIA"]
[null,"ID_UNIDAD_MEDIDA"]
[null,"VALOR"]
[null,"cantidad"]
["muestra","ID_MUESTRA"]
[null,"ID_MUESTREO"]
[null,"NOTAS"]
[null,"ES_REPLICA"]
[null,"cantidad"]
["muestra variable","ID_PARAMETRO"]
[null,"ID_METODOLOGIA"]
[null,"ID_UNIDAD_MEDIDA"]
[null,"ID_MUESTRA"]
[null,"ID_METODO"]
[null,"VALOR"]
[null,"QUALITY_FLAG"]
[null,"PRECISION"]
[null,"cantidad"]
["autoria","ID_FUNCIONARIO"]
[null,"ID_TAREA"]
[null,"ORDEN"]
[null,"FECHA"]
[null,"ID_MUESTRA"]
[null,"ENTIDAD"]
[null,"cantidad"]
[]
["REGISTROS GENERADOS",null,"REGISTROS CARGADOS"]
["MUESTREOS"]
["parametro muestreo"]
["muestra"]
["muestra variable"]
["autoria"]
["registros correctos"]
["Fecha de carga"]
["json error"]
["error"]
[]
[]
["Atributo","Descripción","Código"]
["Tipo Nodo","Estaciones",{"$f":"VLOOKUP(B59, 'Otras referencias'!$A$14:$C$24, 2, FALSE)","v":40}]
[]
[]
["CONFIGURACION REFERENTES"]
["Ruta de la API","Endpoint","Descripción"]
["URL - AGM Campo",{"$f":"CONCATENATE(\"parametros/agmcampo/\",$C$4)","v":"parametros/agmcampo/"},"Listado de referentes AGM_CAMPO"]
["URL - Especies",{"$f":"IF('Otras referencias'!$C$8=\"\",\"\",CONCATENATE(\"especies/filt/\",$C$9,\",\",$C$8,\"/\"))","v":""},"Especies por proyecto\n(No todos los proyectos tienen asociados una lista de especies)"]
["URL - Estaciones",{"$f":"CONCATENATE(\"estaciones/\", $C$59, \"/\", $C$7)","v":"estaciones/40/"},"Estaciones/parcelas por proyecto, cambia dependiendo del Tipo de Nodo, cuyo estado sea VIGENTE."]
["URL - Usuarios",{"$f":"CONCATENATE(\"parametros/usersByProject/\",$C$7)","v":"parametros/usersByProject/"},"Usuarios por proyecto."]
["URL - Entidades","estaciones/get-entidades","Listado de entidades."]
["Atributos de la API","codigo_in","nombre_in"]
["Rango de atributos de la API","B70:C71","nombre_in"]
["URL - Plantillas","plantillas/","Endpoint para la carga de datos al sistema."]

{"sheet":"DIGITADOR","index":2,"n_rows":27,"n_cols":6,"rows_kept":27,"cut":false,"hidden":false,"merged":[[0,5,7,11],[9,5,13,11],[15,5,16,11],[18,5,20,11],[17,1,17,2],[0,1,0,2],[4,1,5,1],[12,1,13,1],[12,2,13,2]]}
[null,"Recolección de Datos",null,null,null,"Recomendaciones generales: \n¡Precaución! No inserte Filas o Columnas.\nEn los casos en que falte un valor a ingresar que provenga de la hoja de referencias, informe para que el administrador del sistema haga las adiciones necesarias.\nEsta es una plantilla programada. Las columnas de color oscuro se llenan automaticamente, principalmente a partir de los contenidos de la hoja de referencias. \nNO UTILICE PUNTO Y COMA (;) en ningun campo, por ser el separador de variables (columnas). Las unidades de medida son las especificadas en la cabecera de la hoja.\nPara el correcto funcionamiento de la hoja debe estar activa la opcion de Excel de ejecutar macros (al abrir la hoja acepte la opcion habilitar macros, mensaje de Excel que aparece en la parte superior de la hoja en un recuadro amarillo). La extensión del archivo debe ser .xlsm.. \nAl finalizar, renombre el archivo de modo que su contenido sea claro, ejemplo:\ncorporacion_estacion_anocuatrodigitosmesmuestreo.xlsm. El nombre no debe tener espacios en blanco vocales tildadas o ñ."]
[null,"Código del responsable",{"$f":"IF(C3=\"\",\"\",VLOOKUP(C3,referentes!A2:B28,2,FALSE))","v":""}]
[null,"Nombre del responsable"]
[]
[null,"Fecha en la que se ingresa los datos en esta hoja","DD/MM/AAAA"]
[]
[null,"Versión de la plantilla",{"$f":"'Registro de cambios'!$D$4","v":"20240719i"}]
[]
[null,"Nombre del archivo",{"$f":"MID(CELL(\"FILENAME\",N63),FIND(\"[\",CELL(\"FILENAME\",N63))+1,   FIND(\"]\",CELL(\"FILENAME\",N63))-FIND(\"[\",CELL(\"FILENAME\",N63))-1)","v":"01_Desarrollador_Plantilla_base_20240515i v3.xlsm"}]
[null,"Fuente plantilla","http://cinto.invemar.org.co/download/Plantillas_ARGOS_Plus/",null,null,"Previamente a iniciar el llenado de la plantilla, debe presionar el botón \"Descargar referentes\" (si aplica) para que los referentes de ésta plantilla sean actualizados. \nLuego de llenar completamente la plantilla verifique que:\na. No haya celdas con valores como \"#N/A\" o \"#¡REF!\".\nb. No se estén aplicando filtros en la hoja de datos.\nEnvíe la plantilla diligenciada al correo kevin.moreno@invemar.org.co"]
[null,"DOI Metadato"]
[]
[null,"Observaciones generales"]
[]
[]
[null,null,null,null,null,"Si requiere ayuda contacte a:\nKevin S. Moreno (kevin.moreno@invemar.org.co)"]
[]
[null,"REGISTROS GENERADOS",null,"REGISTROS CARGADOS"]
[null,"MUESTREOS",{"$f":"IF(configuracion!B47=\"\",\"\",configuracion!B47)","v":""},{"$f":"IF(configuracion!C47=\"\",\"\",configuracion!C47)","v":""},null,"El custodio de los datos es el único autorizado para distribuir este conjunto de datos. El observador y el digitador se comprometen a tomar las medidas necesarias para salvaguardar este conjunto de datos de modo que copia de los mismos no sean obtenidas y/o usadas por terceros no relacionados con el propósito para la cual se recolectó."]
[null,"parametro muestreo",{"$f":"IF(configuracion!B48=\"\",\"\",configuracion!B48)","v":""},{"$f":"IF(configuracion!C48=\"\",\"\",configuracion!C48)","v":""}]
[null,"muestra",{"$f":"IF(configuracion!B49=\"\",\"\",configuracion!B49)","v":""},{"$f":"IF(configuracion!C49=\"\",\"\",configuracion!C49)","v":""}]
[null,"muestra variable",{"$f":"IF(configuracion!B50=\"\",\"\",configuracion!B50)","v":""},{"$f":"IF(configuracion!C50=\"\",\"\",configuracion!C50)","v":""}]
[null,"autoria",{"$f":"IF(configuracion!B51=\"\",\"\",configuracion!B51)","v":""},{"$f":"IF(configuracion!C51=\"\",\"\",configuracion!C51)","v":""}]
[null,"registros correctos",{"$f":"IF(configuracion!B52=\"\",\"\",configuracion!B52)","v":""},{"$f":"IF(configuracion!C52=\"\",\"\",configuracion!C52)","v":""}]
[null,"Fecha de carga",{"$f":"IF(configuracion!B53=\"\",\"\",configuracion!B53)","v":""},{"$f":"IF(configuracion!C53=\"\",\"\",configuracion!C53)","v":""}]
[null,"json error",{"$f":"IF(configuracion!B54=\"\",\"\",configuracion!B54)","v":""},{"$f":"IF(configuracion!C54=\"\",\"\",configuracion!C54)","v":""}]
[null,"error",{"$f":"IF(configuracion!B55=\"\",\"\",configuracion!B55)","v":""},{"$f":"IF(configuracion!C55=\"\",\"\",configuracion!C55)","v":""}]

{"sheet":"DATOS","index":3,"n_rows":15003,"n_cols":9,"rows_kept":4500,"cut":true,"hidden":false,"merged":[],"bounds":{"rows_first":2000,"rows_last":500,"rows_between":2000,"halvings":0}}
[]
["N.º","Fecha Tiempo, GMT-05:00","Temp, °C (LGR S/N: 10967833, SEN S/N: 10967833, LBL: TEMP)","HR, % (LGR S/N: 10967833, SEN S/N: 10967833, LBL: HUM_REL)","Intensidad, lum/ft² (LGR S/N: 10967833, SEN S/N: 10967833, LBL: INT_LUZ)",null,null,"ID MUESTRA","Fecha Tiempo, GMT-05:00 (Texto)"]
[null,null,null,null,null,null,null,{"$f":"IF(DATOS!A3<>\"\",DATOS!A3&configuracion!$C$10,\"\")","v":""},{"$f":"IF(B3=\"\",\"\",TEXT(B3, \"DD/MM/YYYY HH:MM:SS\"))","v":""}]
[null,null,null,null,null,null,null,{"$f":"IF(DATOS!A4<>\"\",DATOS!A4&configuracion!$C$10,\"\")","v":""},{"$f":"IF(B4=\"\",\"\",TEXT(B4, \"DD/MM/YYYY HH:MM:SS\"))","v":""}]
[null,null,null,null,null,null,null,{"$f":"IF(DATOS!A5<>\"\",DATOS!A5&configuracion!$C$10,\"\")","v":""},""]
[null,null,null,null,null,null,null,{"$f":"IF(DATOS!A6<>\"\",DATOS!A6&configuracion!$C$10,\"\")","v":""},""]
[null,null,null,null,null,null,null,{"$f":"IF(DATOS!A7<>\"\",DATOS!A7&configuracion!$C$10,\"\")","v":""},""]
[null,null,null,null,null,null,null,{"$f":"IF(DATOS!A8<>\"\",DATOS!A8&configuracion!$C$10,\"\")","v":""},""]
[null,null,null,null,null,null,null,{"$f":"IF(DATOS!A9<>\"\",DATOS!A9&configuracion!$C$10,\"\")","v":""},""]
[null,null,null,null,null,null,null,{"$f":"IF(DATOS!A10<>\"\",DATOS!A10&configuracion!$C$10,\"\")","v":""},""]
[null,null,null,null,null,null,null,{"$f":"IF(DATOS!A11<>\"\",DATOS!A11&configuracion!$C$10,\"\")","v":""},""]
[null,null,null,null,null,null,null,{"$f":"IF(DATOS!A12<>\"\",DATOS!A12&configuracion!$C$10,\"\")","v":""},""]
[null,null,null,null,null,null,null,{"$f":"IF(DATOS!A13<>\"\",DATOS!A13&configuracion!$C$10,\"\")","v":""},""]
[null,null,null,null,null,null,null,{"$f":"IF(DATOS!A14<>\"\",DATOS!A14&configuracion!$C$10,\"\")","v":""},""]
[null,null,null,null,null,null,null,{"$f":"IF(DATOS!A15<>\"\",DATOS!A15&configuracion!$C$10,\"\")","v":""},""]
[null,null,null,null,null,null,null,{"$f":"IF(DATOS!A16<>\"\",DATOS!A16&configuracion!$C$10,\"\")","v":""},""]
[null,null,null,null,null,null,null,{"$f":"IF(DATOS!A17<>\"\",DATOS!A17&configuracion!$C$10,\"\")","v":""},""]
[null,null,null,null,null,null,null,{"$f":"IF(DATOS!A18<>\"\",DATOS!A18&configuracion!$C$10,\"\")","v":""},""]
[null,null,null,null,null,null,null,{"$f":"IF(DATOS!A19<>\"\",DATOS!A19&configuracion!$C$10,\"\")","v":""},""]
[null,null,null,null,null,null,null,{"$f":"IF(DATOS!A20<>\"\",DATOS!A20&configuracion!$C$10,\"\")","v":""},""]
[null,null,null,null,null,null,null,{"$f":"IF(DATOS!A21<>\"\",DATOS!A21&configuracion!$C$10,\"\")","v":""},""]
[null,null,null,null,null,null,null,{"$f":"IF(DATOS!A22<>\"\",DATOS!A22&configuracion!$C$10,\"\")","v":""},""]
[null,null,null,null,null,null,null,{"$f":"IF(DATOS!A23<>\"\",DATOS!A23&configuracion!$C$10,\"\")","v":""},""]
[null,null,null,null,null,null,null,{"$f":"IF(DATOS!A24<>\"\",DATOS!A24&configuracion!$C$10,\"\")","v":""},""]
[null,null,null,null,null,null,null,{"$f":"IF(DATOS!A25<>\"\",DATOS!A25&configuracion!$C$10,\"\")","v":""},""]
[null,null,null,null,null,null,null,{"$f":"IF(DATOS!A26<>\"\",DATOS!A26&configuracion!$C$10,\"\")","v":""},""]
[null,null,null,null,null,null,null,{"$f":"IF(DATOS!A27<>\"\",DATOS!A27&configuracion!$C$10,\"\")","v":""},""]
[null,null,null,null,null,null,null,{"$f":"IF(DATOS!A28<>\"\",DATOS!A28&configuracion!$C$10,\"\")","v":""},""]
[null,null,null,null,null,null,null,{"$f":"IF(DATOS!A29<>\"\",DATOS!A29&configuracion!$C$10,\"\")","v":""},""]
[null,null,null,null,null,null,null,{"$f":"IF(DATOS!A30<>\"\",DATOS!A30&configuracion!$C$10,\"\")","v":""},""]
[null,null,null,null,null,null,null,{"$f":"IF(DATOS!A31<>\"\",DATOS!A31&configuracion!$C$10,\"\")","v":""},""]
[null,null,null,null,null,null,null,{"$f":"IF(DATOS!A32<>\"\",DATOS!A32&configuracion!$C$10,\"\")","v":""},""]
[null,null,null,null,null,null,null,{"$f":"IF(DATOS!A33<>\"\",DATOS!A33&configuracion!$C$10,\"\")","v":""},""]
[null,null,null,null,null,null,null,{"$f":"IF(DATOS!A34<>\"\",DATOS!A34&configuracion!$C$10,\"\")","v":""},""]
[null,null,null,null,null,null,null,{"$f":"IF(DATOS!A35<>\"\",DATOS!A35&configuracion!$C$10,\"\")","v":""},""]
[null,null,null,null,null,null,null,{"$f":"IF(DATOS!A36<>\"\",DATOS!A36&configuracion!$C$10,\"\")","v":""},""]
[null,null,null,null,null,null,null,{"$f":"IF(DATOS!A37<>\"\",DATOS!A37&configuracion!$C$10,\"\")","v":""},""]
[null,null,null,null,null,null,null,{"$f":"IF(DATOS!A38<>\"\",DATOS!A38&configuracion!$C$10,\"\")","v":""},""]
[null,null,null,null,null,null,null,{"$f":"IF(DATOS!A39<>\"\",DATOS!A39&configuracion!$C$10,\"\")","v":""},""]
[null,null,null,null,null,null,null,{"$f":"IF(DATOS!A40<>\"\",DATOS!A40&configuracion!$C$10,\"\")","v":""},""]
[null,null,null,null,null,null,null,{"$f":"IF(DATOS!A41<>\"\",DATOS!A41&configuracion!$C$10,\"\")","v":""},""]
[null,null,null,null,null,null,null,{"$f":"IF(DATOS!A42<>\"\",DATOS!A42&configuracion!$C$10,\"\")","v":""},""]
[null,null,null,null,null,null,null,{"$f":"IF(DATOS!A43<>\"\",DATOS!A43&configuracion!$C$10,\"\")","v":""},""]
[null,null,null,null,null,null,null,{"$f":"IF(DATOS!A44<>\"\",DATOS!A44&configuracion!$C$10,\"\")","v":""},""]
[null,null,null,null,null,null,null,{"$f":"IF(DATOS!A45<>\"\",DATOS!A45&configuracion!$C$10,\"\")","v":""},""]
[null,null,null,null,null,null,null,{"$f":"IF(DATOS!A46<>\"\",DATOS!A46&configuracion!$C$10,\"\")","v":""},""]
[null,null,null,null,null,null,null,{"$f":"IF(DATOS!A47<>\"\",DATOS!A47&configuracion!$C$10,\"\")","v":""},""]
[null,null,null,null,null,null,null,{"$f":"IF(DATOS!A48<>\"\",DATOS!A48&configuracion!$C$10,\"\")","v":""},""]
[null,null,null,null,null,null,null,{"$f":"IF(DATOS!A49<>\"\",DATOS!A49&configuracion!$C$10,\"\")","v":""},""]
[null,null,null,null,null,null,null,{"$f":"IF(DATOS!A50<>\"\",DATOS!A50&configuracion!$C$10,\"\")","v":""},""]
[null,null,null,null,null,null,null,{"$f":"IF(DATOS!A51<>\"\",DATOS!A51&configuracion!$C$10,\"\")","v":""},""]
[null,null,null,null,null,null,null,{"$f":"IF(DATOS!A52<>\"\",DATOS!A52&configuracion!$C$10,\"\")","v":""},""]
[null,null,null,null,null,null,null,{"$f":"IF(DATOS!A53<>\"\",DATOS!A53&configuracion!$C$10,\"\")","v":""},""]
[null,null,null,null,null,null,null,{"$f":"IF(DATOS!A54<>\"\",DATOS!A54&configuracion!$C$10,\"\")","v":""},""]
[null,null,null,null,null,null,null,{"$f":"IF(DATOS!A55<>\"\",DATOS!A55&configuracion!$C$10,\"\")","v":""},""]
[null,null,null,null,null,null,null,{"$f":"IF(DATOS!A56<>\"\",DATOS!A56&configuracion!$C$10,\"\")","v":""},""]
[null,null,null,null,null,null,null,{"$f":"IF(DATOS!A57<>\"\",DATOS!A57&configuracion!$C$10,\"\")","v":""},""]
[null,null,null,null,null,null,null,{"$f":"IF(DATOS!A58<>\"\",DATOS!A58&configuracion!$C$10,\"\")","v":""},""]
[null,null,null,null,null,null,null,{"$f":"IF(DATOS!A59<>\"\",DATOS!A59&configuracion!$C$10,\"\")","v":""},""]
[null,null,null,null,null,null,null,{"$f":"IF(DATOS!A60<>\"\",DATOS!A60&configuracion!$C$10,\"\")","v":""},""]
[null,null,null,null,null,null,null,{"$f":"IF(DATOS!A61<>\"\",DATOS!A61&configuracion!$C$10,\"\")","v":""},""]
[null,null,null,null,null,null,null,{"$f":"IF(DATOS!A62<>\"\",DATOS!A62&configuracion!$C$10,\"\")","v":""},""]
[null,null,null,null,null,null,null,{"$f":"IF(DATOS!A63<>\"\",DATOS!A63&configuracion!$C$10,\"\")","v":""},""]
[null,null,null,null,null,null,null,{"$f":"IF(DATOS!A64<>\"\",DATOS!A64&configuracion!$C$10,\"\")","v":""},""]
[null,null,null,null,null,null,null,{"$f":"IF(DATOS!A65<>\"\",DATOS!A65&configuracion!$C$10,\"\")","v":""},""]
[null,null,null,null,null,null,null,{"$f":"IF(DATOS!A66<>\"\",DATOS!A66&configuracion!$C$10,\"\")","v":""},""]
[null,null,null,null,null,null,null,{"$f":"IF(DATOS!A67<>\"\",DATOS!A67&configuracion!$C$10,\"\")","v":""},""]
[null,null,null,null,null,null,null,{"$f":"IF(DATOS!A68<>\"\",DATOS!A68&configuracion!$C$10,\"\")","v":""},{"$f":"IF(B68=\"\",\"\",TEXT(B68, \"DD/MM/YYYY HH:MM:SS\"))","v":""}]
[null,null,null,null,null,null,null,{"$f":"IF(DATOS!A69<>\"\",DATOS!A69&configuracion!$C$10,\"\")","v":""},""]
[null,null,null,null,null,null,null,{"$f":"IF(DATOS!A70<>\"\",DATOS!A70&configuracion!$C$10,\"\")","v":""},""]
[null,null,null,null,null,null,null,{"$f":"IF(DATOS!A71<>\"\",DATOS!A71&configuracion!$C$10,\"\")","v":""},""]
[null,null,null,null,null,null,null,{"$f":"IF(DATOS!A72<>\"\",DATOS!A72&configuracion!$C$10,\"\")","v":""},""]
[null,null,null,null,null,null,null,{"$f":"IF(DATOS!A73<>\"\",DATOS!A73&configuracion!$C$10,\"\")","v":""},""]
[null,null,null,null,null,null,null,{"$f":"IF(DATOS!A74<>\"\",DATOS!A74&configuracion!$C$10,\"\")","v":""},""]
[null,null,null,null,null,null,null,{"$f":"IF(DATOS!A75<>\"\",DATOS!A75&configuracion!$C$10,\"\")","v":""},""]
[null,null,null,null,null,null,null,{"$f":"IF(DATOS!A76<>\"\",DATOS!A76&configuracion!$C$10,\"\")","v":""},""]
[null,null,null,null,null,null,null,{"$f":"IF(DATOS!A77<>\"\",DATOS!A77&configuracion!$C$10,\"\")","v":""},""]
[null,null,null,null,null,null,null,{"$f":"IF(DATOS!A78<>\"\",DATOS!A78&configuracion!$C$10,\"\")","v":""},""]
[null,null,null,null,null,null,null,{"$f":"IF(DATOS!A79<>\"\",DATOS!A79&configuracion!$C$10,\"\")","v":""},""]
[null,null,null,null,null,null,null,{"$f":"IF(DATOS!A80<>\"\",DATOS!A80&configuracion!$C$10,\"\")","v":""},""]
[null,null,null,null,null,null,null,{"$f":"IF(DATOS!A81<>\"\",DATOS!A81&configuracion!$C$10,\"\")","v":""},""]
[null,null,null,null,null,null,null,{"$f":"IF(DATOS!A82<>\"\",DATOS!A82&configuracion!$C$10,\"\")","v":""},""]
[null,null,null,null,null,null,null,{"$f":"IF(DATOS!A83<>\"\",DATOS!A83&configuracion!$C$10,\"\")","v":""},""]
[null,null,null,null,null,null,null,{"$f":"IF(DATOS!A84<>\"\",DATOS!A84&configuracion!$C$10,\"\")","v":""},""]
[null,null,null,null,null,null,null,{"$f":"IF(DATOS!A85<>\"\",DATOS!A85&configuracion!$C$10,\"\")","v":""},""]
[null,null,null,null,null,null,null,{"$f":"IF(DATOS!A86<>\"\",DATOS!A86&configuracion!$C$10,\"\")","v":""},""]
[null,null,null,null,null,null,null,{"$f":"IF(DATOS!A87<>\"\",DATOS!A87&configuracion!$C$10,\"\")","v":""},""]
[null,null,null,null,null,null,null,{"$f":"IF(DATOS!A88<>\"\",DATOS!A88&configuracion!$C$10,\"\")","v":""},""]
[null,null,null,null,null,null,null,{"$f":"IF(DATOS!A89<>\"\",DATOS!A89&configuracion!$C$10,\"\")","v":""},""]
[null,null,null,null,null,null,null,{"$f":"IF(DATOS!A90<>\"\",DATOS!A90&configuracion!$C$10,\"\")","v":""},""]
[null,null,null,null,null,null,null,{"$f":"IF(DATOS!A91<>\"\",DATOS!A91&configuracion!$C$10,\"\")","v":""},""]
[null,null,null,null,null,null,null,{"$f":"IF(DATOS!A92<>\"\",DATOS!A92&configuracion!$C$10,\"\")","v":""},""]
[null,null,null,null,null,null,null,{"$f":"IF(DATOS!A93<>\"\",DATOS!A93&configuracion!$C$10,\"\")","v":""},""]
[null,null,null,null,null,null,null,{"$f":"IF(DATOS!A94<>\"\",DATOS!A94&configuracion!$C$10,\"\")","v":""},""]
[null,null,null,null,null,null,null,{"$f":"IF(DATOS!A95<>\"\",DATOS!A95&configuracion!$C$10,\"\")","v":""},""]
[null,null,null,null,null,null,null,{"$f":"IF(DATOS!A96<>\"\",DATOS!A96&configuracion!$C$10,\"\")","v":""},""]
[null,null,null,null,null,null,null,{"$f":"IF(DATOS!A97<>\"\",DATOS!A97&configuracion!$C$10,\"\")","v":""},""]
[null,null,null,null,null,null,null,{"$f":"IF(DATOS!A98<>\"\",DATOS!A98&configuracion!$C$10,\"\")","v":""},""]
[null,null,null,null,null,null,null,{"$f":"IF(DATOS!A99<>\"\",DATOS!A99&configuracion!$C$10,\"\")","v":""},""]
[null,null,null,null,null,null,null,{"$f":"IF(DATOS!A100<>\"\",DATOS!A100&configuracion!$C$10,\"\")","v":""},""]
[null,null,null,null,null,null,null,{"$f":"IF(DATOS!A101<>\"\",DATOS!A101&configuracion!$C$10,\"\")","v":""},""]
[null,null,null,null,null,null,null,{"$f":"IF(DATOS!A102<>\"\",DATOS!A102&configuracion!$C$10,\"\")","v":""},""]
[null,null,null,null,null,null,null,{"$f":"IF(DATOS!A103<>\"\",DATOS!A103&configuracion!$C$10,\"\")","v":""},""]
[null,null,null,null,null,null,null,{"$f":"IF(DATOS!A104<>\"\",DATOS!A104&configuracion!$C$10,\"\")","v":""},""]
[null,null,null,null,null,null,null,{"$f":"IF(DATOS!A105<>\"\",DATOS!A105&configuracion!$C$10,\"\")","v":""},""]
[null,null,null,null,null,null,null,{"$f":"IF(DATOS!A106<>\"\",DATOS!A106&configuracion!$C$10,\"\")","v":""},""]
[null,null,null,null,null,null,null,{"$f":"IF(DATOS!A107<>\"\",DATOS!A107&configuracion!$C$10,\"\")","v":""},""]
[null,null,null,null,null,null,null,{"$f":"IF(DATOS!A108<>\"\",DATOS!A108&configuracion!$C$10,\"\")","v":""},""]
[null,null,null,null,null,null,null,{"$f":"IF(DATOS!A109<>\"\",DATOS!A109&configuracion!$C$10,\"\")","v":""},""]
[null,null,null,null,null,null,null,{"$f":"IF(DATOS!A110<>\"\",DATOS!A110&configuracion!$C$10,\"\")","v":""},""]
[null,null,null,null,null,null,null,{"$f":"IF(DATOS!A111<>\"\",DATOS!A111&configuracion!$C$10,\"\")","v":""},""]
[null,null,null,null,null,null,null,{"$f":"IF(DATOS!A112<>\"\",DATOS!A112&configuracion!$C$10,\"\")","v":""},""]
[null,null,null,null,null,null,null,{"$f":"IF(DATOS!A113<>\"\",DATOS!A113&configuracion!$C$10,\"\")","v":""},""]
[null,null,null,null,null,null,null,{"$f":"IF(DATOS!A114<>\"\",DATOS!A114&configuracion!$C$10,\"\")","v":""},""]
[null,null,null,null,null,null,null,{"$f":"IF(DATOS!A115<>\"\",DATOS!A115&configuracion!$C$10,\"\")","v":""},""]
[null,null,null,null,null,null,null,{"$f":"IF(DATOS!A116<>\"\",DATOS!A116&configuracion!$C$10,\"\")","v":""},""]
[null,null,null,null,null,null,null,{"$f":"IF(DATOS!A117<>\"\",DATOS!A117&configuracion!$C$10,\"\")","v":""},""]
[null,null,null,null,null,null,null,{"$f":"IF(DATOS!A118<>\"\",DATOS!A118&configuracion!$C$10,\"\")","v":""},""]
[null,null,null,null,null,null,null,{"$f":"IF(DATOS!A119<>\"\",DATOS!A119&configuracion!$C$10,\"\")","v":""},""]
[null,null,null,null,null,null,null,{"$f":"IF(DATOS!A120<>\"\",DATOS!A120&configuracion!$C$10,\"\")","v":""},""]
[null,null,null,null,null,null,null,{"$f":"IF(DATOS!A121<>\"\",DATOS!A121&configuracion!$C$10,\"\")","v":""},""]
[null,null,null,null,null,null,null,{"$f":"IF(DATOS!A122<>\"\",DATOS!A122&configuracion!$C$10,\"\")","v":""},""]
[null,null,null,null,null,null,null,{"$f":"IF(DATOS!A123<>\"\",DATOS!A123&configuracion!$C$10,\"\")","v":""},""]
[null,null,null,null,null,null,null,{"$f":"IF(DATOS!A124<>\"\",DATOS!A124&configuracion!$C$10,\"\")","v":""},""]
[null,null,null,null,null,null,null,{"$f":"IF(DATOS!A125<>\"\",DATOS!A125&configuracion!$C$10,\"\")","v":""},""]
[null,null,null,null,null,null,null,{"$f":"IF(DATOS!A126<>\"\",DATOS!A126&configuracion!$C$10,\"\")","v":""},""]
[null,null,null,null,null,null,null,{"$f":"IF(DATOS!A127<>\"\",DATOS!A127&configuracion!$C$10,\"\")","v":""},""]
[null,null,null,null,null,null,null,{"$f":"IF(DATOS!A128<>\"\",DATOS!A128&configuracion!$C$10,\"\")","v":""},""]
[null,null,null,null,null,null,null,{"$f":"IF(DATOS!A129<>\"\",DATOS!A129&configuracion!$C$10,\"\")","v":""},""]
[null,null,null,null,null,null,null,{"$f":"IF(DATOS!A130<>\"\",DATOS!A130&configuracion!$C$10,\"\")","v":""},""]
[null,null,null,null,null,null,null,{"$f":"IF(DATOS!A131<>\"\",DATOS!A131&configuracion!$C$10,\"\")","v":""},""]
[null,null,null,null,null,null,null,{"$f":"IF(DATOS!A132<>\"\",DATOS!A132&configuracion!$C$10,\"\")","v":""},{"$f":"IF(B132=\"\",\"\",TEXT(B132, \"DD/MM/YYYY HH:MM:SS\"))","v":""}]
[null,null,null,null,null,null,null,{"$f":"IF(DATOS!A133<>\"\",DATOS!A133&configuracion!$C$10,\"\")","v":""},""]
[null,null,null,null,null,null,null,{"$f":"IF(DATOS!A134<>\"\",DATOS!A134&configuracion!$C$10,\"\")","v":""},""]
[null,null,null,null,null,null,null,{"$f":"IF(DATOS!A135<>\"\",DATOS!A135&configuracion!$C$10,\"\")","v":""},""]
[null,null,null,null,null,null,null,{"$f":"IF(DATOS!A136<>\"\",DATOS!A136&configuracion!$C$10,\"\")","v":""},""]
[null,null,null,null,null,null,null,{"$f":"IF(DATOS!A137<>\"\",DATOS!A137&configuracion!$C$10,\"\")","v":""},""]
[null,null,null,null,null,null,null,{"$f":"IF(DATOS!A138<>\"\",DATOS!A138&configuracion!$C$10,\"\")","v":""},""]
[null,null,null,null,null,null,null,{"$f":"IF(DATOS!A139<>\"\",DATOS!A139&configuracion!$C$10,\"\")","v":""},""]
[null,null,null,null,null,null,null,{"$f":"IF(DATOS!A140<>\"\",DATOS!A140&configuracion!$C$10,\"\")","v":""},""]
[null,null,null,null,null,null,null,{"$f":"IF(DATOS!A141<>\"\",DATOS!A141&configuracion!$C$10,\"\")","v":""},""]
[null,null,null,null,null,null,null,{"$f":"IF(DATOS!A142<>\"\",DATOS!A142&configuracion!$C$10,\"\")","v":""},""]
[null,null,null,null,null,null,null,{"$f":"IF(DATOS!A143<>\"\",DATOS!A143&configuracion!$C$10,\"\")","v":""},""]
[null,null,null,null,null,null,null,{"$f":"IF(DATOS!A144<>\"\",DATOS!A144&configuracion!$C$10,\"\")","v":""},""]
[null,null,null,null,null,null,null,{"$f":"IF(DATOS!A145<>\"\",DATOS!A145&configuracion!$C$10,\"\")","v":""},""]
[null,null,null,null,null,null,null,{"$f":"IF(DATOS!A146<>\"\",DATOS!A146&configuracion!$C$10,\"\")","v":""},""]
[null,null,null,null,null,null,null,{"$f":"IF(DATOS!A147<>\"\",DATOS!A147&configuracion!$C$10,\"\")","v":""},""]
[null,null,null,null,null,null,null,{"$f":"IF(DATOS!A148<>\"\",DATOS!A148&configuracion!$C$10,\"\")","v":""},""]
[null,null,null,null,null,null,null,{"$f":"IF(DATOS!A149<>\"\",DATOS!A149&configuracion!$C$10,\"\")","v":""},""]
[null,null,null,null,null,null,null,{"$f":"IF(DATOS!A150<>\"\",DATOS!A150&configuracion!$C$10,\"\")","v":""},""]
[null,null,null,null,null,null,null,{"$f":"IF(DATOS!A151<>\"\",DATOS!A151&configuracion!$C$10,\"\")","v":""},""]
[null,null,null,null,null,null,null,{"$f":"IF(DATOS!A152<>\"\",DATOS!A152&configuracion!$C$10,\"\")","v":""},""]
[null,null,null,null,null,null,null,{"$f":"IF(DATOS!A153<>\"\",DATOS!A153&configuracion!$C$10,\"\")","v":""},""]
[null,null,null,null,null,null,null,{"$f":"IF(DATOS!A154<>\"\",DATOS!A154&configuracion!$C$10,\"\")","v":""},""]
[null,null,null,null,null,null,null,{"$f":"IF(DATOS!A155<>\"\",DATOS!A155&configuracion!$C$10,\"\")","v":""},""]
[null,null,null,null,null,null,null,{"$f":"IF(DATOS!A156<>\"\",DATOS!A156&configuracion!$C$10,\"\")","v":""},""]
[null,null,null,null,null,null,null,{"$f":"IF(DATOS!A157<>\"\",DATOS!A157&configuracion!$C$10,\"\")","v":""},""]
[null,null,null,null,null,null,null,{"$f":"IF(DATOS!A158<>\"\",DATOS!A158&configuracion!$C$10,\"\")","v":""},""]
[null,null,null,null,null,null,null,{"$f":"IF(DATOS!A159<>\"\",DATOS!A159&configuracion!$C$10,\"\")","v":""},""]
[null,null,null,null,null,null,null,{"$f":"IF(DATOS!A160<>\"\",DATOS!A160&configuracion!$C$10,\"\")","v":""},""]
[null,null,null,null,null,null,null,{"$f":"IF(DATOS!A161<>\"\",DATOS!A161&configuracion!$C$10,\"\")","v":""},""]
[null,null,null,null,null,null,null,{"$f":"IF(DATOS!A162<>\"\",DATOS!A162&configuracion!$C$10,\"\")","v":""},""]
[null,null,null,null,null,null,null,{"$f":"IF(DATOS!A163<>\"\",DATOS!A163&configuracion!$C$10,\"\")","v":""},""]
[null,null,null,null,null,null,null,{"$f":"IF(DATOS!A164<>\"\",DATOS!A164&configuracion!$C$10,\"\")","v":""},""]
[null,null,null,null,null,null,null,{"$f":"IF(DATOS!A165<>\"\",DATOS!A165&configuracion!$C$10,\"\")","v":""},""]
[null,null,null,null,null,null,null,{"$f":"IF(DATOS!A166<>\"\",DATOS!A166&configuracion!$C$10,\"\")","v":""},""]
[null,null,null,null,null,null,null,{"$f":"IF(DATOS!A167<>\"\",DATOS!A167&configuracion!$C$10,\"\")","v":""},""]
[null,null,null,null,null,null,null,{"$f":"IF(DATOS!A168<>\"\",DATOS!A168&configuracion!$C$10,\"\")","v":""},""]
[null,null,null,null,null,null,null,{"$f":"IF(DATOS!A169<>\"\",DATOS!A169&configuracion!$C$10,\"\")","v":""},""]
[null,null,null,null,null,null,null,{"$f":"IF(DATOS!A170<>\"\",DATOS!A170&configuracion!$C$10,\"\")","v":""},""]
[null,null,null,null,null,null,null,{"$f":"IF(DATOS!A171<>\"\",DATOS!A171&configuracion!$C$10,\"\")","v":""},""]
[null,null,null,null,null,null,null,{"$f":"IF(DATOS!A172<>\"\",DATOS!A172&configuracion!$C$10,\"\")","v":""},""]
[null,null,null,null,null,null,null,{"$f":"IF(DATOS!A173<>\"\",DATOS!A173&configuracion!$C$10,\"\")","v":""},""]
[null,null,null,null,null,null,null,{"$f":"IF(DATOS!A174<>\"\",DATOS!A174&configuracion!$C$10,\"\")","v":""},""]
[null,null,null,null,null,null,null,{"$f":"IF(DATOS!A175<>\"\",DATOS!A175&configuracion!$C$10,\"\")","v":""},""]
[null,null,null,null,null,null,null,{"$f":"IF(DATOS!A176<>\"\",DATOS!A176&configuracion!$C$10,\"\")","v":""},""]
[null,null,null,null,null,null,null,{"$f":"IF(DATOS!A177<>\"\",DATOS!A177&configuracion!$C$10,\"\")","v":""},""]
[null,null,null,null,null,null,null,{"$f":"IF(DATOS!A178<>\"\",DATOS!A178&configuracion!$C$10,\"\")","v":""},""]
[null,null,null,null,null,null,null,{"$f":"IF(DATOS!A179<>\"\",DATOS!A179&configuracion!$C$10,\"\")","v":""},""]
[null,null,null,null,null,null,null,{"$f":"IF(DATOS!A180<>\"\",DATOS!A180&configuracion!$C$10,\"\")","v":""},""]
[null,null,null,null,null,null,null,{"$f":"IF(DATOS!A181<>\"\",DATOS!A181&configuracion!$C$10,\"\")","v":""},""]
[null,null,null,null,null,null,null,{"$f":"IF(DATOS!A182<>\"\",DATOS!A182&configuracion!$C$10,\"\")","v":""},""]
[null,null,null,null,null,null,null,{"$f":"IF(DATOS!A183<>\"\",DATOS!A183&configuracion!$C$10,\"\")","v":""},""]
[null,null,null,null,null,null,null,{"$f":"IF(DATOS!A184<>\"\",DATOS!A184&configuracion!$C$10,\"\")","v":""},""]
[null,null,null,null,null,null,null,{"$f":"IF(DATOS!A185<>\"\",DATOS!A185&configuracion!$C$10,\"\")","v":""},""]
[null,null,null,null,null,null,null,{"$f":"IF(DATOS!A186<>\"\",DATOS!A186&configuracion!$C$10,\"\")","v":""},""]
[null,null,null,null,null,null,null,{"$f":"IF(DATOS!A187<>\"\",DATOS!A187&configuracion!$C$10,\"\")","v":""},""]
[null,null,null,null,null,null,null,{"$f":"IF(DATOS!A188<>\"\",DATOS!A188&configuracion!$C$10,\"\")","v":""},""]
[null,null,null,null,null,null,null,{"$f":"IF(DATOS!A189<>\"\",DATOS!A189&configuracion!$C$10,\"\")","v":""},""]
[null,null,null,null,null,null,null,{"$f":"IF(DATOS!A190<>\"\",DATOS!A190&configuracion!$C$10,\"\")","v":""},""]
[null,null,null,null,null,null,null,{"$f":"IF(DATOS!A191<>\"\",DATOS!A191&configuracion!$C$10,\"\")","v":""},""]
[null,null,null,null,null,null,null,{"$f":"IF(DATOS!A192<>\"\",DATOS!A192&configuracion!$C$10,\"\")","v":""},""]
[null,null,null,null,null,null,null,{"$f":"IF(DATOS!A193<>\"\",DATOS!A193&configuracion!$C$10,\"\")","v":""},""]
[null,null,null,null,null,null,null,{"$f":"IF(DATOS!A194<>\"\",DATOS!A194&configuracion!$C$10,\"\")","v":""},""]
[null,null,null,null,null,null,null,{"$f":"IF(DATOS!A195<>\"\",DATOS!A195&configuracion!$C$10,\"\")","v":""},""]
[null,null,null,null,null,null,null,{"$f":"IF(DATOS!A196<>\"\",DATOS!A196&configuracion!$C$10,\"\")","v":""},{"$f":"IF(B196=\"\",\"\",TEXT(B196, \"DD/MM/YYYY HH:MM:SS\"))","v":""}]
[null,null,null,null,null,null,null,{"$f":"IF(DATOS!A197<>\"\",DATOS!A197&configuracion!$C$10,\"\")","v":""},""]
[null,null,null,null,null,null,null,{"$f":"IF(DATOS!A198<>\"\",DATOS!A198&configuracion!$C$10,\"\")","v":""},""]
[null,null,null,null,null,null,null,{"$f":"IF(DATOS!A199<>\"\",DATOS!A199&configuracion!$C$10,\"\")","v":""},""]
[null,null,null,null,null,null,null,{"$f":"IF(DATOS!A200<>\"\",DATOS!A200&configuracion!$C$10,\"\")","v":""},""]
[null,null,null,null,null,null,null,{"$f":"IF(DATOS!A201<>\"\",DATOS!A201&configuracion!$C$10,\"\")","v":""},""]
[null,null,null,null,null,null,null,{"$f":"IF(DATOS!A202<>\"\",DATOS!A202&configuracion!$C$10,\"\")","v":""},""]
[null,null,null,null,null,null,null,{"$f":"IF(DATOS!A203<>\"\",DATOS!A203&configuracion!$C$10,\"\")","v":""},""]
[null,null,null,null,null,null,null,{"$f":"IF(DATOS!A204<>\"\",DATOS!A204&configuracion!$C$10,\"\")","v":""},""]
[null,null,null,null,null,null,null,{"$f":"IF(DATOS!A205<>\"\",DATOS!A205&configuracion!$C$10,\"\")","v":""},""]
[null,null,null,null,null,null,null,{"$f":"IF(DATOS!A206<>\"\",DATOS!A206&configuracion!$C$10,\"\")","v":""},""]
[null,null,null,null,null,null,null,{"$f":"IF(DATOS!A207<>\"\",DATOS!A207&configuracion!$C$10,\"\")","v":""},""]
[null,null,null,null,null,null,null,{"$f":"IF(DATOS!A208<>\"\",DATOS!A208&configuracion!$C$10,\"\")","v":""},""]
[null,null,null,null,null,null,null,{"$f":"IF(DATOS!A209<>\"\",DATOS!A209&configuracion!$C$10,\"\")","v":""},""]
[null,null,null,null,null,null,null,{"$f":"IF(DATOS!A210<>\"\",DATOS!A210&configuracion!$C$10,\"\")","v":""},""]
[null,null,null,null,null,null,null,{"$f":"IF(DATOS!A211<>\"\",DATOS!A211&configuracion!$C$10,\"\")","v":""},""]
[null,null,null,null,null,null,null,{"$f":"IF(DATOS!A212<>\"\",DATOS!A212&configuracion!$C$10,\"\")","v":""},""]
[null,null,null,null,null,null,null,{"$f":"IF(DATOS!A213<>\"\",DATOS!A213&configuracion!$C$10,\"\")","v":""},""]
[null,null,null,null,null,null,null,{"$f":"IF(DATOS!A214<>\"\",DATOS!A214&configuracion!$C$10,\"\")","v":""},""]
[null,null,null,null,null,null,null,{"$f":"IF(DATOS!A215<>\"\",DATOS!A215&configuracion!$C$10,\"\")","v":""},""]
[null,null,null,null,null,null,null,{"$f":"IF(DATOS!A216<>\"\",DATOS!A216&configuracion!$C$10,\"\")","v":""},""]
[null,null,null,null,null,null,null,{"$f":"IF(DATOS!A217<>\"\",DATOS!A217&configuracion!$C$10,\"\")","v":""},""]
[null,null,null,null,null,null,null,{"$f":"IF(DATOS!A218<>\"\",DATOS!A218&configuracion!$C$10,\"\")","v":""},""]
[null,null,null,null,null,null,null,{"$f":"IF(DATOS!A219<>\"\",DATOS!A219&configuracion!$C$10,\"\")","v":""},""]
[null,null,null,null,null,null,null,{"$f":"IF(DATOS!A220<>\"\",DATOS!A220&configuracion!$C$10,\"\")","v":""},""]
[null,null,null,null,null,null,null,{"$f":"IF(DATOS!A221<>\"\",DATOS!A221&configuracion!$C$10,\"\")","v":""},""]
[null,null,null,null,null,null,null,{"$f":"IF(DATOS!A222<>\"\",DATOS!A222&configuracion!$C$10,\"\")","v":""},""]
[null,null,null,null,null,null,null,{"$f":"IF(DATOS!A223<>\"\",DATOS!A223&configuracion!$C$10,\"\")","v":""},""]
[null,null,null,null,null,null,null,{"$f":"IF(DATOS!A224<>\"\",DATOS!A224&configuracion!$C$10,\"\")","v":""},""]
[null,null,null,null,null,null,null,{"$f":"IF(DATOS!A225<>\"\",DATOS!A225&configuracion!$C$10,\"\")","v":""},""]
[null,null,null,null,null,null,null,{"$f":"IF(DATOS!A226<>\"\",DATOS!A226&configuracion!$C$10,\"\")","v":""},""]
[null,null,null,null,null,null,null,{"$f":"IF(DATOS!A227<>\"\",DATOS!A227&configuracion!$C$10,\"\")","v":""},""]
[null,null,null,null,null,null,null,{"$f":"IF(DATOS!A228<>\"\",DATOS!A228&configuracion!$C$10,\"\")","v":""},""]
[null,null,null,null,null,null,null,{"$f":"IF(DATOS!A229<>\"\",DATOS!A229&configuracion!$C$10,\"\")","v":""},""]
[null,null,null,null,null,null,null,{"$f":"IF(DATOS!A230<>\"\",DATOS!A230&configuracion!$C$10,\"\")","v":""},""]
[null,null,null,null,null,null,null,{"$f":"IF(DATOS!A231<>\"\",DATOS!A231&configuracion!$C$10,\"\")","v":""},""]
[null,null,null,null,null,null,null,{"$f":"IF(DATOS!A232<>\"\",DATOS!A232&configuracion!$C$10,\"\")","v":""},""]
[null,null,null,null,null,null,null,{"$f":"IF(DATOS!A233<>\"\",DATOS!A233&configuracion!$C$10,\"\")","v":""},""]
[null,null,null,null,null,null,null,{"$f":"IF(DATOS!A234<>\"\",DATOS!A234&configuracion!$C$10,\"\")","v":""},""]
[null,null,null,null,null,null,null,{"$f":"IF(DATOS!A235<>\"\",DATOS!A235&configuracion!$C$10,\"\")","v":""},""]
[null,null,null,null,null,null,null,{"$f":"IF(DATOS!A236<>\"\",DATOS!A236&configuracion!$C$10,\"\")","v":""},""]
[null,null,null,null,null,null,null,{"$f":"IF(DATOS!A237<>\"\",DATOS!A237&configuracion!$C$10,\"\")","v":""},""]
[null,null,null,null,null,null,null,{"$f":"IF(DATOS!A238<>\"\",DATOS!A238&configuracion!$C$10,\"\")","v":""},""]
[null,null,null,null,null,null,null,{"$f":"IF(DATOS!A239<>\"\",DATOS!A239&configuracion!$C$10,\"\")","v":""},""]
[null,null,null,null,null,null,null,{"$f":"IF(DATOS!A240<>\"\",DATOS!A240&configuracion!$C$10,\"\")","v":""},""]
[null,null,null,null,null,null,null,{"$f":"IF(DATOS!A241<>\"\",DATOS!A241&configuracion!$C$10,\"\")","v":""},""]
[null,null,null,null,null,null,null,{"$f":"IF(DATOS!A242<>\"\",DATOS!A242&configuracion!$C$10,\"\")","v":""},""]
[null,null,null,null,null,null,null,{"$f":"IF(DATOS!A243<>\"\",DATOS!A243&configuracion!$C$10,\"\")","v":""},""]
[null,null,null,null,null,null,null,{"$f":"IF(DATOS!A244<>\"\",DATOS!A244&configuracion!$C$10,\"\")","v":""},""]
[null,null,null,null,null,null,null,{"$f":"IF(DATOS!A245<>\"\",DATOS!A245&configuracion!$C$10,\"\")","v":""},""]
[null,null,null,null,null,null,null,{"$f":"IF(DATOS!A246<>\"\",DATOS!A246&configuracion!$C$10,\"\")","v":""},""]
[null,null,null,null,null,null,null,{"$f":"IF(DATOS!A247<>\"\",DATOS!A247&configuracion!$C$10,\"\")","v":""},""]
[null,null,null,null,null,null,null,{"$f":"IF(DATOS!A248<>\"\",DATOS!A248&configuracion!$C$10,\"\")","v":""},""]
[null,null,null,null,null,null,null,{"$f":"IF(DATOS!A249<>\"\",DATOS!A249&configuracion!$C$10,\"\")","v":""},""]
[null,null,null,null,null,null,null,{"$f":"IF(DATOS!A250<>\"\",DATOS!A250&configuracion!$C$10,\"\")","v":""},""]
[null,null,null,null,null,null,null,{"$f":"IF(DATOS!A251<>\"\",DATOS!A251&configuracion!$C$10,\"\")","v":""},""]
[null,null,null,null,null,null,null,{"$f":"IF(DATOS!A252<>\"\",DATOS!A252&configuracion!$C$10,\"\")","v":""},""]
[null,null,null,null,null,null,null,{"$f":"IF(DATOS!A253<>\"\",DATOS!A253&configuracion!$C$10,\"\")","v":""},""]
[null,null,null,null,null,null,null,{"$f":"IF(DATOS!A254<>\"\",DATOS!A254&configuracion!$C$10,\"\")","v":""},""]
[null,null,null,null,null,null,null,{"$f":"IF(DATOS!A255<>\"\",DATOS!A255&configuracion!$C$10,\"\")","v":""},""]
[null,null,null,null,null,null,null,{"$f":"IF(DATOS!A256<>\"\",DATOS!A256&configuracion!$C$10,\"\")","v":""},""]
[null,null,null,null,null,null,null,{"$f":"IF(DATOS!A257<>\"\",DATOS!A257&configuracion!$C$10,\"\")","v":""},""]
[null,null,null,null,null,null,null,{"$f":"IF(DATOS!A258<>\"\",DATOS!A258&configuracion!$C$10,\"\")","v":""},""]
[null,null,null,null,null,null,null,{"$f":"IF(DATOS!A259<>\"\",DATOS!A259&configuracion!$C$10,\"\")","v":""},""]
[null,null,null,null,null,null,null,{"$f":"IF(DATOS!A260<>\"\",DATOS!A260&configuracion!$C$10,\"\")","v":""},{"$f":"IF(B260=\"\",\"\",TEXT(B260, \"DD/MM/YYYY HH:MM:SS\"))","v":""}]
[null,null,null,null,null,null,null,{"$f":"IF(DATOS!A261<>\"\",DATOS!A261&configuracion!$C$10,\"\")","v":""},""]
[null,null,null,null,null,null,null,{"$f":"IF(DATOS!A262<>\"\",DATOS!A262&configuracion!$C$10,\"\")","v":""},""]
[null,null,null,null,null,null,null,{"$f":"IF(DATOS!A263<>\"\",DATOS!A263&configuracion!$C$10,\"\")","v":""},""]
[null,null,null,null,null,null,null,{"$f":"IF(DATOS!A264<>\"\",DATOS!A264&configuracion!$C$10,\"\")","v":""},""]
[null,null,null,null,null,null,null,{"$f":"IF(DATOS!A265<>\"\",DATOS!A265&configuracion!$C$10,\"\")","v":""},""]
[null,null,null,null,null,null,null,{"$f":"IF(DATOS!A266<>\"\",DATOS!A266&configuracion!$C$10,\"\")","v":""},""]
[null,null,null,null,null,null,null,{"$f":"IF(DATOS!A267<>\"\",DATOS!A267&configuracion!$C$10,\"\")","v":""},""]
[null,null,null,null,null,null,null,{"$f":"IF(DATOS!A268<>\"\",DATOS!A268&configuracion!$C$10,\"\")","v":""},""]
[null,null,null,null,null,null,null,{"$f":"IF(DATOS!A269<>\"\",DATOS!A269&configuracion!$C$10,\"\")","v":""},""]
[null,null,null,null,null,null,null,{"$f":"IF(DATOS!A270<>\"\",DATOS!A270&configuracion!$C$10,\"\")","v":""},""]
[null,null,null,null,null,null,null,{"$f":"IF(DATOS!A271<>\"\",DATOS!A271&configuracion!$C$10,\"\")","v":""},""]
[null,null,null,null,null,null,null,{"$f":"IF(DATOS!A272<>\"\",DATOS!A272&configuracion!$C$10,\"\")","v":""},""]
[null,null,null,null,null,null,null,{"$f":"IF(DATOS!A273<>\"\",DATOS!A273&configuracion!$C$10,\"\")","v":""},""]
[null,null,null,null,null,null,null,{"$f":"IF(DATOS!A274<>\"\",DATOS!A274&configuracion!$C$10,\"\")","v":""},""]
[null,null,null,null,null,null,null,{"$f":"IF(DATOS!A275<>\"\",DATOS!A275&configuracion!$C$10,\"\")","v":""},""]
[null,null,null,null,null,null,null,{"$f":"IF(DATOS!A276<>\"\",DATOS!A276&configuracion!$C$10,\"\")","v":""},""]
[null,null,null,null,null,null,null,{"$f":"IF(DATOS!A277<>\"\",DATOS!A277&configuracion!$C$10,\"\")","v":""},""]
[null,null,null,null,null,null,null,{"$f":"IF(DATOS!A278<>\"\",DATOS!A278&configuracion!$C$10,\"\")","v":""},""]
[null,null,null,null,null,null,null,{"$f":"IF(DATOS!A279<>\"\",DATOS!A279&configuracion!$C$10,\"\")","v":""},""]
[null,null,null,null,null,null,null,{"$f":"IF(DATOS!A280<>\"\",DATOS!A280&configuracion!$C$10,\"\")","v":""},""]
[null,null,null,null,null,null,null,{"$f":"IF(DATOS!A281<>\"\",DATOS!A281&configuracion!$C$10,\"\")","v":""},""]
[null,null,null,null,null,null,null,{"$f":"IF(DATOS!A282<>\"\",DATOS!A282&configuracion!$C$10,\"\")","v":""},""]
[null,null,null,null,null,null,null,{"$f":"IF(DATOS!A283<>\"\",DATOS!A283&configuracion!$C$10,\"\")","v":""},""]
[null,null,null,null,null,null,null,{"$f":"IF(DATOS!A284<>\"\",DATOS!A284&configuracion!$C$10,\"\")","v":""},""]
[null,null,null,null,null,null,null,{"$f":"IF(DATOS!A285<>\"\",DATOS!A285&configuracion!$C$10,\"\")","v":""},""]
[null,null,null,null,null,null,null,{"$f":"IF(DATOS!A286<>\"\",DATOS!A286&configuracion!$C$10,\"\")","v":""},""]
[null,null,null,null,null,null,null,{"$f":"IF(DATOS!A287<>\"\",DATOS!A287&configuracion!$C$10,\"\")","v":""},""]
[null,null,null,null,null,null,null,{"$f":"IF(DATOS!A288<>\"\",DATOS!A288&configuracion!$C$10,\"\")","v":""},""]
[null,null,null,null,null,null,null,{"$f":"IF(DATOS!A289<>\"\",DATOS!A289&configuracion!$C$10,\"\")","v":""},""]
[null,null,null,null,null,null,null,{"$f":"IF(DATOS!A290<>\"\",DATOS!A290&configuracion!$C$10,\"\")","v":""},""]
[null,null,null,null,null,null,null,{"$f":"IF(DATOS!A291<>\"\",DATOS!A291&configuracion!$C$10,\"\")","v":""},""]
[null,null,null,null,null,null,null,{"$f":"IF(DATOS!A292<>\"\",DATOS!A292&configuracion!$C$10,\"\")","v":""},""]
[null,null,null,null,null,null,null,{"$f":"IF(DATOS!A293<>\"\",DATOS!A293&configuracion!$C$10,\"\")","v":""},""]
[null,null,null,null,null,null,null,{"$f":"IF(DATOS!A294<>\"\",DATOS!A294&configuracion!$C$10,\"\")","v":""},""]
[null,null,null,null,null,null,null,{"$f":"IF(DATOS!A295<>\"\",DATOS!A295&configuracion!$C$10,\"\")","v":""},""]
[null,null,null,null,null,null,null,{"$f":"IF(DATOS!A296<>\"\",DATOS!A296&configuracion!$C$10,\"\")","v":""},""]
[null,null,null,null,null,null,null,{"$f":"IF(DATOS!A297<>\"\",DATOS!A297&configuracion!$C$10,\"\")","v":""},""]
[null,null,null,null,null,null,null,{"$f":"IF(DATOS!A298<>\"\",DATOS!A298&configuracion!$C$10,\"\")","v":""},""]
[null,null,null,null,null,null,null,{"$f":"IF(DATOS!A299<>\"\",DATOS!A299&configuracion!$C$10,\"\")","v":""},""]
[null,null,null,null,null,null,null,{"$f":"IF(DATOS!A300<>\"\",DATOS!A300&configuracion!$C$10,\"\")","v":""},""]
[null,null,null,null,null,null,null,{"$f":"IF(DATOS!A301<>\"\",DATOS!A301&configuracion!$C$10,\"\")","v":""},""]
[null,null,null,null,null,null,null,{"$f":"IF(DATOS!A302<>\"\",DATOS!A302&configuracion!$C$10,\"\")","v":""},""]
[null,null,null,null,null,null,null,{"$f":"IF(DATOS!A303<>\"\",DATOS!A303&configuracion!$C$10,\"\")","v":""},""]
[null,null,null,null,null,null,null,{"$f":"IF(DATOS!A304<>\"\",DATOS!A304&configuracion!$C$10,\"\")","v":""},""]
[null,null,null,null,null,null,null,{"$f":"IF(DATOS!A305<>\"\",DATOS!A305&configuracion!$C$10,\"\")","v":""},""]
[null,null,null,null,null,null,null,{"$f":"IF(DATOS!A306<>\"\",DATOS!A306&configuracion!$C$10,\"\")","v":""},""]
[null,null,null,null,null,null,null,{"$f":"IF(DATOS!A307<>\"\",DATOS!A307&configuracion!$C$10,\"\")","v":""},""]
[null,null,null,null,null,null,null,{"$f":"IF(DATOS!A308<>\"\",DATOS!A308&configuracion!$C$10,\"\")","v":""},""]
[null,null,null,null,null,null,null,{"$f":"IF(DATOS!A309<>\"\",DATOS!A309&configuracion!$C$10,\"\")","v":""},""]
[null,null,null,null,null,null,null,{"$f":"IF(DATOS!A310<>\"\",DATOS!A310&configuracion!$C$10,\"\")","v":""},""]
[null,null,null,null,null,null,null,{"$f":"IF(DATOS!A311<>\"\",DATOS!A311&configuracion!$C$10,\"\")","v":""},""]
[null,null,null,null,null,null,null,{"$f":"IF(DATOS!A312<>\"\",DATOS!A312&configuracion!$C$10,\"\")","v":""},""]
[null,null,null,null,null,null,null,{"$f":"IF(DATOS!A313<>\"\",DATOS!A313&configuracion!$C$10,\"\")","v":""},""]
[null,null,null,null,null,null,null,{"$f":"IF(DATOS!A314<>\"\",DATOS!A314&configuracion!$C$10,\"\")","v":""},""]
[null,null,null,null,null,null,null,{"$f":"IF(DATOS!A315<>\"\",DATOS!A315&configuracion!$C$10,\"\")","v":""},""]
[null,null,null,null,null,null,null,{"$f":"IF(DATOS!A316<>\"\",DATOS!A316&configuracion!$C$10,\"\")","v":""},""]
[null,null,null,null,null,null,null,{"$f":"IF(DATOS!A317<>\"\",DATOS!A317&configuracion!$C$10,\"\")","v":""},""]
[null,null,null,null,null,null,null,{"$f":"IF(DATOS!A318<>\"\",DATOS!A318&configuracion!$C$10,\"\")","v":""},""]
[null,null,null,null,null,null,null,{"$f":"IF(DATOS!A319<>\"\",DATOS!A319&configuracion!$C$10,\"\")","v":""},""]
[null,null,null,null,null,null,null,{"$f":"IF(DATOS!A320<>\"\",DATOS!A320&configuracion!$C$10,\"\")","v":""},""]
[null,null,null,null,null,null,null,{"$f":"IF(DATOS!A321<>\"\",DATOS!A321&configuracion!$C$10,\"\")","v":""},""]
[null,null,null,null,null,null,null,{"$f":"IF(DATOS!A322<>\"\",DATOS!A322&configuracion!$C$10,\"\")","v":""},""]
[null,null,null,null,null,null,null,{"$f":"IF(DATOS!A323<>\"\",DATOS!A323&configuracion!$C$10,\"\")","v":""},""]
[null,null,null,null,null,null,null,{"$f":"IF(DATOS!A324<>\"\",DATOS!A324&configuracion!$C$10,\"\")","v":""},{"$f":"IF(B324=\"\",\"\",TEXT(B324, \"DD/MM/YYYY HH:MM:SS\"))","v":""}]
[null,null,null,null,null,null,null,{"$f":"IF(DATOS!A325<>\"\",DATOS!A325&configuracion!$C$10,\"\")","v":""},""]
[null,null,null,null,null,null,null,{"$f":"IF(DATOS!A326<>\"\",DATOS!A326&configuracion!$C$10,\"\")","v":""},""]
[null,null,null,null,null,null,null,{"$f":"IF(DATOS!A327<>\"\",DATOS!A327&configuracion!$C$10,\"\")","v":""},""]
[null,null,null,null,null,null,null,{"$f":"IF(DATOS!A328<>\"\",DATOS!A328&configuracion!$C$10,\"\")","v":""},""]
[null,null,null,null,null,null,null,{"$f":"IF(DATOS!A329<>\"\",DATOS!A329&configuracion!$C$10,\"\")","v":""},""]
[null,null,null,null,null,null,null,{"$f":"IF(DATOS!A330<>\"\",DATOS!A330&configuracion!$C$10,\"\")","v":""},""]
[null,null,null,null,null,null,null,{"$f":"IF(DATOS!A331<>\"\",DATOS!A331&configuracion!$C$10,\"\")","v":""},""]
[null,null,null,null,null,null,null,{"$f":"IF(DATOS!A332<>\"\",DATOS!A332&configuracion!$C$10,\"\")","v":""},""]
[null,null,null,null,null,null,null,{"$f":"IF(DATOS!A333<>\"\",DATOS!A333&configuracion!$C$10,\"\")","v":""},""]
[null,null,null,null,null,null,null,{"$f":"IF(DATOS!A334<>\"\",DATOS!A334&configuracion!$C$10,\"\")","v":""},""]
[null,null,null,null,null,null,null,{"$f":"IF(DATOS!A335<>\"\",DATOS!A335&configuracion!$C$10,\"\")","v":""},""]
[null,null,null,null,null,null,null,{"$f":"IF(DATOS!A336<>\"\",DATOS!A336&configuracion!$C$10,\"\")","v":""},""]
[null,null,null,null,null,null,null,{"$f":"IF(DATOS!A337<>\"\",DATOS!A337&configuracion!$C$10,\"\")","v":""},""]
[null,null,null,null,null,null,null,{"$f":"IF(DATOS!A338<>\"\",DATOS!A338&configuracion!$C$10,\"\")","v":""},""]
[null,null,null,null,null,null,null,{"$f":"IF(DATOS!A339<>\"\",DATOS!A339&configuracion!$C$10,\"\")","v":""},""]
[null,null,null,null,null,null,null,{"$f":"IF(DATOS!A340<>\"\",DATOS!A340&configuracion!$C$10,\"\")","v":""},""]
[null,null,null,null,null,null,null,{"$f":"IF(DATOS!A341<>\"\",DATOS!A341&configuracion!$C$10,\"\")","v":""},""]
[null,null,null,null,null,null,null,{"$f":"IF(DATOS!A342<>\"\",DATOS!A342&configuracion!$C$10,\"\")","v":""},""]
[null,null,null,null,null,null,null,{"$f":"IF(DATOS!A343<>\"\",DATOS!A343&configuracion!$C$10,\"\")","v":""},""]
[null,null,null,null,null,null,null,{"$f":"IF(DATOS!A344<>\"\",DATOS!A344&configuracion!$C$10,\"\")","v":""},""]
[null,null,null,null,null,null,null,{"$f":"IF(DATOS!A345<>\"\",DATOS!A345&configuracion!$C$10,\"\")","v":""},""]
[null,null,null,null,null,null,null,{"$f":"IF(DATOS!A346<>\"\",DATOS!A346&configuracion!$C$10,\"\")","v":""},""]
[null,null,null,null,null,null,null,{"$f":"IF(DATOS!A347<>\"\",DATOS!A347&configuracion!$C$10,\"\")","v":""},""]
[null,null,null,null,null,null,null,{"$f":"IF(DATOS!A348<>\"\",DATOS!A348&configuracion!$C$10,\"\")","v":""},""]
[null,null,null,null,null,null,null,{"$f":"IF(DATOS!A349<>\"\",DATOS!A349&configuracion!$C$10,\"\")","v":""},""]
[null,null,null,null,null,null,null,{"$f":"IF(DATOS!A350<>\"\",DATOS!A350&configuracion!$C$10,\"\")","v":""},""]
[null,null,null,null,null,null,null,{"$f":"IF(DATOS!A351<>\"\",DATOS!A351&configuracion!$C$10,\"\")","v":""},""]
[null,null,null,null,null,null,null,{"$f":"IF(DATOS!A352<>\"\",DATOS!A352&configuracion!$C$10,\"\")","v":""},""]
[null,null,null,null,null,null,null,{"$f":"IF(DATOS!A353<>\"\",DATOS!A353&configuracion!$C$10,\"\")","v":""},""]
[null,null,null,null,null,null,null,{"$f":"IF(DATOS!A354<>\"\",DATOS!A354&configuracion!$C$10,\"\")","v":""},""]
[null,null,null,null,null,null,null,{"$f":"IF(DATOS!A355<>\"\",DATOS!A355&configuracion!$C$10,\"\")","v":""},""]
[null,null,null,null,null,null,null,{"$f":"IF(DATOS!A356<>\"\",DATOS!A356&configuracion!$C$10,\"\")","v":""},""]
[null,null,null,null,null,null,null,{"$f":"IF(DATOS!A357<>\"\",DATOS!A357&configuracion!$C$10,\"\")","v":""},""]
[null,null,null,null,null,null,null,{"$f":"IF(DATOS!A358<>\"\",DATOS!A358&configuracion!$C$10,\"\")","v":""},""]
[null,null,null,null,null,null,null,{"$f":"IF(DATOS!A359<>\"\",DATOS!A359&configuracion!$C$10,\"\")","v":""},""]
[null,null,null,null,null,null,null,{"$f":"IF(DATOS!A360<>\"\",DATOS!A360&configuracion!$C$10,\"\")","v":""},""]
[null,null,null,null,null,null,null,{"$f":"IF(DATOS!A361<>\"\",DATOS!A361&configuracion!$C$10,\"\")","v":""},""]
[null,null,null,null,null,null,null,{"$f":"IF(DATOS!A362<>\"\",DATOS!A362&configuracion!$C$10,\"\")","v":""},""]
[null,null,null,null,null,null,null,{"$f":"IF(DATOS!A363<>\"\",DATOS!A363&configuracion!$C$10,\"\")","v":""},""]
[null,null,null,null,null,null,null,{"$f":"IF(DATOS!A364<>\"\",DATOS!A364&configuracion!$C$10,\"\")","v":""},""]
[null,null,null,null,null,null,null,{"$f":"IF(DATOS!A365<>\"\",DATOS!A365&configuracion!$C$10,\"\")","v":""},""]
[null,null,null,null,null,null,null,{"$f":"IF(DATOS!A366<>\"\",DATOS!A366&configuracion!$C$10,\"\")","v":""},""]
[null,null,null,null,null,null,null,{"$f":"IF(DATOS!A367<>\"\",DATOS!A367&configuracion!$C$10,\"\")","v":""},""]
[null,null,null,null,null,null,null,{"$f":"IF(DATOS!A368<>\"\",DATOS!A368&configuracion!$C$10,\"\")","v":""},""]
[null,null,null,null,null,null,null,{"$f":"IF(DATOS!A369<>\"\",DATOS!A369&configuracion!$C$10,\"\")","v":""},""]
[null,null,null,null,null,null,null,{"$f":"IF(DATOS!A370<>\"\",DATOS!A370&configuracion!$C$10,\"\")","v":""},""]
[null,null,null,null,null,null,null,{"$f":"IF(DATOS!A371<>\"\",DATOS!A371&configuracion!$C$10,\"\")","v":""},""]
[null,null,null,null,null,null,null,{"$f":"IF(DATOS!A372<>\"\",DATOS!A372&configuracion!$C$10,\"\")","v":""},""]
[null,null,null,null,null,null,null,{"$f":"IF(DATOS!A373<>\"\",DATOS!A373&configuracion!$C$10,\"\")","v":""},""]
[null,null,null,null,null,null,null,{"$f":"IF(DATOS!A374<>\"\",DATOS!A374&configuracion!$C$10,\"\")","v":""},""]
[null,null,null,null,null,null,null,{"$f":"IF(DATOS!A375<>\"\",DATOS!A375&configuracion!$C$10,\"\")","v":""},""]
[null,null,null,null,null,null,null,{"$f":"IF(DATOS!A376<>\"\",DATOS!A376&configuracion!$C$10,\"\")","v":""},""]
[null,null,null,null,null,null,null,{"$f":"IF(DATOS!A377<>\"\",DATOS!A377&configuracion!$C$10,\"\")","v":""},""]
[null,null,null,null,null,null,null,{"$f":"IF(DATOS!A378<>\"\",DATOS!A378&configuracion!$C$10,\"\")","v":""},""]
[null,null,null,null,null,null,null,{"$f":"IF(DATOS!A379<>\"\",DATOS!A379&configuracion!$C$10,\"\")","v":""},""]
[null,null,null,null,null,null,null,{"$f":"IF(DATOS!A380<>\"\",DATOS!A380&configuracion!$C$10,\"\")","v":""},""]
[null,null,null,null,null,null,null,{"$f":"IF(DATOS!A381<>\"\",DATOS!A381&configuracion!$C$10,\"\")","v":""},""]
[null,null,null,null,null,null,null,{"$f":"IF(DATOS!A382<>\"\",DATOS!A382&configuracion!$C$10,\"\")","v":""},""]
[null,null,null,null,null,null,null,{"$f":"IF(DATOS!A383<>\"\",DATOS!A383&configuracion!$C$10,\"\")","v":""},""]
[null,null,null,null,null,null,null,{"$f":"IF(DATOS!A384<>\"\",DATOS!A384&configuracion!$C$10,\"\")","v":""},""]
[null,null,null,null,null,null,null,{"$f":"IF(DATOS!A385<>\"\",DATOS!A385&configuracion!$C$10,\"\")","v":""},""]
[null,null,null,null,null,null,null,{"$f":"IF(DATOS!A386<>\"\",DATOS!A386&configuracion!$C$10,\"\")","v":""},""]
[null,null,null,null,null,null,null,{"$f":"IF(DATOS!A387<>\"\",DATOS!A387&configuracion!$C$10,\"\")","v":""},""]
[null,null,null,null,null,null,null,{"$f":"IF(DATOS!A388<>\"\",DATOS!A388&configuracion!$C$10,\"\")","v":""},{"$f":"IF(B388=\"\",\"\",TEXT(B388, \"DD/MM/YYYY HH:MM:SS\"))","v":""}]
[null,null,null,null,null,null,null,{"$f":"IF(DATOS!A389<>\"\",DATOS!A389&configuracion!$C$10,\"\")","v":""},""]
[null,null,null,null,null,null,null,{"$f":"IF(DATOS!A390<>\"\",DATOS!A390&configuracion!$C$10,\"\")","v":""},""]
[null,null,null,null,null,null,null,{"$f":"IF(DATOS!A391<>\"\",DATOS!A391&configuracion!$C$10,\"\")","v":""},""]
[null,null,null,null,null,null,null,{"$f":"IF(DATOS!A392<>\"\",DATOS!A392&configuracion!$C$10,\"\")","v":""},""]
[null,null,null,null,null,null,null,{"$f":"IF(DATOS!A393<>\"\",DATOS!A393&configuracion!$C$10,\"\")","v":""},""]
[null,null,null,null,null,null,null,{"$f":"IF(DATOS!A394<>\"\",DATOS!A394&configuracion!$C$10,\"\")","v":""},""]
[null,null,null,null,null,null,null,{"$f":"IF(DATOS!A395<>\"\",DATOS!A395&configuracion!$C$10,\"\")","v":""},""]
[null,null,null,null,null,null,null,{"$f":"IF(DATOS!A396<>\"\",DATOS!A396&configuracion!$C$10,\"\")","v":""},""]
[null,null,null,null,null,null,null,{"$f":"IF(DATOS!A397<>\"\",DATOS!A397&configuracion!$C$10,\"\")","v":""},""]
[null,null,null,null,null,null,null,{"$f":"IF(DATOS!A398<>\"\",DATOS!A398&configuracion!$C$10,\"\")","v":""},""]
[null,null,null,null,null,null,null,{"$f":"IF(DATOS!A399<>\"\",DATOS!A399&configuracion!$C$10,\"\")","v":""},""]
[null,null,null,null,null,null,null,{"$f":"IF(DATOS!A400<>\"\",DATOS!A400&configuracion!$C$10,\"\")","v":""},""]
[null,null,null,null,null,null,null,{"$f":"IF(DATOS!A401<>\"\",DATOS!A401&configuracion!$C$10,\"\")","v":""},""]
[null,null,null,null,null,null,null,{"$f":"IF(DATOS!A402<>\"\",DATOS!A402&configuracion!$C$10,\"\")","v":""},""]
[null,null,null,null,null,null,null,{"$f":"IF(DATOS!A403<>\"\",DATOS!A403&configuracion!$C$10,\"\")","v":""},""]
[null,null,null,null,null,null,null,{"$f":"IF(DATOS!A404<>\"\",DATOS!A404&configuracion!$C$10,\"\")","v":""},""]
[null,null,null,null,null,null,null,{"$f":"IF(DATOS!A405<>\"\",DATOS!A405&configuracion!$C$10,\"\")","v":""},""]
[null,null,null,null,null,null,null,{"$f":"IF(DATOS!A406<>\"\",DATOS!A406&configuracion!$C$10,\"\")","v":""},""]
[null,null,null,null,null,null,null,{"$f":"IF(DATOS!A407<>\"\",DATOS!A407&configuracion!$C$10,\"\")","v":""},""]
[null,null,null,null,null,null,null,{"$f":"IF(DATOS!A408<>\"\",DATOS!A408&configuracion!$C$10,\"\")","v":""},""]
[null,null,null,null,null,null,null,{"$f":"IF(DATOS!A409<>\"\",DATOS!A409&configuracion!$C$10,\"\")","v":""},""]
[null,null,null,null,null,null,null,{"$f":"IF(DATOS!A410<>\"\",DATOS!A410&configuracion!$C$10,\"\")","v":""},""]
[null,null,null,null,null,null,null,{"$f":"IF(DATOS!A411<>\"\",DATOS!A411&configuracion!$C$10,\"\")","v":""},""]
[null,null,null,null,null,null,null,{"$f":"IF(DATOS!A412<>\"\",DATOS!A412&configuracion!$C$10,\"\")","v":""},""]
[null,null,null,null,null,null,null,{"$f":"IF(DATOS!A413<>\"\",DATOS!A413&configuracion!$C$10,\"\")","v":""},""]
[null,null,null,null,null,null,null,{"$f":"IF(DATOS!A414<>\"\",DATOS!A414&configuracion!$C$10,\"\")","v":""},""]
[null,null,null,null,null,null,null,{"$f":"IF(DATOS!A415<>\"\",DATOS!A415&configuracion!$C$10,\"\")","v":""},""]
[null,null,null,null,null,null,null,{"$f":"IF(DATOS!A416<>\"\",DATOS!A416&configuracion!$C$10,\"\")","v":""},""]
[null,null,null,null,null,null,null,{"$f":"IF(DATOS!A417<>\"\",DATOS!A417&configuracion!$C$10,\"\")","v":""},""]
[null,null,null,null,null,null,null,{"$f":"IF(DATOS!A418<>\"\",DATOS!A418&configuracion!$C$10,\"\")","v":""},""]
[null,null,null,null,null,null,null,{"$f":"IF(DATOS!A419<>\"\",DATOS!A419&configuracion!$C$10,\"\")","v":""},""]
[null,null,null,null,null,null,null,{"$f":"IF(DATOS!A420<>\"\",DATOS!A420&configuracion!$C$10,\"\")","v":""},""]
[null,null,null,null,null,null,null,{"$f":"IF(DATOS!A421<>\"\",DATOS!A421&configuracion!$C$10,\"\")","v":""},""]
[null,null,null,null,null,null,null,{"$f":"IF(DATOS!A422<>\"\",DATOS!A422&configuracion!$C$10,\"\")","v":""},""]
[null,null,null,null,null,null,null,{"$f":"IF(DATOS!A423<>\"\",DATOS!A423&configuracion!$C$10,\"\")","v":""},""]
[null,null,null,null,null,null,null,{"$f":"IF(DATOS!A424<>\"\",DATOS!A424&configuracion!$C$10,\"\")","v":""},""]
[null,null,null,null,null,null,null,{"$f":"IF(DATOS!A425<>\"\",DATOS!A425&configuracion!$C$10,\"\")","v":""},""]
[null,null,null,null,null,null,null,{"$f":"IF(DATOS!A426<>\"\",DATOS!A426&configuracion!$C$10,\"\")","v":""},""]
[null,null,null,null,null,null,null,{"$f":"IF(DATOS!A427<>\"\",DATOS!A427&configuracion!$C$10,\"\")","v":""},""]
[null,null,null,null,null,null,null,{"$f":"IF(DATOS!A428<>\"\",DATOS!A428&configuracion!$C$10,\"\")","v":""},""]
[null,null,null,null,null,null,null,{"$f":"IF(DATOS!A429<>\"\",DATOS!A429&configuracion!$C$10,\"\")","v":""},""]
[null,null,null,null,null,null,null,{"$f":"IF(DATOS!A430<>\"\",DATOS!A430&configuracion!$C$10,\"\")","v":""},""]
[null,null,null,null,null,null,null,{"$f":"IF(DATOS!A431<>\"\",DATOS!A431&configuracion!$C$10,\"\")","v":""},""]
[null,null,null,null,null,null,null,{"$f":"IF(DATOS!A432<>\"\",DATOS!A432&configuracion!$C$10,\"\")","v":""},""]
[null,null,null,null,null,null,null,{"$f":"IF(DATOS!A433<>\"\",DATOS!A433&configuracion!$C$10,\"\")","v":""},""]
[null,null,null,null,null,null,null,{"$f":"IF(DATOS!A434<>\"\",DATOS!A434&configuracion!$C$10,\"\")","v":""},""]
[null,null,null,null,null,null,null,{"$f":"IF(DATOS!A435<>\"\",DATOS!A435&configuracion!$C$10,\"\")","v":""},""]
[null,null,null,null,null,null,null,{"$f":"IF(DATOS!A436<>\"\",DATOS!A436&configuracion!$C$10,\"\")","v":""},""]
[null,null,null,null,null,null,null,{"$f":"IF(DATOS!A437<>\"\",DATOS!A437&configuracion!$C$10,\"\")","v":""},""]
[null,null,null,null,null,null,null,{"$f":"IF(DATOS!A438<>\"\",DATOS!A438&configuracion!$C$10,\"\")","v":""},""]
[null,null,null,null,null,null,null,{"$f":"IF(DATOS!A439<>\"\",DATOS!A439&configuracion!$C$10,\"\")","v":""},""]
[null,null,null,null,null,null,null,{"$f":"IF(DATOS!A440<>\"\",DATOS!A440&configuracion!$C$10,\"\")","v":""},""]
[null,null,null,null,null,null,null,{"$f":"IF(DATOS!A441<>\"\",DATOS!A441&configuracion!$C$10,\"\")","v":""},""]
[null,null,null,null,null,null,null,{"$f":"IF(DATOS!A442<>\"\",DATOS!A442&configuracion!$C$10,\"\")","v":""},""]
[null,null,null,null,null,null,null,{"$f":"IF(DATOS!A443<>\"\",DATOS!A443&configuracion!$C$10,\"\")","v":""},""]
[null,null,null,null,null,null,null,{"$f":"IF(DATOS!A444<>\"\",DATOS!A444&configuracion!$C$10,\"\")","v":""},""]
[null,null,null,null,null,null,null,{"$f":"IF(DATOS!A445<>\"\",DATOS!A445&configuracion!$C$10,\"\")","v":""},""]
[null,null,null,null,null,null,null,{"$f":"IF(DATOS!A446<>\"\",DATOS!A446&configuracion!$C$10,\"\")","v":""},""]
[null,null,null,null,null,null,null,{"$f":"IF(DATOS!A447<>\"\",DATOS!A447&configuracion!$C$10,\"\")","v":""},""]
[null,null,null,null,null,null,null,{"$f":"IF(DATOS!A448<>\"\",DATOS!A448&configuracion!$C$10,\"\")","v":""},""]
[null,null,null,null,null,null,null,{"$f":"IF(DATOS!A449<>\"\",DATOS!A449&configuracion!$C$10,\"\")","v":""},""]
[null,null,null,null,null,null,null,{"$f":"IF(DATOS!A450<>\"\",DATOS!A450&configuracion!$C$10,\"\")","v":""},""]
[null,null,null,null,null,null,null,{"$f":"IF(DATOS!A451<>\"\",DATOS!A451&configuracion!$C$10,\"\")","v":""},""]
[null,null,null,null,null,null,null,{"$f":"IF(DATOS!A452<>\"\",DATOS!A452&configuracion!$C$10,\"\")","v":""},{"$f":"IF(B452=\"\",\"\",TEXT(B452, \"DD/MM/YYYY HH:MM:SS\"))","v":""}]
[null,null,null,null,null,null,null,{"$f":"IF(DATOS!A453<>\"\",DATOS!A453&configuracion!$C$10,\"\")","v":""},""]
[null,null,null,null,null,null,null,{"$f":"IF(DATOS!A454<>\"\",DATOS!A454&configuracion!$C$10,\"\")","v":""},""]
[null,null,null,null,null,null,null,{"$f":"IF(DATOS!A455<>\"\",DATOS!A455&configuracion!$C$10,\"\")","v":""},""]
[null,null,null,null,null,null,null,{"$f":"IF(DATOS!A456<>\"\",DATOS!A456&configuracion!$C$10,\"\")","v":""},""]
[null,null,null,null,null,null,null,{"$f":"IF(DATOS!A457<>\"\",DATOS!A457&configuracion!$C$10,\"\")","v":""},""]
[null,null,null,null,null,null,null,{"$f":"IF(DATOS!A458<>\"\",DATOS!A458&configuracion!$C$10,\"\")","v":""},""]
[null,null,null,null,null,null,null,{"$f":"IF(DATOS!A459<>\"\",DATOS!A459&configuracion!$C$10,\"\")","v":""},""]
[null,null,null,null,null,null,null,{"$f":"IF(DATOS!A460<>\"\",DATOS!A460&configuracion!$C$10,\"\")","v":""},""]
[null,null,null,null,null,null,null,{"$f":"IF(DATOS!A461<>\"\",DATOS!A461&configuracion!$C$10,\"\")","v":""},""]
[null,null,null,null,null,null,null,{"$f":"IF(DATOS!A462<>\"\",DATOS!A462&configuracion!$C$10,\"\")","v":""},""]
[null,null,null,null,null,null,null,{"$f":"IF(DATOS!A463<>\"\",DATOS!A463&configuracion!$C$10,\"\")","v":""},""]
[null,null,null,null,null,null,null,{"$f":"IF(DATOS!A464<>\"\",DATOS!A464&configuracion!$C$10,\"\")","v":""},""]
[null,null,null,null,null,null,null,{"$f":"IF(DATOS!A465<>\"\",DATOS!A465&configuracion!$C$10,\"\")","v":""},""]
[null,null,null,null,null,null,null,{"$f":"IF(DATOS!A466<>\"\",DATOS!A466&configuracion!$C$10,\"\")","v":""},""]
[null,null,null,null,null,null,null,{"$f":"IF(DATOS!A467<>\"\",DATOS!A467&configuracion!$C$10,\"\")","v":""},""]
[null,null,null,null,null,null,null,{"$f":"IF(DATOS!A468<>\"\",DATOS!A468&configuracion!$C$10,\"\")","v":""},""]
[null,null,null,null,null,null,null,{"$f":"IF(DATOS!A469<>\"\",DATOS!A469&configuracion!$C$10,\"\")","v":""},""]
[null,null,null,null,null,null,null,{"$f":"IF(DATOS!A470<>\"\",DATOS!A470&configuracion!$C$10,\"\")","v":""},""]
[null,null,null,null,null,null,null,{"$f":"IF(DATOS!A471<>\"\",DATOS!A471&configuracion!$C$10,\"\")","v":""},""]
[null,null,null,null,null,null,null,{"$f":"IF(DATOS!A472<>\"\",DATOS!A472&configuracion!$C$10,\"\")","v":""},""]
[null,null,null,null,null,null,null,{"$f":"IF(DATOS!A473<>\"\",DATOS!A473&configuracion!$C$10,\"\")","v":""},""]
[null,null,null,null,null,null,null,{"$f":"IF(DATOS!A474<>\"\",DATOS!A474&configuracion!$C$10,\"\")","v":""},""]
[null,null,null,null,null,null,null,{"$f":"IF(DATOS!A475<>\"\",DATOS!A475&configuracion!$C$10,\"\")","v":""},""]
[null,null,null,null,null,null,null,{"$f":"IF(DATOS!A476<>\"\",DATOS!A476&configuracion!$C$10,\"\")","v":""},""]
[null,null,null,null,null,null,null,{"$f":"IF(DATOS!A477<>\"\",DATOS!A477&configuracion!$C$10,\"\")","v":""},""]
[null,null,null,null,null,null,null,{"$f":"IF(DATOS!A478<>\"\",DATOS!A478&configuracion!$C$10,\"\")","v":""},""]
[null,null,null,null,null,null,null,{"$f":"IF(DATOS!A479<>\"\",DATOS!A479&configuracion!$C$10,\"\")","v":""},""]
[null,null,null,null,null,null,null,{"$f":"IF(DATOS!A480<>\"\",DATOS!A480&configuracion!$C$10,\"\")","v":""},""]
[null,null,null,null,null,null,null,{"$f":"IF(DATOS!A481<>\"\",DATOS!A481&configuracion!$C$10,\"\")","v":""},""]
[null,null,null,null,null,null,null,{"$f":"IF(DATOS!A482<>\"\",DATOS!A482&configuracion!$C$10,\"\")","v":""},""]
[null,null,null,null,null,null,null,{"$f":"IF(DATOS!A483<>\"\",DATOS!A483&configuracion!$C$10,\"\")","v":""},""]
[null,null,null,null,null,null,null,{"$f":"IF(DATOS!A484<>\"\",DATOS!A484&configuracion!$C$10,\"\")","v":""},""]
[null,null,null,null,null,null,null,{"$f":"IF(DATOS!A485<>\"\",DATOS!A485&configuracion!$C$10,\"\")","v":""},""]
[null,null,null,null,null,null,null,{"$f":"IF(DATOS!A486<>\"\",DATOS!A486&configuracion!$C$10,\"\")","v":""},""]
[null,null,null,null,null,null,null,{"$f":"IF(DATOS!A487<>\"\",DATOS!A487&configuracion!$C$10,\"\")","v":""},""]
[null,null,null,null,null,null,null,{"$f":"IF(DATOS!A488<>\"\",DATOS!A488&configuracion!$C$10,\"\")","v":""},""]
[null,null,null,null,null,null,null,{"$f":"IF(DATOS!A489<>\"\",DATOS!A489&configuracion!$C$10,\"\")","v":""},""]
[null,null,null,null,null,null,null,{"$f":"IF(DATOS!A490<>\"\",DATOS!A490&configuracion!$C$10,\"\")","v":""},""]
[null,null,null,null,null,null,null,{"$f":"IF(DATOS!A491<>\"\",DATOS!A491&configuracion!$C$10,\"\")","v":""},""]
[null,null,null,null,null,null,null,{"$f":"IF(DATOS!A492<>\"\",DATOS!A492&configuracion!$C$10,\"\")","v":""},""]
[null,null,null,null,null,null,null,{"$f":"IF(DATOS!A493<>\"\",DATOS!A493&configuracion!$C$10,\"\")","v":""},""]
[null,null,null,null,null,null,null,{"$f":"IF(DATOS!A494<>\"\",DATOS!A494&configuracion!$C$10,\"\")","v":""},""]
[null,null,null,null,null,null,null,{"$f":"IF(DATOS!A495<>\"\",DATOS!A495&configuracion!$C$10,\"\")","v":""},""]
[null,null,null,null,null,null,null,{"$f":"IF(DATOS!A496<>\"\",DATOS!A496&configuracion!$C$10,\"\")","v":""},""]
[null,null,null,null,null,null,null,{"$f":"IF(DATOS!A497<>\"\",DATOS!A497&configuracion!$C$10,\"\")","v":""},""]
[null,null,null,null,null,null,null,{"$f":"IF(DATOS!A498<>\"\",DATOS!A498&configuracion!$C$10,\"\")","v":""},""]
[null,null,null,null,null,null,null,{"$f":"IF(DATOS!A499<>\"\",DATOS!A499&configuracion!$C$10,\"\")","v":""},""]
[null,null,null,null,null,null,null,{"$f":"IF(DATOS!A500<>\"\",DATOS!A500&configuracion!$C$10,\"\")","v":""},""]
[null,null,null,null,null,null,null,{"$f":"IF(DATOS!A501<>\"\",DATOS!A501&configuracion!$C$10,\"\")","v":""},""]
[null,null,null,null,null,null,null,{"$f":"IF(DATOS!A502<>\"\",DATOS!A502&configuracion!$C$10,\"\")","v":""},""]
[null,null,null,null,null,null,null,{"$f":"IF(DATOS!A503<>\"\",DATOS!A503&configuracion!$C$10,\"\")","v":""},""]
[null,null,null,null,null,null,null,{"$f":"IF(DATOS!A504<>\"\",DATOS!A504&configuracion!$C$10,\"\")","v":""},""]
[null,null,null,null,null,null,null,{"$f":"IF(DATOS!A505<>\"\",DATOS!A505&configuracion!$C$10,\"\")","v":""},""]
[null,null,null,null,null,null,null,{"$f":"IF(DATOS!A506<>\"\",DATOS!A506&configuracion!$C$10,\"\")","v":""},""]
[null,null,null,null,null,null,null,{"$f":"IF(DATOS!A507<>\"\",DATOS!A507&configuracion!$C$10,\"\")","v":""},""]
[null,null,null,null,null,null,null,{"$f":"IF(DATOS!A508<>\"\",DATOS!A508&configuracion!$C$10,\"\")","v":""},""]
[null,null,null,null,null,null,null,{"$f":"IF(DATOS!A509<>\"\",DATOS!A509&configuracion!$C$10,\"\")","v":""},""]
[null,null,null,null,null,null,null,{"$f":"IF(DATOS!A510<>\"\",DATOS!A510&configuracion!$C$10,\"\")","v":""},""]
[null,null,null,null,null,null,null,{"$f":"IF(DATOS!A511<>\"\",DATOS!A511&configuracion!$C$10,\"\")","v":""},""]
[null,null,null,null,null,null,null,{"$f":"IF(DATOS!A512<>\"\",DATOS!A512&configuracion!$C$10,\"\")","v":""},""]
[null,null,null,null,null,null,null,{"$f":"IF(DATOS!A513<>\"\",DATOS!A513&configuracion!$C$10,\"\")","v":""},""]
[null,null,null,null,null,null,null,{"$f":"IF(DATOS!A514<>\"\",DATOS!A514&configuracion!$C$10,\"\")","v":""},""]
[null,null,null,null,null,null,null,{"$f":"IF(DATOS!A515<>\"\",DATOS!A515&configuracion!$C$10,\"\")","v":""},""]
[null,null,null,null,null,null,null,{"$f":"IF(DATOS!A516<>\"\",DATOS!A516&configuracion!$C$10,\"\")","v":""},{"$f":"IF(B516=\"\",\"\",TEXT(B516, \"DD/MM/YYYY HH:MM:SS\"))","v":""}]
[null,null,null,null,null,null,null,{"$f":"IF(DATOS!A517<>\"\",DATOS!A517&configuracion!$C$10,\"\")","v":""},""]
[null,null,null,null,null,null,null,{"$f":"IF(DATOS!A518<>\"\",DATOS!A518&configuracion!$C$10,\"\")","v":""},""]
[null,null,null,null,null,null,null,{"$f":"IF(DATOS!A519<>\"\",DATOS!A519&configuracion!$C$10,\"\")","v":""},""]
[null,null,null,null,null,null,null,{"$f":"IF(DATOS!A520<>\"\",DATOS!A520&configuracion!$C$10,\"\")","v":""},""]
[null,null,null,null,null,null,null,{"$f":"IF(DATOS!A521<>\"\",DATOS!A521&configuracion!$C$10,\"\")","v":""},""]
[null,null,null,null,null,null,null,{"$f":"IF(DATOS!A522<>\"\",DATOS!A522&configuracion!$C$10,\"\")","v":""},""]
[null,null,null,null,null,null,null,{"$f":"IF(DATOS!A523<>\"\",DATOS!A523&configuracion!$C$10,\"\")","v":""},""]
[null,null,null,null,null,null,null,{"$f":"IF(DATOS!A524<>\"\",DATOS!A524&configuracion!$C$10,\"\")","v":""},""]
[null,null,null,null,null,null,null,{"$f":"IF(DATOS!A525<>\"\",DATOS!A525&configuracion!$C$10,\"\")","v":""},""]
[null,null,null,null,null,null,null,{"$f":"IF(DATOS!A526<>\"\",DATOS!A526&configuracion!$C$10,\"\")","v":""},""]
[null,null,null,null,null,null,null,{"$f":"IF(DATOS!A527<>\"\",DATOS!A527&configuracion!$C$10,\"\")","v":""},""]
[null,null,null,null,null,null,null,{"$f":"IF(DATOS!A528<>\"\",DATOS!A528&configuracion!$C$10,\"\")","v":""},""]
[null,null,null,null,null,null,null,{"$f":"IF(DATOS!A529<>\"\",DATOS!A529&configuracion!$C$10,\"\")","v":""},""]
[null,null,null,null,null,null,null,{"$f":"IF(DATOS!A530<>\"\",DATOS!A530&configuracion!$C$10,\"\")","v":""},""]
[null,null,null,null,null,null,null,{"$f":"IF(DATOS!A531<>\"\",DATOS!A531&configuracion!$C$10,\"\")","v":""},""]
[null,null,null,null,null,null,null,{"$f":"IF(DATOS!A532<>\"\",DATOS!A532&configuracion!$C$10,\"\")","v":""},""]
[null,null,null,null,null,null,null,{"$f":"IF(DATOS!A533<>\"\",DATOS!A533&configuracion!$C$10,\"\")","v":""},""]
[null,null,null,null,null,null,null,{"$f":"IF(DATOS!A534<>\"\",DATOS!A534&configuracion!$C$10,\"\")","v":""},""]
[null,null,null,null,null,null,null,{"$f":"IF(DATOS!A535<>\"\",DATOS!A535&configuracion!$C$10,\"\")","v":""},""]
[null,null,null,null,null,null,null,{"$f":"IF(DATOS!A536<>\"\",DATOS!A536&configuracion!$C$10,\"\")","v":""},""]
[null,null,null,null,null,null,null,{"$f":"IF(DATOS!A537<>\"\",DATOS!A537&configuracion!$C$10,\"\")","v":""},""]
[null,null,null,null,null,null,null,{"$f":"IF(DATOS!A538<>\"\",DATOS!A538&configuracion!$C$10,\"\")","v":""},""]
[null,null,null,null,null,null,null,{"$f":"IF(DATOS!A539<>\"\",DATOS!A539&configuracion!$C$10,\"\")","v":""},""]
[null,null,null,null,null,null,null,{"$f":"IF(DATOS!A540<>\"\",DATOS!A540&configuracion!$C$10,\"\")","v":""},""]
[null,null,null,null,null,null,null,{"$f":"IF(DATOS!A541<>\"\",DATOS!A541&configuracion!$C$10,\"\")","v":""},""]
[null,null,null,null,null,null,null,{"$f":"IF(DATOS!A542<>\"\",DATOS!A542&configuracion!$C$10,\"\")","v":""},""]
[null,null,null,null,null,null,null,{"$f":"IF(DATOS!A543<>\"\",DATOS!A543&configuracion!$C$10,\"\")","v":""},""]
[null,null,null,null,null,null,null,{"$f":"IF(DATOS!A544<>\"\",DATOS!A544&configuracion!$C$10,\"\")","v":""},""]
[null,null,null,null,null,null,null,{"$f":"IF(DATOS!A545<>\"\",DATOS!A545&configuracion!$C$10,\"\")","v":""},""]
[null,null,null,null,null,null,null,{"$f":"IF(DATOS!A546<>\"\",DATOS!A546&configuracion!$C$10,\"\")","v":""},""]
[null,null,null,null,null,null,null,{"$f":"IF(DATOS!A547<>\"\",DATOS!A547&configuracion!$C$10,\"\")","v":""},""]
[null,null,null,null,null,null,null,{"$f":"IF(DATOS!A548<>\"\",DATOS!A548&configuracion!$C$10,\"\")","v":""},""]
[null,null,null,null,null,null,null,{"$f":"IF(DATOS!A549<>\"\",DATOS!A549&configuracion!$C$10,\"\")","v":""},""]
[null,null,null,null,null,null,null,{"$f":"IF(DATOS!A550<>\"\",DATOS!A550&configuracion!$C$10,\"\")","v":""},""]
[null,null,null,null,null,null,null,{"$f":"IF(DATOS!A551<>\"\",DATOS!A551&configuracion!$C$10,\"\")","v":""},""]
[null,null,null,null,null,null,null,{"$f":"IF(DATOS!A552<>\"\",DATOS!A552&configuracion!$C$10,\"\")","v":""},""]
[null,null,null,null,null,null,null,{"$f":"IF(DATOS!A553<>\"\",DATOS!A553&configuracion!$C$10,\"\")","v":""},""]
[null,null,null,null,null,null,null,{"$f":"IF(DATOS!A554<>\"\",DATOS!A554&configuracion!$C$10,\"\")","v":""},""]
[null,null,null,null,null,null,null,{"$f":"IF(DATOS!A555<>\"\",DATOS!A555&configuracion!$C$10,\"\")","v":""},""]
[null,null,null,null,null,null,null,{"$f":"IF(DATOS!A556<>\"\",DATOS!A556&configuracion!$C$10,\"\")","v":""},""]
[null,null,null,null,null,null,null,{"$f":"IF(DATOS!A557<>\"\",DATOS!A557&configuracion!$C$10,\"\")","v":""},""]
[null,null,null,null,null,null,null,{"$f":"IF(DATOS!A558<>\"\",DATOS!A558&configuracion!$C$10,\"\")","v":""},""]
[null,null,null,null,null,null,null,{"$f":"IF(DATOS!A559<>\"\",DATOS!A559&configuracion!$C$10,\"\")","v":""},""]
[null,null,null,null,null,null,null,{"$f":"IF(DATOS!A560<>\"\",DATOS!A560&configuracion!$C$10,\"\")","v":""},""]
[null,null,null,null,null,null,null,{"$f":"IF(DATOS!A561<>\"\",DATOS!A561&configuracion!$C$10,\"\")","v":""},""]
[null,null,null,null,null,null,null,{"$f":"IF(DATOS!A562<>\"\",DATOS!A562&configuracion!$C$10,\"\")","v":""},""]
[null,null,null,null,null,null,null,{"$f":"IF(DATOS!A563<>\"\",DATOS!A563&configuracion!$C$10,\"\")","v":""},""]
[null,null,null,null,null,null,null,{"$f":"IF(DATOS!A564<>\"\",DATOS!A564&configuracion!$C$10,\"\")","v":""},""]
[null,null,null,null,null,null,null,{"$f":"IF(DATOS!A565<>\"\",DATOS!A565&configuracion!$C$10,\"\")","v":""},""]
[null,null,null,null,null,null,null,{"$f":"IF(DATOS!A566<>\"\",DATOS!A566&configuracion!$C$10,\"\")","v":""},""]
[null,null,null,null,null,null,null,{"$f":"IF(DATOS!A567<>\"\",DATOS!A567&configuracion!$C$10,\"\")","v":""},""]
[null,null,null,null,null,null,null,{"$f":"IF(DATOS!A568<>\"\",DATOS!A568&configuracion!$C$10,\"\")","v":""},""]
[null,null,null,null,null,null,null,{"$f":"IF(DATOS!A569<>\"\",DATOS!A569&configuracion!$C$10,\"\")","v":""},""]
[null,null,null,null,null,null,null,{"$f":"IF(DATOS!A570<>\"\",DATOS!A570&configuracion!$C$10,\"\")","v":""},""]
[null,null,null,null,null,null,null,{"$f":"IF(DATOS!A571<>\"\",DATOS!A571&configuracion!$C$10,\"\")","v":""},""]
[null,null,null,null,null,null,null,{"$f":"IF(DATOS!A572<>\"\",DATOS!A572&configuracion!$C$10,\"\")","v":""},""]
[null,null,null,null,null,null,null,{"$f":"IF(DATOS!A573<>\"\",DATOS!A573&configuracion!$C$10,\"\")","v":""},""]
[null,null,null,null,null,null,null,{"$f":"IF(DATOS!A574<>\"\",DATOS!A574&configuracion!$C$10,\"\")","v":""},""]
[null,null,null,null,null,null,null,{"$f":"IF(DATOS!A575<>\"\",DATOS!A575&configuracion!$C$10,\"\")","v":""},""]
[null,null,null,null,null,null,null,{"$f":"IF(DATOS!A576<>\"\",DATOS!A576&configuracion!$C$10,\"\")","v":""},""]
[null,null,null,null,null,null,null,{"$f":"IF(DATOS!A577<>\"\",DATOS!A577&configuracion!$C$10,\"\")","v":""},""]
[null,null,null,null,null,null,null,{"$f":"IF(DATOS!A578<>\"\",DATOS!A578&configuracion!$C$10,\"\")","v":""},""]
[null,null,null,null,null,null,null,{"$f":"IF(DATOS!A579<>\"\",DATOS!A579&configuracion!$C$10,\"\")","v":""},""]
[null,null,null,null,null,null,null,{"$f":"IF(DATOS!A580<>\"\",DATOS!A580&configuracion!$C$10,\"\")","v":""},{"$f":"IF(B580=\"\",\"\",TEXT(B580, \"DD/MM/YYYY HH:MM:SS\"))","v":""}]
[null,null,null,null,null,null,null,{"$f":"IF(DATOS!A581<>\"\",DATOS!A581&configuracion!$C$10,\"\")","v":""},""]
[null,null,null,null,null,null,null,{"$f":"IF(DATOS!A582<>\"\",DATOS!A582&configuracion!$C$10,\"\")","v":""},""]
[null,null,null,null,null,null,null,{"$f":"IF(DATOS!A583<>\"\",DATOS!A583&configuracion!$C$10,\"\")","v":""},""]
[null,null,null,null,null,null,null,{"$f":"IF(DATOS!A584<>\"\",DATOS!A584&configuracion!$C$10,\"\")","v":""},""]
[null,null,null,null,null,null,null,{"$f":"IF(DATOS!A585<>\"\",DATOS!A585&configuracion!$C$10,\"\")","v":""},""]
[null,null,null,null,null,null,null,{"$f":"IF(DATOS!A586<>\"\",DATOS!A586&configuracion!$C$10,\"\")","v":""},""]
[null,null,null,null,null,null,null,{"$f":"IF(DATOS!A587<>\"\",DATOS!A587&configuracion!$C$10,\"\")","v":""},""]
[null,null,null,null,null,null,null,{"$f":"IF(DATOS!A588<>\"\",DATOS!A588&configuracion!$C$10,\"\")","v":""},""]
[null,null,null,null,null,null,null,{"$f":"IF(DATOS!A589<>\"\",DATOS!A589&configuracion!$C$10,\"\")","v":""},""]
[null,null,null,null,null,null,null,{"$f":"IF(DATOS!A590<>\"\",DATOS!A590&configuracion!$C$10,\"\")","v":""},""]
[null,null,null,null,null,null,null,{"$f":"IF(DATOS!A591<>\"\",DATOS!A591&configuracion!$C$10,\"\")","v":""},""]
[null,null,null,null,null,null,null,{"$f":"IF(DATOS!A592<>\"\",DATOS!A592&configuracion!$C$10,\"\")","v":""},""]
[null,null,null,null,null,null,null,{"$f":"IF(DATOS!A593<>\"\",DATOS!A593&configuracion!$C$10,\"\")","v":""},""]
[null,null,null,null,null,null,null,{"$f":"IF(DATOS!A594<>\"\",DATOS!A594&configuracion!$C$10,\"\")","v":""},""]
[null,null,null,null,null,null,null,{"$f":"IF(DATOS!A595<>\"\",DATOS!A595&configuracion!$C$10,\"\")","v":""},""]
[null,null,null,null,null,null,null,{"$f":"IF(DATOS!A596<>\"\",DATOS!A596&configuracion!$C$10,\"\")","v":""},""]
[null,null,null,null,null,null,null,{"$f":"IF(DATOS!A597<>\"\",DATOS!A597&configuracion!$C$10,\"\")","v":""},""]
[null,null,null,null,null,null,null,{"$f":"IF(DATOS!A598<>\"\",DATOS!A598&configuracion!$C$10,\"\")","v":""},""]
[null,null,null,null,null,null,null,{"$f":"IF(DATOS!A599<>\"\",DATOS!A599&configuracion!$C$10,\"\")","v":""},""]
[null,null,null,null,null,null,null,{"$f":"IF(DATOS!A600<>\"\",DATOS!A600&configuracion!$C$10,\"\")","v":""},""]
[null,null,null,null,null,null,null,{"$f":"IF(DATOS!A601<>\"\",DATOS!A601&configuracion!$C$10,\"\")","v":""},""]
[null,null,null,null,null,null,null,{"$f":"IF(DATOS!A602<>\"\",DATOS!A602&configuracion!$C$10,\"\")","v":""},""]
[null,null,null,null,null,null,null,{"$f":"IF(DATOS!A603<>\"\",DATOS!A603&configuracion!$C$10,\"\")","v":""},""]
[null,null,null,null,null,null,null,{"$f":"IF(DATOS!A604<>\"\",DATOS!A604&configuracion!$C$10,\"\")","v":""},""]
[null,null,null,null,null,null,null,{"$f":"IF(DATOS!A605<>\"\",DATOS!A605&configuracion!$C$10,\"\")","v":""},""]
[null,null,null,null,null,null,null,{"$f":"IF(DATOS!A606<>\"\",DATOS!A606&configuracion!$C$10,\"\")","v":""},""]
[null,null,null,null,null,null,null,{"$f":"IF(DATOS!A607<>\"\",DATOS!A607&configuracion!$C$10,\"\")","v":""},""]
[null,null,null,null,null,null,null,{"$f":"IF(DATOS!A608<>\"\",DATOS!A608&configuracion!$C$10,\"\")","v":""},""]
[null,null,null,null,null,null,null,{"$f":"IF(DATOS!A609<>\"\",DATOS!A609&configuracion!$C$10,\"\")","v":""},""]
[null,null,null,null,null,null,null,{"$f":"IF(DATOS!A610<>\"\",DATOS!A610&configuracion!$C$10,\"\")","v":""},""]
[null,null,null,null,null,null,null,{"$f":"IF(DATOS!A611<>\"\",DATOS!A611&configuracion!$C$10,\"\")","v":""},""]
[null,null,null,null,null,null,null,{"$f":"IF(DATOS!A612<>\"\",DATOS!A612&configuracion!$C$10,\"\")","v":""},""]
[null,null,null,null,null,null,null,{"$f":"IF(DATOS!A613<>\"\",DATOS!A613&configuracion!$C$10,\"\")","v":""},""]
[null,null,null,null,null,null,null,{"$f":"IF(DATOS!A614<>\"\",DATOS!A614&configuracion!$C$10,\"\")","v":""},""]
[null,null,null,null,null,null,null,{"$f":"IF(DATOS!A615<>\"\",DATOS!A615&configuracion!$C$10,\"\")","v":""},""]
[null,null,null,null,null,null,null,{"$f":"IF(DATOS!A616<>\"\",DATOS!A616&configuracion!$C$10,\"\")","v":""},""]
[null,null,null,null,null,null,null,{"$f":"IF(DATOS!A617<>\"\",DATOS!A617&configuracion!$C$10,\"\")","v":""},""]
[null,null,null,null,null,null,null,{"$f":"IF(DATOS!A618<>\"\",DATOS!A618&configuracion!$C$10,\"\")","v":""},""]
[null,null,null,null,null,null,null,{"$f":"IF(DATOS!A619<>\"\",DATOS!A619&configuracion!$C$10,\"\")","v":""},""]
[null,null,null,null,null,null,null,{"$f":"IF(DATOS!A620<>\"\",DATOS!A620&configuracion!$C$10,\"\")","v":""},""]
[null,null,null,null,null,null,null,{"$f":"IF(DATOS!A621<>\"\",DATOS!A621&configuracion!$C$10,\"\")","v":""},""]
[null,null,null,null,null,null,null,{"$f":"IF(DATOS!A622<>\"\",DATOS!A622&configuracion!$C$10,\"\")","v":""},""]
[null,null,null,null,null,null,null,{"$f":"IF(DATOS!A623<>\"\",DATOS!A623&configuracion!$C$10,\"\")","v":""},""]
[null,null,null,null,null,null,null,{"$f":"IF(DATOS!A624<>\"\",DATOS!A624&configuracion!$C$10,\"\")","v":""},""]
[null,null,null,null,null,null,null,{"$f":"IF(DATOS!A625<>\"\",DATOS!A625&configuracion!$C$10,\"\")","v":""},""]
[null,null,null,null,null,null,null,{"$f":"IF(DATOS!A626<>\"\",DATOS!A626&configuracion!$C$10,\"\")","v":""},""]
[null,null,null,null,null,null,null,{"$f":"IF(DATOS!A627<>\"\",DATOS!A627&configuracion!$C$10,\"\")","v":""},""]
[null,null,null,null,null,null,null,{"$f":"IF(DATOS!A628<>\"\",DATOS!A628&configuracion!$C$10,\"\")","v":""},""]
[null,null,null,null,null,null,null,{"$f":"IF(DATOS!A629<>\"\",DATOS!A629&configuracion!$C$10,\"\")","v":""},""]
[null,null,null,null,null,null,null,{"$f":"IF(DATOS!A630<>\"\",DATOS!A630&configuracion!$C$10,\"\")","v":""},""]
[null,null,null,null,null,null,null,{"$f":"IF(DATOS!A631<>\"\",DATOS!A631&configuracion!$C$10,\"\")","v":""},""]
[null,null,null,null,null,null,null,{"$f":"IF(DATOS!A632<>\"\",DATOS!A632&configuracion!$C$10,\"\")","v":""},""]
[null,null,null,null,null,null,null,{"$f":"IF(DATOS!A633<>\"\",DATOS!A633&configuracion!$C$10,\"\")","v":""},""]
[null,null,null,null,null,null,null,{"$f":"IF(DATOS!A634<>\"\",DATOS!A634&configuracion!$C$10,\"\")","v":""},""]
[null,null,null,null,null,null,null,{"$f":"IF(DATOS!A635<>\"\",DATOS!A635&configuracion!$C$10,\"\")","v":""},""]
[null,null,null,null,null,null,null,{"$f":"IF(DATOS!A636<>\"\",DATOS!A636&configuracion!$C$10,\"\")","v":""},""]
[null,null,null,null,null,null,null,{"$f":"IF(DATOS!A637<>\"\",DATOS!A637&configuracion!$C$10,\"\")","v":""},""]
[null,null,null,null,null,null,null,{"$f":"IF(DATOS!A638<>\"\",DATOS!A638&configuracion!$C$10,\"\")","v":""},""]
[null,null,null,null,null,null,null,{"$f":"IF(DATOS!A639<>\"\",DATOS!A639&configuracion!$C$10,\"\")","v":""},""]
[null,null,null,null,null,null,null,{"$f":"IF(DATOS!A640<>\"\",DATOS!A640&configuracion!$C$10,\"\")","v":""},""]
[null,null,null,null,null,null,null,{"$f":"IF(DATOS!A641<>\"\",DATOS!A641&configuracion!$C$10,\"\")","v":""},""]
[null,null,null,null,null,null,null,{"$f":"IF(DATOS!A642<>\"\",DATOS!A642&configuracion!$C$10,\"\")","v":""},""]
[null,null,null,null,null,null,null,{"$f":"IF(DATOS!A643<>\"\",DATOS!A643&configuracion!$C$10,\"\")","v":""},""]
[null,null,null,null,null,null,null,{"$f":"IF(DATOS!A644<>\"\",DATOS!A644&configuracion!$C$10,\"\")","v":""},{"$f":"IF(B644=\"\",\"\",TEXT(B644, \"DD/MM/YYYY HH:MM:SS\"))","v":""}]
[null,null,null,null,null,null,null,{"$f":"IF(DATOS!A645<>\"\",DATOS!A645&configuracion!$C$10,\"\")","v":""},""]
[null,null,null,null,null,null,null,{"$f":"IF(DATOS!A646<>\"\",DATOS!A646&configuracion!$C$10,\"\")","v":""},""]
[null,null,null,null,null,null,null,{"$f":"IF(DATOS!A647<>\"\",DATOS!A647&configuracion!$C$10,\"\")","v":""},""]
[null,null,null,null,null,null,null,{"$f":"IF(DATOS!A648<>\"\",DATOS!A648&configuracion!$C$10,\"\")","v":""},""]
[null,null,null,null,null,null,null,{"$f":"IF(DATOS!A649<>\"\",DATOS!A649&configuracion!$C$10,\"\")","v":""},""]
[null,null,null,null,null,null,null,{"$f":"IF(DATOS!A650<>\"\",DATOS!A650&configuracion!$C$10,\"\")","v":""},""]
[null,null,null,null,null,null,null,{"$f":"IF(DATOS!A651<>\"\",DATOS!A651&configuracion!$C$10,\"\")","v":""},""]
[null,null,null,null,null,null,null,{"$f":"IF(DATOS!A652<>\"\",DATOS!A652&configuracion!$C$10,\"\")","v":""},""]
[null,null,null,null,null,null,null,{"$f":"IF(DATOS!A653<>\"\",DATOS!A653&configuracion!$C$10,\"\")","v":""},""]
[null,null,null,null,null,null,null,{"$f":"IF(DATOS!A654<>\"\",DATOS!A654&configuracion!$C$10,\"\")","v":""},""]
[null,null,null,null,null,null,null,{"$f":"IF(DATOS!A655<>\"\",DATOS!A655&configuracion!$C$10,\"\")","v":""},""]
[null,null,null,null,null,null,null,{"$f":"IF(DATOS!A656<>\"\",DATOS!A656&configuracion!$C$10,\"\")","v":""},""]
[null,null,null,null,null,null,null,{"$f":"IF(DATOS!A657<>\"\",DATOS!A657&configuracion!$C$10,\"\")","v":""},""]
[null,null,null,null,null,null,null,{"$f":"IF(DATOS!A658<>\"\",DATOS!A658&configuracion!$C$10,\"\")","v":""},""]
[null,null,null,null,null,null,null,{"$f":"IF(DATOS!A659<>\"\",DATOS!A659&configuracion!$C$10,\"\")","v":""},""]
[null,null,null,null,null,null,null,{"$f":"IF(DATOS!A660<>\"\",DATOS!A660&configuracion!$C$10,\"\")","v":""},""]
[null,null,null,null,null,null,null,{"$f":"IF(DATOS!A661<>\"\",DATOS!A661&configuracion!$C$10,\"\")","v":""},""]
[null,null,null,null,null,null,null,{"$f":"IF(DATOS!A662<>\"\",DATOS!A662&configuracion!$C$10,\"\")","v":""},""]
[null,null,null,null,null,null,null,{"$f":"IF(DATOS!A663<>\"\",DATOS!A663&configuracion!$C$10,\"\")","v":""},""]
[null,null,null,null,null,null,null,{"$f":"IF(DATOS!A664<>\"\",DATOS!A664&configuracion!$C$10,\"\")","v":""},""]
[null,null,null,null,null,null,null,{"$f":"IF(DATOS!A665<>\"\",DATOS!A665&configuracion!$C$10,\"\")","v":""},""]
[null,null,null,null,null,null,null,{"$f":"IF(DATOS!A666<>\"\",DATOS!A666&configuracion!$C$10,\"\")","v":""},""]
[null,null,null,null,null,null,null,{"$f":"IF(DATOS!A667<>\"\",DATOS!A667&configuracion!$C$10,\"\")","v":""},""]
[null,null,null,null,null,null,null,{"$f":"IF(DATOS!A668<>\"\",DATOS!A668&configuracion!$C$10,\"\")","v":""},""]
[null,null,null,null,null,null,null,{"$f":"IF(DATOS!A669<>\"\",DATOS!A669&configuracion!$C$10,\"\")","v":""},""]
[null,null,null,null,null,null,null,{"$f":"IF(DATOS!A670<>\"\",DATOS!A670&configuracion!$C$10,\"\")","v":""},""]
[null,null,null,null,null,null,null,{"$f":"IF(DATOS!A671<>\"\",DATOS!A671&configuracion!$C$10,\"\")","v":""},""]
[null,null,null,null,null,null,null,{"$f":"IF(DATOS!A672<>\"\",DATOS!A672&configuracion!$C$10,\"\")","v":""},""]
[null,null,null,null,null,null,null,{"$f":"IF(DATOS!A673<>\"\",DATOS!A673&configuracion!$C$10,\"\")","v":""},""]
[null,null,null,null,null,null,null,{"$f":"IF(DATOS!A674<>\"\",DATOS!A674&configuracion!$C$10,\"\")","v":""},""]
[null,null,null,null,null,null,null,{"$f":"IF(DATOS!A675<>\"\",DATOS!A675&configuracion!$C$10,\"\")","v":""},""]
[null,null,null,null,null,null,null,{"$f":"IF(DATOS!A676<>\"\",DATOS!A676&configuracion!$C$10,\"\")","v":""},""]
[null,null,null,null,null,null,null,{"$f":"IF(DATOS!A677<>\"\",DATOS!A677&configuracion!$C$10,\"\")","v":""},""]
[null,null,null,null,null,null,null,{"$f":"IF(DATOS!A678<>\"\",DATOS!A678&configuracion!$C$10,\"\")","v":""},""]
[null,null,null,null,null,null,null,{"$f":"IF(DATOS!A679<>\"\",DATOS!A679&configuracion!$C$10,\"\")","v":""},""]
[null,null,null,null,null,null,null,{"$f":"IF(DATOS!A680<>\"\",DATOS!A680&configuracion!$C$10,\"\")","v":""},""]
[null,null,null,null,null,null,null,{"$f":"IF(DATOS!A681<>\"\",DATOS!A681&configuracion!$C$10,\"\")","v":""},""]
[null,null,null,null,null,null,null,{"$f":"IF(DATOS!A682<>\"\",DATOS!A682&configuracion!$C$10,\"\")","v":""},""]
[null,null,null,null,null,null,null,{"$f":"IF(DATOS!A683<>\"\",DATOS!A683&configuracion!$C$10,\"\")","v":""},""]
[null,null,null,null,null,null,null,{"$f":"IF(DATOS!A684<>\"\",DATOS!A684&configuracion!$C$10,\"\")","v":""},""]
[null,null,null,null,null,null,null,{"$f":"IF(DATOS!A685<>\"\",DATOS!A685&configuracion!$C$10,\"\")","v":""},""]
[null,null,null,null,null,null,null,{"$f":"IF(DATOS!A686<>\"\",DATOS!A686&configuracion!$C$10,\"\")","v":""},""]
[null,null,null,null,null,null,null,{"$f":"IF(DATOS!A687<>\"\",DATOS!A687&configuracion!$C$10,\"\")","v":""},""]
[null,null,null,null,null,null,null,{"$f":"IF(DATOS!A688<>\"\",DATOS!A688&configuracion!$C$10,\"\")","v":""},""]
[null,null,null,null,null,null,null,{"$f":"IF(DATOS!A689<>\"\",DATOS!A689&configuracion!$C$10,\"\")","v":""},""]
[null,null,null,null,null,null,null,{"$f":"IF(DATOS!A690<>\"\",DATOS!A690&configuracion!$C$10,\"\")","v":""},""]
[null,null,null,null,null,null,null,{"$f":"IF(DATOS!A691<>\"\",DATOS!A691&configuracion!$C$10,\"\")","v":""},""]
[null,null,null,null,null,null,null,{"$f":"IF(DATOS!A692<>\"\",DATOS!A692&configuracion!$C$10,\"\")","v":""},""]
[null,null,null,null,null,null,null,{"$f":"IF(DATOS!A693<>\"\",DATOS!A693&configuracion!$C$10,\"\")","v":""},""]
[null,null,null,null,null,null,null,{"$f":"IF(DATOS!A694<>\"\",DATOS!A694&configuracion!$C$10,\"\")","v":""},""]
[null,null,null,null,null,null,null,{"$f":"IF(DATOS!A695<>\"\",DATOS!A695&configuracion!$C$10,\"\")","v":""},""]
[null,null,null,null,null,null,null,{"$f":"IF(DATOS!A696<>\"\",DATOS!A696&configuracion!$C$10,\"\")","v":""},""]
[null,null,null,null,null,null,null,{"$f":"IF(DATOS!A697<>\"\",DATOS!A697&configuracion!$C$10,\"\")","v":""},""]
[null,null,null,null,null,null,null,{"$f":"IF(DATOS!A698<>\"\",DATOS!A698&configuracion!$C$10,\"\")","v":""},""]
[null,null,null,null,null,null,null,{"$f":"IF(DATOS!A699<>\"\",DATOS!A699&configuracion!$C$10,\"\")","v":""},""]
[null,null,null,null,null,null,null,{"$f":"IF(DATOS!A700<>\"\",DATOS!A700&configuracion!$C$10,\"\")","v":""},""]
[null,null,null,null,null,null,null,{"$f":"IF(DATOS!A701<>\"\",DATOS!A701&configuracion!$C$10,\"\")","v":""},""]
[null,null,null,null,null,null,null,{"$f":"IF(DATOS!A702<>\"\",DATOS!A702&configuracion!$C$10,\"\")","v":""},""]
[null,null,null,null,null,null,null,{"$f":"IF(DATOS!A703<>\"\",DATOS!A703&configuracion!$C$10,\"\")","v":""},""]
[null,null,null,null,null,null,null,{"$f":"IF(DATOS!A704<>\"\",DATOS!A704&configuracion!$C$10,\"\")","v":""},""]
[null,null,null,null,null,null,null,{"$f":"IF(DATOS!A705<>\"\",DATOS!A705&configuracion!$C$10,\"\")","v":""},""]
[null,null,null,null,null,null,null,{"$f":"IF(DATOS!A706<>\"\",DATOS!A706&configuracion!$C$10,\"\")","v":""},""]
[null,null,null,null,null,null,null,{"$f":"IF(DATOS!A707<>\"\",DATOS!A707&configuracion!$C$10,\"\")","v":""},""]
[null,null,null,null,null,null,null,{"$f":"IF(DATOS!A708<>\"\",DATOS!A708&configuracion!$C$10,\"\")","v":""},{"$f":"IF(B708=\"\",\"\",TEXT(B708, \"DD/MM/YYYY HH:MM:SS\"))","v":""}]
[null,null,null,null,null,null,null,{"$f":"IF(DATOS!A709<>\"\",DATOS!A709&configuracion!$C$10,\"\")","v":""},""]
[null,null,null,null,null,null,null,{"$f":"IF(DATOS!A710<>\"\",DATOS!A710&configuracion!$C$10,\"\")","v":""},""]
[null,null,null,null,null,null,null,{"$f":"IF(DATOS!A711<>\"\",DATOS!A711&configuracion!$C$10,\"\")","v":""},""]
[null,null,null,null,null,null,null,{"$f":"IF(DATOS!A712<>\"\",DATOS!A712&configuracion!$C$10,\"\")","v":""},""]
[null,null,null,null,null,null,null,{"$f":"IF(DATOS!A713<>\"\",DATOS!A713&configuracion!$C$10,\"\")","v":""},""]
[null,null,null,null,null,null,null,{"$f":"IF(DATOS!A714<>\"\",DATOS!A714&configuracion!$C$10,\"\")","v":""},""]
[null,null,null,null,null,null,null,{"$f":"IF(DATOS!A715<>\"\",DATOS!A715&configuracion!$C$10,\"\")","v":""},""]
[null,null,null,null,null,null,null,{"$f":"IF(DATOS!A716<>\"\",DATOS!A716&configuracion!$C$10,\"\")","v":""},""]
[null,null,null,null,null,null,null,{"$f":"IF(DATOS!A717<>\"\",DATOS!A717&configuracion!$C$10,\"\")","v":""},""]
[null,null,null,null,null,null,null,{"$f":"IF(DATOS!A718<>\"\",DATOS!A718&configuracion!$C$10,\"\")","v":""},""]
[null,null,null,null,null,null,null,{"$f":"IF(DATOS!A719<>\"\",DATOS!A719&configuracion!$C$10,\"\")","v":""},""]
[null,null,null,null,null,null,null,{"$f":"IF(DATOS!A720<>\"\",DATOS!A720&configuracion!$C$10,\"\")","v":""},""]
[null,null,null,null,null,null,null,{"$f":"IF(DATOS!A721<>\"\",DATOS!A721&configuracion!$C$10,\"\")","v":""},""]
[null,null,null,null,null,null,null,{"$f":"IF(DATOS!A722<>\"\",DATOS!A722&configuracion!$C$10,\"\")","v":""},""]
[null,null,null,null,null,null,null,{"$f":"IF(DATOS!A723<>\"\",DATOS!A723&configuracion!$C$10,\"\")","v":""},""]
[null,null,null,null,null,null,null,{"$f":"IF(DATOS!A724<>\"\",DATOS!A724&configuracion!$C$10,\"\")","v":""},""]
[null,null,null,null,null,null,null,{"$f":"IF(DATOS!A725<>\"\",DATOS!A725&configuracion!$C$10,\"\")","v":""},""]
[null,null,null,null,null,null,null,{"$f":"IF(DATOS!A726<>\"\",DATOS!A726&configuracion!$C$10,\"\")","v":""},""]
[null,null,null,null,null,null,null,{"$f":"IF(DATOS!A727<>\"\",DATOS!A727&configuracion!$C$10,\"\")","v":""},""]
[null,null,null,null,null,null,null,{"$f":"IF(DATOS!A728<>\"\",DATOS!A728&configuracion!$C$10,\"\")","v":""},""]
[null,null,null,null,null,null,null,{"$f":"IF(DATOS!A729<>\"\",DATOS!A729&configuracion!$C$10,\"\")","v":""},""]
[null,null,null,null,null,null,null,{"$f":"IF(DATOS!A730<>\"\",DATOS!A730&configuracion!$C$10,\"\")","v":""},""]
[null,null,null,null,null,null,null,{"$f":"IF(DATOS!A731<>\"\",DATOS!A731&configuracion!$C$10,\"\")","v":""},""]
[null,null,null,null,null,null,null,{"$f":"IF(DATOS!A732<>\"\",DATOS!A732&configuracion!$C$10,\"\")","v":""},""]
[null,null,null,null,null,null,null,{"$f":"IF(DATOS!A733<>\"\",DATOS!A733&configuracion!$C$10,\"\")","v":""},""]
[null,null,null,null,null,null,null,{"$f":"IF(DATOS!A734<>\"\",DATOS!A734&configuracion!$C$10,\"\")","v":""},""]
[null,null,null,null,null,null,null,{"$f":"IF(DATOS!A735<>\"\",DATOS!A735&configuracion!$C$10,\"\")","v":""},""]
[null,null,null,null,null,null,null,{"$f":"IF(DATOS!A736<>\"\",DATOS!A736&configuracion!$C$10,\"\")","v":""},""]
[null,null,null,null,null,null,null,{"$f":"IF(DATOS!A737<>\"\",DATOS!A737&configuracion!$C$10,\"\")","v":""},""]
[null,null,null,null,null,null,null,{"$f":"IF(DATOS!A738<>\"\",DATOS!A738&configuracion!$C$10,\"\")","v":""},""]
[null,null,null,null,null,null,null,{"$f":"IF(DATOS!A739<>\"\",DATOS!A739&configuracion!$C$10,\"\")","v":""},""]
[null,null,null,null,null,null,null,{"$f":"IF(DATOS!A740<>\"\",DATOS!A740&configuracion!$C$10,\"\")","v":""},""]
[null,null,null,null,null,null,null,{"$f":"IF(DATOS!A741<>\"\",DATOS!A741&configuracion!$C$10,\"\")","v":""},""]
[null,null,null,null,null,null,null,{"$f":"IF(DATOS!A742<>\"\",DATOS!A742&configuracion!$C$10,\"\")","v":""},""]
[null,null,null,null,null,null,null,{"$f":"IF(DATOS!A743<>\"\",DATOS!A743&configuracion!$C$10,\"\")","v":""},""]
[null,null,null,null,null,null,null,{"$f":"IF(DATOS!A744<>\"\",DATOS!A744&configuracion!$C$10,\"\")","v":""},""]
[null,null,null,null,null,null,null,{"$f":"IF(DATOS!A745<>\"\",DATOS!A745&configuracion!$C$10,\"\")","v":""},""]
[null,null,null,null,null,null,null,{"$f":"IF(DATOS!A746<>\"\",DATOS!A746&configuracion!$C$10,\"\")","v":""},""]
[null,null,null,null,null,null,null,{"$f":"IF(DATOS!A747<>\"\",DATOS!A747&configuracion!$C$10,\"\")","v":""},""]
[null,null,null,null,null,null,null,{"$f":"IF(DATOS!A748<>\"\",DATOS!A748&configuracion!$C$10,\"\")","v":""},""]
[null,null,null,null,null,null,null,{"$f":"IF(DATOS!A749<>\"\",DATOS!A749&configuracion!$C$10,\"\")","v":""},""]
[null,null,null,null,null,null,null,{"$f":"IF(DATOS!A750<>\"\",DATOS!A750&configuracion!$C$10,\"\")","v":""},""]
[null,null,null,null,null,null,null,{"$f":"IF(DATOS!A751<>\"\",DATOS!A751&configuracion!$C$10,\"\")","v":""},""]
[null,null,null,null,null,null,null,{"$f":"IF(DATOS!A752<>\"\",DATOS!A752&configuracion!$C$10,\"\")","v":""},""]
[null,null,null,null,null,null,null,{"$f":"IF(DATOS!A753<>\"\",DATOS!A753&configuracion!$C$10,\"\")","v":""},""]
[null,null,null,null,null,null,null,{"$f":"IF(DATOS!A754<>\"\",DATOS!A754&configuracion!$C$10,\"\")","v":""},""]
[null,null,null,null,null,null,null,{"$f":"IF(DATOS!A755<>\"\",DATOS!A755&configuracion!$C$10,\"\")","v":""},""]
[null,null,null,null,null,null,null,{"$f":"IF(DATOS!A756<>\"\",DATOS!A756&configuracion!$C$10,\"\")","v":""},""]
[null,null,null,null,null,null,null,{"$f":"IF(DATOS!A757<>\"\",DATOS!A757&configuracion!$C$10,\"\")","v":""},""]
[null,null,null,null,null,null,null,{"$f":"IF(DATOS!A758<>\"\",DATOS!A758&configuracion!$C$10,\"\")","v":""},""]
[null,null,null,null,null,null,null,{"$f":"IF(DATOS!A759<>\"\",DATOS!A759&configuracion!$C$10,\"\")","v":""},""]
[null,null,null,null,null,null,null,{"$f":"IF(DATOS!A760<>\"\",DATOS!A760&configuracion!$C$10,\"\")","v":""},""]
[null,null,null,null,null,null,null,{"$f":"IF(DATOS!A761<>\"\",DATOS!A761&configuracion!$C$10,\"\")","v":""},""]
[null,null,null,null,null,null,null,{"$f":"IF(DATOS!A762<>\"\",DATOS!A762&configuracion!$C$10,\"\")","v":""},""]
[null,null,null,null,null,null,null,{"$f":"IF(DATOS!A763<>\"\",DATOS!A763&configuracion!$C$10,\"\")","v":""},""]
[null,null,null,null,null,null,null,{"$f":"IF(DATOS!A764<>\"\",DATOS!A764&configuracion!$C$10,\"\")","v":""},""]
[null,null,null,null,null,null,null,{"$f":"IF(DATOS!A765<>\"\",DATOS!A765&configuracion!$C$10,\"\")","v":""},""]
[null,null,null,null,null,null,null,{"$f":"IF(DATOS!A766<>\"\",DATOS!A766&configuracion!$C$10,\"\")","v":""},""]
[null,null,null,null,null,null,null,{"$f":"IF(DATOS!A767<>\"\",DATOS!A767&configuracion!$C$10,\"\")","v":""},""]
[null,null,null,null,null,null,null,{"$f":"IF(DATOS!A768<>\"\",DATOS!A768&configuracion!$C$10,\"\")","v":""},""]
[null,null,null,null,null,null,null,{"$f":"IF(DATOS!A769<>\"\",DATOS!A769&configuracion!$C$10,\"\")","v":""},""]
[null,null,null,null,null,null,null,{"$f":"IF(DATOS!A770<>\"\",DATOS!A770&configuracion!$C$10,\"\")","v":""},""]
[null,null,null,null,null,null,null,{"$f":"IF(DATOS!A771<>\"\",DATOS!A771&configuracion!$C$10,\"\")","v":""},""]
[null,null,null,null,null,null,null,{"$f":"IF(DATOS!A772<>\"\",DATOS!A772&configuracion!$C$10,\"\")","v":""},{"$f":"IF(B772=\"\",\"\",TEXT(B772, \"DD/MM/YYYY HH:MM:SS\"))","v":""}]
[null,null,null,null,null,null,null,{"$f":"IF(DATOS!A773<>\"\",DATOS!A773&configuracion!$C$10,\"\")","v":""},""]
[null,null,null,null,null,null,null,{"$f":"IF(DATOS!A774<>\"\",DATOS!A774&configuracion!$C$10,\"\")","v":""},""]
[null,null,null,null,null,null,null,{"$f":"IF(DATOS!A775<>\"\",DATOS!A775&configuracion!$C$10,\"\")","v":""},""]
[null,null,null,null,null,null,null,{"$f":"IF(DATOS!A776<>\"\",DATOS!A776&configuracion!$C$10,\"\")","v":""},""]
[null,null,null,null,null,null,null,{"$f":"IF(DATOS!A777<>\"\",DATOS!A777&configuracion!$C$10,\"\")","v":""},""]
[null,null,null,null,null,null,null,{"$f":"IF(DATOS!A778<>\"\",DATOS!A778&configuracion!$C$10,\"\")","v":""},""]
[null,null,null,null,null,null,null,{"$f":"IF(DATOS!A779<>\"\",DATOS!A779&configuracion!$C$10,\"\")","v":""},""]
[null,null,null,null,null,null,null,{"$f":"IF(DATOS!A780<>\"\",DATOS!A780&configuracion!$C$10,\"\")","v":""},""]
[null,null,null,null,null,null,null,{"$f":"IF(DATOS!A781<>\"\",DATOS!A781&configuracion!$C$10,\"\")","v":""},""]
[null,null,null,null,null,null,null,{"$f":"IF(DATOS!A782<>\"\",DATOS!A782&configuracion!$C$10,\"\")","v":""},""]
[null,null,null,null,null,null,null,{"$f":"IF(DATOS!A783<>\"\",DATOS!A783&configuracion!$C$10,\"\")","v":""},""]
[null,null,null,null,null,null,null,{"$f":"IF(DATOS!A784<>\"\",DATOS!A784&configuracion!$C$10,\"\")","v":""},""]
[null,null,null,null,null,null,null,{"$f":"IF(DATOS!A785<>\"\",DATOS!A785&configuracion!$C$10,\"\")","v":""},""]
[null,null,null,null,null,null,null,{"$f":"IF(DATOS!A786<>\"\",DATOS!A786&configuracion!$C$10,\"\")","v":""},""]
[null,null,null,null,null,null,null,{"$f":"IF(DATOS!A787<>\"\",DATOS!A787&configuracion!$C$10,\"\")","v":""},""]
[null,null,null,null,null,null,null,{"$f":"IF(DATOS!A788<>\"\",DATOS!A788&configuracion!$C$10,\"\")","v":""},""]
[null,null,null,null,null,null,null,{"$f":"IF(DATOS!A789<>\"\",DATOS!A789&configuracion!$C$10,\"\")","v":""},""]
[null,null,null,null,null,null,null,{"$f":"IF(DATOS!A790<>\"\",DATOS!A790&configuracion!$C$10,\"\")","v":""},""]
[null,null,null,null,null,null,null,{"$f":"IF(DATOS!A791<>\"\",DATOS!A791&configuracion!$C$10,\"\")","v":""},""]
[null,null,null,null,null,null,null,{"$f":"IF(DATOS!A792<>\"\",DATOS!A792&configuracion!$C$10,\"\")","v":""},""]
[null,null,null,null,null,null,null,{"$f":"IF(DATOS!A793<>\"\",DATOS!A793&configuracion!$C$10,\"\")","v":""},""]
[null,null,null,null,null,null,null,{"$f":"IF(DATOS!A794<>\"\",DATOS!A794&configuracion!$C$10,\"\")","v":""},""]
[null,null,null,null,null,null,null,{"$f":"IF(DATOS!A795<>\"\",DATOS!A795&configuracion!$C$10,\"\")","v":""},""]
[null,null,null,null,null,null,null,{"$f":"IF(DATOS!A796<>\"\",DATOS!A796&configuracion!$C$10,\"\")","v":""},""]
[null,null,null,null,null,null,null,{"$f":"IF(DATOS!A797<>\"\",DATOS!A797&configuracion!$C$10,\"\")","v":""},""]
[null,null,null,null,null,null,null,{"$f":"IF(DATOS!A798<>\"\",DATOS!A798&configuracion!$C$10,\"\")","v":""},""]
[null,null,null,null,null,null,null,{"$f":"IF(DATOS!A799<>\"\",DATOS!A799&configuracion!$C$10,\"\")","v":""},""]
[null,null,null,null,null,null,null,{"$f":"IF(DATOS!A800<>\"\",DATOS!A800&configuracion!$C$10,\"\")","v":""},""]
[null,null,null,null,null,null,null,{"$f":"IF(DATOS!A801<>\"\",DATOS!A801&configuracion!$C$10,\"\")","v":""},""]
[null,null,null,null,null,null,null,{"$f":"IF(DATOS!A802<>\"\",DATOS!A802&configuracion!$C$10,\"\")","v":""},""]
[null,null,null,null,null,null,null,{"$f":"IF(DATOS!A803<>\"\",DATOS!A803&configuracion!$C$10,\"\")","v":""},""]
[null,null,null,null,null,null,null,{"$f":"IF(DATOS!A804<>\"\",DATOS!A804&configuracion!$C$10,\"\")","v":""},""]
[null,null,null,null,null,null,null,{"$f":"IF(DATOS!A805<>\"\",DATOS!A805&configuracion!$C$10,\"\")","v":""},""]
[null,null,null,null,null,null,null,{"$f":"IF(DATOS!A806<>\"\",DATOS!A806&configuracion!$C$10,\"\")","v":""},""]
[null,null,null,null,null,null,null,{"$f":"IF(DATOS!A807<>\"\",DATOS!A807&configuracion!$C$10,\"\")","v":""},""]
[null,null,null,null,null,null,null,{"$f":"IF(DATOS!A808<>\"\",DATOS!A808&configuracion!$C$10,\"\")","v":""},""]
[null,null,null,null,null,null,null,{"$f":"IF(DATOS!A809<>\"\",DATOS!A809&configuracion!$C$10,\"\")","v":""},""]
[null,null,null,null,null,null,null,{"$f":"IF(DATOS!A810<>\"\",DATOS!A810&configuracion!$C$10,\"\")","v":""},""]
[null,null,null,null,null,null,null,{"$f":"IF(DATOS!A811<>\"\",DATOS!A811&configuracion!$C$10,\"\")","v":""},""]
[null,null,null,null,null,null,null,{"$f":"IF(DATOS!A812<>\"\",DATOS!A812&configuracion!$C$10,\"\")","v":""},""]
[null,null,null,null,null,null,null,{"$f":"IF(DATOS!A813<>\"\",DATOS!A813&configuracion!$C$10,\"\")","v":""},""]
[null,null,null,null,null,null,null,{"$f":"IF(DATOS!A814<>\"\",DATOS!A814&configuracion!$C$10,\"\")","v":""},""]
[null,null,null,null,null,null,null,{"$f":"IF(DATOS!A815<>\"\",DATOS!A815&configuracion!$C$10,\"\")","v":""},""]
[null,null,null,null,null,null,null,{"$f":"IF(DATOS!A816<>\"\",DATOS!A816&configuracion!$C$10,\"\")","v":""},""]
[null,null,null,null,null,null,null,{"$f":"IF(DATOS!A817<>\"\",DATOS!A817&configuracion!$C$10,\"\")","v":""},""]
[null,null,null,null,null,null,null,{"$f":"IF(DATOS!A818<>\"\",DATOS!A818&configuracion!$C$10,\"\")","v":""},""]
[null,null,null,null,null,null,null,{"$f":"IF(DATOS!A819<>\"\",DATOS!A819&configuracion!$C$10,\"\")","v":""},""]
[null,null,null,null,null,null,null,{"$f":"IF(DATOS!A820<>\"\",DATOS!A820&configuracion!$C$10,\"\")","v":""},""]
[null,null,null,null,null,null,null,{"$f":"IF(DATOS!A821<>\"\",DATOS!A821&configuracion!$C$10,\"\")","v":""},""]
[null,null,null,null,null,null,null,{"$f":"IF(DATOS!A822<>\"\",DATOS!A822&configuracion!$C$10,\"\")","v":""},""]
[null,null,null,null,null,null,null,{"$f":"IF(DATOS!A823<>\"\",DATOS!A823&configuracion!$C$10,\"\")","v":""},""]
[null,null,null,null,null,null,null,{"$f":"IF(DATOS!A824<>\"\",DATOS!A824&configuracion!$C$10,\"\")","v":""},""]
[null,null,null,null,null,null,null,{"$f":"IF(DATOS!A825<>\"\",DATOS!A825&configuracion!$C$10,\"\")","v":""},""]
[null,null,null,null,null,null,null,{"$f":"IF(DATOS!A826<>\"\",DATOS!A826&configuracion!$C$10,\"\")","v":""},""]
[null,null,null,null,null,null,null,{"$f":"IF(DATOS!A827<>\"\",DATOS!A827&configuracion!$C$10,\"\")","v":""},""]
[null,null,null,null,null,null,null,{"$f":"IF(DATOS!A828<>\"\",DATOS!A828&configuracion!$C$10,\"\")","v":""},""]
[null,null,null,null,null,null,null,{"$f":"IF(DATOS!A829<>\"\",DATOS!A829&configuracion!$C$10,\"\")","v":""},""]
[null,null,null,null,null,null,null,{"$f":"IF(DATOS!A830<>\"\",DATOS!A830&configuracion!$C$10,\"\")","v":""},""]
[null,null,null,null,null,null,null,{"$f":"IF(DATOS!A831<>\"\",DATOS!A831&configuracion!$C$10,\"\")","v":""},""]
[null,null,null,null,null,null,null,{"$f":"IF(DATOS!A832<>\"\",DATOS!A832&configuracion!$C$10,\"\")","v":""},""]
[null,null,null,null,null,null,null,{"$f":"IF(DATOS!A833<>\"\",DATOS!A833&configuracion!$C$10,\"\")","v":""},""]
[null,null,null,null,null,null,null,{"$f":"IF(DATOS!A834<>\"\",DATOS!A834&configuracion!$C$10,\"\")","v":""},""]
[null,null,null,null,null,null,null,{"$f":"IF(DATOS!A835<>\"\",DATOS!A835&configuracion!$C$10,\"\")","v":""},""]
[null,null,null,null,null,null,null,{"$f":"IF(DATOS!A836<>\"\",DATOS!A836&configuracion!$C$10,\"\")","v":""},{"$f":"IF(B836=\"\",\"\",TEXT(B836, \"DD/MM/YYYY HH:MM:SS\"))","v":""}]
[null,null,null,null,null,null,null,{"$f":"IF(DATOS!A837<>\"\",DATOS!A837&configuracion!$C$10,\"\")","v":""},""]
[null,null,null,null,null,null,null,{"$f":"IF(DATOS!A838<>\"\",DATOS!A838&configuracion!$C$10,\"\")","v":""},""]
[null,null,null,null,null,null,null,{"$f":"IF(DATOS!A839<>\"\",DATOS!A839&configuracion!$C$10,\"\")","v":""},""]
[null,null,null,null,null,null,null,{"$f":"IF(DATOS!A840<>\"\",DATOS!A840&configuracion!$C$10,\"\")","v":""},""]
[null,null,null,null,null,null,null,{"$f":"IF(DATOS!A841<>\"\",DATOS!A841&configuracion!$C$10,\"\")","v":""},""]
[null,null,null,null,null,null,null,{"$f":"IF(DATOS!A842<>\"\",DATOS!A842&configuracion!$C$10,\"\")","v":""},""]
[null,null,null,null,null,null,null,{"$f":"IF(DATOS!A843<>\"\",DATOS!A843&configuracion!$C$10,\"\")","v":""},""]
[null,null,null,null,null,null,null,{"$f":"IF(DATOS!A844<>\"\",DATOS!A844&configuracion!$C$10,\"\")","v":""},""]
[null,null,null,null,null,null,null,{"$f":"IF(DATOS!A845<>\"\",DATOS!A845&configuracion!$C$10,\"\")","v":""},""]
[null,null,null,null,null,null,null,{"$f":"IF(DATOS!A846<>\"\",DATOS!A846&configuracion!$C$10,\"\")","v":""},""]
[null,null,null,null,null,null,null,{"$f":"IF(DATOS!A847<>\"\",DATOS!A847&configuracion!$C$10,\"\")","v":""},""]
[null,null,null,null,null,null,null,{"$f":"IF(DATOS!A848<>\"\",DATOS!A848&configuracion!$C$10,\"\")","v":""},""]
[null,null,null,null,null,null,null,{"$f":"IF(DATOS!A849<>\"\",DATOS!A849&configuracion!$C$10,\"\")","v":""},""]
[null,null,null,null,null,null,null,{"$f":"IF(DATOS!A850<>\"\",DATOS!A850&configuracion!$C$10,\"\")","v":""},""]
[null,null,null,null,null,null,null,{"$f":"IF(DATOS!A851<>\"\",DATOS!A851&configuracion!$C$10,\"\")","v":""},""]
[null,null,null,null,null,null,null,{"$f":"IF(DATOS!A852<>\"\",DATOS!A852&configuracion!$C$10,\"\")","v":""},""]
[null,null,null,null,null,null,null,{"$f":"IF(DATOS!A853<>\"\",DATOS!A853&configuracion!$C$10,\"\")","v":""},""]
[null,null,null,null,null,null,null,{"$f":"IF(DATOS!A854<>\"\",DATOS!A854&configuracion!$C$10,\"\")","v":""},""]
[null,null,null,null,null,null,null,{"$f":"IF(DATOS!A855<>\"\",DATOS!A855&configuracion!$C$10,\"\")","v":""},""]
[null,null,null,null,null,null,null,{"$f":"IF(DATOS!A856<>\"\",DATOS!A856&configuracion!$C$10,\"\")","v":""},""]
[null,null,null,null,null,null,null,{"$f":"IF(DATOS!A857<>\"\",DATOS!A857&configuracion!$C$10,\"\")","v":""},""]
[null,null,null,null,null,null,null,{"$f":"IF(DATOS!A858<>\"\",DATOS!A858&configuracion!$C$10,\"\")","v":""},""]
[null,null,null,null,null,null,null,{"$f":"IF(DATOS!A859<>\"\",DATOS!A859&configuracion!$C$10,\"\")","v":""},""]
[null,null,null,null,null,null,null,{"$f":"IF(DATOS!A860<>\"\",DATOS!A860&configuracion!$C$10,\"\")","v":""},""]
[null,null,null,null,null,null,null,{"$f":"IF(DATOS!A861<>\"\",DATOS!A861&configuracion!$C$10,\"\")","v":""},""]
[null,null,null,null,null,null,null,{"$f":"IF(DATOS!A862<>\"\",DATOS!A862&configuracion!$C$10,\"\")","v":""},""]
[null,null,null,null,null,null,null,{"$f":"IF(DATOS!A863<>\"\",DATOS!A863&configuracion!$C$10,\"\")","v":""},""]
[null,null,null,null,null,null,null,{"$f":"IF(DATOS!A864<>\"\",DATOS!A864&configuracion!$C$10,\"\")","v":""},""]
[null,null,null,null,null,null,null,{"$f":"IF(DATOS!A865<>\"\",DATOS!A865&configuracion!$C$10,\"\")","v":""},""]
[null,null,null,null,null,null,null,{"$f":"IF(DATOS!A866<>\"\",DATOS!A866&configuracion!$C$10,\"\")","v":""},""]
[null,null,null,null,null,null,null,{"$f":"IF(DATOS!A867<>\"\",DATOS!A867&configuracion!$C$10,\"\")","v":""},""]
[null,null,null,null,null,null,null,{"$f":"IF(DATOS!A868<>\"\",DATOS!A868&configuracion!$C$10,\"\")","v":""},""]
[null,null,null,null,null,null,null,{"$f":"IF(DATOS!A869<>\"\",DATOS!A869&configuracion!$C$10,\"\")","v":""},""]
[null,null,null,null,null,null,null,{"$f":"IF(DATOS!A870<>\"\",DATOS!A870&configuracion!$C$10,\"\")","v":""},""]
[null,null,null,null,null,null,null,{"$f":"IF(DATOS!A871<>\"\",DATOS!A871&configuracion!$C$10,\"\")","v":""},""]
[null,null,null,null,null,null,null,{"$f":"IF(DATOS!A872<>\"\",DATOS!A872&configuracion!$C$10,\"\")","v":""},""]
[null,null,null,null,null,null,null,{"$f":"IF(DATOS!A873<>\"\",DATOS!A873&configuracion!$C$10,\"\")","v":""},""]
[null,null,null,null,null,null,null,{"$f":"IF(DATOS!A874<>\"\",DATOS!A874&configuracion!$C$10,\"\")","v":""},""]
[null,null,null,null,null,null,null,{"$f":"IF(DATOS!A875<>\"\",DATOS!A875&configuracion!$C$10,\"\")","v":""},""]
[null,null,null,null,null,null,null,{"$f":"IF(DATOS!A876<>\"\",DATOS!A876&configuracion!$C$10,\"\")","v":""},""]
[null,null,null,null,null,null,null,{"$f":"IF(DATOS!A877<>\"\",DATOS!A877&configuracion!$C$10,\"\")","v":""},""]
[null,null,null,null,null,null,null,{"$f":"IF(DATOS!A878<>\"\",DATOS!A878&configuracion!$C$10,\"\")","v":""},""]
[null,null,null,null,null,null,null,{"$f":"IF(DATOS!A879<>\"\",DATOS!A879&configuracion!$C$10,\"\")","v":""},""]
[null,null,null,null,null,null,null,{"$f":"IF(DATOS!A880<>\"\",DATOS!A880&configuracion!$C$10,\"\")","v":""},""]
[null,null,null,null,null,null,null,{"$f":"IF(DATOS!A881<>\"\",DATOS!A881&configuracion!$C$10,\"\")","v":""},""]
[null,null,null,null,null,null,null,{"$f":"IF(DATOS!A882<>\"\",DATOS!A882&configuracion!$C$10,\"\")","v":""},""]
[null,null,null,null,null,null,null,{"$f":"IF(DATOS!A883<>\"\",DATOS!A883&configuracion!$C$10,\"\")","v":""},""]
[null,null,null,null,null,null,null,{"$f":"IF(DATOS!A884<>\"\",DATOS!A884&configuracion!$C$10,\"\")","v":""},""]
[null,null,null,null,null,null,null,{"$f":"IF(DATOS!A885<>\"\",DATOS!A885&configuracion!$C$10,\"\")","v":""},""]
[null,null,null,null,null,null,null,{"$f":"IF(DATOS!A886<>\"\",DATOS!A886&configuracion!$C$10,\"\")","v":""},""]
[null,null,null,null,null,null,null,{"$f":"IF(DATOS!A887<>\"\",DATOS!A887&configuracion!$C$10,\"\")","v":""},""]
[null,null,null,null,null,null,null,{"$f":"IF(DATOS!A888<>\"\",DATOS!A888&configuracion!$C$10,\"\")","v":""},""]
[null,null,null,null,null,null,null,{"$f":"IF(DATOS!A889<>\"\",DATOS!A889&configuracion!$C$10,\"\")","v":""},""]
[null,null,null,null,null,null,null,{"$f":"IF(DATOS!A890<>\"\",DATOS!A890&configuracion!$C$10,\"\")","v":""},""]
[null,null,null,null,null,null,null,{"$f":"IF(DATOS!A891<>\"\",DATOS!A891&configuracion!$C$10,\"\")","v":""},""]
[null,null,null,null,null,null,null,{"$f":"IF(DATOS!A892<>\"\",DATOS!A892&configuracion!$C$10,\"\")","v":""},""]
[null,null,null,null,null,null,null,{"$f":"IF(DATOS!A893<>\"\",DATOS!A893&configuracion!$C$10,\"\")","v":""},""]
[null,null,null,null,null,null,null,{"$f":"IF(DATOS!A894<>\"\",DATOS!A894&configuracion!$C$10,\"\")","v":""},""]
[null,null,null,null,null,null,null,{"$f":"IF(DATOS!A895<>\"\",DATOS!A895&configuracion!$C$10,\"\")","v":""},""]
[null,null,null,null,null,null,null,{"$f":"IF(DATOS!A896<>\"\",DATOS!A896&configuracion!$C$10,\"\")","v":""},""]
[null,null,null,null,null,null,null,{"$f":"IF(DATOS!A897<>\"\",DATOS!A897&configuracion!$C$10,\"\")","v":""},""]
[null,null,null,null,null,null,null,{"$f":"IF(DATOS!A898<>\"\",DATOS!A898&configuracion!$C$10,\"\")","v":""},""]
[null,null,null,null,null,null,null,{"$f":"IF(DATOS!A899<>\"\",DATOS!A899&configuracion!$C$10,\"\")","v":""},""]
[null,null,null,null,null,null,null,{"$f":"IF(DATOS!A900<>\"\",DATOS!A900&configuracion!$C$10,\"\")","v":""},{"$f":"IF(B900=\"\",\"\",TEXT(B900, \"DD/MM/YYYY HH:MM:SS\"))","v":""}]
[null,null,null,null,null,null,null,{"$f":"IF(DATOS!A901<>\"\",DATOS!A901&configuracion!$C$10,\"\")","v":""},""]
[null,null,null,null,null,null,null,{"$f":"IF(DATOS!A902<>\"\",DATOS!A902&configuracion!$C$10,\"\")","v":""},""]
[null,null,null,null,null,null,null,{"$f":"IF(DATOS!A903<>\"\",DATOS!A903&configuracion!$C$10,\"\")","v":""},""]
[null,null,null,null,null,null,null,{"$f":"IF(DATOS!A904<>\"\",DATOS!A904&configuracion!$C$10,\"\")","v":""},""]
[null,null,null,null,null,null,null,{"$f":"IF(DATOS!A905<>\"\",DATOS!A905&configuracion!$C$10,\"\")","v":""},""]
[null,null,null,null,null,null,null,{"$f":"IF(DATOS!A906<>\"\",DATOS!A906&configuracion!$C$10,\"\")","v":""},""]
[null,null,null,null,null,null,null,{"$f":"IF(DATOS!A907<>\"\",DATOS!A907&configuracion!$C$10,\"\")","v":""},""]
[null,null,null,null,null,null,null,{"$f":"IF(DATOS!A908<>\"\",DATOS!A908&configuracion!$C$10,\"\")","v":""},""]
[null,null,null,null,null,null,null,{"$f":"IF(DATOS!A909<>\"\",DATOS!A909&configuracion!$C$10,\"\")","v":""},""]
[null,null,null,null,null,null,null,{"$f":"IF(DATOS!A910<>\"\",DATOS!A910&configuracion!$C$10,\"\")","v":""},""]
[null,null,null,null,null,null,null,{"$f":"IF(DATOS!A911<>\"\",DATOS!A911&configuracion!$C$10,\"\")","v":""},""]
[null,null,null,null,null,null,null,{"$f":"IF(DATOS!A912<>\"\",DATOS!A912&configuracion!$C$10,\"\")","v":""},""]
[null,null,null,null,null,null,null,{"$f":"IF(DATOS!A913<>\"\",DATOS!A913&configuracion!$C$10,\"\")","v":""},""]
[null,null,null,null,null,null,null,{"$f":"IF(DATOS!A914<>\"\",DATOS!A914&configuracion!$C$10,\"\")","v":""},""]
[null,null,null,null,null,null,null,{"$f":"IF(DATOS!A915<>\"\",DATOS!A915&configuracion!$C$10,\"\")","v":""},""]
[null,null,null,null,null,null,null,{"$f":"IF(DATOS!A916<>\"\",DATOS!A916&configuracion!$C$10,\"\")","v":""},""]
[null,null,null,null,null,null,null,{"$f":"IF(DATOS!A917<>\"\",DATOS!A917&configuracion!$C$10,\"\")","v":""},""]
[null,null,null,null,null,null,null,{"$f":"IF(DATOS!A918<>\"\",DATOS!A918&configuracion!$C$10,\"\")","v":""},""]
[null,null,null,null,null,null,null,{"$f":"IF(DATOS!A919<>\"\",DATOS!A919&configuracion!$C$10,\"\")","v":""},""]
[null,null,null,null,null,null,null,{"$f":"IF(DATOS!A920<>\"\",DATOS!A920&configuracion!$C$10,\"\")","v":""},""]
[null,null,null,null,null,null,null,{"$f":"IF(DATOS!A921<>\"\",DATOS!A921&configuracion!$C$10,\"\")","v":""},""]
[null,null,null,null,null,null,null,{"$f":"IF(DATOS!A922<>\"\",DATOS!A922&configuracion!$C$10,\"\")","v":""},""]
[null,null,null,null,null,null,null,{"$f":"IF(DATOS!A923<>\"\",DATOS!A923&configuracion!$C$10,\"\")","v":""},""]
[null,null,null,null,null,null,null,{"$f":"IF(DATOS!A924<>\"\",DATOS!A924&configuracion!$C$10,\"\")","v":""},""]
[null,null,null,null,null,null,null,{"$f":"IF(DATOS!A925<>\"\",DATOS!A925&configuracion!$C$10,\"\")","v":""},""]
[null,null,null,null,null,null,null,{"$f":"IF(DATOS!A926<>\"\",DATOS!A926&configuracion!$C$10,\"\")","v":""},""]
[null,null,null,null,null,null,null,{"$f":"IF(DATOS!A927<>\"\",DATOS!A927&configuracion!$C$10,\"\")","v":""},""]
[null,null,null,null,null,null,null,{"$f":"IF(DATOS!A928<>\"\",DATOS!A928&configuracion!$C$10,\"\")","v":""},""]
[null,null,null,null,null,null,null,{"$f":"IF(DATOS!A929<>\"\",DATOS!A929&configuracion!$C$10,\"\")","v":""},""]
[null,null,null,null,null,null,null,{"$f":"IF(DATOS!A930<>\"\",DATOS!A930&configuracion!$C$10,\"\")","v":""},""]
[null,null,null,null,null,null,null,{"$f":"IF(DATOS!A931<>\"\",DATOS!A931&configuracion!$C$10,\"\")","v":""},""]
[null,null,null,null,null,null,null,{"$f":"IF(DATOS!A932<>\"\",DATOS!A932&configuracion!$C$10,\"\")","v":""},""]
[null,null,null,null,null,null,null,{"$f":"IF(DATOS!A933<>\"\",DATOS!A933&configuracion!$C$10,\"\")","v":""},""]
[null,null,null,null,null,null,null,{"$f":"IF(DATOS!A934<>\"\",DATOS!A934&configuracion!$C$10,\"\")","v":""},""]
[null,null,null,null,null,null,null,{"$f":"IF(DATOS!A935<>\"\",DATOS!A935&configuracion!$C$10,\"\")","v":""},""]
[null,null,null,null,null,null,null,{"$f":"IF(DATOS!A936<>\"\",DATOS!A936&configuracion!$C$10,\"\")","v":""},""]
[null,null,null,null,null,null,null,{"$f":"IF(DATOS!A937<>\"\",DATOS!A937&configuracion!$C$10,\"\")","v":""},""]
[null,null,null,null,null,null,null,{"$f":"IF(DATOS!A938<>\"\",DATOS!A938&configuracion!$C$10,\"\")","v":""},""]
[null,null,null,null,null,null,null,{"$f":"IF(DATOS!A939<>\"\",DATOS!A939&configuracion!$C$10,\"\")","v":""},""]
[null,null,null,null,null,null,null,{"$f":"IF(DATOS!A940<>\"\",DATOS!A940&configuracion!$C$10,\"\")","v":""},""]
[null,null,null,null,null,null,null,{"$f":"IF(DATOS!A941<>\"\",DATOS!A941&configuracion!$C$10,\"\")","v":""},""]
[null,null,null,null,null,null,null,{"$f":"IF(DATOS!A942<>\"\",DATOS!A942&configuracion!$C$10,\"\")","v":""},""]
[null,null,null,null,null,null,null,{"$f":"IF(DATOS!A943<>\"\",DATOS!A943&configuracion!$C$10,\"\")","v":""},""]
[null,null,null,null,null,null,null,{"$f":"IF(DATOS!A944<>\"\",DATOS!A944&configuracion!$C$10,\"\")","v":""},""]
[null,null,null,null,null,null,null,{"$f":"IF(DATOS!A945<>\"\",DATOS!A945&configuracion!$C$10,\"\")","v":""},""]
[null,null,null,null,null,null,null,{"$f":"IF(DATOS!A946<>\"\",DATOS!A946&configuracion!$C$10,\"\")","v":""},""]
[null,null,null,null,null,null,null,{"$f":"IF(DATOS!A947<>\"\",DATOS!A947&configuracion!$C$10,\"\")","v":""},""]
[null,null,null,null,null,null,null,{"$f":"IF(DATOS!A948<>\"\",DATOS!A948&configuracion!$C$10,\"\")","v":""},""]
[null,null,null,null,null,null,null,{"$f":"IF(DATOS!A949<>\"\",DATOS!A949&configuracion!$C$10,\"\")","v":""},""]
[null,null,null,null,null,null,null,{"$f":"IF(DATOS!A950<>\"\",DATOS!A950&configuracion!$C$10,\"\")","v":""},""]
[null,null,null,null,null,null,null,{"$f":"IF(DATOS!A951<>\"\",DATOS!A951&configuracion!$C$10,\"\")","v":""},""]
[null,null,null,null,null,null,null,{"$f":"IF(DATOS!A952<>\"\",DATOS!A952&configuracion!$C$10,\"\")","v":""},""]
[null,null,null,null,null,null,null,{"$f":"IF(DATOS!A953<>\"\",DATOS!A953&configuracion!$C$10,\"\")","v":""},""]
[null,null,null,null,null,null,null,{"$f":"IF(DATOS!A954<>\"\",DATOS!A954&configuracion!$C$10,\"\")","v":""},""]
[null,null,null,null,null,null,null,{"$f":"IF(DATOS!A955<>\"\",DATOS!A955&configuracion!$C$10,\"\")","v":""},""]
[null,null,null,null,null,null,null,{"$f":"IF(DATOS!A956<>\"\",DATOS!A956&configuracion!$C$10,\"\")","v":""},""]
[null,null,null,null,null,null,null,{"$f":"IF(DATOS!A957<>\"\",DATOS!A957&configuracion!$C$10,\"\")","v":""},""]
[null,null,null,null,null,null,null,{"$f":"IF(DATOS!A958<>\"\",DATOS!A958&configuracion!$C$10,\"\")","v":""},""]
[null,null,null,null,null,null,null,{"$f":"IF(DATOS!A959<>\"\",DATOS!A959&configuracion!$C$10,\"\")","v":""},""]
[null,null,null,null,null,null,null,{"$f":"IF(DATOS!A960<>\"\",DATOS!A960&configuracion!$C$10,\"\")","v":""},""]
[null,null,null,null,null,null,null,{"$f":"IF(DATOS!A961<>\"\",DATOS!A961&configuracion!$C$10,\"\")","v":""},""]
[null,null,null,null,null,null,null,{"$f":"IF(DATOS!A962<>\"\",DATOS!A962&configuracion!$C$10,\"\")","v":""},""]
[null,null,null,null,null,null,null,{"$f":"IF(DATOS!A963<>\"\",DATOS!A963&configuracion!$C$10,\"\")","v":""},""]
[null,null,null,null,null,null,null,{"$f":"IF(DATOS!A964<>\"\",DATOS!A964&configuracion!$C$10,\"\")","v":""},{"$f":"IF(B964=\"\",\"\",TEXT(B964, \"DD/MM/YYYY HH:MM:SS\"))","v":""}]
[null,null,null,null,null,null,null,{"$f":"IF(DATOS!A965<>\"\",DATOS!A965&configuracion!$C$10,\"\")","v":""},""]
[null,null,null,null,null,null,null,{"$f":"IF(DATOS!A966<>\"\",DATOS!A966&configuracion!$C$10,\"\")","v":""},""]
[null,null,null,null,null,null,null,{"$f":"IF(DATOS!A967<>\"\",DATOS!A967&configuracion!$C$10,\"\")","v":""},""]
[null,null,null,null,null,null,null,{"$f":"IF(DATOS!A968<>\"\",DATOS!A968&configuracion!$C$10,\"\")","v":""},""]
[null,null,null,null,null,null,null,{"$f":"IF(DATOS!A969<>\"\",DATOS!A969&configuracion!$C$10,\"\")","v":""},""]
[null,null,null,null,null,null,null,{"$f":"IF(DATOS!A970<>\"\",DATOS!A970&configuracion!$C$10,\"\")","v":""},""]
[null,null,null,null,null,null,null,{"$f":"IF(DATOS!A971<>\"\",DATOS!A971&configuracion!$C$10,\"\")","v":""},""]
[null,null,null,null,null,null,null,{"$f":"IF(DATOS!A972<>\"\",DATOS!A972&configuracion!$C$10,\"\")","v":""},""]
[null,null,null,null,null,null,null,{"$f":"IF(DATOS!A973<>\"\",DATOS!A973&configuracion!$C$10,\"\")","v":""},""]
[null,null,null,null,null,null,null,{"$f":"IF(DATOS!A974<>\"\",DATOS!A974&configuracion!$C$10,\"\")","v":""},""]
[null,null,null,null,null,null,null,{"$f":"IF(DATOS!A975<>\"\",DATOS!A975&configuracion!$C$10,\"\")","v":""},""]
[null,null,null,null,null,null,null,{"$f":"IF(DATOS!A976<>\"\",DATOS!A976&configuracion!$C$10,\"\")","v":""},""]
[null,null,null,null,null,null,null,{"$f":"IF(DATOS!A977<>\"\",DATOS!A977&configuracion!$C$10,\"\")","v":""},""]
[null,null,null,null,null,null,null,{"$f":"IF(DATOS!A978<>\"\",DATOS!A978&configuracion!$C$10,\"\")","v":""},""]
[null,null,null,null,null,null,null,{"$f":"IF(DATOS!A979<>\"\",DATOS!A979&configuracion!$C$10,\"\")","v":""},""]
[null,null,null,null,null,null,null,{"$f":"IF(DATOS!A980<>\"\",DATOS!A980&configuracion!$C$10,\"\")","v":""},""]
[null,null,null,null,null,null,null,{"$f":"IF(DATOS!A981<>\"\",DATOS!A981&configuracion!$C$10,\"\")","v":""},""]
[null,null,null,null,null,null,null,{"$f":"IF(DATOS!A982<>\"\",DATOS!A982&configuracion!$C$10,\"\")","v":""},""]
[null,null,null,null,null,null,null,{"$f":"IF(DATOS!A983<>\"\",DATOS!A983&configuracion!$C$10,\"\")","v":""},""]
[null,null,null,null,null,null,null,{"$f":"IF(DATOS!A984<>\"\",DATOS!A984&configuracion!$C$10,\"\")","v":""},""]
[null,null,null,null,null,null,null,{"$f":"IF(DATOS!A985<>\"\",DATOS!A985&configuracion!$C$10,\"\")","v":""},""]
[null,null,null,null,null,null,null,{"$f":"IF(DATOS!A986<>\"\",DATOS!A986&configuracion!$C$10,\"\")","v":""},""]
[null,null,null,null,null,null,null,{"$f":"IF(DATOS!A987<>\"\",DATOS!A987&configuracion!$C$10,\"\")","v":""},""]
[null,null,null,null,null,null,null,{"$f":"IF(DATOS!A988<>\"\",DATOS!A988&configuracion!$C$10,\"\")","v":""},""]
[null,null,null,null,null,null,null,{"$f":"IF(DATOS!A989<>\"\",DATOS!A989&configuracion!$C$10,\"\")","v":""},""]
[null,null,null,null,null,null,null,{"$f":"IF(DATOS!A990<>\"\",DATOS!A990&configuracion!$C$10,\"\")","v":""},""]
[null,null,null,null,null,null,null,{"$f":"IF(DATOS!A991<>\"\",DATOS!A991&configuracion!$C$10,\"\")","v":""},""]
[null,null,null,null,null,null,null,{"$f":"IF(DATOS!A992<>\"\",DATOS!A992&configuracion!$C$10,\"\")","v":""},""]
[null,null,null,null,null,null,null,{"$f":"IF(DATOS!A993<>\"\",DATOS!A993&configuracion!$C$10,\"\")","v":""},""]
[null,null,null,null,null,null,null,{"$f":"IF(DATOS!A994<>\"\",DATOS!A994&configuracion!$C$10,\"\")","v":""},""]
[null,null,null,null,null,null,null,{"$f":"IF(DATOS!A995<>\"\",DATOS!A995&configuracion!$C$10,\"\")","v":""},""]
[null,null,null,null,null,null,null,{"$f":"IF(DATOS!A996<>\"\",DATOS!A996&configuracion!$C$10,\"\")","v":""},""]
[null,null,null,null,null,null,null,{"$f":"IF(DATOS!A997<>\"\",DATOS!A997&configuracion!$C$10,\"\")","v":""},""]
[null,null,null,null,null,null,null,{"$f":"IF(DATOS!A998<>\"\",DATOS!A998&configuracion!$C$10,\"\")","v":""},""]
[null,null,null,null,null,null,null,{"$f":"IF(DATOS!A999<>\"\",DATOS!A999&configuracion!$C$10,\"\")","v":""},""]
[null,null,null,null,null,null,null,{"$f":"IF(DATOS!A1000<>\"\",DATOS!A1000&configuracion!$C$10,\"\")","v":""},""]
[null,null,null,null,null,null,null,{"$f":"IF(DATOS!A1001<>\"\",DATOS!A1001&configuracion!$C$10,\"\")","v":""},""]
[null,null,null,null,null,null,null,{"$f":"IF(DATOS!A1002<>\"\",DATOS!A1002&configuracion!$C$10,\"\")","v":""},""]
[null,null,null,null,null,null,null,{"$f":"IF(DATOS!A1003<>\"\",DATOS!A1003&configuracion!$C$10,\"\")","v":""},""]
[null,null,null,null,null,null,null,{"$f":"IF(DATOS!A1004<>\"\",DATOS!A1004&configuracion!$C$10,\"\")","v":""},""]
[null,null,null,null,null,null,null,{"$f":"IF(DATOS!A1005<>\"\",DATOS!A1005&configuracion!$C$10,\"\")","v":""},""]
[null,null,null,null,null,null,null,{"$f":"IF(DATOS!A1006<>\"\",DATOS!A1006&configuracion!$C$10,\"\")","v":""},""]
[null,null,null,null,null,null,null,{"$f":"IF(DATOS!A1007<>\"\",DATOS!A1007&configuracion!$C$10,\"\")","v":""},""]
[null,null,null,null,null,null,null,{"$f":"IF(DATOS!A1008<>\"\",DATOS!A1008&configuracion!$C$10,\"\")","v":""},""]
[null,null,null,null,null,null,null,{"$f":"IF(DATOS!A1009<>\"\",DATOS!A1009&configuracion!$C$10,\"\")","v":""},""]
[null,null,null,null,null,null,null,{"$f":"IF(DATOS!A1010<>\"\",DATOS!A1010&configuracion!$C$10,\"\")","v":""},""]
[null,null,null,null,null,null,null,{"$f":"IF(DATOS!A1011<>\"\",DATOS!A1011&configuracion!$C$10,\"\")","v":""},""]
[null,null,null,null,null,null,null,{"$f":"IF(DATOS!A1012<>\"\",DATOS!A1012&configuracion!$C$10,\"\")","v":""},""]
[null,null,null,null,null,null,null,{"$f":"IF(DATOS!A1013<>\"\",DATOS!A1013&configuracion!$C$10,\"\")","v":""},""]
[null,null,null,null,null,null,null,{"$f":"IF(DATOS!A1014<>\"\",DATOS!A1014&configuracion!$C$10,\"\")","v":""},""]
[null,null,null,null,null,null,null,{"$f":"IF(DATOS!A1015<>\"\",DATOS!A1015&configuracion!$C$10,\"\")","v":""},""]
[null,null,null,null,null,null,null,{"$f":"IF(DATOS!A1016<>\"\",DATOS!A1016&configuracion!$C$10,\"\")","v":""},""]
[null,null,null,null,null,null,null,{"$f":"IF(DATOS!A1017<>\"\",DATOS!A1017&configuracion!$C$10,\"\")","v":""},""]
[null,null,null,null,null,null,null,{"$f":"IF(DATOS!A1018<>\"\",DATOS!A1018&configuracion!$C$10,\"\")","v":""},""]
[null,null,null,null,null,null,null,{"$f":"IF(DATOS!A1019<>\"\",DATOS!A1019&configuracion!$C$10,\"\")","v":""},""]
[null,null,null,null,null,null,null,{"$f":"IF(DATOS!A1020<>\"\",DATOS!A1020&configuracion!$C$10,\"\")","v":""},""]
[null,null,null,null,null,null,null,{"$f":"IF(DATOS!A1021<>\"\",DATOS!A1021&configuracion!$C$10,\"\")","v":""},""]
[null,null,null,null,null,null,null,{"$f":"IF(DATOS!A1022<>\"\",DATOS!A1022&configuracion!$C$10,\"\")","v":""},""]
[null,null,null,null,null,null,null,{"$f":"IF(DATOS!A1023<>\"\",DATOS!A1023&configuracion!$C$10,\"\")","v":""},""]
[null,null,null,null,null,null,null,{"$f":"IF(DATOS!A1024<>\"\",DATOS!A1024&configuracion!$C$10,\"\")","v":""},""]
[null,null,null,null,null,null,null,{"$f":"IF(DATOS!A1025<>\"\",DATOS!A1025&configuracion!$C$10,\"\")","v":""},""]
[null,null,null,null,null,null,null,{"$f":"IF(DATOS!A1026<>\"\",DATOS!A1026&configuracion!$C$10,\"\")","v":""},""]
[null,null,null,null,null,null,null,{"$f":"IF(DATOS!A1027<>\"\",DATOS!A1027&configuracion!$C$10,\"\")","v":""},""]
[null,null,null,null,null,null,null,{"$f":"IF(DATOS!A1028<>\"\",DATOS!A1028&configuracion!$C$10,\"\")","v":""},{"$f":"IF(B1028=\"\",\"\",TEXT(B1028, \"DD/MM/YYYY HH:MM:SS\"))","v":""}]
[null,null,null,null,null,null,null,{"$f":"IF(DATOS!A1029<>\"\",DATOS!A1029&configuracion!$C$10,\"\")","v":""},""]
[null,null,null,null,null,null,null,{"$f":"IF(DATOS!A1030<>\"\",DATOS!A1030&configuracion!$C$10,\"\")","v":""},""]
[null,null,null,null,null,null,null,{"$f":"IF(DATOS!A1031<>\"\",DATOS!A1031&configuracion!$C$10,\"\")","v":""},""]
[null,null,null,null,null,null,null,{"$f":"IF(DATOS!A1032<>\"\",DATOS!A1032&configuracion!$C$10,\"\")","v":""},""]
[null,null,null,null,null,null,null,{"$f":"IF(DATOS!A1033<>\"\",DATOS!A1033&configuracion!$C$10,\"\")","v":""},""]
[null,null,null,null,null,null,null,{"$f":"IF(DATOS!A1034<>\"\",DATOS!A1034&configuracion!$C$10,\"\")","v":""},""]
[null,null,null,null,null,null,null,{"$f":"IF(DATOS!A1035<>\"\",DATOS!A1035&configuracion!$C$10,\"\")","v":""},""]
[null,null,null,null,null,null,null,{"$f":"IF(DATOS!A1036<>\"\",DATOS!A1036&configuracion!$C$10,\"\")","v":""},""]
[null,null,null,null,null,null,null,{"$f":"IF(DATOS!A1037<>\"\",DATOS!A1037&configuracion!$C$10,\"\")","v":""},""]
[null,null,null,null,null,null,null,{"$f":"IF(DATOS!A1038<>\"\",DATOS!A1038&configuracion!$C$10,\"\")","v":""},""]
[null,null,null,null,null,null,null,{"$f":"IF(DATOS!A1039<>\"\",DATOS!A1039&configuracion!$C$10,\"\")","v":""},""]
[null,null,null,null,null,null,null,{"$f":"IF(DATOS!A1040<>\"\",DATOS!A1040&configuracion!$C$10,\"\")","v":""},""]
[null,null,null,null,null,null,null,{"$f":"IF(DATOS!A1041<>\"\",DATOS!A1041&configuracion!$C$10,\"\")","v":""},""]
[null,null,null,null,null,null,null,{"$f":"IF(DATOS!A1042<>\"\",DATOS!A1042&configuracion!$C$10,\"\")","v":""},""]
[null,null,null,null,null,null,null,{"$f":"IF(DATOS!A1043<>\"\",DATOS!A1043&configuracion!$C$10,\"\")","v":""},""]
[null,null,null,null,null,null,null,{"$f":"IF(DATOS!A1044<>\"\",DATOS!A1044&configuracion!$C$10,\"\")","v":""},""]
[null,null,null,null,null,null,null,{"$f":"IF(DATOS!A1045<>\"\",DATOS!A1045&configuracion!$C$10,\"\")","v":""},""]
[null,null,null,null,null,null,null,{"$f":"IF(DATOS!A1046<>\"\",DATOS!A1046&configuracion!$C$10,\"\")","v":""},""]
[null,null,null,null,null,null,null,{"$f":"IF(DATOS!A1047<>\"\",DATOS!A1047&configuracion!$C$10,\"\")","v":""},""]
[null,null,null,null,null,null,null,{"$f":"IF(DATOS!A1048<>\"\",DATOS!A1048&configuracion!$C$10,\"\")","v":""},""]
[null,null,null,null,null,null,null,{"$f":"IF(DATOS!A1049<>\"\",DATOS!A1049&configuracion!$C$10,\"\")","v":""},""]
[null,null,null,null,null,null,null,{"$f":"IF(DATOS!A1050<>\"\",DATOS!A1050&configuracion!$C$10,\"\")","v":""},""]
[null,null,null,null,null,null,null,{"$f":"IF(DATOS!A1051<>\"\",DATOS!A1051&configuracion!$C$10,\"\")","v":""},""]
[null,null,null,null,null,null,null,{"$f":"IF(DATOS!A1052<>\"\",DATOS!A1052&configuracion!$C$10,\"\")","v":""},""]
[null,null,null,null,null,null,null,{"$f":"IF(DATOS!A1053<>\"\",DATOS!A1053&configuracion!$C$10,\"\")","v":""},""]
[null,null,null,null,null,null,null,{"$f":"IF(DATOS!A1054<>\"\",DATOS!A1054&configuracion!$C$10,\"\")","v":""},""]
[null,null,null,null,null,null,null,{"$f":"IF(DATOS!A1055<>\"\",DATOS!A1055&configuracion!$C$10,\"\")","v":""},""]
[null,null,null,null,null,null,null,{"$f":"IF(DATOS!A1056<>\"\",DATOS!A1056&configuracion!$C$10,\"\")","v":""},""]
[null,null,null,null,null,null,null,{"$f":"IF(DATOS!A1057<>\"\",DATOS!A1057&configuracion!$C$10,\"\")","v":""},""]
[null,null,null,null,null,null,null,{"$f":"IF(DATOS!A1058<>\"\",DATOS!A1058&configuracion!$C$10,\"\")","v":""},""]
[null,null,null,null,null,null,null,{"$f":"IF(DATOS!A1059<>\"\",DATOS!A1059&configuracion!$C$10,\"\")","v":""},""]
[null,null,null,null,null,null,null,{"$f":"IF(DATOS!A1060<>\"\",DATOS!A1060&configuracion!$C$10,\"\")","v":""},""]
[null,null,null,null,null,null,null,{"$f":"IF(DATOS!A1061<>\"\",DATOS!A1061&configuracion!$C$10,\"\")","v":""},""]
[null,null,null,null,null,null,null,{"$f":"IF(DATOS!A1062<>\"\",DATOS!A1062&configuracion!$C$10,\"\")","v":""},""]
[null,null,null,null,null,null,null,{"$f":"IF(DATOS!A1063<>\"\",DATOS!A1063&configuracion!$C$10,\"\")","v":""},""]
[null,null,null,null,null,null,null,{"$f":"IF(DATOS!A1064<>\"\",DATOS!A1064&configuracion!$C$10,\"\")","v":""},""]
[null,null,null,null,null,null,null,{"$f":"IF(DATOS!A1065<>\"\",DATOS!A1065&configuracion!$C$10,\"\")","v":""},""]
[null,null,null,null,null,null,null,{"$f":"IF(DATOS!A1066<>\"\",DATOS!A1066&configuracion!$C$10,\"\")","v":""},""]
[null,null,null,null,null,null,null,{"$f":"IF(DATOS!A1067<>\"\",DATOS!A1067&configuracion!$C$10,\"\")","v":""},""]
[null,null,null,null,null,null,null,{"$f":"IF(DATOS!A1068<>\"\",DATOS!A1068&configuracion!$C$10,\"\")","v":""},""]
[null,null,null,null,null,null,null,{"$f":"IF(DATOS!A1069<>\"\",DATOS!A1069&configuracion!$C$10,\"\")","v":""},""]
[null,null,null,null,null,null,null,{"$f":"IF(DATOS!A1070<>\"\",DATOS!A1070&configuracion!$C$10,\"\")","v":""},""]
[null,null,null,null,null,null,null,{"$f":"IF(DATOS!A1071<>\"\",DATOS!A1071&configuracion!$C$10,\"\")","v":""},""]
[null,null,null,null,null,null,null,{"$f":"IF(DATOS!A1072<>\"\",DATOS!A1072&configuracion!$C$10,\"\")","v":""},""]
[null,null,null,null,null,null,null,{"$f":"IF(DATOS!A1073<>\"\",DATOS!A1073&configuracion!$C$10,\"\")","v":""},""]
[null,null,null,null,null,null,null,{"$f":"IF(DATOS!A1074<>\"\",DATOS!A1074&configuracion!$C$10,\"\")","v":""},""]
[null,null,null,null,null,null,null,{"$f":"IF(DATOS!A1075<>\"\",DATOS!A1075&configuracion!$C$10,\"\")","v":""},""]
[null,null,null,null,null,null,null,{"$f":"IF(DATOS!A1076<>\"\",DATOS!A1076&configuracion!$C$10,\"\")","v":""},""]
[null,null,null,null,null,null,null,{"$f":"IF(DATOS!A1077<>\"\",DATOS!A1077&configuracion!$C$10,\"\")","v":""},""]
[null,null,null,null,null,null,null,{"$f":"IF(DATOS!A1078<>\"\",DATOS!A1078&configuracion!$C$10,\"\")","v":""},""]
[null,null,null,null,null,null,null,{"$f":"IF(DATOS!A1079<>\"\",DATOS!A1079&configuracion!$C$10,\"\")","v":""},""]
[null,null,null,null,null,null,null,{"$f":"IF(DATOS!A1080<>\"\",DATOS!A1080&configuracion!$C$10,\"\")","v":""},""]
[null,null,null,null,null,null,null,{"$f":"IF(DATOS!A1081<>\"\",DATOS!A1081&configuracion!$C$10,\"\")","v":""},""]
[null,null,null,null,null,null,null,{"$f":"IF(DATOS!A1082<>\"\",DATOS!A1082&configuracion!$C$10,\"\")","v":""},""]
[null,null,null,null,null,null,null,{"$f":"IF(DATOS!A1083<>\"\",DATOS!A1083&configuracion!$C$10,\"\")","v":""},""]
[null,null,null,null,null,null,null,{"$f":"IF(DATOS!A1084<>\"\",DATOS!A1084&configuracion!$C$10,\"\")","v":""},""]
[null,null,null,null,null,null,null,{"$f":"IF(DATOS!A1085<>\"\",DATOS!A1085&configuracion!$C$10,\"\")","v":""},""]
[null,null,null,null,null,null,null,{"$f":"IF(DATOS!A1086<>\"\",DATOS!A1086&configuracion!$C$10,\"\")","v":""},""]
[null,null,null,null,null,null,null,{"$f":"IF(DATOS!A1087<>\"\",DATOS!A1087&configuracion!$C$10,\"\")","v":""},""]
[null,null,null,null,null,null,null,{"$f":"IF(DATOS!A1088<>\"\",DATOS!A1088&configuracion!$C$10,\"\")","v":""},""]
[null,null,null,null,null,null,null,{"$f":"IF(DATOS!A1089<>\"\",DATOS!A1089&configuracion!$C$10,\"\")","v":""},""]
[null,null,null,null,null,null,null,{"$f":"IF(DATOS!A1090<>\"\",DATOS!A1090&configuracion!$C$10,\"\")","v":""},""]
[null,null,null,null,null,null,null,{"$f":"IF(DATOS!A1091<>\"\",DATOS!A1091&configuracion!$C$10,\"\")","v":""},""]
[null,null,null,null,null,null,null,{"$f":"IF(DATOS!A1092<>\"\",DATOS!A1092&configuracion!$C$10,\"\")","v":""},{"$f":"IF(B1092=\"\",\"\",TEXT(B1092, \"DD/MM/YYYY HH:MM:SS\"))","v":""}]
[null,null,null,null,null,null,null,{"$f":"IF(DATOS!A1093<>\"\",DATOS!A1093&configuracion!$C$10,\"\")","v":""},""]
[null,null,null,null,null,null,null,{"$f":"IF(DATOS!A1094<>\"\",DATOS!A1094&configuracion!$C$10,\"\")","v":""},""]
[null,null,null,null,null,null,null,{"$f":"IF(DATOS!A1095<>\"\",DATOS!A1095&configuracion!$C$10,\"\")","v":""},""]
[null,null,null,null,null,null,null,{"$f":"IF(DATOS!A1096<>\"\",DATOS!A1096&configuracion!$C$10,\"\")","v":""},""]
[null,null,null,null,null,null,null,{"$f":"IF(DATOS!A1097<>\"\",DATOS!A1097&configuracion!$C$10,\"\")","v":""},""]
[null,null,null,null,null,null,null,{"$f":"IF(DATOS!A1098<>\"\",DATOS!A1098&configuracion!$C$10,\"\")","v":""},""]
[null,null,null,null,null,null,null,{"$f":"IF(DATOS!A1099<>\"\",DATOS!A1099&configuracion!$C$10,\"\")","v":""},""]
[null,null,null,null,null,null,null,{"$f":"IF(DATOS!A1100<>\"\",DATOS!A1100&configuracion!$C$10,\"\")","v":""},""]
[null,null,null,null,null,null,null,{"$f":"IF(DATOS!A1101<>\"\",DATOS!A1101&configuracion!$C$10,\"\")","v":""},""]
[null,null,null,null,null,null,null,{"$f":"IF(DATOS!A1102<>\"\",DATOS!A1102&configuracion!$C$10,\"\")","v":""},""]
[null,null,null,null,null,null,null,{"$f":"IF(DATOS!A1103<>\"\",DATOS!A1103&configuracion!$C$10,\"\")","v":""},""]
[null,null,null,null,null,null,null,{"$f":"IF(DATOS!A1104<>\"\",DATOS!A1104&configuracion!$C$10,\"\")","v":""},""]
[null,null,null,null,null,null,null,{"$f":"IF(DATOS!A1105<>\"\",DATOS!A1105&configuracion!$C$10,\"\")","v":""},""]
[null,null,null,null,null,null,null,{"$f":"IF(DATOS!A1106<>\"\",DATOS!A1106&configuracion!$C$10,\"\")","v":""},""]
[null,null,null,null,null,null,null,{"$f":"IF(DATOS!A1107<>\"\",DATOS!A1107&configuracion!$C$10,\"\")","v":""},""]
[null,null,null,null,null,null,null,{"$f":"IF(DATOS!A1108<>\"\",DATOS!A1108&configuracion!$C$10,\"\")","v":""},""]
[null,null,null,null,null,null,null,{"$f":"IF(DATOS!A1109<>\"\",DATOS!A1109&configuracion!$C$10,\"\")","v":""},""]
[null,null,null,null,null,null,null,{"$f":"IF(DATOS!A1110<>\"\",DATOS!A1110&configuracion!$C$10,\"\")","v":""},""]
[null,null,null,null,null,null,null,{"$f":"IF(DATOS!A1111<>\"\",DATOS!A1111&configuracion!$C$10,\"\")","v":""},""]
[null,null,null,null,null,null,null,{"$f":"IF(DATOS!A1112<>\"\",DATOS!A1112&configuracion!$C$10,\"\")","v":""},""]
[null,null,null,null,null,null,null,{"$f":"IF(DATOS!A1113<>\"\",DATOS!A1113&configuracion!$C$10,\"\")","v":""},""]
[null,null,null,null,null,null,null,{"$f":"IF(DATOS!A1114<>\"\",DATOS!A1114&configuracion!$C$10,\"\")","v":""},""]
[null,null,null,null,null,null,null,{"$f":"IF(DATOS!A1115<>\"\",DATOS!A1115&configuracion!$C$10,\"\")","v":""},""]
[null,null,null,null,null,null,null,{"$f":"IF(DATOS!A1116<>\"\",DATOS!A1116&configuracion!$C$10,\"\")","v":""},""]
[null,null,null,null,null,null,null,{"$f":"IF(DATOS!A1117<>\"\",DATOS!A1117&configuracion!$C$10,\"\")","v":""},""]
[null,null,null,null,null,null,null,{"$f":"IF(DATOS!A1118<>\"\",DATOS!A1118&configuracion!$C$10,\"\")","v":""},""]
[null,null,null,null,null,null,null,{"$f":"IF(DATOS!A1119<>\"\",DATOS!A1119&configuracion!$C$10,\"\")","v":""},""]
[null,null,null,null,null,null,null,{"$f":"IF(DATOS!A1120<>\"\",DATOS!A1120&configuracion!$C$10,\"\")","v":""},""]
[null,null,null,null,null,null,null,{"$f":"IF(DATOS!A1121<>\"\",DATOS!A1121&configuracion!$C$10,\"\")","v":""},""]
[null,null,null,null,null,null,null,{"$f":"IF(DATOS!A1122<>\"\",DATOS!A1122&configuracion!$C$10,\"\")","v":""},""]
[null,null,null,null,null,null,null,{"$f":"IF(DATOS!A1123<>\"\",DATOS!A1123&configuracion!$C$10,\"\")","v":""},""]
[null,null,null,null,null,null,null,{"$f":"IF(DATOS!A1124<>\"\",DATOS!A1124&configuracion!$C$10,\"\")","v":""},""]
[null,null,null,null,null,null,null,{"$f":"IF(DATOS!A1125<>\"\",DATOS!A1125&configuracion!$C$10,\"\")","v":""},""]
[null,null,null,null,null,null,null,{"$f":"IF(DATOS!A1126<>\"\",DATOS!A1126&configuracion!$C$10,\"\")","v":""},""]
[null,null,null,null,null,null,null,{"$f":"IF(DATOS!A1127<>\"\",DATOS!A1127&configuracion!$C$10,\"\")","v":""},""]
[null,null,null,null,null,null,null,{"$f":"IF(DATOS!A1128<>\"\",DATOS!A1128&configuracion!$C$10,\"\")","v":""},""]
[null,null,null,null,null,null,null,{"$f":"IF(DATOS!A1129<>\"\",DATOS!A1129&configuracion!$C$10,\"\")","v":""},""]
[null,null,null,null,null,null,null,{"$f":"IF(DATOS!A1130<>\"\",DATOS!A1130&configuracion!$C$10,\"\")","v":""},""]
[null,null,null,null,null,null,null,{"$f":"IF(DATOS!A1131<>\"\",DATOS!A1131&configuracion!$C$10,\"\")","v":""},""]
[null,null,null,null,null,null,null,{"$f":"IF(DATOS!A1132<>\"\",DATOS!A1132&configuracion!$C$10,\"\")","v":""},""]
[null,null,null,null,null,null,null,{"$f":"IF(DATOS!A1133<>\"\",DATOS!A1133&configuracion!$C$10,\"\")","v":""},""]
[null,null,null,null,null,null,null,{"$f":"IF(DATOS!A1134<>\"\",DATOS!A1134&configuracion!$C$10,\"\")","v":""},""]
[null,null,null,null,null,null,null,{"$f":"IF(DATOS!A1135<>\"\",DATOS!A1135&configuracion!$C$10,\"\")","v":""},""]
[null,null,null,null,null,null,null,{"$f":"IF(DATOS!A1136<>\"\",DATOS!A1136&configuracion!$C$10,\"\")","v":""},""]
[null,null,null,null,null,null,null,{"$f":"IF(DATOS!A1137<>\"\",DATOS!A1137&configuracion!$C$10,\"\")","v":""},""]
[null,null,null,null,null,null,null,{"$f":"IF(DATOS!A1138<>\"\",DATOS!A1138&configuracion!$C$10,\"\")","v":""},""]
[null,null,null,null,null,null,null,{"$f":"IF(DATOS!A1139<>\"\",DATOS!A1139&configuracion!$C$10,\"\")","v":""},""]
[null,null,null,null,null,null,null,{"$f":"IF(DATOS!A1140<>\"\",DATOS!A1140&configuracion!$C$10,\"\")","v":""},""]
[null,null,null,null,null,null,null,{"$f":"IF(DATOS!A1141<>\"\",DATOS!A1141&configuracion!$C$10,\"\")","v":""},""]
[null,null,null,null,null,null,null,{"$f":"IF(DATOS!A1142<>\"\",DATOS!A1142&configuracion!$C$10,\"\")","v":""},""]
[null,null,null,null,null,null,null,{"$f":"IF(DATOS!A1143<>\"\",DATOS!A1143&configuracion!$C$10,\"\")","v":""},""]
[null,null,null,null,null,null,null,{"$f":"IF(DATOS!A1144<>\"\",DATOS!A1144&configuracion!$C$10,\"\")","v":""},""]
[null,null,null,null,null,null,null,{"$f":"IF(DATOS!A1145<>\"\",DATOS!A1145&configuracion!$C$10,\"\")","v":""},""]
[null,null,null,null,null,null,null,{"$f":"IF(DATOS!A1146<>\"\",DATOS!A1146&configuracion!$C$10,\"\")","v":""},""]
[null,null,null,null,null,null,null,{"$f":"IF(DATOS!A1147<>\"\",DATOS!A1147&configuracion!$C$10,\"\")","v":""},""]
[null,null,null,null,null,null,null,{"$f":"IF(DATOS!A1148<>\"\",DATOS!A1148&configuracion!$C$10,\"\")","v":""},""]
[null,null,null,null,null,null,null,{"$f":"IF(DATOS!A1149<>\"\",DATOS!A1149&configuracion!$C$10,\"\")","v":""},""]
[null,null,null,null,null,null,null,{"$f":"IF(DATOS!A1150<>\"\",DATOS!A1150&configuracion!$C$10,\"\")","v":""},""]
[null,null,null,null,null,null,null,{"$f":"IF(DATOS!A1151<>\"\",DATOS!A1151&configuracion!$C$10,\"\")","v":""},""]
[null,null,null,null,null,null,null,{"$f":"IF(DATOS!A1152<>\"\",DATOS!A1152&configuracion!$C$10,\"\")","v":""},""]
[null,null,null,null,null,null,null,{"$f":"IF(DATOS!A1153<>\"\",DATOS!A1153&configuracion!$C$10,\"\")","v":""},""]
[null,null,null,null,null,null,null,{"$f":"IF(DATOS!A1154<>\"\",DATOS!A1154&configuracion!$C$10,\"\")","v":""},""]
[null,null,null,null,null,null,null,{"$f":"IF(DATOS!A1155<>\"\",DATOS!A1155&configuracion!$C$10,\"\")","v":""},""]
[null,null,null,null,null,null,null,{"$f":"IF(DATOS!A1156<>\"\",DATOS!A1156&configuracion!$C$10,\"\")","v":""},{"$f":"IF(B1156=\"\",\"\",TEXT(B1156, \"DD/MM/YYYY HH:MM:SS\"))","v":""}]
[null,null,null,null,null,null,null,{"$f":"IF(DATOS!A1157<>\"\",DATOS!A1157&configuracion!$C$10,\"\")","v":""},""]
[null,null,null,null,null,null,null,{"$f":"IF(DATOS!A1158<>\"\",DATOS!A1158&configuracion!$C$10,\"\")","v":""},""]
[null,null,null,null,null,null,null,{"$f":"IF(DATOS!A1159<>\"\",DATOS!A1159&configuracion!$C$10,\"\")","v":""},""]
[null,null,null,null,null,null,null,{"$f":"IF(DATOS!A1160<>\"\",DATOS!A1160&configuracion!$C$10,\"\")","v":""},""]
[null,null,null,null,null,null,null,{"$f":"IF(DATOS!A1161<>\"\",DATOS!A1161&configuracion!$C$10,\"\")","v":""},""]
[null,null,null,null,null,null,null,{"$f":"IF(DATOS!A1162<>\"\",DATOS!A1162&configuracion!$C$10,\"\")","v":""},""]
[null,null,null,null,null,null,null,{"$f":"IF(DATOS!A1163<>\"\",DATOS!A1163&configuracion!$C$10,\"\")","v":""},""]
[null,null,null,null,null,null,null,{"$f":"IF(DATOS!A1164<>\"\",DATOS!A1164&configuracion!$C$10,\"\")","v":""},""]
[null,null,null,null,null,null,null,{"$f":"IF(DATOS!A1165<>\"\",DATOS!A1165&configuracion!$C$10,\"\")","v":""},""]
[null,null,null,null,null,null,null,{"$f":"IF(DATOS!A1166<>\"\",DATOS!A1166&configuracion!$C$10,\"\")","v":""},""]
[null,null,null,null,null,null,null,{"$f":"IF(DATOS!A1167<>\"\",DATOS!A1167&configuracion!$C$10,\"\")","v":""},""]
[null,null,null,null,null,null,null,{"$f":"IF(DATOS!A1168<>\"\",DATOS!A1168&configuracion!$C$10,\"\")","v":""},""]
[null,null,null,null,null,null,null,{"$f":"IF(DATOS!A1169<>\"\",DATOS!A1169&configuracion!$C$10,\"\")","v":""},""]
[null,null,null,null,null,null,null,{"$f":"IF(DATOS!A1170<>\"\",DATOS!A1170&configuracion!$C$10,\"\")","v":""},""]
[null,null,null,null,null,null,null,{"$f":"IF(DATOS!A1171<>\"\",DATOS!A1171&configuracion!$C$10,\"\")","v":""},""]
[null,null,null,null,null,null,null,{"$f":"IF(DATOS!A1172<>\"\",DATOS!A1172&configuracion!$C$10,\"\")","v":""},""]
[null,null,null,null,null,null,null,{"$f":"IF(DATOS!A1173<>\"\",DATOS!A1173&configuracion!$C$10,\"\")","v":""},""]
[null,null,null,null,null,null,null,{"$f":"IF(DATOS!A1174<>\"\",DATOS!A1174&configuracion!$C$10,\"\")","v":""},""]
[null,null,null,null,null,null,null,{"$f":"IF(DATOS!A1175<>\"\",DATOS!A1175&configuracion!$C$10,\"\")","v":""},""]
[null,null,null,null,null,null,null,{"$f":"IF(DATOS!A1176<>\"\",DATOS!A1176&configuracion!$C$10,\"\")","v":""},""]
[null,null,null,null,null,null,null,{"$f":"IF(DATOS!A1177<>\"\",DATOS!A1177&configuracion!$C$10,\"\")","v":""},""]
[null,null,null,null,null,null,null,{"$f":"IF(DATOS!A1178<>\"\",DATOS!A1178&configuracion!$C$10,\"\")","v":""},""]
[null,null,null,null,null,null,null,{"$f":"IF(DATOS!A1179<>\"\",DATOS!A1179&configuracion!$C$10,\"\")","v":""},""]
[null,null,null,null,null,null,null,{"$f":"IF(DATOS!A1180<>\"\",DATOS!A1180&configuracion!$C$10,\"\")","v":""},""]
[null,null,null,null,null,null,null,{"$f":"IF(DATOS!A1181<>\"\",DATOS!A1181&configuracion!$C$10,\"\")","v":""},""]
[null,null,null,null,null,null,null,{"$f":"IF(DATOS!A1182<>\"\",DATOS!A1182&configuracion!$C$10,\"\")","v":""},""]
[null,null,null,null,null,null,null,{"$f":"IF(DATOS!A1183<>\"\",DATOS!A1183&configuracion!$C$10,\"\")","v":""},""]
[null,null,null,null,null,null,null,{"$f":"IF(DATOS!A1184<>\"\",DATOS!A1184&configuracion!$C$10,\"\")","v":""},""]
[null,null,null,null,null,null,null,{"$f":"IF(DATOS!A1185<>\"\",DATOS!A1185&configuracion!$C$10,\"\")","v":""},""]
[null,null,null,null,null,null,null,{"$f":"IF(DATOS!A1186<>\"\",DATOS!A1186&configuracion!$C$10,\"\")","v":""},""]
[null,null,null,null,null,null,null,{"$f":"IF(DATOS!A1187<>\"\",DATOS!A1187&configuracion!$C$10,\"\")","v":""},""]
[null,null,null,null,null,null,null,{"$f":"IF(DATOS!A1188<>\"\",DATOS!A1188&configuracion!$C$10,\"\")","v":""},""]
[null,null,null,null,null,null,null,{"$f":"IF(DATOS!A1189<>\"\",DATOS!A1189&configuracion!$C$10,\"\")","v":""},""]
[null,null,null,null,null,null,null,{"$f":"IF(DATOS!A1190<>\"\",DATOS!A1190&configuracion!$C$10,\"\")","v":""},""]
[null,null,null,null,null,null,null,{"$f":"IF(DATOS!A1191<>\"\",DATOS!A1191&configuracion!$C$10,\"\")","v":""},""]
[null,null,null,null,null,null,null,{"$f":"IF(DATOS!A1192<>\"\",DATOS!A1192&configuracion!$C$10,\"\")","v":""},""]
[null,null,null,null,null,null,null,{"$f":"IF(DATOS!A1193<>\"\",DATOS!A1193&configuracion!$C$10,\"\")","v":""},""]
[null,null,null,null,null,null,null,{"$f":"IF(DATOS!A1194<>\"\",DATOS!A1194&configuracion!$C$10,\"\")","v":""},""]
[null,null,null,null,null,null,null,{"$f":"IF(DATOS!A1195<>\"\",DATOS!A1195&configuracion!$C$10,\"\")","v":""},""]
[null,null,null,null,null,null,null,{"$f":"IF(DATOS!A1196<>\"\",DATOS!A1196&configuracion!$C$10,\"\")","v":""},""]
[null,null,null,null,null,null,null,{"$f":"IF(DATOS!A1197<>\"\",DATOS!A1197&configuracion!$C$10,\"\")","v":""},""]
[null,null,null,null,null,null,null,{"$f":"IF(DATOS!A1198<>\"\",DATOS!A1198&configuracion!$C$10,\"\")","v":""},""]
[null,null,null,null,null,null,null,{"$f":"IF(DATOS!A1199<>\"\",DATOS!A1199&configuracion!$C$10,\"\")","v":""},""]
[null,null,null,null,null,null,null,{"$f":"IF(DATOS!A1200<>\"\",DATOS!A1200&configuracion!$C$10,\"\")","v":""},""]
[null,null,null,null,null,null,null,{"$f":"IF(DATOS!A1201<>\"\",DATOS!A1201&configuracion!$C$10,\"\")","v":""},""]
[null,null,null,null,null,null,null,{"$f":"IF(DATOS!A1202<>\"\",DATOS!A1202&configuracion!$C$10,\"\")","v":""},""]
[null,null,null,null,null,null,null,{"$f":"IF(DATOS!A1203<>\"\",DATOS!A1203&configuracion!$C$10,\"\")","v":""},""]
[null,null,null,null,null,null,null,{"$f":"IF(DATOS!A1204<>\"\",DATOS!A1204&configuracion!$C$10,\"\")","v":""},""]
[null,null,null,null,null,null,null,{"$f":"IF(DATOS!A1205<>\"\",DATOS!A1205&configuracion!$C$10,\"\")","v":""},""]
[null,null,null,null,null,null,null,{"$f":"IF(DATOS!A1206<>\"\",DATOS!A1206&configuracion!$C$10,\"\")","v":""},""]
[null,null,null,null,null,null,null,{"$f":"IF(DATOS!A1207<>\"\",DATOS!A1207&configuracion!$C$10,\"\")","v":""},""]
[null,null,null,null,null,null,null,{"$f":"IF(DATOS!A1208<>\"\",DATOS!A1208&configuracion!$C$10,\"\")","v":""},""]
[null,null,null,null,null,null,null,{"$f":"IF(DATOS!A1209<>\"\",DATOS!A1209&configuracion!$C$10,\"\")","v":""},""]
[null,null,null,null,null,null,null,{"$f":"IF(DATOS!A1210<>\"\",DATOS!A1210&configuracion!$C$10,\"\")","v":""},""]
[null,null,null,null,null,null,null,{"$f":"IF(DATOS!A1211<>\"\",DATOS!A1211&configuracion!$C$10,\"\")","v":""},""]
[null,null,null,null,null,null,null,{"$f":"IF(DATOS!A1212<>\"\",DATOS!A1212&configuracion!$C$10,\"\")","v":""},""]
[null,null,null,null,null,null,null,{"$f":"IF(DATOS!A1213<>\"\",DATOS!A1213&configuracion!$C$10,\"\")","v":""},""]
[null,null,null,null,null,null,null,{"$f":"IF(DATOS!A1214<>\"\",DATOS!A1214&configuracion!$C$10,\"\")","v":""},""]
[null,null,null,null,null,null,null,{"$f":"IF(DATOS!A1215<>\"\",DATOS!A1215&configuracion!$C$10,\"\")","v":""},""]
[null,null,null,null,null,null,null,{"$f":"IF(DATOS!A1216<>\"\",DATOS!A1216&configuracion!$C$10,\"\")","v":""},""]
[null,null,null,null,null,null,null,{"$f":"IF(DATOS!A1217<>\"\",DATOS!A1217&configuracion!$C$10,\"\")","v":""},""]
[null,null,null,null,null,null,null,{"$f":"IF(DATOS!A1218<>\"\",DATOS!A1218&configuracion!$C$10,\"\")","v":""},""]
[null,null,null,null,null,null,null,{"$f":"IF(DATOS!A1219<>\"\",DATOS!A1219&configuracion!$C$10,\"\")","v":""},""]
[null,null,null,null,null,null,null,{"$f":"IF(DATOS!A1220<>\"\",DATOS!A1220&configuracion!$C$10,\"\")","v":""},{"$f":"IF(B1220=\"\",\"\",TEXT(B1220, \"DD/MM/YYYY HH:MM:SS\"))","v":""}]
[null,null,null,null,null,null,null,{"$f":"IF(DATOS!A1221<>\"\",DATOS!A1221&configuracion!$C$10,\"\")","v":""},""]
[null,null,null,null,null,null,null,{"$f":"IF(DATOS!A1222<>\"\",DATOS!A1222&configuracion!$C$10,\"\")","v":""},""]
[null,null,null,null,null,null,null,{"$f":"IF(DATOS!A1223<>\"\",DATOS!A1223&configuracion!$C$10,\"\")","v":""},""]
[null,null,null,null,null,null,null,{"$f":"IF(DATOS!A1224<>\"\",DATOS!A1224&configuracion!$C$10,\"\")","v":""},""]
[null,null,null,null,null,null,null,{"$f":"IF(DATOS!A1225<>\"\",DATOS!A1225&configuracion!$C$10,\"\")","v":""},""]
[null,null,null,null,null,null,null,{"$f":"IF(DATOS!A1226<>\"\",DATOS!A1226&configuracion!$C$10,\"\")","v":""},""]
[null,null,null,null,null,null,null,{"$f":"IF(DATOS!A1227<>\"\",DATOS!A1227&configuracion!$C$10,\"\")","v":""},""]
[null,null,null,null,null,null,null,{"$f":"IF(DATOS!A1228<>\"\",DATOS!A1228&configuracion!$C$10,\"\")","v":""},""]
[null,null,null,null,null,null,null,{"$f":"IF(DATOS!A1229<>\"\",DATOS!A1229&configuracion!$C$10,\"\")","v":""},""]
[null,null,null,null,null,null,null,{"$f":"IF(DATOS!A1230<>\"\",DATOS!A1230&configuracion!$C$10,\"\")","v":""},""]
[null,null,null,null,null,null,null,{"$f":"IF(DATOS!A1231<>\"\",DATOS!A1231&configuracion!$C$10,\"\")","v":""},""]
[null,null,null,null,null,null,null,{"$f":"IF(DATOS!A1232<>\"\",DATOS!A1232&configuracion!$C$10,\"\")","v":""},""]
[null,null,null,null,null,null,null,{"$f":"IF(DATOS!A1233<>\"\",DATOS!A1233&configuracion!$C$10,\"\")","v":""},""]
[null,null,null,null,null,null,null,{"$f":"IF(DATOS!A1234<>\"\",DATOS!A1234&configuracion!$C$10,\"\")","v":""},""]
[null,null,null,null,null,null,null,{"$f":"IF(DATOS!A1235<>\"\",DATOS!A1235&configuracion!$C$10,\"\")","v":""},""]
[null,null,null,null,null,null,null,{"$f":"IF(DATOS!A1236<>\"\",DATOS!A1236&configuracion!$C$10,\"\")","v":""},""]
[null,null,null,null,null,null,null,{"$f":"IF(DATOS!A1237<>\"\",DATOS!A1237&configuracion!$C$10,\"\")","v":""},""]
[null,null,null,null,null,null,null,{"$f":"IF(DATOS!A1238<>\"\",DATOS!A1238&configuracion!$C$10,\"\")","v":""},""]
[null,null,null,null,null,null,null,{"$f":"IF(DATOS!A1239<>\"\",DATOS!A1239&configuracion!$C$10,\"\")","v":""},""]
[null,null,null,null,null,null,null,{"$f":"IF(DATOS!A1240<>\"\",DATOS!A1240&configuracion!$C$10,\"\")","v":""},""]
[null,null,null,null,null,null,null,{"$f":"IF(DATOS!A1241<>\"\",DATOS!A1241&configuracion!$C$10,\"\")","v":""},""]
[null,null,null,null,null,null,null,{"$f":"IF(DATOS!A1242<>\"\",DATOS!A1242&configuracion!$C$10,\"\")","v":""},""]
[null,null,null,null,null,null,null,{"$f":"IF(DATOS!A1243<>\"\",DATOS!A1243&configuracion!$C$10,\"\")","v":""},""]
[null,null,null,null,null,null,null,{"$f":"IF(DATOS!A1244<>\"\",DATOS!A1244&configuracion!$C$10,\"\")","v":""},""]
[null,null,null,null,null,null,null,{"$f":"IF(DATOS!A1245<>\"\",DATOS!A1245&configuracion!$C$10,\"\")","v":""},""]
[null,null,null,null,null,null,null,{"$f":"IF(DATOS!A1246<>\"\",DATOS!A1246&configuracion!$C$10,\"\")","v":""},""]
[null,null,null,null,null,null,null,{"$f":"IF(DATOS!A1247<>\"\",DATOS!A1247&configuracion!$C$10,\"\")","v":""},""]
[null,null,null,null,null,null,null,{"$f":"IF(DATOS!A1248<>\"\",DATOS!A1248&configuracion!$C$10,\"\")","v":""},""]
[null,null,null,null,null,null,null,{"$f":"IF(DATOS!A1249<>\"\",DATOS!A1249&configuracion!$C$10,\"\")","v":""},""]
[null,null,null,null,null,null,null,{"$f":"IF(DATOS!A1250<>\"\",DATOS!A1250&configuracion!$C$10,\"\")","v":""},""]
[null,null,null,null,null,null,null,{"$f":"IF(DATOS!A1251<>\"\",DATOS!A1251&configuracion!$C$10,\"\")","v":""},""]
[null,null,null,null,null,null,null,{"$f":"IF(DATOS!A1252<>\"\",DATOS!A1252&configuracion!$C$10,\"\")","v":""},""]
[null,null,null,null,null,null,null,{"$f":"IF(DATOS!A1253<>\"\",DATOS!A1253&configuracion!$C$10,\"\")","v":""},""]
[null,null,null,null,null,null,null,{"$f":"IF(DATOS!A1254<>\"\",DATOS!A1254&configuracion!$C$10,\"\")","v":""},""]
[null,null,null,null,null,null,null,{"$f":"IF(DATOS!A1255<>\"\",DATOS!A1255&configuracion!$C$10,\"\")","v":""},""]
[null,null,null,null,null,null,null,{"$f":"IF(DATOS!A1256<>\"\",DATOS!A1256&configuracion!$C$10,\"\")","v":""},""]
[null,null,null,null,null,null,null,{"$f":"IF(DATOS!A1257<>\"\",DATOS!A1257&configuracion!$C$10,\"\")","v":""},""]
[null,null,null,null,null,null,null,{"$f":"IF(DATOS!A1258<>\"\",DATOS!A1258&configuracion!$C$10,\"\")","v":""},""]
[null,null,null,null,null,null,null,{"$f":"IF(DATOS!A1259<>\"\",DATOS!A1259&configuracion!$C$10,\"\")","v":""},""]
[null,null,null,null,null,null,null,{"$f":"IF(DATOS!A1260<>\"\",DATOS!A1260&configuracion!$C$10,\"\")","v":""},""]
[null,null,null,null,null,null,null,{"$f":"IF(DATOS!A1261<>\"\",DATOS!A1261&configuracion!$C$10,\"\")","v":""},""]
[null,null,null,null,null,null,null,{"$f":"IF(DATOS!A1262<>\"\",DATOS!A1262&configuracion!$C$10,\"\")","v":""},""]
[null,null,null,null,null,null,null,{"$f":"IF(DATOS!A1263<>\"\",DATOS!A1263&configuracion!$C$10,\"\")","v":""},""]
[null,null,null,null,null,null,null,{"$f":"IF(DATOS!A1264<>\"\",DATOS!A1264&configuracion!$C$10,\"\")","v":""},""]
[null,null,null,null,null,null,null,{"$f":"IF(DATOS!A1265<>\"\",DATOS!A1265&configuracion!$C$10,\"\")","v":""},""]
[null,null,null,null,null,null,null,{"$f":"IF(DATOS!A1266<>\"\",DATOS!A1266&configuracion!$C$10,\"\")","v":""},""]
[null,null,null,null,null,null,null,{"$f":"IF(DATOS!A1267<>\"\",DATOS!A1267&configuracion!$C$10,\"\")","v":""},""]
[null,null,null,null,null,null,null,{"$f":"IF(DATOS!A1268<>\"\",DATOS!A1268&configuracion!$C$10,\"\")","v":""},""]
[null,null,null,null,null,null,null,{"$f":"IF(DATOS!A1269<>\"\",DATOS!A1269&configuracion!$C$10,\"\")","v":""},""]
[null,null,null,null,null,null,null,{"$f":"IF(DATOS!A1270<>\"\",DATOS!A1270&configuracion!$C$10,\"\")","v":""},""]
[null,null,null,null,null,null,null,{"$f":"IF(DATOS!A1271<>\"\",DATOS!A1271&configuracion!$C$10,\"\")","v":""},""]
[null,null,null,null,null,null,null,{"$f":"IF(DATOS!A1272<>\"\",DATOS!A1272&configuracion!$C$10,\"\")","v":""},""]
[null,null,null,null,null,null,null,{"$f":"IF(DATOS!A1273<>\"\",DATOS!A1273&configuracion!$C$10,\"\")","v":""},""]
[null,null,null,null,null,null,null,{"$f":"IF(DATOS!A1274<>\"\",DATOS!A1274&configuracion!$C$10,\"\")","v":""},""]
[null,null,null,null,null,null,null,{"$f":"IF(DATOS!A1275<>\"\",DATOS!A1275&configuracion!$C$10,\"\")","v":""},""]
[null,null,null,null,null,null,null,{"$f":"IF(DATOS!A1276<>\"\",DATOS!A1276&configuracion!$C$10,\"\")","v":""},""]
[null,null,null,null,null,null,null,{"$f":"IF(DATOS!A1277<>\"\",DATOS!A1277&configuracion!$C$10,\"\")","v":""},""]
[null,null,null,null,null,null,null,{"$f":"IF(DATOS!A1278<>\"\",DATOS!A1278&configuracion!$C$10,\"\")","v":""},""]
[null,null,null,null,null,null,null,{"$f":"IF(DATOS!A1279<>\"\",DATOS!A1279&configuracion!$C$10,\"\")","v":""},""]
[null,null,null,null,null,null,null,{"$f":"IF(DATOS!A1280<>\"\",DATOS!A1280&configuracion!$C$10,\"\")","v":""},""]
[null,null,null,null,null,null,null,{"$f":"IF(DATOS!A1281<>\"\",DATOS!A1281&configuracion!$C$10,\"\")","v":""},""]
[null,null,null,null,null,null,null,{"$f":"IF(DATOS!A1282<>\"\",DATOS!A1282&configuracion!$C$10,\"\")","v":""},""]
[null,null,null,null,null,null,null,{"$f":"IF(DATOS!A1283<>\"\",DATOS!A1283&configuracion!$C$10,\"\")","v":""},""]
[null,null,null,null,null,null,null,{"$f":"IF(DATOS!A1284<>\"\",DATOS!A1284&configuracion!$C$10,\"\")","v":""},{"$f":"IF(B1284=\"\",\"\",TEXT(B1284, \"DD/MM/YYYY HH:MM:SS\"))","v":""}]
[null,null,null,null,null,null,null,{"$f":"IF(DATOS!A1285<>\"\",DATOS!A1285&configuracion!$C$10,\"\")","v":""},""]
[null,null,null,null,null,null,null,{"$f":"IF(DATOS!A1286<>\"\",DATOS!A1286&configuracion!$C$10,\"\")","v":""},""]
[null,null,null,null,null,null,null,{"$f":"IF(DATOS!A1287<>\"\",DATOS!A1287&configuracion!$C$10,\"\")","v":""},""]
[null,null,null,null,null,null,null,{"$f":"IF(DATOS!A1288<>\"\",DATOS!A1288&configuracion!$C$10,\"\")","v":""},""]
[null,null,null,null,null,null,null,{"$f":"IF(DATOS!A1289<>\"\",DATOS!A1289&configuracion!$C$10,\"\")","v":""},""]
[null,null,null,null,null,null,null,{"$f":"IF(DATOS!A1290<>\"\",DATOS!A1290&configuracion!$C$10,\"\")","v":""},""]
[null,null,null,null,null,null,null,{"$f":"IF(DATOS!A1291<>\"\",DATOS!A1291&configuracion!$C$10,\"\")","v":""},""]
[null,null,null,null,null,null,null,{"$f":"IF(DATOS!A1292<>\"\",DATOS!A1292&configuracion!$C$10,\"\")","v":""},""]
[null,null,null,null,null,null,null,{"$f":"IF(DATOS!A1293<>\"\",DATOS!A1293&configuracion!$C$10,\"\")","v":""},""]
[null,null,null,null,null,null,null,{"$f":"IF(DATOS!A1294<>\"\",DATOS!A1294&configuracion!$C$10,\"\")","v":""},""]
[null,null,null,null,null,null,null,{"$f":"IF(DATOS!A1295<>\"\",DATOS!A1295&configuracion!$C$10,\"\")","v":""},""]
[null,null,null,null,null,null,null,{"$f":"IF(DATOS!A1296<>\"\",DATOS!A1296&configuracion!$C$10,\"\")","v":""},""]
[null,null,null,null,null,null,null,{"$f":"IF(DATOS!A1297<>\"\",DATOS!A1297&configuracion!$C$10,\"\")","v":""},""]
[null,null,null,null,null,null,null,{"$f":"IF(DATOS!A1298<>\"\",DATOS!A1298&configuracion!$C$10,\"\")","v":""},""]
[null,null,null,null,null,null,null,{"$f":"IF(DATOS!A1299<>\"\",DATOS!A1299&configuracion!$C$10,\"\")","v":""},""]
[null,null,null,null,null,null,null,{"$f":"IF(DATOS!A1300<>\"\",DATOS!A1300&configuracion!$C$10,\"\")","v":""},""]
[null,null,null,null,null,null,null,{"$f":"IF(DATOS!A1301<>\"\",DATOS!A1301&configuracion!$C$10,\"\")","v":""},""]
[null,null,null,null,null,null,null,{"$f":"IF(DATOS!A1302<>\"\",DATOS!A1302&configuracion!$C$10,\"\")","v":""},""]
[null,null,null,null,null,null,null,{"$f":"IF(DATOS!A1303<>\"\",DATOS!A1303&configuracion!$C$10,\"\")","v":""},""]
[null,null,null,null,null,null,null,{"$f":"IF(DATOS!A1304<>\"\",DATOS!A1304&configuracion!$C$10,\"\")","v":""},""]
[null,null,null,null,null,null,null,{"$f":"IF(DATOS!A1305<>\"\",DATOS!A1305&configuracion!$C$10,\"\")","v":""},""]
[null,null,null,null,null,null,null,{"$f":"IF(DATOS!A1306<>\"\",DATOS!A1306&configuracion!$C$10,\"\")","v":""},""]
[null,null,null,null,null,null,null,{"$f":"IF(DATOS!A1307<>\"\",DATOS!A1307&configuracion!$C$10,\"\")","v":""},""]
[null,null,null,null,null,null,null,{"$f":"IF(DATOS!A1308<>\"\",DATOS!A1308&configuracion!$C$10,\"\")","v":""},""]
[null,null,null,null,null,null,null,{"$f":"IF(DATOS!A1309<>\"\",DATOS!A1309&configuracion!$C$10,\"\")","v":""},""]
[null,null,null,null,null,null,null,{"$f":"IF(DATOS!A1310<>\"\",DATOS!A1310&configuracion!$C$10,\"\")","v":""},""]
[null,null,null,null,null,null,null,{"$f":"IF(DATOS!A1311<>\"\",DATOS!A1311&configuracion!$C$10,\"\")","v":""},""]
[null,null,null,null,null,null,null,{"$f":"IF(DATOS!A1312<>\"\",DATOS!A1312&configuracion!$C$10,\"\")","v":""},""]
[null,null,null,null,null,null,null,{"$f":"IF(DATOS!A1313<>\"\",DATOS!A1313&configuracion!$C$10,\"\")","v":""},""]
[null,null,null,null,null,null,null,{"$f":"IF(DATOS!A1314<>\"\",DATOS!A1314&configuracion!$C$10,\"\")","v":""},""]
[null,null,null,null,null,null,null,{"$f":"IF(DATOS!A1315<>\"\",DATOS!A1315&configuracion!$C$10,\"\")","v":""},""]
[null,null,null,null,null,null,null,{"$f":"IF(DATOS!A1316<>\"\",DATOS!A1316&configuracion!$C$10,\"\")","v":""},""]
[null,null,null,null,null,null,null,{"$f":"IF(DATOS!A1317<>\"\",DATOS!A1317&configuracion!$C$10,\"\")","v":""},""]
[null,null,null,null,null,null,null,{"$f":"IF(DATOS!A1318<>\"\",DATOS!A1318&configuracion!$C$10,\"\")","v":""},""]
[null,null,null,null,null,null,null,{"$f":"IF(DATOS!A1319<>\"\",DATOS!A1319&configuracion!$C$10,\"\")","v":""},""]
[null,null,null,null,null,null,null,{"$f":"IF(DATOS!A1320<>\"\",DATOS!A1320&configuracion!$C$10,\"\")","v":""},""]
[null,null,null,null,null,null,null,{"$f":"IF(DATOS!A1321<>\"\",DATOS!A1321&configuracion!$C$10,\"\")","v":""},""]
[null,null,null,null,null,null,null,{"$f":"IF(DATOS!A1322<>\"\",DATOS!A1322&configuracion!$C$10,\"\")","v":""},""]
[null,null,null,null,null,null,null,{"$f":"IF(DATOS!A1323<>\"\",DATOS!A1323&configuracion!$C$10,\"\")","v":""},""]
[null,null,null,null,null,null,null,{"$f":"IF(DATOS!A1324<>\"\",DATOS!A1324&configuracion!$C$10,\"\")","v":""},""]
[null,null,null,null,null,null,null,{"$f":"IF(DATOS!A1325<>\"\",DATOS!A1325&configuracion!$C$10,\"\")","v":""},""]
[null,null,null,null,null,null,null,{"$f":"IF(DATOS!A1326<>\"\",DATOS!A1326&configuracion!$C$10,\"\")","v":""},""]
[null,null,null,null,null,null,null,{"$f":"IF(DATOS!A1327<>\"\",DATOS!A1327&configuracion!$C$10,\"\")","v":""},""]
[null,null,null,null,null,null,null,{"$f":"IF(DATOS!A1328<>\"\",DATOS!A1328&configuracion!$C$10,\"\")","v":""},""]
[null,null,null,null,null,null,null,{"$f":"IF(DATOS!A1329<>\"\",DATOS!A1329&configuracion!$C$10,\"\")","v":""},""]
[null,null,null,null,null,null,null,{"$f":"IF(DATOS!A1330<>\"\",DATOS!A1330&configuracion!$C$10,\"\")","v":""},""]
[null,null,null,null,null,null,null,{"$f":"IF(DATOS!A1331<>\"\",DATOS!A1331&configuracion!$C$10,\"\")","v":""},""]
[null,null,null,null,null,null,null,{"$f":"IF(DATOS!A1332<>\"\",DATOS!A1332&configuracion!$C$10,\"\")","v":""},""]
[null,null,null,null,null,null,null,{"$f":"IF(DATOS!A1333<>\"\",DATOS!A1333&configuracion!$C$10,\"\")","v":""},""]
[null,null,null,null,null,null,null,{"$f":"IF(DATOS!A1334<>\"\",DATOS!A1334&configuracion!$C$10,\"\")","v":""},""]
[null,null,null,null,null,null,null,{"$f":"IF(DATOS!A1335<>\"\",DATOS!A1335&configuracion!$C$10,\"\")","v":""},""]
[null,null,null,null,null,null,null,{"$f":"IF(DATOS!A1336<>\"\",DATOS!A1336&configuracion!$C$10,\"\")","v":""},""]
[null,null,null,null,null,null,null,{"$f":"IF(DATOS!A1337<>\"\",DATOS!A1337&configuracion!$C$10,\"\")","v":""},""]
[null,null,null,null,null,null,null,{"$f":"IF(DATOS!A1338<>\"\",DATOS!A1338&configuracion!$C$10,\"\")","v":""},""]
[null,null,null,null,null,null,null,{"$f":"IF(DATOS!A1339<>\"\",DATOS!A1339&configuracion!$C$10,\"\")","v":""},""]
[null,null,null,null,null,null,null,{"$f":"IF(DATOS!A1340<>\"\",DATOS!A1340&configuracion!$C$10,\"\")","v":""},""]
[null,null,null,null,null,null,null,{"$f":"IF(DATOS!A1341<>\"\",DATOS!A1341&configuracion!$C$10,\"\")","v":""},""]
[null,null,null,null,null,null,null,{"$f":"IF(DATOS!A1342<>\"\",DATOS!A1342&configuracion!$C$10,\"\")","v":""},""]
[null,null,null,null,null,null,null,{"$f":"IF(DATOS!A1343<>\"\",DATOS!A1343&configuracion!$C$10,\"\")","v":""},""]
[null,null,null,null,null,null,null,{"$f":"IF(DATOS!A1344<>\"\",DATOS!A1344&configuracion!$C$10,\"\")","v":""},""]
[null,null,null,null,null,null,null,{"$f":"IF(DATOS!A1345<>\"\",DATOS!A1345&configuracion!$C$10,\"\")","v":""},""]
[null,null,null,null,null,null,null,{"$f":"IF(DATOS!A1346<>\"\",DATOS!A1346&configuracion!$C$10,\"\")","v":""},""]
[null,null,null,null,null,null,null,{"$f":"IF(DATOS!A1347<>\"\",DATOS!A1347&configuracion!$C$10,\"\")","v":""},""]
[null,null,null,null,null,null,null,{"$f":"IF(DATOS!A1348<>\"\",DATOS!A1348&configuracion!$C$10,\"\")","v":""},{"$f":"IF(B1348=\"\",\"\",TEXT(B1348, \"DD/MM/YYYY HH:MM:SS\"))","v":""}]
[null,null,null,null,null,null,null,{"$f":"IF(DATOS!A1349<>\"\",DATOS!A1349&configuracion!$C$10,\"\")","v":""},""]
[null,null,null,null,null,null,null,{"$f":"IF(DATOS!A1350<>\"\",DATOS!A1350&configuracion!$C$10,\"\")","v":""},""]
[null,null,null,null,null,null,null,{"$f":"IF(DATOS!A1351<>\"\",DATOS!A1351&configuracion!$C$10,\"\")","v":""},""]
[null,null,null,null,null,null,null,{"$f":"IF(DATOS!A1352<>\"\",DATOS!A1352&configuracion!$C$10,\"\")","v":""},""]
[null,null,null,null,null,null,null,{"$f":"IF(DATOS!A1353<>\"\",DATOS!A1353&configuracion!$C$10,\"\")","v":""},""]
[null,null,null,null,null,null,null,{"$f":"IF(DATOS!A1354<>\"\",DATOS!A1354&configuracion!$C$10,\"\")","v":""},""]
[null,null,null,null,null,null,null,{"$f":"IF(DATOS!A1355<>\"\",DATOS!A1355&configuracion!$C$10,\"\")","v":""},""]
[null,null,null,null,null,null,null,{"$f":"IF(DATOS!A1356<>\"\",DATOS!A1356&configuracion!$C$10,\"\")","v":""},""]
[null,null,null,null,null,null,null,{"$f":"IF(DATOS!A1357<>\"\",DATOS!A1357&configuracion!$C$10,\"\")","v":""},""]
[null,null,null,null,null,null,null,{"$f":"IF(DATOS!A1358<>\"\",DATOS!A1358&configuracion!$C$10,\"\")","v":""},""]
[null,null,null,null,null,null,null,{"$f":"IF(DATOS!A1359<>\"\",DATOS!A1359&configuracion!$C$10,\"\")","v":""},""]
[null,null,null,null,null,null,null,{"$f":"IF(DATOS!A1360<>\"\",DATOS!A1360&configuracion!$C$10,\"\")","v":""},""]
[null,null,null,null,null,null,null,{"$f":"IF(DATOS!A1361<>\"\",DATOS!A1361&configuracion!$C$10,\"\")","v":""},""]
[null,null,null,null,null,null,null,{"$f":"IF(DATOS!A1362<>\"\",DATOS!A1362&configuracion!$C$10,\"\")","v":""},""]
[null,null,null,null,null,null,null,{"$f":"IF(DATOS!A1363<>\"\",DATOS!A1363&configuracion!$C$10,\"\")","v":""},""]
[null,null,null,null,null,null,null,{"$f":"IF(DATOS!A1364<>\"\",DATOS!A1364&configuracion!$C$10,\"\")","v":""},""]
[null,null,null,null,null,null,null,{"$f":"IF(DATOS!A1365<>\"\",DATOS!A1365&configuracion!$C$10,\"\")","v":""},""]
[null,null,null,null,null,null,null,{"$f":"IF(DATOS!A1366<>\"\",DATOS!A1366&configuracion!$C$10,\"\")","v":""},""]
[null,null,null,null,null,null,null,{"$f":"IF(DATOS!A1367<>\"\",DATOS!A1367&configuracion!$C$10,\"\")","v":""},""]
[null,null,null,null,null,null,null,{"$f":"IF(DATOS!A1368<>\"\",DATOS!A1368&configuracion!$C$10,\"\")","v":""},""]
[null,null,null,null,null,null,null,{"$f":"IF(DATOS!A1369<>\"\",DATOS!A1369&configuracion!$C$10,\"\")","v":""},""]
[null,null,null,null,null,null,null,{"$f":"IF(DATOS!A1370<>\"\",DATOS!A1370&configuracion!$C$10,\"\")","v":""},""]
[null,null,null,null,null,null,null,{"$f":"IF(DATOS!A1371<>\"\",DATOS!A1371&configuracion!$C$10,\"\")","v":""},""]
[null,null,null,null,null,null,null,{"$f":"IF(DATOS!A1372<>\"\",DATOS!A1372&configuracion!$C$10,\"\")","v":""},""]
[null,null,null,null,null,null,null,{"$f":"IF(DATOS!A1373<>\"\",DATOS!A1373&configuracion!$C$10,\"\")","v":""},""]
[null,null,null,null,null,null,null,{"$f":"IF(DATOS!A1374<>\"\",DATOS!A1374&configuracion!$C$10,\"\")","v":""},""]
[null,null,null,null,null,null,null,{"$f":"IF(DATOS!A1375<>\"\",DATOS!A1375&configuracion!$C$10,\"\")","v":""},""]
[null,null,null,null,null,null,null,{"$f":"IF(DATOS!A1376<>\"\",DATOS!A1376&configuracion!$C$10,\"\")","v":""},""]
[null,null,null,null,null,null,null,{"$f":"IF(DATOS!A1377<>\"\",DATOS!A1377&configuracion!$C$10,\"\")","v":""},""]
[null,null,null,null,null,null,null,{"$f":"IF(DATOS!A1378<>\"\",DATOS!A1378&configuracion!$C$10,\"\")","v":""},""]
[null,null,null,null,null,null,null,{"$f":"IF(DATOS!A1379<>\"\",DATOS!A1379&configuracion!$C$10,\"\")","v":""},""]
[null,null,null,null,null,null,null,{"$f":"IF(DATOS!A1380<>\"\",DATOS!A1380&configuracion!$C$10,\"\")","v":""},""]
[null,null,null,null,null,null,null,{"$f":"IF(DATOS!A1381<>\"\",DATOS!A1381&configuracion!$C$10,\"\")","v":""},""]
[null,null,null,null,null,null,null,{"$f":"IF(DATOS!A1382<>\"\",DATOS!A1382&configuracion!$C$10,\"\")","v":""},""]
[null,null,null,null,null,null,null,{"$f":"IF(DATOS!A1383<>\"\",DATOS!A1383&configuracion!$C$10,\"\")","v":""},""]
[null,null,null,null,null,null,null,{"$f":"IF(DATOS!A1384<>\"\",DATOS!A1384&configuracion!$C$10,\"\")","v":""},""]
[null,null,null,null,null,null,null,{"$f":"IF(DATOS!A1385<>\"\",DATOS!A1385&configuracion!$C$10,\"\")","v":""},""]
[null,null,null,null,null,null,null,{"$f":"IF(DATOS!A1386<>\"\",DATOS!A1386&configuracion!$C$10,\"\")","v":""},""]
[null,null,null,null,null,null,null,{"$f":"IF(DATOS!A1387<>\"\",DATOS!A1387&configuracion!$C$10,\"\")","v":""},""]
[null,null,null,null,null,null,null,{"$f":"IF(DATOS!A1388<>\"\",DATOS!A1388&configuracion!$C$10,\"\")","v":""},""]
[null,null,null,null,null,null,null,{"$f":"IF(DATOS!A1389<>\"\",DATOS!A1389&configuracion!$C$10,\"\")","v":""},""]
[null,null,null,null,null,null,null,{"$f":"IF(DATOS!A1390<>\"\",DATOS!A1390&configuracion!$C$10,\"\")","v":""},""]
[null,null,null,null,null,null,null,{"$f":"IF(DATOS!A1391<>\"\",DATOS!A1391&configuracion!$C$10,\"\")","v":""},""]
[null,null,null,null,null,null,null,{"$f":"IF(DATOS!A1392<>\"\",DATOS!A1392&configuracion!$C$10,\"\")","v":""},""]
[null,null,null,null,null,null,null,{"$f":"IF(DATOS!A1393<>\"\",DATOS!A1393&configuracion!$C$10,\"\")","v":""},""]
[null,null,null,null,null,null,null,{"$f":"IF(DATOS!A1394<>\"\",DATOS!A1394&configuracion!$C$10,\"\")","v":""},""]
[null,null,null,null,null,null,null,{"$f":"IF(DATOS!A1395<>\"\",DATOS!A1395&configuracion!$C$10,\"\")","v":""},""]
[null,null,null,null,null,null,null,{"$f":"IF(DATOS!A1396<>\"\",DATOS!A1396&configuracion!$C$10,\"\")","v":""},""]
[null,null,null,null,null,null,null,{"$f":"IF(DATOS!A1397<>\"\",DATOS!A1397&configuracion!$C$10,\"\")","v":""},""]
[null,null,null,null,null,null,null,{"$f":"IF(DATOS!A1398<>\"\",DATOS!A1398&configuracion!$C$10,\"\")","v":""},""]
[null,null,null,null,null,null,null,{"$f":"IF(DATOS!A1399<>\"\",DATOS!A1399&configuracion!$C$10,\"\")","v":""},""]
[null,null,null,null,null,null,null,{"$f":"IF(DATOS!A1400<>\"\",DATOS!A1400&configuracion!$C$10,\"\")","v":""},""]
[null,null,null,null,null,null,null,{"$f":"IF(DATOS!A1401<>\"\",DATOS!A1401&configuracion!$C$10,\"\")","v":""},""]
[null,null,null,null,null,null,null,{"$f":"IF(DATOS!A1402<>\"\",DATOS!A1402&configuracion!$C$10,\"\")","v":""},""]
[null,null,null,null,null,null,null,{"$f":"IF(DATOS!A1403<>\"\",DATOS!A1403&configuracion!$C$10,\"\")","v":""},""]
[null,null,null,null,null,null,null,{"$f":"IF(DATOS!A1404<>\"\",DATOS!A1404&configuracion!$C$10,\"\")","v":""},""]
[null,null,null,null,null,null,null,{"$f":"IF(DATOS!A1405<>\"\",DATOS!A1405&configuracion!$C$10,\"\")","v":""},""]
[null,null,null,null,null,null,null,{"$f":"IF(DATOS!A1406<>\"\",DATOS!A1406&configuracion!$C$10,\"\")","v":""},""]
[null,null,null,null,null,null,null,{"$f":"IF(DATOS!A1407<>\"\",DATOS!A1407&configuracion!$C$10,\"\")","v":""},""]
[null,null,null,null,null,null,null,{"$f":"IF(DATOS!A1408<>\"\",DATOS!A1408&configuracion!$C$10,\"\")","v":""},""]
[null,null,null,null,null,null,null,{"$f":"IF(DATOS!A1409<>\"\",DATOS!A1409&configuracion!$C$10,\"\")","v":""},""]
[null,null,null,null,null,null,null,{"$f":"IF(DATOS!A1410<>\"\",DATOS!A1410&configuracion!$C$10,\"\")","v":""},""]
[null,null,null,null,null,null,null,{"$f":"IF(DATOS!A1411<>\"\",DATOS!A1411&configuracion!$C$10,\"\")","v":""},""]
[null,null,null,null,null,null,null,{"$f":"IF(DATOS!A1412<>\"\",DATOS!A1412&configuracion!$C$10,\"\")","v":""},{"$f":"IF(B1412=\"\",\"\",TEXT(B1412, \"DD/MM/YYYY HH:MM:SS\"))","v":""}]
[null,null,null,null,null,null,null,{"$f":"IF(DATOS!A1413<>\"\",DATOS!A1413&configuracion!$C$10,\"\")","v":""},""]
[null,null,null,null,null,null,null,{"$f":"IF(DATOS!A1414<>\"\",DATOS!A1414&configuracion!$C$10,\"\")","v":""},""]
[null,null,null,null,null,null,null,{"$f":"IF(DATOS!A1415<>\"\",DATOS!A1415&configuracion!$C$10,\"\")","v":""},""]
[null,null,null,null,null,null,null,{"$f":"IF(DATOS!A1416<>\"\",DATOS!A1416&configuracion!$C$10,\"\")","v":""},""]
[null,null,null,null,null,null,null,{"$f":"IF(DATOS!A1417<>\"\",DATOS!A1417&configuracion!$C$10,\"\")","v":""},""]
[null,null,null,null,null,null,null,{"$f":"IF(DATOS!A1418<>\"\",DATOS!A1418&configuracion!$C$10,\"\")","v":""},""]
[null,null,null,null,null,null,null,{"$f":"IF(DATOS!A1419<>\"\",DATOS!A1419&configuracion!$C$10,\"\")","v":""},""]
[null,null,null,null,null,null,null,{"$f":"IF(DATOS!A1420<>\"\",DATOS!A1420&configuracion!$C$10,\"\")","v":""},""]
[null,null,null,null,null,null,null,{"$f":"IF(DATOS!A1421<>\"\",DATOS!A1421&configuracion!$C$10,\"\")","v":""},""]
[null,null,null,null,null,null,null,{"$f":"IF(DATOS!A1422<>\"\",DATOS!A1422&configuracion!$C$10,\"\")","v":""},""]
[null,null,null,null,null,null,null,{"$f":"IF(DATOS!A1423<>\"\",DATOS!A1423&configuracion!$C$10,\"\")","v":""},""]
[null,null,null,null,null,null,null,{"$f":"IF(DATOS!A1424<>\"\",DATOS!A1424&configuracion!$C$10,\"\")","v":""},""]
[null,null,null,null,null,null,null,{"$f":"IF(DATOS!A1425<>\"\",DATOS!A1425&configuracion!$C$10,\"\")","v":""},""]
[null,null,null,null,null,null,null,{"$f":"IF(DATOS!A1426<>\"\",DATOS!A1426&configuracion!$C$10,\"\")","v":""},""]
[null,null,null,null,null,null,null,{"$f":"IF(DATOS!A1427<>\"\",DATOS!A1427&configuracion!$C$10,\"\")","v":""},""]
[null,null,null,null,null,null,null,{"$f":"IF(DATOS!A1428<>\"\",DATOS!A1428&configuracion!$C$10,\"\")","v":""},""]
[null,null,null,null,null,null,null,{"$f":"IF(DATOS!A1429<>\"\",DATOS!A1429&configuracion!$C$10,\"\")","v":""},""]
[null,null,null,null,null,null,null,{"$f":"IF(DATOS!A1430<>\"\",DATOS!A1430&configuracion!$C$10,\"\")","v":""},""]
[null,null,null,null,null,null,null,{"$f":"IF(DATOS!A1431<>\"\",DATOS!A1431&configuracion!$C$10,\"\")","v":""},""]
[null,null,null,null,null,null,null,{"$f":"IF(DATOS!A1432<>\"\",DATOS!A1432&configuracion!$C$10,\"\")","v":""},""]
[null,null,null,null,null,null,null,{"$f":"IF(DATOS!A1433<>\"\",DATOS!A1433&configuracion!$C$10,\"\")","v":""},""]
[null,null,null,null,null,null,null,{"$f":"IF(DATOS!A1434<>\"\",DATOS!A1434&configuracion!$C$10,\"\")","v":""},""]
[null,null,null,null,null,null,null,{"$f":"IF(DATOS!A1435<>\"\",DATOS!A1435&configuracion!$C$10,\"\")","v":""},""]
[null,null,null,null,null,null,null,{"$f":"IF(DATOS!A1436<>\"\",DATOS!A1436&configuracion!$C$10,\"\")","v":""},""]
[null,null,null,null,null,null,null,{"$f":"IF(DATOS!A1437<>\"\",DATOS!A1437&configuracion!$C$10,\"\")","v":""},""]
[null,null,null,null,null,null,null,{"$f":"IF(DATOS!A1438<>\"\",DATOS!A1438&configuracion!$C$10,\"\")","v":""},""]
[null,null,null,null,null,null,null,{"$f":"IF(DATOS!A1439<>\"\",DATOS!A1439&configuracion!$C$10,\"\")","v":""},""]
[null,null,null,null,null,null,null,{"$f":"IF(DATOS!A1440<>\"\",DATOS!A1440&configuracion!$C$10,\"\")","v":""},""]
[null,null,null,null,null,null,null,{"$f":"IF(DATOS!A1441<>\"\",DATOS!A1441&configuracion!$C$10,\"\")","v":""},""]
[null,null,null,null,null,null,null,{"$f":"IF(DATOS!A1442<>\"\",DATOS!A1442&configuracion!$C$10,\"\")","v":""},""]
[null,null,null,null,null,null,null,{"$f":"IF(DATOS!A1443<>\"\",DATOS!A1443&configuracion!$C$10,\"\")","v":""},""]
[null,null,null,null,null,null,null,{"$f":"IF(DATOS!A1444<>\"\",DATOS!A1444&configuracion!$C$10,\"\")","v":""},""]
[null,null,null,null,null,null,null,{"$f":"IF(DATOS!A1445<>\"\",DATOS!A1445&configuracion!$C$10,\"\")","v":""},""]
[null,null,null,null,null,null,null,{"$f":"IF(DATOS!A1446<>\"\",DATOS!A1446&configuracion!$C$10,\"\")","v":""},""]
[null,null,null,null,null,null,null,{"$f":"IF(DATOS!A1447<>\"\",DATOS!A1447&configuracion!$C$10,\"\")","v":""},""]
[null,null,null,null,null,null,null,{"$f":"IF(DATOS!A1448<>\"\",DATOS!A1448&configuracion!$C$10,\"\")","v":""},""]
[null,null,null,null,null,null,null,{"$f":"IF(DATOS!A1449<>\"\",DATOS!A1449&configuracion!$C$10,\"\")","v":""},""]
[null,null,null,null,null,null,null,{"$f":"IF(DATOS!A1450<>\"\",DATOS!A1450&configuracion!$C$10,\"\")","v":""},""]
[null,null,null,null,null,null,null,{"$f":"IF(DATOS!A1451<>\"\",DATOS!A1451&configuracion!$C$10,\"\")","v":""},""]
[null,null,null,null,null,null,null,{"$f":"IF(DATOS!A1452<>\"\",DATOS!A1452&configuracion!$C$10,\"\")","v":""},""]
[null,null,null,null,null,null,null,{"$f":"IF(DATOS!A1453<>\"\",DATOS!A1453&configuracion!$C$10,\"\")","v":""},""]
[null,null,null,null,null,null,null,{"$f":"IF(DATOS!A1454<>\"\",DATOS!A1454&configuracion!$C$10,\"\")","v":""},""]
[null,null,null,null,null,null,null,{"$f":"IF(DATOS!A1455<>\"\",DATOS!A1455&configuracion!$C$10,\"\")","v":""},""]
[null,null,null,null,null,null,null,{"$f":"IF(DATOS!A1456<>\"\",DATOS!A1456&configuracion!$C$10,\"\")","v":""},""]
[null,null,null,null,null,null,null,{"$f":"IF(DATOS!A1457<>\"\",DATOS!A1457&configuracion!$C$10,\"\")","v":""},""]
[null,null,null,null,null,null,null,{"$f":"IF(DATOS!A1458<>\"\",DATOS!A1458&configuracion!$C$10,\"\")","v":""},""]
[null,null,null,null,null,null,null,{"$f":"IF(DATOS!A1459<>\"\",DATOS!A1459&configuracion!$C$10,\"\")","v":""},""]
[null,null,null,null,null,null,null,{"$f":"IF(DATOS!A1460<>\"\",DATOS!A1460&configuracion!$C$10,\"\")","v":""},""]
[null,null,null,null,null,null,null,{"$f":"IF(DATOS!A1461<>\"\",DATOS!A1461&configuracion!$C$10,\"\")","v":""},""]
[null,null,null,null,null,null,null,{"$f":"IF(DATOS!A1462<>\"\",DATOS!A1462&configuracion!$C$10,\"\")","v":""},""]
[null,null,null,null,null,null,null,{"$f":"IF(DATOS!A1463<>\"\",DATOS!A1463&configuracion!$C$10,\"\")","v":""},""]
[null,null,null,null,null,null,null,{"$f":"IF(DATOS!A1464<>\"\",DATOS!A1464&configuracion!$C$10,\"\")","v":""},""]
[null,null,null,null,null,null,null,{"$f":"IF(DATOS!A1465<>\"\",DATOS!A1465&configuracion!$C$10,\"\")","v":""},""]
[null,null,null,null,null,null,null,{"$f":"IF(DATOS!A1466<>\"\",DATOS!A1466&configuracion!$C$10,\"\")","v":""},""]
[null,null,null,null,null,null,null,{"$f":"IF(DATOS!A1467<>\"\",DATOS!A1467&configuracion!$C$10,\"\")","v":""},""]
[null,null,null,null,null,null,null,{"$f":"IF(DATOS!A1468<>\"\",DATOS!A1468&configuracion!$C$10,\"\")","v":""},""]
[null,null,null,null,null,null,null,{"$f":"IF(DATOS!A1469<>\"\",DATOS!A1469&configuracion!$C$10,\"\")","v":""},""]
[null,null,null,null,null,null,null,{"$f":"IF(DATOS!A1470<>\"\",DATOS!A1470&configuracion!$C$10,\"\")","v":""},""]
[null,null,null,null,null,null,null,{"$f":"IF(DATOS!A1471<>\"\",DATOS!A1471&configuracion!$C$10,\"\")","v":""},""]
[null,null,null,null,null,null,null,{"$f":"IF(DATOS!A1472<>\"\",DATOS!A1472&configuracion!$C$10,\"\")","v":""},""]
[null,null,null,null,null,null,null,{"$f":"IF(DATOS!A1473<>\"\",DATOS!A1473&configuracion!$C$10,\"\")","v":""},""]
[null,null,null,null,null,null,null,{"$f":"IF(DATOS!A1474<>\"\",DATOS!A1474&configuracion!$C$10,\"\")","v":""},""]
[null,null,null,null,null,null,null,{"$f":"IF(DATOS!A1475<>\"\",DATOS!A1475&configuracion!$C$10,\"\")","v":""},""]
[null,null,null,null,null,null,null,{"$f":"IF(DATOS!A1476<>\"\",DATOS!A1476&configuracion!$C$10,\"\")","v":""},{"$f":"IF(B1476=\"\",\"\",TEXT(B1476, \"DD/MM/YYYY HH:MM:SS\"))","v":""}]
[null,null,null,null,null,null,null,{"$f":"IF(DATOS!A1477<>\"\",DATOS!A1477&configuracion!$C$10,\"\")","v":""},""]
[null,null,null,null,null,null,null,{"$f":"IF(DATOS!A1478<>\"\",DATOS!A1478&configuracion!$C$10,\"\")","v":""},""]
[null,null,null,null,null,null,null,{"$f":"IF(DATOS!A1479<>\"\",DATOS!A1479&configuracion!$C$10,\"\")","v":""},""]
[null,null,null,null,null,null,null,{"$f":"IF(DATOS!A1480<>\"\",DATOS!A1480&configuracion!$C$10,\"\")","v":""},""]
[null,null,null,null,null,null,null,{"$f":"IF(DATOS!A1481<>\"\",DATOS!A1481&configuracion!$C$10,\"\")","v":""},""]
[null,null,null,null,null,null,null,{"$f":"IF(DATOS!A1482<>\"\",DATOS!A1482&configuracion!$C$10,\"\")","v":""},""]
[null,null,null,null,null,null,null,{"$f":"IF(DATOS!A1483<>\"\",DATOS!A1483&configuracion!$C$10,\"\")","v":""},""]
[null,null,null,null,null,null,null,{"$f":"IF(DATOS!A1484<>\"\",DATOS!A1484&configuracion!$C$10,\"\")","v":""},""]
[null,null,null,null,null,null,null,{"$f":"IF(DATOS!A1485<>\"\",DATOS!A1485&configuracion!$C$10,\"\")","v":""},""]
[null,null,null,null,null,null,null,{"$f":"IF(DATOS!A1486<>\"\",DATOS!A1486&configuracion!$C$10,\"\")","v":""},""]
[null,null,null,null,null,null,null,{"$f":"IF(DATOS!A1487<>\"\",DATOS!A1487&configuracion!$C$10,\"\")","v":""},""]
[null,null,null,null,null,null,null,{"$f":"IF(DATOS!A1488<>\"\",DATOS!A1488&configuracion!$C$10,\"\")","v":""},""]
[null,null,null,null,null,null,null,{"$f":"IF(DATOS!A1489<>\"\",DATOS!A1489&configuracion!$C$10,\"\")","v":""},""]
[null,null,null,null,null,null,null,{"$f":"IF(DATOS!A1490<>\"\",DATOS!A1490&configuracion!$C$10,\"\")","v":""},""]
[null,null,null,null,null,null,null,{"$f":"IF(DATOS!A1491<>\"\",DATOS!A1491&configuracion!$C$10,\"\")","v":""},""]
[null,null,null,null,null,null,null,{"$f":"IF(DATOS!A1492<>\"\",DATOS!A1492&configuracion!$C$10,\"\")","v":""},""]
[null,null,null,null,null,null,null,{"$f":"IF(DATOS!A1493<>\"\",DATOS!A1493&configuracion!$C$10,\"\")","v":""},""]
[null,null,null,null,null,null,null,{"$f":"IF(DATOS!A1494<>\"\",DATOS!A1494&configuracion!$C$10,\"\")","v":""},""]
[null,null,null,null,null,null,null,{"$f":"IF(DATOS!A1495<>\"\",DATOS!A1495&configuracion!$C$10,\"\")","v":""},""]
[null,null,null,null,null,null,null,{"$f":"IF(DATOS!A1496<>\"\",DATOS!A1496&configuracion!$C$10,\"\")","v":""},""]
[null,null,null,null,null,null,null,{"$f":"IF(DATOS!A1497<>\"\",DATOS!A1497&configuracion!$C$10,\"\")","v":""},""]
[null,null,null,null,null,null,null,{"$f":"IF(DATOS!A1498<>\"\",DATOS!A1498&configuracion!$C$10,\"\")","v":""},""]
[null,null,null,null,null,null,null,{"$f":"IF(DATOS!A1499<>\"\",DATOS!A1499&configuracion!$C$10,\"\")","v":""},""]
[null,null,null,null,null,null,null,{"$f":"IF(DATOS!A1500<>\"\",DATOS!A1500&configuracion!$C$10,\"\")","v":""},""]
[null,null,null,null,null,null,null,{"$f":"IF(DATOS!A1501<>\"\",DATOS!A1501&configuracion!$C$10,\"\")","v":""},""]
[null,null,null,null,null,null,null,{"$f":"IF(DATOS!A1502<>\"\",DATOS!A1502&configuracion!$C$10,\"\")","v":""},""]
[null,null,null,null,null,null,null,{"$f":"IF(DATOS!A1503<>\"\",DATOS!A1503&configuracion!$C$10,\"\")","v":""},""]
[null,null,null,null,null,null,null,{"$f":"IF(DATOS!A1504<>\"\",DATOS!A1504&configuracion!$C$10,\"\")","v":""},""]
[null,null,null,null,null,null,null,{"$f":"IF(DATOS!A1505<>\"\",DATOS!A1505&configuracion!$C$10,\"\")","v":""},""]
[null,null,null,null,null,null,null,{"$f":"IF(DATOS!A1506<>\"\",DATOS!A1506&configuracion!$C$10,\"\")","v":""},""]
[null,null,null,null,null,null,null,{"$f":"IF(DATOS!A1507<>\"\",DATOS!A1507&configuracion!$C$10,\"\")","v":""},""]
[null,null,null,null,null,null,null,{"$f":"IF(DATOS!A1508<>\"\",DATOS!A1508&configuracion!$C$10,\"\")","v":""},""]
[null,null,null,null,null,null,null,{"$f":"IF(DATOS!A1509<>\"\",DATOS!A1509&configuracion!$C$10,\"\")","v":""},""]
[null,null,null,null,null,null,null,{"$f":"IF(DATOS!A1510<>\"\",DATOS!A1510&configuracion!$C$10,\"\")","v":""},""]
[null,null,null,null,null,null,null,{"$f":"IF(DATOS!A1511<>\"\",DATOS!A1511&configuracion!$C$10,\"\")","v":""},""]
[null,null,null,null,null,null,null,{"$f":"IF(DATOS!A1512<>\"\",DATOS!A1512&configuracion!$C$10,\"\")","v":""},""]
[null,null,null,null,null,null,null,{"$f":"IF(DATOS!A1513<>\"\",DATOS!A1513&configuracion!$C$10,\"\")","v":""},""]
[null,null,null,null,null,null,null,{"$f":"IF(DATOS!A1514<>\"\",DATOS!A1514&configuracion!$C$10,\"\")","v":""},""]
[null,null,null,null,null,null,null,{"$f":"IF(DATOS!A1515<>\"\",DATOS!A1515&configuracion!$C$10,\"\")","v":""},""]
[null,null,null,null,null,null,null,{"$f":"IF(DATOS!A1516<>\"\",DATOS!A1516&configuracion!$C$10,\"\")","v":""},""]
[null,null,null,null,null,null,null,{"$f":"IF(DATOS!A1517<>\"\",DATOS!A1517&configuracion!$C$10,\"\")","v":""},""]
[null,null,null,null,null,null,null,{"$f":"IF(DATOS!A1518<>\"\",DATOS!A1518&configuracion!$C$10,\"\")","v":""},""]
[null,null,null,null,null,null,null,{"$f":"IF(DATOS!A1519<>\"\",DATOS!A1519&configuracion!$C$10,\"\")","v":""},""]
[null,null,null,null,null,null,null,{"$f":"IF(DATOS!A1520<>\"\",DATOS!A1520&configuracion!$C$10,\"\")","v":""},""]
[null,null,null,null,null,null,null,{"$f":"IF(DATOS!A1521<>\"\",DATOS!A1521&configuracion!$C$10,\"\")","v":""},""]
[null,null,null,null,null,null,null,{"$f":"IF(DATOS!A1522<>\"\",DATOS!A1522&configuracion!$C$10,\"\")","v":""},""]
[null,null,null,null,null,null,null,{"$f":"IF(DATOS!A1523<>\"\",DATOS!A1523&configuracion!$C$10,\"\")","v":""},""]
[null,null,null,null,null,null,null,{"$f":"IF(DATOS!A1524<>\"\",DATOS!A1524&configuracion!$C$10,\"\")","v":""},""]
[null,null,null,null,null,null,null,{"$f":"IF(DATOS!A1525<>\"\",DATOS!A1525&configuracion!$C$10,\"\")","v":""},""]
[null,null,null,null,null,null,null,{"$f":"IF(DATOS!A1526<>\"\",DATOS!A1526&configuracion!$C$10,\"\")","v":""},""]
[null,null,null,null,null,null,null,{"$f":"IF(DATOS!A1527<>\"\",DATOS!A1527&configuracion!$C$10,\"\")","v":""},""]
[null,null,null,null,null,null,null,{"$f":"IF(DATOS!A1528<>\"\",DATOS!A1528&configuracion!$C$10,\"\")","v":""},""]
[null,null,null,null,null,null,null,{"$f":"IF(DATOS!A1529<>\"\",DATOS!A1529&configuracion!$C$10,\"\")","v":""},""]
[null,null,null,null,null,null,null,{"$f":"IF(DATOS!A1530<>\"\",DATOS!A1530&configuracion!$C$10,\"\")","v":""},""]
[null,null,null,null,null,null,null,{"$f":"IF(DATOS!A1531<>\"\",DATOS!A1531&configuracion!$C$10,\"\")","v":""},""]
[null,null,null,null,null,null,null,{"$f":"IF(DATOS!A1532<>\"\",DATOS!A1532&configuracion!$C$10,\"\")","v":""},""]
[null,null,null,null,null,null,null,{"$f":"IF(DATOS!A1533<>\"\",DATOS!A1533&configuracion!$C$10,\"\")","v":""},""]
[null,null,null,null,null,null,null,{"$f":"IF(DATOS!A1534<>\"\",DATOS!A1534&configuracion!$C$10,\"\")","v":""},""]
[null,null,null,null,null,null,null,{"$f":"IF(DATOS!A1535<>\"\",DATOS!A1535&configuracion!$C$10,\"\")","v":""},""]
[null,null,null,null,null,null,null,{"$f":"IF(DATOS!A1536<>\"\",DATOS!A1536&configuracion!$C$10,\"\")","v":""},""]
[null,null,null,null,null,null,null,{"$f":"IF(DATOS!A1537<>\"\",DATOS!A1537&configuracion!$C$10,\"\")","v":""},""]
[null,null,null,null,null,null,null,{"$f":"IF(DATOS!A1538<>\"\",DATOS!A1538&configuracion!$C$10,\"\")","v":""},""]
[null,null,null,null,null,null,null,{"$f":"IF(DATOS!A1539<>\"\",DATOS!A1539&configuracion!$C$10,\"\")","v":""},""]
[null,null,null,null,null,null,null,{"$f":"IF(DATOS!A1540<>\"\",DATOS!A1540&configuracion!$C$10,\"\")","v":""},{"$f":"IF(B1540=\"\",\"\",TEXT(B1540, \"DD/MM/YYYY HH:MM:SS\"))","v":""}]
[null,null,null,null,null,null,null,{"$f":"IF(DATOS!A1541<>\"\",DATOS!A1541&configuracion!$C$10,\"\")","v":""},""]
[null,null,null,null,null,null,null,{"$f":"IF(DATOS!A1542<>\"\",DATOS!A1542&configuracion!$C$10,\"\")","v":""},""]
[null,null,null,null,null,null,null,{"$f":"IF(DATOS!A1543<>\"\",DATOS!A1543&configuracion!$C$10,\"\")","v":""},""]
[null,null,null,null,null,null,null,{"$f":"IF(DATOS!A1544<>\"\",DATOS!A1544&configuracion!$C$10,\"\")","v":""},""]
[null,null,null,null,null,null,null,{"$f":"IF(DATOS!A1545<>\"\",DATOS!A1545&configuracion!$C$10,\"\")","v":""},""]
[null,null,null,null,null,null,null,{"$f":"IF(DATOS!A1546<>\"\",DATOS!A1546&configuracion!$C$10,\"\")","v":""},""]
[null,null,null,null,null,null,null,{"$f":"IF(DATOS!A1547<>\"\",DATOS!A1547&configuracion!$C$10,\"\")","v":""},""]
[null,null,null,null,null,null,null,{"$f":"IF(DATOS!A1548<>\"\",DATOS!A1548&configuracion!$C$10,\"\")","v":""},""]
[null,null,null,null,null,null,null,{"$f":"IF(DATOS!A1549<>\"\",DATOS!A1549&configuracion!$C$10,\"\")","v":""},""]
[null,null,null,null,null,null,null,{"$f":"IF(DATOS!A1550<>\"\",DATOS!A1550&configuracion!$C$10,\"\")","v":""},""]
[null,null,null,null,null,null,null,{"$f":"IF(DATOS!A1551<>\"\",DATOS!A1551&configuracion!$C$10,\"\")","v":""},""]
[null,null,null,null,null,null,null,{"$f":"IF(DATOS!A1552<>\"\",DATOS!A1552&configuracion!$C$10,\"\")","v":""},""]
[null,null,null,null,null,null,null,{"$f":"IF(DATOS!A1553<>\"\",DATOS!A1553&configuracion!$C$10,\"\")","v":""},""]
[null,null,null,null,null,null,null,{"$f":"IF(DATOS!A1554<>\"\",DATOS!A1554&configuracion!$C$10,\"\")","v":""},""]
[null,null,null,null,null,null,null,{"$f":"IF(DATOS!A1555<>\"\",DATOS!A1555&configuracion!$C$10,\"\")","v":""},""]
[null,null,null,null,null,null,null,{"$f":"IF(DATOS!A1556<>\"\",DATOS!A1556&configuracion!$C$10,\"\")","v":""},""]
[null,null,null,null,null,null,null,{"$f":"IF(DATOS!A1557<>\"\",DATOS!A1557&configuracion!$C$10,\"\")","v":""},""]
[null,null,null,null,null,null,null,{"$f":"IF(DATOS!A1558<>\"\",DATOS!A1558&configuracion!$C$10,\"\")","v":""},""]
[null,null,null,null,null,null,null,{"$f":"IF(DATOS!A1559<>\"\",DATOS!A1559&configuracion!$C$10,\"\")","v":""},""]
[null,null,null,null,null,null,null,{"$f":"IF(DATOS!A1560<>\"\",DATOS!A1560&configuracion!$C$10,\"\")","v":""},""]
[null,null,null,null,null,null,null,{"$f":"IF(DATOS!A1561<>\"\",DATOS!A1561&configuracion!$C$10,\"\")","v":""},""]
[null,null,null,null,null,null,null,{"$f":"IF(DATOS!A1562<>\"\",DATOS!A1562&configuracion!$C$10,\"\")","v":""},""]
[null,null,null,null,null,null,null,{"$f":"IF(DATOS!A1563<>\"\",DATOS!A1563&configuracion!$C$10,\"\")","v":""},""]
[null,null,null,null,null,null,null,{"$f":"IF(DATOS!A1564<>\"\",DATOS!A1564&configuracion!$C$10,\"\")","v":""},""]
[null,null,null,null,null,null,null,{"$f":"IF(DATOS!A1565<>\"\",DATOS!A1565&configuracion!$C$10,\"\")","v":""},""]
[null,null,null,null,null,null,null,{"$f":"IF(DATOS!A1566<>\"\",DATOS!A1566&configuracion!$C$10,\"\")","v":""},""]
[null,null,null,null,null,null,null,{"$f":"IF(DATOS!A1567<>\"\",DATOS!A1567&configuracion!$C$10,\"\")","v":""},""]
[null,null,null,null,null,null,null,{"$f":"IF(DATOS!A1568<>\"\",DATOS!A1568&configuracion!$C$10,\"\")","v":""},""]
[null,null,null,null,null,null,null,{"$f":"IF(DATOS!A1569<>\"\",DATOS!A1569&configuracion!$C$10,\"\")","v":""},""]
[null,null,null,null,null,null,null,{"$f":"IF(DATOS!A1570<>\"\",DATOS!A1570&configuracion!$C$10,\"\")","v":""},""]
[null,null,null,null,null,null,null,{"$f":"IF(DATOS!A1571<>\"\",DATOS!A1571&configuracion!$C$10,\"\")","v":""},""]
[null,null,null,null,null,null,null,{"$f":"IF(DATOS!A1572<>\"\",DATOS!A1572&configuracion!$C$10,\"\")","v":""},""]
[null,null,null,null,null,null,null,{"$f":"IF(DATOS!A1573<>\"\",DATOS!A1573&configuracion!$C$10,\"\")","v":""},""]
[null,null,null,null,null,null,null,{"$f":"IF(DATOS!A1574<>\"\",DATOS!A1574&configuracion!$C$10,\"\")","v":""},""]
[null,null,null,null,null,null,null,{"$f":"IF(DATOS!A1575<>\"\",DATOS!A1575&configuracion!$C$10,\"\")","v":""},""]
[null,null,null,null,null,null,null,{"$f":"IF(DATOS!A1576<>\"\",DATOS!A1576&configuracion!$C$10,\"\")","v":""},""]
[null,null,null,null,null,null,null,{"$f":"IF(DATOS!A1577<>\"\",DATOS!A1577&configuracion!$C$10,\"\")","v":""},""]
[null,null,null,null,null,null,null,{"$f":"IF(DATOS!A1578<>\"\",DATOS!A1578&configuracion!$C$10,\"\")","v":""},""]
[null,null,null,null,null,null,null,{"$f":"IF(DATOS!A1579<>\"\",DATOS!A1579&configuracion!$C$10,\"\")","v":""},""]
[null,null,null,null,null,null,null,{"$f":"IF(DATOS!A1580<>\"\",DATOS!A1580&configuracion!$C$10,\"\")","v":""},""]
[null,null,null,null,null,null,null,{"$f":"IF(DATOS!A1581<>\"\",DATOS!A1581&configuracion!$C$10,\"\")","v":""},""]
[null,null,null,null,null,null,null,{"$f":"IF(DATOS!A1582<>\"\",DATOS!A1582&configuracion!$C$10,\"\")","v":""},""]
[null,null,null,null,null,null,null,{"$f":"IF(DATOS!A1583<>\"\",DATOS!A1583&configuracion!$C$10,\"\")","v":""},""]
[null,null,null,null,null,null,null,{"$f":"IF(DATOS!A1584<>\"\",DATOS!A1584&configuracion!$C$10,\"\")","v":""},""]
[null,null,null,null,null,null,null,{"$f":"IF(DATOS!A1585<>\"\",DATOS!A1585&configuracion!$C$10,\"\")","v":""},""]
[null,null,null,null,null,null,null,{"$f":"IF(DATOS!A1586<>\"\",DATOS!A1586&configuracion!$C$10,\"\")","v":""},""]
[null,null,null,null,null,null,null,{"$f":"IF(DATOS!A1587<>\"\",DATOS!A1587&configuracion!$C$10,\"\")","v":""},""]
[null,null,null,null,null,null,null,{"$f":"IF(DATOS!A1588<>\"\",DATOS!A1588&configuracion!$C$10,\"\")","v":""},""]
[null,null,null,null,null,null,null,{"$f":"IF(DATOS!A1589<>\"\",DATOS!A1589&configuracion!$C$10,\"\")","v":""},""]
[null,null,null,null,null,null,null,{"$f":"IF(DATOS!A1590<>\"\",DATOS!A1590&configuracion!$C$10,\"\")","v":""},""]
[null,null,null,null,null,null,null,{"$f":"IF(DATOS!A1591<>\"\",DATOS!A1591&configuracion!$C$10,\"\")","v":""},""]
[null,null,null,null,null,null,null,{"$f":"IF(DATOS!A1592<>\"\",DATOS!A1592&configuracion!$C$10,\"\")","v":""},""]
[null,null,null,null,null,null,null,{"$f":"IF(DATOS!A1593<>\"\",DATOS!A1593&configuracion!$C$10,\"\")","v":""},""]
[null,null,null,null,null,null,null,{"$f":"IF(DATOS!A1594<>\"\",DATOS!A1594&configuracion!$C$10,\"\")","v":""},""]
[null,null,null,null,null,null,null,{"$f":"IF(DATOS!A1595<>\"\",DATOS!A1595&configuracion!$C$10,\"\")","v":""},""]
[null,null,null,null,null,null,null,{"$f":"IF(DATOS!A1596<>\"\",DATOS!A1596&configuracion!$C$10,\"\")","v":""},""]
[null,null,null,null,null,null,null,{"$f":"IF(DATOS!A1597<>\"\",DATOS!A1597&configuracion!$C$10,\"\")","v":""},""]
[null,null,null,null,null,null,null,{"$f":"IF(DATOS!A1598<>\"\",DATOS!A1598&configuracion!$C$10,\"\")","v":""},""]
[null,null,null,null,null,null,null,{"$f":"IF(DATOS!A1599<>\"\",DATOS!A1599&configuracion!$C$10,\"\")","v":""},""]
[null,null,null,null,null,null,null,{"$f":"IF(DATOS!A1600<>\"\",DATOS!A1600&configuracion!$C$10,\"\")","v":""},""]
[null,null,null,null,null,null,null,{"$f":"IF(DATOS!A1601<>\"\",DATOS!A1601&configuracion!$C$10,\"\")","v":""},""]
[null,null,null,null,null,null,null,{"$f":"IF(DATOS!A1602<>\"\",DATOS!A1602&configuracion!$C$10,\"\")","v":""},""]
[null,null,null,null,null,null,null,{"$f":"IF(DATOS!A1603<>\"\",DATOS!A1603&configuracion!$C$10,\"\")","v":""},""]
[null,null,null,null,null,null,null,{"$f":"IF(DATOS!A1604<>\"\",DATOS!A1604&configuracion!$C$10,\"\")","v":""},{"$f":"IF(B1604=\"\",\"\",TEXT(B1604, \"DD/MM/YYYY HH:MM:SS\"))","v":""}]
[null,null,null,null,null,null,null,{"$f":"IF(DATOS!A1605<>\"\",DATOS!A1605&configuracion!$C$10,\"\")","v":""},""]
[null,null,null,null,null,null,null,{"$f":"IF(DATOS!A1606<>\"\",DATOS!A1606&configuracion!$C$10,\"\")","v":""},""]
[null,null,null,null,null,null,null,{"$f":"IF(DATOS!A1607<>\"\",DATOS!A1607&configuracion!$C$10,\"\")","v":""},""]
[null,null,null,null,null,null,null,{"$f":"IF(DATOS!A1608<>\"\",DATOS!A1608&configuracion!$C$10,\"\")","v":""},""]
[null,null,null,null,null,null,null,{"$f":"IF(DATOS!A1609<>\"\",DATOS!A1609&configuracion!$C$10,\"\")","v":""},""]
[null,null,null,null,null,null,null,{"$f":"IF(DATOS!A1610<>\"\",DATOS!A1610&configuracion!$C$10,\"\")","v":""},""]
[null,null,null,null,null,null,null,{"$f":"IF(DATOS!A1611<>\"\",DATOS!A1611&configuracion!$C$10,\"\")","v":""},""]
[null,null,null,null,null,null,null,{"$f":"IF(DATOS!A1612<>\"\",DATOS!A1612&configuracion!$C$10,\"\")","v":""},""]
[null,null,null,null,null,null,null,{"$f":"IF(DATOS!A1613<>\"\",DATOS!A1613&configuracion!$C$10,\"\")","v":""},""]
[null,null,null,null,null,null,null,{"$f":"IF(DATOS!A1614<>\"\",DATOS!A1614&configuracion!$C$10,\"\")","v":""},""]
[null,null,null,null,null,null,null,{"$f":"IF(DATOS!A1615<>\"\",DATOS!A1615&configuracion!$C$10,\"\")","v":""},""]
[null,null,null,null,null,null,null,{"$f":"IF(DATOS!A1616<>\"\",DATOS!A1616&configuracion!$C$10,\"\")","v":""},""]
[null,null,null,null,null,null,null,{"$f":"IF(DATOS!A1617<>\"\",DATOS!A1617&configuracion!$C$10,\"\")","v":""},""]
[null,null,null,null,null,null,null,{"$f":"IF(DATOS!A1618<>\"\",DATOS!A1618&configuracion!$C$10,\"\")","v":""},""]
[null,null,null,null,null,null,null,{"$f":"IF(DATOS!A1619<>\"\",DATOS!A1619&configuracion!$C$10,\"\")","v":""},""]
[null,null,null,null,null,null,null,{"$f":"IF(DATOS!A1620<>\"\",DATOS!A1620&configuracion!$C$10,\"\")","v":""},""]
[null,null,null,null,null,null,null,{"$f":"IF(DATOS!A1621<>\"\",DATOS!A1621&configuracion!$C$10,\"\")","v":""},""]
[null,null,null,null,null,null,null,{"$f":"IF(DATOS!A1622<>\"\",DATOS!A1622&configuracion!$C$10,\"\")","v":""},""]
[null,null,null,null,null,null,null,{"$f":"IF(DATOS!A1623<>\"\",DATOS!A1623&configuracion!$C$10,\"\")","v":""},""]
[null,null,null,null,null,null,null,{"$f":"IF(DATOS!A1624<>\"\",DATOS!A1624&configuracion!$C$10,\"\")","v":""},""]
[null,null,null,null,null,null,null,{"$f":"IF(DATOS!A1625<>\"\",DATOS!A1625&configuracion!$C$10,\"\")","v":""},""]
[null,null,null,null,null,null,null,{"$f":"IF(DATOS!A1626<>\"\",DATOS!A1626&configuracion!$C$10,\"\")","v":""},""]
[null,null,null,null,null,null,null,{"$f":"IF(DATOS!A1627<>\"\",DATOS!A1627&configuracion!$C$10,\"\")","v":""},""]
[null,null,null,null,null,null,null,{"$f":"IF(DATOS!A1628<>\"\",DATOS!A1628&configuracion!$C$10,\"\")","v":""},""]
[null,null,null,null,null,null,null,{"$f":"IF(DATOS!A1629<>\"\",DATOS!A1629&configuracion!$C$10,\"\")","v":""},""]
[null,null,null,null,null,null,null,{"$f":"IF(DATOS!A1630<>\"\",DATOS!A1630&configuracion!$C$10,\"\")","v":""},""]
[null,null,null,null,null,null,null,{"$f":"IF(DATOS!A1631<>\"\",DATOS!A1631&configuracion!$C$10,\"\")","v":""},""]
[null,null,null,null,null,null,null,{"$f":"IF(DATOS!A1632<>\"\",DATOS!A1632&configuracion!$C$10,\"\")","v":""},""]
[null,null,null,null,null,null,null,{"$f":"IF(DATOS!A1633<>\"\",DATOS!A1633&configuracion!$C$10,\"\")","v":""},""]
[null,null,null,null,null,null,null,{"$f":"IF(DATOS!A1634<>\"\",DATOS!A1634&configuracion!$C$10,\"\")","v":""},""]
[null,null,null,null,null,null,null,{"$f":"IF(DATOS!A1635<>\"\",DATOS!A1635&configuracion!$C$10,\"\")","v":""},""]
[null,null,null,null,null,null,null,{"$f":"IF(DATOS!A1636<>\"\",DATOS!A1636&configuracion!$C$10,\"\")","v":""},""]
[null,null,null,null,null,null,null,{"$f":"IF(DATOS!A1637<>\"\",DATOS!A1637&configuracion!$C$10,\"\")","v":""},""]
[null,null,null,null,null,null,null,{"$f":"IF(DATOS!A1638<>\"\",DATOS!A1638&configuracion!$C$10,\"\")","v":""},""]
[null,null,null,null,null,null,null,{"$f":"IF(DATOS!A1639<>\"\",DATOS!A1639&configuracion!$C$10,\"\")","v":""},""]
[null,null,null,null,null,null,null,{"$f":"IF(DATOS!A1640<>\"\",DATOS!A1640&configuracion!$C$10,\"\")","v":""},""]
[null,null,null,null,null,null,null,{"$f":"IF(DATOS!A1641<>\"\",DATOS!A1641&configuracion!$C$10,\"\")","v":""},""]
[null,null,null,null,null,null,null,{"$f":"IF(DATOS!A1642<>\"\",DATOS!A1642&configuracion!$C$10,\"\")","v":""},""]
[null,null,null,null,null,null,null,{"$f":"IF(DATOS!A1643<>\"\",DATOS!A1643&configuracion!$C$10,\"\")","v":""},""]
[null,null,null,null,null,null,null,{"$f":"IF(DATOS!A1644<>\"\",DATOS!A1644&configuracion!$C$10,\"\")","v":""},""]
[null,null,null,null,null,null,null,{"$f":"IF(DATOS!A1645<>\"\",DATOS!A1645&configuracion!$C$10,\"\")","v":""},""]
[null,null,null,null,null,null,null,{"$f":"IF(DATOS!A1646<>\"\",DATOS!A1646&configuracion!$C$10,\"\")","v":""},""]
[null,null,null,null,null,null,null,{"$f":"IF(DATOS!A1647<>\"\",DATOS!A1647&configuracion!$C$10,\"\")","v":""},""]
[null,null,null,null,null,null,null,{"$f":"IF(DATOS!A1648<>\"\",DATOS!A1648&configuracion!$C$10,\"\")","v":""},""]
[null,null,null,null,null,null,null,{"$f":"IF(DATOS!A1649<>\"\",DATOS!A1649&configuracion!$C$10,\"\")","v":""},""]
[null,null,null,null,null,null,null,{"$f":"IF(DATOS!A1650<>\"\",DATOS!A1650&configuracion!$C$10,\"\")","v":""},""]
[null,null,null,null,null,null,null,{"$f":"IF(DATOS!A1651<>\"\",DATOS!A1651&configuracion!$C$10,\"\")","v":""},""]
[null,null,null,null,null,null,null,{"$f":"IF(DATOS!A1652<>\"\",DATOS!A1652&configuracion!$C$10,\"\")","v":""},""]
[null,null,null,null,null,null,null,{"$f":"IF(DATOS!A1653<>\"\",DATOS!A1653&configuracion!$C$10,\"\")","v":""},""]
[null,null,null,null,null,null,null,{"$f":"IF(DATOS!A1654<>\"\",DATOS!A1654&configuracion!$C$10,\"\")","v":""},""]
[null,null,null,null,null,null,null,{"$f":"IF(DATOS!A1655<>\"\",DATOS!A1655&configuracion!$C$10,\"\")","v":""},""]
[null,null,null,null,null,null,null,{"$f":"IF(DATOS!A1656<>\"\",DATOS!A1656&configuracion!$C$10,\"\")","v":""},""]
[null,null,null,null,null,null,null,{"$f":"IF(DATOS!A1657<>\"\",DATOS!A1657&configuracion!$C$10,\"\")","v":""},""]
[null,null,null,null,null,null,null,{"$f":"IF(DATOS!A1658<>\"\",DATOS!A1658&configuracion!$C$10,\"\")","v":""},""]
[null,null,null,null,null,null,null,{"$f":"IF(DATOS!A1659<>\"\",DATOS!A1659&configuracion!$C$10,\"\")","v":""},""]
[null,null,null,null,null,null,null,{"$f":"IF(DATOS!A1660<>\"\",DATOS!A1660&configuracion!$C$10,\"\")","v":""},""]
[null,null,null,null,null,null,null,{"$f":"IF(DATOS!A1661<>\"\",DATOS!A1661&configuracion!$C$10,\"\")","v":""},""]
[null,null,null,null,null,null,null,{"$f":"IF(DATOS!A1662<>\"\",DATOS!A1662&configuracion!$C$10,\"\")","v":""},""]
[null,null,null,null,null,null,null,{"$f":"IF(DATOS!A1663<>\"\",DATOS!A1663&configuracion!$C$10,\"\")","v":""},""]
[null,null,null,null,null,null,null,{"$f":"IF(DATOS!A1664<>\"\",DATOS!A1664&configuracion!$C$10,\"\")","v":""},""]
[null,null,null,null,null,null,null,{"$f":"IF(DATOS!A1665<>\"\",DATOS!A1665&configuracion!$C$10,\"\")","v":""},""]
[null,null,null,null,null,null,null,{"$f":"IF(DATOS!A1666<>\"\",DATOS!A1666&configuracion!$C$10,\"\")","v":""},""]
[null,null,null,null,null,null,null,{"$f":"IF(DATOS!A1667<>\"\",DATOS!A1667&configuracion!$C$10,\"\")","v":""},""]
[null,null,null,null,null,null,null,{"$f":"IF(DATOS!A1668<>\"\",DATOS!A1668&configuracion!$C$10,\"\")","v":""},{"$f":"IF(B1668=\"\",\"\",TEXT(B1668, \"DD/MM/YYYY HH:MM:SS\"))","v":""}]
[null,null,null,null,null,null,null,{"$f":"IF(DATOS!A1669<>\"\",DATOS!A1669&configuracion!$C$10,\"\")","v":""},""]
[null,null,null,null,null,null,null,{"$f":"IF(DATOS!A1670<>\"\",DATOS!A1670&configuracion!$C$10,\"\")","v":""},""]
[null,null,null,null,null,null,null,{"$f":"IF(DATOS!A1671<>\"\",DATOS!A1671&configuracion!$C$10,\"\")","v":""},""]
[null,null,null,null,null,null,null,{"$f":"IF(DATOS!A1672<>\"\",DATOS!A1672&configuracion!$C$10,\"\")","v":""},""]
[null,null,null,null,null,null,null,{"$f":"IF(DATOS!A1673<>\"\",DATOS!A1673&configuracion!$C$10,\"\")","v":""},""]
[null,null,null,null,null,null,null,{"$f":"IF(DATOS!A1674<>\"\",DATOS!A1674&configuracion!$C$10,\"\")","v":""},""]
[null,null,null,null,null,null,null,{"$f":"IF(DATOS!A1675<>\"\",DATOS!A1675&configuracion!$C$10,\"\")","v":""},""]
[null,null,null,null,null,null,null,{"$f":"IF(DATOS!A1676<>\"\",DATOS!A1676&configuracion!$C$10,\"\")","v":""},""]
[null,null,null,null,null,null,null,{"$f":"IF(DATOS!A1677<>\"\",DATOS!A1677&configuracion!$C$10,\"\")","v":""},""]
[null,null,null,null,null,null,null,{"$f":"IF(DATOS!A1678<>\"\",DATOS!A1678&configuracion!$C$10,\"\")","v":""},""]
[null,null,null,null,null,null,null,{"$f":"IF(DATOS!A1679<>\"\",DATOS!A1679&configuracion!$C$10,\"\")","v":""},""]
[null,null,null,null,null,null,null,{"$f":"IF(DATOS!A1680<>\"\",DATOS!A1680&configuracion!$C$10,\"\")","v":""},""]
[null,null,null,null,null,null,null,{"$f":"IF(DATOS!A1681<>\"\",DATOS!A1681&configuracion!$C$10,\"\")","v":""},""]
[null,null,null,null,null,null,null,{"$f":"IF(DATOS!A1682<>\"\",DATOS!A1682&configuracion!$C$10,\"\")","v":""},""]
[null,null,null,null,null,null,null,{"$f":"IF(DATOS!A1683<>\"\",DATOS!A1683&configuracion!$C$10,\"\")","v":""},""]
[null,null,null,null,null,null,null,{"$f":"IF(DATOS!A1684<>\"\",DATOS!A1684&configuracion!$C$10,\"\")","v":""},""]
[null,null,null,null,null,null,null,{"$f":"IF(DATOS!A1685<>\"\",DATOS!A1685&configuracion!$C$10,\"\")","v":""},""]
[null,null,null,null,null,null,null,{"$f":"IF(DATOS!A1686<>\"\",DATOS!A1686&configuracion!$C$10,\"\")","v":""},""]
[null,null,null,null,null,null,null,{"$f":"IF(DATOS!A1687<>\"\",DATOS!A1687&configuracion!$C$10,\"\")","v":""},""]
[null,null,null,null,null,null,null,{"$f":"IF(DATOS!A1688<>\"\",DATOS!A1688&configuracion!$C$10,\"\")","v":""},""]
[null,null,null,null,null,null,null,{"$f":"IF(DATOS!A1689<>\"\",DATOS!A1689&configuracion!$C$10,\"\")","v":""},""]
[null,null,null,null,null,null,null,{"$f":"IF(DATOS!A1690<>\"\",DATOS!A1690&configuracion!$C$10,\"\")","v":""},""]
[null,null,null,null,null,null,null,{"$f":"IF(DATOS!A1691<>\"\",DATOS!A1691&configuracion!$C$10,\"\")","v":""},""]
[null,null,null,null,null,null,null,{"$f":"IF(DATOS!A1692<>\"\",DATOS!A1692&configuracion!$C$10,\"\")","v":""},""]
[null,null,null,null,null,null,null,{"$f":"IF(DATOS!A1693<>\"\",DATOS!A1693&configuracion!$C$10,\"\")","v":""},""]
[null,null,null,null,null,null,null,{"$f":"IF(DATOS!A1694<>\"\",DATOS!A1694&configuracion!$C$10,\"\")","v":""},""]
[null,null,null,null,null,null,null,{"$f":"IF(DATOS!A1695<>\"\",DATOS!A1695&configuracion!$C$10,\"\")","v":""},""]
[null,null,null,null,null,null,null,{"$f":"IF(DATOS!A1696<>\"\",DATOS!A1696&configuracion!$C$10,\"\")","v":""},""]
[null,null,null,null,null,null,null,{"$f":"IF(DATOS!A1697<>\"\",DATOS!A1697&configuracion!$C$10,\"\")","v":""},""]
[null,null,null,null,null,null,null,{"$f":"IF(DATOS!A1698<>\"\",DATOS!A1698&configuracion!$C$10,\"\")","v":""},""]
[null,null,null,null,null,null,null,{"$f":"IF(DATOS!A1699<>\"\",DATOS!A1699&configuracion!$C$10,\"\")","v":""},""]
[null,null,null,null,null,null,null,{"$f":"IF(DATOS!A1700<>\"\",DATOS!A1700&configuracion!$C$10,\"\")","v":""},""]
[null,null,null,null,null,null,null,{"$f":"IF(DATOS!A1701<>\"\",DATOS!A1701&configuracion!$C$10,\"\")","v":""},""]
[null,null,null,null,null,null,null,{"$f":"IF(DATOS!A1702<>\"\",DATOS!A1702&configuracion!$C$10,\"\")","v":""},""]
[null,null,null,null,null,null,null,{"$f":"IF(DATOS!A1703<>\"\",DATOS!A1703&configuracion!$C$10,\"\")","v":""},""]
[null,null,null,null,null,null,null,{"$f":"IF(DATOS!A1704<>\"\",DATOS!A1704&configuracion!$C$10,\"\")","v":""},""]
[null,null,null,null,null,null,null,{"$f":"IF(DATOS!A1705<>\"\",DATOS!A1705&configuracion!$C$10,\"\")","v":""},""]
[null,null,null,null,null,null,null,{"$f":"IF(DATOS!A1706<>\"\",DATOS!A1706&configuracion!$C$10,\"\")","v":""},""]
[null,null,null,null,null,null,null,{"$f":"IF(DATOS!A1707<>\"\",DATOS!A1707&configuracion!$C$10,\"\")","v":""},""]
[null,null,null,null,null,null,null,{"$f":"IF(DATOS!A1708<>\"\",DATOS!A1708&configuracion!$C$10,\"\")","v":""},""]
[null,null,null,null,null,null,null,{"$f":"IF(DATOS!A1709<>\"\",DATOS!A1709&configuracion!$C$10,\"\")","v":""},""]
[null,null,null,null,null,null,null,{"$f":"IF(DATOS!A1710<>\"\",DATOS!A1710&configuracion!$C$10,\"\")","v":""},""]
[null,null,null,null,null,null,null,{"$f":"IF(DATOS!A1711<>\"\",DATOS!A1711&configuracion!$C$10,\"\")","v":""},""]
[null,null,null,null,null,null,null,{"$f":"IF(DATOS!A1712<>\"\",DATOS!A1712&configuracion!$C$10,\"\")","v":""},""]
[null,null,null,null,null,null,null,{"$f":"IF(DATOS!A1713<>\"\",DATOS!A1713&configuracion!$C$10,\"\")","v":""},""]
[null,null,null,null,null,null,null,{"$f":"IF(DATOS!A1714<>\"\",DATOS!A1714&configuracion!$C$10,\"\")","v":""},""]
[null,null,null,null,null,null,null,{"$f":"IF(DATOS!A1715<>\"\",DATOS!A1715&configuracion!$C$10,\"\")","v":""},""]
[null,null,null,null,null,null,null,{"$f":"IF(DATOS!A1716<>\"\",DATOS!A1716&configuracion!$C$10,\"\")","v":""},""]
[null,null,null,null,null,null,null,{"$f":"IF(DATOS!A1717<>\"\",DATOS!A1717&configuracion!$C$10,\"\")","v":""},""]
[null,null,null,null,null,null,null,{"$f":"IF(DATOS!A1718<>\"\",DATOS!A1718&configuracion!$C$10,\"\")","v":""},""]
[null,null,null,null,null,null,null,{"$f":"IF(DATOS!A1719<>\"\",DATOS!A1719&configuracion!$C$10,\"\")","v":""},""]
[null,null,null,null,null,null,null,{"$f":"IF(DATOS!A1720<>\"\",DATOS!A1720&configuracion!$C$10,\"\")","v":""},""]
[null,null,null,null,null,null,null,{"$f":"IF(DATOS!A1721<>\"\",DATOS!A1721&configuracion!$C$10,\"\")","v":""},""]
[null,null,null,null,null,null,null,{"$f":"IF(DATOS!A1722<>\"\",DATOS!A1722&configuracion!$C$10,\"\")","v":""},""]
[null,null,null,null,null,null,null,{"$f":"IF(DATOS!A1723<>\"\",DATOS!A1723&configuracion!$C$10,\"\")","v":""},""]
[null,null,null,null,null,null,null,{"$f":"IF(DATOS!A1724<>\"\",DATOS!A1724&configuracion!$C$10,\"\")","v":""},""]
[null,null,null,null,null,null,null,{"$f":"IF(DATOS!A1725<>\"\",DATOS!A1725&configuracion!$C$10,\"\")","v":""},""]
[null,null,null,null,null,null,null,{"$f":"IF(DATOS!A1726<>\"\",DATOS!A1726&configuracion!$C$10,\"\")","v":""},""]
[null,null,null,null,null,null,null,{"$f":"IF(DATOS!A1727<>\"\",DATOS!A1727&configuracion!$C$10,\"\")","v":""},""]
[null,null,null,null,null,null,null,{"$f":"IF(DATOS!A1728<>\"\",DATOS!A1728&configuracion!$C$10,\"\")","v":""},""]
[null,null,null,null,null,null,null,{"$f":"IF(DATOS!A1729<>\"\",DATOS!A1729&configuracion!$C$10,\"\")","v":""},""]
[null,null,null,null,null,null,null,{"$f":"IF(DATOS!A1730<>\"\",DATOS!A1730&configuracion!$C$10,\"\")","v":""},""]
[null,null,null,null,null,null,null,{"$f":"IF(DATOS!A1731<>\"\",DATOS!A1731&configuracion!$C$10,\"\")","v":""},""]
[null,null,null,null,null,null,null,{"$f":"IF(DATOS!A1732<>\"\",DATOS!A1732&configuracion!$C$10,\"\")","v":""},{"$f":"IF(B1732=\"\",\"\",TEXT(B1732, \"DD/MM/YYYY HH:MM:SS\"))","v":""}]
[null,null,null,null,null,null,null,{"$f":"IF(DATOS!A1733<>\"\",DATOS!A1733&configuracion!$C$10,\"\")","v":""},""]
[null,null,null,null,null,null,null,{"$f":"IF(DATOS!A1734<>\"\",DATOS!A1734&configuracion!$C$10,\"\")","v":""},""]
[null,null,null,null,null,null,null,{"$f":"IF(DATOS!A1735<>\"\",DATOS!A1735&configuracion!$C$10,\"\")","v":""},""]
[null,null,null,null,null,null,null,{"$f":"IF(DATOS!A1736<>\"\",DATOS!A1736&configuracion!$C$10,\"\")","v":""},""]
[null,null,null,null,null,null,null,{"$f":"IF(DATOS!A1737<>\"\",DATOS!A1737&configuracion!$C$10,\"\")","v":""},""]
[null,null,null,null,null,null,null,{"$f":"IF(DATOS!A1738<>\"\",DATOS!A1738&configuracion!$C$10,\"\")","v":""},""]
[null,null,null,null,null,null,null,{"$f":"IF(DATOS!A1739<>\"\",DATOS!A1739&configuracion!$C$10,\"\")","v":""},""]
[null,null,null,null,null,null,null,{"$f":"IF(DATOS!A1740<>\"\",DATOS!A1740&configuracion!$C$10,\"\")","v":""},""]
[null,null,null,null,null,null,null,{"$f":"IF(DATOS!A1741<>\"\",DATOS!A1741&configuracion!$C$10,\"\")","v":""},""]
[null,null,null,null,null,null,null,{"$f":"IF(DATOS!A1742<>\"\",DATOS!A1742&configuracion!$C$10,\"\")","v":""},""]
[null,null,null,null,null,null,null,{"$f":"IF(DATOS!A1743<>\"\",DATOS!A1743&configuracion!$C$10,\"\")","v":""},""]
[null,null,null,null,null,null,null,{"$f":"IF(DATOS!A1744<>\"\",DATOS!A1744&configuracion!$C$10,\"\")","v":""},""]
[null,null,null,null,null,null,null,{"$f":"IF(DATOS!A1745<>\"\",DATOS!A1745&configuracion!$C$10,\"\")","v":""},""]
[null,null,null,null,null,null,null,{"$f":"IF(DATOS!A1746<>\"\",DATOS!A1746&configuracion!$C$10,\"\")","v":""},""]
[null,null,null,null,null,null,null,{"$f":"IF(DATOS!A1747<>\"\",DATOS!A1747&configuracion!$C$10,\"\")","v":""},""]
[null,null,null,null,null,null,null,{"$f":"IF(DATOS!A1748<>\"\",DATOS!A1748&configuracion!$C$10,\"\")","v":""},""]
[null,null,null,null,null,null,null,{"$f":"IF(DATOS!A1749<>\"\",DATOS!A1749&configuracion!$C$10,\"\")","v":""},""]
[null,null,null,null,null,null,null,{"$f":"IF(DATOS!A1750<>\"\",DATOS!A1750&configuracion!$C$10,\"\")","v":""},""]
[null,null,null,null,null,null,null,{"$f":"IF(DATOS!A1751<>\"\",DATOS!A1751&configuracion!$C$10,\"\")","v":""},""]
[null,null,null,null,null,null,null,{"$f":"IF(DATOS!A1752<>\"\",DATOS!A1752&configuracion!$C$10,\"\")","v":""},""]
[null,null,null,null,null,null,null,{"$f":"IF(DATOS!A1753<>\"\",DATOS!A1753&configuracion!$C$10,\"\")","v":""},""]
[null,null,null,null,null,null,null,{"$f":"IF(DATOS!A1754<>\"\",DATOS!A1754&configuracion!$C$10,\"\")","v":""},""]
[null,null,null,null,null,null,null,{"$f":"IF(DATOS!A1755<>\"\",DATOS!A1755&configuracion!$C$10,\"\")","v":""},""]
[null,null,null,null,null,null,null,{"$f":"IF(DATOS!A1756<>\"\",DATOS!A1756&configuracion!$C$10,\"\")","v":""},""]
[null,null,null,null,null,null,null,{"$f":"IF(DATOS!A1757<>\"\",DATOS!A1757&configuracion!$C$10,\"\")","v":""},""]
[null,null,null,null,null,null,null,{"$f":"IF(DATOS!A1758<>\"\",DATOS!A1758&configuracion!$C$10,\"\")","v":""},""]
[null,null,null,null,null,null,null,{"$f":"IF(DATOS!A1759<>\"\",DATOS!A1759&configuracion!$C$10,\"\")","v":""},""]
[null,null,null,null,null,null,null,{"$f":"IF(DATOS!A1760<>\"\",DATOS!A1760&configuracion!$C$10,\"\")","v":""},""]
[null,null,null,null,null,null,null,{"$f":"IF(DATOS!A1761<>\"\",DATOS!A1761&configuracion!$C$10,\"\")","v":""},""]
[null,null,null,null,null,null,null,{"$f":"IF(DATOS!A1762<>\"\",DATOS!A1762&configuracion!$C$10,\"\")","v":""},""]
[null,null,null,null,null,null,null,{"$f":"IF(DATOS!A1763<>\"\",DATOS!A1763&configuracion!$C$10,\"\")","v":""},""]
[null,null,null,null,null,null,null,{"$f":"IF(DATOS!A1764<>\"\",DATOS!A1764&configuracion!$C$10,\"\")","v":""},""]
[null,null,null,null,null,null,null,{"$f":"IF(DATOS!A1765<>\"\",DATOS!A1765&configuracion!$C$10,\"\")","v":""},""]
[null,null,null,null,null,null,null,{"$f":"IF(DATOS!A1766<>\"\",DATOS!A1766&configuracion!$C$10,\"\")","v":""},""]
[null,null,null,null,null,null,null,{"$f":"IF(DATOS!A1767<>\"\",DATOS!A1767&configuracion!$C$10,\"\")","v":""},""]
[null,null,null,null,null,null,null,{"$f":"IF(DATOS!A1768<>\"\",DATOS!A1768&configuracion!$C$10,\"\")","v":""},""]
[null,null,null,null,null,null,null,{"$f":"IF(DATOS!A1769<>\"\",DATOS!A1769&configuracion!$C$10,\"\")","v":""},""]
[null,null,null,null,null,null,null,{"$f":"IF(DATOS!A1770<>\"\",DATOS!A1770&configuracion!$C$10,\"\")","v":""},""]
[null,null,null,null,null,null,null,{"$f":"IF(DATOS!A1771<>\"\",DATOS!A1771&configuracion!$C$10,\"\")","v":""},""]
[null,null,null,null,null,null,null,{"$f":"IF(DATOS!A1772<>\"\",DATOS!A1772&configuracion!$C$10,\"\")","v":""},""]
[null,null,null,null,null,null,null,{"$f":"IF(DATOS!A1773<>\"\",DATOS!A1773&configuracion!$C$10,\"\")","v":""},""]
[null,null,null,null,null,null,null,{"$f":"IF(DATOS!A1774<>\"\",DATOS!A1774&configuracion!$C$10,\"\")","v":""},""]
[null,null,null,null,null,null,null,{"$f":"IF(DATOS!A1775<>\"\",DATOS!A1775&configuracion!$C$10,\"\")","v":""},""]
[null,null,null,null,null,null,null,{"$f":"IF(DATOS!A1776<>\"\",DATOS!A1776&configuracion!$C$10,\"\")","v":""},""]
[null,null,null,null,null,null,null,{"$f":"IF(DATOS!A1777<>\"\",DATOS!A1777&configuracion!$C$10,\"\")","v":""},""]
[null,null,null,null,null,null,null,{"$f":"IF(DATOS!A1778<>\"\",DATOS!A1778&configuracion!$C$10,\"\")","v":""},""]
[null,null,null,null,null,null,null,{"$f":"IF(DATOS!A1779<>\"\",DATOS!A1779&configuracion!$C$10,\"\")","v":""},""]
[null,null,null,null,null,null,null,{"$f":"IF(DATOS!A1780<>\"\",DATOS!A1780&configuracion!$C$10,\"\")","v":""},""]
[null,null,null,null,null,null,null,{"$f":"IF(DATOS!A1781<>\"\",DATOS!A1781&configuracion!$C$10,\"\")","v":""},""]
[null,null,null,null,null,null,null,{"$f":"IF(DATOS!A1782<>\"\",DATOS!A1782&configuracion!$C$10,\"\")","v":""},""]
[null,null,null,null,null,null,null,{"$f":"IF(DATOS!A1783<>\"\",DATOS!A1783&configuracion!$C$10,\"\")","v":""},""]
[null,null,null,null,null,null,null,{"$f":"IF(DATOS!A1784<>\"\",DATOS!A1784&configuracion!$C$10,\"\")","v":""},""]
[null,null,null,null,null,null,null,{"$f":"IF(DATOS!A1785<>\"\",DATOS!A1785&configuracion!$C$10,\"\")","v":""},""]
[null,null,null,null,null,null,null,{"$f":"IF(DATOS!A1786<>\"\",DATOS!A1786&configuracion!$C$10,\"\")","v":""},""]
[null,null,null,null,null,null,null,{"$f":"IF(DATOS!A1787<>\"\",DATOS!A1787&configuracion!$C$10,\"\")","v":""},""]
[null,null,null,null,null,null,null,{"$f":"IF(DATOS!A1788<>\"\",DATOS!A1788&configuracion!$C$10,\"\")","v":""},""]
[null,null,null,null,null,null,null,{"$f":"IF(DATOS!A1789<>\"\",DATOS!A1789&configuracion!$C$10,\"\")","v":""},""]
[null,null,null,null,null,null,null,{"$f":"IF(DATOS!A1790<>\"\",DATOS!A1790&configuracion!$C$10,\"\")","v":""},""]
[null,null,null,null,null,null,null,{"$f":"IF(DATOS!A1791<>\"\",DATOS!A1791&configuracion!$C$10,\"\")","v":""},""]
[null,null,null,null,null,null,null,{"$f":"IF(DATOS!A1792<>\"\",DATOS!A1792&configuracion!$C$10,\"\")","v":""},""]
[null,null,null,null,null,null,null,{"$f":"IF(DATOS!A1793<>\"\",DATOS!A1793&configuracion!$C$10,\"\")","v":""},""]
[null,null,null,null,null,null,null,{"$f":"IF(DATOS!A1794<>\"\",DATOS!A1794&configuracion!$C$10,\"\")","v":""},""]
[null,null,null,null,null,null,null,{"$f":"IF(DATOS!A1795<>\"\",DATOS!A1795&configuracion!$C$10,\"\")","v":""},""]
[null,null,null,null,null,null,null,{"$f":"IF(DATOS!A1796<>\"\",DATOS!A1796&configuracion!$C$10,\"\")","v":""},{"$f":"IF(B1796=\"\",\"\",TEXT(B1796, \"DD/MM/YYYY HH:MM:SS\"))","v":""}]
[null,null,null,null,null,null,null,{"$f":"IF(DATOS!A1797<>\"\",DATOS!A1797&configuracion!$C$10,\"\")","v":""},""]
[null,null,null,null,null,null,null,{"$f":"IF(DATOS!A1798<>\"\",DATOS!A1798&configuracion!$C$10,\"\")","v":""},""]
[null,null,null,null,null,null,null,{"$f":"IF(DATOS!A1799<>\"\",DATOS!A1799&configuracion!$C$10,\"\")","v":""},""]
[null,null,null,null,null,null,null,{"$f":"IF(DATOS!A1800<>\"\",DATOS!A1800&configuracion!$C$10,\"\")","v":""},""]
[null,null,null,null,null,null,null,{"$f":"IF(DATOS!A1801<>\"\",DATOS!A1801&configuracion!$C$10,\"\")","v":""},""]
[null,null,null,null,null,null,null,{"$f":"IF(DATOS!A1802<>\"\",DATOS!A1802&configuracion!$C$10,\"\")","v":""},""]
[null,null,null,null,null,null,null,{"$f":"IF(DATOS!A1803<>\"\",DATOS!A1803&configuracion!$C$10,\"\")","v":""},""]
[null,null,null,null,null,null,null,{"$f":"IF(DATOS!A1804<>\"\",DATOS!A1804&configuracion!$C$10,\"\")","v":""},""]
[null,null,null,null,null,null,null,{"$f":"IF(DATOS!A1805<>\"\",DATOS!A1805&configuracion!$C$10,\"\")","v":""},""]
[null,null,null,null,null,null,null,{"$f":"IF(DATOS!A1806<>\"\",DATOS!A1806&configuracion!$C$10,\"\")","v":""},""]
[null,null,null,null,null,null,null,{"$f":"IF(DATOS!A1807<>\"\",DATOS!A1807&configuracion!$C$10,\"\")","v":""},""]
[null,null,null,null,null,null,null,{"$f":"IF(DATOS!A1808<>\"\",DATOS!A1808&configuracion!$C$10,\"\")","v":""},""]
[null,null,null,null,null,null,null,{"$f":"IF(DATOS!A1809<>\"\",DATOS!A1809&configuracion!$C$10,\"\")","v":""},""]
[null,null,null,null,null,null,null,{"$f":"IF(DATOS!A1810<>\"\",DATOS!A1810&configuracion!$C$10,\"\")","v":""},""]
[null,null,null,null,null,null,null,{"$f":"IF(DATOS!A1811<>\"\",DATOS!A1811&configuracion!$C$10,\"\")","v":""},""]
[null,null,null,null,null,null,null,{"$f":"IF(DATOS!A1812<>\"\",DATOS!A1812&configuracion!$C$10,\"\")","v":""},""]
[null,null,null,null,null,null,null,{"$f":"IF(DATOS!A1813<>\"\",DATOS!A1813&configuracion!$C$10,\"\")","v":""},""]
[null,null,null,null,null,null,null,{"$f":"IF(DATOS!A1814<>\"\",DATOS!A1814&configuracion!$C$10,\"\")","v":""},""]
[null,null,null,null,null,null,null,{"$f":"IF(DATOS!A1815<>\"\",DATOS!A1815&configuracion!$C$10,\"\")","v":""},""]
[null,null,null,null,null,null,null,{"$f":"IF(DATOS!A1816<>\"\",DATOS!A1816&configuracion!$C$10,\"\")","v":""},""]
[null,null,null,null,null,null,null,{"$f":"IF(DATOS!A1817<>\"\",DATOS!A1817&configuracion!$C$10,\"\")","v":""},""]
[null,null,null,null,null,null,null,{"$f":"IF(DATOS!A1818<>\"\",DATOS!A1818&configuracion!$C$10,\"\")","v":""},""]
[null,null,null,null,null,null,null,{"$f":"IF(DATOS!A1819<>\"\",DATOS!A1819&configuracion!$C$10,\"\")","v":""},""]
[null,null,null,null,null,null,null,{"$f":"IF(DATOS!A1820<>\"\",DATOS!A1820&configuracion!$C$10,\"\")","v":""},""]
[null,null,null,null,null,null,null,{"$f":"IF(DATOS!A1821<>\"\",DATOS!A1821&configuracion!$C$10,\"\")","v":""},""]
[null,null,null,null,null,null,null,{"$f":"IF(DATOS!A1822<>\"\",DATOS!A1822&configuracion!$C$10,\"\")","v":""},""]
[null,null,null,null,null,null,null,{"$f":"IF(DATOS!A1823<>\"\",DATOS!A1823&configuracion!$C$10,\"\")","v":""},""]
[null,null,null,null,null,null,null,{"$f":"IF(DATOS!A1824<>\"\",DATOS!A1824&configuracion!$C$10,\"\")","v":""},""]
[null,null,null,null,null,null,null,{"$f":"IF(DATOS!A1825<>\"\",DATOS!A1825&configuracion!$C$10,\"\")","v":""},""]
[null,null,null,null,null,null,null,{"$f":"IF(DATOS!A1826<>\"\",DATOS!A1826&configuracion!$C$10,\"\")","v":""},""]
[null,null,null,null,null,null,null,{"$f":"IF(DATOS!A1827<>\"\",DATOS!A1827&configuracion!$C$10,\"\")","v":""},""]
[null,null,null,null,null,null,null,{"$f":"IF(DATOS!A1828<>\"\",DATOS!A1828&configuracion!$C$10,\"\")","v":""},""]
[null,null,null,null,null,null,null,{"$f":"IF(DATOS!A1829<>\"\",DATOS!A1829&configuracion!$C$10,\"\")","v":""},""]
[null,null,null,null,null,null,null,{"$f":"IF(DATOS!A1830<>\"\",DATOS!A1830&configuracion!$C$10,\"\")","v":""},""]
[null,null,null,null,null,null,null,{"$f":"IF(DATOS!A1831<>\"\",DATOS!A1831&configuracion!$C$10,\"\")","v":""},""]
[null,null,null,null,null,null,null,{"$f":"IF(DATOS!A1832<>\"\",DATOS!A1832&configuracion!$C$10,\"\")","v":""},""]
[null,null,null,null,null,null,null,{"$f":"IF(DATOS!A1833<>\"\",DATOS!A1833&configuracion!$C$10,\"\")","v":""},""]
[null,null,null,null,null,null,null,{"$f":"IF(DATOS!A1834<>\"\",DATOS!A1834&configuracion!$C$10,\"\")","v":""},""]
[null,null,null,null,null,null,null,{"$f":"IF(DATOS!A1835<>\"\",DATOS!A1835&configuracion!$C$10,\"\")","v":""},""]
[null,null,null,null,null,null,null,{"$f":"IF(DATOS!A1836<>\"\",DATOS!A1836&configuracion!$C$10,\"\")","v":""},""]
[null,null,null,null,null,null,null,{"$f":"IF(DATOS!A1837<>\"\",DATOS!A1837&configuracion!$C$10,\"\")","v":""},""]
[null,null,null,null,null,null,null,{"$f":"IF(DATOS!A1838<>\"\",DATOS!A1838&configuracion!$C$10,\"\")","v":""},""]
[null,null,null,null,null,null,null,{"$f":"IF(DATOS!A1839<>\"\",DATOS!A1839&configuracion!$C$10,\"\")","v":""},""]
[null,null,null,null,null,null,null,{"$f":"IF(DATOS!A1840<>\"\",DATOS!A1840&configuracion!$C$10,\"\")","v":""},""]
[null,null,null,null,null,null,null,{"$f":"IF(DATOS!A1841<>\"\",DATOS!A1841&configuracion!$C$10,\"\")","v":""},""]
[null,null,null,null,null,null,null,{"$f":"IF(DATOS!A1842<>\"\",DATOS!A1842&configuracion!$C$10,\"\")","v":""},""]
[null,null,null,null,null,null,null,{"$f":"IF(DATOS!A1843<>\"\",DATOS!A1843&configuracion!$C$10,\"\")","v":""},""]
[null,null,null,null,null,null,null,{"$f":"IF(DATOS!A1844<>\"\",DATOS!A1844&configuracion!$C$10,\"\")","v":""},""]
[null,null,null,null,null,null,null,{"$f":"IF(DATOS!A1845<>\"\",DATOS!A1845&configuracion!$C$10,\"\")","v":""},""]
[null,null,null,null,null,null,null,{"$f":"IF(DATOS!A1846<>\"\",DATOS!A1846&configuracion!$C$10,\"\")","v":""},""]
[null,null,null,null,null,null,null,{"$f":"IF(DATOS!A1847<>\"\",DATOS!A1847&configuracion!$C$10,\"\")","v":""},""]
[null,null,null,null,null,null,null,{"$f":"IF(DATOS!A1848<>\"\",DATOS!A1848&configuracion!$C$10,\"\")","v":""},""]
[null,null,null,null,null,null,null,{"$f":"IF(DATOS!A1849<>\"\",DATOS!A1849&configuracion!$C$10,\"\")","v":""},""]
[null,null,null,null,null,null,null,{"$f":"IF(DATOS!A1850<>\"\",DATOS!A1850&configuracion!$C$10,\"\")","v":""},""]
[null,null,null,null,null,null,null,{"$f":"IF(DATOS!A1851<>\"\",DATOS!A1851&configuracion!$C$10,\"\")","v":""},""]
[null,null,null,null,null,null,null,{"$f":"IF(DATOS!A1852<>\"\",DATOS!A1852&configuracion!$C$10,\"\")","v":""},""]
[null,null,null,null,null,null,null,{"$f":"IF(DATOS!A1853<>\"\",DATOS!A1853&configuracion!$C$10,\"\")","v":""},""]
[null,null,null,null,null,null,null,{"$f":"IF(DATOS!A1854<>\"\",DATOS!A1854&configuracion!$C$10,\"\")","v":""},""]
[null,null,null,null,null,null,null,{"$f":"IF(DATOS!A1855<>\"\",DATOS!A1855&configuracion!$C$10,\"\")","v":""},""]
[null,null,null,null,null,null,null,{"$f":"IF(DATOS!A1856<>\"\",DATOS!A1856&configuracion!$C$10,\"\")","v":""},""]
[null,null,null,null,null,null,null,{"$f":"IF(DATOS!A1857<>\"\",DATOS!A1857&configuracion!$C$10,\"\")","v":""},""]
[null,null,null,null,null,null,null,{"$f":"IF(DATOS!A1858<>\"\",DATOS!A1858&configuracion!$C$10,\"\")","v":""},""]
[null,null,null,null,null,null,null,{"$f":"IF(DATOS!A1859<>\"\",DATOS!A1859&configuracion!$C$10,\"\")","v":""},""]
[null,null,null,null,null,null,null,{"$f":"IF(DATOS!A1860<>\"\",DATOS!A1860&configuracion!$C$10,\"\")","v":""},{"$f":"IF(B1860=\"\",\"\",TEXT(B1860, \"DD/MM/YYYY HH:MM:SS\"))","v":""}]
[null,null,null,null,null,null,null,{"$f":"IF(DATOS!A1861<>\"\",DATOS!A1861&configuracion!$C$10,\"\")","v":""},""]
[null,null,null,null,null,null,null,{"$f":"IF(DATOS!A1862<>\"\",DATOS!A1862&configuracion!$C$10,\"\")","v":""},""]
[null,null,null,null,null,null,null,{"$f":"IF(DATOS!A1863<>\"\",DATOS!A1863&configuracion!$C$10,\"\")","v":""},""]
[null,null,null,null,null,null,null,{"$f":"IF(DATOS!A1864<>\"\",DATOS!A1864&configuracion!$C$10,\"\")","v":""},""]
[null,null,null,null,null,null,null,{"$f":"IF(DATOS!A1865<>\"\",DATOS!A1865&configuracion!$C$10,\"\")","v":""},""]
[null,null,null,null,null,null,null,{"$f":"IF(DATOS!A1866<>\"\",DATOS!A1866&configuracion!$C$10,\"\")","v":""},""]
[null,null,null,null,null,null,null,{"$f":"IF(DATOS!A1867<>\"\",DATOS!A1867&configuracion!$C$10,\"\")","v":""},""]
[null,null,null,null,null,null,null,{"$f":"IF(DATOS!A1868<>\"\",DATOS!A1868&configuracion!$C$10,\"\")","v":""},""]
[null,null,null,null,null,null,null,{"$f":"IF(DATOS!A1869<>\"\",DATOS!A1869&configuracion!$C$10,\"\")","v":""},""]
[null,null,null,null,null,null,null,{"$f":"IF(DATOS!A1870<>\"\",DATOS!A1870&configuracion!$C$10,\"\")","v":""},""]
[null,null,null,null,null,null,null,{"$f":"IF(DATOS!A1871<>\"\",DATOS!A1871&configuracion!$C$10,\"\")","v":""},""]
[null,null,null,null,null,null,null,{"$f":"IF(DATOS!A1872<>\"\",DATOS!A1872&configuracion!$C$10,\"\")","v":""},""]
[null,null,null,null,null,null,null,{"$f":"IF(DATOS!A1873<>\"\",DATOS!A1873&configuracion!$C$10,\"\")","v":""},""]
[null,null,null,null,null,null,null,{"$f":"IF(DATOS!A1874<>\"\",DATOS!A1874&configuracion!$C$10,\"\")","v":""},""]
[null,null,null,null,null,null,null,{"$f":"IF(DATOS!A1875<>\"\",DATOS!A1875&configuracion!$C$10,\"\")","v":""},""]
[null,null,null,null,null,null,null,{"$f":"IF(DATOS!A1876<>\"\",DATOS!A1876&configuracion!$C$10,\"\")","v":""},""]
[null,null,null,null,null,null,null,{"$f":"IF(DATOS!A1877<>\"\",DATOS!A1877&configuracion!$C$10,\"\")","v":""},""]
[null,null,null,null,null,null,null,{"$f":"IF(DATOS!A1878<>\"\",DATOS!A1878&configuracion!$C$10,\"\")","v":""},""]
[null,null,null,null,null,null,null,{"$f":"IF(DATOS!A1879<>\"\",DATOS!A1879&configuracion!$C$10,\"\")","v":""},""]
[null,null,null,null,null,null,null,{"$f":"IF(DATOS!A1880<>\"\",DATOS!A1880&configuracion!$C$10,\"\")","v":""},""]
[null,null,null,null,null,null,null,{"$f":"IF(DATOS!A1881<>\"\",DATOS!A1881&configuracion!$C$10,\"\")","v":""},""]
[null,null,null,null,null,null,null,{"$f":"IF(DATOS!A1882<>\"\",DATOS!A1882&configuracion!$C$10,\"\")","v":""},""]
[null,null,null,null,null,null,null,{"$f":"IF(DATOS!A1883<>\"\",DATOS!A1883&configuracion!$C$10,\"\")","v":""},""]
[null,null,null,null,null,null,null,{"$f":"IF(DATOS!A1884<>\"\",DATOS!A1884&configuracion!$C$10,\"\")","v":""},""]
[null,null,null,null,null,null,null,{"$f":"IF(DATOS!A1885<>\"\",DATOS!A1885&configuracion!$C$10,\"\")","v":""},""]
[null,null,null,null,null,null,null,{"$f":"IF(DATOS!A1886<>\"\",DATOS!A1886&configuracion!$C$10,\"\")","v":""},""]
[null,null,null,null,null,null,null,{"$f":"IF(DATOS!A1887<>\"\",DATOS!A1887&configuracion!$C$10,\"\")","v":""},""]
[null,null,null,null,null,null,null,{"$f":"IF(DATOS!A1888<>\"\",DATOS!A1888&configuracion!$C$10,\"\")","v":""},""]
[null,null,null,null,null,null,null,{"$f":"IF(DATOS!A1889<>\"\",DATOS!A1889&configuracion!$C$10,\"\")","v":""},""]
[null,null,null,null,null,null,null,{"$f":"IF(DATOS!A1890<>\"\",DATOS!A1890&configuracion!$C$10,\"\")","v":""},""]
[null,null,null,null,null,null,null,{"$f":"IF(DATOS!A1891<>\"\",DATOS!A1891&configuracion!$C$10,\"\")","v":""},""]
[null,null,null,null,null,null,null,{"$f":"IF(DATOS!A1892<>\"\",DATOS!A1892&configuracion!$C$10,\"\")","v":""},""]
[null,null,null,null,null,null,null,{"$f":"IF(DATOS!A1893<>\"\",DATOS!A1893&configuracion!$C$10,\"\")","v":""},""]
[null,null,null,null,null,null,null,{"$f":"IF(DATOS!A1894<>\"\",DATOS!A1894&configuracion!$C$10,\"\")","v":""},""]
[null,null,null,null,null,null,null,{"$f":"IF(DATOS!A1895<>\"\",DATOS!A1895&configuracion!$C$10,\"\")","v":""},""]
[null,null,null,null,null,null,null,{"$f":"IF(DATOS!A1896<>\"\",DATOS!A1896&configuracion!$C$10,\"\")","v":""},""]
[null,null,null,null,null,null,null,{"$f":"IF(DATOS!A1897<>\"\",DATOS!A1897&configuracion!$C$10,\"\")","v":""},""]
[null,null,null,null,null,null,null,{"$f":"IF(DATOS!A1898<>\"\",DATOS!A1898&configuracion!$C$10,\"\")","v":""},""]
[null,null,null,null,null,null,null,{"$f":"IF(DATOS!A1899<>\"\",DATOS!A1899&configuracion!$C$10,\"\")","v":""},""]
[null,null,null,null,null,null,null,{"$f":"IF(DATOS!A1900<>\"\",DATOS!A1900&configuracion!$C$10,\"\")","v":""},""]
[null,null,null,null,null,null,null,{"$f":"IF(DATOS!A1901<>\"\",DATOS!A1901&configuracion!$C$10,\"\")","v":""},""]
[null,null,null,null,null,null,null,{"$f":"IF(DATOS!A1902<>\"\",DATOS!A1902&configuracion!$C$10,\"\")","v":""},""]
[null,null,null,null,null,null,null,{"$f":"IF(DATOS!A1903<>\"\",DATOS!A1903&configuracion!$C$10,\"\")","v":""},""]
[null,null,null,null,null,null,null,{"$f":"IF(DATOS!A1904<>\"\",DATOS!A1904&configuracion!$C$10,\"\")","v":""},""]
[null,null,null,null,null,null,null,{"$f":"IF(DATOS!A1905<>\"\",DATOS!A1905&configuracion!$C$10,\"\")","v":""},""]
[null,null,null,null,null,null,null,{"$f":"IF(DATOS!A1906<>\"\",DATOS!A1906&configuracion!$C$10,\"\")","v":""},""]
[null,null,null,null,null,null,null,{"$f":"IF(DATOS!A1907<>\"\",DATOS!A1907&configuracion!$C$10,\"\")","v":""},""]
[null,null,null,null,null,null,null,{"$f":"IF(DATOS!A1908<>\"\",DATOS!A1908&configuracion!$C$10,\"\")","v":""},""]
[null,null,null,null,null,null,null,{"$f":"IF(DATOS!A1909<>\"\",DATOS!A1909&configuracion!$C$10,\"\")","v":""},""]
[null,null,null,null,null,null,null,{"$f":"IF(DATOS!A1910<>\"\",DATOS!A1910&configuracion!$C$10,\"\")","v":""},""]
[null,null,null,null,null,null,null,{"$f":"IF(DATOS!A1911<>\"\",DATOS!A1911&configuracion!$C$10,\"\")","v":""},""]
[null,null,null,null,null,null,null,{"$f":"IF(DATOS!A1912<>\"\",DATOS!A1912&configuracion!$C$10,\"\")","v":""},""]
[null,null,null,null,null,null,null,{"$f":"IF(DATOS!A1913<>\"\",DATOS!A1913&configuracion!$C$10,\"\")","v":""},""]
[null,null,null,null,null,null,null,{"$f":"IF(DATOS!A1914<>\"\",DATOS!A1914&configuracion!$C$10,\"\")","v":""},""]
[null,null,null,null,null,null,null,{"$f":"IF(DATOS!A1915<>\"\",DATOS!A1915&configuracion!$C$10,\"\")","v":""},""]
[null,null,null,null,null,null,null,{"$f":"IF(DATOS!A1916<>\"\",DATOS!A1916&configuracion!$C$10,\"\")","v":""},""]
[null,null,null,null,null,null,null,{"$f":"IF(DATOS!A1917<>\"\",DATOS!A1917&configuracion!$C$10,\"\")","v":""},""]
[null,null,null,null,null,null,null,{"$f":"IF(DATOS!A1918<>\"\",DATOS!A1918&configuracion!$C$10,\"\")","v":""},""]
[null,null,null,null,null,null,null,{"$f":"IF(DATOS!A1919<>\"\",DATOS!A1919&configuracion!$C$10,\"\")","v":""},""]
[null,null,null,null,null,null,null,{"$f":"IF(DATOS!A1920<>\"\",DATOS!A1920&configuracion!$C$10,\"\")","v":""},""]
[null,null,null,null,null,null,null,{"$f":"IF(DATOS!A1921<>\"\",DATOS!A1921&configuracion!$C$10,\"\")","v":""},""]
[null,null,null,null,null,null,null,{"$f":"IF(DATOS!A1922<>\"\",DATOS!A1922&configuracion!$C$10,\"\")","v":""},""]
[null,null,null,null,null,null,null,{"$f":"IF(DATOS!A1923<>\"\",DATOS!A1923&configuracion!$C$10,\"\")","v":""},""]
[null,null,null,null,null,null,null,{"$f":"IF(DATOS!A1924<>\"\",DATOS!A1924&configuracion!$C$10,\"\")","v":""},{"$f":"IF(B1924=\"\",\"\",TEXT(B1924, \"DD/MM/YYYY HH:MM:SS\"))","v":""}]
[null,null,null,null,null,null,null,{"$f":"IF(DATOS!A1925<>\"\",DATOS!A1925&configuracion!$C$10,\"\")","v":""},""]
[null,null,null,null,null,null,null,{"$f":"IF(DATOS!A1926<>\"\",DATOS!A1926&configuracion!$C$10,\"\")","v":""},""]
[null,null,null,null,null,null,null,{"$f":"IF(DATOS!A1927<>\"\",DATOS!A1927&configuracion!$C$10,\"\")","v":""},""]
[null,null,null,null,null,null,null,{"$f":"IF(DATOS!A1928<>\"\",DATOS!A1928&configuracion!$C$10,\"\")","v":""},""]
[null,null,null,null,null,null,null,{"$f":"IF(DATOS!A1929<>\"\",DATOS!A1929&configuracion!$C$10,\"\")","v":""},""]
[null,null,null,null,null,null,null,{"$f":"IF(DATOS!A1930<>\"\",DATOS!A1930&configuracion!$C$10,\"\")","v":""},""]
[null,null,null,null,null,null,null,{"$f":"IF(DATOS!A1931<>\"\",DATOS!A1931&configuracion!$C$10,\"\")","v":""},""]
[null,null,null,null,null,null,null,{"$f":"IF(DATOS!A1932<>\"\",DATOS!A1932&configuracion!$C$10,\"\")","v":""},""]
[null,null,null,null,null,null,null,{"$f":"IF(DATOS!A1933<>\"\",DATOS!A1933&configuracion!$C$10,\"\")","v":""},""]
[null,null,null,null,null,null,null,{"$f":"IF(DATOS!A1934<>\"\",DATOS!A1934&configuracion!$C$10,\"\")","v":""},""]
[null,null,null,null,null,null,null,{"$f":"IF(DATOS!A1935<>\"\",DATOS!A1935&configuracion!$C$10,\"\")","v":""},""]
[null,null,null,null,null,null,null,{"$f":"IF(DATOS!A1936<>\"\",DATOS!A1936&configuracion!$C$10,\"\")","v":""},""]
[null,null,null,null,null,null,null,{"$f":"IF(DATOS!A1937<>\"\",DATOS!A1937&configuracion!$C$10,\"\")","v":""},""]
[null,null,null,null,null,null,null,{"$f":"IF(DATOS!A1938<>\"\",DATOS!A1938&configuracion!$C$10,\"\")","v":""},""]
[null,null,null,null,null,null,null,{"$f":"IF(DATOS!A1939<>\"\",DATOS!A1939&configuracion!$C$10,\"\")","v":""},""]
[null,null,null,null,null,null,null,{"$f":"IF(DATOS!A1940<>\"\",DATOS!A1940&configuracion!$C$10,\"\")","v":""},""]
[null,null,null,null,null,null,null,{"$f":"IF(DATOS!A1941<>\"\",DATOS!A1941&configuracion!$C$10,\"\")","v":""},""]
[null,null,null,null,null,null,null,{"$f":"IF(DATOS!A1942<>\"\",DATOS!A1942&configuracion!$C$10,\"\")","v":""},""]
[null,null,null,null,null,null,null,{"$f":"IF(DATOS!A1943<>\"\",DATOS!A1943&configuracion!$C$10,\"\")","v":""},""]
[null,null,null,null,null,null,null,{"$f":"IF(DATOS!A1944<>\"\",DATOS!A1944&configuracion!$C$10,\"\")","v":""},""]
[null,null,null,null,null,null,null,{"$f":"IF(DATOS!A1945<>\"\",DATOS!A1945&configuracion!$C$10,\"\")","v":""},""]
[null,null,null,null,null,null,null,{"$f":"IF(DATOS!A1946<>\"\",DATOS!A1946&configuracion!$C$10,\"\")","v":""},""]
[null,null,null,null,null,null,null,{"$f":"IF(DATOS!A1947<>\"\",DATOS!A1947&configuracion!$C$10,\"\")","v":""},""]
[null,null,null,null,null,null,null,{"$f":"IF(DATOS!A1948<>\"\",DATOS!A1948&configuracion!$C$10,\"\")","v":""},""]
[null,null,null,null,null,null,null,{"$f":"IF(DATOS!A1949<>\"\",DATOS!A1949&configuracion!$C$10,\"\")","v":""},""]
[null,null,null,null,null,null,null,{"$f":"IF(DATOS!A1950<>\"\",DATOS!A1950&configuracion!$C$10,\"\")","v":""},""]
[null,null,null,null,null,null,null,{"$f":"IF(DATOS!A1951<>\"\",DATOS!A1951&configuracion!$C$10,\"\")","v":""},""]
[null,null,null,null,null,null,null,{"$f":"IF(DATOS!A1952<>\"\",DATOS!A1952&configuracion!$C$10,\"\")","v":""},""]
[null,null,null,null,null,null,null,{"$f":"IF(DATOS!A1953<>\"\",DATOS!A1953&configuracion!$C$10,\"\")","v":""},""]
[null,null,null,null,null,null,null,{"$f":"IF(DATOS!A1954<>\"\",DATOS!A1954&configuracion!$C$10,\"\")","v":""},""]
[null,null,null,null,null,null,null,{"$f":"IF(DATOS!A1955<>\"\",DATOS!A1955&configuracion!$C$10,\"\")","v":""},""]
[null,null,null,null,null,null,null,{"$f":"IF(DATOS!A1956<>\"\",DATOS!A1956&configuracion!$C$10,\"\")","v":""},""]
[null,null,null,null,null,null,null,{"$f":"IF(DATOS!A1957<>\"\",DATOS!A1957&configuracion!$C$10,\"\")","v":""},""]
[null,null,null,null,null,null,null,{"$f":"IF(DATOS!A1958<>\"\",DATOS!A1958&configuracion!$C$10,\"\")","v":""},""]
[null,null,null,null,null,null,null,{"$f":"IF(DATOS!A1959<>\"\",DATOS!A1959&configuracion!$C$10,\"\")","v":""},""]
[null,null,null,null,null,null,null,{"$f":"IF(DATOS!A1960<>\"\",DATOS!A1960&configuracion!$C$10,\"\")","v":""},""]
[null,null,null,null,null,null,null,{"$f":"IF(DATOS!A1961<>\"\",DATOS!A1961&configuracion!$C$10,\"\")","v":""},""]
[null,null,null,null,null,null,null,{"$f":"IF(DATOS!A1962<>\"\",DATOS!A1962&configuracion!$C$10,\"\")","v":""},""]
[null,null,null,null,null,null,null,{"$f":"IF(DATOS!A1963<>\"\",DATOS!A1963&configuracion!$C$10,\"\")","v":""},""]
[null,null,null,null,null,null,null,{"$f":"IF(DATOS!A1964<>\"\",DATOS!A1964&configuracion!$C$10,\"\")","v":""},""]
[null,null,null,null,null,null,null,{"$f":"IF(DATOS!A1965<>\"\",DATOS!A1965&configuracion!$C$10,\"\")","v":""},""]
[null,null,null,null,null,null,null,{"$f":"IF(DATOS!A1966<>\"\",DATOS!A1966&configuracion!$C$10,\"\")","v":""},""]
[null,null,null,null,null,null,null,{"$f":"IF(DATOS!A1967<>\"\",DATOS!A1967&configuracion!$C$10,\"\")","v":""},""]
[null,null,null,null,null,null,null,{"$f":"IF(DATOS!A1968<>\"\",DATOS!A1968&configuracion!$C$10,\"\")","v":""},""]
[null,null,null,null,null,null,null,{"$f":"IF(DATOS!A1969<>\"\",DATOS!A1969&configuracion!$C$10,\"\")","v":""},""]
[null,null,null,null,null,null,null,{"$f":"IF(DATOS!A1970<>\"\",DATOS!A1970&configuracion!$C$10,\"\")","v":""},""]
[null,null,null,null,null,null,null,{"$f":"IF(DATOS!A1971<>\"\",DATOS!A1971&configuracion!$C$10,\"\")","v":""},""]
[null,null,null,null,null,null,null,{"$f":"IF(DATOS!A1972<>\"\",DATOS!A1972&configuracion!$C$10,\"\")","v":""},""]
[null,null,null,null,null,null,null,{"$f":"IF(DATOS!A1973<>\"\",DATOS!A1973&configuracion!$C$10,\"\")","v":""},""]
[null,null,null,null,null,null,null,{"$f":"IF(DATOS!A1974<>\"\",DATOS!A1974&configuracion!$C$10,\"\")","v":""},""]
[null,null,null,null,null,null,null,{"$f":"IF(DATOS!A1975<>\"\",DATOS!A1975&configuracion!$C$10,\"\")","v":""},""]
[null,null,null,null,null,null,null,{"$f":"IF(DATOS!A1976<>\"\",DATOS!A1976&configuracion!$C$10,\"\")","v":""},""]
[null,null,null,null,null,null,null,{"$f":"IF(DATOS!A1977<>\"\",DATOS!A1977&configuracion!$C$10,\"\")","v":""},""]
[null,null,null,null,null,null,null,{"$f":"IF(DATOS!A1978<>\"\",DATOS!A1978&configuracion!$C$10,\"\")","v":""},""]
[null,null,null,null,null,null,null,{"$f":"IF(DATOS!A1979<>\"\",DATOS!A1979&configuracion!$C$10,\"\")","v":""},""]
[null,null,null,null,null,null,null,{"$f":"IF(DATOS!A1980<>\"\",DATOS!A1980&configuracion!$C$10,\"\")","v":""},""]
[null,null,null,null,null,null,null,{"$f":"IF(DATOS!A1981<>\"\",DATOS!A1981&configuracion!$C$10,\"\")","v":""},""]
[null,null,null,null,null,null,null,{"$f":"IF(DATOS!A1982<>\"\",DATOS!A1982&configuracion!$C$10,\"\")","v":""},""]
[null,null,null,null,null,null,null,{"$f":"IF(DATOS!A1983<>\"\",DATOS!A1983&configuracion!$C$10,\"\")","v":""},""]
[null,null,null,null,null,null,null,{"$f":"IF(DATOS!A1984<>\"\",DATOS!A1984&configuracion!$C$10,\"\")","v":""},""]
[null,null,null,null,null,null,null,{"$f":"IF(DATOS!A1985<>\"\",DATOS!A1985&configuracion!$C$10,\"\")","v":""},""]
[null,null,null,null,null,null,null,{"$f":"IF(DATOS!A1986<>\"\",DATOS!A1986&configuracion!$C$10,\"\")","v":""},""]
[null,null,null,null,null,null,null,{"$f":"IF(DATOS!A1987<>\"\",DATOS!A1987&configuracion!$C$10,\"\")","v":""},""]
[null,null,null,null,null,null,null,{"$f":"IF(DATOS!A1988<>\"\",DATOS!A1988&configuracion!$C$10,\"\")","v":""},{"$f":"IF(B1988=\"\",\"\",TEXT(B1988, \"DD/MM/YYYY HH:MM:SS\"))","v":""}]
[null,null,null,null,null,null,null,{"$f":"IF(DATOS!A1989<>\"\",DATOS!A1989&configuracion!$C$10,\"\")","v":""},""]
[null,null,null,null,null,null,null,{"$f":"IF(DATOS!A1990<>\"\",DATOS!A1990&configuracion!$C$10,\"\")","v":""},""]
[null,null,null,null,null,null,null,{"$f":"IF(DATOS!A1991<>\"\",DATOS!A1991&configuracion!$C$10,\"\")","v":""},""]
[null,null,null,null,null,null,null,{"$f":"IF(DATOS!A1992<>\"\",DATOS!A1992&configuracion!$C$10,\"\")","v":""},""]
[null,null,null,null,null,null,null,{"$f":"IF(DATOS!A1993<>\"\",DATOS!A1993&configuracion!$C$10,\"\")","v":""},""]
[null,null,null,null,null,null,null,{"$f":"IF(DATOS!A1994<>\"\",DATOS!A1994&configuracion!$C$10,\"\")","v":""},""]
[null,null,null,null,null,null,null,{"$f":"IF(DATOS!A1995<>\"\",DATOS!A1995&configuracion!$C$10,\"\")","v":""},""]
[null,null,null,null,null,null,null,{"$f":"IF(DATOS!A1996<>\"\",DATOS!A1996&configuracion!$C$10,\"\")","v":""},""]
[null,null,null,null,null,null,null,{"$f":"IF(DATOS!A1997<>\"\",DATOS!A1997&configuracion!$C$10,\"\")","v":""},""]
[null,null,null,null,null,null,null,{"$f":"IF(DATOS!A1998<>\"\",DATOS!A1998&configuracion!$C$10,\"\")","v":""},""]
[null,null,null,null,null,null,null,{"$f":"IF(DATOS!A1999<>\"\",DATOS!A1999&configuracion!$C$10,\"\")","v":""},""]
[null,null,null,null,null,null,null,{"$f":"IF(DATOS!A2000<>\"\",DATOS!A2000&configuracion!$C$10,\"\")","v":""},""]
[null,null,null,null,null,null,null,{"$f":"IF(DATOS!A2004<>\"\",DATOS!A2004&configuracion!$C$10,\"\")","v":""},""]
[null,null,null,null,null,null,null,{"$f":"IF(DATOS!A2011<>\"\",DATOS!A2011&configuracion!$C$10,\"\")","v":""},""]
[null,null,null,null,null,null,null,{"$f":"IF(DATOS!A2014<>\"\",DATOS!A2014&configuracion!$C$10,\"\")","v":""},""]
[null,null,null,null,null,null,null,{"$f":"IF(DATOS!A2020<>\"\",DATOS!A2020&configuracion!$C$10,\"\")","v":""},""]
[null,null,null,null,null,null,null,{"$f":"IF(DATOS!A2031<>\"\",DATOS!A2031&configuracion!$C$10,\"\")","v":""},""]
[null,null,null,null,null,null,null,{"$f":"IF(DATOS!A2034<>\"\",DATOS!A2034&configuracion!$C$10,\"\")","v":""},""]
[null,null,null,null,null,null,null,{"$f":"IF(DATOS!A2041<>\"\",DATOS!A2041&configuracion!$C$10,\"\")","v":""},""]
[null,null,null,null,null,null,null,{"$f":"IF(DATOS!A2046<>\"\",DATOS!A2046&configuracion!$C$10,\"\")","v":""},""]
[null,null,null,null,null,null,null,{"$f":"IF(DATOS!A2052<>\"\",DATOS!A2052&configuracion!$C$10,\"\")","v":""},{"$f":"IF(B2052=\"\",\"\",TEXT(B2052, \"DD/MM/YYYY HH:MM:SS\"))","v":""}]
[null,null,null,null,null,null,null,{"$f":"IF(DATOS!A2061<>\"\",DATOS!A2061&configuracion!$C$10,\"\")","v":""},""]
[null,null,null,null,null,null,null,{"$f":"IF(DATOS!A2064<>\"\",DATOS!A2064&configuracion!$C$10,\"\")","v":""},""]
[null,null,null,null,null,null,null,{"$f":"IF(DATOS!A2069<>\"\",DATOS!A2069&configuracion!$C$10,\"\")","v":""},""]
[null,null,null,null,null,null,null,{"$f":"IF(DATOS!A2081<>\"\",DATOS!A2081&configuracion!$C$10,\"\")","v":""},""]
[null,null,null,null,null,null,null,{"$f":"IF(DATOS!A2084<>\"\",DATOS!A2084&configuracion!$C$10,\"\")","v":""},""]
[null,null,null,null,null,null,null,{"$f":"IF(DATOS!A2091<>\"\",DATOS!A2091&configuracion!$C$10,\"\")","v":""},""]
[null,null,null,null,null,null,null,{"$f":"IF(DATOS!A2095<>\"\",DATOS!A2095&configuracion!$C$10,\"\")","v":""},""]
[null,null,null,null,null,null,null,{"$f":"IF(DATOS!A2102<>\"\",DATOS!A2102&configuracion!$C$10,\"\")","v":""},""]
[null,null,null,null,null,null,null,{"$f":"IF(DATOS!A2111<>\"\",DATOS!A2111&configuracion!$C$10,\"\")","v":""},""]
[null,null,null,null,null,null,null,{"$f":"IF(DATOS!A2114<>\"\",DATOS!A2114&configuracion!$C$10,\"\")","v":""},""]
[null,null,null,null,null,null,null,{"$f":"IF(DATOS!A2125<>\"\",DATOS!A2125&configuracion!$C$10,\"\")","v":""},""]
[null,null,null,null,null,null,null,{"$f":"IF(DATOS!A2131<>\"\",DATOS!A2131&configuracion!$C$10,\"\")","v":""},""]
[null,null,null,null,null,null,null,{"$f":"IF(DATOS!A2132<>\"\",DATOS!A2132&configuracion!$C$10,\"\")","v":""},""]
[null,null,null,null,null,null,null,{"$f":"IF(DATOS!A2141<>\"\",DATOS!A2141&configuracion!$C$10,\"\")","v":""},""]
[null,null,null,null,null,null,null,{"$f":"IF(DATOS!A2144<>\"\",DATOS!A2144&configuracion!$C$10,\"\")","v":""},""]
[null,null,null,null,null,null,null,{"$f":"IF(DATOS!A2152<>\"\",DATOS!A2152&configuracion!$C$10,\"\")","v":""},""]
[null,null,null,null,null,null,null,{"$f":"IF(DATOS!A2161<>\"\",DATOS!A2161&configuracion!$C$10,\"\")","v":""},""]
[null,null,null,null,null,null,null,{"$f":"IF(DATOS!A2164<>\"\",DATOS!A2164&configuracion!$C$10,\"\")","v":""},""]
[null,null,null,null,null,null,null,{"$f":"IF(DATOS!A2174<>\"\",DATOS!A2174&configuracion!$C$10,\"\")","v":""},""]
[null,null,null,null,null,null,null,{"$f":"IF(DATOS!A2181<>\"\",DATOS!A2181&configuracion!$C$10,\"\")","v":""},""]
[null,null,null,null,null,null,null,{"$f":"IF(DATOS!A2182<>\"\",DATOS!A2182&configuracion!$C$10,\"\")","v":""},""]
[null,null,null,null,null,null,null,{"$f":"IF(DATOS!A2191<>\"\",DATOS!A2191&configuracion!$C$10,\"\")","v":""},""]
[null,null,null,null,null,null,null,{"$f":"IF(DATOS!A2200<>\"\",DATOS!A2200&configuracion!$C$10,\"\")","v":""},""]
[null,null,null,null,null,null,null,{"$f":"IF(DATOS!A2202<>\"\",DATOS!A2202&configuracion!$C$10,\"\")","v":""},""]
[null,null,null,null,null,null,null,{"$f":"IF(DATOS!A2211<>\"\",DATOS!A2211&configuracion!$C$10,\"\")","v":""},""]
[null,null,null,null,null,null,null,{"$f":"IF(DATOS!A2214<>\"\",DATOS!A2214&configuracion!$C$10,\"\")","v":""},""]
[null,null,null,null,null,null,null,{"$f":"IF(DATOS!A2223<>\"\",DATOS!A2223&configuracion!$C$10,\"\")","v":""},""]
[null,null,null,null,null,null,null,{"$f":"IF(DATOS!A2231<>\"\",DATOS!A2231&configuracion!$C$10,\"\")","v":""},""]
[null,null,null,null,null,null,null,{"$f":"IF(DATOS!A2232<>\"\",DATOS!A2232&configuracion!$C$10,\"\")","v":""},""]
[null,null,null,null,null,null,null,{"$f":"IF(DATOS!A2241<>\"\",DATOS!A2241&configuracion!$C$10,\"\")","v":""},""]
[null,null,null,null,null,null,null,{"$f":"IF(DATOS!A2249<>\"\",DATOS!A2249&configuracion!$C$10,\"\")","v":""},""]
[null,null,null,null,null,null,null,{"$f":"IF(DATOS!A2252<>\"\",DATOS!A2252&configuracion!$C$10,\"\")","v":""},""]
[null,null,null,null,null,null,null,{"$f":"IF(DATOS!A2261<>\"\",DATOS!A2261&configuracion!$C$10,\"\")","v":""},""]
[null,null,null,null,null,null,null,{"$f":"IF(DATOS!A2268<>\"\",DATOS!A2268&configuracion!$C$10,\"\")","v":""},""]
[null,null,null,null,null,null,null,{"$f":"IF(DATOS!A2272<>\"\",DATOS!A2272&configuracion!$C$10,\"\")","v":""},""]
[null,null,null,null,null,null,null,{"$f":"IF(DATOS!A2281<>\"\",DATOS!A2281&configuracion!$C$10,\"\")","v":""},""]
[null,null,null,null,null,null,null,{"$f":"IF(DATOS!A2282<>\"\",DATOS!A2282&configuracion!$C$10,\"\")","v":""},""]
[null,null,null,null,null,null,null,{"$f":"IF(DATOS!A2291<>\"\",DATOS!A2291&configuracion!$C$10,\"\")","v":""},""]
[null,null,null,null,null,null,null,{"$f":"IF(DATOS!A2298<>\"\",DATOS!A2298&configuracion!$C$10,\"\")","v":""},""]
[null,null,null,null,null,null,null,{"$f":"IF(DATOS!A2302<>\"\",DATOS!A2302&configuracion!$C$10,\"\")","v":""},""]
[null,null,null,null,null,null,null,{"$f":"IF(DATOS!A2311<>\"\",DATOS!A2311&configuracion!$C$10,\"\")","v":""},""]
[null,null,null,null,null,null,null,{"$f":"IF(DATOS!A2318<>\"\",DATOS!A2318&configuracion!$C$10,\"\")","v":""},""]
[null,null,null,null,null,null,null,{"$f":"IF(DATOS!A2321<>\"\",DATOS!A2321&configuracion!$C$10,\"\")","v":""},""]
[null,null,null,null,null,null,null,{"$f":"IF(DATOS!A2331<>\"\",DATOS!A2331&configuracion!$C$10,\"\")","v":""},""]
[null,null,null,null,null,null,null,{"$f":"IF(DATOS!A2332<>\"\",DATOS!A2332&configuracion!$C$10,\"\")","v":""},""]
[null,null,null,null,null,null,null,{"$f":"IF(DATOS!A2341<>\"\",DATOS!A2341&configuracion!$C$10,\"\")","v":""},""]
[null,null,null,null,null,null,null,{"$f":"IF(DATOS!A2344<>\"\",DATOS!A2344&configuracion!$C$10,\"\")","v":""},""]
[null,null,null,null,null,null,null,{"$f":"IF(DATOS!A2352<>\"\",DATOS!A2352&configuracion!$C$10,\"\")","v":""},""]
[null,null,null,null,null,null,null,{"$f":"IF(DATOS!A2361<>\"\",DATOS!A2361&configuracion!$C$10,\"\")","v":""},""]
[null,null,null,null,null,null,null,{"$f":"IF(DATOS!A2368<>\"\",DATOS!A2368&configuracion!$C$10,\"\")","v":""},""]
[null,null,null,null,null,null,null,{"$f":"IF(DATOS!A2370<>\"\",DATOS!A2370&configuracion!$C$10,\"\")","v":""},""]
[null,null,null,null,null,null,null,{"$f":"IF(DATOS!A2381<>\"\",DATOS!A2381&configuracion!$C$10,\"\")","v":""},""]
[null,null,null,null,null,null,null,{"$f":"IF(DATOS!A2382<>\"\",DATOS!A2382&configuracion!$C$10,\"\")","v":""},""]
[null,null,null,null,null,null,null,{"$f":"IF(DATOS!A2391<>\"\",DATOS!A2391&configuracion!$C$10,\"\")","v":""},""]
[null,null,null,null,null,null,null,{"$f":"IF(DATOS!A2400<>\"\",DATOS!A2400&configuracion!$C$10,\"\")","v":""},""]
[null,null,null,null,null,null,null,{"$f":"IF(DATOS!A2402<>\"\",DATOS!A2402&configuracion!$C$10,\"\")","v":""},""]
[null,null,null,null,null,null,null,{"$f":"IF(DATOS!A2411<>\"\",DATOS!A2411&configuracion!$C$10,\"\")","v":""},""]
[null,null,null,null,null,null,null,{"$f":"IF(DATOS!A2418<>\"\",DATOS!A2418&configuracion!$C$10,\"\")","v":""},""]
[null,null,null,null,null,null,null,{"$f":"IF(DATOS!A2419<>\"\",DATOS!A2419&configuracion!$C$10,\"\")","v":""},""]
[null,null,null,null,null,null,null,{"$f":"IF(DATOS!A2431<>\"\",DATOS!A2431&configuracion!$C$10,\"\")","v":""},""]
[null,null,null,null,null,null,null,{"$f":"IF(DATOS!A2432<>\"\",DATOS!A2432&configuracion!$C$10,\"\")","v":""},""]
[null,null,null,null,null,null,null,{"$f":"IF(DATOS!A2441<>\"\",DATOS!A2441&configuracion!$C$10,\"\")","v":""},""]
[null,null,null,null,null,null,null,{"$f":"IF(DATOS!A2449<>\"\",DATOS!A2449&configuracion!$C$10,\"\")","v":""},""]
[null,null,null,null,null,null,null,{"$f":"IF(DATOS!A2452<>\"\",DATOS!A2452&configuracion!$C$10,\"\")","v":""},""]
[null,null,null,null,null,null,null,{"$f":"IF(DATOS!A2461<>\"\",DATOS!A2461&configuracion!$C$10,\"\")","v":""},""]
[null,null,null,null,null,null,null,{"$f":"IF(DATOS!A2468<>\"\",DATOS!A2468&configuracion!$C$10,\"\")","v":""},""]
[null,null,null,null,null,null,null,{"$f":"IF(DATOS!A2475<>\"\",DATOS!A2475&configuracion!$C$10,\"\")","v":""},""]
[null,null,null,null,null,null,null,{"$f":"IF(DATOS!A2479<>\"\",DATOS!A2479&configuracion!$C$10,\"\")","v":""},""]
[null,null,null,null,null,null,null,{"$f":"IF(DATOS!A2482<>\"\",DATOS!A2482&configuracion!$C$10,\"\")","v":""},""]
[null,null,null,null,null,null,null,{"$f":"IF(DATOS!A2491<>\"\",DATOS!A2491&configuracion!$C$10,\"\")","v":""},""]
[null,null,null,null,null,null,null,{"$f":"IF(DATOS!A2498<>\"\",DATOS!A2498&configuracion!$C$10,\"\")","v":""},""]
[null,null,null,null,null,null,null,{"$f":"IF(DATOS!A2502<>\"\",DATOS!A2502&configuracion!$C$10,\"\")","v":""},""]
[null,null,null,null,null,null,null,{"$f":"IF(DATOS!A2511<>\"\",DATOS!A2511&configuracion!$C$10,\"\")","v":""},""]
[null,null,null,null,null,null,null,{"$f":"IF(DATOS!A2518<>\"\",DATOS!A2518&configuracion!$C$10,\"\")","v":""},""]
[null,null,null,null,null,null,null,{"$f":"IF(DATOS!A2524<>\"\",DATOS!A2524&configuracion!$C$10,\"\")","v":""},""]
[null,null,null,null,null,null,null,{"$f":"IF(DATOS!A2529<>\"\",DATOS!A2529&configuracion!$C$10,\"\")","v":""},""]
[null,null,null,null,null,null,null,{"$f":"IF(DATOS!A2532<>\"\",DATOS!A2532&configuracion!$C$10,\"\")","v":""},""]
[null,null,null,null,null,null,null,{"$f":"IF(DATOS!A2541<>\"\",DATOS!A2541&configuracion!$C$10,\"\")","v":""},""]
[null,null,null,null,null,null,null,{"$f":"IF(DATOS!A2547<>\"\",DATOS!A2547&configuracion!$C$10,\"\")","v":""},""]
[null,null,null,null,null,null,null,{"$f":"IF(DATOS!A2552<>\"\",DATOS!A2552&configuracion!$C$10,\"\")","v":""},""]
[null,null,null,null,null,null,null,{"$f":"IF(DATOS!A2561<>\"\",DATOS!A2561&configuracion!$C$10,\"\")","v":""},""]
[null,null,null,null,null,null,null,{"$f":"IF(DATOS!A2568<>\"\",DATOS!A2568&configuracion!$C$10,\"\")","v":""},""]
[null,null,null,null,null,null,null,{"$f":"IF(DATOS!A2573<>\"\",DATOS!A2573&configuracion!$C$10,\"\")","v":""},""]
[null,null,null,null,null,null,null,{"$f":"IF(DATOS!A2579<>\"\",DATOS!A2579&configuracion!$C$10,\"\")","v":""},""]
[null,null,null,null,null,null,null,{"$f":"IF(DATOS!A2582<>\"\",DATOS!A2582&configuracion!$C$10,\"\")","v":""},""]
[null,null,null,null,null,null,null,{"$f":"IF(DATOS!A2591<>\"\",DATOS!A2591&configuracion!$C$10,\"\")","v":""},""]
[null,null,null,null,null,null,null,{"$f":"IF(DATOS!A2596<>\"\",DATOS!A2596&configuracion!$C$10,\"\")","v":""},""]
[null,null,null,null,null,null,null,{"$f":"IF(DATOS!A2602<>\"\",DATOS!A2602&configuracion!$C$10,\"\")","v":""},""]
[null,null,null,null,null,null,null,{"$f":"IF(DATOS!A2609<>\"\",DATOS!A2609&configuracion!$C$10,\"\")","v":""},""]
[null,null,null,null,null,null,null,{"$f":"IF(DATOS!A2618<>\"\",DATOS!A2618&configuracion!$C$10,\"\")","v":""},""]
[null,null,null,null,null,null,null,{"$f":"IF(DATOS!A2622<>\"\",DATOS!A2622&configuracion!$C$10,\"\")","v":""},""]
[null,null,null,null,null,null,null,{"$f":"IF(DATOS!A2629<>\"\",DATOS!A2629&configuracion!$C$10,\"\")","v":""},""]
[null,null,null,null,null,null,null,{"$f":"IF(DATOS!A2632<>\"\",DATOS!A2632&configuracion!$C$10,\"\")","v":""},""]
[null,null,null,null,null,null,null,{"$f":"IF(DATOS!A2641<>\"\",DATOS!A2641&configuracion!$C$10,\"\")","v":""},""]
[null,null,null,null,null,null,null,{"$f":"IF(DATOS!A2645<>\"\",DATOS!A2645&configuracion!$C$10,\"\")","v":""},""]
[null,null,null,null,null,null,null,{"$f":"IF(DATOS!A2652<>\"\",DATOS!A2652&configuracion!$C$10,\"\")","v":""},""]
[null,null,null,null,null,null,null,{"$f":"IF(DATOS!A2659<>\"\",DATOS!A2659&configuracion!$C$10,\"\")","v":""},""]
[null,null,null,null,null,null,null,{"$f":"IF(DATOS!A2668<>\"\",DATOS!A2668&configuracion!$C$10,\"\")","v":""},""]
[null,null,null,null,null,null,null,{"$f":"IF(DATOS!A2671<>\"\",DATOS!A2671&configuracion!$C$10,\"\")","v":""},""]
[null,null,null,null,null,null,null,{"$f":"IF(DATOS!A2679<>\"\",DATOS!A2679&configuracion!$C$10,\"\")","v":""},""]
[null,null,null,null,null,null,null,{"$f":"IF(DATOS!A2682<>\"\",DATOS!A2682&configuracion!$C$10,\"\")","v":""},""]
[null,null,null,null,null,null,null,{"$f":"IF(DATOS!A2689<>\"\",DATOS!A2689&configuracion!$C$10,\"\")","v":""},""]
[null,null,null,null,null,null,null,{"$f":"IF(DATOS!A2694<>\"\",DATOS!A2694&configuracion!$C$10,\"\")","v":""},""]
[null,null,null,null,null,null,null,{"$f":"IF(DATOS!A2702<>\"\",DATOS!A2702&configuracion!$C$10,\"\")","v":""},""]
[null,null,null,null,null,null,null,{"$f":"IF(DATOS!A2709<>\"\",DATOS!A2709&configuracion!$C$10,\"\")","v":""},""]
[null,null,null,null,null,null,null,{"$f":"IF(DATOS!A2718<>\"\",DATOS!A2718&configuracion!$C$10,\"\")","v":""},""]
[null,null,null,null,null,null,null,{"$f":"IF(DATOS!A2720<>\"\",DATOS!A2720&configuracion!$C$10,\"\")","v":""},""]
[null,null,null,null,null,null,null,{"$f":"IF(DATOS!A2729<>\"\",DATOS!A2729&configuracion!$C$10,\"\")","v":""},""]
[null,null,null,null,null,null,null,{"$f":"IF(DATOS!A2732<>\"\",DATOS!A2732&configuracion!$C$10,\"\")","v":""},""]
[null,null,null,null,null,null,null,{"$f":"IF(DATOS!A2739<>\"\",DATOS!A2739&configuracion!$C$10,\"\")","v":""},""]
[null,null,null,null,null,null,null,{"$f":"IF(DATOS!A2750<>\"\",DATOS!A2750&configuracion!$C$10,\"\")","v":""},""]
[null,null,null,null,null,null,null,{"$f":"IF(DATOS!A2752<>\"\",DATOS!A2752&configuracion!$C$10,\"\")","v":""},""]
[null,null,null,null,null,null,null,{"$f":"IF(DATOS!A2759<>\"\",DATOS!A2759&configuracion!$C$10,\"\")","v":""},""]
[null,null,null,null,null,null,null,{"$f":"IF(DATOS!A2768<>\"\",DATOS!A2768&configuracion!$C$10,\"\")","v":""},""]
[null,null,null,null,null,null,null,{"$f":"IF(DATOS!A2769<>\"\",DATOS!A2769&configuracion!$C$10,\"\")","v":""},""]
[null,null,null,null,null,null,null,{"$f":"IF(DATOS!A2779<>\"\",DATOS!A2779&configuracion!$C$10,\"\")","v":""},""]
[null,null,null,null,null,null,null,{"$f":"IF(DATOS!A2782<>\"\",DATOS!A2782&configuracion!$C$10,\"\")","v":""},""]
[null,null,null,null,null,null,null,{"$f":"IF(DATOS!A2789<>\"\",DATOS!A2789&configuracion!$C$10,\"\")","v":""},""]
[null,null,null,null,null,null,null,{"$f":"IF(DATOS!A2799<>\"\",DATOS!A2799&configuracion!$C$10,\"\")","v":""},""]
[null,null,null,null,null,null,null,{"$f":"IF(DATOS!A2802<>\"\",DATOS!A2802&configuracion!$C$10,\"\")","v":""},""]
[null,null,null,null,null,null,null,{"$f":"IF(DATOS!A2809<>\"\",DATOS!A2809&configuracion!$C$10,\"\")","v":""},""]
[null,null,null,null,null,null,null,{"$f":"IF(DATOS!A2818<>\"\",DATOS!A2818&configuracion!$C$10,\"\")","v":""},""]
[null,null,null,null,null,null,null,{"$f":"IF(DATOS!A2822<>\"\",DATOS!A2822&configuracion!$C$10,\"\")","v":""},""]
[null,null,null,null,null,null,null,{"$f":"IF(DATOS!A2829<>\"\",DATOS!A2829&configuracion!$C$10,\"\")","v":""},""]
[null,null,null,null,null,null,null,{"$f":"IF(DATOS!A2832<>\"\",DATOS!A2832&configuracion!$C$10,\"\")","v":""},""]
[null,null,null,null,null,null,null,{"$f":"IF(DATOS!A2839<>\"\",DATOS!A2839&configuracion!$C$10,\"\")","v":""},""]
[null,null,null,null,null,null,null,{"$f":"IF(DATOS!A2848<>\"\",DATOS!A2848&configuracion!$C$10,\"\")","v":""},""]
[null,null,null,null,null,null,null,{"$f":"IF(DATOS!A2852<>\"\",DATOS!A2852&configuracion!$C$10,\"\")","v":""},""]
[null,null,null,null,null,null,null,{"$f":"IF(DATOS!A2859<>\"\",DATOS!A2859&configuracion!$C$10,\"\")","v":""},""]
[null,null,null,null,null,null,null,{"$f":"IF(DATOS!A2868<>\"\",DATOS!A2868&configuracion!$C$10,\"\")","v":""},""]
[null,null,null,null,null,null,null,{"$f":"IF(DATOS!A2871<>\"\",DATOS!A2871&configuracion!$C$10,\"\")","v":""},""]
[null,null,null,null,null,null,null,{"$f":"IF(DATOS!A2879<>\"\",DATOS!A2879&configuracion!$C$10,\"\")","v":""},""]
[null,null,null,null,null,null,null,{"$f":"IF(DATOS!A2882<>\"\",DATOS!A2882&configuracion!$C$10,\"\")","v":""},""]
[null,null,null,null,null,null,null,{"$f":"IF(DATOS!A2889<>\"\",DATOS!A2889&configuracion!$C$10,\"\")","v":""},""]
[null,null,null,null,null,null,null,{"$f":"IF(DATOS!A2897<>\"\",DATOS!A2897&configuracion!$C$10,\"\")","v":""},""]
[null,null,null,null,null,null,null,{"$f":"IF(DATOS!A2906<>\"\",DATOS!A2906&configuracion!$C$10,\"\")","v":""},""]
[null,null,null,null,null,null,null,{"$f":"IF(DATOS!A2909<>\"\",DATOS!A2909&configuracion!$C$10,\"\")","v":""},""]
[null,null,null,null,null,null,null,{"$f":"IF(DATOS!A2918<>\"\",DATOS!A2918&configuracion!$C$10,\"\")","v":""},""]
[null,null,null,null,null,null,null,{"$f":"IF(DATOS!A2920<>\"\",DATOS!A2920&configuracion!$C$10,\"\")","v":""},""]
[null,null,null,null,null,null,null,{"$f":"IF(DATOS!A2929<>\"\",DATOS!A2929&configuracion!$C$10,\"\")","v":""},""]
[null,null,null,null,null,null,null,{"$f":"IF(DATOS!A2932<>\"\",DATOS!A2932&configuracion!$C$10,\"\")","v":""},""]
[null,null,null,null,null,null,null,{"$f":"IF(DATOS!A2939<>\"\",DATOS!A2939&configuracion!$C$10,\"\")","v":""},""]
[null,null,null,null,null,null,null,{"$f":"IF(DATOS!A2946<>\"\",DATOS!A2946&configuracion!$C$10,\"\")","v":""},""]
[null,null,null,null,null,null,null,{"$f":"IF(DATOS!A2956<>\"\",DATOS!A2956&configuracion!$C$10,\"\")","v":""},""]
[null,null,null,null,null,null,null,{"$f":"IF(DATOS!A2959<>\"\",DATOS!A2959&configuracion!$C$10,\"\")","v":""},""]
[null,null,null,null,null,null,null,{"$f":"IF(DATOS!A2968<>\"\",DATOS!A2968&configuracion!$C$10,\"\")","v":""},""]
[null,null,null,null,null,null,null,{"$f":"IF(DATOS!A2969<>\"\",DATOS!A2969&configuracion!$C$10,\"\")","v":""},""]
[null,null,null,null,null,null,null,{"$f":"IF(DATOS!A2979<>\"\",DATOS!A2979&configuracion!$C$10,\"\")","v":""},""]
[null,null,null,null,null,null,null,{"$f":"IF(DATOS!A2982<>\"\",DATOS!A2982&configuracion!$C$10,\"\")","v":""},""]
[null,null,null,null,null,null,null,{"$f":"IF(DATOS!A2989<>\"\",DATOS!A2989&configuracion!$C$10,\"\")","v":""},""]
[null,null,null,null,null,null,null,{"$f":"IF(DATOS!A2995<>\"\",DATOS!A2995&configuracion!$C$10,\"\")","v":""},""]
[null,null,null,null,null,null,null,{"$f":"IF(DATOS!A3006<>\"\",DATOS!A3006&configuracion!$C$10,\"\")","v":""},""]
[null,null,null,null,null,null,null,{"$f":"IF(DATOS!A3009<>\"\",DATOS!A3009&configuracion!$C$10,\"\")","v":""},""]
[null,null,null,null,null,null,null,{"$f":"IF(DATOS!A3018<>\"\",DATOS!A3018&configuracion!$C$10,\"\")","v":""},""]
[null,null,null,null,null,null,null,{"$f":"IF(DATOS!A3025<>\"\",DATOS!A3025&configuracion!$C$10,\"\")","v":""},""]
[null,null,null,null,null,null,null,{"$f":"IF(DATOS!A3029<>\"\",DATOS!A3029&configuracion!$C$10,\"\")","v":""},""]
[null,null,null,null,null,null,null,{"$f":"IF(DATOS!A3036<>\"\",DATOS!A3036&configuracion!$C$10,\"\")","v":""},""]
[null,null,null,null,null,null,null,{"$f":"IF(DATOS!A3044<>\"\",DATOS!A3044&configuracion!$C$10,\"\")","v":""},""]
[null,null,null,null,null,null,null,{"$f":"IF(DATOS!A3049<>\"\",DATOS!A3049&configuracion!$C$10,\"\")","v":""},""]
[null,null,null,null,null,null,null,{"$f":"IF(DATOS!A3056<>\"\",DATOS!A3056&configuracion!$C$10,\"\")","v":""},""]
[null,null,null,null,null,null,null,{"$f":"IF(DATOS!A3059<>\"\",DATOS!A3059&configuracion!$C$10,\"\")","v":""},""]
[null,null,null,null,null,null,null,{"$f":"IF(DATOS!A3063<>\"\",DATOS!A3063&configuracion!$C$10,\"\")","v":""},""]
[null,null,null,null,null,null,null,{"$f":"IF(DATOS!A3070<>\"\",DATOS!A3070&configuracion!$C$10,\"\")","v":""},""]
[null,null,null,null,null,null,null,{"$f":"IF(DATOS!A3079<>\"\",DATOS!A3079&configuracion!$C$10,\"\")","v":""},""]
[null,null,null,null,null,null,null,{"$f":"IF(DATOS!A3086<>\"\",DATOS!A3086&configuracion!$C$10,\"\")","v":""},""]
[null,null,null,null,null,null,null,{"$f":"IF(DATOS!A3093<>\"\",DATOS!A3093&configuracion!$C$10,\"\")","v":""},""]
[null,null,null,null,null,null,null,{"$f":"IF(DATOS!A3099<>\"\",DATOS!A3099&configuracion!$C$10,\"\")","v":""},""]
[null,null,null,null,null,null,null,{"$f":"IF(DATOS!A3106<>\"\",DATOS!A3106&configuracion!$C$10,\"\")","v":""},""]
[null,null,null,null,null,null,null,{"$f":"IF(DATOS!A3109<>\"\",DATOS!A3109&configuracion!$C$10,\"\")","v":""},""]
[null,null,null,null,null,null,null,{"$f":"IF(DATOS!A3119<>\"\",DATOS!A3119&configuracion!$C$10,\"\")","v":""},""]
[null,null,null,null,null,null,null,{"$f":"IF(DATOS!A3120<>\"\",DATOS!A3120&configuracion!$C$10,\"\")","v":""},""]
[null,null,null,null,null,null,null,{"$f":"IF(DATOS!A3129<>\"\",DATOS!A3129&configuracion!$C$10,\"\")","v":""},""]
[null,null,null,null,null,null,null,{"$f":"IF(DATOS!A3136<>\"\",DATOS!A3136&configuracion!$C$10,\"\")","v":""},""]
[null,null,null,null,null,null,null,{"$f":"IF(DATOS!A3142<>\"\",DATOS!A3142&configuracion!$C$10,\"\")","v":""},""]
[null,null,null,null,null,null,null,{"$f":"IF(DATOS!A3149<>\"\",DATOS!A3149&configuracion!$C$10,\"\")","v":""},""]
[null,null,null,null,null,null,null,{"$f":"IF(DATOS!A3156<>\"\",DATOS!A3156&configuracion!$C$10,\"\")","v":""},""]
[null,null,null,null,null,null,null,{"$f":"IF(DATOS!A3159<>\"\",DATOS!A3159&configuracion!$C$10,\"\")","v":""},""]
[null,null,null,null,null,null,null,{"$f":"IF(DATOS!A3165<>\"\",DATOS!A3165&configuracion!$C$10,\"\")","v":""},""]
[null,null,null,null,null,null,null,{"$f":"IF(DATOS!A3170<>\"\",DATOS!A3170&configuracion!$C$10,\"\")","v":""},""]
[null,null,null,null,null,null,null,{"$f":"IF(DATOS!A3179<>\"\",DATOS!A3179&configuracion!$C$10,\"\")","v":""},""]
[null,null,null,null,null,null,null,{"$f":"IF(DATOS!A3186<>\"\",DATOS!A3186&configuracion!$C$10,\"\")","v":""},""]
[null,null,null,null,null,null,null,{"$f":"IF(DATOS!A3191<>\"\",DATOS!A3191&configuracion!$C$10,\"\")","v":""},""]
[null,null,null,null,null,null,null,{"$f":"IF(DATOS!A3199<>\"\",DATOS!A3199&configuracion!$C$10,\"\")","v":""},""]
[null,null,null,null,null,null,null,{"$f":"IF(DATOS!A3206<>\"\",DATOS!A3206&configuracion!$C$10,\"\")","v":""},""]
[null,null,null,null,null,null,null,{"$f":"IF(DATOS!A3209<>\"\",DATOS!A3209&configuracion!$C$10,\"\")","v":""},""]
[null,null,null,null,null,null,null,{"$f":"IF(DATOS!A3214<>\"\",DATOS!A3214&configuracion!$C$10,\"\")","v":""},""]
[null,null,null,null,null,null,null,{"$f":"IF(DATOS!A3220<>\"\",DATOS!A3220&configuracion!$C$10,\"\")","v":""},""]
[null,null,null,null,null,null,null,{"$f":"IF(DATOS!A3229<>\"\",DATOS!A3229&configuracion!$C$10,\"\")","v":""},""]
[null,null,null,null,null,null,null,{"$f":"IF(DATOS!A3236<>\"\",DATOS!A3236&configuracion!$C$10,\"\")","v":""},""]
[null,null,null,null,null,null,null,{"$f":"IF(DATOS!A3240<>\"\",DATOS!A3240&configuracion!$C$10,\"\")","v":""},""]
[null,null,null,null,null,null,null,{"$f":"IF(DATOS!A3247<>\"\",DATOS!A3247&configuracion!$C$10,\"\")","v":""},""]
[null,null,null,null,null,null,null,{"$f":"IF(DATOS!A3256<>\"\",DATOS!A3256&configuracion!$C$10,\"\")","v":""},""]
[null,null,null,null,null,null,null,{"$f":"IF(DATOS!A3259<>\"\",DATOS!A3259&configuracion!$C$10,\"\")","v":""},""]
[null,null,null,null,null,null,null,{"$f":"IF(DATOS!A3263<>\"\",DATOS!A3263&configuracion!$C$10,\"\")","v":""},""]
[null,null,null,null,null,null,null,{"$f":"IF(DATOS!A3270<>\"\",DATOS!A3270&configuracion!$C$10,\"\")","v":""},""]
[null,null,null,null,null,null,null,{"$f":"IF(DATOS!A3279<>\"\",DATOS!A3279&configuracion!$C$10,\"\")","v":""},""]
[null,null,null,null,null,null,null,{"$f":"IF(DATOS!A3286<>\"\",DATOS!A3286&configuracion!$C$10,\"\")","v":""},""]
[null,null,null,null,null,null,null,{"$f":"IF(DATOS!A3289<>\"\",DATOS!A3289&configuracion!$C$10,\"\")","v":""},""]
[null,null,null,null,null,null,null,{"$f":"IF(DATOS!A3297<>\"\",DATOS!A3297&configuracion!$C$10,\"\")","v":""},""]
[null,null,null,null,null,null,null,{"$f":"IF(DATOS!A3306<>\"\",DATOS!A3306&configuracion!$C$10,\"\")","v":""},""]
[null,null,null,null,null,null,null,{"$f":"IF(DATOS!A3309<>\"\",DATOS!A3309&configuracion!$C$10,\"\")","v":""},""]
[null,null,null,null,null,null,null,{"$f":"IF(DATOS!A3319<>\"\",DATOS!A3319&configuracion!$C$10,\"\")","v":""},""]
[null,null,null,null,null,null,null,{"$f":"IF(DATOS!A3320<>\"\",DATOS!A3320&configuracion!$C$10,\"\")","v":""},""]
[null,null,null,null,null,null,null,{"$f":"IF(DATOS!A3329<>\"\",DATOS!A3329&configuracion!$C$10,\"\")","v":""},""]
[null,null,null,null,null,null,null,{"$f":"IF(DATOS!A3336<>\"\",DATOS!A3336&configuracion!$C$10,\"\")","v":""},""]
[null,null,null,null,null,null,null,{"$f":"IF(DATOS!A3338<>\"\",DATOS!A3338&configuracion!$C$10,\"\")","v":""},""]
[null,null,null,null,null,null,null,{"$f":"IF(DATOS!A3347<>\"\",DATOS!A3347&configuracion!$C$10,\"\")","v":""},""]
[null,null,null,null,null,null,null,{"$f":"IF(DATOS!A3356<>\"\",DATOS!A3356&configuracion!$C$10,\"\")","v":""},""]
[null,null,null,null,null,null,null,{"$f":"IF(DATOS!A3359<>\"\",DATOS!A3359&configuracion!$C$10,\"\")","v":""},""]
[null,null,null,null,null,null,null,{"$f":"IF(DATOS!A3368<>\"\",DATOS!A3368&configuracion!$C$10,\"\")","v":""},""]
[null,null,null,null,null,null,null,{"$f":"IF(DATOS!A3370<>\"\",DATOS!A3370&configuracion!$C$10,\"\")","v":""},""]
[null,null,null,null,null,null,null,{"$f":"IF(DATOS!A3377<>\"\",DATOS!A3377&configuracion!$C$10,\"\")","v":""},""]
[null,null,null,null,null,null,null,{"$f":"IF(DATOS!A3386<>\"\",DATOS!A3386&configuracion!$C$10,\"\")","v":""},""]
[null,null,null,null,null,null,null,{"$f":"IF(DATOS!A3394<>\"\",DATOS!A3394&configuracion!$C$10,\"\")","v":""},""]
[null,null,null,null,null,null,null,{"$f":"IF(DATOS!A3397<>\"\",DATOS!A3397&configuracion!$C$10,\"\")","v":""},""]
[null,null,null,null,null,null,null,{"$f":"IF(DATOS!A3406<>\"\",DATOS!A3406&configuracion!$C$10,\"\")","v":""},""]
[null,null,null,null,null,null,null,{"$f":"IF(DATOS!A3409<>\"\",DATOS!A3409&configuracion!$C$10,\"\")","v":""},""]
[null,null,null,null,null,null,null,{"$f":"IF(DATOS!A3417<>\"\",DATOS!A3417&configuracion!$C$10,\"\")","v":""},""]
[null,null,null,null,null,null,null,{"$f":"IF(DATOS!A3420<>\"\",DATOS!A3420&configuracion!$C$10,\"\")","v":""},""]
[null,null,null,null,null,null,null,{"$f":"IF(DATOS!A3427<>\"\",DATOS!A3427&configuracion!$C$10,\"\")","v":""},""]
[null,null,null,null,null,null,null,{"$f":"IF(DATOS!A3436<>\"\",DATOS!A3436&configuracion!$C$10,\"\")","v":""},""]
[null,null,null,null,null,null,null,{"$f":"IF(DATOS!A3443<>\"\",DATOS!A3443&configuracion!$C$10,\"\")","v":""},""]
[null,null,null,null,null,null,null,{"$f":"IF(DATOS!A3447<>\"\",DATOS!A3447&configuracion!$C$10,\"\")","v":""},""]
[null,null,null,null,null,null,null,{"$f":"IF(DATOS!A3456<>\"\",DATOS!A3456&configuracion!$C$10,\"\")","v":""},""]
[null,null,null,null,null,null,null,{"$f":"IF(DATOS!A3459<>\"\",DATOS!A3459&configuracion!$C$10,\"\")","v":""},""]
[null,null,null,null,null,null,null,{"$f":"IF(DATOS!A3466<>\"\",DATOS!A3466&configuracion!$C$10,\"\")","v":""},""]
[null,null,null,null,null,null,null,{"$f":"IF(DATOS!A3470<>\"\",DATOS!A3470&configuracion!$C$10,\"\")","v":""},""]
[null,null,null,null,null,null,null,{"$f":"IF(DATOS!A3477<>\"\",DATOS!A3477&configuracion!$C$10,\"\")","v":""},""]
[null,null,null,null,null,null,null,{"$f":"IF(DATOS!A3486<>\"\",DATOS!A3486&configuracion!$C$10,\"\")","v":""},""]
[null,null,null,null,null,null,null,{"$f":"IF(DATOS!A3492<>\"\",DATOS!A3492&configuracion!$C$10,\"\")","v":""},""]
[null,null,null,null,null,null,null,{"$f":"IF(DATOS!A3497<>\"\",DATOS!A3497&configuracion!$C$10,\"\")","v":""},""]
[null,null,null,null,null,null,null,{"$f":"IF(DATOS!A3506<>\"\",DATOS!A3506&configuracion!$C$10,\"\")","v":""},""]
[null,null,null,null,null,null,null,{"$f":"IF(DATOS!A3507<>\"\",DATOS!A3507&configuracion!$C$10,\"\")","v":""},""]
[null,null,null,null,null,null,null,{"$f":"IF(DATOS!A3515<>\"\",DATOS!A3515&configuracion!$C$10,\"\")","v":""},""]
[null,null,null,null,null,null,null,{"$f":"IF(DATOS!A3520<>\"\",DATOS!A3520&configuracion!$C$10,\"\")","v":""},""]
[null,null,null,null,null,null,null,{"$f":"IF(DATOS!A3527<>\"\",DATOS!A3527&configuracion!$C$10,\"\")","v":""},""]
[null,null,null,null,null,null,null,{"$f":"IF(DATOS!A3536<>\"\",DATOS!A3536&configuracion!$C$10,\"\")","v":""},""]
[null,null,null,null,null,null,null,{"$f":"IF(DATOS!A3541<>\"\",DATOS!A3541&configuracion!$C$10,\"\")","v":""},""]
[null,null,null,null,null,null,null,{"$f":"IF(DATOS!A3547<>\"\",DATOS!A3547&configuracion!$C$10,\"\")","v":""},""]
[null,null,null,null,null,null,null,{"$f":"IF(DATOS!A3556<>\"\",DATOS!A3556&configuracion!$C$10,\"\")","v":""},""]
[null,null,null,null,null,null,null,{"$f":"IF(DATOS!A3557<>\"\",DATOS!A3557&configuracion!$C$10,\"\")","v":""},""]
[null,null,null,null,null,null,null,{"$f":"IF(DATOS!A3564<>\"\",DATOS!A3564&configuracion!$C$10,\"\")","v":""},""]
[null,null,null,null,null,null,null,{"$f":"IF(DATOS!A3570<>\"\",DATOS!A3570&configuracion!$C$10,\"\")","v":""},""]
[null,null,null,null,null,null,null,{"$f":"IF(DATOS!A3577<>\"\",DATOS!A3577&configuracion!$C$10,\"\")","v":""},""]
[null,null,null,null,null,null,null,{"$f":"IF(DATOS!A3586<>\"\",DATOS!A3586&configuracion!$C$10,\"\")","v":""},""]
[null,null,null,null,null,null,null,{"$f":"IF(DATOS!A3594<>\"\",DATOS!A3594&configuracion!$C$10,\"\")","v":""},""]
[null,null,null,null,null,null,null,{"$f":"IF(DATOS!A3597<>\"\",DATOS!A3597&configuracion!$C$10,\"\")","v":""},""]
[null,null,null,null,null,null,null,{"$f":"IF(DATOS!A3606<>\"\",DATOS!A3606&configuracion!$C$10,\"\")","v":""},""]
[null,null,null,null,null,null,null,{"$f":"IF(DATOS!A3607<>\"\",DATOS!A3607&configuracion!$C$10,\"\")","v":""},""]
[null,null,null,null,null,null,null,{"$f":"IF(DATOS!A3613<>\"\",DATOS!A3613&configuracion!$C$10,\"\")","v":""},""]
[null,null,null,null,null,null,null,{"$f":"IF(DATOS!A3620<>\"\",DATOS!A3620&configuracion!$C$10,\"\")","v":""},""]
[null,null,null,null,null,null,null,{"$f":"IF(DATOS!A3627<>\"\",DATOS!A3627&configuracion!$C$10,\"\")","v":""},""]
[null,null,null,null,null,null,null,{"$f":"IF(DATOS!A3636<>\"\",DATOS!A3636&configuracion!$C$10,\"\")","v":""},""]
[null,null,null,null,null,null,null,{"$f":"IF(DATOS!A3643<>\"\",DATOS!A3643&configuracion!$C$10,\"\")","v":""},""]
[null,null,null,null,null,null,null,{"$f":"IF(DATOS!A3647<>\"\",DATOS!A3647&configuracion!$C$10,\"\")","v":""},""]
[null,null,null,null,null,null,null,{"$f":"IF(DATOS!A3656<>\"\",DATOS!A3656&configuracion!$C$10,\"\")","v":""},""]
[null,null,null,null,null,null,null,{"$f":"IF(DATOS!A3657<>\"\",DATOS!A3657&configuracion!$C$10,\"\")","v":""},""]
[null,null,null,null,null,null,null,{"$f":"IF(DATOS!A3669<>\"\",DATOS!A3669&configuracion!$C$10,\"\")","v":""},""]
[null,null,null,null,null,null,null,{"$f":"IF(DATOS!A3670<>\"\",DATOS!A3670&configuracion!$C$10,\"\")","v":""},""]
[null,null,null,null,null,null,null,{"$f":"IF(DATOS!A3677<>\"\",DATOS!A3677&configuracion!$C$10,\"\")","v":""},""]
[null,null,null,null,null,null,null,{"$f":"IF(DATOS!A3686<>\"\",DATOS!A3686&configuracion!$C$10,\"\")","v":""},""]
[null,null,null,null,null,null,null,{"$f":"IF(DATOS!A3692<>\"\",DATOS!A3692&configuracion!$C$10,\"\")","v":""},""]
[null,null,null,null,null,null,null,{"$f":"IF(DATOS!A3697<>\"\",DATOS!A3697&configuracion!$C$10,\"\")","v":""},""]
[null,null,null,null,null,null,null,{"$f":"IF(DATOS!A3706<>\"\",DATOS!A3706&configuracion!$C$10,\"\")","v":""},""]
[null,null,null,null,null,null,null,{"$f":"IF(DATOS!A3707<>\"\",DATOS!A3707&configuracion!$C$10,\"\")","v":""},""]
[null,null,null,null,null,null,null,{"$f":"IF(DATOS!A3718<>\"\",DATOS!A3718&configuracion!$C$10,\"\")","v":""},""]
[null,null,null,null,null,null,null,{"$f":"IF(DATOS!A3724<>\"\",DATOS!A3724&configuracion!$C$10,\"\")","v":""},""]
[null,null,null,null,null,null,null,{"$f":"IF(DATOS!A3727<>\"\",DATOS!A3727&configuracion!$C$10,\"\")","v":""},""]
[null,null,null,null,null,null,null,{"$f":"IF(DATOS!A3736<>\"\",DATOS!A3736&configuracion!$C$10,\"\")","v":""},""]
[null,null,null,null,null,null,null,{"$f":"IF(DATOS!A3741<>\"\",DATOS!A3741&configuracion!$C$10,\"\")","v":""},""]
[null,null,null,null,null,null,null,{"$f":"IF(DATOS!A3747<>\"\",DATOS!A3747&configuracion!$C$10,\"\")","v":""},""]
[null,null,null,null,null,null,null,{"$f":"IF(DATOS!A3756<>\"\",DATOS!A3756&configuracion!$C$10,\"\")","v":""},""]
[null,null,null,null,null,null,null,{"$f":"IF(DATOS!A3757<>\"\",DATOS!A3757&configuracion!$C$10,\"\")","v":""},""]
[null,null,null,null,null,null,null,{"$f":"IF(DATOS!A3767<>\"\",DATOS!A3767&configuracion!$C$10,\"\")","v":""},""]
[null,null,null,null,null,null,null,{"$f":"IF(DATOS!A3774<>\"\",DATOS!A3774&configuracion!$C$10,\"\")","v":""},""]
[null,null,null,null,null,null,null,{"$f":"IF(DATOS!A3777<>\"\",DATOS!A3777&configuracion!$C$10,\"\")","v":""},""]
[null,null,null,null,null,null,null,{"$f":"IF(DATOS!A3786<>\"\",DATOS!A3786&configuracion!$C$10,\"\")","v":""},""]
[null,null,null,null,null,null,null,{"$f":"IF(DATOS!A3790<>\"\",DATOS!A3790&configuracion!$C$10,\"\")","v":""},""]
[null,null,null,null,null,null,null,{"$f":"IF(DATOS!A3797<>\"\",DATOS!A3797&configuracion!$C$10,\"\")","v":""},""]
[null,null,null,null,null,null,null,{"$f":"IF(DATOS!A3804<>\"\",DATOS!A3804&configuracion!$C$10,\"\")","v":""},""]
[null,null,null,null,null,null,null,{"$f":"IF(DATOS!A3807<>\"\",DATOS!A3807&configuracion!$C$10,\"\")","v":""},""]
[null,null,null,null,null,null,null,{"$f":"IF(DATOS!A3816<>\"\",DATOS!A3816&configuracion!$C$10,\"\")","v":""},""]
[null,null,null,null,null,null,null,{"$f":"IF(DATOS!A3824<>\"\",DATOS!A3824&configuracion!$C$10,\"\")","v":""},""]
[null,null,null,null,null,null,null,{"$f":"IF(DATOS!A3827<>\"\",DATOS!A3827&configuracion!$C$10,\"\")","v":""},""]
[null,null,null,null,null,null,null,{"$f":"IF(DATOS!A3836<>\"\",DATOS!A3836&configuracion!$C$10,\"\")","v":""},""]
[null,null,null,null,null,null,null,{"$f":"IF(DATOS!A3839<>\"\",DATOS!A3839&configuracion!$C$10,\"\")","v":""},""]
[null,null,null,null,null,null,null,{"$f":"IF(DATOS!A3847<>\"\",DATOS!A3847&configuracion!$C$10,\"\")","v":""},""]
[null,null,null,null,null,null,null,{"$f":"IF(DATOS!A3854<>\"\",DATOS!A3854&configuracion!$C$10,\"\")","v":""},""]
[null,null,null,null,null,null,null,{"$f":"IF(DATOS!A3857<>\"\",DATOS!A3857&configuracion!$C$10,\"\")","v":""},""]
[null,null,null,null,null,null,null,{"$f":"IF(DATOS!A3865<>\"\",DATOS!A3865&configuracion!$C$10,\"\")","v":""},""]
[null,null,null,null,null,null,null,{"$f":"IF(DATOS!A3874<>\"\",DATOS!A3874&configuracion!$C$10,\"\")","v":""},""]
[null,null,null,null,null,null,null,{"$f":"IF(DATOS!A3877<>\"\",DATOS!A3877&configuracion!$C$10,\"\")","v":""},""]
[null,null,null,null,null,null,null,{"$f":"IF(DATOS!A3886<>\"\",DATOS!A3886&configuracion!$C$10,\"\")","v":""},""]
[null,null,null,null,null,null,null,{"$f":"IF(DATOS!A3888<>\"\",DATOS!A3888&configuracion!$C$10,\"\")","v":""},""]
[null,null,null,null,null,null,null,{"$f":"IF(DATOS!A3897<>\"\",DATOS!A3897&configuracion!$C$10,\"\")","v":""},""]
[null,null,null,null,null,null,null,{"$f":"IF(DATOS!A3904<>\"\",DATOS!A3904&configuracion!$C$10,\"\")","v":""},""]
[null,null,null,null,null,null,null,{"$f":"IF(DATOS!A3907<>\"\",DATOS!A3907&configuracion!$C$10,\"\")","v":""},""]
[null,null,null,null,null,null,null,{"$f":"IF(DATOS!A3914<>\"\",DATOS!A3914&configuracion!$C$10,\"\")","v":""},""]
[null,null,null,null,null,null,null,{"$f":"IF(DATOS!A3924<>\"\",DATOS!A3924&configuracion!$C$10,\"\")","v":""},""]
[null,null,null,null,null,null,null,{"$f":"IF(DATOS!A3927<>\"\",DATOS!A3927&configuracion!$C$10,\"\")","v":""},""]
[null,null,null,null,null,null,null,{"$f":"IF(DATOS!A3934<>\"\",DATOS!A3934&configuracion!$C$10,\"\")","v":""},""]
[null,null,null,null,null,null,null,{"$f":"IF(DATOS!A3944<>\"\",DATOS!A3944&configuracion!$C$10,\"\")","v":""},""]
[null,null,null,null,null,null,null,{"$f":"IF(DATOS!A3947<>\"\",DATOS!A3947&configuracion!$C$10,\"\")","v":""},""]
[null,null,null,null,null,null,null,{"$f":"IF(DATOS!A3954<>\"\",DATOS!A3954&configuracion!$C$10,\"\")","v":""},""]
[null,null,null,null,null,null,null,{"$f":"IF(DATOS!A3957<>\"\",DATOS!A3957&configuracion!$C$10,\"\")","v":""},""]
[null,null,null,null,null,null,null,{"$f":"IF(DATOS!A3963<>\"\",DATOS!A3963&configuracion!$C$10,\"\")","v":""},""]
[null,null,null,null,null,null,null,{"$f":"IF(DATOS!A3974<>\"\",DATOS!A3974&configuracion!$C$10,\"\")","v":""},""]
[null,null,null,null,null,null,null,{"$f":"IF(DATOS!A3977<>\"\",DATOS!A3977&configuracion!$C$10,\"\")","v":""},""]
[null,null,null,null,null,null,null,{"$f":"IF(DATOS!A3984<>\"\",DATOS!A3984&configuracion!$C$10,\"\")","v":""},""]
[null,null,null,null,null,null,null,{"$f":"IF(DATOS!A3993<>\"\",DATOS!A3993&configuracion!$C$10,\"\")","v":""},""]
[null,null,null,null,null,null,null,{"$f":"IF(DATOS!A3997<>\"\",DATOS!A3997&configuracion!$C$10,\"\")","v":""},""]
[null,null,null,null,null,null,null,{"$f":"IF(DATOS!A4004<>\"\",DATOS!A4004&configuracion!$C$10,\"\")","v":""},""]
[null,null,null,null,null,null,null,{"$f":"IF(DATOS!A4007<>\"\",DATOS!A4007&configuracion!$C$10,\"\")","v":""},""]
[null,null,null,null,null,null,null,{"$f":"IF(DATOS!A4019<>\"\",DATOS!A4019&configuracion!$C$10,\"\")","v":""},""]
[null,null,null,null,null,null,null,{"$f":"IF(DATOS!A4024<>\"\",DATOS!A4024&configuracion!$C$10,\"\")","v":""},""]
[null,null,null,null,null,null,null,{"$f":"IF(DATOS!A4027<>\"\",DATOS!A4027&configuracion!$C$10,\"\")","v":""},""]
[null,null,null,null,null,null,null,{"$f":"IF(DATOS!A4034<>\"\",DATOS!A4034&configuracion!$C$10,\"\")","v":""},""]
[null,null,null,null,null,null,null,{"$f":"IF(DATOS!A4042<>\"\",DATOS!A4042&configuracion!$C$10,\"\")","v":""},""]
[null,null,null,null,null,null,null,{"$f":"IF(DATOS!A4047<>\"\",DATOS!A4047&configuracion!$C$10,\"\")","v":""},""]
[null,null,null,null,null,null,null,{"$f":"IF(DATOS!A4054<>\"\",DATOS!A4054&configuracion!$C$10,\"\")","v":""},""]
[null,null,null,null,null,null,null,{"$f":"IF(DATOS!A4057<>\"\",DATOS!A4057&configuracion!$C$10,\"\")","v":""},""]
[null,null,null,null,null,null,null,{"$f":"IF(DATOS!A4065<>\"\",DATOS!A4065&configuracion!$C$10,\"\")","v":""},""]
[null,null,null,null,null,null,null,{"$f":"IF(DATOS!A4074<>\"\",DATOS!A4074&configuracion!$C$10,\"\")","v":""},""]
[null,null,null,null,null,null,null,{"$f":"IF(DATOS!A4077<>\"\",DATOS!A4077&configuracion!$C$10,\"\")","v":""},""]
[null,null,null,null,null,null,null,{"$f":"IF(DATOS!A4084<>\"\",DATOS!A4084&configuracion!$C$10,\"\")","v":""},""]
[null,null,null,null,null,null,null,{"$f":"IF(DATOS!A4094<>\"\",DATOS!A4094&configuracion!$C$10,\"\")","v":""},""]
[null,null,null,null,null,null,null,{"$f":"IF(DATOS!A4097<>\"\",DATOS!A4097&configuracion!$C$10,\"\")","v":""},""]
[null,null,null,null,null,null,null,{"$f":"IF(DATOS!A4104<>\"\",DATOS!A4104&configuracion!$C$10,\"\")","v":""},""]
[null,null,null,null,null,null,null,{"$f":"IF(DATOS!A4110<>\"\",DATOS!A4110&configuracion!$C$10,\"\")","v":""},""]
[null,null,null,null,null,null,null,{"$f":"IF(DATOS!A4115<>\"\",DATOS!A4115&configuracion!$C$10,\"\")","v":""},""]
[null,null,null,null,null,null,null,{"$f":"IF(DATOS!A4124<>\"\",DATOS!A4124&configuracion!$C$10,\"\")","v":""},""]
[null,null,null,null,null,null,null,{"$f":"IF(DATOS!A4127<>\"\",DATOS!A4127&configuracion!$C$10,\"\")","v":""},""]
[null,null,null,null,null,null,null,{"$f":"IF(DATOS!A4133<>\"\",DATOS!A4133&configuracion!$C$10,\"\")","v":""},""]
[null,null,null,null,null,null,null,{"$f":"IF(DATOS!A4144<>\"\",DATOS!A4144&configuracion!$C$10,\"\")","v":""},""]
[null,null,null,null,null,null,null,{"$f":"IF(DATOS!A4145<>\"\",DATOS!A4145&configuracion!$C$10,\"\")","v":""},""]
[null,null,null,null,null,null,null,{"$f":"IF(DATOS!A4154<>\"\",DATOS!A4154&configuracion!$C$10,\"\")","v":""},""]
[null,null,null,null,null,null,null,{"$f":"IF(DATOS!A4159<>\"\",DATOS!A4159&configuracion!$C$10,\"\")","v":""},""]
[null,null,null,null,null,null,null,{"$f":"IF(DATOS!A4165<>\"\",DATOS!A4165&configuracion!$C$10,\"\")","v":""},""]
[null,null,null,null,null,null,null,{"$f":"IF(DATOS!A4174<>\"\",DATOS!A4174&configuracion!$C$10,\"\")","v":""},""]
[null,null,null,null,null,null,null,{"$f":"IF(DATOS!A4177<>\"\",DATOS!A4177&configuracion!$C$10,\"\")","v":""},""]
[null,null,null,null,null,null,null,{"$f":"IF(DATOS!A4182<>\"\",DATOS!A4182&configuracion!$C$10,\"\")","v":""},""]
[null,null,null,null,null,null,null,{"$f":"IF(DATOS!A4194<>\"\",DATOS!A4194&configuracion!$C$10,\"\")","v":""},""]
[null,null,null,null,null,null,null,{"$f":"IF(DATOS!A4195<>\"\",DATOS!A4195&configuracion!$C$10,\"\")","v":""},""]
[null,null,null,null,null,null,null,{"$f":"IF(DATOS!A4204<>\"\",DATOS!A4204&configuracion!$C$10,\"\")","v":""},""]
[null,null,null,null,null,null,null,{"$f":"IF(DATOS!A4208<>\"\",DATOS!A4208&configuracion!$C$10,\"\")","v":""},""]
[null,null,null,null,null,null,null,{"$f":"IF(DATOS!A4215<>\"\",DATOS!A4215&configuracion!$C$10,\"\")","v":""},""]
[null,null,null,null,null,null,null,{"$f":"IF(DATOS!A4224<>\"\",DATOS!A4224&configuracion!$C$10,\"\")","v":""},""]
[null,null,null,null,null,null,null,{"$f":"IF(DATOS!A4227<>\"\",DATOS!A4227&configuracion!$C$10,\"\")","v":""},""]
[null,null,null,null,null,null,null,{"$f":"IF(DATOS!A4238<>\"\",DATOS!A4238&configuracion!$C$10,\"\")","v":""},""]
[null,null,null,null,null,null,null,{"$f":"IF(DATOS!A4244<>\"\",DATOS!A4244&configuracion!$C$10,\"\")","v":""},""]
[null,null,null,null,null,null,null,{"$f":"IF(DATOS!A4245<>\"\",DATOS!A4245&configuracion!$C$10,\"\")","v":""},""]
[null,null,null,null,null,null,null,{"$f":"IF(DATOS!A4254<>\"\",DATOS!A4254&configuracion!$C$10,\"\")","v":""},""]
[null,null,null,null,null,null,null,{"$f":"IF(DATOS!A4257<>\"\",DATOS!A4257&configuracion!$C$10,\"\")","v":""},""]
[null,null,null,null,null,null,null,{"$f":"IF(DATOS!A4265<>\"\",DATOS!A4265&configuracion!$C$10,\"\")","v":""},""]
[null,null,null,null,null,null,null,{"$f":"IF(DATOS!A4274<>\"\",DATOS!A4274&configuracion!$C$10,\"\")","v":""},""]
[null,null,null,null,null,null,null,{"$f":"IF(DATOS!A4281<>\"\",DATOS!A4281&configuracion!$C$10,\"\")","v":""},""]
[null,null,null,null,null,null,null,{"$f":"IF(DATOS!A4287<>\"\",DATOS!A4287&configuracion!$C$10,\"\")","v":""},""]
[null,null,null,null,null,null,null,{"$f":"IF(DATOS!A4294<>\"\",DATOS!A4294&configuracion!$C$10,\"\")","v":""},""]
[null,null,null,null,null,null,null,{"$f":"IF(DATOS!A4295<>\"\",DATOS!A4295&configuracion!$C$10,\"\")","v":""},""]
[null,null,null,null,null,null,null,{"$f":"IF(DATOS!A4304<>\"\",DATOS!A4304&configuracion!$C$10,\"\")","v":""},""]
[null,null,null,null,null,null,null,{"$f":"IF(DATOS!A4313<>\"\",DATOS!A4313&configuracion!$C$10,\"\")","v":""},""]
[null,null,null,null,null,null,null,{"$f":"IF(DATOS!A4315<>\"\",DATOS!A4315&configuracion!$C$10,\"\")","v":""},""]
[null,null,null,null,null,null,null,{"$f":"IF(DATOS!A4324<>\"\",DATOS!A4324&configuracion!$C$10,\"\")","v":""},""]
[null,null,null,null,null,null,null,{"$f":"IF(DATOS!A4331<>\"\",DATOS!A4331&configuracion!$C$10,\"\")","v":""},""]
[null,null,null,null,null,null,null,{"$f":"IF(DATOS!A4336<>\"\",DATOS!A4336&configuracion!$C$10,\"\")","v":""},""]
[null,null,null,null,null,null,null,{"$f":"IF(DATOS!A4344<>\"\",DATOS!A4344&configuracion!$C$10,\"\")","v":""},""]
[null,null,null,null,null,null,null,{"$f":"IF(DATOS!A4345<>\"\",DATOS!A4345&configuracion!$C$10,\"\")","v":""},""]
[null,null,null,null,null,null,null,{"$f":"IF(DATOS!A4354<>\"\",DATOS!A4354&configuracion!$C$10,\"\")","v":""},""]
[null,null,null,null,null,null,null,{"$f":"IF(DATOS!A4359<>\"\",DATOS!A4359&configuracion!$C$10,\"\")","v":""},""]
[null,null,null,null,null,null,null,{"$f":"IF(DATOS!A4365<>\"\",DATOS!A4365&configuracion!$C$10,\"\")","v":""},""]
[null,null,null,null,null,null,null,{"$f":"IF(DATOS!A4374<>\"\",DATOS!A4374&configuracion!$C$10,\"\")","v":""},""]
[null,null,null,null,null,null,null,{"$f":"IF(DATOS!A4381<>\"\",DATOS!A4381&configuracion!$C$10,\"\")","v":""},""]
[null,null,null,null,null,null,null,{"$f":"IF(DATOS!A4385<>\"\",DATOS!A4385&configuracion!$C$10,\"\")","v":""},""]
[null,null,null,null,null,null,null,{"$f":"IF(DATOS!A4394<>\"\",DATOS!A4394&configuracion!$C$10,\"\")","v":""},""]
[null,null,null,null,null,null,null,{"$f":"IF(DATOS!A4395<>\"\",DATOS!A4395&configuracion!$C$10,\"\")","v":""},""]
[null,null,null,null,null,null,null,{"$f":"IF(DATOS!A4404<>\"\",DATOS!A4404&configuracion!$C$10,\"\")","v":""},""]
[null,null,null,null,null,null,null,{"$f":"IF(DATOS!A4408<>\"\",DATOS!A4408&configuracion!$C$10,\"\")","v":""},""]
[null,null,null,null,null,null,null,{"$f":"IF(DATOS!A4415<>\"\",DATOS!A4415&configuracion!$C$10,\"\")","v":""},""]
[null,null,null,null,null,null,null,{"$f":"IF(DATOS!A4424<>\"\",DATOS!A4424&configuracion!$C$10,\"\")","v":""},""]
[null,null,null,null,null,null,null,{"$f":"IF(DATOS!A4431<>\"\",DATOS!A4431&configuracion!$C$10,\"\")","v":""},""]
[null,null,null,null,null,null,null,{"$f":"IF(DATOS!A4434<>\"\",DATOS!A4434&configuracion!$C$10,\"\")","v":""},""]
[null,null,null,null,null,null,null,{"$f":"IF(DATOS!A4444<>\"\",DATOS!A4444&configuracion!$C$10,\"\")","v":""},""]
[null,null,null,null,null,null,null,{"$f":"IF(DATOS!A4445<>\"\",DATOS!A4445&configuracion!$C$10,\"\")","v":""},""]
[null,null,null,null,null,null,null,{"$f":"IF(DATOS!A4454<>\"\",DATOS!A4454&configuracion!$C$10,\"\")","v":""},""]
[null,null,null,null,null,null,null,{"$f":"IF(DATOS!A4457<>\"\",DATOS!A4457&configuracion!$C$10,\"\")","v":""},""]
[null,null,null,null,null,null,null,{"$f":"IF(DATOS!A4465<>\"\",DATOS!A4465&configuracion!$C$10,\"\")","v":""},""]
[null,null,null,null,null,null,null,{"$f":"IF(DATOS!A4474<>\"\",DATOS!A4474&configuracion!$C$10,\"\")","v":""},""]
[null,null,null,null,null,null,null,{"$f":"IF(DATOS!A4481<>\"\",DATOS!A4481&configuracion!$C$10,\"\")","v":""},""]
[null,null,null,null,null,null,null,{"$f":"IF(DATOS!A4483<>\"\",DATOS!A4483&configuracion!$C$10,\"\")","v":""},""]
[null,null,null,null,null,null,null,{"$f":"IF(DATOS!A4492<>\"\",DATOS!A4492&configuracion!$C$10,\"\")","v":""},""]
[null,null,null,null,null,null,null,{"$f":"IF(DATOS!A4495<>\"\",DATOS!A4495&configuracion!$C$10,\"\")","v":""},""]
[null,null,null,null,null,null,null,{"$f":"IF(DATOS!A4504<>\"\",DATOS!A4504&configuracion!$C$10,\"\")","v":""},""]
[null,null,null,null,null,null,null,{"$f":"IF(DATOS!A4513<>\"\",DATOS!A4513&configuracion!$C$10,\"\")","v":""},""]
[null,null,null,null,null,null,null,{"$f":"IF(DATOS!A4515<>\"\",DATOS!A4515&configuracion!$C$10,\"\")","v":""},""]
[null,null,null,null,null,null,null,{"$f":"IF(DATOS!A4524<>\"\",DATOS!A4524&configuracion!$C$10,\"\")","v":""},""]
[null,null,null,null,null,null,null,{"$f":"IF(DATOS!A4531<>\"\",DATOS!A4531&configuracion!$C$10,\"\")","v":""},""]
[null,null,null,null,null,null,null,{"$f":"IF(DATOS!A4532<>\"\",DATOS!A4532&configuracion!$C$10,\"\")","v":""},""]
[null,null,null,null,null,null,null,{"$f":"IF(DATOS!A4542<>\"\",DATOS!A4542&configuracion!$C$10,\"\")","v":""},""]
[null,null,null,null,null,null,null,{"$f":"IF(DATOS!A4545<>\"\",DATOS!A4545&configuracion!$C$10,\"\")","v":""},""]
[null,null,null,null,null,null,null,{"$f":"IF(DATOS!A4554<>\"\",DATOS!A4554&configuracion!$C$10,\"\")","v":""},""]
[null,null,null,null,null,null,null,{"$f":"IF(DATOS!A4562<>\"\",DATOS!A4562&configuracion!$C$10,\"\")","v":""},""]
[null,null,null,null,null,null,null,{"$f":"IF(DATOS!A4565<>\"\",DATOS!A4565&configuracion!$C$10,\"\")","v":""},""]
[null,null,null,null,null,null,null,{"$f":"IF(DATOS!A4574<>\"\",DATOS!A4574&configuracion!$C$10,\"\")","v":""},""]
[null,null,null,null,null,null,null,{"$f":"IF(DATOS!A4581<>\"\",DATOS!A4581&configuracion!$C$10,\"\")","v":""},""]
[null,null,null,null,null,null,null,{"$f":"IF(DATOS!A4588<>\"\",DATOS!A4588&configuracion!$C$10,\"\")","v":""},""]
[null,null,null,null,null,null,null,{"$f":"IF(DATOS!A4592<>\"\",DATOS!A4592&configuracion!$C$10,\"\")","v":""},""]
[null,null,null,null,null,null,null,{"$f":"IF(DATOS!A4595<>\"\",DATOS!A4595&configuracion!$C$10,\"\")","v":""},""]
[null,null,null,null,null,null,null,{"$f":"IF(DATOS!A4604<>\"\",DATOS!A4604&configuracion!$C$10,\"\")","v":""},""]
[null,null,null,null,null,null,null,{"$f":"IF(DATOS!A4611<>\"\",DATOS!A4611&configuracion!$C$10,\"\")","v":""},""]
[null,null,null,null,null,null,null,{"$f":"IF(DATOS!A4615<>\"\",DATOS!A4615&configuracion!$C$10,\"\")","v":""},""]
[null,null,null,null,null,null,null,{"$f":"IF(DATOS!A4622<>\"\",DATOS!A4622&configuracion!$C$10,\"\")","v":""},""]
[null,null,null,null,null,null,null,{"$f":"IF(DATOS!A4631<>\"\",DATOS!A4631&configuracion!$C$10,\"\")","v":""},""]
[null,null,null,null,null,null,null,{"$f":"IF(DATOS!A4637<>\"\",DATOS!A4637&configuracion!$C$10,\"\")","v":""},""]
[null,null,null,null,null,null,null,{"$f":"IF(DATOS!A4642<>\"\",DATOS!A4642&configuracion!$C$10,\"\")","v":""},""]
[null,null,null,null,null,null,null,{"$f":"IF(DATOS!A4645<>\"\",DATOS!A4645&configuracion!$C$10,\"\")","v":""},""]
[null,null,null,null,null,null,null,{"$f":"IF(DATOS!A4654<>\"\",DATOS!A4654&configuracion!$C$10,\"\")","v":""},""]
[null,null,null,null,null,null,null,{"$f":"IF(DATOS!A4660<>\"\",DATOS!A4660&configuracion!$C$10,\"\")","v":""},""]
[null,null,null,null,null,null,null,{"$f":"IF(DATOS!A4665<>\"\",DATOS!A4665&configuracion!$C$10,\"\")","v":""},""]
[null,null,null,null,null,null,null,{"$f":"IF(DATOS!A4672<>\"\",DATOS!A4672&configuracion!$C$10,\"\")","v":""},""]
[null,null,null,null,null,null,null,{"$f":"IF(DATOS!A4681<>\"\",DATOS!A4681&configuracion!$C$10,\"\")","v":""},""]
[null,null,null,null,null,null,null,{"$f":"IF(DATOS!A4686<>\"\",DATOS!A4686&configuracion!$C$10,\"\")","v":""},""]
[null,null,null,null,null,null,null,{"$f":"IF(DATOS!A4692<>\"\",DATOS!A4692&configuracion!$C$10,\"\")","v":""},""]
[null,null,null,null,null,null,null,{"$f":"IF(DATOS!A4695<>\"\",DATOS!A4695&configuracion!$C$10,\"\")","v":""},""]
[null,null,null,null,null,null,null,{"$f":"IF(DATOS!A4702<>\"\",DATOS!A4702&configuracion!$C$10,\"\")","v":""},""]
[null,null,null,null,null,null,null,{"$f":"IF(DATOS!A4709<>\"\",DATOS!A4709&configuracion!$C$10,\"\")","v":""},""]
[null,null,null,null,null,null,null,{"$f":"IF(DATOS!A4715<>\"\",DATOS!A4715&configuracion!$C$10,\"\")","v":""},""]
[null,null,null,null,null,null,null,{"$f":"IF(DATOS!A4722<>\"\",DATOS!A4722&configuracion!$C$10,\"\")","v":""},""]
[null,null,null,null,null,null,null,{"$f":"IF(DATOS!A4731<>\"\",DATOS!A4731&configuracion!$C$10,\"\")","v":""},""]
[null,null,null,null,null,null,null,{"$f":"IF(DATOS!A4735<>\"\",DATOS!A4735&configuracion!$C$10,\"\")","v":""},""]
[null,null,null,null,null,null,null,{"$f":"IF(DATOS!A4742<>\"\",DATOS!A4742&configuracion!$C$10,\"\")","v":""},""]
[null,null,null,null,null,null,null,{"$f":"IF(DATOS!A4745<>\"\",DATOS!A4745&configuracion!$C$10,\"\")","v":""},""]
[null,null,null,null,null,null,null,{"$f":"IF(DATOS!A4752<>\"\",DATOS!A4752&configuracion!$C$10,\"\")","v":""},""]
[null,null,null,null,null,null,null,{"$f":"IF(DATOS!A4758<>\"\",DATOS!A4758&configuracion!$C$10,\"\")","v":""},""]
[null,null,null,null,null,null,null,{"$f":"IF(DATOS!A4765<>\"\",DATOS!A4765&configuracion!$C$10,\"\")","v":""},""]
[null,null,null,null,null,null,null,{"$f":"IF(DATOS!A4772<>\"\",DATOS!A4772&configuracion!$C$10,\"\")","v":""},""]
[null,null,null,null,null,null,null,{"$f":"IF(DATOS!A4781<>\"\",DATOS!A4781&configuracion!$C$10,\"\")","v":""},""]
[null,null,null,null,null,null,null,{"$f":"IF(DATOS!A4784<>\"\",DATOS!A4784&configuracion!$C$10,\"\")","v":""},""]
[null,null,null,null,null,null,null,{"$f":"IF(DATOS!A4792<>\"\",DATOS!A4792&configuracion!$C$10,\"\")","v":""},""]
[null,null,null,null,null,null,null,{"$f":"IF(DATOS!A4795<>\"\",DATOS!A4795&configuracion!$C$10,\"\")","v":""},""]
[null,null,null,null,null,null,null,{"$f":"IF(DATOS!A4802<>\"\",DATOS!A4802&configuracion!$C$10,\"\")","v":""},""]
[null,null,null,null,null,null,null,{"$f":"IF(DATOS!A4807<>\"\",DATOS!A4807&configuracion!$C$10,\"\")","v":""},""]
[null,null,null,null,null,null,null,{"$f":"IF(DATOS!A4815<>\"\",DATOS!A4815&configuracion!$C$10,\"\")","v":""},""]
[null,null,null,null,null,null,null,{"$f":"IF(DATOS!A4822<>\"\",DATOS!A4822&configuracion!$C$10,\"\")","v":""},""]
[null,null,null,null,null,null,null,{"$f":"IF(DATOS!A4831<>\"\",DATOS!A4831&configuracion!$C$10,\"\")","v":""},""]
[null,null,null,null,null,null,null,{"$f":"IF(DATOS!A4837<>\"\",DATOS!A4837&configuracion!$C$10,\"\")","v":""},""]
[null,null,null,null,null,null,null,{"$f":"IF(DATOS!A4842<>\"\",DATOS!A4842&configuracion!$C$10,\"\")","v":""},""]
[null,null,null,null,null,null,null,{"$f":"IF(DATOS!A4845<>\"\",DATOS!A4845&configuracion!$C$10,\"\")","v":""},""]
[null,null,null,null,null,null,null,{"$f":"IF(DATOS!A4852<>\"\",DATOS!A4852&configuracion!$C$10,\"\")","v":""},""]
[null,null,null,null,null,null,null,{"$f":"IF(DATOS!A4863<>\"\",DATOS!A4863&configuracion!$C$10,\"\")","v":""},""]
[null,null,null,null,null,null,null,{"$f":"IF(DATOS!A4865<>\"\",DATOS!A4865&configuracion!$C$10,\"\")","v":""},""]
[null,null,null,null,null,null,null,{"$f":"IF(DATOS!A4872<>\"\",DATOS!A4872&configuracion!$C$10,\"\")","v":""},""]
[null,null,null,null,null,null,null,{"$f":"IF(DATOS!A4881<>\"\",DATOS!A4881&configuracion!$C$10,\"\")","v":""},""]
[null,null,null,null,null,null,null,{"$f":"IF(DATOS!A4886<>\"\",DATOS!A4886&configuracion!$C$10,\"\")","v":""},""]
[null,null,null,null,null,null,null,{"$f":"IF(DATOS!A4892<>\"\",DATOS!A4892&configuracion!$C$10,\"\")","v":""},""]
[null,null,null,null,null,null,null,{"$f":"IF(DATOS!A4895<>\"\",DATOS!A4895&configuracion!$C$10,\"\")","v":""},""]
[null,null,null,null,null,null,null,{"$f":"IF(DATOS!A4902<>\"\",DATOS!A4902&configuracion!$C$10,\"\")","v":""},""]
[null,null,null,null,null,null,null,{"$f":"IF(DATOS!A4912<>\"\",DATOS!A4912&configuracion!$C$10,\"\")","v":""},""]
[null,null,null,null,null,null,null,{"$f":"IF(DATOS!A4915<>\"\",DATOS!A4915&configuracion!$C$10,\"\")","v":""},""]
[null,null,null,null,null,null,null,{"$f":"IF(DATOS!A4922<>\"\",DATOS!A4922&configuracion!$C$10,\"\")","v":""},""]
[null,null,null,null,null,null,null,{"$f":"IF(DATOS!A4931<>\"\",DATOS!A4931&configuracion!$C$10,\"\")","v":""},""]
[null,null,null,null,null,null,null,{"$f":"IF(DATOS!A4935<>\"\",DATOS!A4935&configuracion!$C$10,\"\")","v":""},""]
[null,null,null,null,null,null,null,{"$f":"IF(DATOS!A4942<>\"\",DATOS!A4942&configuracion!$C$10,\"\")","v":""},""]
[null,null,null,null,null,null,null,{"$f":"IF(DATOS!A4945<>\"\",DATOS!A4945&configuracion!$C$10,\"\")","v":""},""]
[null,null,null,null,null,null,null,{"$f":"IF(DATOS!A4952<>\"\",DATOS!A4952&configuracion!$C$10,\"\")","v":""},""]
[null,null,null,null,null,null,null,{"$f":"IF(DATOS!A4961<>\"\",DATOS!A4961&configuracion!$C$10,\"\")","v":""},""]
[null,null,null,null,null,null,null,{"$f":"IF(DATOS!A4969<>\"\",DATOS!A4969&configuracion!$C$10,\"\")","v":""},""]
[null,null,null,null,null,null,null,{"$f":"IF(DATOS!A4972<>\"\",DATOS!A4972&configuracion!$C$10,\"\")","v":""},""]
[null,null,null,null,null,null,null,{"$f":"IF(DATOS!A4981<>\"\",DATOS!A4981&configuracion!$C$10,\"\")","v":""},""]
[null,null,null,null,null,null,null,{"$f":"IF(DATOS!A4984<>\"\",DATOS!A4984&configuracion!$C$10,\"\")","v":""},""]
[null,null,null,null,null,null,null,{"$f":"IF(DATOS!A4992<>\"\",DATOS!A4992&configuracion!$C$10,\"\")","v":""},""]
[null,null,null,null,null,null,null,{"$f":"IF(DATOS!A4995<>\"\",DATOS!A4995&configuracion!$C$10,\"\")","v":""},""]
[null,null,null,null,null,null,null,{"$f":"IF(DATOS!A5002<>\"\",DATOS!A5002&configuracion!$C$10,\"\")","v":""},""]
[null,null,null,null,null,null,null,{"$f":"IF(DATOS!A5010<>\"\",DATOS!A5010&configuracion!$C$10,\"\")","v":""},""]
[null,null,null,null,null,null,null,{"$f":"IF(DATOS!A5019<>\"\",DATOS!A5019&configuracion!$C$10,\"\")","v":""},""]
[null,null,null,null,null,null,null,{"$f":"IF(DATOS!A5022<>\"\",DATOS!A5022&configuracion!$C$10,\"\")","v":""},""]
[null,null,null,null,null,null,null,{"$f":"IF(DATOS!A5031<>\"\",DATOS!A5031&configuracion!$C$10,\"\")","v":""},""]
[null,null,null,null,null,null,null,{"$f":"IF(DATOS!A5033<>\"\",DATOS!A5033&configuracion!$C$10,\"\")","v":""},""]
[null,null,null,null,null,null,null,{"$f":"IF(DATOS!A5042<>\"\",DATOS!A5042&configuracion!$C$10,\"\")","v":""},""]
[null,null,null,null,null,null,null,{"$f":"IF(DATOS!A5049<>\"\",DATOS!A5049&configuracion!$C$10,\"\")","v":""},""]
[null,null,null,null,null,null,null,{"$f":"IF(DATOS!A5052<>\"\",DATOS!A5052&configuracion!$C$10,\"\")","v":""},""]
[null,null,null,null,null,null,null,{"$f":"IF(DATOS!A5059<>\"\",DATOS!A5059&configuracion!$C$10,\"\")","v":""},""]
[null,null,null,null,null,null,null,{"$f":"IF(DATOS!A5069<>\"\",DATOS!A5069&configuracion!$C$10,\"\")","v":""},""]
[null,null,null,null,null,null,null,{"$f":"IF(DATOS!A5072<>\"\",DATOS!A5072&configuracion!$C$10,\"\")","v":""},""]
[null,null,null,null,null,null,null,{"$f":"IF(DATOS!A5081<>\"\",DATOS!A5081&configuracion!$C$10,\"\")","v":""},""]
[null,null,null,null,null,null,null,{"$f":"IF(DATOS!A5082<>\"\",DATOS!A5082&configuracion!$C$10,\"\")","v":""},""]
[null,null,null,null,null,null,null,{"$f":"IF(DATOS!A5092<>\"\",DATOS!A5092&configuracion!$C$10,\"\")","v":""},""]
[null,null,null,null,null,null,null,{"$f":"IF(DATOS!A5099<>\"\",DATOS!A5099&configuracion!$C$10,\"\")","v":""},""]
[null,null,null,null,null,null,null,{"$f":"IF(DATOS!A5102<>\"\",DATOS!A5102&configuracion!$C$10,\"\")","v":""},""]
[null,null,null,null,null,null,null,{"$f":"IF(DATOS!A5108<>\"\",DATOS!A5108&configuracion!$C$10,\"\")","v":""},""]
[null,null,null,null,null,null,null,{"$f":"IF(DATOS!A5119<>\"\",DATOS!A5119&configuracion!$C$10,\"\")","v":""},""]
[null,null,null,null,null,null,null,{"$f":"IF(DATOS!A5122<>\"\",DATOS!A5122&configuracion!$C$10,\"\")","v":""},""]
[null,null,null,null,null,null,null,{"$f":"IF(DATOS!A5127<>\"\",DATOS!A5127&configuracion!$C$10,\"\")","v":""},""]
[null,null,null,null,null,null,null,{"$f":"IF(DATOS!A5133<>\"\",DATOS!A5133&configuracion!$C$10,\"\")","v":""},""]
[null,null,null,null,null,null,null,{"$f":"IF(DATOS!A5142<>\"\",DATOS!A5142&configuracion!$C$10,\"\")","v":""},""]
[null,null,null,null,null,null,null,{"$f":"IF(DATOS!A5149<>\"\",DATOS!A5149&configuracion!$C$10,\"\")","v":""},""]
[null,null,null,null,null,null,null,{"$f":"IF(DATOS!A5157<>\"\",DATOS!A5157&configuracion!$C$10,\"\")","v":""},""]
[null,null,null,null,null,null,null,{"$f":"IF(DATOS!A5162<>\"\",DATOS!A5162&configuracion!$C$10,\"\")","v":""},""]
[null,null,null,null,null,null,null,{"$f":"IF(DATOS!A5169<>\"\",DATOS!A5169&configuracion!$C$10,\"\")","v":""},""]
[null,null,null,null,null,null,null,{"$f":"IF(DATOS!A5172<>\"\",DATOS!A5172&configuracion!$C$10,\"\")","v":""},""]
[null,null,null,null,null,null,null,{"$f":"IF(DATOS!A5180<>\"\",DATOS!A5180&configuracion!$C$10,\"\")","v":""},""]
[null,null,null,null,null,null,null,{"$f":"IF(DATOS!A5183<>\"\",DATOS!A5183&configuracion!$C$10,\"\")","v":""},""]
[null,null,null,null,null,null,null,{"$f":"IF(DATOS!A5192<>\"\",DATOS!A5192&configuracion!$C$10,\"\")","v":""},""]
[null,null,null,null,null,null,null,{"$f":"IF(DATOS!A5199<>\"\",DATOS!A5199&configuracion!$C$10,\"\")","v":""},""]
[null,null,null,null,null,null,null,{"$f":"IF(DATOS!A5206<>\"\",DATOS!A5206&configuracion!$C$10,\"\")","v":""},""]
[null,null,null,null,null,null,null,{"$f":"IF(DATOS!A5212<>\"\",DATOS!A5212&configuracion!$C$10,\"\")","v":""},""]
[null,null,null,null,null,null,null,{"$f":"IF(DATOS!A5219<>\"\",DATOS!A5219&configuracion!$C$10,\"\")","v":""},""]
[null,null,null,null,null,null,null,{"$f":"IF(DATOS!A5222<>\"\",DATOS!A5222&configuracion!$C$10,\"\")","v":""},""]
[null,null,null,null,null,null,null,{"$f":"IF(DATOS!A5229<>\"\",DATOS!A5229&configuracion!$C$10,\"\")","v":""},""]
[null,null,null,null,null,null,null,{"$f":"IF(DATOS!A5233<>\"\",DATOS!A5233&configuracion!$C$10,\"\")","v":""},""]
[null,null,null,null,null,null,null,{"$f":"IF(DATOS!A5242<>\"\",DATOS!A5242&configuracion!$C$10,\"\")","v":""},""]
[null,null,null,null,null,null,null,{"$f":"IF(DATOS!A5249<>\"\",DATOS!A5249&configuracion!$C$10,\"\")","v":""},""]
[null,null,null,null,null,null,null,{"$f":"IF(DATOS!A5255<>\"\",DATOS!A5255&configuracion!$C$10,\"\")","v":""},""]
[null,null,null,null,null,null,null,{"$f":"IF(DATOS!A5260<>\"\",DATOS!A5260&configuracion!$C$10,\"\")","v":""},""]
[null,null,null,null,null,null,null,{"$f":"IF(DATOS!A5269<>\"\",DATOS!A5269&configuracion!$C$10,\"\")","v":""},""]
[null,null,null,null,null,null,null,{"$f":"IF(DATOS!A5272<>\"\",DATOS!A5272&configuracion!$C$10,\"\")","v":""},""]
[null,null,null,null,null,null,null,{"$f":"IF(DATOS!A5278<>\"\",DATOS!A5278&configuracion!$C$10,\"\")","v":""},""]
[null,null,null,null,null,null,null,{"$f":"IF(DATOS!A5283<>\"\",DATOS!A5283&configuracion!$C$10,\"\")","v":""},""]
[null,null,null,null,null,null,null,{"$f":"IF(DATOS!A5292<>\"\",DATOS!A5292&configuracion!$C$10,\"\")","v":""},""]
[null,null,null,null,null,null,null,{"$f":"IF(DATOS!A5299<>\"\",DATOS!A5299&configuracion!$C$10,\"\")","v":""},""]
[null,null,null,null,null,null,null,{"$f":"IF(DATOS!A5304<>\"\",DATOS!A5304&configuracion!$C$10,\"\")","v":""},""]
[null,null,null,null,null,null,null,{"$f":"IF(DATOS!A5310<>\"\",DATOS!A5310&configuracion!$C$10,\"\")","v":""},""]
[null,null,null,null,null,null,null,{"$f":"IF(DATOS!A5319<>\"\",DATOS!A5319&configuracion!$C$10,\"\")","v":""},""]
[null,null,null,null,null,null,null,{"$f":"IF(DATOS!A5322<>\"\",DATOS!A5322&configuracion!$C$10,\"\")","v":""},""]
[null,null,null,null,null,null,null,{"$f":"IF(DATOS!A5327<>\"\",DATOS!A5327&configuracion!$C$10,\"\")","v":""},""]
[null,null,null,null,null,null,null,{"$f":"IF(DATOS!A5333<>\"\",DATOS!A5333&configuracion!$C$10,\"\")","v":""},""]
[null,null,null,null,null,null,null,{"$f":"IF(DATOS!A5342<>\"\",DATOS!A5342&configuracion!$C$10,\"\")","v":""},""]
[null,null,null,null,null,null,null,{"$f":"IF(DATOS!A5349<>\"\",DATOS!A5349&configuracion!$C$10,\"\")","v":""},""]
[null,null,null,null,null,null,null,{"$f":"IF(DATOS!A5353<>\"\",DATOS!A5353&configuracion!$C$10,\"\")","v":""},""]
[null,null,null,null,null,null,null,{"$f":"IF(DATOS!A5360<>\"\",DATOS!A5360&configuracion!$C$10,\"\")","v":""},""]
[null,null,null,null,null,null,null,{"$f":"IF(DATOS!A5369<>\"\",DATOS!A5369&configuracion!$C$10,\"\")","v":""},""]
[null,null,null,null,null,null,null,{"$f":"IF(DATOS!A5372<>\"\",DATOS!A5372&configuracion!$C$10,\"\")","v":""},""]
[null,null,null,null,null,null,null,{"$f":"IF(DATOS!A5376<>\"\",DATOS!A5376&configuracion!$C$10,\"\")","v":""},""]
[null,null,null,null,null,null,null,{"$f":"IF(DATOS!A5383<>\"\",DATOS!A5383&configuracion!$C$10,\"\")","v":""},""]
[null,null,null,null,null,null,null,{"$f":"IF(DATOS!A5390<>\"\",DATOS!A5390&configuracion!$C$10,\"\")","v":""},""]
[null,null,null,null,null,null,null,{"$f":"IF(DATOS!A5399<>\"\",DATOS!A5399&configuracion!$C$10,\"\")","v":""},""]
[null,null,null,null,null,null,null,{"$f":"IF(DATOS!A5402<>\"\",DATOS!A5402&configuracion!$C$10,\"\")","v":""},""]
[null,null,null,null,null,null,null,{"$f":"IF(DATOS!A5410<>\"\",DATOS!A5410&configuracion!$C$10,\"\")","v":""},""]
[null,null,null,null,null,null,null,{"$f":"IF(DATOS!A5419<>\"\",DATOS!A5419&configuracion!$C$10,\"\")","v":""},""]
[null,null,null,null,null,null,null,{"$f":"IF(DATOS!A5422<>\"\",DATOS!A5422&configuracion!$C$10,\"\")","v":""},""]
[null,null,null,null,null,null,null,{"$f":"IF(DATOS!A5432<>\"\",DATOS!A5432&configuracion!$C$10,\"\")","v":""},""]
[null,null,null,null,null,null,null,{"$f":"IF(DATOS!A5433<>\"\",DATOS!A5433&configuracion!$C$10,\"\")","v":""},""]
[null,null,null,null,null,null,null,{"$f":"IF(DATOS!A5440<>\"\",DATOS!A5440&configuracion!$C$10,\"\")","v":""},""]
[null,null,null,null,null,null,null,{"$f":"IF(DATOS!A5449<>\"\",DATOS!A5449&configuracion!$C$10,\"\")","v":""},""]
[null,null,null,null,null,null,null,{"$f":"IF(DATOS!A5451<>\"\",DATOS!A5451&configuracion!$C$10,\"\")","v":""},""]
[null,null,null,null,null,null,null,{"$f":"IF(DATOS!A5460<>\"\",DATOS!A5460&configuracion!$C$10,\"\")","v":""},""]
[null,null,null,null,null,null,null,{"$f":"IF(DATOS!A5469<>\"\",DATOS!A5469&configuracion!$C$10,\"\")","v":""},""]
[null,null,null,null,null,null,null,{"$f":"IF(DATOS!A5472<>\"\",DATOS!A5472&configuracion!$C$10,\"\")","v":""},""]
[null,null,null,null,null,null,null,{"$f":"IF(DATOS!A5481<>\"\",DATOS!A5481&configuracion!$C$10,\"\")","v":""},""]
[null,null,null,null,null,null,null,{"$f":"IF(DATOS!A5483<>\"\",DATOS!A5483&configuracion!$C$10,\"\")","v":""},""]
[null,null,null,null,null,null,null,{"$f":"IF(DATOS!A5490<>\"\",DATOS!A5490&configuracion!$C$10,\"\")","v":""},""]
[null,null,null,null,null,null,null,{"$f":"IF(DATOS!A5499<>\"\",DATOS!A5499&configuracion!$C$10,\"\")","v":""},""]
[null,null,null,null,null,null,null,{"$f":"IF(DATOS!A5507<>\"\",DATOS!A5507&configuracion!$C$10,\"\")","v":""},""]
[null,null,null,null,null,null,null,{"$f":"IF(DATOS!A5510<>\"\",DATOS!A5510&configuracion!$C$10,\"\")","v":""},""]
[null,null,null,null,null,null,null,{"$f":"IF(DATOS!A5519<>\"\",DATOS!A5519&configuracion!$C$10,\"\")","v":""},""]
[null,null,null,null,null,null,null,{"$f":"IF(DATOS!A5520<>\"\",DATOS!A5520&configuracion!$C$10,\"\")","v":""},""]
[null,null,null,null,null,null,null,{"$f":"IF(DATOS!A5530<>\"\",DATOS!A5530&configuracion!$C$10,\"\")","v":""},""]
[null,null,null,null,null,null,null,{"$f":"IF(DATOS!A5533<>\"\",DATOS!A5533&configuracion!$C$10,\"\")","v":""},""]
[null,null,null,null,null,null,null,{"$f":"IF(DATOS!A5540<>\"\",DATOS!A5540&configuracion!$C$10,\"\")","v":""},""]
[null,null,null,null,null,null,null,{"$f":"IF(DATOS!A5549<>\"\",DATOS!A5549&configuracion!$C$10,\"\")","v":""},""]
[null,null,null,null,null,null,null,{"$f":"IF(DATOS!A5556<>\"\",DATOS!A5556&configuracion!$C$10,\"\")","v":""},""]
[null,null,null,null,null,null,null,{"$f":"IF(DATOS!A5560<>\"\",DATOS!A5560&configuracion!$C$10,\"\")","v":""},""]
[null,null,null,null,null,null,null,{"$f":"IF(DATOS!A5569<>\"\",DATOS!A5569&configuracion!$C$10,\"\")","v":""},""]
[null,null,null,null,null,null,null,{"$f":"IF(DATOS!A5570<>\"\",DATOS!A5570&configuracion!$C$10,\"\")","v":""},""]
[null,null,null,null,null,null,null,{"$f":"IF(DATOS!A5579<>\"\",DATOS!A5579&configuracion!$C$10,\"\")","v":""},""]
[null,null,null,null,null,null,null,{"$f":"IF(DATOS!A5583<>\"\",DATOS!A5583&configuracion!$C$10,\"\")","v":""},""]
[null,null,null,null,null,null,null,{"$f":"IF(DATOS!A5590<>\"\",DATOS!A5590&configuracion!$C$10,\"\")","v":""},""]
[null,null,null,null,null,null,null,{"$f":"IF(DATOS!A5599<>\"\",DATOS!A5599&configuracion!$C$10,\"\")","v":""},""]
[null,null,null,null,null,null,null,{"$f":"IF(DATOS!A5602<>\"\",DATOS!A5602&configuracion!$C$10,\"\")","v":""},""]
[null,null,null,null,null,null,null,{"$f":"IF(DATOS!A5610<>\"\",DATOS!A5610&configuracion!$C$10,\"\")","v":""},""]
[null,null,null,null,null,null,null,{"$f":"IF(DATOS!A5619<>\"\",DATOS!A5619&configuracion!$C$10,\"\")","v":""},""]
[null,null,null,null,null,null,null,{"$f":"IF(DATOS!A5620<>\"\",DATOS!A5620&configuracion!$C$10,\"\")","v":""},""]
[null,null,null,null,null,null,null,{"$f":"IF(DATOS!A5628<>\"\",DATOS!A5628&configuracion!$C$10,\"\")","v":""},""]
[null,null,null,null,null,null,null,{"$f":"IF(DATOS!A5633<>\"\",DATOS!A5633&configuracion!$C$10,\"\")","v":""},""]
[null,null,null,null,null,null,null,{"$f":"IF(DATOS!A5640<>\"\",DATOS!A5640&configuracion!$C$10,\"\")","v":""},""]
[null,null,null,null,null,null,null,{"$f":"IF(DATOS!A5649<>\"\",DATOS!A5649&configuracion!$C$10,\"\")","v":""},""]
[null,null,null,null,null,null,null,{"$f":"IF(DATOS!A5651<>\"\",DATOS!A5651&configuracion!$C$10,\"\")","v":""},""]
[null,null,null,null,null,null,null,{"$f":"IF(DATOS!A5660<>\"\",DATOS!A5660&configuracion!$C$10,\"\")","v":""},""]
[null,null,null,null,null,null,null,{"$f":"IF(DATOS!A5669<>\"\",DATOS!A5669&configuracion!$C$10,\"\")","v":""},""]
[null,null,null,null,null,null,null,{"$f":"IF(DATOS!A5670<>\"\",DATOS!A5670&configuracion!$C$10,\"\")","v":""},""]
[null,null,null,null,null,null,null,{"$f":"IF(DATOS!A5677<>\"\",DATOS!A5677&configuracion!$C$10,\"\")","v":""},""]
[null,null,null,null,null,null,null,{"$f":"IF(DATOS!A5683<>\"\",DATOS!A5683&configuracion!$C$10,\"\")","v":""},""]
[null,null,null,null,null,null,null,{"$f":"IF(DATOS!A5690<>\"\",DATOS!A5690&configuracion!$C$10,\"\")","v":""},""]
[null,null,null,null,null,null,null,{"$f":"IF(DATOS!A5699<>\"\",DATOS!A5699&configuracion!$C$10,\"\")","v":""},""]
[null,null,null,null,null,null,null,{"$f":"IF(DATOS!A5707<>\"\",DATOS!A5707&configuracion!$C$10,\"\")","v":""},""]
[null,null,null,null,null,null,null,{"$f":"IF(DATOS!A5710<>\"\",DATOS!A5710&configuracion!$C$10,\"\")","v":""},""]
[null,null,null,null,null,null,null,{"$f":"IF(DATOS!A5719<>\"\",DATOS!A5719&configuracion!$C$10,\"\")","v":""},""]
[null,null,null,null,null,null,null,{"$f":"IF(DATOS!A5720<>\"\",DATOS!A5720&configuracion!$C$10,\"\")","v":""},""]
[null,null,null,null,null,null,null,{"$f":"IF(DATOS!A5726<>\"\",DATOS!A5726&configuracion!$C$10,\"\")","v":""},""]
[null,null,null,null,null,null,null,{"$f":"IF(DATOS!A5737<>\"\",DATOS!A5737&configuracion!$C$10,\"\")","v":""},""]
[null,null,null,null,null,null,null,{"$f":"IF(DATOS!A5740<>\"\",DATOS!A5740&configuracion!$C$10,\"\")","v":""},""]
[null,null,null,null,null,null,null,{"$f":"IF(DATOS!A5749<>\"\",DATOS!A5749&configuracion!$C$10,\"\")","v":""},""]
[null,null,null,null,null,null,null,{"$f":"IF(DATOS!A5756<>\"\",DATOS!A5756&configuracion!$C$10,\"\")","v":""},""]
[null,null,null,null,null,null,null,{"$f":"IF(DATOS!A5760<>\"\",DATOS!A5760&configuracion!$C$10,\"\")","v":""},""]
[null,null,null,null,null,null,null,{"$f":"IF(DATOS!A5769<>\"\",DATOS!A5769&configuracion!$C$10,\"\")","v":""},""]
[null,null,null,null,null,null,null,{"$f":"IF(DATOS!A5770<>\"\",DATOS!A5770&configuracion!$C$10,\"\")","v":""},""]
[null,null,null,null,null,null,null,{"$f":"IF(DATOS!A5782<>\"\",DATOS!A5782&configuracion!$C$10,\"\")","v":""},""]
[null,null,null,null,null,null,null,{"$f":"IF(DATOS!A5787<>\"\",DATOS!A5787&configuracion!$C$10,\"\")","v":""},""]
[null,null,null,null,null,null,null,{"$f":"IF(DATOS!A5790<>\"\",DATOS!A5790&configuracion!$C$10,\"\")","v":""},""]
[null,null,null,null,null,null,null,{"$f":"IF(DATOS!A5799<>\"\",DATOS!A5799&configuracion!$C$10,\"\")","v":""},""]
[null,null,null,null,null,null,null,{"$f":"IF(DATOS!A5805<>\"\",DATOS!A5805&configuracion!$C$10,\"\")","v":""},""]
[null,null,null,null,null,null,null,{"$f":"IF(DATOS!A5810<>\"\",DATOS!A5810&configuracion!$C$10,\"\")","v":""},""]
[null,null,null,null,null,null,null,{"$f":"IF(DATOS!A5819<>\"\",DATOS!A5819&configuracion!$C$10,\"\")","v":""},""]
[null,null,null,null,null,null,null,{"$f":"IF(DATOS!A5820<>\"\",DATOS!A5820&configuracion!$C$10,\"\")","v":""},""]
[null,null,null,null,null,null,null,{"$f":"IF(DATOS!A5831<>\"\",DATOS!A5831&configuracion!$C$10,\"\")","v":""},""]
[null,null,null,null,null,null,null,{"$f":"IF(DATOS!A5837<>\"\",DATOS!A5837&configuracion!$C$10,\"\")","v":""},""]
[null,null,null,null,null,null,null,{"$f":"IF(DATOS!A5840<>\"\",DATOS!A5840&configuracion!$C$10,\"\")","v":""},""]
[null,null,null,null,null,null,null,{"$f":"IF(DATOS!A5849<>\"\",DATOS!A5849&configuracion!$C$10,\"\")","v":""},""]
[null,null,null,null,null,null,null,{"$f":"IF(DATOS!A5854<>\"\",DATOS!A5854&configuracion!$C$10,\"\")","v":""},""]
[null,null,null,null,null,null,null,{"$f":"IF(DATOS!A5860<>\"\",DATOS!A5860&configuracion!$C$10,\"\")","v":""},""]
[null,null,null,null,null,null,null,{"$f":"IF(DATOS!A5867<>\"\",DATOS!A5867&configuracion!$C$10,\"\")","v":""},""]
[null,null,null,null,null,null,null,{"$f":"IF(DATOS!A5870<>\"\",DATOS!A5870&configuracion!$C$10,\"\")","v":""},""]
[null,null,null,null,null,null,null,{"$f":"IF(DATOS!A5880<>\"\",DATOS!A5880&configuracion!$C$10,\"\")","v":""},""]
[null,null,null,null,null,null,null,{"$f":"IF(DATOS!A5887<>\"\",DATOS!A5887&configuracion!$C$10,\"\")","v":""},""]
[null,null,null,null,null,null,null,{"$f":"IF(DATOS!A5890<>\"\",DATOS!A5890&configuracion!$C$10,\"\")","v":""},""]
[null,null,null,null,null,null,null,{"$f":"IF(DATOS!A5899<>\"\",DATOS!A5899&configuracion!$C$10,\"\")","v":""},""]
[null,null,null,null,null,null,null,{"$f":"IF(DATOS!A5903<>\"\",DATOS!A5903&configuracion!$C$10,\"\")","v":""},""]
[null,null,null,null,null,null,null,{"$f":"IF(DATOS!A5910<>\"\",DATOS!A5910&configuracion!$C$10,\"\")","v":""},""]
[null,null,null,null,null,null,null,{"$f":"IF(DATOS!A5917<>\"\",DATOS!A5917&configuracion!$C$10,\"\")","v":""},""]
[null,null,null,null,null,null,null,{"$f":"IF(DATOS!A5920<>\"\",DATOS!A5920&configuracion!$C$10,\"\")","v":""},""]
[null,null,null,null,null,null,null,{"$f":"IF(DATOS!A5929<>\"\",DATOS!A5929&configuracion!$C$10,\"\")","v":""},""]
[null,null,null,null,null,null,null,{"$f":"IF(DATOS!A5937<>\"\",DATOS!A5937&configuracion!$C$10,\"\")","v":""},""]
[null,null,null,null,null,null,null,{"$f":"IF(DATOS!A5940<>\"\",DATOS!A5940&configuracion!$C$10,\"\")","v":""},""]
[null,null,null,null,null,null,null,{"$f":"IF(DATOS!A5947<>\"\",DATOS!A5947&configuracion!$C$10,\"\")","v":""},""]
[null,null,null,null,null,null,null,{"$f":"IF(DATOS!A5952<>\"\",DATOS!A5952&configuracion!$C$10,\"\")","v":""},""]
[null,null,null,null,null,null,null,{"$f":"IF(DATOS!A5960<>\"\",DATOS!A5960&configuracion!$C$10,\"\")","v":""},""]
[null,null,null,null,null,null,null,{"$f":"IF(DATOS!A5967<>\"\",DATOS!A5967&configuracion!$C$10,\"\")","v":""},""]
[null,null,null,null,null,null,null,{"$f":"IF(DATOS!A5970<>\"\",DATOS!A5970&configuracion!$C$10,\"\")","v":""},""]
[null,null,null,null,null,null,null,{"$f":"IF(DATOS!A5978<>\"\",DATOS!A5978&configuracion!$C$10,\"\")","v":""},""]
[null,null,null,null,null,null,null,{"$f":"IF(DATOS!A5987<>\"\",DATOS!A5987&configuracion!$C$10,\"\")","v":""},""]
[null,null,null,null,null,null,null,{"$f":"IF(DATOS!A5990<>\"\",DATOS!A5990&configuracion!$C$10,\"\")","v":""},""]
[null,null,null,null,null,null,null,{"$f":"IF(DATOS!A5997<>\"\",DATOS!A5997&configuracion!$C$10,\"\")","v":""},""]
[null,null,null,null,null,null,null,{"$f":"IF(DATOS!A6001<>\"\",DATOS!A6001&configuracion!$C$10,\"\")","v":""},""]
[null,null,null,null,null,null,null,{"$f":"IF(DATOS!A6010<>\"\",DATOS!A6010&configuracion!$C$10,\"\")","v":""},""]
[null,null,null,null,null,null,null,{"$f":"IF(DATOS!A6017<>\"\",DATOS!A6017&configuracion!$C$10,\"\")","v":""},""]
[null,null,null,null,null,null,null,{"$f":"IF(DATOS!A6020<>\"\",DATOS!A6020&configuracion!$C$10,\"\")","v":""},{"$f":"IF(B6020=\"\",\"\",TEXT(B6020, \"DD/MM/YYYY HH:MM:SS\"))","v":""}]
[null,null,null,null,null,null,null,{"$f":"IF(DATOS!A6027<>\"\",DATOS!A6027&configuracion!$C$10,\"\")","v":""},""]
[null,null,null,null,null,null,null,{"$f":"IF(DATOS!A6037<>\"\",DATOS!A6037&configuracion!$C$10,\"\")","v":""},""]
[null,null,null,null,null,null,null,{"$f":"IF(DATOS!A6040<>\"\",DATOS!A6040&configuracion!$C$10,\"\")","v":""},""]
[null,null,null,null,null,null,null,{"$f":"IF(DATOS!A6047<>\"\",DATOS!A6047&configuracion!$C$10,\"\")","v":""},""]
[null,null,null,null,null,null,null,{"$f":"IF(DATOS!A6057<>\"\",DATOS!A6057&configuracion!$C$10,\"\")","v":""},""]
[null,null,null,null,null,null,null,{"$f":"IF(DATOS!A6060<>\"\",DATOS!A6060&configuracion!$C$10,\"\")","v":""},""]
[null,null,null,null,null,null,null,{"$f":"IF(DATOS!A6067<>\"\",DATOS!A6067&configuracion!$C$10,\"\")","v":""},""]
[null,null,null,null,null,null,null,{"$f":"IF(DATOS!A6070<>\"\",DATOS!A6070&configuracion!$C$10,\"\")","v":""},""]
[null,null,null,null,null,null,null,{"$f":"IF(DATOS!A6080<>\"\",DATOS!A6080&configuracion!$C$10,\"\")","v":""},""]
[null,null,null,null,null,null,null,{"$f":"IF(DATOS!A6087<>\"\",DATOS!A6087&configuracion!$C$10,\"\")","v":""},""]
[null,null,null,null,null,null,null,{"$f":"IF(DATOS!A6090<>\"\",DATOS!A6090&configuracion!$C$10,\"\")","v":""},""]
[null,null,null,null,null,null,null,{"$f":"IF(DATOS!A6097<>\"\",DATOS!A6097&configuracion!$C$10,\"\")","v":""},""]
[null,null,null,null,null,null,null,{"$f":"IF(DATOS!A6106<>\"\",DATOS!A6106&configuracion!$C$10,\"\")","v":""},""]
[null,null,null,null,null,null,null,{"$f":"IF(DATOS!A6110<>\"\",DATOS!A6110&configuracion!$C$10,\"\")","v":""},""]
[null,null,null,null,null,null,null,{"$f":"IF(DATOS!A6117<>\"\",DATOS!A6117&configuracion!$C$10,\"\")","v":""},""]
[null,null,null,null,null,null,null,{"$f":"IF(DATOS!A6120<>\"\",DATOS!A6120&configuracion!$C$10,\"\")","v":""},""]
[null,null,null,null,null,null,null,{"$f":"IF(DATOS!A6129<>\"\",DATOS!A6129&configuracion!$C$10,\"\")","v":""},""]
[null,null,null,null,null,null,null,{"$f":"IF(DATOS!A6137<>\"\",DATOS!A6137&configuracion!$C$10,\"\")","v":""},""]
[null,null,null,null,null,null,null,{"$f":"IF(DATOS!A6140<>\"\",DATOS!A6140&configuracion!$C$10,\"\")","v":""},""]
[null,null,null,null,null,null,null,{"$f":"IF(DATOS!A6147<>\"\",DATOS!A6147&configuracion!$C$10,\"\")","v":""},""]
[null,null,null,null,null,null,null,{"$f":"IF(DATOS!A6155<>\"\",DATOS!A6155&configuracion!$C$10,\"\")","v":""},""]
[null,null,null,null,null,null,null,{"$f":"IF(DATOS!A6158<>\"\",DATOS!A6158&configuracion!$C$10,\"\")","v":""},""]
[null,null,null,null,null,null,null,{"$f":"IF(DATOS!A6167<>\"\",DATOS!A6167&configuracion!$C$10,\"\")","v":""},""]
[null,null,null,null,null,null,null,{"$f":"IF(DATOS!A6174<>\"\",DATOS!A6174&configuracion!$C$10,\"\")","v":""},""]
[null,null,null,null,null,null,null,{"$f":"IF(DATOS!A6178<>\"\",DATOS!A6178&configuracion!$C$10,\"\")","v":""},""]
[null,null,null,null,null,null,null,{"$f":"IF(DATOS!A6187<>\"\",DATOS!A6187&configuracion!$C$10,\"\")","v":""},""]
[null,null,null,null,null,null,null,{"$f":"IF(DATOS!A6190<>\"\",DATOS!A6190&configuracion!$C$10,\"\")","v":""},""]
[null,null,null,null,null,null,null,{"$f":"IF(DATOS!A6197<>\"\",DATOS!A6197&configuracion!$C$10,\"\")","v":""},""]
[null,null,null,null,null,null,null,{"$f":"IF(DATOS!A6207<>\"\",DATOS!A6207&configuracion!$C$10,\"\")","v":""},""]
[null,null,null,null,null,null,null,{"$f":"IF(DATOS!A6208<>\"\",DATOS!A6208&configuracion!$C$10,\"\")","v":""},""]
[null,null,null,null,null,null,null,{"$f":"IF(DATOS!A6217<>\"\",DATOS!A6217&configuracion!$C$10,\"\")","v":""},""]
[null,null,null,null,null,null,null,{"$f":"IF(DATOS!A6223<>\"\",DATOS!A6223&configuracion!$C$10,\"\")","v":""},""]
[null,null,null,null,null,null,null,{"$f":"IF(DATOS!A6228<>\"\",DATOS!A6228&configuracion!$C$10,\"\")","v":""},""]
[null,null,null,null,null,null,null,{"$f":"IF(DATOS!A6237<>\"\",DATOS!A6237&configuracion!$C$10,\"\")","v":""},""]
[null,null,null,null,null,null,null,{"$f":"IF(DATOS!A6240<>\"\",DATOS!A6240&configuracion!$C$10,\"\")","v":""},""]
[null,null,null,null,null,null,null,{"$f":"IF(DATOS!A6246<>\"\",DATOS!A6246&configuracion!$C$10,\"\")","v":""},""]
[null,null,null,null,null,null,null,{"$f":"IF(DATOS!A6257<>\"\",DATOS!A6257&configuracion!$C$10,\"\")","v":""},""]
[null,null,null,null,null,null,null,{"$f":"IF(DATOS!A6258<>\"\",DATOS!A6258&configuracion!$C$10,\"\")","v":""},""]
[null,null,null,null,null,null,null,{"$f":"IF(DATOS!A6267<>\"\",DATOS!A6267&configuracion!$C$10,\"\")","v":""},""]
[null,null,null,null,null,null,null,{"$f":"IF(DATOS!A6272<>\"\",DATOS!A6272&configuracion!$C$10,\"\")","v":""},""]
[null,null,null,null,null,null,null,{"$f":"IF(DATOS!A6278<>\"\",DATOS!A6278&configuracion!$C$10,\"\")","v":""},""]
[null,null,null,null,null,null,null,{"$f":"IF(DATOS!A6287<>\"\",DATOS!A6287&configuracion!$C$10,\"\")","v":""},""]
[null,null,null,null,null,null,null,{"$f":"IF(DATOS!A6294<>\"\",DATOS!A6294&configuracion!$C$10,\"\")","v":""},""]
[null,null,null,null,null,null,null,{"$f":"IF(DATOS!A6295<>\"\",DATOS!A6295&configuracion!$C$10,\"\")","v":""},""]
[null,null,null,null,null,null,null,{"$f":"IF(DATOS!A6307<>\"\",DATOS!A6307&configuracion!$C$10,\"\")","v":""},""]
[null,null,null,null,null,null,null,{"$f":"IF(DATOS!A6308<>\"\",DATOS!A6308&configuracion!$C$10,\"\")","v":""},""]
[null,null,null,null,null,null,null,{"$f":"IF(DATOS!A6317<>\"\",DATOS!A6317&configuracion!$C$10,\"\")","v":""},""]
[null,null,null,null,null,null,null,{"$f":"IF(DATOS!A6321<>\"\",DATOS!A6321&configuracion!$C$10,\"\")","v":""},""]
[null,null,null,null,null,null,null,{"$f":"IF(DATOS!A6328<>\"\",DATOS!A6328&configuracion!$C$10,\"\")","v":""},""]
[null,null,null,null,null,null,null,{"$f":"IF(DATOS!A6337<>\"\",DATOS!A6337&configuracion!$C$10,\"\")","v":""},""]
[null,null,null,null,null,null,null,{"$f":"IF(DATOS!A6344<>\"\",DATOS!A6344&configuracion!$C$10,\"\")","v":""},""]
[null,null,null,null,null,null,null,{"$f":"IF(DATOS!A6351<>\"\",DATOS!A6351&configuracion!$C$10,\"\")","v":""},""]
[null,null,null,null,null,null,null,{"$f":"IF(DATOS!A6357<>\"\",DATOS!A6357&configuracion!$C$10,\"\")","v":""},""]
[null,null,null,null,null,null,null,{"$f":"IF(DATOS!A6358<>\"\",DATOS!A6358&configuracion!$C$10,\"\")","v":""},""]
[null,null,null,null,null,null,null,{"$f":"IF(DATOS!A6367<>\"\",DATOS!A6367&configuracion!$C$10,\"\")","v":""},""]
[null,null,null,null,null,null,null,{"$f":"IF(DATOS!A6370<>\"\",DATOS!A6370&configuracion!$C$10,\"\")","v":""},""]
[null,null,null,null,null,null,null,{"$f":"IF(DATOS!A6378<>\"\",DATOS!A6378&configuracion!$C$10,\"\")","v":""},""]
[null,null,null,null,null,null,null,{"$f":"IF(DATOS!A6387<>\"\",DATOS!A6387&configuracion!$C$10,\"\")","v":""},""]
[null,null,null,null,null,null,null,{"$f":"IF(DATOS!A6394<>\"\",DATOS!A6394&configuracion!$C$10,\"\")","v":""},""]
[null,null,null,null,null,null,null,{"$f":"IF(DATOS!A6400<>\"\",DATOS!A6400&configuracion!$C$10,\"\")","v":""},""]
[null,null,null,null,null,null,null,{"$f":"IF(DATOS!A6407<>\"\",DATOS!A6407&configuracion!$C$10,\"\")","v":""},""]
[null,null,null,null,null,null,null,{"$f":"IF(DATOS!A6408<>\"\",DATOS!A6408&configuracion!$C$10,\"\")","v":""},""]
[null,null,null,null,null,null,null,{"$f":"IF(DATOS!A6417<>\"\",DATOS!A6417&configuracion!$C$10,\"\")","v":""},""]
[null,null,null,null,null,null,null,{"$f":"IF(DATOS!A6423<>\"\",DATOS!A6423&configuracion!$C$10,\"\")","v":""},""]
[null,null,null,null,null,null,null,{"$f":"IF(DATOS!A6428<>\"\",DATOS!A6428&configuracion!$C$10,\"\")","v":""},""]
[null,null,null,null,null,null,null,{"$f":"IF(DATOS!A6437<>\"\",DATOS!A6437&configuracion!$C$10,\"\")","v":""},""]
[null,null,null,null,null,null,null,{"$f":"IF(DATOS!A6444<>\"\",DATOS!A6444&configuracion!$C$10,\"\")","v":""},""]
[null,null,null,null,null,null,null,{"$f":"IF(DATOS!A6449<>\"\",DATOS!A6449&configuracion!$C$10,\"\")","v":""},""]
[null,null,null,null,null,null,null,{"$f":"IF(DATOS!A6457<>\"\",DATOS!A6457&configuracion!$C$10,\"\")","v":""},""]
[null,null,null,null,null,null,null,{"$f":"IF(DATOS!A6458<>\"\",DATOS!A6458&configuracion!$C$10,\"\")","v":""},""]
[null,null,null,null,null,null,null,{"$f":"IF(DATOS!A6467<>\"\",DATOS!A6467&configuracion!$C$10,\"\")","v":""},""]
[null,null,null,null,null,null,null,{"$f":"IF(DATOS!A6472<>\"\",DATOS!A6472&configuracion!$C$10,\"\")","v":""},""]
[null,null,null,null,null,null,null,{"$f":"IF(DATOS!A6478<>\"\",DATOS!A6478&configuracion!$C$10,\"\")","v":""},""]
[null,null,null,null,null,null,null,{"$f":"IF(DATOS!A6487<>\"\",DATOS!A6487&configuracion!$C$10,\"\")","v":""},""]
[null,null,null,null,null,null,null,{"$f":"IF(DATOS!A6494<>\"\",DATOS!A6494&configuracion!$C$10,\"\")","v":""},""]
[null,null,null,null,null,null,null,{"$f":"IF(DATOS!A6498<>\"\",DATOS!A6498&configuracion!$C$10,\"\")","v":""},""]
[null,null,null,null,null,null,null,{"$f":"IF(DATOS!A6505<>\"\",DATOS!A6505&configuracion!$C$10,\"\")","v":""},""]
[null,null,null,null,null,null,null,{"$f":"IF(DATOS!A6508<>\"\",DATOS!A6508&configuracion!$C$10,\"\")","v":""},""]
[null,null,null,null,null,null,null,{"$f":"IF(DATOS!A6517<>\"\",DATOS!A6517&configuracion!$C$10,\"\")","v":""},""]
[null,null,null,null,null,null,null,{"$f":"IF(DATOS!A6521<>\"\",DATOS!A6521&configuracion!$C$10,\"\")","v":""},""]
[null,null,null,null,null,null,null,{"$f":"IF(DATOS!A6528<>\"\",DATOS!A6528&configuracion!$C$10,\"\")","v":""},""]
[null,null,null,null,null,null,null,{"$f":"IF(DATOS!A6537<>\"\",DATOS!A6537&configuracion!$C$10,\"\")","v":""},""]
[null,null,null,null,null,null,null,{"$f":"IF(DATOS!A6544<>\"\",DATOS!A6544&configuracion!$C$10,\"\")","v":""},""]
[null,null,null,null,null,null,null,{"$f":"IF(DATOS!A6547<>\"\",DATOS!A6547&configuracion!$C$10,\"\")","v":""},""]
[null,null,null,null,null,null,null,{"$f":"IF(DATOS!A6555<>\"\",DATOS!A6555&configuracion!$C$10,\"\")","v":""},""]
[null,null,null,null,null,null,null,{"$f":"IF(DATOS!A6558<>\"\",DATOS!A6558&configuracion!$C$10,\"\")","v":""},""]
[null,null,null,null,null,null,null,{"$f":"IF(DATOS!A6567<>\"\",DATOS!A6567&configuracion!$C$10,\"\")","v":""},""]
[null,null,null,null,null,null,null,{"$f":"IF(DATOS!A6570<>\"\",DATOS!A6570&configuracion!$C$10,\"\")","v":""},""]
[null,null,null,null,null,null,null,{"$f":"IF(DATOS!A6578<>\"\",DATOS!A6578&configuracion!$C$10,\"\")","v":""},""]
[null,null,null,null,null,null,null,{"$f":"IF(DATOS!A6587<>\"\",DATOS!A6587&configuracion!$C$10,\"\")","v":""},""]
[null,null,null,null,null,null,null,{"$f":"IF(DATOS!A6594<>\"\",DATOS!A6594&configuracion!$C$10,\"\")","v":""},""]
[null,null,null,null,null,null,null,{"$f":"IF(DATOS!A6596<>\"\",DATOS!A6596&configuracion!$C$10,\"\")","v":""},{"$f":"IF(B6596=\"\",\"\",TEXT(B6596, \"DD/MM/YYYY HH:MM:SS\"))","v":""}]
[null,null,null,null,null,null,null,{"$f":"IF(DATOS!A6605<>\"\",DATOS!A6605&configuracion!$C$10,\"\")","v":""},""]
[null,null,null,null,null,null,null,{"$f":"IF(DATOS!A6608<>\"\",DATOS!A6608&configuracion!$C$10,\"\")","v":""},""]
[null,null,null,null,null,null,null,{"$f":"IF(DATOS!A6617<>\"\",DATOS!A6617&configuracion!$C$10,\"\")","v":""},""]
[null,null,null,null,null,null,null,{"$f":"IF(DATOS!A6626<>\"\",DATOS!A6626&configuracion!$C$10,\"\")","v":""},""]
[null,null,null,null,null,null,null,{"$f":"IF(DATOS!A6628<>\"\",DATOS!A6628&configuracion!$C$10,\"\")","v":""},""]
[null,null,null,null,null,null,null,{"$f":"IF(DATOS!A6635<>\"\",DATOS!A6635&configuracion!$C$10,\"\")","v":""},""]
[null,null,null,null,null,null,null,{"$f":"IF(DATOS!A6644<>\"\",DATOS!A6644&configuracion!$C$10,\"\")","v":""},""]
[null,null,null,null,null,null,null,{"$f":"IF(DATOS!A6645<>\"\",DATOS!A6645&configuracion!$C$10,\"\")","v":""},""]
[null,null,null,null,null,null,null,{"$f":"IF(DATOS!A6655<>\"\",DATOS!A6655&configuracion!$C$10,\"\")","v":""},""]
[null,null,null,null,null,null,null,{"$f":"IF(DATOS!A6658<>\"\",DATOS!A6658&configuracion!$C$10,\"\")","v":""},""]
[null,null,null,null,null,null,null,{"$f":"IF(DATOS!A6667<>\"\",DATOS!A6667&configuracion!$C$10,\"\")","v":""},""]
[null,null,null,null,null,null,null,{"$f":"IF(DATOS!A6675<>\"\",DATOS!A6675&configuracion!$C$10,\"\")","v":""},""]
[null,null,null,null,null,null,null,{"$f":"IF(DATOS!A6678<>\"\",DATOS!A6678&configuracion!$C$10,\"\")","v":""},""]
[null,null,null,null,null,null,null,{"$f":"IF(DATOS!A6685<>\"\",DATOS!A6685&configuracion!$C$10,\"\")","v":""},""]
[null,null,null,null,null,null,null,{"$f":"IF(DATOS!A6694<>\"\",DATOS!A6694&configuracion!$C$10,\"\")","v":""},""]
[null,null,null,null,null,null,null,{"$f":"IF(DATOS!A6701<>\"\",DATOS!A6701&configuracion!$C$10,\"\")","v":""},""]
[null,null,null,null,null,null,null,{"$f":"IF(DATOS!A6705<>\"\",DATOS!A6705&configuracion!$C$10,\"\")","v":""},""]
[null,null,null,null,null,null,null,{"$f":"IF(DATOS!A6708<>\"\",DATOS!A6708&configuracion!$C$10,\"\")","v":""},""]
[null,null,null,null,null,null,null,{"$f":"IF(DATOS!A6715<>\"\",DATOS!A6715&configuracion!$C$10,\"\")","v":""},""]
[null,null,null,null,null,null,null,{"$f":"IF(DATOS!A6724<>\"\",DATOS!A6724&configuracion!$C$10,\"\")","v":""},{"$f":"IF(B6724=\"\",\"\",TEXT(B6724, \"DD/MM/YYYY HH:MM:SS\"))","v":""}]
[null,null,null,null,null,null,null,{"$f":"IF(DATOS!A6728<>\"\",DATOS!A6728&configuracion!$C$10,\"\")","v":""},""]
[null,null,null,null,null,null,null,{"$f":"IF(DATOS!A6735<>\"\",DATOS!A6735&configuracion!$C$10,\"\")","v":""},""]
[null,null,null,null,null,null,null,{"$f":"IF(DATOS!A6744<>\"\",DATOS!A6744&configuracion!$C$10,\"\")","v":""},""]
[null,null,null,null,null,null,null,{"$f":"IF(DATOS!A6750<>\"\",DATOS!A6750&configuracion!$C$10,\"\")","v":""},""]
[null,null,null,null,null,null,null,{"$f":"IF(DATOS!A6755<>\"\",DATOS!A6755&configuracion!$C$10,\"\")","v":""},""]
[null,null,null,null,null,null,null,{"$f":"IF(DATOS!A6758<>\"\",DATOS!A6758&configuracion!$C$10,\"\")","v":""},""]
[null,null,null,null,null,null,null,{"$f":"IF(DATOS!A6765<>\"\",DATOS!A6765&configuracion!$C$10,\"\")","v":""},""]
[null,null,null,null,null,null,null,{"$f":"IF(DATOS!A6773<>\"\",DATOS!A6773&configuracion!$C$10,\"\")","v":""},""]
[null,null,null,null,null,null,null,{"$f":"IF(DATOS!A6778<>\"\",DATOS!A6778&configuracion!$C$10,\"\")","v":""},""]
[null,null,null,null,null,null,null,{"$f":"IF(DATOS!A6785<>\"\",DATOS!A6785&configuracion!$C$10,\"\")","v":""},""]
[null,null,null,null,null,null,null,{"$f":"IF(DATOS!A6794<>\"\",DATOS!A6794&configuracion!$C$10,\"\")","v":""},""]
[null,null,null,null,null,null,null,{"$f":"IF(DATOS!A6799<>\"\",DATOS!A6799&configuracion!$C$10,\"\")","v":""},""]
[null,null,null,null,null,null,null,{"$f":"IF(DATOS!A6805<>\"\",DATOS!A6805&configuracion!$C$10,\"\")","v":""},""]
[null,null,null,null,null,null,null,{"$f":"IF(DATOS!A6808<>\"\",DATOS!A6808&configuracion!$C$10,\"\")","v":""},""]
[null,null,null,null,null,null,null,{"$f":"IF(DATOS!A6815<>\"\",DATOS!A6815&configuracion!$C$10,\"\")","v":""},""]
[null,null,null,null,null,null,null,{"$f":"IF(DATOS!A6822<>\"\",DATOS!A6822&configuracion!$C$10,\"\")","v":""},""]
[null,null,null,null,null,null,null,{"$f":"IF(DATOS!A6828<>\"\",DATOS!A6828&configuracion!$C$10,\"\")","v":""},""]
[null,null,null,null,null,null,null,{"$f":"IF(DATOS!A6835<>\"\",DATOS!A6835&configuracion!$C$10,\"\")","v":""},""]
[null,null,null,null,null,null,null,{"$f":"IF(DATOS!A6844<>\"\",DATOS!A6844&configuracion!$C$10,\"\")","v":""},""]
[null,null,null,null,null,null,null,{"$f":"IF(DATOS!A6845<>\"\",DATOS!A6845&configuracion!$C$10,\"\")","v":""},""]
[null,null,null,null,null,null,null,{"$f":"IF(DATOS!A6855<>\"\",DATOS!A6855&configuracion!$C$10,\"\")","v":""},""]
[null,null,null,null,null,null,null,{"$f":"IF(DATOS!A6858<>\"\",DATOS!A6858&configuracion!$C$10,\"\")","v":""},""]
[null,null,null,null,null,null,null,{"$f":"IF(DATOS!A6865<>\"\",DATOS!A6865&configuracion!$C$10,\"\")","v":""},""]
[null,null,null,null,null,null,null,{"$f":"IF(DATOS!A6871<>\"\",DATOS!A6871&configuracion!$C$10,\"\")","v":""},""]
[null,null,null,null,null,null,null,{"$f":"IF(DATOS!A6878<>\"\",DATOS!A6878&configuracion!$C$10,\"\")","v":""},""]
[null,null,null,null,null,null,null,{"$f":"IF(DATOS!A6885<>\"\",DATOS!A6885&configuracion!$C$10,\"\")","v":""},""]
[null,null,null,null,null,null,null,{"$f":"IF(DATOS!A6894<>\"\",DATOS!A6894&configuracion!$C$10,\"\")","v":""},""]
[null,null,null,null,null,null,null,{"$f":"IF(DATOS!A6901<>\"\",DATOS!A6901&configuracion!$C$10,\"\")","v":""},""]
[null,null,null,null,null,null,null,{"$f":"IF(DATOS!A6905<>\"\",DATOS!A6905&configuracion!$C$10,\"\")","v":""},""]
[null,null,null,null,null,null,null,{"$f":"IF(DATOS!A6908<>\"\",DATOS!A6908&configuracion!$C$10,\"\")","v":""},""]
[null,null,null,null,null,null,null,{"$f":"IF(DATOS!A6915<>\"\",DATOS!A6915&configuracion!$C$10,\"\")","v":""},""]
[null,null,null,null,null,null,null,{"$f":"IF(DATOS!A6920<>\"\",DATOS!A6920&configuracion!$C$10,\"\")","v":""},""]
[null,null,null,null,null,null,null,{"$f":"IF(DATOS!A6928<>\"\",DATOS!A6928&configuracion!$C$10,\"\")","v":""},""]
[null,null,null,null,null,null,null,{"$f":"IF(DATOS!A6935<>\"\",DATOS!A6935&configuracion!$C$10,\"\")","v":""},""]
[null,null,null,null,null,null,null,{"$f":"IF(DATOS!A6944<>\"\",DATOS!A6944&configuracion!$C$10,\"\")","v":""},""]
[null,null,null,null,null,null,null,{"$f":"IF(DATOS!A6950<>\"\",DATOS!A6950&configuracion!$C$10,\"\")","v":""},""]
[null,null,null,null,null,null,null,{"$f":"IF(DATOS!A6955<>\"\",DATOS!A6955&configuracion!$C$10,\"\")","v":""},""]
[null,null,null,null,null,null,null,{"$f":"IF(DATOS!A6958<>\"\",DATOS!A6958&configuracion!$C$10,\"\")","v":""},""]
[null,null,null,null,null,null,null,{"$f":"IF(DATOS!A6965<>\"\",DATOS!A6965&configuracion!$C$10,\"\")","v":""},""]
[null,null,null,null,null,null,null,{"$f":"IF(DATOS!A6976<>\"\",DATOS!A6976&configuracion!$C$10,\"\")","v":""},""]
[null,null,null,null,null,null,null,{"$f":"IF(DATOS!A6982<>\"\",DATOS!A6982&configuracion!$C$10,\"\")","v":""},""]
[null,null,null,null,null,null,null,{"$f":"IF(DATOS!A6985<>\"\",DATOS!A6985&configuracion!$C$10,\"\")","v":""},""]
[null,null,null,null,null,null,null,{"$f":"IF(DATOS!A6994<>\"\",DATOS!A6994&configuracion!$C$10,\"\")","v":""},""]
[null,null,null,null,null,null,null,{"$f":"IF(DATOS!A6999<>\"\",DATOS!A6999&configuracion!$C$10,\"\")","v":""},""]
[null,null,null,null,null,null,null,{"$f":"IF(DATOS!A7005<>\"\",DATOS!A7005&configuracion!$C$10,\"\")","v":""},""]
[null,null,null,null,null,null,null,{"$f":"IF(DATOS!A7008<>\"\",DATOS!A7008&configuracion!$C$10,\"\")","v":""},""]
[null,null,null,null,null,null,null,{"$f":"IF(DATOS!A7015<>\"\",DATOS!A7015&configuracion!$C$10,\"\")","v":""},""]
[null,null,null,null,null,null,null,{"$f":"IF(DATOS!A7025<>\"\",DATOS!A7025&configuracion!$C$10,\"\")","v":""},""]
[null,null,null,null,null,null,null,{"$f":"IF(DATOS!A7032<>\"\",DATOS!A7032&configuracion!$C$10,\"\")","v":""},""]
[null,null,null,null,null,null,null,{"$f":"IF(DATOS!A7035<>\"\",DATOS!A7035&configuracion!$C$10,\"\")","v":""},""]
[null,null,null,null,null,null,null,{"$f":"IF(DATOS!A7044<>\"\",DATOS!A7044&configuracion!$C$10,\"\")","v":""},{"$f":"IF(B7044=\"\",\"\",TEXT(B7044, \"DD/MM/YYYY HH:MM:SS\"))","v":""}]
[null,null,null,null,null,null,null,{"$f":"IF(DATOS!A7048<>\"\",DATOS!A7048&configuracion!$C$10,\"\")","v":""},""]
[null,null,null,null,null,null,null,{"$f":"IF(DATOS!A7055<>\"\",DATOS!A7055&configuracion!$C$10,\"\")","v":""},""]
[null,null,null,null,null,null,null,{"$f":"IF(DATOS!A7062<>\"\",DATOS!A7062&configuracion!$C$10,\"\")","v":""},""]
[null,null,null,null,null,null,null,{"$f":"IF(DATOS!A7065<>\"\",DATOS!A7065&configuracion!$C$10,\"\")","v":""},""]
[null,null,null,null,null,null,null,{"$f":"IF(DATOS!A7074<>\"\",DATOS!A7074&configuracion!$C$10,\"\")","v":""},""]
[null,null,null,null,null,null,null,{"$f":"IF(DATOS!A7082<>\"\",DATOS!A7082&configuracion!$C$10,\"\")","v":""},""]
[null,null,null,null,null,null,null,{"$f":"IF(DATOS!A7085<>\"\",DATOS!A7085&configuracion!$C$10,\"\")","v":""},""]
[null,null,null,null,null,null,null,{"$f":"IF(DATOS!A7094<>\"\",DATOS!A7094&configuracion!$C$10,\"\")","v":""},""]
[null,null,null,null,null,null,null,{"$f":"IF(DATOS!A7097<>\"\",DATOS!A7097&configuracion!$C$10,\"\")","v":""},""]
[null,null,null,null,null,null,null,{"$f":"IF(DATOS!A7105<>\"\",DATOS!A7105&configuracion!$C$10,\"\")","v":""},""]
[null,null,null,null,null,null,null,{"$f":"IF(DATOS!A7112<>\"\",DATOS!A7112&configuracion!$C$10,\"\")","v":""},""]
[null,null,null,null,null,null,null,{"$f":"IF(DATOS!A7115<>\"\",DATOS!A7115&configuracion!$C$10,\"\")","v":""},""]
[null,null,null,null,null,null,null,{"$f":"IF(DATOS!A7123<>\"\",DATOS!A7123&configuracion!$C$10,\"\")","v":""},""]
[null,null,null,null,null,null,null,{"$f":"IF(DATOS!A7132<>\"\",DATOS!A7132&configuracion!$C$10,\"\")","v":""},""]
[null,null,null,null,null,null,null,{"$f":"IF(DATOS!A7135<>\"\",DATOS!A7135&configuracion!$C$10,\"\")","v":""},""]
[null,null,null,null,null,null,null,{"$f":"IF(DATOS!A7144<>\"\",DATOS!A7144&configuracion!$C$10,\"\")","v":""},""]
[null,null,null,null,null,null,null,{"$f":"IF(DATOS!A7146<>\"\",DATOS!A7146&configuracion!$C$10,\"\")","v":""},""]
[null,null,null,null,null,null,null,{"$f":"IF(DATOS!A7155<>\"\",DATOS!A7155&configuracion!$C$10,\"\")","v":""},""]
[null,null,null,null,null,null,null,{"$f":"IF(DATOS!A7162<>\"\",DATOS!A7162&configuracion!$C$10,\"\")","v":""},""]
[null,null,null,null,null,null,null,{"$f":"IF(DATOS!A7165<>\"\",DATOS!A7165&configuracion!$C$10,\"\")","v":""},""]
[null,null,null,null,null,null,null,{"$f":"IF(DATOS!A7172<>\"\",DATOS!A7172&configuracion!$C$10,\"\")","v":""},{"$f":"IF(B7172=\"\",\"\",TEXT(B7172, \"DD/MM/YYYY HH:MM:SS\"))","v":""}]
[null,null,null,null,null,null,null,{"$f":"IF(DATOS!A7182<>\"\",DATOS!A7182&configuracion!$C$10,\"\")","v":""},""]
[null,null,null,null,null,null,null,{"$f":"IF(DATOS!A7185<>\"\",DATOS!A7185&configuracion!$C$10,\"\")","v":""},""]
[null,null,null,null,null,null,null,{"$f":"IF(DATOS!A7192<>\"\",DATOS!A7192&configuracion!$C$10,\"\")","v":""},""]
[null,null,null,null,null,null,null,{"$f":"IF(DATOS!A7195<>\"\",DATOS!A7195&configuracion!$C$10,\"\")","v":""},""]
[null,null,null,null,null,null,null,{"$f":"IF(DATOS!A7205<>\"\",DATOS!A7205&configuracion!$C$10,\"\")","v":""},""]
[null,null,null,null,null,null,null,{"$f":"IF(DATOS!A7212<>\"\",DATOS!A7212&configuracion!$C$10,\"\")","v":""},""]
[null,null,null,null,null,null,null,{"$f":"IF(DATOS!A7214<>\"\",DATOS!A7214&configuracion!$C$10,\"\")","v":""},""]
[null,null,null,null,null,null,null,{"$f":"IF(DATOS!A7225<>\"\",DATOS!A7225&configuracion!$C$10,\"\")","v":""},""]
[null,null,null,null,null,null,null,{"$f":"IF(DATOS!A7232<>\"\",DATOS!A7232&configuracion!$C$10,\"\")","v":""},""]
[null,null,null,null,null,null,null,{"$f":"IF(DATOS!A7235<>\"\",DATOS!A7235&configuracion!$C$10,\"\")","v":""},""]
[null,null,null,null,null,null,null,{"$f":"IF(DATOS!A7244<>\"\",DATOS!A7244&configuracion!$C$10,\"\")","v":""},""]
[null,null,null,null,null,null,null,{"$f":"IF(DATOS!A7246<>\"\",DATOS!A7246&configuracion!$C$10,\"\")","v":""},""]
[null,null,null,null,null,null,null,{"$f":"IF(DATOS!A7255<>\"\",DATOS!A7255&configuracion!$C$10,\"\")","v":""},""]
[null,null,null,null,null,null,null,{"$f":"IF(DATOS!A7262<>\"\",DATOS!A7262&configuracion!$C$10,\"\")","v":""},""]
[null,null,null,null,null,null,null,{"$f":"IF(DATOS!A7270<>\"\",DATOS!A7270&configuracion!$C$10,\"\")","v":""},""]
[null,null,null,null,null,null,null,{"$f":"IF(DATOS!A7275<>\"\",DATOS!A7275&configuracion!$C$10,\"\")","v":""},""]
[null,null,null,null,null,null,null,{"$f":"IF(DATOS!A7282<>\"\",DATOS!A7282&configuracion!$C$10,\"\")","v":""},""]
[null,null,null,null,null,null,null,{"$f":"IF(DATOS!A7285<>\"\",DATOS!A7285&configuracion!$C$10,\"\")","v":""},""]
[null,null,null,null,null,null,null,{"$f":"IF(DATOS!A7293<>\"\",DATOS!A7293&configuracion!$C$10,\"\")","v":""},""]
[null,null,null,null,null,null,null,{"$f":"IF(DATOS!A7296<>\"\",DATOS!A7296&configuracion!$C$10,\"\")","v":""},""]
[null,null,null,null,null,null,null,{"$f":"IF(DATOS!A7305<>\"\",DATOS!A7305&configuracion!$C$10,\"\")","v":""},""]
[null,null,null,null,null,null,null,{"$f":"IF(DATOS!A7312<>\"\",DATOS!A7312&configuracion!$C$10,\"\")","v":""},""]
[null,null,null,null,null,null,null,{"$f":"IF(DATOS!A7319<>\"\",DATOS!A7319&configuracion!$C$10,\"\")","v":""},""]
[null,null,null,null,null,null,null,{"$f":"IF(DATOS!A7323<>\"\",DATOS!A7323&configuracion!$C$10,\"\")","v":""},""]
[null,null,null,null,null,null,null,{"$f":"IF(DATOS!A7332<>\"\",DATOS!A7332&configuracion!$C$10,\"\")","v":""},""]
[null,null,null,null,null,null,null,{"$f":"IF(DATOS!A7335<>\"\",DATOS!A7335&configuracion!$C$10,\"\")","v":""},""]
[null,null,null,null,null,null,null,{"$f":"IF(DATOS!A7342<>\"\",DATOS!A7342&configuracion!$C$10,\"\")","v":""},""]
[null,null,null,null,null,null,null,{"$f":"IF(DATOS!A7346<>\"\",DATOS!A7346&configuracion!$C$10,\"\")","v":""},""]
[null,null,null,null,null,null,null,{"$f":"IF(DATOS!A7355<>\"\",DATOS!A7355&configuracion!$C$10,\"\")","v":""},""]
[null,null,null,null,null,null,null,{"$f":"IF(DATOS!A7362<>\"\",DATOS!A7362&configuracion!$C$10,\"\")","v":""},""]
[null,null,null,null,null,null,null,{"$f":"IF(DATOS!A7368<>\"\",DATOS!A7368&configuracion!$C$10,\"\")","v":""},""]
[null,null,null,null,null,null,null,{"$f":"IF(DATOS!A7373<>\"\",DATOS!A7373&configuracion!$C$10,\"\")","v":""},""]
[null,null,null,null,null,null,null,{"$f":"IF(DATOS!A7382<>\"\",DATOS!A7382&configuracion!$C$10,\"\")","v":""},""]
[null,null,null,null,null,null,null,{"$f":"IF(DATOS!A7385<>\"\",DATOS!A7385&configuracion!$C$10,\"\")","v":""},""]
[null,null,null,null,null,null,null,{"$f":"IF(DATOS!A7391<>\"\",DATOS!A7391&configuracion!$C$10,\"\")","v":""},""]
[null,null,null,null,null,null,null,{"$f":"IF(DATOS!A7396<>\"\",DATOS!A7396&configuracion!$C$10,\"\")","v":""},""]
[null,null,null,null,null,null,null,{"$f":"IF(DATOS!A7403<>\"\",DATOS!A7403&configuracion!$C$10,\"\")","v":""},""]
[null,null,null,null,null,null,null,{"$f":"IF(DATOS!A7412<>\"\",DATOS!A7412&configuracion!$C$10,\"\")","v":""},""]
[null,null,null,null,null,null,null,{"$f":"IF(DATOS!A7417<>\"\",DATOS!A7417&configuracion!$C$10,\"\")","v":""},""]
[null,null,null,null,null,null,null,{"$f":"IF(DATOS!A7423<>\"\",DATOS!A7423&configuracion!$C$10,\"\")","v":""},""]
[null,null,null,null,null,null,null,{"$f":"IF(DATOS!A7432<>\"\",DATOS!A7432&configuracion!$C$10,\"\")","v":""},""]
[null,null,null,null,null,null,null,{"$f":"IF(DATOS!A7435<>\"\",DATOS!A7435&configuracion!$C$10,\"\")","v":""},""]
[null,null,null,null,null,null,null,{"$f":"IF(DATOS!A7440<>\"\",DATOS!A7440&configuracion!$C$10,\"\")","v":""},""]
[null,null,null,null,null,null,null,{"$f":"IF(DATOS!A7446<>\"\",DATOS!A7446&configuracion!$C$10,\"\")","v":""},""]
[null,null,null,null,null,null,null,{"$f":"IF(DATOS!A7453<>\"\",DATOS!A7453&configuracion!$C$10,\"\")","v":""},""]
[null,null,null,null,null,null,null,{"$f":"IF(DATOS!A7462<>\"\",DATOS!A7462&configuracion!$C$10,\"\")","v":""},""]
[null,null,null,null,null,null,null,{"$f":"IF(DATOS!A7466<>\"\",DATOS!A7466&configuracion!$C$10,\"\")","v":""},""]
[null,null,null,null,null,null,null,{"$f":"IF(DATOS!A7473<>\"\",DATOS!A7473&configuracion!$C$10,\"\")","v":""},""]
[null,null,null,null,null,null,null,{"$f":"IF(DATOS!A7482<>\"\",DATOS!A7482&configuracion!$C$10,\"\")","v":""},""]
[null,null,null,null,null,null,null,{"$f":"IF(DATOS!A7485<>\"\",DATOS!A7485&configuracion!$C$10,\"\")","v":""},""]
[null,null,null,null,null,null,null,{"$f":"IF(DATOS!A7489<>\"\",DATOS!A7489&configuracion!$C$10,\"\")","v":""},""]
[null,null,null,null,null,null,null,{"$f":"IF(DATOS!A7496<>\"\",DATOS!A7496&configuracion!$C$10,\"\")","v":""},""]
[null,null,null,null,null,null,null,{"$f":"IF(DATOS!A7503<>\"\",DATOS!A7503&configuracion!$C$10,\"\")","v":""},""]
[null,null,null,null,null,null,null,{"$f":"IF(DATOS!A7512<>\"\",DATOS!A7512&configuracion!$C$10,\"\")","v":""},""]
[null,null,null,null,null,null,null,{"$f":"IF(DATOS!A7515<>\"\",DATOS!A7515&configuracion!$C$10,\"\")","v":""},""]
[null,null,null,null,null,null,null,{"$f":"IF(DATOS!A7523<>\"\",DATOS!A7523&configuracion!$C$10,\"\")","v":""},""]
[null,null,null,null,null,null,null,{"$f":"IF(DATOS!A7532<>\"\",DATOS!A7532&configuracion!$C$10,\"\")","v":""},""]
[null,null,null,null,null,null,null,{"$f":"IF(DATOS!A7533<>\"\",DATOS!A7533&configuracion!$C$10,\"\")","v":""},""]
[null,null,null,null,null,null,null,{"$f":"IF(DATOS!A7545<>\"\",DATOS!A7545&configuracion!$C$10,\"\")","v":""},""]
[null,null,null,null,null,null,null,{"$f":"IF(DATOS!A7546<>\"\",DATOS!A7546&configuracion!$C$10,\"\")","v":""},""]
[null,null,null,null,null,null,null,{"$f":"IF(DATOS!A7553<>\"\",DATOS!A7553&configuracion!$C$10,\"\")","v":""},""]
[null,null,null,null,null,null,null,{"$f":"IF(DATOS!A7562<>\"\",DATOS!A7562&configuracion!$C$10,\"\")","v":""},""]
[null,null,null,null,null,null,null,{"$f":"IF(DATOS!A7564<>\"\",DATOS!A7564&configuracion!$C$10,\"\")","v":""},""]
[null,null,null,null,null,null,null,{"$f":"IF(DATOS!A7573<>\"\",DATOS!A7573&configuracion!$C$10,\"\")","v":""},""]
[null,null,null,null,null,null,null,{"$f":"IF(DATOS!A7582<>\"\",DATOS!A7582&configuracion!$C$10,\"\")","v":""},""]
[null,null,null,null,null,null,null,{"$f":"IF(DATOS!A7583<>\"\",DATOS!A7583&configuracion!$C$10,\"\")","v":""},""]
[null,null,null,null,null,null,null,{"$f":"IF(DATOS!A7594<>\"\",DATOS!A7594&configuracion!$C$10,\"\")","v":""},""]
[null,null,null,null,null,null,null,{"$f":"IF(DATOS!A7596<>\"\",DATOS!A7596&configuracion!$C$10,\"\")","v":""},""]
[null,null,null,null,null,null,null,{"$f":"IF(DATOS!A7603<>\"\",DATOS!A7603&configuracion!$C$10,\"\")","v":""},""]
[null,null,null,null,null,null,null,{"$f":"IF(DATOS!A7612<>\"\",DATOS!A7612&configuracion!$C$10,\"\")","v":""},""]
[null,null,null,null,null,null,null,{"$f":"IF(DATOS!A7617<>\"\",DATOS!A7617&configuracion!$C$10,\"\")","v":""},""]
[null,null,null,null,null,null,null,{"$f":"IF(DATOS!A7623<>\"\",DATOS!A7623&configuracion!$C$10,\"\")","v":""},""]
[null,null,null,null,null,null,null,{"$f":"IF(DATOS!A7632<>\"\",DATOS!A7632&configuracion!$C$10,\"\")","v":""},""]
[null,null,null,null,null,null,null,{"$f":"IF(DATOS!A7633<>\"\",DATOS!A7633&configuracion!$C$10,\"\")","v":""},""]
[null,null,null,null,null,null,null,{"$f":"IF(DATOS!A7643<>\"\",DATOS!A7643&configuracion!$C$10,\"\")","v":""},""]
[null,null,null,null,null,null,null,{"$f":"IF(DATOS!A7646<>\"\",DATOS!A7646&configuracion!$C$10,\"\")","v":""},""]
[null,null,null,null,null,null,null,{"$f":"IF(DATOS!A7653<>\"\",DATOS!A7653&configuracion!$C$10,\"\")","v":""},""]
[null,null,null,null,null,null,null,{"$f":"IF(DATOS!A7662<>\"\",DATOS!A7662&configuracion!$C$10,\"\")","v":""},""]
[null,null,null,null,null,null,null,{"$f":"IF(DATOS!A7666<>\"\",DATOS!A7666&configuracion!$C$10,\"\")","v":""},""]
[null,null,null,null,null,null,null,{"$f":"IF(DATOS!A7673<>\"\",DATOS!A7673&configuracion!$C$10,\"\")","v":""},""]
[null,null,null,null,null,null,null,{"$f":"IF(DATOS!A7682<>\"\",DATOS!A7682&configuracion!$C$10,\"\")","v":""},""]
[null,null,null,null,null,null,null,{"$f":"IF(DATOS!A7683<>\"\",DATOS!A7683&configuracion!$C$10,\"\")","v":""},""]
[null,null,null,null,null,null,null,{"$f":"IF(DATOS!A7692<>\"\",DATOS!A7692&configuracion!$C$10,\"\")","v":""},""]
[null,null,null,null,null,null,null,{"$f":"IF(DATOS!A7696<>\"\",DATOS!A7696&configuracion!$C$10,\"\")","v":""},""]
[null,null,null,null,null,null,null,{"$f":"IF(DATOS!A7703<>\"\",DATOS!A7703&configuracion!$C$10,\"\")","v":""},""]
[null,null,null,null,null,null,null,{"$f":"IF(DATOS!A7712<>\"\",DATOS!A7712&configuracion!$C$10,\"\")","v":""},""]
[null,null,null,null,null,null,null,{"$f":"IF(DATOS!A7715<>\"\",DATOS!A7715&configuracion!$C$10,\"\")","v":""},""]
[null,null,null,null,null,null,null,{"$f":"IF(DATOS!A7723<>\"\",DATOS!A7723&configuracion!$C$10,\"\")","v":""},""]
[null,null,null,null,null,null,null,{"$f":"IF(DATOS!A7732<>\"\",DATOS!A7732&configuracion!$C$10,\"\")","v":""},""]
[null,null,null,null,null,null,null,{"$f":"IF(DATOS!A7733<>\"\",DATOS!A7733&configuracion!$C$10,\"\")","v":""},""]
[null,null,null,null,null,null,null,{"$f":"IF(DATOS!A7741<>\"\",DATOS!A7741&configuracion!$C$10,\"\")","v":""},""]
[null,null,null,null,null,null,null,{"$f":"IF(DATOS!A7750<>\"\",DATOS!A7750&configuracion!$C$10,\"\")","v":""},""]
[null,null,null,null,null,null,null,{"$f":"IF(DATOS!A7753<>\"\",DATOS!A7753&configuracion!$C$10,\"\")","v":""},""]
[null,null,null,null,null,null,null,{"$f":"IF(DATOS!A7762<>\"\",DATOS!A7762&configuracion!$C$10,\"\")","v":""},""]
[null,null,null,null,null,null,null,{"$f":"IF(DATOS!A7764<>\"\",DATOS!A7764&configuracion!$C$10,\"\")","v":""},""]
[null,null,null,null,null,null,null,{"$f":"IF(DATOS!A7773<>\"\",DATOS!A7773&configuracion!$C$10,\"\")","v":""},""]
[null,null,null,null,null,null,null,{"$f":"IF(DATOS!A7782<>\"\",DATOS!A7782&configuracion!$C$10,\"\")","v":""},""]
[null,null,null,null,null,null,null,{"$f":"IF(DATOS!A7783<>\"\",DATOS!A7783&configuracion!$C$10,\"\")","v":""},""]
[null,null,null,null,null,null,null,{"$f":"IF(DATOS!A7790<>\"\",DATOS!A7790&configuracion!$C$10,\"\")","v":""},""]
[null,null,null,null,null,null,null,{"$f":"IF(DATOS!A7800<>\"\",DATOS!A7800&configuracion!$C$10,\"\")","v":""},""]
[null,null,null,null,null,null,null,{"$f":"IF(DATOS!A7803<>\"\",DATOS!A7803&configuracion!$C$10,\"\")","v":""},""]
[null,null,null,null,null,null,null,{"$f":"IF(DATOS!A7812<>\"\",DATOS!A7812&configuracion!$C$10,\"\")","v":""},{"$f":"IF(B7812=\"\",\"\",TEXT(B7812, \"DD/MM/YYYY HH:MM:SS\"))","v":""}]
[null,null,null,null,null,null,null,{"$f":"IF(DATOS!A7820<>\"\",DATOS!A7820&configuracion!$C$10,\"\")","v":""},""]
[null,null,null,null,null,null,null,{"$f":"IF(DATOS!A7823<>\"\",DATOS!A7823&configuracion!$C$10,\"\")","v":""},""]
[null,null,null,null,null,null,null,{"$f":"IF(DATOS!A7832<>\"\",DATOS!A7832&configuracion!$C$10,\"\")","v":""},""]
[null,null,null,null,null,null,null,{"$f":"IF(DATOS!A7833<>\"\",DATOS!A7833&configuracion!$C$10,\"\")","v":""},""]
[null,null,null,null,null,null,null,{"$f":"IF(DATOS!A7839<>\"\",DATOS!A7839&configuracion!$C$10,\"\")","v":""},""]
[null,null,null,null,null,null,null,{"$f":"IF(DATOS!A7850<>\"\",DATOS!A7850&configuracion!$C$10,\"\")","v":""},""]
[null,null,null,null,null,null,null,{"$f":"IF(DATOS!A7853<>\"\",DATOS!A7853&configuracion!$C$10,\"\")","v":""},""]
[null,null,null,null,null,null,null,{"$f":"IF(DATOS!A7862<>\"\",DATOS!A7862&configuracion!$C$10,\"\")","v":""},""]
[null,null,null,null,null,null,null,{"$f":"IF(DATOS!A7869<>\"\",DATOS!A7869&configuracion!$C$10,\"\")","v":""},""]
[null,null,null,null,null,null,null,{"$f":"IF(DATOS!A7873<>\"\",DATOS!A7873&configuracion!$C$10,\"\")","v":""},""]
[null,null,null,null,null,null,null,{"$f":"IF(DATOS!A7880<>\"\",DATOS!A7880&configuracion!$C$10,\"\")","v":""},""]
[null,null,null,null,null,null,null,{"$f":"IF(DATOS!A7883<>\"\",DATOS!A7883&configuracion!$C$10,\"\")","v":""},""]
[null,null,null,null,null,null,null,{"$f":"IF(DATOS!A7895<>\"\",DATOS!A7895&configuracion!$C$10,\"\")","v":""},""]
[null,null,null,null,null,null,null,{"$f":"IF(DATOS!A7900<>\"\",DATOS!A7900&configuracion!$C$10,\"\")","v":""},""]
[null,null,null,null,null,null,null,{"$f":"IF(DATOS!A7903<>\"\",DATOS!A7903&configuracion!$C$10,\"\")","v":""},""]
[null,null,null,null,null,null,null,{"$f":"IF(DATOS!A7912<>\"\",DATOS!A7912&configuracion!$C$10,\"\")","v":""},""]
[null,null,null,null,null,null,null,{"$f":"IF(DATOS!A7918<>\"\",DATOS!A7918&configuracion!$C$10,\"\")","v":""},""]
[null,null,null,null,null,null,null,{"$f":"IF(DATOS!A7923<>\"\",DATOS!A7923&configuracion!$C$10,\"\")","v":""},""]
[null,null,null,null,null,null,null,{"$f":"IF(DATOS!A7930<>\"\",DATOS!A7930&configuracion!$C$10,\"\")","v":""},""]
[null,null,null,null,null,null,null,{"$f":"IF(DATOS!A7933<>\"\",DATOS!A7933&configuracion!$C$10,\"\")","v":""},""]
[null,null,null,null,null,null,null,{"$f":"IF(DATOS!A7944<>\"\",DATOS!A7944&configuracion!$C$10,\"\")","v":""},""]
[null,null,null,null,null,null,null,{"$f":"IF(DATOS!A7950<>\"\",DATOS!A7950&configuracion!$C$10,\"\")","v":""},""]
[null,null,null,null,null,null,null,{"$f":"IF(DATOS!A7953<>\"\",DATOS!A7953&configuracion!$C$10,\"\")","v":""},""]
[null,null,null,null,null,null,null,{"$f":"IF(DATOS!A7960<>\"\",DATOS!A7960&configuracion!$C$10,\"\")","v":""},""]
[null,null,null,null,null,null,null,{"$f":"IF(DATOS!A7967<>\"\",DATOS!A7967&configuracion!$C$10,\"\")","v":""},""]
[null,null,null,null,null,null,null,{"$f":"IF(DATOS!A7973<>\"\",DATOS!A7973&configuracion!$C$10,\"\")","v":""},""]
[null,null,null,null,null,null,null,{"$f":"IF(DATOS!A7980<>\"\",DATOS!A7980&configuracion!$C$10,\"\")","v":""},""]
[null,null,null,null,null,null,null,{"$f":"IF(DATOS!A7983<>\"\",DATOS!A7983&configuracion!$C$10,\"\")","v":""},""]
[null,null,null,null,null,null,null,{"$f":"IF(DATOS!A7993<>\"\",DATOS!A7993&configuracion!$C$10,\"\")","v":""},""]
[null,null,null,null,null,null,null,{"$f":"IF(DATOS!A8000<>\"\",DATOS!A8000&configuracion!$C$10,\"\")","v":""},""]
[null,null,null,null,null,null,null,{"$f":"IF(DATOS!A8003<>\"\",DATOS!A8003&configuracion!$C$10,\"\")","v":""},""]
[null,null,null,null,null,null,null,{"$f":"IF(DATOS!A8010<>\"\",DATOS!A8010&configuracion!$C$10,\"\")","v":""},""]
[null,null,null,null,null,null,null,{"$f":"IF(DATOS!A8016<>\"\",DATOS!A8016&configuracion!$C$10,\"\")","v":""},""]
[null,null,null,null,null,null,null,{"$f":"IF(DATOS!A8023<>\"\",DATOS!A8023&configuracion!$C$10,\"\")","v":""},""]
[null,null,null,null,null,null,null,{"$f":"IF(DATOS!A8030<>\"\",DATOS!A8030&configuracion!$C$10,\"\")","v":""},""]
[null,null,null,null,null,null,null,{"$f":"IF(DATOS!A8033<>\"\",DATOS!A8033&configuracion!$C$10,\"\")","v":""},""]
[null,null,null,null,null,null,null,{"$f":"IF(DATOS!A8042<>\"\",DATOS!A8042&configuracion!$C$10,\"\")","v":""},""]
[null,null,null,null,null,null,null,{"$f":"IF(DATOS!A8050<>\"\",DATOS!A8050&configuracion!$C$10,\"\")","v":""},""]
[null,null,null,null,null,null,null,{"$f":"IF(DATOS!A8053<>\"\",DATOS!A8053&configuracion!$C$10,\"\")","v":""},""]
[null,null,null,null,null,null,null,{"$f":"IF(DATOS!A8060<>\"\",DATOS!A8060&configuracion!$C$10,\"\")","v":""},""]
[null,null,null,null,null,null,null,{"$f":"IF(DATOS!A8065<>\"\",DATOS!A8065&configuracion!$C$10,\"\")","v":""},""]
[null,null,null,null,null,null,null,{"$f":"IF(DATOS!A8073<>\"\",DATOS!A8073&configuracion!$C$10,\"\")","v":""},""]
[null,null,null,null,null,null,null,{"$f":"IF(DATOS!A8080<>\"\",DATOS!A8080&configuracion!$C$10,\"\")","v":""},""]
[null,null,null,null,null,null,null,{"$f":"IF(DATOS!A8083<>\"\",DATOS!A8083&configuracion!$C$10,\"\")","v":""},""]
[null,null,null,null,null,null,null,{"$f":"IF(DATOS!A8095<>\"\",DATOS!A8095&configuracion!$C$10,\"\")","v":""},""]
[null,null,null,null,null,null,null,{"$f":"IF(DATOS!A8100<>\"\",DATOS!A8100&configuracion!$C$10,\"\")","v":""},""]
[null,null,null,null,null,null,null,{"$f":"IF(DATOS!A8103<>\"\",DATOS!A8103&configuracion!$C$10,\"\")","v":""},""]
[null,null,null,null,null,null,null,{"$f":"IF(DATOS!A8110<>\"\",DATOS!A8110&configuracion!$C$10,\"\")","v":""},""]
[null,null,null,null,null,null,null,{"$f":"IF(DATOS!A8114<>\"\",DATOS!A8114&configuracion!$C$10,\"\")","v":""},""]
[null,null,null,null,null,null,null,{"$f":"IF(DATOS!A8123<>\"\",DATOS!A8123&configuracion!$C$10,\"\")","v":""},""]
[null,null,null,null,null,null,null,{"$f":"IF(DATOS!A8130<>\"\",DATOS!A8130&configuracion!$C$10,\"\")","v":""},""]
[null,null,null,null,null,null,null,{"$f":"IF(DATOS!A8133<>\"\",DATOS!A8133&configuracion!$C$10,\"\")","v":""},""]
[null,null,null,null,null,null,null,{"$f":"IF(DATOS!A8144<>\"\",DATOS!A8144&configuracion!$C$10,\"\")","v":""},""]
[null,null,null,null,null,null,null,{"$f":"IF(DATOS!A8150<>\"\",DATOS!A8150&configuracion!$C$10,\"\")","v":""},""]
[null,null,null,null,null,null,null,{"$f":"IF(DATOS!A8153<>\"\",DATOS!A8153&configuracion!$C$10,\"\")","v":""},""]
[null,null,null,null,null,null,null,{"$f":"IF(DATOS!A8160<>\"\",DATOS!A8160&configuracion!$C$10,\"\")","v":""},""]
[null,null,null,null,null,null,null,{"$f":"IF(DATOS!A8170<>\"\",DATOS!A8170&configuracion!$C$10,\"\")","v":""},""]
[null,null,null,null,null,null,null,{"$f":"IF(DATOS!A8171<>\"\",DATOS!A8171&configuracion!$C$10,\"\")","v":""},""]
[null,null,null,null,null,null,null,{"$f":"IF(DATOS!A8180<>\"\",DATOS!A8180&configuracion!$C$10,\"\")","v":""},""]
[null,null,null,null,null,null,null,{"$f":"IF(DATOS!A8183<>\"\",DATOS!A8183&configuracion!$C$10,\"\")","v":""},""]
[null,null,null,null,null,null,null,{"$f":"IF(DATOS!A8193<>\"\",DATOS!A8193&configuracion!$C$10,\"\")","v":""},""]
[null,null,null,null,null,null,null,{"$f":"IF(DATOS!A8200<>\"\",DATOS!A8200&configuracion!$C$10,\"\")","v":""},""]
[null,null,null,null,null,null,null,{"$f":"IF(DATOS!A8203<>\"\",DATOS!A8203&configuracion!$C$10,\"\")","v":""},""]
[null,null,null,null,null,null,null,{"$f":"IF(DATOS!A8210<>\"\",DATOS!A8210&configuracion!$C$10,\"\")","v":""},""]
[null,null,null,null,null,null,null,{"$f":"IF(DATOS!A8219<>\"\",DATOS!A8219&configuracion!$C$10,\"\")","v":""},""]
[null,null,null,null,null,null,null,{"$f":"IF(DATOS!A8221<>\"\",DATOS!A8221&configuracion!$C$10,\"\")","v":""},""]
[null,null,null,null,null,null,null,{"$f":"IF(DATOS!A8230<>\"\",DATOS!A8230&configuracion!$C$10,\"\")","v":""},""]
[null,null,null,null,null,null,null,{"$f":"IF(DATOS!A8233<>\"\",DATOS!A8233&configuracion!$C$10,\"\")","v":""},""]
[null,null,null,null,null,null,null,{"$f":"IF(DATOS!A8242<>\"\",DATOS!A8242&configuracion!$C$10,\"\")","v":""},""]
[null,null,null,null,null,null,null,{"$f":"IF(DATOS!A8250<>\"\",DATOS!A8250&configuracion!$C$10,\"\")","v":""},""]
[null,null,null,null,null,null,null,{"$f":"IF(DATOS!A8253<>\"\",DATOS!A8253&configuracion!$C$10,\"\")","v":""},""]
[null,null,null,null,null,null,null,{"$f":"IF(DATOS!A8261<>\"\",DATOS!A8261&configuracion!$C$10,\"\")","v":""},""]
[null,null,null,null,null,null,null,{"$f":"IF(DATOS!A8270<>\"\",DATOS!A8270&configuracion!$C$10,\"\")","v":""},""]
[null,null,null,null,null,null,null,{"$f":"IF(DATOS!A8271<>\"\",DATOS!A8271&configuracion!$C$10,\"\")","v":""},""]
[null,null,null,null,null,null,null,{"$f":"IF(DATOS!A8280<>\"\",DATOS!A8280&configuracion!$C$10,\"\")","v":""},""]
[null,null,null,null,null,null,null,{"$f":"IF(DATOS!A8287<>\"\",DATOS!A8287&configuracion!$C$10,\"\")","v":""},""]
[null,null,null,null,null,null,null,{"$f":"IF(DATOS!A8291<>\"\",DATOS!A8291&configuracion!$C$10,\"\")","v":""},""]
[null,null,null,null,null,null,null,{"$f":"IF(DATOS!A8300<>\"\",DATOS!A8300&configuracion!$C$10,\"\")","v":""},""]
[null,null,null,null,null,null,null,{"$f":"IF(DATOS!A8307<>\"\",DATOS!A8307&configuracion!$C$10,\"\")","v":""},""]
[null,null,null,null,null,null,null,{"$f":"IF(DATOS!A8310<>\"\",DATOS!A8310&configuracion!$C$10,\"\")","v":""},""]
[null,null,null,null,null,null,null,{"$f":"IF(DATOS!A8320<>\"\",DATOS!A8320&configuracion!$C$10,\"\")","v":""},""]
[null,null,null,null,null,null,null,{"$f":"IF(DATOS!A8321<>\"\",DATOS!A8321&configuracion!$C$10,\"\")","v":""},""]
[null,null,null,null,null,null,null,{"$f":"IF(DATOS!A8330<>\"\",DATOS!A8330&configuracion!$C$10,\"\")","v":""},""]
[null,null,null,null,null,null,null,{"$f":"IF(DATOS!A8336<>\"\",DATOS!A8336&configuracion!$C$10,\"\")","v":""},""]
[null,null,null,null,null,null,null,{"$f":"IF(DATOS!A8341<>\"\",DATOS!A8341&configuracion!$C$10,\"\")","v":""},""]
[null,null,null,null,null,null,null,{"$f":"IF(DATOS!A8350<>\"\",DATOS!A8350&configuracion!$C$10,\"\")","v":""},""]
[null,null,null,null,null,null,null,{"$f":"IF(DATOS!A8357<>\"\",DATOS!A8357&configuracion!$C$10,\"\")","v":""},""]
[null,null,null,null,null,null,null,{"$f":"IF(DATOS!A8359<>\"\",DATOS!A8359&configuracion!$C$10,\"\")","v":""},""]
[null,null,null,null,null,null,null,{"$f":"IF(DATOS!A8370<>\"\",DATOS!A8370&configuracion!$C$10,\"\")","v":""},""]
[null,null,null,null,null,null,null,{"$f":"IF(DATOS!A8371<>\"\",DATOS!A8371&configuracion!$C$10,\"\")","v":""},""]
[null,null,null,null,null,null,null,{"$f":"IF(DATOS!A8380<>\"\",DATOS!A8380&configuracion!$C$10,\"\")","v":""},""]
[null,null,null,null,null,null,null,{"$f":"IF(DATOS!A8385<>\"\",DATOS!A8385&configuracion!$C$10,\"\")","v":""},""]
[null,null,null,null,null,null,null,{"$f":"IF(DATOS!A8391<>\"\",DATOS!A8391&configuracion!$C$10,\"\")","v":""},""]
[null,null,null,null,null,null,null,{"$f":"IF(DATOS!A8400<>\"\",DATOS!A8400&configuracion!$C$10,\"\")","v":""},""]
[null,null,null,null,null,null,null,{"$f":"IF(DATOS!A8407<>\"\",DATOS!A8407&configuracion!$C$10,\"\")","v":""},""]
[null,null,null,null,null,null,null,{"$f":"IF(DATOS!A8408<>\"\",DATOS!A8408&configuracion!$C$10,\"\")","v":""},""]
[null,null,null,null,null,null,null,{"$f":"IF(DATOS!A8420<>\"\",DATOS!A8420&configuracion!$C$10,\"\")","v":""},""]
[null,null,null,null,null,null,null,{"$f":"IF(DATOS!A8421<>\"\",DATOS!A8421&configuracion!$C$10,\"\")","v":""},""]
[null,null,null,null,null,null,null,{"$f":"IF(DATOS!A8430<>\"\",DATOS!A8430&configuracion!$C$10,\"\")","v":""},""]
[null,null,null,null,null,null,null,{"$f":"IF(DATOS!A8438<>\"\",DATOS!A8438&configuracion!$C$10,\"\")","v":""},""]
[null,null,null,null,null,null,null,{"$f":"IF(DATOS!A8441<>\"\",DATOS!A8441&configuracion!$C$10,\"\")","v":""},""]
[null,null,null,null,null,null,null,{"$f":"IF(DATOS!A8450<>\"\",DATOS!A8450&configuracion!$C$10,\"\")","v":""},""]
[null,null,null,null,null,null,null,{"$f":"IF(DATOS!A8457<>\"\",DATOS!A8457&configuracion!$C$10,\"\")","v":""},""]
[null,null,null,null,null,null,null,{"$f":"IF(DATOS!A8464<>\"\",DATOS!A8464&configuracion!$C$10,\"\")","v":""},""]
[null,null,null,null,null,null,null,{"$f":"IF(DATOS!A8470<>\"\",DATOS!A8470&configuracion!$C$10,\"\")","v":""},""]
[null,null,null,null,null,null,null,{"$f":"IF(DATOS!A8471<>\"\",DATOS!A8471&configuracion!$C$10,\"\")","v":""},""]
[null,null,null,null,null,null,null,{"$f":"IF(DATOS!A8480<>\"\",DATOS!A8480&configuracion!$C$10,\"\")","v":""},""]
[null,null,null,null,null,null,null,{"$f":"IF(DATOS!A8487<>\"\",DATOS!A8487&configuracion!$C$10,\"\")","v":""},""]
[null,null,null,null,null,null,null,{"$f":"IF(DATOS!A8491<>\"\",DATOS!A8491&configuracion!$C$10,\"\")","v":""},""]
[null,null,null,null,null,null,null,{"$f":"IF(DATOS!A8500<>\"\",DATOS!A8500&configuracion!$C$10,\"\")","v":""},""]
[null,null,null,null,null,null,null,{"$f":"IF(DATOS!A8507<>\"\",DATOS!A8507&configuracion!$C$10,\"\")","v":""},""]
[null,null,null,null,null,null,null,{"$f":"IF(DATOS!A8513<>\"\",DATOS!A8513&configuracion!$C$10,\"\")","v":""},""]
[null,null,null,null,null,null,null,{"$f":"IF(DATOS!A8518<>\"\",DATOS!A8518&configuracion!$C$10,\"\")","v":""},""]
[null,null,null,null,null,null,null,{"$f":"IF(DATOS!A8521<>\"\",DATOS!A8521&configuracion!$C$10,\"\")","v":""},""]
[null,null,null,null,null,null,null,{"$f":"IF(DATOS!A8530<>\"\",DATOS!A8530&configuracion!$C$10,\"\")","v":""},""]
[null,null,null,null,null,null,null,{"$f":"IF(DATOS!A8536<>\"\",DATOS!A8536&configuracion!$C$10,\"\")","v":""},""]
[null,null,null,null,null,null,null,{"$f":"IF(DATOS!A8541<>\"\",DATOS!A8541&configuracion!$C$10,\"\")","v":""},""]
[null,null,null,null,null,null,null,{"$f":"IF(DATOS!A8550<>\"\",DATOS!A8550&configuracion!$C$10,\"\")","v":""},""]
[null,null,null,null,null,null,null,{"$f":"IF(DATOS!A8557<>\"\",DATOS!A8557&configuracion!$C$10,\"\")","v":""},""]
[null,null,null,null,null,null,null,{"$f":"IF(DATOS!A8562<>\"\",DATOS!A8562&configuracion!$C$10,\"\")","v":""},""]
[null,null,null,null,null,null,null,{"$f":"IF(DATOS!A8568<>\"\",DATOS!A8568&configuracion!$C$10,\"\")","v":""},""]
[null,null,null,null,null,null,null,{"$f":"IF(DATOS!A8571<>\"\",DATOS!A8571&configuracion!$C$10,\"\")","v":""},""]
[null,null,null,null,null,null,null,{"$f":"IF(DATOS!A8580<>\"\",DATOS!A8580&configuracion!$C$10,\"\")","v":""},{"$f":"IF(B8580=\"\",\"\",TEXT(B8580, \"DD/MM/YYYY HH:MM:SS\"))","v":""}]
[null,null,null,null,null,null,null,{"$f":"IF(DATOS!A8585<>\"\",DATOS!A8585&configuracion!$C$10,\"\")","v":""},""]
[null,null,null,null,null,null,null,{"$f":"IF(DATOS!A8591<>\"\",DATOS!A8591&configuracion!$C$10,\"\")","v":""},""]
[null,null,null,null,null,null,null,{"$f":"IF(DATOS!A8600<>\"\",DATOS!A8600&configuracion!$C$10,\"\")","v":""},""]
[null,null,null,null,null,null,null,{"$f":"IF(DATOS!A8607<>\"\",DATOS!A8607&configuracion!$C$10,\"\")","v":""},""]
[null,null,null,null,null,null,null,{"$f":"IF(DATOS!A8611<>\"\",DATOS!A8611&configuracion!$C$10,\"\")","v":""},""]
[null,null,null,null,null,null,null,{"$f":"IF(DATOS!A8618<>\"\",DATOS!A8618&configuracion!$C$10,\"\")","v":""},""]
[null,null,null,null,null,null,null,{"$f":"IF(DATOS!A8621<>\"\",DATOS!A8621&configuracion!$C$10,\"\")","v":""},""]
[null,null,null,null,null,null,null,{"$f":"IF(DATOS!A8630<>\"\",DATOS!A8630&configuracion!$C$10,\"\")","v":""},""]
[null,null,null,null,null,null,null,{"$f":"IF(DATOS!A8634<>\"\",DATOS!A8634&configuracion!$C$10,\"\")","v":""},""]
[null,null,null,null,null,null,null,{"$f":"IF(DATOS!A8641<>\"\",DATOS!A8641&configuracion!$C$10,\"\")","v":""},""]
[null,null,null,null,null,null,null,{"$f":"IF(DATOS!A8648<>\"\",DATOS!A8648&configuracion!$C$10,\"\")","v":""},""]
[null,null,null,null,null,null,null,{"$f":"IF(DATOS!A8657<>\"\",DATOS!A8657&configuracion!$C$10,\"\")","v":""},""]
[null,null,null,null,null,null,null,{"$f":"IF(DATOS!A8660<>\"\",DATOS!A8660&configuracion!$C$10,\"\")","v":""},""]
[null,null,null,null,null,null,null,{"$f":"IF(DATOS!A8668<>\"\",DATOS!A8668&configuracion!$C$10,\"\")","v":""},""]
[null,null,null,null,null,null,null,{"$f":"IF(DATOS!A8671<>\"\",DATOS!A8671&configuracion!$C$10,\"\")","v":""},""]
[null,null,null,null,null,null,null,{"$f":"IF(DATOS!A8680<>\"\",DATOS!A8680&configuracion!$C$10,\"\")","v":""},""]
[null,null,null,null,null,null,null,{"$f":"IF(DATOS!A8683<>\"\",DATOS!A8683&configuracion!$C$10,\"\")","v":""},""]
[null,null,null,null,null,null,null,{"$f":"IF(DATOS!A8691<>\"\",DATOS!A8691&configuracion!$C$10,\"\")","v":""},""]
[null,null,null,null,null,null,null,{"$f":"IF(DATOS!A8698<>\"\",DATOS!A8698&configuracion!$C$10,\"\")","v":""},""]
[null,null,null,null,null,null,null,{"$f":"IF(DATOS!A8707<>\"\",DATOS!A8707&configuracion!$C$10,\"\")","v":""},""]
[null,null,null,null,null,null,null,{"$f":"IF(DATOS!A8709<>\"\",DATOS!A8709&configuracion!$C$10,\"\")","v":""},""]
[null,null,null,null,null,null,null,{"$f":"IF(DATOS!A8718<>\"\",DATOS!A8718&configuracion!$C$10,\"\")","v":""},""]
[null,null,null,null,null,null,null,{"$f":"IF(DATOS!A8721<>\"\",DATOS!A8721&configuracion!$C$10,\"\")","v":""},""]
[null,null,null,null,null,null,null,{"$f":"IF(DATOS!A8730<>\"\",DATOS!A8730&configuracion!$C$10,\"\")","v":""},""]
[null,null,null,null,null,null,null,{"$f":"IF(DATOS!A8739<>\"\",DATOS!A8739&configuracion!$C$10,\"\")","v":""},""]
[null,null,null,null,null,null,null,{"$f":"IF(DATOS!A8741<>\"\",DATOS!A8741&configuracion!$C$10,\"\")","v":""},""]
[null,null,null,null,null,null,null,{"$f":"IF(DATOS!A8748<>\"\",DATOS!A8748&configuracion!$C$10,\"\")","v":""},""]
[null,null,null,null,null,null,null,{"$f":"IF(DATOS!A8757<>\"\",DATOS!A8757&configuracion!$C$10,\"\")","v":""},""]
[null,null,null,null,null,null,null,{"$f":"IF(DATOS!A8758<>\"\",DATOS!A8758&configuracion!$C$10,\"\")","v":""},""]
[null,null,null,null,null,null,null,{"$f":"IF(DATOS!A8768<>\"\",DATOS!A8768&configuracion!$C$10,\"\")","v":""},""]
[null,null,null,null,null,null,null,{"$f":"IF(DATOS!A8771<>\"\",DATOS!A8771&configuracion!$C$10,\"\")","v":""},""]
[null,null,null,null,null,null,null,{"$f":"IF(DATOS!A8778<>\"\",DATOS!A8778&configuracion!$C$10,\"\")","v":""},""]
[null,null,null,null,null,null,null,{"$f":"IF(DATOS!A8788<>\"\",DATOS!A8788&configuracion!$C$10,\"\")","v":""},""]
[null,null,null,null,null,null,null,{"$f":"IF(DATOS!A8791<>\"\",DATOS!A8791&configuracion!$C$10,\"\")","v":""},""]
[null,null,null,null,null,null,null,{"$f":"IF(DATOS!A8798<>\"\",DATOS!A8798&configuracion!$C$10,\"\")","v":""},""]
[null,null,null,null,null,null,null,{"$f":"IF(DATOS!A8807<>\"\",DATOS!A8807&configuracion!$C$10,\"\")","v":""},""]
[null,null,null,null,null,null,null,{"$f":"IF(DATOS!A8814<>\"\",DATOS!A8814&configuracion!$C$10,\"\")","v":""},""]
[null,null,null,null,null,null,null,{"$f":"IF(DATOS!A8818<>\"\",DATOS!A8818&configuracion!$C$10,\"\")","v":""},""]
[null,null,null,null,null,null,null,{"$f":"IF(DATOS!A8821<>\"\",DATOS!A8821&configuracion!$C$10,\"\")","v":""},""]
[null,null,null,null,null,null,null,{"$f":"IF(DATOS!A8828<>\"\",DATOS!A8828&configuracion!$C$10,\"\")","v":""},""]
[null,null,null,null,null,null,null,{"$f":"IF(DATOS!A8837<>\"\",DATOS!A8837&configuracion!$C$10,\"\")","v":""},""]
[null,null,null,null,null,null,null,{"$f":"IF(DATOS!A8841<>\"\",DATOS!A8841&configuracion!$C$10,\"\")","v":""},""]
[null,null,null,null,null,null,null,{"$f":"IF(DATOS!A8848<>\"\",DATOS!A8848&configuracion!$C$10,\"\")","v":""},""]
[null,null,null,null,null,null,null,{"$f":"IF(DATOS!A8857<>\"\",DATOS!A8857&configuracion!$C$10,\"\")","v":""},""]
[null,null,null,null,null,null,null,{"$f":"IF(DATOS!A8860<>\"\",DATOS!A8860&configuracion!$C$10,\"\")","v":""},""]
[null,null,null,null,null,null,null,{"$f":"IF(DATOS!A8868<>\"\",DATOS!A8868&configuracion!$C$10,\"\")","v":""},""]
[null,null,null,null,null,null,null,{"$f":"IF(DATOS!A8871<>\"\",DATOS!A8871&configuracion!$C$10,\"\")","v":""},""]
[null,null,null,null,null,null,null,{"$f":"IF(DATOS!A8878<>\"\",DATOS!A8878&configuracion!$C$10,\"\")","v":""},""]
[null,null,null,null,null,null,null,{"$f":"IF(DATOS!A8886<>\"\",DATOS!A8886&configuracion!$C$10,\"\")","v":""},""]
[null,null,null,null,null,null,null,{"$f":"IF(DATOS!A8891<>\"\",DATOS!A8891&configuracion!$C$10,\"\")","v":""},""]
[null,null,null,null,null,null,null,{"$f":"IF(DATOS!A8898<>\"\",DATOS!A8898&configuracion!$C$10,\"\")","v":""},""]
[null,null,null,null,null,null,null,{"$f":"IF(DATOS!A8907<>\"\",DATOS!A8907&configuracion!$C$10,\"\")","v":""},""]
[null,null,null,null,null,null,null,{"$f":"IF(DATOS!A8909<>\"\",DATOS!A8909&configuracion!$C$10,\"\")","v":""},""]
[null,null,null,null,null,null,null,{"$f":"IF(DATOS!A8918<>\"\",DATOS!A8918&configuracion!$C$10,\"\")","v":""},""]
[null,null,null,null,null,null,null,{"$f":"IF(DATOS!A8921<>\"\",DATOS!A8921&configuracion!$C$10,\"\")","v":""},""]
[null,null,null,null,null,null,null,{"$f":"IF(DATOS!A8928<>\"\",DATOS!A8928&configuracion!$C$10,\"\")","v":""},""]
[null,null,null,null,null,null,null,{"$f":"IF(DATOS!A8935<>\"\",DATOS!A8935&configuracion!$C$10,\"\")","v":""},""]
[null,null,null,null,null,null,null,{"$f":"IF(DATOS!A8941<>\"\",DATOS!A8941&configuracion!$C$10,\"\")","v":""},""]
[null,null,null,null,null,null,null,{"$f":"IF(DATOS!A8948<>\"\",DATOS!A8948&configuracion!$C$10,\"\")","v":""},""]
[null,null,null,null,null,null,null,{"$f":"IF(DATOS!A8957<>\"\",DATOS!A8957&configuracion!$C$10,\"\")","v":""},""]
[null,null,null,null,null,null,null,{"$f":"IF(DATOS!A8958<>\"\",DATOS!A8958&configuracion!$C$10,\"\")","v":""},""]
[null,null,null,null,null,null,null,{"$f":"IF(DATOS!A8968<>\"\",DATOS!A8968&configuracion!$C$10,\"\")","v":""},""]
[null,null,null,null,null,null,null,{"$f":"IF(DATOS!A8971<>\"\",DATOS!A8971&configuracion!$C$10,\"\")","v":""},""]
[null,null,null,null,null,null,null,{"$f":"IF(DATOS!A8978<>\"\",DATOS!A8978&configuracion!$C$10,\"\")","v":""},""]
[null,null,null,null,null,null,null,{"$f":"IF(DATOS!A8984<>\"\",DATOS!A8984&configuracion!$C$10,\"\")","v":""},""]
[null,null,null,null,null,null,null,{"$f":"IF(DATOS!A8995<>\"\",DATOS!A8995&configuracion!$C$10,\"\")","v":""},""]
[null,null,null,null,null,null,null,{"$f":"IF(DATOS!A8998<>\"\",DATOS!A8998&configuracion!$C$10,\"\")","v":""},""]
[null,null,null,null,null,null,null,{"$f":"IF(DATOS!A9007<>\"\",DATOS!A9007&configuracion!$C$10,\"\")","v":""},""]
[null,null,null,null,null,null,null,{"$f":"IF(DATOS!A9014<>\"\",DATOS!A9014&configuracion!$C$10,\"\")","v":""},""]
[null,null,null,null,null,null,null,{"$f":"IF(DATOS!A9018<>\"\",DATOS!A9018&configuracion!$C$10,\"\")","v":""},""]
[null,null,null,null,null,null,null,{"$f":"IF(DATOS!A9021<>\"\",DATOS!A9021&configuracion!$C$10,\"\")","v":""},""]
[null,null,null,null,null,null,null,{"$f":"IF(DATOS!A9028<>\"\",DATOS!A9028&configuracion!$C$10,\"\")","v":""},{"$f":"IF(B9028=\"\",\"\",TEXT(B9028, \"DD/MM/YYYY HH:MM:SS\"))","v":""}]
[null,null,null,null,null,null,null,{"$f":"IF(DATOS!A9033<>\"\",DATOS!A9033&configuracion!$C$10,\"\")","v":""},""]
[null,null,null,null,null,null,null,{"$f":"IF(DATOS!A9045<>\"\",DATOS!A9045&configuracion!$C$10,\"\")","v":""},""]
[null,null,null,null,null,null,null,{"$f":"IF(DATOS!A9048<>\"\",DATOS!A9048&configuracion!$C$10,\"\")","v":""},""]
[null,null,null,null,null,null,null,{"$f":"IF(DATOS!A9057<>\"\",DATOS!A9057&configuracion!$C$10,\"\")","v":""},""]
[null,null,null,null,null,null,null,{"$f":"IF(DATOS!A9063<>\"\",DATOS!A9063&configuracion!$C$10,\"\")","v":""},""]
[null,null,null,null,null,null,null,{"$f":"IF(DATOS!A9068<>\"\",DATOS!A9068&configuracion!$C$10,\"\")","v":""},""]
[null,null,null,null,null,null,null,{"$f":"IF(DATOS!A9075<>\"\",DATOS!A9075&configuracion!$C$10,\"\")","v":""},""]
[null,null,null,null,null,null,null,{"$f":"IF(DATOS!A9078<>\"\",DATOS!A9078&configuracion!$C$10,\"\")","v":""},""]
[null,null,null,null,null,null,null,{"$f":"IF(DATOS!A9089<>\"\",DATOS!A9089&configuracion!$C$10,\"\")","v":""},""]
[null,null,null,null,null,null,null,{"$f":"IF(DATOS!A9095<>\"\",DATOS!A9095&configuracion!$C$10,\"\")","v":""},""]
[null,null,null,null,null,null,null,{"$f":"IF(DATOS!A9098<>\"\",DATOS!A9098&configuracion!$C$10,\"\")","v":""},""]
[null,null,null,null,null,null,null,{"$f":"IF(DATOS!A9107<>\"\",DATOS!A9107&configuracion!$C$10,\"\")","v":""},""]
[null,null,null,null,null,null,null,{"$f":"IF(DATOS!A9112<>\"\",DATOS!A9112&configuracion!$C$10,\"\")","v":""},""]
[null,null,null,null,null,null,null,{"$f":"IF(DATOS!A9118<>\"\",DATOS!A9118&configuracion!$C$10,\"\")","v":""},""]
[null,null,null,null,null,null,null,{"$f":"IF(DATOS!A9125<>\"\",DATOS!A9125&configuracion!$C$10,\"\")","v":""},""]
[null,null,null,null,null,null,null,{"$f":"IF(DATOS!A9128<>\"\",DATOS!A9128&configuracion!$C$10,\"\")","v":""},""]
[null,null,null,null,null,null,null,{"$f":"IF(DATOS!A9138<>\"\",DATOS!A9138&configuracion!$C$10,\"\")","v":""},""]
[null,null,null,null,null,null,null,{"$f":"IF(DATOS!A9145<>\"\",DATOS!A9145&configuracion!$C$10,\"\")","v":""},""]
[null,null,null,null,null,null,null,{"$f":"IF(DATOS!A9148<>\"\",DATOS!A9148&configuracion!$C$10,\"\")","v":""},""]
[null,null,null,null,null,null,null,{"$f":"IF(DATOS!A9157<>\"\",DATOS!A9157&configuracion!$C$10,\"\")","v":""},""]
[null,null,null,null,null,null,null,{"$f":"IF(DATOS!A9161<>\"\",DATOS!A9161&configuracion!$C$10,\"\")","v":""},""]
[null,null,null,null,null,null,null,{"$f":"IF(DATOS!A9168<>\"\",DATOS!A9168&configuracion!$C$10,\"\")","v":""},""]
[null,null,null,null,null,null,null,{"$f":"IF(DATOS!A9175<>\"\",DATOS!A9175&configuracion!$C$10,\"\")","v":""},""]
[null,null,null,null,null,null,null,{"$f":"IF(DATOS!A9178<>\"\",DATOS!A9178&configuracion!$C$10,\"\")","v":""},""]
[null,null,null,null,null,null,null,{"$f":"IF(DATOS!A9187<>\"\",DATOS!A9187&configuracion!$C$10,\"\")","v":""},""]
[null,null,null,null,null,null,null,{"$f":"IF(DATOS!A9195<>\"\",DATOS!A9195&configuracion!$C$10,\"\")","v":""},""]
[null,null,null,null,null,null,null,{"$f":"IF(DATOS!A9198<>\"\",DATOS!A9198&configuracion!$C$10,\"\")","v":""},""]
[null,null,null,null,null,null,null,{"$f":"IF(DATOS!A9205<>\"\",DATOS!A9205&configuracion!$C$10,\"\")","v":""},""]
[null,null,null,null,null,null,null,{"$f":"IF(DATOS!A9210<>\"\",DATOS!A9210&configuracion!$C$10,\"\")","v":""},""]
[null,null,null,null,null,null,null,{"$f":"IF(DATOS!A9218<>\"\",DATOS!A9218&configuracion!$C$10,\"\")","v":""},""]
[null,null,null,null,null,null,null,{"$f":"IF(DATOS!A9225<>\"\",DATOS!A9225&configuracion!$C$10,\"\")","v":""},""]
[null,null,null,null,null,null,null,{"$f":"IF(DATOS!A9228<>\"\",DATOS!A9228&configuracion!$C$10,\"\")","v":""},""]
[null,null,null,null,null,null,null,{"$f":"IF(DATOS!A9236<>\"\",DATOS!A9236&configuracion!$C$10,\"\")","v":""},""]
[null,null,null,null,null,null,null,{"$f":"IF(DATOS!A9245<>\"\",DATOS!A9245&configuracion!$C$10,\"\")","v":""},""]
[null,null,null,null,null,null,null,{"$f":"IF(DATOS!A9248<>\"\",DATOS!A9248&configuracion!$C$10,\"\")","v":""},""]
[null,null,null,null,null,null,null,{"$f":"IF(DATOS!A9255<>\"\",DATOS!A9255&configuracion!$C$10,\"\")","v":""},""]
[null,null,null,null,null,null,null,{"$f":"IF(DATOS!A9259<>\"\",DATOS!A9259&configuracion!$C$10,\"\")","v":""},""]
[null,null,null,null,null,null,null,{"$f":"IF(DATOS!A9268<>\"\",DATOS!A9268&configuracion!$C$10,\"\")","v":""},""]
[null,null,null,null,null,null,null,{"$f":"IF(DATOS!A9275<>\"\",DATOS!A9275&configuracion!$C$10,\"\")","v":""},""]
[null,null,null,null,null,null,null,{"$f":"IF(DATOS!A9278<>\"\",DATOS!A9278&configuracion!$C$10,\"\")","v":""},""]
[null,null,null,null,null,null,null,{"$f":"IF(DATOS!A9285<>\"\",DATOS!A9285&configuracion!$C$10,\"\")","v":""},""]
[null,null,null,null,null,null,null,{"$f":"IF(DATOS!A9295<>\"\",DATOS!A9295&configuracion!$C$10,\"\")","v":""},""]
[null,null,null,null,null,null,null,{"$f":"IF(DATOS!A9298<>\"\",DATOS!A9298&configuracion!$C$10,\"\")","v":""},""]
[null,null,null,null,null,null,null,{"$f":"IF(DATOS!A9308<>\"\",DATOS!A9308&configuracion!$C$10,\"\")","v":""},""]
[null,null,null,null,null,null,null,{"$f":"IF(DATOS!A9309<>\"\",DATOS!A9309&configuracion!$C$10,\"\")","v":""},""]
[null,null,null,null,null,null,null,{"$f":"IF(DATOS!A9318<>\"\",DATOS!A9318&configuracion!$C$10,\"\")","v":""},""]
[null,null,null,null,null,null,null,{"$f":"IF(DATOS!A9325<>\"\",DATOS!A9325&configuracion!$C$10,\"\")","v":""},""]
[null,null,null,null,null,null,null,{"$f":"IF(DATOS!A9327<>\"\",DATOS!A9327&configuracion!$C$10,\"\")","v":""},""]
[null,null,null,null,null,null,null,{"$f":"IF(DATOS!A9336<>\"\",DATOS!A9336&configuracion!$C$10,\"\")","v":""},""]
[null,null,null,null,null,null,null,{"$f":"IF(DATOS!A9345<>\"\",DATOS!A9345&configuracion!$C$10,\"\")","v":""},""]
[null,null,null,null,null,null,null,{"$f":"IF(DATOS!A9348<>\"\",DATOS!A9348&configuracion!$C$10,\"\")","v":""},{"$f":"IF(B9348=\"\",\"\",TEXT(B9348, \"DD/MM/YYYY HH:MM:SS\"))","v":""}]
[null,null,null,null,null,null,null,{"$f":"IF(DATOS!A9357<>\"\",DATOS!A9357&configuracion!$C$10,\"\")","v":""},""]
[null,null,null,null,null,null,null,{"$f":"IF(DATOS!A9359<>\"\",DATOS!A9359&configuracion!$C$10,\"\")","v":""},""]
[null,null,null,null,null,null,null,{"$f":"IF(DATOS!A9368<>\"\",DATOS!A9368&configuracion!$C$10,\"\")","v":""},""]
[null,null,null,null,null,null,null,{"$f":"IF(DATOS!A9375<>\"\",DATOS!A9375&configuracion!$C$10,\"\")","v":""},""]
[null,null,null,null,null,null,null,{"$f":"IF(DATOS!A9383<>\"\",DATOS!A9383&configuracion!$C$10,\"\")","v":""},""]
[null,null,null,null,null,null,null,{"$f":"IF(DATOS!A9386<>\"\",DATOS!A9386&configuracion!$C$10,\"\")","v":""},""]
[null,null,null,null,null,null,null,{"$f":"IF(DATOS!A9395<>\"\",DATOS!A9395&configuracion!$C$10,\"\")","v":""},""]
[null,null,null,null,null,null,null,{"$f":"IF(DATOS!A9398<>\"\",DATOS!A9398&configuracion!$C$10,\"\")","v":""},""]
[null,null,null,null,null,null,null,{"$f":"IF(DATOS!A9406<>\"\",DATOS!A9406&configuracion!$C$10,\"\")","v":""},""]
[null,null,null,null,null,null,null,{"$f":"IF(DATOS!A9409<>\"\",DATOS!A9409&configuracion!$C$10,\"\")","v":""},""]
[null,null,null,null,null,null,null,{"$f":"IF(DATOS!A9416<>\"\",DATOS!A9416&configuracion!$C$10,\"\")","v":""},""]
[null,null,null,null,null,null,null,{"$f":"IF(DATOS!A9425<>\"\",DATOS!A9425&configuracion!$C$10,\"\")","v":""},""]
[null,null,null,null,null,null,null,{"$f":"IF(DATOS!A9432<>\"\",DATOS!A9432&configuracion!$C$10,\"\")","v":""},""]
[null,null,null,null,null,null,null,{"$f":"IF(DATOS!A9436<>\"\",DATOS!A9436&configuracion!$C$10,\"\")","v":""},""]
[null,null,null,null,null,null,null,{"$f":"IF(DATOS!A9445<>\"\",DATOS!A9445&configuracion!$C$10,\"\")","v":""},""]
[null,null,null,null,null,null,null,{"$f":"IF(DATOS!A9448<>\"\",DATOS!A9448&configuracion!$C$10,\"\")","v":""},""]
[null,null,null,null,null,null,null,{"$f":"IF(DATOS!A9455<>\"\",DATOS!A9455&configuracion!$C$10,\"\")","v":""},""]
[null,null,null,null,null,null,null,{"$f":"IF(DATOS!A9459<>\"\",DATOS!A9459&configuracion!$C$10,\"\")","v":""},""]
[null,null,null,null,null,null,null,{"$f":"IF(DATOS!A9466<>\"\",DATOS!A9466&configuracion!$C$10,\"\")","v":""},""]
[null,null,null,null,null,null,null,{"$f":"IF(DATOS!A9475<>\"\",DATOS!A9475&configuracion!$C$10,\"\")","v":""},""]
[null,null,null,null,null,null,null,{"$f":"IF(DATOS!A9481<>\"\",DATOS!A9481&configuracion!$C$10,\"\")","v":""},""]
[null,null,null,null,null,null,null,{"$f":"IF(DATOS!A9486<>\"\",DATOS!A9486&configuracion!$C$10,\"\")","v":""},""]
[null,null,null,null,null,null,null,{"$f":"IF(DATOS!A9495<>\"\",DATOS!A9495&configuracion!$C$10,\"\")","v":""},""]
[null,null,null,null,null,null,null,{"$f":"IF(DATOS!A9498<>\"\",DATOS!A9498&configuracion!$C$10,\"\")","v":""},""]
[null,null,null,null,null,null,null,{"$f":"IF(DATOS!A9504<>\"\",DATOS!A9504&configuracion!$C$10,\"\")","v":""},""]
[null,null,null,null,null,null,null,{"$f":"IF(DATOS!A9509<>\"\",DATOS!A9509&configuracion!$C$10,\"\")","v":""},""]
[null,null,null,null,null,null,null,{"$f":"IF(DATOS!A9516<>\"\",DATOS!A9516&configuracion!$C$10,\"\")","v":""},""]
[null,null,null,null,null,null,null,{"$f":"IF(DATOS!A9525<>\"\",DATOS!A9525&configuracion!$C$10,\"\")","v":""},""]
[null,null,null,null,null,null,null,{"$f":"IF(DATOS!A9530<>\"\",DATOS!A9530&configuracion!$C$10,\"\")","v":""},""]
[null,null,null,null,null,null,null,{"$f":"IF(DATOS!A9536<>\"\",DATOS!A9536&configuracion!$C$10,\"\")","v":""},""]
[null,null,null,null,null,null,null,{"$f":"IF(DATOS!A9545<>\"\",DATOS!A9545&configuracion!$C$10,\"\")","v":""},""]
[null,null,null,null,null,null,null,{"$f":"IF(DATOS!A9546<>\"\",DATOS!A9546&configuracion!$C$10,\"\")","v":""},""]
[null,null,null,null,null,null,null,{"$f":"IF(DATOS!A9553<>\"\",DATOS!A9553&configuracion!$C$10,\"\")","v":""},""]
[null,null,null,null,null,null,null,{"$f":"IF(DATOS!A9559<>\"\",DATOS!A9559&configuracion!$C$10,\"\")","v":""},""]
[null,null,null,null,null,null,null,{"$f":"IF(DATOS!A9566<>\"\",DATOS!A9566&configuracion!$C$10,\"\")","v":""},""]
[null,null,null,null,null,null,null,{"$f":"IF(DATOS!A9575<>\"\",DATOS!A9575&configuracion!$C$10,\"\")","v":""},""]
[null,null,null,null,null,null,null,{"$f":"IF(DATOS!A9579<>\"\",DATOS!A9579&configuracion!$C$10,\"\")","v":""},""]
[null,null,null,null,null,null,null,{"$f":"IF(DATOS!A9586<>\"\",DATOS!A9586&configuracion!$C$10,\"\")","v":""},""]
[null,null,null,null,null,null,null,{"$f":"IF(DATOS!A9595<>\"\",DATOS!A9595&configuracion!$C$10,\"\")","v":""},""]
[null,null,null,null,null,null,null,{"$f":"IF(DATOS!A9596<>\"\",DATOS!A9596&configuracion!$C$10,\"\")","v":""},""]
[null,null,null,null,null,null,null,{"$f":"IF(DATOS!A9602<>\"\",DATOS!A9602&configuracion!$C$10,\"\")","v":""},""]
[null,null,null,null,null,null,null,{"$f":"IF(DATOS!A9609<>\"\",DATOS!A9609&configuracion!$C$10,\"\")","v":""},""]
[null,null,null,null,null,null,null,{"$f":"IF(DATOS!A9616<>\"\",DATOS!A9616&configuracion!$C$10,\"\")","v":""},""]
[null,null,null,null,null,null,null,{"$f":"IF(DATOS!A9625<>\"\",DATOS!A9625&configuracion!$C$10,\"\")","v":""},""]
[null,null,null,null,null,null,null,{"$f":"IF(DATOS!A9628<>\"\",DATOS!A9628&configuracion!$C$10,\"\")","v":""},""]
[null,null,null,null,null,null,null,{"$f":"IF(DATOS!A9636<>\"\",DATOS!A9636&configuracion!$C$10,\"\")","v":""},""]
[null,null,null,null,null,null,null,{"$f":"IF(DATOS!A9645<>\"\",DATOS!A9645&configuracion!$C$10,\"\")","v":""},""]
[null,null,null,null,null,null,null,{"$f":"IF(DATOS!A9646<>\"\",DATOS!A9646&configuracion!$C$10,\"\")","v":""},""]
[null,null,null,null,null,null,null,{"$f":"IF(DATOS!A9658<>\"\",DATOS!A9658&configuracion!$C$10,\"\")","v":""},""]
[null,null,null,null,null,null,null,{"$f":"IF(DATOS!A9659<>\"\",DATOS!A9659&configuracion!$C$10,\"\")","v":""},""]
[null,null,null,null,null,null,null,{"$f":"IF(DATOS!A9666<>\"\",DATOS!A9666&configuracion!$C$10,\"\")","v":""},""]
[null,null,null,null,null,null,null,{"$f":"IF(DATOS!A9675<>\"\",DATOS!A9675&configuracion!$C$10,\"\")","v":""},""]
[null,null,null,null,null,null,null,{"$f":"IF(DATOS!A9681<>\"\",DATOS!A9681&configuracion!$C$10,\"\")","v":""},""]
[null,null,null,null,null,null,null,{"$f":"IF(DATOS!A9686<>\"\",DATOS!A9686&configuracion!$C$10,\"\")","v":""},""]
[null,null,null,null,null,null,null,{"$f":"IF(DATOS!A9695<>\"\",DATOS!A9695&configuracion!$C$10,\"\")","v":""},""]
[null,null,null,null,null,null,null,{"$f":"IF(DATOS!A9696<>\"\",DATOS!A9696&configuracion!$C$10,\"\")","v":""},""]
[null,null,null,null,null,null,null,{"$f":"IF(DATOS!A9707<>\"\",DATOS!A9707&configuracion!$C$10,\"\")","v":""},""]
[null,null,null,null,null,null,null,{"$f":"IF(DATOS!A9709<>\"\",DATOS!A9709&configuracion!$C$10,\"\")","v":""},""]
[null,null,null,null,null,null,null,{"$f":"IF(DATOS!A9716<>\"\",DATOS!A9716&configuracion!$C$10,\"\")","v":""},""]
[null,null,null,null,null,null,null,{"$f":"IF(DATOS!A9725<>\"\",DATOS!A9725&configuracion!$C$10,\"\")","v":""},""]
[null,null,null,null,null,null,null,{"$f":"IF(DATOS!A9730<>\"\",DATOS!A9730&configuracion!$C$10,\"\")","v":""},""]
[null,null,null,null,null,null,null,{"$f":"IF(DATOS!A9736<>\"\",DATOS!A9736&configuracion!$C$10,\"\")","v":""},""]
[null,null,null,null,null,null,null,{"$f":"IF(DATOS!A9745<>\"\",DATOS!A9745&configuracion!$C$10,\"\")","v":""},""]
[null,null,null,null,null,null,null,{"$f":"IF(DATOS!A9746<>\"\",DATOS!A9746&configuracion!$C$10,\"\")","v":""},""]
[null,null,null,null,null,null,null,{"$f":"IF(DATOS!A9756<>\"\",DATOS!A9756&configuracion!$C$10,\"\")","v":""},""]
[null,null,null,null,null,null,null,{"$f":"IF(DATOS!A9763<>\"\",DATOS!A9763&configuracion!$C$10,\"\")","v":""},""]
[null,null,null,null,null,null,null,{"$f":"IF(DATOS!A9766<>\"\",DATOS!A9766&configuracion!$C$10,\"\")","v":""},""]
[null,null,null,null,null,null,null,{"$f":"IF(DATOS!A9775<>\"\",DATOS!A9775&configuracion!$C$10,\"\")","v":""},""]
[null,null,null,null,null,null,null,{"$f":"IF(DATOS!A9779<>\"\",DATOS!A9779&configuracion!$C$10,\"\")","v":""},""]
[null,null,null,null,null,null,null,{"$f":"IF(DATOS!A9786<>\"\",DATOS!A9786&configuracion!$C$10,\"\")","v":""},""]
[null,null,null,null,null,null,null,{"$f":"IF(DATOS!A9795<>\"\",DATOS!A9795&configuracion!$C$10,\"\")","v":""},""]
[null,null,null,null,null,null,null,{"$f":"IF(DATOS!A9796<>\"\",DATOS!A9796&configuracion!$C$10,\"\")","v":""},{"$f":"IF(B9796=\"\",\"\",TEXT(B9796, \"DD/MM/YYYY HH:MM:SS\"))","v":""}]
[null,null,null,null,null,null,null,{"$f":"IF(DATOS!A9805<>\"\",DATOS!A9805&configuracion!$C$10,\"\")","v":""},""]
[null,null,null,null,null,null,null,{"$f":"IF(DATOS!A9813<>\"\",DATOS!A9813&configuracion!$C$10,\"\")","v":""},""]
[null,null,null,null,null,null,null,{"$f":"IF(DATOS!A9816<>\"\",DATOS!A9816&configuracion!$C$10,\"\")","v":""},""]
[null,null,null,null,null,null,null,{"$f":"IF(DATOS!A9825<>\"\",DATOS!A9825&configuracion!$C$10,\"\")","v":""},""]
[null,null,null,null,null,null,null,{"$f":"IF(DATOS!A9828<>\"\",DATOS!A9828&configuracion!$C$10,\"\")","v":""},""]
[null,null,null,null,null,null,null,{"$f":"IF(DATOS!A9836<>\"\",DATOS!A9836&configuracion!$C$10,\"\")","v":""},""]
[null,null,null,null,null,null,null,{"$f":"IF(DATOS!A9845<>\"\",DATOS!A9845&configuracion!$C$10,\"\")","v":""},""]
[null,null,null,null,null,null,null,{"$f":"IF(DATOS!A9846<>\"\",DATOS!A9846&configuracion!$C$10,\"\")","v":""},""]
[null,null,null,null,null,null,null,{"$f":"IF(DATOS!A9854<>\"\",DATOS!A9854&configuracion!$C$10,\"\")","v":""},""]
[null,null,null,null,null,null,null,{"$f":"IF(DATOS!A9863<>\"\",DATOS!A9863&configuracion!$C$10,\"\")","v":""},""]
[null,null,null,null,null,null,null,{"$f":"IF(DATOS!A9866<>\"\",DATOS!A9866&configuracion!$C$10,\"\")","v":""},""]
[null,null,null,null,null,null,null,{"$f":"IF(DATOS!A9875<>\"\",DATOS!A9875&configuracion!$C$10,\"\")","v":""},""]
[null,null,null,null,null,null,null,{"$f":"IF(DATOS!A9877<>\"\",DATOS!A9877&configuracion!$C$10,\"\")","v":""},""]
[null,null,null,null,null,null,null,{"$f":"IF(DATOS!A9886<>\"\",DATOS!A9886&configuracion!$C$10,\"\")","v":""},""]
[null,null,null,null,null,null,null,{"$f":"IF(DATOS!A9893<>\"\",DATOS!A9893&configuracion!$C$10,\"\")","v":""},""]
[null,null,null,null,null,null,null,{"$f":"IF(DATOS!A9896<>\"\",DATOS!A9896&configuracion!$C$10,\"\")","v":""},""]
[null,null,null,null,null,null,null,{"$f":"IF(DATOS!A9903<>\"\",DATOS!A9903&configuracion!$C$10,\"\")","v":""},""]
[null,null,null,null,null,null,null,{"$f":"IF(DATOS!A9913<>\"\",DATOS!A9913&configuracion!$C$10,\"\")","v":""},""]
[null,null,null,null,null,null,null,{"$f":"IF(DATOS!A9916<>\"\",DATOS!A9916&configuracion!$C$10,\"\")","v":""},""]
[null,null,null,null,null,null,null,{"$f":"IF(DATOS!A9925<>\"\",DATOS!A9925&configuracion!$C$10,\"\")","v":""},""]
[null,null,null,null,null,null,null,{"$f":"IF(DATOS!A9933<>\"\",DATOS!A9933&configuracion!$C$10,\"\")","v":""},""]
[null,null,null,null,null,null,null,{"$f":"IF(DATOS!A9936<>\"\",DATOS!A9936&configuracion!$C$10,\"\")","v":""},""]
[null,null,null,null,null,null,null,{"$f":"IF(DATOS!A9943<>\"\",DATOS!A9943&configuracion!$C$10,\"\")","v":""},""]
[null,null,null,null,null,null,null,{"$f":"IF(DATOS!A9946<>\"\",DATOS!A9946&configuracion!$C$10,\"\")","v":""},""]
[null,null,null,null,null,null,null,{"$f":"IF(DATOS!A9952<>\"\",DATOS!A9952&configuracion!$C$10,\"\")","v":""},""]
[null,null,null,null,null,null,null,{"$f":"IF(DATOS!A9963<>\"\",DATOS!A9963&configuracion!$C$10,\"\")","v":""},""]
[null,null,null,null,null,null,null,{"$f":"IF(DATOS!A9966<>\"\",DATOS!A9966&configuracion!$C$10,\"\")","v":""},""]
[null,null,null,null,null,null,null,{"$f":"IF(DATOS!A9973<>\"\",DATOS!A9973&configuracion!$C$10,\"\")","v":""},""]
[null,null,null,null,null,null,null,{"$f":"IF(DATOS!A9982<>\"\",DATOS!A9982&configuracion!$C$10,\"\")","v":""},""]
[null,null,null,null,null,null,null,{"$f":"IF(DATOS!A9986<>\"\",DATOS!A9986&configuracion!$C$10,\"\")","v":""},""]
[null,null,null,null,null,null,null,{"$f":"IF(DATOS!A9993<>\"\",DATOS!A9993&configuracion!$C$10,\"\")","v":""},""]
[null,null,null,null,null,null,null,{"$f":"IF(DATOS!A9996<>\"\",DATOS!A9996&configuracion!$C$10,\"\")","v":""},""]
[null,null,null,null,null,null,null,{"$f":"IF(DATOS!A10008<>\"\",DATOS!A10008&configuracion!$C$10,\"\")","v":""},""]
[null,null,null,null,null,null,null,{"$f":"IF(DATOS!A10013<>\"\",DATOS!A10013&configuracion!$C$10,\"\")","v":""},""]
[null,null,null,null,null,null,null,{"$f":"IF(DATOS!A10016<>\"\",DATOS!A10016&configuracion!$C$10,\"\")","v":""},""]
[null,null,null,null,null,null,null,{"$f":"IF(DATOS!A10023<>\"\",DATOS!A10023&configuracion!$C$10,\"\")","v":""},""]
[null,null,null,null,null,null,null,{"$f":"IF(DATOS!A10031<>\"\",DATOS!A10031&configuracion!$C$10,\"\")","v":""},""]
[null,null,null,null,null,null,null,{"$f":"IF(DATOS!A10036<>\"\",DATOS!A10036&configuracion!$C$10,\"\")","v":""},""]
[null,null,null,null,null,null,null,{"$f":"IF(DATOS!A10043<>\"\",DATOS!A10043&configuracion!$C$10,\"\")","v":""},""]
[null,null,null,null,null,null,null,{"$f":"IF(DATOS!A10046<>\"\",DATOS!A10046&configuracion!$C$10,\"\")","v":""},""]
[null,null,null,null,null,null,null,{"$f":"IF(DATOS!A10057<>\"\",DATOS!A10057&configuracion!$C$10,\"\")","v":""},""]
[null,null,null,null,null,null,null,{"$f":"IF(DATOS!A10063<>\"\",DATOS!A10063&configuracion!$C$10,\"\")","v":""},""]
[null,null,null,null,null,null,null,{"$f":"IF(DATOS!A10066<>\"\",DATOS!A10066&configuracion!$C$10,\"\")","v":""},""]
[null,null,null,null,null,null,null,{"$f":"IF(DATOS!A10073<>\"\",DATOS!A10073&configuracion!$C$10,\"\")","v":""},""]
[null,null,null,null,null,null,null,{"$f":"IF(DATOS!A10080<>\"\",DATOS!A10080&configuracion!$C$10,\"\")","v":""},""]
[null,null,null,null,null,null,null,{"$f":"IF(DATOS!A10086<>\"\",DATOS!A10086&configuracion!$C$10,\"\")","v":""},""]
[null,null,null,null,null,null,null,{"$f":"IF(DATOS!A10093<>\"\",DATOS!A10093&configuracion!$C$10,\"\")","v":""},""]
[null,null,null,null,null,null,null,{"$f":"IF(DATOS!A10096<>\"\",DATOS!A10096&configuracion!$C$10,\"\")","v":""},""]
[null,null,null,null,null,null,null,{"$f":"IF(DATOS!A10103<>\"\",DATOS!A10103&configuracion!$C$10,\"\")","v":""},""]
[null,null,null,null,null,null,null,{"$f":"IF(DATOS!A10113<>\"\",DATOS!A10113&configuracion!$C$10,\"\")","v":""},""]
[null,null,null,null,null,null,null,{"$f":"IF(DATOS!A10116<>\"\",DATOS!A10116&configuracion!$C$10,\"\")","v":""},{"$f":"IF(B10116=\"\",\"\",TEXT(B10116, \"DD/MM/YYYY HH:MM:SS\"))","v":""}]
[null,null,null,null,null,null,null,{"$f":"IF(DATOS!A10123<>\"\",DATOS!A10123&configuracion!$C$10,\"\")","v":""},""]
[null,null,null,null,null,null,null,{"$f":"IF(DATOS!A10129<>\"\",DATOS!A10129&configuracion!$C$10,\"\")","v":""},""]
[null,null,null,null,null,null,null,{"$f":"IF(DATOS!A10136<>\"\",DATOS!A10136&configuracion!$C$10,\"\")","v":""},""]
[null,null,null,null,null,null,null,{"$f":"IF(DATOS!A10143<>\"\",DATOS!A10143&configuracion!$C$10,\"\")","v":""},""]
[null,null,null,null,null,null,null,{"$f":"IF(DATOS!A10146<>\"\",DATOS!A10146&configuracion!$C$10,\"\")","v":""},""]
[null,null,null,null,null,null,null,{"$f":"IF(DATOS!A10152<>\"\",DATOS!A10152&configuracion!$C$10,\"\")","v":""},""]
[null,null,null,null,null,null,null,{"$f":"IF(DATOS!A10163<>\"\",DATOS!A10163&configuracion!$C$10,\"\")","v":""},""]
[null,null,null,null,null,null,null,{"$f":"IF(DATOS!A10166<>\"\",DATOS!A10166&configuracion!$C$10,\"\")","v":""},""]
[null,null,null,null,null,null,null,{"$f":"IF(DATOS!A10173<>\"\",DATOS!A10173&configuracion!$C$10,\"\")","v":""},""]
[null,null,null,null,null,null,null,{"$f":"IF(DATOS!A10178<>\"\",DATOS!A10178&configuracion!$C$10,\"\")","v":""},""]
[null,null,null,null,null,null,null,{"$f":"IF(DATOS!A10186<>\"\",DATOS!A10186&configuracion!$C$10,\"\")","v":""},""]
[null,null,null,null,null,null,null,{"$f":"IF(DATOS!A10193<>\"\",DATOS!A10193&configuracion!$C$10,\"\")","v":""},""]
[null,null,null,null,null,null,null,{"$f":"IF(DATOS!A10196<>\"\",DATOS!A10196&configuracion!$C$10,\"\")","v":""},""]
[null,null,null,null,null,null,null,{"$f":"IF(DATOS!A10208<>\"\",DATOS!A10208&configuracion!$C$10,\"\")","v":""},""]
[null,null,null,null,null,null,null,{"$f":"IF(DATOS!A10213<>\"\",DATOS!A10213&configuracion!$C$10,\"\")","v":""},""]
[null,null,null,null,null,null,null,{"$f":"IF(DATOS!A10216<>\"\",DATOS!A10216&configuracion!$C$10,\"\")","v":""},""]
[null,null,null,null,null,null,null,{"$f":"IF(DATOS!A10223<>\"\",DATOS!A10223&configuracion!$C$10,\"\")","v":""},""]
[null,null,null,null,null,null,null,{"$f":"IF(DATOS!A10227<>\"\",DATOS!A10227&configuracion!$C$10,\"\")","v":""},""]
[null,null,null,null,null,null,null,{"$f":"IF(DATOS!A10234<>\"\",DATOS!A10234&configuracion!$C$10,\"\")","v":""},""]
[null,null,null,null,null,null,null,{"$f":"IF(DATOS!A10243<>\"\",DATOS!A10243&configuracion!$C$10,\"\")","v":""},""]
[null,null,null,null,null,null,null,{"$f":"IF(DATOS!A10246<>\"\",DATOS!A10246&configuracion!$C$10,\"\")","v":""},""]
[null,null,null,null,null,null,null,{"$f":"IF(DATOS!A10257<>\"\",DATOS!A10257&configuracion!$C$10,\"\")","v":""},""]
[null,null,null,null,null,null,null,{"$f":"IF(DATOS!A10263<>\"\",DATOS!A10263&configuracion!$C$10,\"\")","v":""},""]
[null,null,null,null,null,null,null,{"$f":"IF(DATOS!A10266<>\"\",DATOS!A10266&configuracion!$C$10,\"\")","v":""},""]
[null,null,null,null,null,null,null,{"$f":"IF(DATOS!A10273<>\"\",DATOS!A10273&configuracion!$C$10,\"\")","v":""},""]
[null,null,null,null,null,null,null,{"$f":"IF(DATOS!A10283<>\"\",DATOS!A10283&configuracion!$C$10,\"\")","v":""},""]
[null,null,null,null,null,null,null,{"$f":"IF(DATOS!A10284<>\"\",DATOS!A10284&configuracion!$C$10,\"\")","v":""},""]
[null,null,null,null,null,null,null,{"$f":"IF(DATOS!A10293<>\"\",DATOS!A10293&configuracion!$C$10,\"\")","v":""},""]
[null,null,null,null,null,null,null,{"$f":"IF(DATOS!A10296<>\"\",DATOS!A10296&configuracion!$C$10,\"\")","v":""},""]
[null,null,null,null,null,null,null,{"$f":"IF(DATOS!A10306<>\"\",DATOS!A10306&configuracion!$C$10,\"\")","v":""},""]
[null,null,null,null,null,null,null,{"$f":"IF(DATOS!A10313<>\"\",DATOS!A10313&configuracion!$C$10,\"\")","v":""},""]
[null,null,null,null,null,null,null,{"$f":"IF(DATOS!A10320<>\"\",DATOS!A10320&configuracion!$C$10,\"\")","v":""},""]
[null,null,null,null,null,null,null,{"$f":"IF(DATOS!A10323<>\"\",DATOS!A10323&configuracion!$C$10,\"\")","v":""},""]
[null,null,null,null,null,null,null,{"$f":"IF(DATOS!A10332<>\"\",DATOS!A10332&configuracion!$C$10,\"\")","v":""},""]
[null,null,null,null,null,null,null,{"$f":"IF(DATOS!A10334<>\"\",DATOS!A10334&configuracion!$C$10,\"\")","v":""},""]
[null,null,null,null,null,null,null,{"$f":"IF(DATOS!A10343<>\"\",DATOS!A10343&configuracion!$C$10,\"\")","v":""},""]
[null,null,null,null,null,null,null,{"$f":"IF(DATOS!A10351<>\"\",DATOS!A10351&configuracion!$C$10,\"\")","v":""},""]
[null,null,null,null,null,null,null,{"$f":"IF(DATOS!A10354<>\"\",DATOS!A10354&configuracion!$C$10,\"\")","v":""},""]
[null,null,null,null,null,null,null,{"$f":"IF(DATOS!A10363<>\"\",DATOS!A10363&configuracion!$C$10,\"\")","v":""},""]
[null,null,null,null,null,null,null,{"$f":"IF(DATOS!A10370<>\"\",DATOS!A10370&configuracion!$C$10,\"\")","v":""},""]
[null,null,null,null,null,null,null,{"$f":"IF(DATOS!A10374<>\"\",DATOS!A10374&configuracion!$C$10,\"\")","v":""},""]
[null,null,null,null,null,null,null,{"$f":"IF(DATOS!A10383<>\"\",DATOS!A10383&configuracion!$C$10,\"\")","v":""},""]
[null,null,null,null,null,null,null,{"$f":"IF(DATOS!A10384<>\"\",DATOS!A10384&configuracion!$C$10,\"\")","v":""},""]
[null,null,null,null,null,null,null,{"$f":"IF(DATOS!A10393<>\"\",DATOS!A10393&configuracion!$C$10,\"\")","v":""},""]
[null,null,null,null,null,null,null,{"$f":"IF(DATOS!A10400<>\"\",DATOS!A10400&configuracion!$C$10,\"\")","v":""},""]
[null,null,null,null,null,null,null,{"$f":"IF(DATOS!A10404<>\"\",DATOS!A10404&configuracion!$C$10,\"\")","v":""},""]
[null,null,null,null,null,null,null,{"$f":"IF(DATOS!A10413<>\"\",DATOS!A10413&configuracion!$C$10,\"\")","v":""},""]
[null,null,null,null,null,null,null,{"$f":"IF(DATOS!A10420<>\"\",DATOS!A10420&configuracion!$C$10,\"\")","v":""},""]
[null,null,null,null,null,null,null,{"$f":"IF(DATOS!A10423<>\"\",DATOS!A10423&configuracion!$C$10,\"\")","v":""},""]
[null,null,null,null,null,null,null,{"$f":"IF(DATOS!A10433<>\"\",DATOS!A10433&configuracion!$C$10,\"\")","v":""},""]
[null,null,null,null,null,null,null,{"$f":"IF(DATOS!A10434<>\"\",DATOS!A10434&configuracion!$C$10,\"\")","v":""},""]
[null,null,null,null,null,null,null,{"$f":"IF(DATOS!A10443<>\"\",DATOS!A10443&configuracion!$C$10,\"\")","v":""},""]
[null,null,null,null,null,null,null,{"$f":"IF(DATOS!A10446<>\"\",DATOS!A10446&configuracion!$C$10,\"\")","v":""},""]
[null,null,null,null,null,null,null,{"$f":"IF(DATOS!A10454<>\"\",DATOS!A10454&configuracion!$C$10,\"\")","v":""},""]
[null,null,null,null,null,null,null,{"$f":"IF(DATOS!A10463<>\"\",DATOS!A10463&configuracion!$C$10,\"\")","v":""},""]
[null,null,null,null,null,null,null,{"$f":"IF(DATOS!A10470<>\"\",DATOS!A10470&configuracion!$C$10,\"\")","v":""},""]
[null,null,null,null,null,null,null,{"$f":"IF(DATOS!A10472<>\"\",DATOS!A10472&configuracion!$C$10,\"\")","v":""},""]
[null,null,null,null,null,null,null,{"$f":"IF(DATOS!A10483<>\"\",DATOS!A10483&configuracion!$C$10,\"\")","v":""},""]
[null,null,null,null,null,null,null,{"$f":"IF(DATOS!A10484<>\"\",DATOS!A10484&configuracion!$C$10,\"\")","v":""},""]
[null,null,null,null,null,null,null,{"$f":"IF(DATOS!A10493<>\"\",DATOS!A10493&configuracion!$C$10,\"\")","v":""},""]
[null,null,null,null,null,null,null,{"$f":"IF(DATOS!A10502<>\"\",DATOS!A10502&configuracion!$C$10,\"\")","v":""},""]
[null,null,null,null,null,null,null,{"$f":"IF(DATOS!A10504<>\"\",DATOS!A10504&configuracion!$C$10,\"\")","v":""},""]
[null,null,null,null,null,null,null,{"$f":"IF(DATOS!A10513<>\"\",DATOS!A10513&configuracion!$C$10,\"\")","v":""},""]
[null,null,null,null,null,null,null,{"$f":"IF(DATOS!A10520<>\"\",DATOS!A10520&configuracion!$C$10,\"\")","v":""},""]
[null,null,null,null,null,null,null,{"$f":"IF(DATOS!A10521<>\"\",DATOS!A10521&configuracion!$C$10,\"\")","v":""},""]
[null,null,null,null,null,null,null,{"$f":"IF(DATOS!A10531<>\"\",DATOS!A10531&configuracion!$C$10,\"\")","v":""},""]
[null,null,null,null,null,null,null,{"$f":"IF(DATOS!A10534<>\"\",DATOS!A10534&configuracion!$C$10,\"\")","v":""},""]
[null,null,null,null,null,null,null,{"$f":"IF(DATOS!A10543<>\"\",DATOS!A10543&configuracion!$C$10,\"\")","v":""},""]
[null,null,null,null,null,null,null,{"$f":"IF(DATOS!A10551<>\"\",DATOS!A10551&configuracion!$C$10,\"\")","v":""},""]
[null,null,null,null,null,null,null,{"$f":"IF(DATOS!A10554<>\"\",DATOS!A10554&configuracion!$C$10,\"\")","v":""},""]
[null,null,null,null,null,null,null,{"$f":"IF(DATOS!A10563<>\"\",DATOS!A10563&configuracion!$C$10,\"\")","v":""},""]
[null,null,null,null,null,null,null,{"$f":"IF(DATOS!A10570<>\"\",DATOS!A10570&configuracion!$C$10,\"\")","v":""},""]
[null,null,null,null,null,null,null,{"$f":"IF(DATOS!A10577<>\"\",DATOS!A10577&configuracion!$C$10,\"\")","v":""},""]
[null,null,null,null,null,null,null,{"$f":"IF(DATOS!A10581<>\"\",DATOS!A10581&configuracion!$C$10,\"\")","v":""},""]
[null,null,null,null,null,null,null,{"$f":"IF(DATOS!A10584<>\"\",DATOS!A10584&configuracion!$C$10,\"\")","v":""},""]
[null,null,null,null,null,null,null,{"$f":"IF(DATOS!A10593<>\"\",DATOS!A10593&configuracion!$C$10,\"\")","v":""},""]
[null,null,null,null,null,null,null,{"$f":"IF(DATOS!A10600<>\"\",DATOS!A10600&configuracion!$C$10,\"\")","v":""},""]
[null,null,null,null,null,null,null,{"$f":"IF(DATOS!A10604<>\"\",DATOS!A10604&configuracion!$C$10,\"\")","v":""},""]
[null,null,null,null,null,null,null,{"$f":"IF(DATOS!A10613<>\"\",DATOS!A10613&configuracion!$C$10,\"\")","v":""},""]
[null,null,null,null,null,null,null,{"$f":"IF(DATOS!A10620<>\"\",DATOS!A10620&configuracion!$C$10,\"\")","v":""},""]
[null,null,null,null,null,null,null,{"$f":"IF(DATOS!A10626<>\"\",DATOS!A10626&configuracion!$C$10,\"\")","v":""},""]
[null,null,null,null,null,null,null,{"$f":"IF(DATOS!A10631<>\"\",DATOS!A10631&configuracion!$C$10,\"\")","v":""},""]
[null,null,null,null,null,null,null,{"$f":"IF(DATOS!A10634<>\"\",DATOS!A10634&configuracion!$C$10,\"\")","v":""},""]
[null,null,null,null,null,null,null,{"$f":"IF(DATOS!A10643<>\"\",DATOS!A10643&configuracion!$C$10,\"\")","v":""},""]
[null,null,null,null,null,null,null,{"$f":"IF(DATOS!A10649<>\"\",DATOS!A10649&configuracion!$C$10,\"\")","v":""},""]
[null,null,null,null,null,null,null,{"$f":"IF(DATOS!A10654<>\"\",DATOS!A10654&configuracion!$C$10,\"\")","v":""},""]
[null,null,null,null,null,null,null,{"$f":"IF(DATOS!A10661<>\"\",DATOS!A10661&configuracion!$C$10,\"\")","v":""},""]
[null,null,null,null,null,null,null,{"$f":"IF(DATOS!A10670<>\"\",DATOS!A10670&configuracion!$C$10,\"\")","v":""},""]
[null,null,null,null,null,null,null,{"$f":"IF(DATOS!A10675<>\"\",DATOS!A10675&configuracion!$C$10,\"\")","v":""},""]
[null,null,null,null,null,null,null,{"$f":"IF(DATOS!A10681<>\"\",DATOS!A10681&configuracion!$C$10,\"\")","v":""},""]
[null,null,null,null,null,null,null,{"$f":"IF(DATOS!A10684<>\"\",DATOS!A10684&configuracion!$C$10,\"\")","v":""},""]
[null,null,null,null,null,null,null,{"$f":"IF(DATOS!A10693<>\"\",DATOS!A10693&configuracion!$C$10,\"\")","v":""},""]
[null,null,null,null,null,null,null,{"$f":"IF(DATOS!A10698<>\"\",DATOS!A10698&configuracion!$C$10,\"\")","v":""},""]
[null,null,null,null,null,null,null,{"$f":"IF(DATOS!A10704<>\"\",DATOS!A10704&configuracion!$C$10,\"\")","v":""},""]
[null,null,null,null,null,null,null,{"$f":"IF(DATOS!A10711<>\"\",DATOS!A10711&configuracion!$C$10,\"\")","v":""},""]
[null,null,null,null,null,null,null,{"$f":"IF(DATOS!A10720<>\"\",DATOS!A10720&configuracion!$C$10,\"\")","v":""},""]
[null,null,null,null,null,null,null,{"$f":"IF(DATOS!A10724<>\"\",DATOS!A10724&configuracion!$C$10,\"\")","v":""},""]
[null,null,null,null,null,null,null,{"$f":"IF(DATOS!A10731<>\"\",DATOS!A10731&configuracion!$C$10,\"\")","v":""},""]
[null,null,null,null,null,null,null,{"$f":"IF(DATOS!A10734<>\"\",DATOS!A10734&configuracion!$C$10,\"\")","v":""},""]
[null,null,null,null,null,null,null,{"$f":"IF(DATOS!A10743<>\"\",DATOS!A10743&configuracion!$C$10,\"\")","v":""},""]
[null,null,null,null,null,null,null,{"$f":"IF(DATOS!A10747<>\"\",DATOS!A10747&configuracion!$C$10,\"\")","v":""},""]
[null,null,null,null,null,null,null,{"$f":"IF(DATOS!A10754<>\"\",DATOS!A10754&configuracion!$C$10,\"\")","v":""},""]
[null,null,null,null,null,null,null,{"$f":"IF(DATOS!A10761<>\"\",DATOS!A10761&configuracion!$C$10,\"\")","v":""},""]
[null,null,null,null,null,null,null,{"$f":"IF(DATOS!A10770<>\"\",DATOS!A10770&configuracion!$C$10,\"\")","v":""},""]
[null,null,null,null,null,null,null,{"$f":"IF(DATOS!A10773<>\"\",DATOS!A10773&configuracion!$C$10,\"\")","v":""},""]
[null,null,null,null,null,null,null,{"$f":"IF(DATOS!A10781<>\"\",DATOS!A10781&configuracion!$C$10,\"\")","v":""},""]
[null,null,null,null,null,null,null,{"$f":"IF(DATOS!A10784<>\"\",DATOS!A10784&configuracion!$C$10,\"\")","v":""},""]
[null,null,null,null,null,null,null,{"$f":"IF(DATOS!A10791<>\"\",DATOS!A10791&configuracion!$C$10,\"\")","v":""},""]
[null,null,null,null,null,null,null,{"$f":"IF(DATOS!A10796<>\"\",DATOS!A10796&configuracion!$C$10,\"\")","v":""},""]
[null,null,null,null,null,null,null,{"$f":"IF(DATOS!A10804<>\"\",DATOS!A10804&configuracion!$C$10,\"\")","v":""},""]
[null,null,null,null,null,null,null,{"$f":"IF(DATOS!A10811<>\"\",DATOS!A10811&configuracion!$C$10,\"\")","v":""},""]
[null,null,null,null,null,null,null,{"$f":"IF(DATOS!A10820<>\"\",DATOS!A10820&configuracion!$C$10,\"\")","v":""},{"$f":"IF(B10820=\"\",\"\",TEXT(B10820, \"DD/MM/YYYY HH:MM:SS\"))","v":""}]
[null,null,null,null,null,null,null,{"$f":"IF(DATOS!A10822<>\"\",DATOS!A10822&configuracion!$C$10,\"\")","v":""},""]
[null,null,null,null,null,null,null,{"$f":"IF(DATOS!A10831<>\"\",DATOS!A10831&configuracion!$C$10,\"\")","v":""},""]
[null,null,null,null,null,null,null,{"$f":"IF(DATOS!A10834<>\"\",DATOS!A10834&configuracion!$C$10,\"\")","v":""},""]
[null,null,null,null,null,null,null,{"$f":"IF(DATOS!A10841<>\"\",DATOS!A10841&configuracion!$C$10,\"\")","v":""},""]
[null,null,null,null,null,null,null,{"$f":"IF(DATOS!A10852<>\"\",DATOS!A10852&configuracion!$C$10,\"\")","v":""},""]
[null,null,null,null,null,null,null,{"$f":"IF(DATOS!A10854<>\"\",DATOS!A10854&configuracion!$C$10,\"\")","v":""},""]
[null,null,null,null,null,null,null,{"$f":"IF(DATOS!A10861<>\"\",DATOS!A10861&configuracion!$C$10,\"\")","v":""},""]
[null,null,null,null,null,null,null,{"$f":"IF(DATOS!A10870<>\"\",DATOS!A10870&configuracion!$C$10,\"\")","v":""},""]
[null,null,null,null,null,null,null,{"$f":"IF(DATOS!A10875<>\"\",DATOS!A10875&configuracion!$C$10,\"\")","v":""},""]
[null,null,null,null,null,null,null,{"$f":"IF(DATOS!A10881<>\"\",DATOS!A10881&configuracion!$C$10,\"\")","v":""},""]
[null,null,null,null,null,null,null,{"$f":"IF(DATOS!A10884<>\"\",DATOS!A10884&configuracion!$C$10,\"\")","v":""},{"$f":"IF(B10884=\"\",\"\",TEXT(B10884, \"DD/MM/YYYY HH:MM:SS\"))","v":""}]
[null,null,null,null,null,null,null,{"$f":"IF(DATOS!A10891<>\"\",DATOS!A10891&configuracion!$C$10,\"\")","v":""},""]
[null,null,null,null,null,null,null,{"$f":"IF(DATOS!A10901<>\"\",DATOS!A10901&configuracion!$C$10,\"\")","v":""},""]
[null,null,null,null,null,null,null,{"$f":"IF(DATOS!A10904<>\"\",DATOS!A10904&configuracion!$C$10,\"\")","v":""},""]
[null,null,null,null,null,null,null,{"$f":"IF(DATOS!A10911<>\"\",DATOS!A10911&configuracion!$C$10,\"\")","v":""},""]
[null,null,null,null,null,null,null,{"$f":"IF(DATOS!A10920<>\"\",DATOS!A10920&configuracion!$C$10,\"\")","v":""},""]
[null,null,null,null,null,null,null,{"$f":"IF(DATOS!A10924<>\"\",DATOS!A10924&configuracion!$C$10,\"\")","v":""},""]
[null,null,null,null,null,null,null,{"$f":"IF(DATOS!A10931<>\"\",DATOS!A10931&configuracion!$C$10,\"\")","v":""},""]
[null,null,null,null,null,null,null,{"$f":"IF(DATOS!A10934<>\"\",DATOS!A10934&configuracion!$C$10,\"\")","v":""},""]
[null,null,null,null,null,null,null,{"$f":"IF(DATOS!A10941<>\"\",DATOS!A10941&configuracion!$C$10,\"\")","v":""},""]
[null,null,null,null,null,null,null,{"$f":"IF(DATOS!A10950<>\"\",DATOS!A10950&configuracion!$C$10,\"\")","v":""},""]
[null,null,null,null,null,null,null,{"$f":"IF(DATOS!A10954<>\"\",DATOS!A10954&configuracion!$C$10,\"\")","v":""},""]
[null,null,null,null,null,null,null,{"$f":"IF(DATOS!A10961<>\"\",DATOS!A10961&configuracion!$C$10,\"\")","v":""},""]
[null,null,null,null,null,null,null,{"$f":"IF(DATOS!A10970<>\"\",DATOS!A10970&configuracion!$C$10,\"\")","v":""},""]
[null,null,null,null,null,null,null,{"$f":"IF(DATOS!A10973<>\"\",DATOS!A10973&configuracion!$C$10,\"\")","v":""},""]
[null,null,null,null,null,null,null,{"$f":"IF(DATOS!A10981<>\"\",DATOS!A10981&configuracion!$C$10,\"\")","v":""},""]
[null,null,null,null,null,null,null,{"$f":"IF(DATOS!A10984<>\"\",DATOS!A10984&configuracion!$C$10,\"\")","v":""},""]
[null,null,null,null,null,null,null,{"$f":"IF(DATOS!A10991<>\"\",DATOS!A10991&configuracion!$C$10,\"\")","v":""},""]
[null,null,null,null,null,null,null,{"$f":"IF(DATOS!A10999<>\"\",DATOS!A10999&configuracion!$C$10,\"\")","v":""},""]
[null,null,null,null,null,null,null,{"$f":"IF(DATOS!A11008<>\"\",DATOS!A11008&configuracion!$C$10,\"\")","v":""},""]
[null,null,null,null,null,null,null,{"$f":"IF(DATOS!A11011<>\"\",DATOS!A11011&configuracion!$C$10,\"\")","v":""},""]
[null,null,null,null,null,null,null,{"$f":"IF(DATOS!A11020<>\"\",DATOS!A11020&configuracion!$C$10,\"\")","v":""},""]
[null,null,null,null,null,null,null,{"$f":"IF(DATOS!A11022<>\"\",DATOS!A11022&configuracion!$C$10,\"\")","v":""},""]
[null,null,null,null,null,null,null,{"$f":"IF(DATOS!A11031<>\"\",DATOS!A11031&configuracion!$C$10,\"\")","v":""},""]
[null,null,null,null,null,null,null,{"$f":"IF(DATOS!A11034<>\"\",DATOS!A11034&configuracion!$C$10,\"\")","v":""},""]
[null,null,null,null,null,null,null,{"$f":"IF(DATOS!A11041<>\"\",DATOS!A11041&configuracion!$C$10,\"\")","v":""},""]
[null,null,null,null,null,null,null,{"$f":"IF(DATOS!A11048<>\"\",DATOS!A11048&configuracion!$C$10,\"\")","v":""},""]
[null,null,null,null,null,null,null,{"$f":"IF(DATOS!A11058<>\"\",DATOS!A11058&configuracion!$C$10,\"\")","v":""},""]
[null,null,null,null,null,null,null,{"$f":"IF(DATOS!A11061<>\"\",DATOS!A11061&configuracion!$C$10,\"\")","v":""},""]
[null,null,null,null,null,null,null,{"$f":"IF(DATOS!A11070<>\"\",DATOS!A11070&configuracion!$C$10,\"\")","v":""},""]
[null,null,null,null,null,null,null,{"$f":"IF(DATOS!A11071<>\"\",DATOS!A11071&configuracion!$C$10,\"\")","v":""},""]
[null,null,null,null,null,null,null,{"$f":"IF(DATOS!A11081<>\"\",DATOS!A11081&configuracion!$C$10,\"\")","v":""},""]
[null,null,null,null,null,null,null,{"$f":"IF(DATOS!A11084<>\"\",DATOS!A11084&configuracion!$C$10,\"\")","v":""},""]
[null,null,null,null,null,null,null,{"$f":"IF(DATOS!A11091<>\"\",DATOS!A11091&configuracion!$C$10,\"\")","v":""},""]
[null,null,null,null,null,null,null,{"$f":"IF(DATOS!A11097<>\"\",DATOS!A11097&configuracion!$C$10,\"\")","v":""},""]
[null,null,null,null,null,null,null,{"$f":"IF(DATOS!A11108<>\"\",DATOS!A11108&configuracion!$C$10,\"\")","v":""},""]
[null,null,null,null,null,null,null,{"$f":"IF(DATOS!A11111<>\"\",DATOS!A11111&configuracion!$C$10,\"\")","v":""},""]
[null,null,null,null,null,null,null,{"$f":"IF(DATOS!A11120<>\"\",DATOS!A11120&configuracion!$C$10,\"\")","v":""},""]
[null,null,null,null,null,null,null,{"$f":"IF(DATOS!A11127<>\"\",DATOS!A11127&configuracion!$C$10,\"\")","v":""},""]
[null,null,null,null,null,null,null,{"$f":"IF(DATOS!A11131<>\"\",DATOS!A11131&configuracion!$C$10,\"\")","v":""},""]
[null,null,null,null,null,null,null,{"$f":"IF(DATOS!A11138<>\"\",DATOS!A11138&configuracion!$C$10,\"\")","v":""},""]
[null,null,null,null,null,null,null,{"$f":"IF(DATOS!A11141<>\"\",DATOS!A11141&configuracion!$C$10,\"\")","v":""},""]
[null,null,null,null,null,null,null,{"$f":"IF(DATOS!A11146<>\"\",DATOS!A11146&configuracion!$C$10,\"\")","v":""},""]
[null,null,null,null,null,null,null,{"$f":"IF(DATOS!A11158<>\"\",DATOS!A11158&configuracion!$C$10,\"\")","v":""},""]
[null,null,null,null,null,null,null,{"$f":"IF(DATOS!A11161<>\"\",DATOS!A11161&configuracion!$C$10,\"\")","v":""},""]
[null,null,null,null,null,null,null,{"$f":"IF(DATOS!A11170<>\"\",DATOS!A11170&configuracion!$C$10,\"\")","v":""},""]
[null,null,null,null,null,null,null,{"$f":"IF(DATOS!A11176<>\"\",DATOS!A11176&configuracion!$C$10,\"\")","v":""},""]
[null,null,null,null,null,null,null,{"$f":"IF(DATOS!A11181<>\"\",DATOS!A11181&configuracion!$C$10,\"\")","v":""},""]
[null,null,null,null,null,null,null,{"$f":"IF(DATOS!A11188<>\"\",DATOS!A11188&configuracion!$C$10,\"\")","v":""},""]
[null,null,null,null,null,null,null,{"$f":"IF(DATOS!A11191<>\"\",DATOS!A11191&configuracion!$C$10,\"\")","v":""},""]
[null,null,null,null,null,null,null,{"$f":"IF(DATOS!A11202<>\"\",DATOS!A11202&configuracion!$C$10,\"\")","v":""},""]
[null,null,null,null,null,null,null,{"$f":"IF(DATOS!A11208<>\"\",DATOS!A11208&configuracion!$C$10,\"\")","v":""},""]
[null,null,null,null,null,null,null,{"$f":"IF(DATOS!A11211<>\"\",DATOS!A11211&configuracion!$C$10,\"\")","v":""},""]
[null,null,null,null,null,null,null,{"$f":"IF(DATOS!A11218<>\"\",DATOS!A11218&configuracion!$C$10,\"\")","v":""},""]
[null,null,null,null,null,null,null,{"$f":"IF(DATOS!A11225<>\"\",DATOS!A11225&configuracion!$C$10,\"\")","v":""},""]
[null,null,null,null,null,null,null,{"$f":"IF(DATOS!A11231<>\"\",DATOS!A11231&configuracion!$C$10,\"\")","v":""},""]
[null,null,null,null,null,null,null,{"$f":"IF(DATOS!A11238<>\"\",DATOS!A11238&configuracion!$C$10,\"\")","v":""},""]
[null,null,null,null,null,null,null,{"$f":"IF(DATOS!A11241<>\"\",DATOS!A11241&configuracion!$C$10,\"\")","v":""},""]
[null,null,null,null,null,null,null,{"$f":"IF(DATOS!A11251<>\"\",DATOS!A11251&configuracion!$C$10,\"\")","v":""},""]
[null,null,null,null,null,null,null,{"$f":"IF(DATOS!A11258<>\"\",DATOS!A11258&configuracion!$C$10,\"\")","v":""},""]
[null,null,null,null,null,null,null,{"$f":"IF(DATOS!A11261<>\"\",DATOS!A11261&configuracion!$C$10,\"\")","v":""},""]
[null,null,null,null,null,null,null,{"$f":"IF(DATOS!A11268<>\"\",DATOS!A11268&configuracion!$C$10,\"\")","v":""},{"$f":"IF(B11268=\"\",\"\",TEXT(B11268, \"DD/MM/YYYY HH:MM:SS\"))","v":""}]
[null,null,null,null,null,null,null,{"$f":"IF(DATOS!A11274<>\"\",DATOS!A11274&configuracion!$C$10,\"\")","v":""},""]
[null,null,null,null,null,null,null,{"$f":"IF(DATOS!A11281<>\"\",DATOS!A11281&configuracion!$C$10,\"\")","v":""},""]
[null,null,null,null,null,null,null,{"$f":"IF(DATOS!A11288<>\"\",DATOS!A11288&configuracion!$C$10,\"\")","v":""},""]
[null,null,null,null,null,null,null,{"$f":"IF(DATOS!A11291<>\"\",DATOS!A11291&configuracion!$C$10,\"\")","v":""},""]
[null,null,null,null,null,null,null,{"$f":"IF(DATOS!A11300<>\"\",DATOS!A11300&configuracion!$C$10,\"\")","v":""},""]
[null,null,null,null,null,null,null,{"$f":"IF(DATOS!A11308<>\"\",DATOS!A11308&configuracion!$C$10,\"\")","v":""},""]
[null,null,null,null,null,null,null,{"$f":"IF(DATOS!A11311<>\"\",DATOS!A11311&configuracion!$C$10,\"\")","v":""},""]
[null,null,null,null,null,null,null,{"$f":"IF(DATOS!A11318<>\"\",DATOS!A11318&configuracion!$C$10,\"\")","v":""},""]
[null,null,null,null,null,null,null,{"$f":"IF(DATOS!A11323<>\"\",DATOS!A11323&configuracion!$C$10,\"\")","v":""},""]
[null,null,null,null,null,null,null,{"$f":"IF(DATOS!A11331<>\"\",DATOS!A11331&configuracion!$C$10,\"\")","v":""},""]
[null,null,null,null,null,null,null,{"$f":"IF(DATOS!A11338<>\"\",DATOS!A11338&configuracion!$C$10,\"\")","v":""},""]
[null,null,null,null,null,null,null,{"$f":"IF(DATOS!A11341<>\"\",DATOS!A11341&configuracion!$C$10,\"\")","v":""},""]
[null,null,null,null,null,null,null,{"$f":"IF(DATOS!A11346<>\"\",DATOS!A11346&configuracion!$C$10,\"\")","v":""},""]
[null,null,null,null,null,null,null,{"$f":"IF(DATOS!A11358<>\"\",DATOS!A11358&configuracion!$C$10,\"\")","v":""},""]
[null,null,null,null,null,null,null,{"$f":"IF(DATOS!A11361<>\"\",DATOS!A11361&configuracion!$C$10,\"\")","v":""},""]
[null,null,null,null,null,null,null,{"$f":"IF(DATOS!A11368<>\"\",DATOS!A11368&configuracion!$C$10,\"\")","v":""},""]
[null,null,null,null,null,null,null,{"$f":"IF(DATOS!A11372<>\"\",DATOS!A11372&configuracion!$C$10,\"\")","v":""},""]
[null,null,null,null,null,null,null,{"$f":"IF(DATOS!A11381<>\"\",DATOS!A11381&configuracion!$C$10,\"\")","v":""},""]
[null,null,null,null,null,null,null,{"$f":"IF(DATOS!A11388<>\"\",DATOS!A11388&configuracion!$C$10,\"\")","v":""},""]
[null,null,null,null,null,null,null,{"$f":"IF(DATOS!A11391<>\"\",DATOS!A11391&configuracion!$C$10,\"\")","v":""},""]
[null,null,null,null,null,null,null,{"$f":"IF(DATOS!A11399<>\"\",DATOS!A11399&configuracion!$C$10,\"\")","v":""},""]
[null,null,null,null,null,null,null,{"$f":"IF(DATOS!A11408<>\"\",DATOS!A11408&configuracion!$C$10,\"\")","v":""},""]
[null,null,null,null,null,null,null,{"$f":"IF(DATOS!A11411<>\"\",DATOS!A11411&configuracion!$C$10,\"\")","v":""},""]
[null,null,null,null,null,null,null,{"$f":"IF(DATOS!A11421<>\"\",DATOS!A11421&configuracion!$C$10,\"\")","v":""},""]
[null,null,null,null,null,null,null,{"$f":"IF(DATOS!A11422<>\"\",DATOS!A11422&configuracion!$C$10,\"\")","v":""},""]
[null,null,null,null,null,null,null,{"$f":"IF(DATOS!A11429<>\"\",DATOS!A11429&configuracion!$C$10,\"\")","v":""},""]
[null,null,null,null,null,null,null,{"$f":"IF(DATOS!A11438<>\"\",DATOS!A11438&configuracion!$C$10,\"\")","v":""},""]
[null,null,null,null,null,null,null,{"$f":"IF(DATOS!A11440<>\"\",DATOS!A11440&configuracion!$C$10,\"\")","v":""},""]
[null,null,null,null,null,null,null,{"$f":"IF(DATOS!A11449<>\"\",DATOS!A11449&configuracion!$C$10,\"\")","v":""},""]
[null,null,null,null,null,null,null,{"$f":"IF(DATOS!A11458<>\"\",DATOS!A11458&configuracion!$C$10,\"\")","v":""},""]
[null,null,null,null,null,null,null,{"$f":"IF(DATOS!A11461<>\"\",DATOS!A11461&configuracion!$C$10,\"\")","v":""},""]
[null,null,null,null,null,null,null,{"$f":"IF(DATOS!A11470<>\"\",DATOS!A11470&configuracion!$C$10,\"\")","v":""},""]
[null,null,null,null,null,null,null,{"$f":"IF(DATOS!A11472<>\"\",DATOS!A11472&configuracion!$C$10,\"\")","v":""},""]
[null,null,null,null,null,null,null,{"$f":"IF(DATOS!A11479<>\"\",DATOS!A11479&configuracion!$C$10,\"\")","v":""},""]
[null,null,null,null,null,null,null,{"$f":"IF(DATOS!A11488<>\"\",DATOS!A11488&configuracion!$C$10,\"\")","v":""},""]
[null,null,null,null,null,null,null,{"$f":"IF(DATOS!A11496<>\"\",DATOS!A11496&configuracion!$C$10,\"\")","v":""},""]
[null,null,null,null,null,null,null,{"$f":"IF(DATOS!A11499<>\"\",DATOS!A11499&configuracion!$C$10,\"\")","v":""},""]
[null,null,null,null,null,null,null,{"$f":"IF(DATOS!A11508<>\"\",DATOS!A11508&configuracion!$C$10,\"\")","v":""},""]
[null,null,null,null,null,null,null,{"$f":"IF(DATOS!A11511<>\"\",DATOS!A11511&configuracion!$C$10,\"\")","v":""},""]
[null,null,null,null,null,null,null,{"$f":"IF(DATOS!A11519<>\"\",DATOS!A11519&configuracion!$C$10,\"\")","v":""},""]
[null,null,null,null,null,null,null,{"$f":"IF(DATOS!A11522<>\"\",DATOS!A11522&configuracion!$C$10,\"\")","v":""},""]
[null,null,null,null,null,null,null,{"$f":"IF(DATOS!A11529<>\"\",DATOS!A11529&configuracion!$C$10,\"\")","v":""},""]
[null,null,null,null,null,null,null,{"$f":"IF(DATOS!A11538<>\"\",DATOS!A11538&configuracion!$C$10,\"\")","v":""},""]
[null,null,null,null,null,null,null,{"$f":"IF(DATOS!A11545<>\"\",DATOS!A11545&configuracion!$C$10,\"\")","v":""},""]
[null,null,null,null,null,null,null,{"$f":"IF(DATOS!A11549<>\"\",DATOS!A11549&configuracion!$C$10,\"\")","v":""},""]
[null,null,null,null,null,null,null,{"$f":"IF(DATOS!A11558<>\"\",DATOS!A11558&configuracion!$C$10,\"\")","v":""},""]
[null,null,null,null,null,null,null,{"$f":"IF(DATOS!A11559<>\"\",DATOS!A11559&configuracion!$C$10,\"\")","v":""},""]
[null,null,null,null,null,null,null,{"$f":"IF(DATOS!A11568<>\"\",DATOS!A11568&configuracion!$C$10,\"\")","v":""},""]
[null,null,null,null,null,null,null,{"$f":"IF(DATOS!A11572<>\"\",DATOS!A11572&configuracion!$C$10,\"\")","v":""},""]
[null,null,null,null,null,null,null,{"$f":"IF(DATOS!A11579<>\"\",DATOS!A11579&configuracion!$C$10,\"\")","v":""},""]
[null,null,null,null,null,null,null,{"$f":"IF(DATOS!A11588<>\"\",DATOS!A11588&configuracion!$C$10,\"\")","v":""},{"$f":"IF(B11588=\"\",\"\",TEXT(B11588, \"DD/MM/YYYY HH:MM:SS\"))","v":""}]
[null,null,null,null,null,null,null,{"$f":"IF(DATOS!A11594<>\"\",DATOS!A11594&configuracion!$C$10,\"\")","v":""},""]
[null,null,null,null,null,null,null,{"$f":"IF(DATOS!A11599<>\"\",DATOS!A11599&configuracion!$C$10,\"\")","v":""},""]
[null,null,null,null,null,null,null,{"$f":"IF(DATOS!A11608<>\"\",DATOS!A11608&configuracion!$C$10,\"\")","v":""},""]
[null,null,null,null,null,null,null,{"$f":"IF(DATOS!A11609<>\"\",DATOS!A11609&configuracion!$C$10,\"\")","v":""},""]
[null,null,null,null,null,null,null,{"$f":"IF(DATOS!A11617<>\"\",DATOS!A11617&configuracion!$C$10,\"\")","v":""},""]
[null,null,null,null,null,null,null,{"$f":"IF(DATOS!A11622<>\"\",DATOS!A11622&configuracion!$C$10,\"\")","v":""},""]
[null,null,null,null,null,null,null,{"$f":"IF(DATOS!A11629<>\"\",DATOS!A11629&configuracion!$C$10,\"\")","v":""},""]
[null,null,null,null,null,null,null,{"$f":"IF(DATOS!A11638<>\"\",DATOS!A11638&configuracion!$C$10,\"\")","v":""},""]
[null,null,null,null,null,null,null,{"$f":"IF(DATOS!A11643<>\"\",DATOS!A11643&configuracion!$C$10,\"\")","v":""},""]
[null,null,null,null,null,null,null,{"$f":"IF(DATOS!A11649<>\"\",DATOS!A11649&configuracion!$C$10,\"\")","v":""},""]
[null,null,null,null,null,null,null,{"$f":"IF(DATOS!A11658<>\"\",DATOS!A11658&configuracion!$C$10,\"\")","v":""},""]
[null,null,null,null,null,null,null,{"$f":"IF(DATOS!A11659<>\"\",DATOS!A11659&configuracion!$C$10,\"\")","v":""},""]
[null,null,null,null,null,null,null,{"$f":"IF(DATOS!A11666<>\"\",DATOS!A11666&configuracion!$C$10,\"\")","v":""},""]
[null,null,null,null,null,null,null,{"$f":"IF(DATOS!A11672<>\"\",DATOS!A11672&configuracion!$C$10,\"\")","v":""},""]
[null,null,null,null,null,null,null,{"$f":"IF(DATOS!A11679<>\"\",DATOS!A11679&configuracion!$C$10,\"\")","v":""},""]
[null,null,null,null,null,null,null,{"$f":"IF(DATOS!A11688<>\"\",DATOS!A11688&configuracion!$C$10,\"\")","v":""},""]
[null,null,null,null,null,null,null,{"$f":"IF(DATOS!A11696<>\"\",DATOS!A11696&configuracion!$C$10,\"\")","v":""},""]
[null,null,null,null,null,null,null,{"$f":"IF(DATOS!A11699<>\"\",DATOS!A11699&configuracion!$C$10,\"\")","v":""},""]
[null,null,null,null,null,null,null,{"$f":"IF(DATOS!A11708<>\"\",DATOS!A11708&configuracion!$C$10,\"\")","v":""},""]
[null,null,null,null,null,null,null,{"$f":"IF(DATOS!A11709<>\"\",DATOS!A11709&configuracion!$C$10,\"\")","v":""},""]
[null,null,null,null,null,null,null,{"$f":"IF(DATOS!A11715<>\"\",DATOS!A11715&configuracion!$C$10,\"\")","v":""},""]
[null,null,null,null,null,null,null,{"$f":"IF(DATOS!A11722<>\"\",DATOS!A11722&configuracion!$C$10,\"\")","v":""},""]
[null,null,null,null,null,null,null,{"$f":"IF(DATOS!A11729<>\"\",DATOS!A11729&configuracion!$C$10,\"\")","v":""},""]
[null,null,null,null,null,null,null,{"$f":"IF(DATOS!A11738<>\"\",DATOS!A11738&configuracion!$C$10,\"\")","v":""},""]
[null,null,null,null,null,null,null,{"$f":"IF(DATOS!A11745<>\"\",DATOS!A11745&configuracion!$C$10,\"\")","v":""},""]
[null,null,null,null,null,null,null,{"$f":"IF(DATOS!A11749<>\"\",DATOS!A11749&configuracion!$C$10,\"\")","v":""},""]
[null,null,null,null,null,null,null,{"$f":"IF(DATOS!A11758<>\"\",DATOS!A11758&configuracion!$C$10,\"\")","v":""},""]
[null,null,null,null,null,null,null,{"$f":"IF(DATOS!A11759<>\"\",DATOS!A11759&configuracion!$C$10,\"\")","v":""},""]
[null,null,null,null,null,null,null,{"$f":"IF(DATOS!A11771<>\"\",DATOS!A11771&configuracion!$C$10,\"\")","v":""},""]
[null,null,null,null,null,null,null,{"$f":"IF(DATOS!A11776<>\"\",DATOS!A11776&configuracion!$C$10,\"\")","v":""},""]
[null,null,null,null,null,null,null,{"$f":"IF(DATOS!A11779<>\"\",DATOS!A11779&configuracion!$C$10,\"\")","v":""},""]
[null,null,null,null,null,null,null,{"$f":"IF(DATOS!A11788<>\"\",DATOS!A11788&configuracion!$C$10,\"\")","v":""},""]
[null,null,null,null,null,null,null,{"$f":"IF(DATOS!A11794<>\"\",DATOS!A11794&configuracion!$C$10,\"\")","v":""},""]
[null,null,null,null,null,null,null,{"$f":"IF(DATOS!A11799<>\"\",DATOS!A11799&configuracion!$C$10,\"\")","v":""},""]
[null,null,null,null,null,null,null,{"$f":"IF(DATOS!A11808<>\"\",DATOS!A11808&configuracion!$C$10,\"\")","v":""},""]
[null,null,null,null,null,null,null,{"$f":"IF(DATOS!A11809<>\"\",DATOS!A11809&configuracion!$C$10,\"\")","v":""},""]
[null,null,null,null,null,null,null,{"$f":"IF(DATOS!A11820<>\"\",DATOS!A11820&configuracion!$C$10,\"\")","v":""},""]
[null,null,null,null,null,null,null,{"$f":"IF(DATOS!A11826<>\"\",DATOS!A11826&configuracion!$C$10,\"\")","v":""},""]
[null,null,null,null,null,null,null,{"$f":"IF(DATOS!A11829<>\"\",DATOS!A11829&configuracion!$C$10,\"\")","v":""},""]
[null,null,null,null,null,null,null,{"$f":"IF(DATOS!A11838<>\"\",DATOS!A11838&configuracion!$C$10,\"\")","v":""},""]
[null,null,null,null,null,null,null,{"$f":"IF(DATOS!A11843<>\"\",DATOS!A11843&configuracion!$C$10,\"\")","v":""},""]
[null,null,null,null,null,null,null,{"$f":"IF(DATOS!A11849<>\"\",DATOS!A11849&configuracion!$C$10,\"\")","v":""},""]
[null,null,null,null,null,null,null,{"$f":"IF(DATOS!A11858<>\"\",DATOS!A11858&configuracion!$C$10,\"\")","v":""},""]
[null,null,null,null,null,null,null,{"$f":"IF(DATOS!A11859<>\"\",DATOS!A11859&configuracion!$C$10,\"\")","v":""},""]
[null,null,null,null,null,null,null,{"$f":"IF(DATOS!A11869<>\"\",DATOS!A11869&configuracion!$C$10,\"\")","v":""},""]
[null,null,null,null,null,null,null,{"$f":"IF(DATOS!A11876<>\"\",DATOS!A11876&configuracion!$C$10,\"\")","v":""},""]
[null,null,null,null,null,null,null,{"$f":"IF(DATOS!A11879<>\"\",DATOS!A11879&configuracion!$C$10,\"\")","v":""},""]
[null,null,null,null,null,null,null,{"$f":"IF(DATOS!A11888<>\"\",DATOS!A11888&configuracion!$C$10,\"\")","v":""},""]
[null,null,null,null,null,null,null,{"$f":"IF(DATOS!A11892<>\"\",DATOS!A11892&configuracion!$C$10,\"\")","v":""},""]
[null,null,null,null,null,null,null,{"$f":"IF(DATOS!A11899<>\"\",DATOS!A11899&configuracion!$C$10,\"\")","v":""},""]
[null,null,null,null,null,null,null,{"$f":"IF(DATOS!A11906<>\"\",DATOS!A11906&configuracion!$C$10,\"\")","v":""},""]
[null,null,null,null,null,null,null,{"$f":"IF(DATOS!A11909<>\"\",DATOS!A11909&configuracion!$C$10,\"\")","v":""},""]
[null,null,null,null,null,null,null,{"$f":"IF(DATOS!A11918<>\"\",DATOS!A11918&configuracion!$C$10,\"\")","v":""},""]
[null,null,null,null,null,null,null,{"$f":"IF(DATOS!A11926<>\"\",DATOS!A11926&configuracion!$C$10,\"\")","v":""},""]
[null,null,null,null,null,null,null,{"$f":"IF(DATOS!A11929<>\"\",DATOS!A11929&configuracion!$C$10,\"\")","v":""},""]
[null,null,null,null,null,null,null,{"$f":"IF(DATOS!A11938<>\"\",DATOS!A11938&configuracion!$C$10,\"\")","v":""},""]
[null,null,null,null,null,null,null,{"$f":"IF(DATOS!A11941<>\"\",DATOS!A11941&configuracion!$C$10,\"\")","v":""},""]
[null,null,null,null,null,null,null,{"$f":"IF(DATOS!A11949<>\"\",DATOS!A11949&configuracion!$C$10,\"\")","v":""},""]
[null,null,null,null,null,null,null,{"$f":"IF(DATOS!A11956<>\"\",DATOS!A11956&configuracion!$C$10,\"\")","v":""},""]
[null,null,null,null,null,null,null,{"$f":"IF(DATOS!A11959<>\"\",DATOS!A11959&configuracion!$C$10,\"\")","v":""},""]
[null,null,null,null,null,null,null,{"$f":"IF(DATOS!A11967<>\"\",DATOS!A11967&configuracion!$C$10,\"\")","v":""},""]
[null,null,null,null,null,null,null,{"$f":"IF(DATOS!A11976<>\"\",DATOS!A11976&configuracion!$C$10,\"\")","v":""},""]
[null,null,null,null,null,null,null,{"$f":"IF(DATOS!A11979<>\"\",DATOS!A11979&configuracion!$C$10,\"\")","v":""},""]
[null,null,null,null,null,null,null,{"$f":"IF(DATOS!A11988<>\"\",DATOS!A11988&configuracion!$C$10,\"\")","v":""},""]
[null,null,null,null,null,null,null,{"$f":"IF(DATOS!A11990<>\"\",DATOS!A11990&configuracion!$C$10,\"\")","v":""},""]
[null,null,null,null,null,null,null,{"$f":"IF(DATOS!A11999<>\"\",DATOS!A11999&configuracion!$C$10,\"\")","v":""},""]
[null,null,null,null,null,null,null,{"$f":"IF(DATOS!A12006<>\"\",DATOS!A12006&configuracion!$C$10,\"\")","v":""},""]
[null,null,null,null,null,null,null,{"$f":"IF(DATOS!A12009<>\"\",DATOS!A12009&configuracion!$C$10,\"\")","v":""},""]
[null,null,null,null,null,null,null,{"$f":"IF(DATOS!A12016<>\"\",DATOS!A12016&configuracion!$C$10,\"\")","v":""},""]
[null,null,null,null,null,null,null,{"$f":"IF(DATOS!A12026<>\"\",DATOS!A12026&configuracion!$C$10,\"\")","v":""},""]
[null,null,null,null,null,null,null,{"$f":"IF(DATOS!A12029<>\"\",DATOS!A12029&configuracion!$C$10,\"\")","v":""},""]
[null,null,null,null,null,null,null,{"$f":"IF(DATOS!A12036<>\"\",DATOS!A12036&configuracion!$C$10,\"\")","v":""},{"$f":"IF(B12036=\"\",\"\",TEXT(B12036, \"DD/MM/YYYY HH:MM:SS\"))","v":""}]
[null,null,null,null,null,null,null,{"$f":"IF(DATOS!A12046<>\"\",DATOS!A12046&configuracion!$C$10,\"\")","v":""},""]
[null,null,null,null,null,null,null,{"$f":"IF(DATOS!A12049<>\"\",DATOS!A12049&configuracion!$C$10,\"\")","v":""},""]
[null,null,null,null,null,null,null,{"$f":"IF(DATOS!A12056<>\"\",DATOS!A12056&configuracion!$C$10,\"\")","v":""},""]
[null,null,null,null,null,null,null,{"$f":"IF(DATOS!A12059<>\"\",DATOS!A12059&configuracion!$C$10,\"\")","v":""},""]
[null,null,null,null,null,null,null,{"$f":"IF(DATOS!A12065<>\"\",DATOS!A12065&configuracion!$C$10,\"\")","v":""},""]
[null,null,null,null,null,null,null,{"$f":"IF(DATOS!A12076<>\"\",DATOS!A12076&configuracion!$C$10,\"\")","v":""},""]
[null,null,null,null,null,null,null,{"$f":"IF(DATOS!A12079<>\"\",DATOS!A12079&configuracion!$C$10,\"\")","v":""},""]
[null,null,null,null,null,null,null,{"$f":"IF(DATOS!A12086<>\"\",DATOS!A12086&configuracion!$C$10,\"\")","v":""},""]
[null,null,null,null,null,null,null,{"$f":"IF(DATOS!A12095<>\"\",DATOS!A12095&configuracion!$C$10,\"\")","v":""},""]
[null,null,null,null,null,null,null,{"$f":"IF(DATOS!A12099<>\"\",DATOS!A12099&configuracion!$C$10,\"\")","v":""},""]
[null,null,null,null,null,null,null,{"$f":"IF(DATOS!A12106<>\"\",DATOS!A12106&configuracion!$C$10,\"\")","v":""},""]
[null,null,null,null,null,null,null,{"$f":"IF(DATOS!A12109<>\"\",DATOS!A12109&configuracion!$C$10,\"\")","v":""},""]
[null,null,null,null,null,null,null,{"$f":"IF(DATOS!A12118<>\"\",DATOS!A12118&configuracion!$C$10,\"\")","v":""},""]
[null,null,null,null,null,null,null,{"$f":"IF(DATOS!A12126<>\"\",DATOS!A12126&configuracion!$C$10,\"\")","v":""},""]
[null,null,null,null,null,null,null,{"$f":"IF(DATOS!A12129<>\"\",DATOS!A12129&configuracion!$C$10,\"\")","v":""},""]
[null,null,null,null,null,null,null,{"$f":"IF(DATOS!A12136<>\"\",DATOS!A12136&configuracion!$C$10,\"\")","v":""},""]
[null,null,null,null,null,null,null,{"$f":"IF(DATOS!A12144<>\"\",DATOS!A12144&configuracion!$C$10,\"\")","v":""},""]
[null,null,null,null,null,null,null,{"$f":"IF(DATOS!A12149<>\"\",DATOS!A12149&configuracion!$C$10,\"\")","v":""},""]
[null,null,null,null,null,null,null,{"$f":"IF(DATOS!A12156<>\"\",DATOS!A12156&configuracion!$C$10,\"\")","v":""},""]
[null,null,null,null,null,null,null,{"$f":"IF(DATOS!A12159<>\"\",DATOS!A12159&configuracion!$C$10,\"\")","v":""},""]
[null,null,null,null,null,null,null,{"$f":"IF(DATOS!A12167<>\"\",DATOS!A12167&configuracion!$C$10,\"\")","v":""},""]
[null,null,null,null,null,null,null,{"$f":"IF(DATOS!A12176<>\"\",DATOS!A12176&configuracion!$C$10,\"\")","v":""},""]
[null,null,null,null,null,null,null,{"$f":"IF(DATOS!A12179<>\"\",DATOS!A12179&configuracion!$C$10,\"\")","v":""},""]
[null,null,null,null,null,null,null,{"$f":"IF(DATOS!A12186<>\"\",DATOS!A12186&configuracion!$C$10,\"\")","v":""},""]
[null,null,null,null,null,null,null,{"$f":"IF(DATOS!A12193<>\"\",DATOS!A12193&configuracion!$C$10,\"\")","v":""},""]
[null,null,null,null,null,null,null,{"$f":"IF(DATOS!A12199<>\"\",DATOS!A12199&configuracion!$C$10,\"\")","v":""},""]
[null,null,null,null,null,null,null,{"$f":"IF(DATOS!A12206<>\"\",DATOS!A12206&configuracion!$C$10,\"\")","v":""},""]
[null,null,null,null,null,null,null,{"$f":"IF(DATOS!A12209<>\"\",DATOS!A12209&configuracion!$C$10,\"\")","v":""},""]
[null,null,null,null,null,null,null,{"$f":"IF(DATOS!A12216<>\"\",DATOS!A12216&configuracion!$C$10,\"\")","v":""},""]
[null,null,null,null,null,null,null,{"$f":"IF(DATOS!A12226<>\"\",DATOS!A12226&configuracion!$C$10,\"\")","v":""},""]
[null,null,null,null,null,null,null,{"$f":"IF(DATOS!A12229<>\"\",DATOS!A12229&configuracion!$C$10,\"\")","v":""},""]
[null,null,null,null,null,null,null,{"$f":"IF(DATOS!A12236<>\"\",DATOS!A12236&configuracion!$C$10,\"\")","v":""},""]
[null,null,null,null,null,null,null,{"$f":"IF(DATOS!A12242<>\"\",DATOS!A12242&configuracion!$C$10,\"\")","v":""},""]
[null,null,null,null,null,null,null,{"$f":"IF(DATOS!A12247<>\"\",DATOS!A12247&configuracion!$C$10,\"\")","v":""},""]
[null,null,null,null,null,null,null,{"$f":"IF(DATOS!A12256<>\"\",DATOS!A12256&configuracion!$C$10,\"\")","v":""},""]
[null,null,null,null,null,null,null,{"$f":"IF(DATOS!A12259<>\"\",DATOS!A12259&configuracion!$C$10,\"\")","v":""},""]
[null,null,null,null,null,null,null,{"$f":"IF(DATOS!A12265<>\"\",DATOS!A12265&configuracion!$C$10,\"\")","v":""},""]
[null,null,null,null,null,null,null,{"$f":"IF(DATOS!A12276<>\"\",DATOS!A12276&configuracion!$C$10,\"\")","v":""},""]
[null,null,null,null,null,null,null,{"$f":"IF(DATOS!A12279<>\"\",DATOS!A12279&configuracion!$C$10,\"\")","v":""},""]
[null,null,null,null,null,null,null,{"$f":"IF(DATOS!A12286<>\"\",DATOS!A12286&configuracion!$C$10,\"\")","v":""},""]
[null,null,null,null,null,null,null,{"$f":"IF(DATOS!A12291<>\"\",DATOS!A12291&configuracion!$C$10,\"\")","v":""},""]
[null,null,null,null,null,null,null,{"$f":"IF(DATOS!A12297<>\"\",DATOS!A12297&configuracion!$C$10,\"\")","v":""},""]
[null,null,null,null,null,null,null,{"$f":"IF(DATOS!A12306<>\"\",DATOS!A12306&configuracion!$C$10,\"\")","v":""},""]
[null,null,null,null,null,null,null,{"$f":"IF(DATOS!A12309<>\"\",DATOS!A12309&configuracion!$C$10,\"\")","v":""},""]
[null,null,null,null,null,null,null,{"$f":"IF(DATOS!A12321<>\"\",DATOS!A12321&configuracion!$C$10,\"\")","v":""},""]
[null,null,null,null,null,null,null,{"$f":"IF(DATOS!A12326<>\"\",DATOS!A12326&configuracion!$C$10,\"\")","v":""},""]
[null,null,null,null,null,null,null,{"$f":"IF(DATOS!A12333<>\"\",DATOS!A12333&configuracion!$C$10,\"\")","v":""},""]
[null,null,null,null,null,null,null,{"$f":"IF(DATOS!A12336<>\"\",DATOS!A12336&configuracion!$C$10,\"\")","v":""},""]
[null,null,null,null,null,null,null,{"$f":"IF(DATOS!A12340<>\"\",DATOS!A12340&configuracion!$C$10,\"\")","v":""},""]
[null,null,null,null,null,null,null,{"$f":"IF(DATOS!A12347<>\"\",DATOS!A12347&configuracion!$C$10,\"\")","v":""},""]
[null,null,null,null,null,null,null,{"$f":"IF(DATOS!A12356<>\"\",DATOS!A12356&configuracion!$C$10,\"\")","v":""},{"$f":"IF(B12356=\"\",\"\",TEXT(B12356, \"DD/MM/YYYY HH:MM:SS\"))","v":""}]
[null,null,null,null,null,null,null,{"$f":"IF(DATOS!A12359<>\"\",DATOS!A12359&configuracion!$C$10,\"\")","v":""},""]
[null,null,null,null,null,null,null,{"$f":"IF(DATOS!A12370<>\"\",DATOS!A12370&configuracion!$C$10,\"\")","v":""},""]
[null,null,null,null,null,null,null,{"$f":"IF(DATOS!A12376<>\"\",DATOS!A12376&configuracion!$C$10,\"\")","v":""},""]
[null,null,null,null,null,null,null,{"$f":"IF(DATOS!A12383<>\"\",DATOS!A12383&configuracion!$C$10,\"\")","v":""},""]
[null,null,null,null,null,null,null,{"$f":"IF(DATOS!A12386<>\"\",DATOS!A12386&configuracion!$C$10,\"\")","v":""},""]
[null,null,null,null,null,null,null,{"$f":"IF(DATOS!A12396<>\"\",DATOS!A12396&configuracion!$C$10,\"\")","v":""},""]
[null,null,null,null,null,null,null,{"$f":"IF(DATOS!A12397<>\"\",DATOS!A12397&configuracion!$C$10,\"\")","v":""},""]
[null,null,null,null,null,null,null,{"$f":"IF(DATOS!A12406<>\"\",DATOS!A12406&configuracion!$C$10,\"\")","v":""},""]
[null,null,null,null,null,null,null,{"$f":"IF(DATOS!A12409<>\"\",DATOS!A12409&configuracion!$C$10,\"\")","v":""},""]
[null,null,null,null,null,null,null,{"$f":"IF(DATOS!A12419<>\"\",DATOS!A12419&configuracion!$C$10,\"\")","v":""},""]
[null,null,null,null,null,null,null,{"$f":"IF(DATOS!A12426<>\"\",DATOS!A12426&configuracion!$C$10,\"\")","v":""},""]
[null,null,null,null,null,null,null,{"$f":"IF(DATOS!A12433<>\"\",DATOS!A12433&configuracion!$C$10,\"\")","v":""},""]
[null,null,null,null,null,null,null,{"$f":"IF(DATOS!A12438<>\"\",DATOS!A12438&configuracion!$C$10,\"\")","v":""},""]
[null,null,null,null,null,null,null,{"$f":"IF(DATOS!A12446<>\"\",DATOS!A12446&configuracion!$C$10,\"\")","v":""},""]
[null,null,null,null,null,null,null,{"$f":"IF(DATOS!A12447<>\"\",DATOS!A12447&configuracion!$C$10,\"\")","v":""},""]
[null,null,null,null,null,null,null,{"$f":"IF(DATOS!A12456<>\"\",DATOS!A12456&configuracion!$C$10,\"\")","v":""},""]
[null,null,null,null,null,null,null,{"$f":"IF(DATOS!A12461<>\"\",DATOS!A12461&configuracion!$C$10,\"\")","v":""},""]
[null,null,null,null,null,null,null,{"$f":"IF(DATOS!A12467<>\"\",DATOS!A12467&configuracion!$C$10,\"\")","v":""},""]
[null,null,null,null,null,null,null,{"$f":"IF(DATOS!A12476<>\"\",DATOS!A12476&configuracion!$C$10,\"\")","v":""},""]
[null,null,null,null,null,null,null,{"$f":"IF(DATOS!A12483<>\"\",DATOS!A12483&configuracion!$C$10,\"\")","v":""},""]
[null,null,null,null,null,null,null,{"$f":"IF(DATOS!A12487<>\"\",DATOS!A12487&configuracion!$C$10,\"\")","v":""},""]
[null,null,null,null,null,null,null,{"$f":"IF(DATOS!A12496<>\"\",DATOS!A12496&configuracion!$C$10,\"\")","v":""},""]
[null,null,null,null,null,null,null,{"$f":"IF(DATOS!A12497<>\"\",DATOS!A12497&configuracion!$C$10,\"\")","v":""},""]
[null,null,null,null,null,null,null,{"$f":"IF(DATOS!A12506<>\"\",DATOS!A12506&configuracion!$C$10,\"\")","v":""},""]
[null,null,null,null,null,null,null,{"$f":"IF(DATOS!A12510<>\"\",DATOS!A12510&configuracion!$C$10,\"\")","v":""},""]
[null,null,null,null,null,null,null,{"$f":"IF(DATOS!A12517<>\"\",DATOS!A12517&configuracion!$C$10,\"\")","v":""},""]
[null,null,null,null,null,null,null,{"$f":"IF(DATOS!A12526<>\"\",DATOS!A12526&configuracion!$C$10,\"\")","v":""},""]
[null,null,null,null,null,null,null,{"$f":"IF(DATOS!A12533<>\"\",DATOS!A12533&configuracion!$C$10,\"\")","v":""},""]
[null,null,null,null,null,null,null,{"$f":"IF(DATOS!A12536<>\"\",DATOS!A12536&configuracion!$C$10,\"\")","v":""},""]
[null,null,null,null,null,null,null,{"$f":"IF(DATOS!A12546<>\"\",DATOS!A12546&configuracion!$C$10,\"\")","v":""},""]
[null,null,null,null,null,null,null,{"$f":"IF(DATOS!A12547<>\"\",DATOS!A12547&configuracion!$C$10,\"\")","v":""},""]
[null,null,null,null,null,null,null,{"$f":"IF(DATOS!A12556<>\"\",DATOS!A12556&configuracion!$C$10,\"\")","v":""},""]
[null,null,null,null,null,null,null,{"$f":"IF(DATOS!A12559<>\"\",DATOS!A12559&configuracion!$C$10,\"\")","v":""},""]
[null,null,null,null,null,null,null,{"$f":"IF(DATOS!A12567<>\"\",DATOS!A12567&configuracion!$C$10,\"\")","v":""},""]
[null,null,null,null,null,null,null,{"$f":"IF(DATOS!A12576<>\"\",DATOS!A12576&configuracion!$C$10,\"\")","v":""},""]
[null,null,null,null,null,null,null,{"$f":"IF(DATOS!A12583<>\"\",DATOS!A12583&configuracion!$C$10,\"\")","v":""},""]
[null,null,null,null,null,null,null,{"$f":"IF(DATOS!A12585<>\"\",DATOS!A12585&configuracion!$C$10,\"\")","v":""},""]
[null,null,null,null,null,null,null,{"$f":"IF(DATOS!A12594<>\"\",DATOS!A12594&configuracion!$C$10,\"\")","v":""},""]
[null,null,null,null,null,null,null,{"$f":"IF(DATOS!A12597<>\"\",DATOS!A12597&configuracion!$C$10,\"\")","v":""},""]
[null,null,null,null,null,null,null,{"$f":"IF(DATOS!A12606<>\"\",DATOS!A12606&configuracion!$C$10,\"\")","v":""},""]
[null,null,null,null,null,null,null,{"$f":"IF(DATOS!A12615<>\"\",DATOS!A12615&configuracion!$C$10,\"\")","v":""},""]
[null,null,null,null,null,null,null,{"$f":"IF(DATOS!A12617<>\"\",DATOS!A12617&configuracion!$C$10,\"\")","v":""},""]
[null,null,null,null,null,null,null,{"$f":"IF(DATOS!A12626<>\"\",DATOS!A12626&configuracion!$C$10,\"\")","v":""},""]
[null,null,null,null,null,null,null,{"$f":"IF(DATOS!A12633<>\"\",DATOS!A12633&configuracion!$C$10,\"\")","v":""},""]
[null,null,null,null,null,null,null,{"$f":"IF(DATOS!A12634<>\"\",DATOS!A12634&configuracion!$C$10,\"\")","v":""},""]
[null,null,null,null,null,null,null,{"$f":"IF(DATOS!A12644<>\"\",DATOS!A12644&configuracion!$C$10,\"\")","v":""},""]
[null,null,null,null,null,null,null,{"$f":"IF(DATOS!A12647<>\"\",DATOS!A12647&configuracion!$C$10,\"\")","v":""},""]
[null,null,null,null,null,null,null,{"$f":"IF(DATOS!A12656<>\"\",DATOS!A12656&configuracion!$C$10,\"\")","v":""},""]
[null,null,null,null,null,null,null,{"$f":"IF(DATOS!A12664<>\"\",DATOS!A12664&configuracion!$C$10,\"\")","v":""},""]
[null,null,null,null,null,null,null,{"$f":"IF(DATOS!A12667<>\"\",DATOS!A12667&configuracion!$C$10,\"\")","v":""},""]
[null,null,null,null,null,null,null,{"$f":"IF(DATOS!A12674<>\"\",DATOS!A12674&configuracion!$C$10,\"\")","v":""},""]
[null,null,null,null,null,null,null,{"$f":"IF(DATOS!A12683<>\"\",DATOS!A12683&configuracion!$C$10,\"\")","v":""},""]
[null,null,null,null,null,null,null,{"$f":"IF(DATOS!A12690<>\"\",DATOS!A12690&configuracion!$C$10,\"\")","v":""},""]
[null,null,null,null,null,null,null,{"$f":"IF(DATOS!A12694<>\"\",DATOS!A12694&configuracion!$C$10,\"\")","v":""},""]
[null,null,null,null,null,null,null,{"$f":"IF(DATOS!A12697<>\"\",DATOS!A12697&configuracion!$C$10,\"\")","v":""},""]
[null,null,null,null,null,null,null,{"$f":"IF(DATOS!A12706<>\"\",DATOS!A12706&configuracion!$C$10,\"\")","v":""},""]
[null,null,null,null,null,null,null,{"$f":"IF(DATOS!A12713<>\"\",DATOS!A12713&configuracion!$C$10,\"\")","v":""},""]
[null,null,null,null,null,null,null,{"$f":"IF(DATOS!A12717<>\"\",DATOS!A12717&configuracion!$C$10,\"\")","v":""},""]
[null,null,null,null,null,null,null,{"$f":"IF(DATOS!A12724<>\"\",DATOS!A12724&configuracion!$C$10,\"\")","v":""},""]
[null,null,null,null,null,null,null,{"$f":"IF(DATOS!A12733<>\"\",DATOS!A12733&configuracion!$C$10,\"\")","v":""},""]
[null,null,null,null,null,null,null,{"$f":"IF(DATOS!A12739<>\"\",DATOS!A12739&configuracion!$C$10,\"\")","v":""},""]
[null,null,null,null,null,null,null,{"$f":"IF(DATOS!A12744<>\"\",DATOS!A12744&configuracion!$C$10,\"\")","v":""},""]
[null,null,null,null,null,null,null,{"$f":"IF(DATOS!A12747<>\"\",DATOS!A12747&configuracion!$C$10,\"\")","v":""},""]
[null,null,null,null,null,null,null,{"$f":"IF(DATOS!A12756<>\"\",DATOS!A12756&configuracion!$C$10,\"\")","v":""},""]
[null,null,null,null,null,null,null,{"$f":"IF(DATOS!A12762<>\"\",DATOS!A12762&configuracion!$C$10,\"\")","v":""},""]
[null,null,null,null,null,null,null,{"$f":"IF(DATOS!A12767<>\"\",DATOS!A12767&configuracion!$C$10,\"\")","v":""},""]
[null,null,null,null,null,null,null,{"$f":"IF(DATOS!A12774<>\"\",DATOS!A12774&configuracion!$C$10,\"\")","v":""},""]
[null,null,null,null,null,null,null,{"$f":"IF(DATOS!A12783<>\"\",DATOS!A12783&configuracion!$C$10,\"\")","v":""},""]
[null,null,null,null,null,null,null,{"$f":"IF(DATOS!A12788<>\"\",DATOS!A12788&configuracion!$C$10,\"\")","v":""},""]
[null,null,null,null,null,null,null,{"$f":"IF(DATOS!A12794<>\"\",DATOS!A12794&configuracion!$C$10,\"\")","v":""},""]
[null,null,null,null,null,null,null,{"$f":"IF(DATOS!A12797<>\"\",DATOS!A12797&configuracion!$C$10,\"\")","v":""},""]
[null,null,null,null,null,null,null,{"$f":"IF(DATOS!A12804<>\"\",DATOS!A12804&configuracion!$C$10,\"\")","v":""},{"$f":"IF(B12804=\"\",\"\",TEXT(B12804, \"DD/MM/YYYY HH:MM:SS\"))","v":""}]
[null,null,null,null,null,null,null,{"$f":"IF(DATOS!A12811<>\"\",DATOS!A12811&configuracion!$C$10,\"\")","v":""},""]
[null,null,null,null,null,null,null,{"$f":"IF(DATOS!A12817<>\"\",DATOS!A12817&configuracion!$C$10,\"\")","v":""},""]
[null,null,null,null,null,null,null,{"$f":"IF(DATOS!A12824<>\"\",DATOS!A12824&configuracion!$C$10,\"\")","v":""},""]
[null,null,null,null,null,null,null,{"$f":"IF(DATOS!A12833<>\"\",DATOS!A12833&configuracion!$C$10,\"\")","v":""},""]
[null,null,null,null,null,null,null,{"$f":"IF(DATOS!A12837<>\"\",DATOS!A12837&configuracion!$C$10,\"\")","v":""},""]
[null,null,null,null,null,null,null,{"$f":"IF(DATOS!A12844<>\"\",DATOS!A12844&configuracion!$C$10,\"\")","v":""},""]
[null,null,null,null,null,null,null,{"$f":"IF(DATOS!A12847<>\"\",DATOS!A12847&configuracion!$C$10,\"\")","v":""},""]
[null,null,null,null,null,null,null,{"$f":"IF(DATOS!A12854<>\"\",DATOS!A12854&configuracion!$C$10,\"\")","v":""},""]
[null,null,null,null,null,null,null,{"$f":"IF(DATOS!A12860<>\"\",DATOS!A12860&configuracion!$C$10,\"\")","v":""},""]
[null,null,null,null,null,null,null,{"$f":"IF(DATOS!A12867<>\"\",DATOS!A12867&configuracion!$C$10,\"\")","v":""},""]
[null,null,null,null,null,null,null,{"$f":"IF(DATOS!A12874<>\"\",DATOS!A12874&configuracion!$C$10,\"\")","v":""},""]
[null,null,null,null,null,null,null,{"$f":"IF(DATOS!A12883<>\"\",DATOS!A12883&configuracion!$C$10,\"\")","v":""},""]
[null,null,null,null,null,null,null,{"$f":"IF(DATOS!A12890<>\"\",DATOS!A12890&configuracion!$C$10,\"\")","v":""},""]
[null,null,null,null,null,null,null,{"$f":"IF(DATOS!A12894<>\"\",DATOS!A12894&configuracion!$C$10,\"\")","v":""},""]
[null,null,null,null,null,null,null,{"$f":"IF(DATOS!A12897<>\"\",DATOS!A12897&configuracion!$C$10,\"\")","v":""},""]
[null,null,null,null,null,null,null,{"$f":"IF(DATOS!A12904<>\"\",DATOS!A12904&configuracion!$C$10,\"\")","v":""},""]
[null,null,null,null,null,null,null,{"$f":"IF(DATOS!A12909<>\"\",DATOS!A12909&configuracion!$C$10,\"\")","v":""},""]
[null,null,null,null,null,null,null,{"$f":"IF(DATOS!A12917<>\"\",DATOS!A12917&configuracion!$C$10,\"\")","v":""},""]
[null,null,null,null,null,null,null,{"$f":"IF(DATOS!A12924<>\"\",DATOS!A12924&configuracion!$C$10,\"\")","v":""},""]
[null,null,null,null,null,null,null,{"$f":"IF(DATOS!A12933<>\"\",DATOS!A12933&configuracion!$C$10,\"\")","v":""},""]
[null,null,null,null,null,null,null,{"$f":"IF(DATOS!A12939<>\"\",DATOS!A12939&configuracion!$C$10,\"\")","v":""},""]
[null,null,null,null,null,null,null,{"$f":"IF(DATOS!A12944<>\"\",DATOS!A12944&configuracion!$C$10,\"\")","v":""},""]
[null,null,null,null,null,null,null,{"$f":"IF(DATOS!A12947<>\"\",DATOS!A12947&configuracion!$C$10,\"\")","v":""},""]
[null,null,null,null,null,null,null,{"$f":"IF(DATOS!A12954<>\"\",DATOS!A12954&configuracion!$C$10,\"\")","v":""},""]
[null,null,null,null,null,null,null,{"$f":"IF(DATOS!A12965<>\"\",DATOS!A12965&configuracion!$C$10,\"\")","v":""},""]
[null,null,null,null,null,null,null,{"$f":"IF(DATOS!A12967<>\"\",DATOS!A12967&configuracion!$C$10,\"\")","v":""},""]
[null,null,null,null,null,null,null,{"$f":"IF(DATOS!A12974<>\"\",DATOS!A12974&configuracion!$C$10,\"\")","v":""},""]
[null,null,null,null,null,null,null,{"$f":"IF(DATOS!A12983<>\"\",DATOS!A12983&configuracion!$C$10,\"\")","v":""},""]
[null,null,null,null,null,null,null,{"$f":"IF(DATOS!A12988<>\"\",DATOS!A12988&configuracion!$C$10,\"\")","v":""},""]
[null,null,null,null,null,null,null,{"$f":"IF(DATOS!A12994<>\"\",DATOS!A12994&configuracion!$C$10,\"\")","v":""},""]
[null,null,null,null,null,null,null,{"$f":"IF(DATOS!A12997<>\"\",DATOS!A12997&configuracion!$C$10,\"\")","v":""},""]
[null,null,null,null,null,null,null,{"$f":"IF(DATOS!A13004<>\"\",DATOS!A13004&configuracion!$C$10,\"\")","v":""},""]
[null,null,null,null,null,null,null,{"$f":"IF(DATOS!A13014<>\"\",DATOS!A13014&configuracion!$C$10,\"\")","v":""},""]
[null,null,null,null,null,null,null,{"$f":"IF(DATOS!A13021<>\"\",DATOS!A13021&configuracion!$C$10,\"\")","v":""},""]
[null,null,null,null,null,null,null,{"$f":"IF(DATOS!A13024<>\"\",DATOS!A13024&configuracion!$C$10,\"\")","v":""},""]
[null,null,null,null,null,null,null,{"$f":"IF(DATOS!A13033<>\"\",DATOS!A13033&configuracion!$C$10,\"\")","v":""},""]
[null,null,null,null,null,null,null,{"$f":"IF(DATOS!A13037<>\"\",DATOS!A13037&configuracion!$C$10,\"\")","v":""},""]
[null,null,null,null,null,null,null,{"$f":"IF(DATOS!A13044<>\"\",DATOS!A13044&configuracion!$C$10,\"\")","v":""},""]
[null,null,null,null,null,null,null,{"$f":"IF(DATOS!A13047<>\"\",DATOS!A13047&configuracion!$C$10,\"\")","v":""},""]
[null,null,null,null,null,null,null,{"$f":"IF(DATOS!A13054<>\"\",DATOS!A13054&configuracion!$C$10,\"\")","v":""},""]
[null,null,null,null,null,null,null,{"$f":"IF(DATOS!A13063<>\"\",DATOS!A13063&configuracion!$C$10,\"\")","v":""},""]
[null,null,null,null,null,null,null,{"$f":"IF(DATOS!A13071<>\"\",DATOS!A13071&configuracion!$C$10,\"\")","v":""},""]
[null,null,null,null,null,null,null,{"$f":"IF(DATOS!A13074<>\"\",DATOS!A13074&configuracion!$C$10,\"\")","v":""},""]
[null,null,null,null,null,null,null,{"$f":"IF(DATOS!A13083<>\"\",DATOS!A13083&configuracion!$C$10,\"\")","v":""},""]
[null,null,null,null,null,null,null,{"$f":"IF(DATOS!A13086<>\"\",DATOS!A13086&configuracion!$C$10,\"\")","v":""},""]
[null,null,null,null,null,null,null,{"$f":"IF(DATOS!A13094<>\"\",DATOS!A13094&configuracion!$C$10,\"\")","v":""},""]
[null,null,null,null,null,null,null,{"$f":"IF(DATOS!A13097<>\"\",DATOS!A13097&configuracion!$C$10,\"\")","v":""},""]
[null,null,null,null,null,null,null,{"$f":"IF(DATOS!A13104<>\"\",DATOS!A13104&configuracion!$C$10,\"\")","v":""},""]
[null,null,null,null,null,null,null,{"$f":"IF(DATOS!A13112<>\"\",DATOS!A13112&configuracion!$C$10,\"\")","v":""},""]
[null,null,null,null,null,null,null,{"$f":"IF(DATOS!A13121<>\"\",DATOS!A13121&configuracion!$C$10,\"\")","v":""},""]
[null,null,null,null,null,null,null,{"$f":"IF(DATOS!A13124<>\"\",DATOS!A13124&configuracion!$C$10,\"\")","v":""},{"$f":"IF(B13124=\"\",\"\",TEXT(B13124, \"DD/MM/YYYY HH:MM:SS\"))","v":""}]
[null,null,null,null,null,null,null,{"$f":"IF(DATOS!A13133<>\"\",DATOS!A13133&configuracion!$C$10,\"\")","v":""},""]
[null,null,null,null,null,null,null,{"$f":"IF(DATOS!A13135<>\"\",DATOS!A13135&configuracion!$C$10,\"\")","v":""},""]
[null,null,null,null,null,null,null,{"$f":"IF(DATOS!A13144<>\"\",DATOS!A13144&configuracion!$C$10,\"\")","v":""},""]
[null,null,null,null,null,null,null,{"$f":"IF(DATOS!A13151<>\"\",DATOS!A13151&configuracion!$C$10,\"\")","v":""},""]
[null,null,null,null,null,null,null,{"$f":"IF(DATOS!A13154<>\"\",DATOS!A13154&configuracion!$C$10,\"\")","v":""},""]
[null,null,null,null,null,null,null,{"$f":"IF(DATOS!A13161<>\"\",DATOS!A13161&configuracion!$C$10,\"\")","v":""},""]
[null,null,null,null,null,null,null,{"$f":"IF(DATOS!A13171<>\"\",DATOS!A13171&configuracion!$C$10,\"\")","v":""},""]
[null,null,null,null,null,null,null,{"$f":"IF(DATOS!A13174<>\"\",DATOS!A13174&configuracion!$C$10,\"\")","v":""},""]
[null,null,null,null,null,null,null,{"$f":"IF(DATOS!A13183<>\"\",DATOS!A13183&configuracion!$C$10,\"\")","v":""},""]
[null,null,null,null,null,null,null,{"$f":"IF(DATOS!A13184<>\"\",DATOS!A13184&configuracion!$C$10,\"\")","v":""},""]
[null,null,null,null,null,null,null,{"$f":"IF(DATOS!A13194<>\"\",DATOS!A13194&configuracion!$C$10,\"\")","v":""},""]
[null,null,null,null,null,null,null,{"$f":"IF(DATOS!A13201<>\"\",DATOS!A13201&configuracion!$C$10,\"\")","v":""},""]
[null,null,null,null,null,null,null,{"$f":"IF(DATOS!A13204<>\"\",DATOS!A13204&configuracion!$C$10,\"\")","v":""},""]
[null,null,null,null,null,null,null,{"$f":"IF(DATOS!A13210<>\"\",DATOS!A13210&configuracion!$C$10,\"\")","v":""},""]
[null,null,null,null,null,null,null,{"$f":"IF(DATOS!A13221<>\"\",DATOS!A13221&configuracion!$C$10,\"\")","v":""},""]
[null,null,null,null,null,null,null,{"$f":"IF(DATOS!A13224<>\"\",DATOS!A13224&configuracion!$C$10,\"\")","v":""},""]
[null,null,null,null,null,null,null,{"$f":"IF(DATOS!A13231<>\"\",DATOS!A13231&configuracion!$C$10,\"\")","v":""},""]
[null,null,null,null,null,null,null,{"$f":"IF(DATOS!A13240<>\"\",DATOS!A13240&configuracion!$C$10,\"\")","v":""},""]
[null,null,null,null,null,null,null,{"$f":"IF(DATOS!A13244<>\"\",DATOS!A13244&configuracion!$C$10,\"\")","v":""},""]
[null,null,null,null,null,null,null,{"$f":"IF(DATOS!A13251<>\"\",DATOS!A13251&configuracion!$C$10,\"\")","v":""},""]
[null,null,null,null,null,null,null,{"$f":"IF(DATOS!A13254<>\"\",DATOS!A13254&configuracion!$C$10,\"\")","v":""},""]
[null,null,null,null,null,null,null,{"$f":"IF(DATOS!A13259<>\"\",DATOS!A13259&configuracion!$C$10,\"\")","v":""},""]
[null,null,null,null,null,null,null,{"$f":"IF(DATOS!A13271<>\"\",DATOS!A13271&configuracion!$C$10,\"\")","v":""},""]
[null,null,null,null,null,null,null,{"$f":"IF(DATOS!A13274<>\"\",DATOS!A13274&configuracion!$C$10,\"\")","v":""},""]
[null,null,null,null,null,null,null,{"$f":"IF(DATOS!A13281<>\"\",DATOS!A13281&configuracion!$C$10,\"\")","v":""},""]
[null,null,null,null,null,null,null,{"$f":"IF(DATOS!A13289<>\"\",DATOS!A13289&configuracion!$C$10,\"\")","v":""},""]
[null,null,null,null,null,null,null,{"$f":"IF(DATOS!A13294<>\"\",DATOS!A13294&configuracion!$C$10,\"\")","v":""},""]
[null,null,null,null,null,null,null,{"$f":"IF(DATOS!A13301<>\"\",DATOS!A13301&configuracion!$C$10,\"\")","v":""},""]
[null,null,null,null,null,null,null,{"$f":"IF(DATOS!A13304<>\"\",DATOS!A13304&configuracion!$C$10,\"\")","v":""},""]
[null,null,null,null,null,null,null,{"$f":"IF(DATOS!A13315<>\"\",DATOS!A13315&configuracion!$C$10,\"\")","v":""},""]
[null,null,null,null,null,null,null,{"$f":"IF(DATOS!A13321<>\"\",DATOS!A13321&configuracion!$C$10,\"\")","v":""},""]
[null,null,null,null,null,null,null,{"$f":"IF(DATOS!A13324<>\"\",DATOS!A13324&configuracion!$C$10,\"\")","v":""},""]
[null,null,null,null,null,null,null,{"$f":"IF(DATOS!A13331<>\"\",DATOS!A13331&configuracion!$C$10,\"\")","v":""},""]
[null,null,null,null,null,null,null,{"$f":"IF(DATOS!A13338<>\"\",DATOS!A13338&configuracion!$C$10,\"\")","v":""},""]
[null,null,null,null,null,null,null,{"$f":"IF(DATOS!A13344<>\"\",DATOS!A13344&configuracion!$C$10,\"\")","v":""},""]
[null,null,null,null,null,null,null,{"$f":"IF(DATOS!A13351<>\"\",DATOS!A13351&configuracion!$C$10,\"\")","v":""},""]
[null,null,null,null,null,null,null,{"$f":"IF(DATOS!A13354<>\"\",DATOS!A13354&configuracion!$C$10,\"\")","v":""},""]
[null,null,null,null,null,null,null,{"$f":"IF(DATOS!A13361<>\"\",DATOS!A13361&configuracion!$C$10,\"\")","v":""},""]
[null,null,null,null,null,null,null,{"$f":"IF(DATOS!A13371<>\"\",DATOS!A13371&configuracion!$C$10,\"\")","v":""},""]
[null,null,null,null,null,null,null,{"$f":"IF(DATOS!A13374<>\"\",DATOS!A13374&configuracion!$C$10,\"\")","v":""},""]
[null,null,null,null,null,null,null,{"$f":"IF(DATOS!A13381<>\"\",DATOS!A13381&configuracion!$C$10,\"\")","v":""},""]
[null,null,null,null,null,null,null,{"$f":"IF(DATOS!A13387<>\"\",DATOS!A13387&configuracion!$C$10,\"\")","v":""},""]
[null,null,null,null,null,null,null,{"$f":"IF(DATOS!A13394<>\"\",DATOS!A13394&configuracion!$C$10,\"\")","v":""},""]
[null,null,null,null,null,null,null,{"$f":"IF(DATOS!A13401<>\"\",DATOS!A13401&configuracion!$C$10,\"\")","v":""},""]
[null,null,null,null,null,null,null,{"$f":"IF(DATOS!A13404<>\"\",DATOS!A13404&configuracion!$C$10,\"\")","v":""},""]
[null,null,null,null,null,null,null,{"$f":"IF(DATOS!A13410<>\"\",DATOS!A13410&configuracion!$C$10,\"\")","v":""},""]
[null,null,null,null,null,null,null,{"$f":"IF(DATOS!A13421<>\"\",DATOS!A13421&configuracion!$C$10,\"\")","v":""},""]
[null,null,null,null,null,null,null,{"$f":"IF(DATOS!A13424<>\"\",DATOS!A13424&configuracion!$C$10,\"\")","v":""},""]
[null,null,null,null,null,null,null,{"$f":"IF(DATOS!A13431<>\"\",DATOS!A13431&configuracion!$C$10,\"\")","v":""},""]
[null,null,null,null,null,null,null,{"$f":"IF(DATOS!A13436<>\"\",DATOS!A13436&configuracion!$C$10,\"\")","v":""},""]
[null,null,null,null,null,null,null,{"$f":"IF(DATOS!A13444<>\"\",DATOS!A13444&configuracion!$C$10,\"\")","v":""},{"$f":"IF(B13444=\"\",\"\",TEXT(B13444, \"DD/MM/YYYY HH:MM:SS\"))","v":""}]
[null,null,null,null,null,null,null,{"$f":"IF(DATOS!A13451<>\"\",DATOS!A13451&configuracion!$C$10,\"\")","v":""},""]
[null,null,null,null,null,null,null,{"$f":"IF(DATOS!A13454<>\"\",DATOS!A13454&configuracion!$C$10,\"\")","v":""},""]
[null,null,null,null,null,null,null,{"$f":"IF(DATOS!A13459<>\"\",DATOS!A13459&configuracion!$C$10,\"\")","v":""},""]
[null,null,null,null,null,null,null,{"$f":"IF(DATOS!A13471<>\"\",DATOS!A13471&configuracion!$C$10,\"\")","v":""},""]
[null,null,null,null,null,null,null,{"$f":"IF(DATOS!A13474<>\"\",DATOS!A13474&configuracion!$C$10,\"\")","v":""},""]
[null,null,null,null,null,null,null,{"$f":"IF(DATOS!A13478<>\"\",DATOS!A13478&configuracion!$C$10,\"\")","v":""},""]
[null,null,null,null,null,null,null,{"$f":"IF(DATOS!A13485<>\"\",DATOS!A13485&configuracion!$C$10,\"\")","v":""},""]
[null,null,null,null,null,null,null,{"$f":"IF(DATOS!A13492<>\"\",DATOS!A13492&configuracion!$C$10,\"\")","v":""},""]
[null,null,null,null,null,null,null,{"$f":"IF(DATOS!A13501<>\"\",DATOS!A13501&configuracion!$C$10,\"\")","v":""},""]
[null,null,null,null,null,null,null,{"$f":"IF(DATOS!A13504<>\"\",DATOS!A13504&configuracion!$C$10,\"\")","v":""},""]
[null,null,null,null,null,null,null,{"$f":"IF(DATOS!A13512<>\"\",DATOS!A13512&configuracion!$C$10,\"\")","v":""},""]
[null,null,null,null,null,null,null,{"$f":"IF(DATOS!A13521<>\"\",DATOS!A13521&configuracion!$C$10,\"\")","v":""},""]
[null,null,null,null,null,null,null,{"$f":"IF(DATOS!A13524<>\"\",DATOS!A13524&configuracion!$C$10,\"\")","v":""},""]
[null,null,null,null,null,null,null,{"$f":"IF(DATOS!A13534<>\"\",DATOS!A13534&configuracion!$C$10,\"\")","v":""},""]
[null,null,null,null,null,null,null,{"$f":"IF(DATOS!A13535<>\"\",DATOS!A13535&configuracion!$C$10,\"\")","v":""},""]
[null,null,null,null,null,null,null,{"$f":"IF(DATOS!A13542<>\"\",DATOS!A13542&configuracion!$C$10,\"\")","v":""},""]
[null,null,null,null,null,null,null,{"$f":"IF(DATOS!A13551<>\"\",DATOS!A13551&configuracion!$C$10,\"\")","v":""},""]
[null,null,null,null,null,null,null,{"$f":"IF(DATOS!A13553<>\"\",DATOS!A13553&configuracion!$C$10,\"\")","v":""},""]
[null,null,null,null,null,null,null,{"$f":"IF(DATOS!A13562<>\"\",DATOS!A13562&configuracion!$C$10,\"\")","v":""},""]
[null,null,null,null,null,null,null,{"$f":"IF(DATOS!A13571<>\"\",DATOS!A13571&configuracion!$C$10,\"\")","v":""},""]
[null,null,null,null,null,null,null,{"$f":"IF(DATOS!A13572<>\"\",DATOS!A13572&configuracion!$C$10,\"\")","v":""},{"$f":"IF(B13572=\"\",\"\",TEXT(B13572, \"DD/MM/YYYY HH:MM:SS\"))","v":""}]
[null,null,null,null,null,null,null,{"$f":"IF(DATOS!A13583<>\"\",DATOS!A13583&configuracion!$C$10,\"\")","v":""},""]
[null,null,null,null,null,null,null,{"$f":"IF(DATOS!A13585<>\"\",DATOS!A13585&configuracion!$C$10,\"\")","v":""},""]
[null,null,null,null,null,null,null,{"$f":"IF(DATOS!A13592<>\"\",DATOS!A13592&configuracion!$C$10,\"\")","v":""},""]
[null,null,null,null,null,null,null,{"$f":"IF(DATOS!A13601<>\"\",DATOS!A13601&configuracion!$C$10,\"\")","v":""},""]
[null,null,null,null,null,null,null,{"$f":"IF(DATOS!A13609<>\"\",DATOS!A13609&configuracion!$C$10,\"\")","v":""},""]
[null,null,null,null,null,null,null,{"$f":"IF(DATOS!A13612<>\"\",DATOS!A13612&configuracion!$C$10,\"\")","v":""},""]
[null,null,null,null,null,null,null,{"$f":"IF(DATOS!A13621<>\"\",DATOS!A13621&configuracion!$C$10,\"\")","v":""},""]
[null,null,null,null,null,null,null,{"$f":"IF(DATOS!A13622<>\"\",DATOS!A13622&configuracion!$C$10,\"\")","v":""},""]
[null,null,null,null,null,null,null,{"$f":"IF(DATOS!A13632<>\"\",DATOS!A13632&configuracion!$C$10,\"\")","v":""},""]
[null,null,null,null,null,null,null,{"$f":"IF(DATOS!A13635<>\"\",DATOS!A13635&configuracion!$C$10,\"\")","v":""},""]
[null,null,null,null,null,null,null,{"$f":"IF(DATOS!A13642<>\"\",DATOS!A13642&configuracion!$C$10,\"\")","v":""},""]
[null,null,null,null,null,null,null,{"$f":"IF(DATOS!A13651<>\"\",DATOS!A13651&configuracion!$C$10,\"\")","v":""},""]
[null,null,null,null,null,null,null,{"$f":"IF(DATOS!A13658<>\"\",DATOS!A13658&configuracion!$C$10,\"\")","v":""},""]
[null,null,null,null,null,null,null,{"$f":"IF(DATOS!A13662<>\"\",DATOS!A13662&configuracion!$C$10,\"\")","v":""},""]
[null,null,null,null,null,null,null,{"$f":"IF(DATOS!A13671<>\"\",DATOS!A13671&configuracion!$C$10,\"\")","v":""},""]
[null,null,null,null,null,null,null,{"$f":"IF(DATOS!A13672<>\"\",DATOS!A13672&configuracion!$C$10,\"\")","v":""},""]
[null,null,null,null,null,null,null,{"$f":"IF(DATOS!A13681<>\"\",DATOS!A13681&configuracion!$C$10,\"\")","v":""},""]
[null,null,null,null,null,null,null,{"$f":"IF(DATOS!A13685<>\"\",DATOS!A13685&configuracion!$C$10,\"\")","v":""},""]
[null,null,null,null,null,null,null,{"$f":"IF(DATOS!A13692<>\"\",DATOS!A13692&configuracion!$C$10,\"\")","v":""},""]
[null,null,null,null,null,null,null,{"$f":"IF(DATOS!A13701<>\"\",DATOS!A13701&configuracion!$C$10,\"\")","v":""},""]
[null,null,null,null,null,null,null,{"$f":"IF(DATOS!A13704<>\"\",DATOS!A13704&configuracion!$C$10,\"\")","v":""},""]
[null,null,null,null,null,null,null,{"$f":"IF(DATOS!A13712<>\"\",DATOS!A13712&configuracion!$C$10,\"\")","v":""},""]
[null,null,null,null,null,null,null,{"$f":"IF(DATOS!A13721<>\"\",DATOS!A13721&configuracion!$C$10,\"\")","v":""},""]
[null,null,null,null,null,null,null,{"$f":"IF(DATOS!A13722<>\"\",DATOS!A13722&configuracion!$C$10,\"\")","v":""},""]
[null,null,null,null,null,null,null,{"$f":"IF(DATOS!A13730<>\"\",DATOS!A13730&configuracion!$C$10,\"\")","v":""},""]
[null,null,null,null,null,null,null,{"$f":"IF(DATOS!A13735<>\"\",DATOS!A13735&configuracion!$C$10,\"\")","v":""},""]
[null,null,null,null,null,null,null,{"$f":"IF(DATOS!A13742<>\"\",DATOS!A13742&configuracion!$C$10,\"\")","v":""},""]
[null,null,null,null,null,null,null,{"$f":"IF(DATOS!A13751<>\"\",DATOS!A13751&configuracion!$C$10,\"\")","v":""},""]
[null,null,null,null,null,null,null,{"$f":"IF(DATOS!A13753<>\"\",DATOS!A13753&configuracion!$C$10,\"\")","v":""},""]
[null,null,null,null,null,null,null,{"$f":"IF(DATOS!A13762<>\"\",DATOS!A13762&configuracion!$C$10,\"\")","v":""},""]
[null,null,null,null,null,null,null,{"$f":"IF(DATOS!A13771<>\"\",DATOS!A13771&configuracion!$C$10,\"\")","v":""},""]
[null,null,null,null,null,null,null,{"$f":"IF(DATOS!A13772<>\"\",DATOS!A13772&configuracion!$C$10,\"\")","v":""},""]
[null,null,null,null,null,null,null,{"$f":"IF(DATOS!A13779<>\"\",DATOS!A13779&configuracion!$C$10,\"\")","v":""},""]
[null,null,null,null,null,null,null,{"$f":"IF(DATOS!A13789<>\"\",DATOS!A13789&configuracion!$C$10,\"\")","v":""},""]
[null,null,null,null,null,null,null,{"$f":"IF(DATOS!A13792<>\"\",DATOS!A13792&configuracion!$C$10,\"\")","v":""},""]
[null,null,null,null,null,null,null,{"$f":"IF(DATOS!A13801<>\"\",DATOS!A13801&configuracion!$C$10,\"\")","v":""},""]
[null,null,null,null,null,null,null,{"$f":"IF(DATOS!A13809<>\"\",DATOS!A13809&configuracion!$C$10,\"\")","v":""},""]
[null,null,null,null,null,null,null,{"$f":"IF(DATOS!A13812<>\"\",DATOS!A13812&configuracion!$C$10,\"\")","v":""},""]
[null,null,null,null,null,null,null,{"$f":"IF(DATOS!A13821<>\"\",DATOS!A13821&configuracion!$C$10,\"\")","v":""},""]
[null,null,null,null,null,null,null,{"$f":"IF(DATOS!A13822<>\"\",DATOS!A13822&configuracion!$C$10,\"\")","v":""},""]
[null,null,null,null,null,null,null,{"$f":"IF(DATOS!A13828<>\"\",DATOS!A13828&configuracion!$C$10,\"\")","v":""},{"$f":"IF(B13828=\"\",\"\",TEXT(B13828, \"DD/MM/YYYY HH:MM:SS\"))","v":""}]
[null,null,null,null,null,null,null,{"$f":"IF(DATOS!A13839<>\"\",DATOS!A13839&configuracion!$C$10,\"\")","v":""},""]
[null,null,null,null,null,null,null,{"$f":"IF(DATOS!A13842<>\"\",DATOS!A13842&configuracion!$C$10,\"\")","v":""},""]
[null,null,null,null,null,null,null,{"$f":"IF(DATOS!A13851<>\"\",DATOS!A13851&configuracion!$C$10,\"\")","v":""},""]
[null,null,null,null,null,null,null,{"$f":"IF(DATOS!A13858<>\"\",DATOS!A13858&configuracion!$C$10,\"\")","v":""},""]
[null,null,null,null,null,null,null,{"$f":"IF(DATOS!A13862<>\"\",DATOS!A13862&configuracion!$C$10,\"\")","v":""},""]
[null,null,null,null,null,null,null,{"$f":"IF(DATOS!A13871<>\"\",DATOS!A13871&configuracion!$C$10,\"\")","v":""},""]
[null,null,null,null,null,null,null,{"$f":"IF(DATOS!A13872<>\"\",DATOS!A13872&configuracion!$C$10,\"\")","v":""},""]
[null,null,null,null,null,null,null,{"$f":"IF(DATOS!A13884<>\"\",DATOS!A13884&configuracion!$C$10,\"\")","v":""},""]
[null,null,null,null,null,null,null,{"$f":"IF(DATOS!A13889<>\"\",DATOS!A13889&configuracion!$C$10,\"\")","v":""},""]
[null,null,null,null,null,null,null,{"$f":"IF(DATOS!A13892<>\"\",DATOS!A13892&configuracion!$C$10,\"\")","v":""},{"$f":"IF(B13892=\"\",\"\",TEXT(B13892, \"DD/MM/YYYY HH:MM:SS\"))","v":""}]
[null,null,null,null,null,null,null,{"$f":"IF(DATOS!A13901<>\"\",DATOS!A13901&configuracion!$C$10,\"\")","v":""},""]
[null,null,null,null,null,null,null,{"$f":"IF(DATOS!A13907<>\"\",DATOS!A13907&configuracion!$C$10,\"\")","v":""},""]
[null,null,null,null,null,null,null,{"$f":"IF(DATOS!A13912<>\"\",DATOS!A13912&configuracion!$C$10,\"\")","v":""},""]
[null,null,null,null,null,null,null,{"$f":"IF(DATOS!A13919<>\"\",DATOS!A13919&configuracion!$C$10,\"\")","v":""},""]
[null,null,null,null,null,null,null,{"$f":"IF(DATOS!A13922<>\"\",DATOS!A13922&configuracion!$C$10,\"\")","v":""},""]
[null,null,null,null,null,null,null,{"$f":"IF(DATOS!A13933<>\"\",DATOS!A13933&configuracion!$C$10,\"\")","v":""},""]
[null,null,null,null,null,null,null,{"$f":"IF(DATOS!A13939<>\"\",DATOS!A13939&configuracion!$C$10,\"\")","v":""},""]
[null,null,null,null,null,null,null,{"$f":"IF(DATOS!A13942<>\"\",DATOS!A13942&configuracion!$C$10,\"\")","v":""},""]
[null,null,null,null,null,null,null,{"$f":"IF(DATOS!A13951<>\"\",DATOS!A13951&configuracion!$C$10,\"\")","v":""},""]
[null,null,null,null,null,null,null,{"$f":"IF(DATOS!A13956<>\"\",DATOS!A13956&configuracion!$C$10,\"\")","v":""},{"$f":"IF(B13956=\"\",\"\",TEXT(B13956, \"DD/MM/YYYY HH:MM:SS\"))","v":""}]
[null,null,null,null,null,null,null,{"$f":"IF(DATOS!A13962<>\"\",DATOS!A13962&configuracion!$C$10,\"\")","v":""},""]
[null,null,null,null,null,null,null,{"$f":"IF(DATOS!A13969<>\"\",DATOS!A13969&configuracion!$C$10,\"\")","v":""},""]
[null,null,null,null,null,null,null,{"$f":"IF(DATOS!A13972<>\"\",DATOS!A13972&configuracion!$C$10,\"\")","v":""},""]
[null,null,null,null,null,null,null,{"$f":"IF(DATOS!A13982<>\"\",DATOS!A13982&configuracion!$C$10,\"\")","v":""},""]
[null,null,null,null,null,null,null,{"$f":"IF(DATOS!A13989<>\"\",DATOS!A13989&configuracion!$C$10,\"\")","v":""},""]
[null,null,null,null,null,null,null,{"$f":"IF(DATOS!A13992<>\"\",DATOS!A13992&configuracion!$C$10,\"\")","v":""},""]
[null,null,null,null,null,null,null,{"$f":"IF(DATOS!A14001<>\"\",DATOS!A14001&configuracion!$C$10,\"\")","v":""},""]
[null,null,null,null,null,null,null,{"$f":"IF(DATOS!A14005<>\"\",DATOS!A14005&configuracion!$C$10,\"\")","v":""},""]
[null,null,null,null,null,null,null,{"$f":"IF(DATOS!A14012<>\"\",DATOS!A14012&configuracion!$C$10,\"\")","v":""},""]
[null,null,null,null,null,null,null,{"$f":"IF(DATOS!A14019<>\"\",DATOS!A14019&configuracion!$C$10,\"\")","v":""},""]
[null,null,null,null,null,null,null,{"$f":"IF(DATOS!A14022<>\"\",DATOS!A14022&configuracion!$C$10,\"\")","v":""},""]
[null,null,null,null,null,null,null,{"$f":"IF(DATOS!A14031<>\"\",DATOS!A14031&configuracion!$C$10,\"\")","v":""},""]
[null,null,null,null,null,null,null,{"$f":"IF(DATOS!A14039<>\"\",DATOS!A14039&configuracion!$C$10,\"\")","v":""},""]
[null,null,null,null,null,null,null,{"$f":"IF(DATOS!A14042<>\"\",DATOS!A14042&configuracion!$C$10,\"\")","v":""},""]
[null,null,null,null,null,null,null,{"$f":"IF(DATOS!A14049<>\"\",DATOS!A14049&configuracion!$C$10,\"\")","v":""},""]
[null,null,null,null,null,null,null,{"$f":"IF(DATOS!A14054<>\"\",DATOS!A14054&configuracion!$C$10,\"\")","v":""},""]
[null,null,null,null,null,null,null,{"$f":"IF(DATOS!A14062<>\"\",DATOS!A14062&configuracion!$C$10,\"\")","v":""},""]
[null,null,null,null,null,null,null,{"$f":"IF(DATOS!A14069<>\"\",DATOS!A14069&configuracion!$C$10,\"\")","v":""},""]
[null,null,null,null,null,null,null,{"$f":"IF(DATOS!A14072<>\"\",DATOS!A14072&configuracion!$C$10,\"\")","v":""},""]
[null,null,null,null,null,null,null,{"$f":"IF(DATOS!A14080<>\"\",DATOS!A14080&configuracion!$C$10,\"\")","v":""},""]
[null,null,null,null,null,null,null,{"$f":"IF(DATOS!A14089<>\"\",DATOS!A14089&configuracion!$C$10,\"\")","v":""},""]
[null,null,null,null,null,null,null,{"$f":"IF(DATOS!A14092<>\"\",DATOS!A14092&configuracion!$C$10,\"\")","v":""},""]
[null,null,null,null,null,null,null,{"$f":"IF(DATOS!A14099<>\"\",DATOS!A14099&configuracion!$C$10,\"\")","v":""},""]
[null,null,null,null,null,null,null,{"$f":"IF(DATOS!A14103<>\"\",DATOS!A14103&configuracion!$C$10,\"\")","v":""},""]
[null,null,null,null,null,null,null,{"$f":"IF(DATOS!A14112<>\"\",DATOS!A14112&configuracion!$C$10,\"\")","v":""},""]
[null,null,null,null,null,null,null,{"$f":"IF(DATOS!A14119<>\"\",DATOS!A14119&configuracion!$C$10,\"\")","v":""},""]
[null,null,null,null,null,null,null,{"$f":"IF(DATOS!A14122<>\"\",DATOS!A14122&configuracion!$C$10,\"\")","v":""},""]
[null,null,null,null,null,null,null,{"$f":"IF(DATOS!A14133<>\"\",DATOS!A14133&configuracion!$C$10,\"\")","v":""},""]
[null,null,null,null,null,null,null,{"$f":"IF(DATOS!A14139<>\"\",DATOS!A14139&configuracion!$C$10,\"\")","v":""},""]
[null,null,null,null,null,null,null,{"$f":"IF(DATOS!A14142<>\"\",DATOS!A14142&configuracion!$C$10,\"\")","v":""},""]
[null,null,null,null,null,null,null,{"$f":"IF(DATOS!A14149<>\"\",DATOS!A14149&configuracion!$C$10,\"\")","v":""},""]
[null,null,null,null,null,null,null,{"$f":"IF(DATOS!A14159<>\"\",DATOS!A14159&configuracion!$C$10,\"\")","v":""},""]
[null,null,null,null,null,null,null,{"$f":"IF(DATOS!A14162<>\"\",DATOS!A14162&configuracion!$C$10,\"\")","v":""},""]
[null,null,null,null,null,null,null,{"$f":"IF(DATOS!A14169<>\"\",DATOS!A14169&configuracion!$C$10,\"\")","v":""},""]
[null,null,null,null,null,null,null,{"$f":"IF(DATOS!A14172<>\"\",DATOS!A14172&configuracion!$C$10,\"\")","v":""},""]
[null,null,null,null,null,null,null,{"$f":"IF(DATOS!A14182<>\"\",DATOS!A14182&configuracion!$C$10,\"\")","v":""},""]
[null,null,null,null,null,null,null,{"$f":"IF(DATOS!A14189<>\"\",DATOS!A14189&configuracion!$C$10,\"\")","v":""},""]
[null,null,null,null,null,null,null,{"$f":"IF(DATOS!A14192<>\"\",DATOS!A14192&configuracion!$C$10,\"\")","v":""},""]
[null,null,null,null,null,null,null,{"$f":"IF(DATOS!A14199<>\"\",DATOS!A14199&configuracion!$C$10,\"\")","v":""},""]
[null,null,null,null,null,null,null,{"$f":"IF(DATOS!A14208<>\"\",DATOS!A14208&configuracion!$C$10,\"\")","v":""},""]
[null,null,null,null,null,null,null,{"$f":"IF(DATOS!A14212<>\"\",DATOS!A14212&configuracion!$C$10,\"\")","v":""},{"$f":"IF(B14212=\"\",\"\",TEXT(B14212, \"DD/MM/YYYY HH:MM:SS\"))","v":""}]
[null,null,null,null,null,null,null,{"$f":"IF(DATOS!A14219<>\"\",DATOS!A14219&configuracion!$C$10,\"\")","v":""},""]
[null,null,null,null,null,null,null,{"$f":"IF(DATOS!A14222<>\"\",DATOS!A14222&configuracion!$C$10,\"\")","v":""},""]
[null,null,null,null,null,null,null,{"$f":"IF(DATOS!A14231<>\"\",DATOS!A14231&configuracion!$C$10,\"\")","v":""},""]
[null,null,null,null,null,null,null,{"$f":"IF(DATOS!A14239<>\"\",DATOS!A14239&configuracion!$C$10,\"\")","v":""},""]
[null,null,null,null,null,null,null,{"$f":"IF(DATOS!A14242<>\"\",DATOS!A14242&configuracion!$C$10,\"\")","v":""},""]
[null,null,null,null,null,null,null,{"$f":"IF(DATOS!A14249<>\"\",DATOS!A14249&configuracion!$C$10,\"\")","v":""},""]
[null,null,null,null,null,null,null,{"$f":"IF(DATOS!A14257<>\"\",DATOS!A14257&configuracion!$C$10,\"\")","v":""},""]
[null,null,null,null,null,null,null,{"$f":"IF(DATOS!A14260<>\"\",DATOS!A14260&configuracion!$C$10,\"\")","v":""},""]
[null,null,null,null,null,null,null,{"$f":"IF(DATOS!A14269<>\"\",DATOS!A14269&configuracion!$C$10,\"\")","v":""},""]
[null,null,null,null,null,null,null,{"$f":"IF(DATOS!A14272<>\"\",DATOS!A14272&configuracion!$C$10,\"\")","v":""},""]
[null,null,null,null,null,null,null,{"$f":"IF(DATOS!A14280<>\"\",DATOS!A14280&configuracion!$C$10,\"\")","v":""},""]
[null,null,null,null,null,null,null,{"$f":"IF(DATOS!A14289<>\"\",DATOS!A14289&configuracion!$C$10,\"\")","v":""},""]
[null,null,null,null,null,null,null,{"$f":"IF(DATOS!A14292<>\"\",DATOS!A14292&configuracion!$C$10,\"\")","v":""},""]
[null,null,null,null,null,null,null,{"$f":"IF(DATOS!A14299<>\"\",DATOS!A14299&configuracion!$C$10,\"\")","v":""},""]
[null,null,null,null,null,null,null,{"$f":"IF(DATOS!A14306<>\"\",DATOS!A14306&configuracion!$C$10,\"\")","v":""},""]
[null,null,null,null,null,null,null,{"$f":"IF(DATOS!A14310<>\"\",DATOS!A14310&configuracion!$C$10,\"\")","v":""},""]
[null,null,null,null,null,null,null,{"$f":"IF(DATOS!A14319<>\"\",DATOS!A14319&configuracion!$C$10,\"\")","v":""},""]
[null,null,null,null,null,null,null,{"$f":"IF(DATOS!A14322<>\"\",DATOS!A14322&configuracion!$C$10,\"\")","v":""},""]
[null,null,null,null,null,null,null,{"$f":"IF(DATOS!A14329<>\"\",DATOS!A14329&configuracion!$C$10,\"\")","v":""},""]
[null,null,null,null,null,null,null,{"$f":"IF(DATOS!A14339<>\"\",DATOS!A14339&configuracion!$C$10,\"\")","v":""},""]
[null,null,null,null,null,null,null,{"$f":"IF(DATOS!A14346<>\"\",DATOS!A14346&configuracion!$C$10,\"\")","v":""},""]
[null,null,null,null,null,null,null,{"$f":"IF(DATOS!A14349<>\"\",DATOS!A14349&configuracion!$C$10,\"\")","v":""},""]
[null,null,null,null,null,null,null,{"$f":"IF(DATOS!A14355<>\"\",DATOS!A14355&configuracion!$C$10,\"\")","v":""},""]
[null,null,null,null,null,null,null,{"$f":"IF(DATOS!A14360<>\"\",DATOS!A14360&configuracion!$C$10,\"\")","v":""},""]
[null,null,null,null,null,null,null,{"$f":"IF(DATOS!A14369<>\"\",DATOS!A14369&configuracion!$C$10,\"\")","v":""},""]
[null,null,null,null,null,null,null,{"$f":"IF(DATOS!A14372<>\"\",DATOS!A14372&configuracion!$C$10,\"\")","v":""},""]
[null,null,null,null,null,null,null,{"$f":"IF(DATOS!A14378<>\"\",DATOS!A14378&configuracion!$C$10,\"\")","v":""},""]
[null,null,null,null,null,null,null,{"$f":"IF(DATOS!A14389<>\"\",DATOS!A14389&configuracion!$C$10,\"\")","v":""},""]
[null,null,null,null,null,null,null,{"$f":"IF(DATOS!A14396<>\"\",DATOS!A14396&configuracion!$C$10,\"\")","v":""},""]
[null,null,null,null,null,null,null,{"$f":"IF(DATOS!A14399<>\"\",DATOS!A14399&configuracion!$C$10,\"\")","v":""},""]
[null,null,null,null,null,null,null,{"$f":"IF(DATOS!A14404<>\"\",DATOS!A14404&configuracion!$C$10,\"\")","v":""},{"$f":"IF(B14404=\"\",\"\",TEXT(B14404, \"DD/MM/YYYY HH:MM:SS\"))","v":""}]
[null,null,null,null,null,null,null,{"$f":"IF(DATOS!A14410<>\"\",DATOS!A14410&configuracion!$C$10,\"\")","v":""},""]
[null,null,null,null,null,null,null,{"$f":"IF(DATOS!A14419<>\"\",DATOS!A14419&configuracion!$C$10,\"\")","v":""},""]
[null,null,null,null,null,null,null,{"$f":"IF(DATOS!A14422<>\"\",DATOS!A14422&configuracion!$C$10,\"\")","v":""},""]
[null,null,null,null,null,null,null,{"$f":"IF(DATOS!A14434<>\"\",DATOS!A14434&configuracion!$C$10,\"\")","v":""},""]
[null,null,null,null,null,null,null,{"$f":"IF(DATOS!A14439<>\"\",DATOS!A14439&configuracion!$C$10,\"\")","v":""},""]
[null,null,null,null,null,null,null,{"$f":"IF(DATOS!A14446<>\"\",DATOS!A14446&configuracion!$C$10,\"\")","v":""},""]
[null,null,null,null,null,null,null,{"$f":"IF(DATOS!A14449<>\"\",DATOS!A14449&configuracion!$C$10,\"\")","v":""},""]
[null,null,null,null,null,null,null,{"$f":"IF(DATOS!A14453<>\"\",DATOS!A14453&configuracion!$C$10,\"\")","v":""},""]
[null,null,null,null,null,null,null,{"$f":"IF(DATOS!A14460<>\"\",DATOS!A14460&configuracion!$C$10,\"\")","v":""},""]
[null,null,null,null,null,null,null,{"$f":"IF(DATOS!A14469<>\"\",DATOS!A14469&configuracion!$C$10,\"\")","v":""},""]
[null,null,null,null,null,null,null,{"$f":"IF(DATOS!A14476<>\"\",DATOS!A14476&configuracion!$C$10,\"\")","v":""},""]
[null,null,null,null,null,null,null,{"$f":"IF(DATOS!A14483<>\"\",DATOS!A14483&configuracion!$C$10,\"\")","v":""},""]
[null,null,null,null,null,null,null,{"$f":"IF(DATOS!A14489<>\"\",DATOS!A14489&configuracion!$C$10,\"\")","v":""},""]
[null,null,null,null,null,null,null,{"$f":"IF(DATOS!A14496<>\"\",DATOS!A14496&configuracion!$C$10,\"\")","v":""},""]
[null,null,null,null,null,null,null,{"$f":"IF(DATOS!A14502<>\"\",DATOS!A14502&configuracion!$C$10,\"\")","v":""},""]
[null,null,null,null,null,null,null,{"$f":"IF(DATOS!A14504<>\"\",DATOS!A14504&configuracion!$C$10,\"\")","v":""},""]
[null,null,null,null,null,null,null,{"$f":"IF(DATOS!A14505<>\"\",DATOS!A14505&configuracion!$C$10,\"\")","v":""},""]
[null,null,null,null,null,null,null,{"$f":"IF(DATOS!A14506<>\"\",DATOS!A14506&configuracion!$C$10,\"\")","v":""},""]
[null,null,null,null,null,null,null,{"$f":"IF(DATOS!A14507<>\"\",DATOS!A14507&configuracion!$C$10,\"\")","v":""},""]
[null,null,null,null,null,null,null,{"$f":"IF(DATOS!A14508<>\"\",DATOS!A14508&configuracion!$C$10,\"\")","v":""},""]
[null,null,null,null,null,null,null,{"$f":"IF(DATOS!A14509<>\"\",DATOS!A14509&configuracion!$C$10,\"\")","v":""},""]
[null,null,null,null,null,null,null,{"$f":"IF(DATOS!A14510<>\"\",DATOS!A14510&configuracion!$C$10,\"\")","v":""},""]
[null,null,null,null,null,null,null,{"$f":"IF(DATOS!A14511<>\"\",DATOS!A14511&configuracion!$C$10,\"\")","v":""},""]
[null,null,null,null,null,null,null,{"$f":"IF(DATOS!A14512<>\"\",DATOS!A14512&configuracion!$C$10,\"\")","v":""},""]
[null,null,null,null,null,null,null,{"$f":"IF(DATOS!A14513<>\"\",DATOS!A14513&configuracion!$C$10,\"\")","v":""},""]
[null,null,null,null,null,null,null,{"$f":"IF(DATOS!A14514<>\"\",DATOS!A14514&configuracion!$C$10,\"\")","v":""},""]
[null,null,null,null,null,null,null,{"$f":"IF(DATOS!A14515<>\"\",DATOS!A14515&configuracion!$C$10,\"\")","v":""},""]
[null,null,null,null,null,null,null,{"$f":"IF(DATOS!A14516<>\"\",DATOS!A14516&configuracion!$C$10,\"\")","v":""},""]
[null,null,null,null,null,null,null,{"$f":"IF(DATOS!A14517<>\"\",DATOS!A14517&configuracion!$C$10,\"\")","v":""},""]
[null,null,null,null,null,null,null,{"$f":"IF(DATOS!A14518<>\"\",DATOS!A14518&configuracion!$C$10,\"\")","v":""},""]
[null,null,null,null,null,null,null,{"$f":"IF(DATOS!A14519<>\"\",DATOS!A14519&configuracion!$C$10,\"\")","v":""},""]
[null,null,null,null,null,null,null,{"$f":"IF(DATOS!A14520<>\"\",DATOS!A14520&configuracion!$C$10,\"\")","v":""},""]
[null,null,null,null,null,null,null,{"$f":"IF(DATOS!A14521<>\"\",DATOS!A14521&configuracion!$C$10,\"\")","v":""},""]
[null,null,null,null,null,null,null,{"$f":"IF(DATOS!A14522<>\"\",DATOS!A14522&configuracion!$C$10,\"\")","v":""},""]
[null,null,null,null,null,null,null,{"$f":"IF(DATOS!A14523<>\"\",DATOS!A14523&configuracion!$C$10,\"\")","v":""},""]
[null,null,null,null,null,null,null,{"$f":"IF(DATOS!A14524<>\"\",DATOS!A14524&configuracion!$C$10,\"\")","v":""},""]
[null,null,null,null,null,null,null,{"$f":"IF(DATOS!A14525<>\"\",DATOS!A14525&configuracion!$C$10,\"\")","v":""},""]
[null,null,null,null,null,null,null,{"$f":"IF(DATOS!A14526<>\"\",DATOS!A14526&configuracion!$C$10,\"\")","v":""},""]
[null,null,null,null,null,null,null,{"$f":"IF(DATOS!A14527<>\"\",DATOS!A14527&configuracion!$C$10,\"\")","v":""},""]
[null,null,null,null,null,null,null,{"$f":"IF(DATOS!A14528<>\"\",DATOS!A14528&configuracion!$C$10,\"\")","v":""},""]
[null,null,null,null,null,null,null,{"$f":"IF(DATOS!A14529<>\"\",DATOS!A14529&configuracion!$C$10,\"\")","v":""},""]
[null,null,null,null,null,null,null,{"$f":"IF(DATOS!A14530<>\"\",DATOS!A14530&configuracion!$C$10,\"\")","v":""},""]
[null,null,null,null,null,null,null,{"$f":"IF(DATOS!A14531<>\"\",DATOS!A14531&configuracion!$C$10,\"\")","v":""},""]
[null,null,null,null,null,null,null,{"$f":"IF(DATOS!A14532<>\"\",DATOS!A14532&configuracion!$C$10,\"\")","v":""},{"$f":"IF(B14532=\"\",\"\",TEXT(B14532, \"DD/MM/YYYY HH:MM:SS\"))","v":""}]
[null,null,null,null,null,null,null,{"$f":"IF(DATOS!A14533<>\"\",DATOS!A14533&configuracion!$C$10,\"\")","v":""},""]
[null,null,null,null,null,null,null,{"$f":"IF(DATOS!A14534<>\"\",DATOS!A14534&configuracion!$C$10,\"\")","v":""},""]
[null,null,null,null,null,null,null,{"$f":"IF(DATOS!A14535<>\"\",DATOS!A14535&configuracion!$C$10,\"\")","v":""},""]
[null,null,null,null,null,null,null,{"$f":"IF(DATOS!A14536<>\"\",DATOS!A14536&configuracion!$C$10,\"\")","v":""},""]
[null,null,null,null,null,null,null,{"$f":"IF(DATOS!A14537<>\"\",DATOS!A14537&configuracion!$C$10,\"\")","v":""},""]
[null,null,null,null,null,null,null,{"$f":"IF(DATOS!A14538<>\"\",DATOS!A14538&configuracion!$C$10,\"\")","v":""},""]
[null,null,null,null,null,null,null,{"$f":"IF(DATOS!A14539<>\"\",DATOS!A14539&configuracion!$C$10,\"\")","v":""},""]
[null,null,null,null,null,null,null,{"$f":"IF(DATOS!A14540<>\"\",DATOS!A14540&configuracion!$C$10,\"\")","v":""},""]
[null,null,null,null,null,null,null,{"$f":"IF(DATOS!A14541<>\"\",DATOS!A14541&configuracion!$C$10,\"\")","v":""},""]
[null,null,null,null,null,null,null,{"$f":"IF(DATOS!A14542<>\"\",DATOS!A14542&configuracion!$C$10,\"\")","v":""},""]
[null,null,null,null,null,null,null,{"$f":"IF(DATOS!A14543<>\"\",DATOS!A14543&configuracion!$C$10,\"\")","v":""},""]
[null,null,null,null,null,null,null,{"$f":"IF(DATOS!A14544<>\"\",DATOS!A14544&configuracion!$C$10,\"\")","v":""},""]
[null,null,null,null,null,null,null,{"$f":"IF(DATOS!A14545<>\"\",DATOS!A14545&configuracion!$C$10,\"\")","v":""},""]
[null,null,null,null,null,null,null,{"$f":"IF(DATOS!A14546<>\"\",DATOS!A14546&configuracion!$C$10,\"\")","v":""},""]
[null,null,null,null,null,null,null,{"$f":"IF(DATOS!A14547<>\"\",DATOS!A14547&configuracion!$C$10,\"\")","v":""},""]
[null,null,null,null,null,null,null,{"$f":"IF(DATOS!A14548<>\"\",DATOS!A14548&configuracion!$C$10,\"\")","v":""},""]
[null,null,null,null,null,null,null,{"$f":"IF(DATOS!A14549<>\"\",DATOS!A14549&configuracion!$C$10,\"\")","v":""},""]
[null,null,null,null,null,null,null,{"$f":"IF(DATOS!A14550<>\"\",DATOS!A14550&configuracion!$C$10,\"\")","v":""},""]
[null,null,null,null,null,null,null,{"$f":"IF(DATOS!A14551<>\"\",DATOS!A14551&configuracion!$C$10,\"\")","v":""},""]
[null,null,null,null,null,null,null,{"$f":"IF(DATOS!A14552<>\"\",DATOS!A14552&configuracion!$C$10,\"\")","v":""},""]
[null,null,null,null,null,null,null,{"$f":"IF(DATOS!A14553<>\"\",DATOS!A14553&configuracion!$C$10,\"\")","v":""},""]
[null,null,null,null,null,null,null,{"$f":"IF(DATOS!A14554<>\"\",DATOS!A14554&configuracion!$C$10,\"\")","v":""},""]
[null,null,null,null,null,null,null,{"$f":"IF(DATOS!A14555<>\"\",DATOS!A14555&configuracion!$C$10,\"\")","v":""},""]
[null,null,null,null,null,null,null,{"$f":"IF(DATOS!A14556<>\"\",DATOS!A14556&configuracion!$C$10,\"\")","v":""},""]
[null,null,null,null,null,null,null,{"$f":"IF(DATOS!A14557<>\"\",DATOS!A14557&configuracion!$C$10,\"\")","v":""},""]
[null,null,null,null,null,null,null,{"$f":"IF(DATOS!A14558<>\"\",DATOS!A14558&configuracion!$C$10,\"\")","v":""},""]
[null,null,null,null,null,null,null,{"$f":"IF(DATOS!A14559<>\"\",DATOS!A14559&configuracion!$C$10,\"\")","v":""},""]
[null,null,null,null,null,null,null,{"$f":"IF(DATOS!A14560<>\"\",DATOS!A14560&configuracion!$C$10,\"\")","v":""},""]
[null,null,null,null,null,null,null,{"$f":"IF(DATOS!A14561<>\"\",DATOS!A14561&configuracion!$C$10,\"\")","v":""},""]
[null,null,null,null,null,null,null,{"$f":"IF(DATOS!A14562<>\"\",DATOS!A14562&configuracion!$C$10,\"\")","v":""},""]
[null,null,null,null,null,null,null,{"$f":"IF(DATOS!A14563<>\"\",DATOS!A14563&configuracion!$C$10,\"\")","v":""},""]
[null,null,null,null,null,null,null,{"$f":"IF(DATOS!A14564<>\"\",DATOS!A14564&configuracion!$C$10,\"\")","v":""},""]
[null,null,null,null,null,null,null,{"$f":"IF(DATOS!A14565<>\"\",DATOS!A14565&configuracion!$C$10,\"\")","v":""},""]
[null,null,null,null,null,null,null,{"$f":"IF(DATOS!A14566<>\"\",DATOS!A14566&configuracion!$C$10,\"\")","v":""},""]
[null,null,null,null,null,null,null,{"$f":"IF(DATOS!A14567<>\"\",DATOS!A14567&configuracion!$C$10,\"\")","v":""},""]
[null,null,null,null,null,null,null,{"$f":"IF(DATOS!A14568<>\"\",DATOS!A14568&configuracion!$C$10,\"\")","v":""},""]
[null,null,null,null,null,null,null,{"$f":"IF(DATOS!A14569<>\"\",DATOS!A14569&configuracion!$C$10,\"\")","v":""},""]
[null,null,null,null,null,null,null,{"$f":"IF(DATOS!A14570<>\"\",DATOS!A14570&configuracion!$C$10,\"\")","v":""},""]
[null,null,null,null,null,null,null,{"$f":"IF(DATOS!A14571<>\"\",DATOS!A14571&configuracion!$C$10,\"\")","v":""},""]
[null,null,null,null,null,null,null,{"$f":"IF(DATOS!A14572<>\"\",DATOS!A14572&configuracion!$C$10,\"\")","v":""},""]
[null,null,null,null,null,null,null,{"$f":"IF(DATOS!A14573<>\"\",DATOS!A14573&configuracion!$C$10,\"\")","v":""},""]
[null,null,null,null,null,null,null,{"$f":"IF(DATOS!A14574<>\"\",DATOS!A14574&configuracion!$C$10,\"\")","v":""},""]
[null,null,null,null,null,null,null,{"$f":"IF(DATOS!A14575<>\"\",DATOS!A14575&configuracion!$C$10,\"\")","v":""},""]
[null,null,null,null,null,null,null,{"$f":"IF(DATOS!A14576<>\"\",DATOS!A14576&configuracion!$C$10,\"\")","v":""},""]
[null,null,null,null,null,null,null,{"$f":"IF(DATOS!A14577<>\"\",DATOS!A14577&configuracion!$C$10,\"\")","v":""},""]
[null,null,null,null,null,null,null,{"$f":"IF(DATOS!A14578<>\"\",DATOS!A14578&configuracion!$C$10,\"\")","v":""},""]
[null,null,null,null,null,null,null,{"$f":"IF(DATOS!A14579<>\"\",DATOS!A14579&configuracion!$C$10,\"\")","v":""},""]
[null,null,null,null,null,null,null,{"$f":"IF(DATOS!A14580<>\"\",DATOS!A14580&configuracion!$C$10,\"\")","v":""},""]
[null,null,null,null,null,null,null,{"$f":"IF(DATOS!A14581<>\"\",DATOS!A14581&configuracion!$C$10,\"\")","v":""},""]
[null,null,null,null,null,null,null,{"$f":"IF(DATOS!A14582<>\"\",DATOS!A14582&configuracion!$C$10,\"\")","v":""},""]
[null,null,null,null,null,null,null,{"$f":"IF(DATOS!A14583<>\"\",DATOS!A14583&configuracion!$C$10,\"\")","v":""},""]
[null,null,null,null,null,null,null,{"$f":"IF(DATOS!A14584<>\"\",DATOS!A14584&configuracion!$C$10,\"\")","v":""},""]
[null,null,null,null,null,null,null,{"$f":"IF(DATOS!A14585<>\"\",DATOS!A14585&configuracion!$C$10,\"\")","v":""},""]
[null,null,null,null,null,null,null,{"$f":"IF(DATOS!A14586<>\"\",DATOS!A14586&configuracion!$C$10,\"\")","v":""},""]
[null,null,null,null,null,null,null,{"$f":"IF(DATOS!A14587<>\"\",DATOS!A14587&configuracion!$C$10,\"\")","v":""},""]
[null,null,null,null,null,null,null,{"$f":"IF(DATOS!A14588<>\"\",DATOS!A14588&configuracion!$C$10,\"\")","v":""},""]
[null,null,null,null,null,null,null,{"$f":"IF(DATOS!A14589<>\"\",DATOS!A14589&configuracion!$C$10,\"\")","v":""},""]
[null,null,null,null,null,null,null,{"$f":"IF(DATOS!A14590<>\"\",DATOS!A14590&configuracion!$C$10,\"\")","v":""},""]
[null,null,null,null,null,null,null,{"$f":"IF(DATOS!A14591<>\"\",DATOS!A14591&configuracion!$C$10,\"\")","v":""},""]
[null,null,null,null,null,null,null,{"$f":"IF(DATOS!A14592<>\"\",DATOS!A14592&configuracion!$C$10,\"\")","v":""},""]
[null,null,null,null,null,null,null,{"$f":"IF(DATOS!A14593<>\"\",DATOS!A14593&configuracion!$C$10,\"\")","v":""},""]
[null,null,null,null,null,null,null,{"$f":"IF(DATOS!A14594<>\"\",DATOS!A14594&configuracion!$C$10,\"\")","v":""},""]
[null,null,null,null,null,null,null,{"$f":"IF(DATOS!A14595<>\"\",DATOS!A14595&configuracion!$C$10,\"\")","v":""},""]
[null,null,null,null,null,null,null,{"$f":"IF(DATOS!A14596<>\"\",DATOS!A14596&configuracion!$C$10,\"\")","v":""},{"$f":"IF(B14596=\"\",\"\",TEXT(B14596, \"DD/MM/YYYY HH:MM:SS\"))","v":""}]
[null,null,null,null,null,null,null,{"$f":"IF(DATOS!A14597<>\"\",DATOS!A14597&configuracion!$C$10,\"\")","v":""},""]
[null,null,null,null,null,null,null,{"$f":"IF(DATOS!A14598<>\"\",DATOS!A14598&configuracion!$C$10,\"\")","v":""},""]
[null,null,null,null,null,null,null,{"$f":"IF(DATOS!A14599<>\"\",DATOS!A14599&configuracion!$C$10,\"\")","v":""},""]
[null,null,null,null,null,null,null,{"$f":"IF(DATOS!A14600<>\"\",DATOS!A14600&configuracion!$C$10,\"\")","v":""},""]
[null,null,null,null,null,null,null,{"$f":"IF(DATOS!A14601<>\"\",DATOS!A14601&configuracion!$C$10,\"\")","v":""},""]
[null,null,null,null,null,null,null,{"$f":"IF(DATOS!A14602<>\"\",DATOS!A14602&configuracion!$C$10,\"\")","v":""},""]
[null,null,null,null,null,null,null,{"$f":"IF(DATOS!A14603<>\"\",DATOS!A14603&configuracion!$C$10,\"\")","v":""},""]
[null,null,null,null,null,null,null,{"$f":"IF(DATOS!A14604<>\"\",DATOS!A14604&configuracion!$C$10,\"\")","v":""},""]
[null,null,null,null,null,null,null,{"$f":"IF(DATOS!A14605<>\"\",DATOS!A14605&configuracion!$C$10,\"\")","v":""},""]
[null,null,null,null,null,null,null,{"$f":"IF(DATOS!A14606<>\"\",DATOS!A14606&configuracion!$C$10,\"\")","v":""},""]
[null,null,null,null,null,null,null,{"$f":"IF(DATOS!A14607<>\"\",DATOS!A14607&configuracion!$C$10,\"\")","v":""},""]
[null,null,null,null,null,null,null,{"$f":"IF(DATOS!A14608<>\"\",DATOS!A14608&configuracion!$C$10,\"\")","v":""},""]
[null,null,null,null,null,null,null,{"$f":"IF(DATOS!A14609<>\"\",DATOS!A14609&configuracion!$C$10,\"\")","v":""},""]
[null,null,null,null,null,null,null,{"$f":"IF(DATOS!A14610<>\"\",DATOS!A14610&configuracion!$C$10,\"\")","v":""},""]
[null,null,null,null,null,null,null,{"$f":"IF(DATOS!A14611<>\"\",DATOS!A14611&configuracion!$C$10,\"\")","v":""},""]
[null,null,null,null,null,null,null,{"$f":"IF(DATOS!A14612<>\"\",DATOS!A14612&configuracion!$C$10,\"\")","v":""},""]
[null,null,null,null,null,null,null,{"$f":"IF(DATOS!A14613<>\"\",DATOS!A14613&configuracion!$C$10,\"\")","v":""},""]
[null,null,null,null,null,null,null,{"$f":"IF(DATOS!A14614<>\"\",DATOS!A14614&configuracion!$C$10,\"\")","v":""},""]
[null,null,null,null,null,null,null,{"$f":"IF(DATOS!A14615<>\"\",DATOS!A14615&configuracion!$C$10,\"\")","v":""},""]
[null,null,null,null,null,null,null,{"$f":"IF(DATOS!A14616<>\"\",DATOS!A14616&configuracion!$C$10,\"\")","v":""},""]
[null,null,null,null,null,null,null,{"$f":"IF(DATOS!A14617<>\"\",DATOS!A14617&configuracion!$C$10,\"\")","v":""},""]
[null,null,null,null,null,null,null,{"$f":"IF(DATOS!A14618<>\"\",DATOS!A14618&configuracion!$C$10,\"\")","v":""},""]
[null,null,null,null,null,null,null,{"$f":"IF(DATOS!A14619<>\"\",DATOS!A14619&configuracion!$C$10,\"\")","v":""},""]
[null,null,null,null,null,null,null,{"$f":"IF(DATOS!A14620<>\"\",DATOS!A14620&configuracion!$C$10,\"\")","v":""},""]
[null,null,null,null,null,null,null,{"$f":"IF(DATOS!A14621<>\"\",DATOS!A14621&configuracion!$C$10,\"\")","v":""},""]
[null,null,null,null,null,null,null,{"$f":"IF(DATOS!A14622<>\"\",DATOS!A14622&configuracion!$C$10,\"\")","v":""},""]
[null,null,null,null,null,null,null,{"$f":"IF(DATOS!A14623<>\"\",DATOS!A14623&configuracion!$C$10,\"\")","v":""},""]
[null,null,null,null,null,null,null,{"$f":"IF(DATOS!A14624<>\"\",DATOS!A14624&configuracion!$C$10,\"\")","v":""},""]
[null,null,null,null,null,null,null,{"$f":"IF(DATOS!A14625<>\"\",DATOS!A14625&configuracion!$C$10,\"\")","v":""},""]
[null,null,null,null,null,null,null,{"$f":"IF(DATOS!A14626<>\"\",DATOS!A14626&configuracion!$C$10,\"\")","v":""},""]
[null,null,null,null,null,null,null,{"$f":"IF(DATOS!A14627<>\"\",DATOS!A14627&configuracion!$C$10,\"\")","v":""},""]
[null,null,null,null,null,null,null,{"$f":"IF(DATOS!A14628<>\"\",DATOS!A14628&configuracion!$C$10,\"\")","v":""},""]
[null,null,null,null,null,null,null,{"$f":"IF(DATOS!A14629<>\"\",DATOS!A14629&configuracion!$C$10,\"\")","v":""},""]
[null,null,null,null,null,null,null,{"$f":"IF(DATOS!A14630<>\"\",DATOS!A14630&configuracion!$C$10,\"\")","v":""},""]
[null,null,null,null,null,null,null,{"$f":"IF(DATOS!A14631<>\"\",DATOS!A14631&configuracion!$C$10,\"\")","v":""},""]
[null,null,null,null,null,null,null,{"$f":"IF(DATOS!A14632<>\"\",DATOS!A14632&configuracion!$C$10,\"\")","v":""},""]
[null,null,null,null,null,null,null,{"$f":"IF(DATOS!A14633<>\"\",DATOS!A14633&configuracion!$C$10,\"\")","v":""},""]
[null,null,null,null,null,null,null,{"$f":"IF(DATOS!A14634<>\"\",DATOS!A14634&configuracion!$C$10,\"\")","v":""},""]
[null,null,null,null,null,null,null,{"$f":"IF(DATOS!A14635<>\"\",DATOS!A14635&configuracion!$C$10,\"\")","v":""},""]
[null,null,null,null,null,null,null,{"$f":"IF(DATOS!A14636<>\"\",DATOS!A14636&configuracion!$C$10,\"\")","v":""},""]
[null,null,null,null,null,null,null,{"$f":"IF(DATOS!A14637<>\"\",DATOS!A14637&configuracion!$C$10,\"\")","v":""},""]
[null,null,null,null,null,null,null,{"$f":"IF(DATOS!A14638<>\"\",DATOS!A14638&configuracion!$C$10,\"\")","v":""},""]
[null,null,null,null,null,null,null,{"$f":"IF(DATOS!A14639<>\"\",DATOS!A14639&configuracion!$C$10,\"\")","v":""},""]
[null,null,null,null,null,null,null,{"$f":"IF(DATOS!A14640<>\"\",DATOS!A14640&configuracion!$C$10,\"\")","v":""},""]
[null,null,null,null,null,null,null,{"$f":"IF(DATOS!A14641<>\"\",DATOS!A14641&configuracion!$C$10,\"\")","v":""},""]
[null,null,null,null,null,null,null,{"$f":"IF(DATOS!A14642<>\"\",DATOS!A14642&configuracion!$C$10,\"\")","v":""},""]
[null,null,null,null,null,null,null,{"$f":"IF(DATOS!A14643<>\"\",DATOS!A14643&configuracion!$C$10,\"\")","v":""},""]
[null,null,null,null,null,null,null,{"$f":"IF(DATOS!A14644<>\"\",DATOS!A14644&configuracion!$C$10,\"\")","v":""},""]
[null,null,null,null,null,null,null,{"$f":"IF(DATOS!A14645<>\"\",DATOS!A14645&configuracion!$C$10,\"\")","v":""},""]
[null,null,null,null,null,null,null,{"$f":"IF(DATOS!A14646<>\"\",DATOS!A14646&configuracion!$C$10,\"\")","v":""},""]
[null,null,null,null,null,null,null,{"$f":"IF(DATOS!A14647<>\"\",DATOS!A14647&configuracion!$C$10,\"\")","v":""},""]
[null,null,null,null,null,null,null,{"$f":"IF(DATOS!A14648<>\"\",DATOS!A14648&configuracion!$C$10,\"\")","v":""},""]
[null,null,null,null,null,null,null,{"$f":"IF(DATOS!A14649<>\"\",DATOS!A14649&configuracion!$C$10,\"\")","v":""},""]
[null,null,null,null,null,null,null,{"$f":"IF(DATOS!A14650<>\"\",DATOS!A14650&configuracion!$C$10,\"\")","v":""},""]
[null,null,null,null,null,null,null,{"$f":"IF(DATOS!A14651<>\"\",DATOS!A14651&configuracion!$C$10,\"\")","v":""},""]
[null,null,null,null,null,null,null,{"$f":"IF(DATOS!A14652<>\"\",DATOS!A14652&configuracion!$C$10,\"\")","v":""},""]
[null,null,null,null,null,null,null,{"$f":"IF(DATOS!A14653<>\"\",DATOS!A14653&configuracion!$C$10,\"\")","v":""},""]
[null,null,null,null,null,null,null,{"$f":"IF(DATOS!A14654<>\"\",DATOS!A14654&configuracion!$C$10,\"\")","v":""},""]
[null,null,null,null,null,null,null,{"$f":"IF(DATOS!A14655<>\"\",DATOS!A14655&configuracion!$C$10,\"\")","v":""},""]
[null,null,null,null,null,null,null,{"$f":"IF(DATOS!A14656<>\"\",DATOS!A14656&configuracion!$C$10,\"\")","v":""},""]
[null,null,null,null,null,null,null,{"$f":"IF(DATOS!A14657<>\"\",DATOS!A14657&configuracion!$C$10,\"\")","v":""},""]
[null,null,null,null,null,null,null,{"$f":"IF(DATOS!A14658<>\"\",DATOS!A14658&configuracion!$C$10,\"\")","v":""},""]
[null,null,null,null,null,null,null,{"$f":"IF(DATOS!A14659<>\"\",DATOS!A14659&configuracion!$C$10,\"\")","v":""},""]
[null,null,null,null,null,null,null,{"$f":"IF(DATOS!A14660<>\"\",DATOS!A14660&configuracion!$C$10,\"\")","v":""},{"$f":"IF(B14660=\"\",\"\",TEXT(B14660, \"DD/MM/YYYY HH:MM:SS\"))","v":""}]
[null,null,null,null,null,null,null,{"$f":"IF(DATOS!A14661<>\"\",DATOS!A14661&configuracion!$C$10,\"\")","v":""},""]
[null,null,null,null,null,null,null,{"$f":"IF(DATOS!A14662<>\"\",DATOS!A14662&configuracion!$C$10,\"\")","v":""},""]
[null,null,null,null,null,null,null,{"$f":"IF(DATOS!A14663<>\"\",DATOS!A14663&configuracion!$C$10,\"\")","v":""},""]
[null,null,null,null,null,null,null,{"$f":"IF(DATOS!A14664<>\"\",DATOS!A14664&configuracion!$C$10,\"\")","v":""},""]
[null,null,null,null,null,null,null,{"$f":"IF(DATOS!A14665<>\"\",DATOS!A14665&configuracion!$C$10,\"\")","v":""},""]
[null,null,null,null,null,null,null,{"$f":"IF(DATOS!A14666<>\"\",DATOS!A14666&configuracion!$C$10,\"\")","v":""},""]
[null,null,null,null,null,null,null,{"$f":"IF(DATOS!A14667<>\"\",DATOS!A14667&configuracion!$C$10,\"\")","v":""},""]
[null,null,null,null,null,null,null,{"$f":"IF(DATOS!A14668<>\"\",DATOS!A14668&configuracion!$C$10,\"\")","v":""},""]
[null,null,null,null,null,null,null,{"$f":"IF(DATOS!A14669<>\"\",DATOS!A14669&configuracion!$C$10,\"\")","v":""},""]
[null,null,null,null,null,null,null,{"$f":"IF(DATOS!A14670<>\"\",DATOS!A14670&configuracion!$C$10,\"\")","v":""},""]
[null,null,null,null,null,null,null,{"$f":"IF(DATOS!A14671<>\"\",DATOS!A14671&configuracion!$C$10,\"\")","v":""},""]
[null,null,null,null,null,null,null,{"$f":"IF(DATOS!A14672<>\"\",DATOS!A14672&configuracion!$C$10,\"\")","v":""},""]
[null,null,null,null,null,null,null,{"$f":"IF(DATOS!A14673<>\"\",DATOS!A14673&configuracion!$C$10,\"\")","v":""},""]
[null,null,null,null,null,null,null,{"$f":"IF(DATOS!A14674<>\"\",DATOS!A14674&configuracion!$C$10,\"\")","v":""},""]
[null,null,null,null,null,null,null,{"$f":"IF(DATOS!A14675<>\"\",DATOS!A14675&configuracion!$C$10,\"\")","v":""},""]
[null,null,null,null,null,null,null,{"$f":"IF(DATOS!A14676<>\"\",DATOS!A14676&configuracion!$C$10,\"\")","v":""},""]
[null,null,null,null,null,null,null,{"$f":"IF(DATOS!A14677<>\"\",DATOS!A14677&configuracion!$C$10,\"\")","v":""},""]
[null,null,null,null,null,null,null,{"$f":"IF(DATOS!A14678<>\"\",DATOS!A14678&configuracion!$C$10,\"\")","v":""},""]
[null,null,null,null,null,null,null,{"$f":"IF(DATOS!A14679<>\"\",DATOS!A14679&configuracion!$C$10,\"\")","v":""},""]
[null,null,null,null,null,null,null,{"$f":"IF(DATOS!A14680<>\"\",DATOS!A14680&configuracion!$C$10,\"\")","v":""},""]
[null,null,null,null,null,null,null,{"$f":"IF(DATOS!A14681<>\"\",DATOS!A14681&configuracion!$C$10,\"\")","v":""},""]
[null,null,null,null,null,null,null,{"$f":"IF(DATOS!A14682<>\"\",DATOS!A14682&configuracion!$C$10,\"\")","v":""},""]
[null,null,null,null,null,null,null,{"$f":"IF(DATOS!A14683<>\"\",DATOS!A14683&configuracion!$C$10,\"\")","v":""},""]
[null,null,null,null,null,null,null,{"$f":"IF(DATOS!A14684<>\"\",DATOS!A14684&configuracion!$C$10,\"\")","v":""},""]
[null,null,null,null,null,null,null,{"$f":"IF(DATOS!A14685<>\"\",DATOS!A14685&configuracion!$C$10,\"\")","v":""},""]
[null,null,null,null,null,null,null,{"$f":"IF(DATOS!A14686<>\"\",DATOS!A14686&configuracion!$C$10,\"\")","v":""},""]
[null,null,null,null,null,null,null,{"$f":"IF(DATOS!A14687<>\"\",DATOS!A14687&configuracion!$C$10,\"\")","v":""},""]
[null,null,null,null,null,null,null,{"$f":"IF(DATOS!A14688<>\"\",DATOS!A14688&configuracion!$C$10,\"\")","v":""},""]
[null,null,null,null,null,null,null,{"$f":"IF(DATOS!A14689<>\"\",DATOS!A14689&configuracion!$C$10,\"\")","v":""},""]
[null,null,null,null,null,null,null,{"$f":"IF(DATOS!A14690<>\"\",DATOS!A14690&configuracion!$C$10,\"\")","v":""},""]
[null,null,null,null,null,null,null,{"$f":"IF(DATOS!A14691<>\"\",DATOS!A14691&configuracion!$C$10,\"\")","v":""},""]
[null,null,null,null,null,null,null,{"$f":"IF(DATOS!A14692<>\"\",DATOS!A14692&configuracion!$C$10,\"\")","v":""},""]
[null,null,null,null,null,null,null,{"$f":"IF(DATOS!A14693<>\"\",DATOS!A14693&configuracion!$C$10,\"\")","v":""},""]
[null,null,null,null,null,null,null,{"$f":"IF(DATOS!A14694<>\"\",DATOS!A14694&configuracion!$C$10,\"\")","v":""},""]
[null,null,null,null,null,null,null,{"$f":"IF(DATOS!A14695<>\"\",DATOS!A14695&configuracion!$C$10,\"\")","v":""},""]
[null,null,null,null,null,null,null,{"$f":"IF(DATOS!A14696<>\"\",DATOS!A14696&configuracion!$C$10,\"\")","v":""},""]
[null,null,null,null,null,null,null,{"$f":"IF(DATOS!A14697<>\"\",DATOS!A14697&configuracion!$C$10,\"\")","v":""},""]
[null,null,null,null,null,null,null,{"$f":"IF(DATOS!A14698<>\"\",DATOS!A14698&configuracion!$C$10,\"\")","v":""},""]
[null,null,null,null,null,null,null,{"$f":"IF(DATOS!A14699<>\"\",DATOS!A14699&configuracion!$C$10,\"\")","v":""},""]
[null,null,null,null,null,null,null,{"$f":"IF(DATOS!A14700<>\"\",DATOS!A14700&configuracion!$C$10,\"\")","v":""},""]
[null,null,null,null,null,null,null,{"$f":"IF(DATOS!A14701<>\"\",DATOS!A14701&configuracion!$C$10,\"\")","v":""},""]
[null,null,null,null,null,null,null,{"$f":"IF(DATOS!A14702<>\"\",DATOS!A14702&configuracion!$C$10,\"\")","v":""},""]
[null,null,null,null,null,null,null,{"$f":"IF(DATOS!A14703<>\"\",DATOS!A14703&configuracion!$C$10,\"\")","v":""},""]
[null,null,null,null,null,null,null,{"$f":"IF(DATOS!A14704<>\"\",DATOS!A14704&configuracion!$C$10,\"\")","v":""},""]
[null,null,null,null,null,null,null,{"$f":"IF(DATOS!A14705<>\"\",DATOS!A14705&configuracion!$C$10,\"\")","v":""},""]
[null,null,null,null,null,null,null,{"$f":"IF(DATOS!A14706<>\"\",DATOS!A14706&configuracion!$C$10,\"\")","v":""},""]
[null,null,null,null,null,null,null,{"$f":"IF(DATOS!A14707<>\"\",DATOS!A14707&configuracion!$C$10,\"\")","v":""},""]
[null,null,null,null,null,null,null,{"$f":"IF(DATOS!A14708<>\"\",DATOS!A14708&configuracion!$C$10,\"\")","v":""},""]
[null,null,null,null,null,null,null,{"$f":"IF(DATOS!A14709<>\"\",DATOS!A14709&configuracion!$C$10,\"\")","v":""},""]
[null,null,null,null,null,null,null,{"$f":"IF(DATOS!A14710<>\"\",DATOS!A14710&configuracion!$C$10,\"\")","v":""},""]
[null,null,null,null,null,null,null,{"$f":"IF(DATOS!A14711<>\"\",DATOS!A14711&configuracion!$C$10,\"\")","v":""},""]
[null,null,null,null,null,null,null,{"$f":"IF(DATOS!A14712<>\"\",DATOS!A14712&configuracion!$C$10,\"\")","v":""},""]
[null,null,null,null,null,null,null,{"$f":"IF(DATOS!A14713<>\"\",DATOS!A14713&configuracion!$C$10,\"\")","v":""},""]
[null,null,null,null,null,null,null,{"$f":"IF(DATOS!A14714<>\"\",DATOS!A14714&configuracion!$C$10,\"\")","v":""},""]
[null,null,null,null,null,null,null,{"$f":"IF(DATOS!A14715<>\"\",DATOS!A14715&configuracion!$C$10,\"\")","v":""},""]
[null,null,null,null,null,null,null,{"$f":"IF(DATOS!A14716<>\"\",DATOS!A14716&configuracion!$C$10,\"\")","v":""},""]
[null,null,null,null,null,null,null,{"$f":"IF(DATOS!A14717<>\"\",DATOS!A14717&configuracion!$C$10,\"\")","v":""},""]
[null,null,null,null,null,null,null,{"$f":"IF(DATOS!A14718<>\"\",DATOS!A14718&configuracion!$C$10,\"\")","v":""},""]
[null,null,null,null,null,null,null,{"$f":"IF(DATOS!A14719<>\"\",DATOS!A14719&configuracion!$C$10,\"\")","v":""},""]
[null,null,null,null,null,null,null,{"$f":"IF(DATOS!A14720<>\"\",DATOS!A14720&configuracion!$C$10,\"\")","v":""},""]
[null,null,null,null,null,null,null,{"$f":"IF(DATOS!A14721<>\"\",DATOS!A14721&configuracion!$C$10,\"\")","v":""},""]
[null,null,null,null,null,null,null,{"$f":"IF(DATOS!A14722<>\"\",DATOS!A14722&configuracion!$C$10,\"\")","v":""},""]
[null,null,null,null,null,null,null,{"$f":"IF(DATOS!A14723<>\"\",DATOS!A14723&configuracion!$C$10,\"\")","v":""},""]
[null,null,null,null,null,null,null,{"$f":"IF(DATOS!A14724<>\"\",DATOS!A14724&configuracion!$C$10,\"\")","v":""},{"$f":"IF(B14724=\"\",\"\",TEXT(B14724, \"DD/MM/YYYY HH:MM:SS\"))","v":""}]
[null,null,null,null,null,null,null,{"$f":"IF(DATOS!A14725<>\"\",DATOS!A14725&configuracion!$C$10,\"\")","v":""},""]
[null,null,null,null,null,null,null,{"$f":"IF(DATOS!A14726<>\"\",DATOS!A14726&configuracion!$C$10,\"\")","v":""},""]
[null,null,null,null,null,null,null,{"$f":"IF(DATOS!A14727<>\"\",DATOS!A14727&configuracion!$C$10,\"\")","v":""},""]
[null,null,null,null,null,null,null,{"$f":"IF(DATOS!A14728<>\"\",DATOS!A14728&configuracion!$C$10,\"\")","v":""},""]
[null,null,null,null,null,null,null,{"$f":"IF(DATOS!A14729<>\"\",DATOS!A14729&configuracion!$C$10,\"\")","v":""},""]
[null,null,null,null,null,null,null,{"$f":"IF(DATOS!A14730<>\"\",DATOS!A14730&configuracion!$C$10,\"\")","v":""},""]
[null,null,null,null,null,null,null,{"$f":"IF(DATOS!A14731<>\"\",DATOS!A14731&configuracion!$C$10,\"\")","v":""},""]
[null,null,null,null,null,null,null,{"$f":"IF(DATOS!A14732<>\"\",DATOS!A14732&configuracion!$C$10,\"\")","v":""},""]
[null,null,null,null,null,null,null,{"$f":"IF(DATOS!A14733<>\"\",DATOS!A14733&configuracion!$C$10,\"\")","v":""},""]
[null,null,null,null,null,null,null,{"$f":"IF(DATOS!A14734<>\"\",DATOS!A14734&configuracion!$C$10,\"\")","v":""},""]
[null,null,null,null,null,null,null,{"$f":"IF(DATOS!A14735<>\"\",DATOS!A14735&configuracion!$C$10,\"\")","v":""},""]
[null,null,null,null,null,null,null,{"$f":"IF(DATOS!A14736<>\"\",DATOS!A14736&configuracion!$C$10,\"\")","v":""},""]
[null,null,null,null,null,null,null,{"$f":"IF(DATOS!A14737<>\"\",DATOS!A14737&configuracion!$C$10,\"\")","v":""},""]
[null,null,null,null,null,null,null,{"$f":"IF(DATOS!A14738<>\"\",DATOS!A14738&configuracion!$C$10,\"\")","v":""},""]
[null,null,null,null,null,null,null,{"$f":"IF(DATOS!A14739<>\"\",DATOS!A14739&configuracion!$C$10,\"\")","v":""},""]
[null,null,null,null,null,null,null,{"$f":"IF(DATOS!A14740<>\"\",DATOS!A14740&configuracion!$C$10,\"\")","v":""},""]
[null,null,null,null,null,null,null,{"$f":"IF(DATOS!A14741<>\"\",DATOS!A14741&configuracion!$C$10,\"\")","v":""},""]
[null,null,null,null,null,null,null,{"$f":"IF(DATOS!A14742<>\"\",DATOS!A14742&configuracion!$C$10,\"\")","v":""},""]
[null,null,null,null,null,null,null,{"$f":"IF(DATOS!A14743<>\"\",DATOS!A14743&configuracion!$C$10,\"\")","v":""},""]
[null,null,null,null,null,null,null,{"$f":"IF(DATOS!A14744<>\"\",DATOS!A14744&configuracion!$C$10,\"\")","v":""},""]
[null,null,null,null,null,null,null,{"$f":"IF(DATOS!A14745<>\"\",DATOS!A14745&configuracion!$C$10,\"\")","v":""},""]
[null,null,null,null,null,null,null,{"$f":"IF(DATOS!A14746<>\"\",DATOS!A14746&configuracion!$C$10,\"\")","v":""},""]
[null,null,null,null,null,null,null,{"$f":"IF(DATOS!A14747<>\"\",DATOS!A14747&configuracion!$C$10,\"\")","v":""},""]
[null,null,null,null,null,null,null,{"$f":"IF(DATOS!A14748<>\"\",DATOS!A14748&configuracion!$C$10,\"\")","v":""},""]
[null,null,null,null,null,null,null,{"$f":"IF(DATOS!A14749<>\"\",DATOS!A14749&configuracion!$C$10,\"\")","v":""},""]
[null,null,null,null,null,null,null,{"$f":"IF(DATOS!A14750<>\"\",DATOS!A14750&configuracion!$C$10,\"\")","v":""},""]
[null,null,null,null,null,null,null,{"$f":"IF(DATOS!A14751<>\"\",DATOS!A14751&configuracion!$C$10,\"\")","v":""},""]
[null,null,null,null,null,null,null,{"$f":"IF(DATOS!A14752<>\"\",DATOS!A14752&configuracion!$C$10,\"\")","v":""},""]
[null,null,null,null,null,null,null,{"$f":"IF(DATOS!A14753<>\"\",DATOS!A14753&configuracion!$C$10,\"\")","v":""},""]
[null,null,null,null,null,null,null,{"$f":"IF(DATOS!A14754<>\"\",DATOS!A14754&configuracion!$C$10,\"\")","v":""},""]
[null,null,null,null,null,null,null,{"$f":"IF(DATOS!A14755<>\"\",DATOS!A14755&configuracion!$C$10,\"\")","v":""},""]
[null,null,null,null,null,null,null,{"$f":"IF(DATOS!A14756<>\"\",DATOS!A14756&configuracion!$C$10,\"\")","v":""},""]
[null,null,null,null,null,null,null,{"$f":"IF(DATOS!A14757<>\"\",DATOS!A14757&configuracion!$C$10,\"\")","v":""},""]
[null,null,null,null,null,null,null,{"$f":"IF(DATOS!A14758<>\"\",DATOS!A14758&configuracion!$C$10,\"\")","v":""},""]
[null,null,null,null,null,null,null,{"$f":"IF(DATOS!A14759<>\"\",DATOS!A14759&configuracion!$C$10,\"\")","v":""},""]
[null,null,null,null,null,null,null,{"$f":"IF(DATOS!A14760<>\"\",DATOS!A14760&configuracion!$C$10,\"\")","v":""},""]
[null,null,null,null,null,null,null,{"$f":"IF(DATOS!A14761<>\"\",DATOS!A14761&configuracion!$C$10,\"\")","v":""},""]
[null,null,null,null,null,null,null,{"$f":"IF(DATOS!A14762<>\"\",DATOS!A14762&configuracion!$C$10,\"\")","v":""},""]
[null,null,null,null,null,null,null,{"$f":"IF(DATOS!A14763<>\"\",DATOS!A14763&configuracion!$C$10,\"\")","v":""},""]
[null,null,null,null,null,null,null,{"$f":"IF(DATOS!A14764<>\"\",DATOS!A14764&configuracion!$C$10,\"\")","v":""},""]
[null,null,null,null,null,null,null,{"$f":"IF(DATOS!A14765<>\"\",DATOS!A14765&configuracion!$C$10,\"\")","v":""},""]
[null,null,null,null,null,null,null,{"$f":"IF(DATOS!A14766<>\"\",DATOS!A14766&configuracion!$C$10,\"\")","v":""},""]
[null,null,null,null,null,null,null,{"$f":"IF(DATOS!A14767<>\"\",DATOS!A14767&configuracion!$C$10,\"\")","v":""},""]
[null,null,null,null,null,null,null,{"$f":"IF(DATOS!A14768<>\"\",DATOS!A14768&configuracion!$C$10,\"\")","v":""},""]
[null,null,null,null,null,null,null,{"$f":"IF(DATOS!A14769<>\"\",DATOS!A14769&configuracion!$C$10,\"\")","v":""},""]
[null,null,null,null,null,null,null,{"$f":"IF(DATOS!A14770<>\"\",DATOS!A14770&configuracion!$C$10,\"\")","v":""},""]
[null,null,null,null,null,null,null,{"$f":"IF(DATOS!A14771<>\"\",DATOS!A14771&configuracion!$C$10,\"\")","v":""},""]
[null,null,null,null,null,null,null,{"$f":"IF(DATOS!A14772<>\"\",DATOS!A14772&configuracion!$C$10,\"\")","v":""},""]
[null,null,null,null,null,null,null,{"$f":"IF(DATOS!A14773<>\"\",DATOS!A14773&configuracion!$C$10,\"\")","v":""},""]
[null,null,null,null,null,null,null,{"$f":"IF(DATOS!A14774<>\"\",DATOS!A14774&configuracion!$C$10,\"\")","v":""},""]
[null,null,null,null,null,null,null,{"$f":"IF(DATOS!A14775<>\"\",DATOS!A14775&configuracion!$C$10,\"\")","v":""},""]
[null,null,null,null,null,null,null,{"$f":"IF(DATOS!A14776<>\"\",DATOS!A14776&configuracion!$C$10,\"\")","v":""},""]
[null,null,null,null,null,null,null,{"$f":"IF(DATOS!A14777<>\"\",DATOS!A14777&configuracion!$C$10,\"\")","v":""},""]
[null,null,null,null,null,null,null,{"$f":"IF(DATOS!A14778<>\"\",DATOS!A14778&configuracion!$C$10,\"\")","v":""},""]
[null,null,null,null,null,null,null,{"$f":"IF(DATOS!A14779<>\"\",DATOS!A14779&configuracion!$C$10,\"\")","v":""},""]
[null,null,null,null,null,null,null,{"$f":"IF(DATOS!A14780<>\"\",DATOS!A14780&configuracion!$C$10,\"\")","v":""},""]
[null,null,null,null,null,null,null,{"$f":"IF(DATOS!A14781<>\"\",DATOS!A14781&configuracion!$C$10,\"\")","v":""},""]
[null,null,null,null,null,null,null,{"$f":"IF(DATOS!A14782<>\"\",DATOS!A14782&configuracion!$C$10,\"\")","v":""},""]
[null,null,null,null,null,null,null,{"$f":"IF(DATOS!A14783<>\"\",DATOS!A14783&configuracion!$C$10,\"\")","v":""},""]
[null,null,null,null,null,null,null,{"$f":"IF(DATOS!A14784<>\"\",DATOS!A14784&configuracion!$C$10,\"\")","v":""},""]
[null,null,null,null,null,null,null,{"$f":"IF(DATOS!A14785<>\"\",DATOS!A14785&configuracion!$C$10,\"\")","v":""},""]
[null,null,null,null,null,null,null,{"$f":"IF(DATOS!A14786<>\"\",DATOS!A14786&configuracion!$C$10,\"\")","v":""},""]
[null,null,null,null,null,null,null,{"$f":"IF(DATOS!A14787<>\"\",DATOS!A14787&configuracion!$C$10,\"\")","v":""},""]
[null,null,null,null,null,null,null,{"$f":"IF(DATOS!A14788<>\"\",DATOS!A14788&configuracion!$C$10,\"\")","v":""},{"$f":"IF(B14788=\"\",\"\",TEXT(B14788, \"DD/MM/YYYY HH:MM:SS\"))","v":""}]
[null,null,null,null,null,null,null,{"$f":"IF(DATOS!A14789<>\"\",DATOS!A14789&configuracion!$C$10,\"\")","v":""},""]
[null,null,null,null,null,null,null,{"$f":"IF(DATOS!A14790<>\"\",DATOS!A14790&configuracion!$C$10,\"\")","v":""},""]
[null,null,null,null,null,null,null,{"$f":"IF(DATOS!A14791<>\"\",DATOS!A14791&configuracion!$C$10,\"\")","v":""},""]
[null,null,null,null,null,null,null,{"$f":"IF(DATOS!A14792<>\"\",DATOS!A14792&configuracion!$C$10,\"\")","v":""},""]
[null,null,null,null,null,null,null,{"$f":"IF(DATOS!A14793<>\"\",DATOS!A14793&configuracion!$C$10,\"\")","v":""},""]
[null,null,null,null,null,null,null,{"$f":"IF(DATOS!A14794<>\"\",DATOS!A14794&configuracion!$C$10,\"\")","v":""},""]
[null,null,null,null,null,null,null,{"$f":"IF(DATOS!A14795<>\"\",DATOS!A14795&configuracion!$C$10,\"\")","v":""},""]
[null,null,null,null,null,null,null,{"$f":"IF(DATOS!A14796<>\"\",DATOS!A14796&configuracion!$C$10,\"\")","v":""},""]
[null,null,null,null,null,null,null,{"$f":"IF(DATOS!A14797<>\"\",DATOS!A14797&configuracion!$C$10,\"\")","v":""},""]
[null,null,null,null,null,null,null,{"$f":"IF(DATOS!A14798<>\"\",DATOS!A14798&configuracion!$C$10,\"\")","v":""},""]
[null,null,null,null,null,null,null,{"$f":"IF(DATOS!A14799<>\"\",DATOS!A14799&configuracion!$C$10,\"\")","v":""},""]
[null,null,null,null,null,null,null,{"$f":"IF(DATOS!A14800<>\"\",DATOS!A14800&configuracion!$C$10,\"\")","v":""},""]
[null,null,null,null,null,null,null,{"$f":"IF(DATOS!A14801<>\"\",DATOS!A14801&configuracion!$C$10,\"\")","v":""},""]
[null,null,null,null,null,null,null,{"$f":"IF(DATOS!A14802<>\"\",DATOS!A14802&configuracion!$C$10,\"\")","v":""},""]
[null,null,null,null,null,null,null,{"$f":"IF(DATOS!A14803<>\"\",DATOS!A14803&configuracion!$C$10,\"\")","v":""},""]
[null,null,null,null,null,null,null,{"$f":"IF(DATOS!A14804<>\"\",DATOS!A14804&configuracion!$C$10,\"\")","v":""},""]
[null,null,null,null,null,null,null,{"$f":"IF(DATOS!A14805<>\"\",DATOS!A14805&configuracion!$C$10,\"\")","v":""},""]
[null,null,null,null,null,null,null,{"$f":"IF(DATOS!A14806<>\"\",DATOS!A14806&configuracion!$C$10,\"\")","v":""},""]
[null,null,null,null,null,null,null,{"$f":"IF(DATOS!A14807<>\"\",DATOS!A14807&configuracion!$C$10,\"\")","v":""},""]
[null,null,null,null,null,null,null,{"$f":"IF(DATOS!A14808<>\"\",DATOS!A14808&configuracion!$C$10,\"\")","v":""},""]
[null,null,null,null,null,null,null,{"$f":"IF(DATOS!A14809<>\"\",DATOS!A14809&configuracion!$C$10,\"\")","v":""},""]
[null,null,null,null,null,null,null,{"$f":"IF(DATOS!A14810<>\"\",DATOS!A14810&configuracion!$C$10,\"\")","v":""},""]
[null,null,null,null,null,null,null,{"$f":"IF(DATOS!A14811<>\"\",DATOS!A14811&configuracion!$C$10,\"\")","v":""},""]
[null,null,null,null,null,null,null,{"$f":"IF(DATOS!A14812<>\"\",DATOS!A14812&configuracion!$C$10,\"\")","v":""},""]
[null,null,null,null,null,null,null,{"$f":"IF(DATOS!A14813<>\"\",DATOS!A14813&configuracion!$C$10,\"\")","v":""},""]
[null,null,null,null,null,null,null,{"$f":"IF(DATOS!A14814<>\"\",DATOS!A14814&configuracion!$C$10,\"\")","v":""},""]
[null,null,null,null,null,null,null,{"$f":"IF(DATOS!A14815<>\"\",DATOS!A14815&configuracion!$C$10,\"\")","v":""},""]
[null,null,null,null,null,null,null,{"$f":"IF(DATOS!A14816<>\"\",DATOS!A14816&configuracion!$C$10,\"\")","v":""},""]
[null,null,null,null,null,null,null,{"$f":"IF(DATOS!A14817<>\"\",DATOS!A14817&configuracion!$C$10,\"\")","v":""},""]
[null,null,null,null,null,null,null,{"$f":"IF(DATOS!A14818<>\"\",DATOS!A14818&configuracion!$C$10,\"\")","v":""},""]
[null,null,null,null,null,null,null,{"$f":"IF(DATOS!A14819<>\"\",DATOS!A14819&configuracion!$C$10,\"\")","v":""},""]
[null,null,null,null,null,null,null,{"$f":"IF(DATOS!A14820<>\"\",DATOS!A14820&configuracion!$C$10,\"\")","v":""},""]
[null,null,null,null,null,null,null,{"$f":"IF(DATOS!A14821<>\"\",DATOS!A14821&configuracion!$C$10,\"\")","v":""},""]
[null,null,null,null,null,null,null,{"$f":"IF(DATOS!A14822<>\"\",DATOS!A14822&configuracion!$C$10,\"\")","v":""},""]
[null,null,null,null,null,null,null,{"$f":"IF(DATOS!A14823<>\"\",DATOS!A14823&configuracion!$C$10,\"\")","v":""},""]
[null,null,null,null,null,null,null,{"$f":"IF(DATOS!A14824<>\"\",DATOS!A14824&configuracion!$C$10,\"\")","v":""},""]
[null,null,null,null,null,null,null,{"$f":"IF(DATOS!A14825<>\"\",DATOS!A14825&configuracion!$C$10,\"\")","v":""},""]
[null,null,null,null,null,null,null,{"$f":"IF(DATOS!A14826<>\"\",DATOS!A14826&configuracion!$C$10,\"\")","v":""},""]
[null,null,null,null,null,null,null,{"$f":"IF(DATOS!A14827<>\"\",DATOS!A14827&configuracion!$C$10,\"\")","v":""},""]
[null,null,null,null,null,null,null,{"$f":"IF(DATOS!A14828<>\"\",DATOS!A14828&configuracion!$C$10,\"\")","v":""},""]
[null,null,null,null,null,null,null,{"$f":"IF(DATOS!A14829<>\"\",DATOS!A14829&configuracion!$C$10,\"\")","v":""},""]
[null,null,null,null,null,null,null,{"$f":"IF(DATOS!A14830<>\"\",DATOS!A14830&configuracion!$C$10,\"\")","v":""},""]
[null,null,null,null,null,null,null,{"$f":"IF(DATOS!A14831<>\"\",DATOS!A14831&configuracion!$C$10,\"\")","v":""},""]
[null,null,null,null,null,null,null,{"$f":"IF(DATOS!A14832<>\"\",DATOS!A14832&configuracion!$C$10,\"\")","v":""},""]
[null,null,null,null,null,null,null,{"$f":"IF(DATOS!A14833<>\"\",DATOS!A14833&configuracion!$C$10,\"\")","v":""},""]
[null,null,null,null,null,null,null,{"$f":"IF(DATOS!A14834<>\"\",DATOS!A14834&configuracion!$C$10,\"\")","v":""},""]
[null,null,null,null,null,null,null,{"$f":"IF(DATOS!A14835<>\"\",DATOS!A14835&configuracion!$C$10,\"\")","v":""},""]
[null,null,null,null,null,null,null,{"$f":"IF(DATOS!A14836<>\"\",DATOS!A14836&configuracion!$C$10,\"\")","v":""},""]
[null,null,null,null,null,null,null,{"$f":"IF(DATOS!A14837<>\"\",DATOS!A14837&configuracion!$C$10,\"\")","v":""},""]
[null,null,null,null,null,null,null,{"$f":"IF(DATOS!A14838<>\"\",DATOS!A14838&configuracion!$C$10,\"\")","v":""},""]
[null,null,null,null,null,null,null,{"$f":"IF(DATOS!A14839<>\"\",DATOS!A14839&configuracion!$C$10,\"\")","v":""},""]
[null,null,null,null,null,null,null,{"$f":"IF(DATOS!A14840<>\"\",DATOS!A14840&configuracion!$C$10,\"\")","v":""},""]
[null,null,null,null,null,null,null,{"$f":"IF(DATOS!A14841<>\"\",DATOS!A14841&configuracion!$C$10,\"\")","v":""},""]
[null,null,null,null,null,null,null,{"$f":"IF(DATOS!A14842<>\"\",DATOS!A14842&configuracion!$C$10,\"\")","v":""},""]
[null,null,null,null,null,null,null,{"$f":"IF(DATOS!A14843<>\"\",DATOS!A14843&configuracion!$C$10,\"\")","v":""},""]
[null,null,null,null,null,null,null,{"$f":"IF(DATOS!A14844<>\"\",DATOS!A14844&configuracion!$C$10,\"\")","v":""},""]
[null,null,null,null,null,null,null,{"$f":"IF(DATOS!A14845<>\"\",DATOS!A14845&configuracion!$C$10,\"\")","v":""},""]
[null,null,null,null,null,null,null,{"$f":"IF(DATOS!A14846<>\"\",DATOS!A14846&configuracion!$C$10,\"\")","v":""},""]
[null,null,null,null,null,null,null,{"$f":"IF(DATOS!A14847<>\"\",DATOS!A14847&configuracion!$C$10,\"\")","v":""},""]
[null,null,null,null,null,null,null,{"$f":"IF(DATOS!A14848<>\"\",DATOS!A14848&configuracion!$C$10,\"\")","v":""},""]
[null,null,null,null,null,null,null,{"$f":"IF(DATOS!A14849<>\"\",DATOS!A14849&configuracion!$C$10,\"\")","v":""},""]
[null,null,null,null,null,null,null,{"$f":"IF(DATOS!A14850<>\"\",DATOS!A14850&configuracion!$C$10,\"\")","v":""},""]
[null,null,null,null,null,null,null,{"$f":"IF(DATOS!A14851<>\"\",DATOS!A14851&configuracion!$C$10,\"\")","v":""},""]
[null,null,null,null,null,null,null,{"$f":"IF(DATOS!A14852<>\"\",DATOS!A14852&configuracion!$C$10,\"\")","v":""},{"$f":"IF(B14852=\"\",\"\",TEXT(B14852, \"DD/MM/YYYY HH:MM:SS\"))","v":""}]
[null,null,null,null,null,null,null,{"$f":"IF(DATOS!A14853<>\"\",DATOS!A14853&configuracion!$C$10,\"\")","v":""},""]
[null,null,null,null,null,null,null,{"$f":"IF(DATOS!A14854<>\"\",DATOS!A14854&configuracion!$C$10,\"\")","v":""},""]
[null,null,null,null,null,null,null,{"$f":"IF(DATOS!A14855<>\"\",DATOS!A14855&configuracion!$C$10,\"\")","v":""},""]
[null,null,null,null,null,null,null,{"$f":"IF(DATOS!A14856<>\"\",DATOS!A14856&configuracion!$C$10,\"\")","v":""},""]
[null,null,null,null,null,null,null,{"$f":"IF(DATOS!A14857<>\"\",DATOS!A14857&configuracion!$C$10,\"\")","v":""},""]
[null,null,null,null,null,null,null,{"$f":"IF(DATOS!A14858<>\"\",DATOS!A14858&configuracion!$C$10,\"\")","v":""},""]
[null,null,null,null,null,null,null,{"$f":"IF(DATOS!A14859<>\"\",DATOS!A14859&configuracion!$C$10,\"\")","v":""},""]
[null,null,null,null,null,null,null,{"$f":"IF(DATOS!A14860<>\"\",DATOS!A14860&configuracion!$C$10,\"\")","v":""},""]
[null,null,null,null,null,null,null,{"$f":"IF(DATOS!A14861<>\"\",DATOS!A14861&configuracion!$C$10,\"\")","v":""},""]
[null,null,null,null,null,null,null,{"$f":"IF(DATOS!A14862<>\"\",DATOS!A14862&configuracion!$C$10,\"\")","v":""},""]
[null,null,null,null,null,null,null,{"$f":"IF(DATOS!A14863<>\"\",DATOS!A14863&configuracion!$C$10,\"\")","v":""},""]
[null,null,null,null,null,null,null,{"$f":"IF(DATOS!A14864<>\"\",DATOS!A14864&configuracion!$C$10,\"\")","v":""},""]
[null,null,null,null,null,null,null,{"$f":"IF(DATOS!A14865<>\"\",DATOS!A14865&configuracion!$C$10,\"\")","v":""},""]
[null,null,null,null,null,null,null,{"$f":"IF(DATOS!A14866<>\"\",DATOS!A14866&configuracion!$C$10,\"\")","v":""},""]
[null,null,null,null,null,null,null,{"$f":"IF(DATOS!A14867<>\"\",DATOS!A14867&configuracion!$C$10,\"\")","v":""},""]
[null,null,null,null,null,null,null,{"$f":"IF(DATOS!A14868<>\"\",DATOS!A14868&configuracion!$C$10,\"\")","v":""},""]
[null,null,null,null,null,null,null,{"$f":"IF(DATOS!A14869<>\"\",DATOS!A14869&configuracion!$C$10,\"\")","v":""},""]
[null,null,null,null,null,null,null,{"$f":"IF(DATOS!A14870<>\"\",DATOS!A14870&configuracion!$C$10,\"\")","v":""},""]
[null,null,null,null,null,null,null,{"$f":"IF(DATOS!A14871<>\"\",DATOS!A14871&configuracion!$C$10,\"\")","v":""},""]
[null,null,null,null,null,null,null,{"$f":"IF(DATOS!A14872<>\"\",DATOS!A14872&configuracion!$C$10,\"\")","v":""},""]
[null,null,null,null,null,null,null,{"$f":"IF(DATOS!A14873<>\"\",DATOS!A14873&configuracion!$C$10,\"\")","v":""},""]
[null,null,null,null,null,null,null,{"$f":"IF(DATOS!A14874<>\"\",DATOS!A14874&configuracion!$C$10,\"\")","v":""},""]
[null,null,null,null,null,null,null,{"$f":"IF(DATOS!A14875<>\"\",DATOS!A14875&configuracion!$C$10,\"\")","v":""},""]
[null,null,null,null,null,null,null,{"$f":"IF(DATOS!A14876<>\"\",DATOS!A14876&configuracion!$C$10,\"\")","v":""},""]
[null,null,null,null,null,null,null,{"$f":"IF(DATOS!A14877<>\"\",DATOS!A14877&configuracion!$C$10,\"\")","v":""},""]
[null,null,null,null,null,null,null,{"$f":"IF(DATOS!A14878<>\"\",DATOS!A14878&configuracion!$C$10,\"\")","v":""},""]
[null,null,null,null,null,null,null,{"$f":"IF(DATOS!A14879<>\"\",DATOS!A14879&configuracion!$C$10,\"\")","v":""},""]
[null,null,null,null,null,null,null,{"$f":"IF(DATOS!A14880<>\"\",DATOS!A14880&configuracion!$C$10,\"\")","v":""},""]
[null,null,null,null,null,null,null,{"$f":"IF(DATOS!A14881<>\"\",DATOS!A14881&configuracion!$C$10,\"\")","v":""},""]
[null,null,null,null,null,null,null,{"$f":"IF(DATOS!A14882<>\"\",DATOS!A14882&configuracion!$C$10,\"\")","v":""},""]
[null,null,null,null,null,null,null,{"$f":"IF(DATOS!A14883<>\"\",DATOS!A14883&configuracion!$C$10,\"\")","v":""},""]
[null,null,null,null,null,null,null,{"$f":"IF(DATOS!A14884<>\"\",DATOS!A14884&configuracion!$C$10,\"\")","v":""},""]
[null,null,null,null,null,null,null,{"$f":"IF(DATOS!A14885<>\"\",DATOS!A14885&configuracion!$C$10,\"\")","v":""},""]
[null,null,null,null,null,null,null,{"$f":"IF(DATOS!A14886<>\"\",DATOS!A14886&configuracion!$C$10,\"\")","v":""},""]
[null,null,null,null,null,null,null,{"$f":"IF(DATOS!A14887<>\"\",DATOS!A14887&configuracion!$C$10,\"\")","v":""},""]
[null,null,null,null,null,null,null,{"$f":"IF(DATOS!A14888<>\"\",DATOS!A14888&configuracion!$C$10,\"\")","v":""},""]
[null,null,null,null,null,null,null,{"$f":"IF(DATOS!A14889<>\"\",DATOS!A14889&configuracion!$C$10,\"\")","v":""},""]
[null,null,null,null,null,null,null,{"$f":"IF(DATOS!A14890<>\"\",DATOS!A14890&configuracion!$C$10,\"\")","v":""},""]
[null,null,null,null,null,null,null,{"$f":"IF(DATOS!A14891<>\"\",DATOS!A14891&configuracion!$C$10,\"\")","v":""},""]
[null,null,null,null,null,null,null,{"$f":"IF(DATOS!A14892<>\"\",DATOS!A14892&configuracion!$C$10,\"\")","v":""},""]
[null,null,null,null,null,null,null,{"$f":"IF(DATOS!A14893<>\"\",DATOS!A14893&configuracion!$C$10,\"\")","v":""},""]
[null,null,null,null,null,null,null,{"$f":"IF(DATOS!A14894<>\"\",DATOS!A14894&configuracion!$C$10,\"\")","v":""},""]
[null,null,null,null,null,null,null,{"$f":"IF(DATOS!A14895<>\"\",DATOS!A14895&configuracion!$C$10,\"\")","v":""},""]
[null,null,null,null,null,null,null,{"$f":"IF(DATOS!A14896<>\"\",DATOS!A14896&configuracion!$C$10,\"\")","v":""},""]
[null,null,null,null,null,null,null,{"$f":"IF(DATOS!A14897<>\"\",DATOS!A14897&configuracion!$C$10,\"\")","v":""},""]
[null,null,null,null,null,null,null,{"$f":"IF(DATOS!A14898<>\"\",DATOS!A14898&configuracion!$C$10,\"\")","v":""},""]
[null,null,null,null,null,null,null,{"$f":"IF(DATOS!A14899<>\"\",DATOS!A14899&configuracion!$C$10,\"\")","v":""},""]
[null,null,null,null,null,null,null,{"$f":"IF(DATOS!A14900<>\"\",DATOS!A14900&configuracion!$C$10,\"\")","v":""},""]
[null,null,null,null,null,null,null,{"$f":"IF(DATOS!A14901<>\"\",DATOS!A14901&configuracion!$C$10,\"\")","v":""},""]
[null,null,null,null,null,null,null,{"$f":"IF(DATOS!A14902<>\"\",DATOS!A14902&configuracion!$C$10,\"\")","v":""},""]
[null,null,null,null,null,null,null,{"$f":"IF(DATOS!A14903<>\"\",DATOS!A14903&configuracion!$C$10,\"\")","v":""},""]
[null,null,null,null,null,null,null,{"$f":"IF(DATOS!A14904<>\"\",DATOS!A14904&configuracion!$C$10,\"\")","v":""},""]
[null,null,null,null,null,null,null,{"$f":"IF(DATOS!A14905<>\"\",DATOS!A14905&configuracion!$C$10,\"\")","v":""},""]
[null,null,null,null,null,null,null,{"$f":"IF(DATOS!A14906<>\"\",DATOS!A14906&configuracion!$C$10,\"\")","v":""},""]
[null,null,null,null,null,null,null,{"$f":"IF(DATOS!A14907<>\"\",DATOS!A14907&configuracion!$C$10,\"\")","v":""},""]
[null,null,null,null,null,null,null,{"$f":"IF(DATOS!A14908<>\"\",DATOS!A14908&configuracion!$C$10,\"\")","v":""},""]
[null,null,null,null,null,null,null,{"$f":"IF(DATOS!A14909<>\"\",DATOS!A14909&configuracion!$C$10,\"\")","v":""},""]
[null,null,null,null,null,null,null,{"$f":"IF(DATOS!A14910<>\"\",DATOS!A14910&configuracion!$C$10,\"\")","v":""},""]
[null,null,null,null,null,null,null,{"$f":"IF(DATOS!A14911<>\"\",DATOS!A14911&configuracion!$C$10,\"\")","v":""},""]
[null,null,null,null,null,null,null,{"$f":"IF(DATOS!A14912<>\"\",DATOS!A14912&configuracion!$C$10,\"\")","v":""},""]
[null,null,null,null,null,null,null,{"$f":"IF(DATOS!A14913<>\"\",DATOS!A14913&configuracion!$C$10,\"\")","v":""},""]
[null,null,null,null,null,null,null,{"$f":"IF(DATOS!A14914<>\"\",DATOS!A14914&configuracion!$C$10,\"\")","v":""},""]
[null,null,null,null,null,null,null,{"$f":"IF(DATOS!A14915<>\"\",DATOS!A14915&configuracion!$C$10,\"\")","v":""},""]
[null,null,null,null,null,null,null,{"$f":"IF(DATOS!A14916<>\"\",DATOS!A14916&configuracion!$C$10,\"\")","v":""},{"$f":"IF(B14916=\"\",\"\",TEXT(B14916, \"DD/MM/YYYY HH:MM:SS\"))","v":""}]
[null,null,null,null,null,null,null,{"$f":"IF(DATOS!A14917<>\"\",DATOS!A14917&configuracion!$C$10,\"\")","v":""},""]
[null,null,null,null,null,null,null,{"$f":"IF(DATOS!A14918<>\"\",DATOS!A14918&configuracion!$C$10,\"\")","v":""},""]
[null,null,null,null,null,null,null,{"$f":"IF(DATOS!A14919<>\"\",DATOS!A14919&configuracion!$C$10,\"\")","v":""},""]
[null,null,null,null,null,null,null,{"$f":"IF(DATOS!A14920<>\"\",DATOS!A14920&configuracion!$C$10,\"\")","v":""},""]
[null,null,null,null,null,null,null,{"$f":"IF(DATOS!A14921<>\"\",DATOS!A14921&configuracion!$C$10,\"\")","v":""},""]
[null,null,null,null,null,null,null,{"$f":"IF(DATOS!A14922<>\"\",DATOS!A14922&configuracion!$C$10,\"\")","v":""},""]
[null,null,null,null,null,null,null,{"$f":"IF(DATOS!A14923<>\"\",DATOS!A14923&configuracion!$C$10,\"\")","v":""},""]
[null,null,null,null,null,null,null,{"$f":"IF(DATOS!A14924<>\"\",DATOS!A14924&configuracion!$C$10,\"\")","v":""},""]
[null,null,null,null,null,null,null,{"$f":"IF(DATOS!A14925<>\"\",DATOS!A14925&configuracion!$C$10,\"\")","v":""},""]
[null,null,null,null,null,null,null,{"$f":"IF(DATOS!A14926<>\"\",DATOS!A14926&configuracion!$C$10,\"\")","v":""},""]
[null,null,null,null,null,null,null,{"$f":"IF(DATOS!A14927<>\"\",DATOS!A14927&configuracion!$C$10,\"\")","v":""},""]
[null,null,null,null,null,null,null,{"$f":"IF(DATOS!A14928<>\"\",DATOS!A14928&configuracion!$C$10,\"\")","v":""},""]
[null,null,null,null,null,null,null,{"$f":"IF(DATOS!A14929<>\"\",DATOS!A14929&configuracion!$C$10,\"\")","v":""},""]
[null,null,null,null,null,null,null,{"$f":"IF(DATOS!A14930<>\"\",DATOS!A14930&configuracion!$C$10,\"\")","v":""},""]
[null,null,null,null,null,null,null,{"$f":"IF(DATOS!A14931<>\"\",DATOS!A14931&configuracion!$C$10,\"\")","v":""},""]
[null,null,null,null,null,null,null,{"$f":"IF(DATOS!A14932<>\"\",DATOS!A14932&configuracion!$C$10,\"\")","v":""},""]
[null,null,null,null,null,null,null,{"$f":"IF(DATOS!A14933<>\"\",DATOS!A14933&configuracion!$C$10,\"\")","v":""},""]
[null,null,null,null,null,null,null,{"$f":"IF(DATOS!A14934<>\"\",DATOS!A14934&configuracion!$C$10,\"\")","v":""},""]
[null,null,null,null,null,null,null,{"$f":"IF(DATOS!A14935<>\"\",DATOS!A14935&configuracion!$C$10,\"\")","v":""},""]
[null,null,null,null,null,null,null,{"$f":"IF(DATOS!A14936<>\"\",DATOS!A14936&configuracion!$C$10,\"\")","v":""},""]
[null,null,null,null,null,null,null,{"$f":"IF(DATOS!A14937<>\"\",DATOS!A14937&configuracion!$C$10,\"\")","v":""},""]
[null,null,null,null,null,null,null,{"$f":"IF(DATOS!A14938<>\"\",DATOS!A14938&configuracion!$C$10,\"\")","v":""},""]
[null,null,null,null,null,null,null,{"$f":"IF(DATOS!A14939<>\"\",DATOS!A14939&configuracion!$C$10,\"\")","v":""},""]
[null,null,null,null,null,null,null,{"$f":"IF(DATOS!A14940<>\"\",DATOS!A14940&configuracion!$C$10,\"\")","v":""},""]
[null,null,null,null,null,null,null,{"$f":"IF(DATOS!A14941<>\"\",DATOS!A14941&configuracion!$C$10,\"\")","v":""},""]
[null,null,null,null,null,null,null,{"$f":"IF(DATOS!A14942<>\"\",DATOS!A14942&configuracion!$C$10,\"\")","v":""},""]
[null,null,null,null,null,null,null,{"$f":"IF(DATOS!A14943<>\"\",DATOS!A14943&configuracion!$C$10,\"\")","v":""},""]
[null,null,null,null,null,null,null,{"$f":"IF(DATOS!A14944<>\"\",DATOS!A14944&configuracion!$C$10,\"\")","v":""},""]
[null,null,null,null,null,null,null,{"$f":"IF(DATOS!A14945<>\"\",DATOS!A14945&configuracion!$C$10,\"\")","v":""},""]
[null,null,null,null,null,null,null,{"$f":"IF(DATOS!A14946<>\"\",DATOS!A14946&configuracion!$C$10,\"\")","v":""},""]
[null,null,null,null,null,null,null,{"$f":"IF(DATOS!A14947<>\"\",DATOS!A14947&configuracion!$C$10,\"\")","v":""},""]
[null,null,null,null,null,null,null,{"$f":"IF(DATOS!A14948<>\"\",DATOS!A14948&configuracion!$C$10,\"\")","v":""},""]
[null,null,null,null,null,null,null,{"$f":"IF(DATOS!A14949<>\"\",DATOS!A14949&configuracion!$C$10,\"\")","v":""},""]
[null,null,null,null,null,null,null,{"$f":"IF(DATOS!A14950<>\"\",DATOS!A14950&configuracion!$C$10,\"\")","v":""},""]
[null,null,null,null,null,null,null,{"$f":"IF(DATOS!A14951<>\"\",DATOS!A14951&configuracion!$C$10,\"\")","v":""},""]
[null,null,null,null,null,null,null,{"$f":"IF(DATOS!A14952<>\"\",DATOS!A14952&configuracion!$C$10,\"\")","v":""},""]
[null,null,null,null,null,null,null,{"$f":"IF(DATOS!A14953<>\"\",DATOS!A14953&configuracion!$C$10,\"\")","v":""},""]
[null,null,null,null,null,null,null,{"$f":"IF(DATOS!A14954<>\"\",DATOS!A14954&configuracion!$C$10,\"\")","v":""},""]
[null,null,null,null,null,null,null,{"$f":"IF(DATOS!A14955<>\"\",DATOS!A14955&configuracion!$C$10,\"\")","v":""},""]
[null,null,null,null,null,null,null,{"$f":"IF(DATOS!A14956<>\"\",DATOS!A14956&configuracion!$C$10,\"\")","v":""},""]
[null,null,null,null,null,null,null,{"$f":"IF(DATOS!A14957<>\"\",DATOS!A14957&configuracion!$C$10,\"\")","v":""},""]
[null,null,null,null,null,null,null,{"$f":"IF(DATOS!A14958<>\"\",DATOS!A14958&configuracion!$C$10,\"\")","v":""},""]
[null,null,null,null,null,null,null,{"$f":"IF(DATOS!A14959<>\"\",DATOS!A14959&configuracion!$C$10,\"\")","v":""},""]
[null,null,null,null,null,null,null,{"$f":"IF(DATOS!A14960<>\"\",DATOS!A14960&configuracion!$C$10,\"\")","v":""},""]
[null,null,null,null,null,null,null,{"$f":"IF(DATOS!A14961<>\"\",DATOS!A14961&configuracion!$C$10,\"\")","v":""},""]
[null,null,null,null,null,null,null,{"$f":"IF(DATOS!A14962<>\"\",DATOS!A14962&configuracion!$C$10,\"\")","v":""},""]
[null,null,null,null,null,null,null,{"$f":"IF(DATOS!A14963<>\"\",DATOS!A14963&configuracion!$C$10,\"\")","v":""},""]
[null,null,null,null,null,null,null,{"$f":"IF(DATOS!A14964<>\"\",DATOS!A14964&configuracion!$C$10,\"\")","v":""},""]
[null,null,null,null,null,null,null,{"$f":"IF(DATOS!A14965<>\"\",DATOS!A14965&configuracion!$C$10,\"\")","v":""},""]
[null,null,null,null,null,null,null,{"$f":"IF(DATOS!A14966<>\"\",DATOS!A14966&configuracion!$C$10,\"\")","v":""},""]
[null,null,null,null,null,null,null,{"$f":"IF(DATOS!A14967<>\"\",DATOS!A14967&configuracion!$C$10,\"\")","v":""},""]
[null,null,null,null,null,null,null,{"$f":"IF(DATOS!A14968<>\"\",DATOS!A14968&configuracion!$C$10,\"\")","v":""},""]
[null,null,null,null,null,null,null,{"$f":"IF(DATOS!A14969<>\"\",DATOS!A14969&configuracion!$C$10,\"\")","v":""},""]
[null,null,null,null,null,null,null,{"$f":"IF(DATOS!A14970<>\"\",DATOS!A14970&configuracion!$C$10,\"\")","v":""},""]
[null,null,null,null,null,null,null,{"$f":"IF(DATOS!A14971<>\"\",DATOS!A14971&configuracion!$C$10,\"\")","v":""},""]
[null,null,null,null,null,null,null,{"$f":"IF(DATOS!A14972<>\"\",DATOS!A14972&configuracion!$C$10,\"\")","v":""},""]
[null,null,null,null,null,null,null,{"$f":"IF(DATOS!A14973<>\"\",DATOS!A14973&configuracion!$C$10,\"\")","v":""},""]
[null,null,null,null,null,null,null,{"$f":"IF(DATOS!A14974<>\"\",DATOS!A14974&configuracion!$C$10,\"\")","v":""},""]
[null,null,null,null,null,null,null,{"$f":"IF(DATOS!A14975<>\"\",DATOS!A14975&configuracion!$C$10,\"\")","v":""},""]
[null,null,null,null,null,null,null,{"$f":"IF(DATOS!A14976<>\"\",DATOS!A14976&configuracion!$C$10,\"\")","v":""},""]
[null,null,null,null,null,null,null,{"$f":"IF(DATOS!A14977<>\"\",DATOS!A14977&configuracion!$C$10,\"\")","v":""},""]
[null,null,null,null,null,null,null,{"$f":"IF(DATOS!A14978<>\"\",DATOS!A14978&configuracion!$C$10,\"\")","v":""},""]
[null,null,null,null,null,null,null,{"$f":"IF(DATOS!A14979<>\"\",DATOS!A14979&configuracion!$C$10,\"\")","v":""},""]
[null,null,null,null,null,null,null,{"$f":"IF(DATOS!A14980<>\"\",DATOS!A14980&configuracion!$C$10,\"\")","v":""},{"$f":"IF(B14980=\"\",\"\",TEXT(B14980, \"DD/MM/YYYY HH:MM:SS\"))","v":""}]
[null,null,null,null,null,null,null,{"$f":"IF(DATOS!A14981<>\"\",DATOS!A14981&configuracion!$C$10,\"\")","v":""},""]
[null,null,null,null,null,null,null,{"$f":"IF(DATOS!A14982<>\"\",DATOS!A14982&configuracion!$C$10,\"\")","v":""},""]
[null,null,null,null,null,null,null,{"$f":"IF(DATOS!A14983<>\"\",DATOS!A14983&configuracion!$C$10,\"\")","v":""},""]
[null,null,null,null,null,null,null,{"$f":"IF(DATOS!A14984<>\"\",DATOS!A14984&configuracion!$C$10,\"\")","v":""},""]
[null,null,null,null,null,null,null,{"$f":"IF(DATOS!A14985<>\"\",DATOS!A14985&configuracion!$C$10,\"\")","v":""},""]
[null,null,null,null,null,null,null,{"$f":"IF(DATOS!A14986<>\"\",DATOS!A14986&configuracion!$C$10,\"\")","v":""},""]
[null,null,null,null,null,null,null,{"$f":"IF(DATOS!A14987<>\"\",DATOS!A14987&configuracion!$C$10,\"\")","v":""},""]
[null,null,null,null,null,null,null,{"$f":"IF(DATOS!A14988<>\"\",DATOS!A14988&configuracion!$C$10,\"\")","v":""},""]
[null,null,null,null,null,null,null,{"$f":"IF(DATOS!A14989<>\"\",DATOS!A14989&configuracion!$C$10,\"\")","v":""},""]
[null,null,null,null,null,null,null,{"$f":"IF(DATOS!A14990<>\"\",DATOS!A14990&configuracion!$C$10,\"\")","v":""},""]
[null,null,null,null,null,null,null,{"$f":"IF(DATOS!A14991<>\"\",DATOS!A14991&configuracion!$C$10,\"\")","v":""},""]
[null,null,null,null,null,null,null,{"$f":"IF(DATOS!A14992<>\"\",DATOS!A14992&configuracion!$C$10,\"\")","v":""},""]
[null,null,null,null,null,null,null,{"$f":"IF(DATOS!A14993<>\"\",DATOS!A14993&configuracion!$C$10,\"\")","v":""},""]
[null,null,null,null,null,null,null,{"$f":"IF(DATOS!A14994<>\"\",DATOS!A14994&configuracion!$C$10,\"\")","v":""},""]
[null,null,null,null,null,null,null,{"$f":"IF(DATOS!A14995<>\"\",DATOS!A14995&configuracion!$C$10,\"\")","v":""},""]
[null,null,null,null,null,null,null,{"$f":"IF(DATOS!A14996<>\"\",DATOS!A14996&configuracion!$C$10,\"\")","v":""},""]
[null,null,null,null,null,null,null,{"$f":"IF(DATOS!A14997<>\"\",DATOS!A14997&configuracion!$C$10,\"\")","v":""},""]
[null,null,null,null,null,null,null,{"$f":"IF(DATOS!A14998<>\"\",DATOS!A14998&configuracion!$C$10,\"\")","v":""},""]
[null,null,null,null,null,null,null,{"$f":"IF(DATOS!A14999<>\"\",DATOS!A14999&configuracion!$C$10,\"\")","v":""},""]
[null,null,null,null,null,null,null,{"$f":"IF(DATOS!A15000<>\"\",DATOS!A15000&configuracion!$C$10,\"\")","v":""},""]
[null,null,null,null,null,null,null,{"$f":"IF(DATOS!A15001<>\"\",DATOS!A15001&configuracion!$C$10,\"\")","v":""},""]
[null,null,null,null,null,null,null,{"$f":"IF(DATOS!A15002<>\"\",DATOS!A15002&configuracion!$C$10,\"\")","v":""},""]
[null,null,null,null,null,null,null,{"$f":"IF(DATOS!A15003<>\"\",DATOS!A15003&configuracion!$C$10,\"\")","v":""},""]

{"sheet":"referentes","index":4,"n_rows":28,"n_cols":2,"rows_kept":28,"cut":false,"hidden":false,"merged":[]}
["Nombre","Código"]
["Administrador SIBM",3177]
["Adriana M. Gracia Clavijo",414]
["Andrea Polanco",593]
["Andrés Merchán",3184]
["Cristina Maria Cedeño Posso",3965]
["Daniel Gonzalez Polo",3191]
["Edgar Fernando Dorado Roncancio",4918]
["Elkin Rafael  Pardo Oñate",4916]
["Erika Montoya-Cadavid",1336]
["Giomar Helena Borrero Pérez",3185]
["Jorge Andres Ramirez",3908]
["Jose Manuel Gutierrez Salcedo",3808]
["Juan Rodriguez",3505]
["Julio naranjo",3039]
["Karen Ayala Galván",4917]
["Luis Hernan Chasqui",3155]
["Manuel Garrido Linares",595]
["Maria Ocampo",3865]
["Martha C. Díaz Ruiz",366]
["Miguel Martelo López",1656]
["Miguel Sánchez",4757]
["Milena Benavides Serrato",345]
["Natalia Rodriguez Salcedo",3083]
["Paola Flórez",1262]
["Rosario Elena Peña Agudelo",4713]
["Sebastian Herrera Fajardo",4521]
["Vanessa Yepes Narvaez",3966]

{"sheet":"Otras referencias","index":5,"n_rows":24,"n_cols":5,"rows_kept":24,"cut":false,"hidden":false,"merged":[[0,0,2,10],[4,0,4,1],[11,0,11,2],[4,3,4,4]]}
["Estas son listas para variables con valores que no se encuentran codificados, pero que deben manejarse de manera estandarizada. \nSi se requiere agregar un valor nuevo hagalo debajo de la lista correspondiente"]
[]
[]
[]
["PROFUNDIDAD",null,null,"METODOS"]
["Descripcion","Codigo",null,"NOMBRE_MT","CODIGO"]
["Somero","S",null,"Manual de métodos de SIMAC: Cadena rotulada cada diez eslabones","Car"]
["Medio","M"]
["Profundo","P"]
[]
[]
["CODIGOS LOV"]
["DESCRIPCIÓN","CÓDIGO","GRUPO"]
["Departamento",10,2]
["Sector",20,2]
["Punto",30,2]
["Parcela",35,2]
["Estaciones",40,2]
["Region",50,2]
["Unidad_de_Manejo",60,2]
["Unidad_Ambiental_Costera",70,2]
["Localidad",80,2]
["Bloque_Exploracion",85,2]
["Area",90,2]

{"sheet":"AGD_MUESTREOS","index":6,"n_rows":0,"n_cols":0,"rows_kept":0,"cut":false,"hidden":true,"merged":[]}

{"sheet":"AGD_PARAMETRO","index":7,"n_rows":0,"n_cols":0,"rows_kept":0,"cut":false,"hidden":true,"merged":[]}

{"sheet":"AGD_MUESTRAS","index":8,"n_rows":0,"n_cols":0,"rows_kept":0,"cut":false,"hidden":true,"merged":[]}

{"sheet":"AGD_MUESTRAS_VARIABLES","index":9,"n_rows":0,"n_cols":0,"rows_kept":0,"cut":false,"hidden":true,"merged":[]}

{"sheet":"AGD_AUTORIAS","index":10,"n_rows":0,"n_cols":0,"rows_kept":0,"cut":false,"hidden":true,"merged":[]}